Workbook

Sheet Maestro
A1: Origen invitación | B1: Tribuna | C1: N° | D1: Grado | E1: Vocativo | F1: Apellido 1 | G1: Apellido 2 | H1: Nombres | I1: Cargo | J1: Asistencia invitado | K1: Señora | L1: Asistencia acompañante | M1: Representante | N1: Vínculos | O1: Aux_Titular_SI | P1: Aux_Acomp_SI
A2: OPA | B2: VIP | C2: =IF(COUNTA($A2:$B2,$D2:$I2)=0,"",COUNTIF($A$2:$A2,"<>")) -> 1 | D2: Su Excelencia | E2: Señor | F2: Kast | G2: Rist | H2: José Antonio | I2: Presidente de la República | J2: SI | K2: Adriasola, María Pía | L2: SI | O2: =IF(UPPER(TRIM($J2))="SI",COUNTIF($J$2:J2,"SI"),"") -> 1 | P2: =IF(AND(UPPER(TRIM($J2))="SI",UPPER(TRIM($L2))="SI"),COUNTIFS($J$2:J2,"SI",$L$2:L2,"SI"),"") -> 1
A3: OPA | B3: VIP | C3: =IF(COUNTA($A3:$B3,$D3:$I3)=0,"",COUNTIF($A$2:$A3,"<>")) -> 2 | D3: Ministro | E3: Señor | F3: Barros | G3: Tocornal | H3: Fernando | I3: Ministro de Defensa Nacional | J3: SI | K3: Vial Echeverría, Natalia | L3: SI | O3: =IF(UPPER(TRIM($J3))="SI",COUNTIF($J$2:J3,"SI"),"") -> 2 | P3: =IF(AND(UPPER(TRIM($J3))="SI",UPPER(TRIM($L3))="SI"),COUNTIFS($J$2:J3,"SI",$L$2:L3,"SI"),"") -> 2
A4: OPA | B4: VIP | C4: =IF(COUNTA($A4:$B4,$D4:$I4)=0,"",COUNTIF($A$2:$A4,"<>")) -> 3 | D4: Almirante | E4: Señor | F4: Cabrera | G4: Salazar | H4: Fernando | I4: Comandante en Jefe de la Armada | J4: SI | K4: Mery, Roxana | L4: SI | O4: =IF(UPPER(TRIM($J4))="SI",COUNTIF($J$2:J4,"SI"),"") -> 3 | P4: =IF(AND(UPPER(TRIM($J4))="SI",UPPER(TRIM($L4))="SI"),COUNTIFS($J$2:J4,"SI",$L$2:L4,"SI"),"") -> 3
A5: OPA | B5: VIP | C5: =IF(COUNTA($A5:$B5,$D5:$I5)=0,"",COUNTIF($A$2:$A5,"<>")) -> 4 | D5: Su Excelencia | E5: Señor | F5: Bukele | G5: Ortez | H5: Nayib | I5: Presidente de la República de El Salvador | J5: NO | K5: Rodríguez, Gabriela | L5: NO | O5: =IF(UPPER(TRIM($J5))="SI",COUNTIF($J$2:J5,"SI"),"") | P5: =IF(AND(UPPER(TRIM($J5))="SI",UPPER(TRIM($L5))="SI"),COUNTIFS($J$2:J5,"SI",$L$2:L5,"SI"),"")
A6: OPA | B6: VIP | C6: =IF(COUNTA($A6:$B6,$D6:$I6)=0,"",COUNTIF($A$2:$A6,"<>")) -> 5 | D6: Honorable Senadora | E6: Señora | F6: Núñez | G6: Urrutia | H6: Paulina | I6: Presidenta del Senado | J6: SI | K6: Monckeberg Bruner, Cristián | L6: SI | O6: =IF(UPPER(TRIM($J6))="SI",COUNTIF($J$2:J6,"SI"),"") -> 4 | P6: =IF(AND(UPPER(TRIM($J6))="SI",UPPER(TRIM($L6))="SI"),COUNTIFS($J$2:J6,"SI",$L$2:L6,"SI"),"") -> 4
A7: OPA | B7: VIP | C7: =IF(COUNTA($A7:$B7,$D7:$I7)=0,"",COUNTIF($A$2:$A7,"<>")) -> 6 | D7: Excelentísima | E7: Señora | F7: Chevesich (Quevesich) | G7: Ruíz | H7: Gloria Ana | I7: Presidenta de la Excelentísima Corte Suprema de Justicia | J7: SI | K7: Gajardo (Pareja), Carlos | L7: NO | O7: =IF(UPPER(TRIM($J7))="SI",COUNTIF($J$2:J7,"SI"),"") -> 5 | P7: =IF(AND(UPPER(TRIM($J7))="SI",UPPER(TRIM($L7))="SI"),COUNTIFS($J$2:J7,"SI",$L$2:L7,"SI"),"")
A8: OPA | B8: VIP | C8: =IF(COUNTA($A8:$B8,$D8:$I8)=0,"",COUNTIF($A$2:$A8,"<>")) -> 7 | D8: Honorable Diputado | E8: Señor | F8: Alessandri | G8: Vergara | H8: Jorge | I8: Presidente de la Cámara de Diputadas y Diputados | J8: SI | K8: García de la Huerta, Teresita | L8: NO | N8: VER ASISTEN | O8: =IF(UPPER(TRIM($J8))="SI",COUNTIF($J$2:J8,"SI"),"") -> 6 | P8: =IF(AND(UPPER(TRIM($J8))="SI",UPPER(TRIM($L8))="SI"),COUNTIFS($J$2:J8,"SI",$L$2:L8,"SI"),"")
A9: OPA | B9: VIP | C9: =IF(COUNTA($A9:$B9,$D9:$I9)=0,"",COUNTIF($A$2:$A9,"<>")) -> 8 | D9: Arzobispo | E9: Monseñor | F9: Chomali | G9: Garib | H9: Fernando | I9: Arzobispo de Santiago | J9: SI | L9: NO | O9: =IF(UPPER(TRIM($J9))="SI",COUNTIF($J$2:J9,"SI"),"") -> 7 | P9: =IF(AND(UPPER(TRIM($J9))="SI",UPPER(TRIM($L9))="SI"),COUNTIFS($J$2:J9,"SI",$L$2:L9,"SI"),"")
A10: OPA | B10: VIP | C10: =IF(COUNTA($A10:$B10,$D10:$I10)=0,"",COUNTIF($A$2:$A10,"<>")) -> 9 | D10: Obispo | E10: Señor | F10: Cancino | G10: del Valle | H10: Héctor | I10: Alto Representante de las Iglesias Evangélicas | J10: SI | L10: NO | O10: =IF(UPPER(TRIM($J10))="SI",COUNTIF($J$2:J10,"SI"),"") -> 8 | P10: =IF(AND(UPPER(TRIM($J10))="SI",UPPER(TRIM($L10))="SI"),COUNTIFS($J$2:J10,"SI",$L$2:L10,"SI"),"")
A11: OPA | B11: VIP | C11: =IF(COUNTA($A11:$B11,$D11:$I11)=0,"",COUNTIF($A$2:$A11,"<>")) -> 10 | E11: Señora | F11: Marzi | G11: Muñoz | H11: Daniela | I11: Presidenta del Tribunal Constitucional | J11: SI | K11: Vargas Borguel, Matías | L11: SI | O11: =IF(UPPER(TRIM($J11))="SI",COUNTIF($J$2:J11,"SI"),"") -> 9 | P11: =IF(AND(UPPER(TRIM($J11))="SI",UPPER(TRIM($L11))="SI"),COUNTIFS($J$2:J11,"SI",$L$2:L11,"SI"),"") -> 5
A12: OPA | B12: VIP | C12: =IF(COUNTA($A12:$B12,$D12:$I12)=0,"",COUNTIF($A$2:$A12,"<>")) -> 11 | E12: Señora | F12: Pérez | G12: Gutiérrez | H12: Dorothy | I12: Contralora General de la República | J12: SI | K12: López Paredes, Fabián | L12: SI | O12: =IF(UPPER(TRIM($J12))="SI",COUNTIF($J$2:J12,"SI"),"") -> 10 | P12: =IF(AND(UPPER(TRIM($J12))="SI",UPPER(TRIM($L12))="SI"),COUNTIFS($J$2:J12,"SI",$L$2:L12,"SI"),"") -> 6
A13: OPA | B13: VIP | C13: =IF(COUNTA($A13:$B13,$D13:$I13)=0,"",COUNTIF($A$2:$A13,"<>")) -> 12 | E13: Señor | F13: Valencia Garrido Bedwell, Roberto | G13: Vásquez | H13: Ángel | I13: Fiscal Nacional del Ministerio Público | J13: SI | K13: Taladriz, María José | L13: NO | M13: Garrido Bedwell, Roberto | O13: =IF(UPPER(TRIM($J13))="SI",COUNTIF($J$2:J13,"SI"),"") -> 11 | P13: =IF(AND(UPPER(TRIM($J13))="SI",UPPER(TRIM($L13))="SI"),COUNTIFS($J$2:J13,"SI",$L$2:L13,"SI"),"")
A14: OPA | B14: VIP | C14: =IF(COUNTA($A14:$B14,$D14:$I14)=0,"",COUNTIF($A$2:$A14,"<>")) -> 13 | E14: Señor | F14: Prado | G14: Puga | H14: Arturo | I14: Presidente del Tribunal Calificador de Elecciones | J14: NO | K14: Casado | L14: NO | O14: =IF(UPPER(TRIM($J14))="SI",COUNTIF($J$2:J14,"SI"),"") | P14: =IF(AND(UPPER(TRIM($J14))="SI",UPPER(TRIM($L14))="SI"),COUNTIFS($J$2:J14,"SI",$L$2:L14,"SI"),"")
A15: OPA | B15: VIP | C15: =IF(COUNTA($A15:$B15,$D15:$I15)=0,"",COUNTIF($A$2:$A15,"<>")) -> 14 | E15: Señor | F15: Figueroa | G15: Rubio | H15: Pamela | I15: Presidenta del Consejo Directivo del Servicio Electoral | K15: Jordán, Tomás | O15: =IF(UPPER(TRIM($J15))="SI",COUNTIF($J$2:J15,"SI"),"") | P15: =IF(AND(UPPER(TRIM($J15))="SI",UPPER(TRIM($L15))="SI"),COUNTIFS($J$2:J15,"SI",$L$2:L15,"SI"),"")
A16: OPA | B16: VIP | C16: =IF(COUNTA($A16:$B16,$D16:$I16)=0,"",COUNTIF($A$2:$A16,"<>")) -> 15 | D16: Ministro Vicealmirante | E16: Señor | F16: Merino | G16: Monroy | H16: René | I16: Ministro de Defensa de El Salvador | J16: NO | L16: NO | O16: =IF(UPPER(TRIM($J16))="SI",COUNTIF($J$2:J16,"SI"),"") | P16: =IF(AND(UPPER(TRIM($J16))="SI",UPPER(TRIM($L16))="SI"),COUNTIFS($J$2:J16,"SI",$L$2:L16,"SI"),"")
A17: OPA | B17: VIP | C17: =IF(COUNTA($A17:$B17,$D17:$I17)=0,"",COUNTIF($A$2:$A17,"<>")) -> 16 | D17: General de Ejército | E17: Señor | F17: Varela | G17: Sabando | H17: Pedro | I17: Comandante en Jefe del Ejército | J17: SI | K17: Thibaut, Paola | L17: SI | O17: =IF(UPPER(TRIM($J17))="SI",COUNTIF($J$2:J17,"SI"),"") -> 12 | P17: =IF(AND(UPPER(TRIM($J17))="SI",UPPER(TRIM($L17))="SI"),COUNTIFS($J$2:J17,"SI",$L$2:L17,"SI"),"") -> 7
A18: OPA | B18: VIP | C18: =IF(COUNTA($A18:$B18,$D18:$I18)=0,"",COUNTIF($A$2:$A18,"<>")) -> 17 | D18: General del Aire | E18: Señor | F18: Rodríguez | G18: González | H18: Hugo | I18: Comandante en Jefe de la Fuerza Aérea | J18: SI | K18: Araujo, Louise María | L18: SI | O18: =IF(UPPER(TRIM($J18))="SI",COUNTIF($J$2:J18,"SI"),"") -> 13 | P18: =IF(AND(UPPER(TRIM($J18))="SI",UPPER(TRIM($L18))="SI"),COUNTIFS($J$2:J18,"SI",$L$2:L18,"SI"),"") -> 8
A19: OPA | B19: VIP | C19: =IF(COUNTA($A19:$B19,$D19:$I19)=0,"",COUNTIF($A$2:$A19,"<>")) -> 18 | D19: General Director | E19: Señor | F19: Araya | G19: Zapata | H19: Marcelo | I19: General Director de Carabineros | J19: SI | K19: Morales, Janet | L19: SI | N19: VER ASISTEN CON ACOMPAÑANTE | O19: =IF(UPPER(TRIM($J19))="SI",COUNTIF($J$2:J19,"SI"),"") -> 14 | P19: =IF(AND(UPPER(TRIM($J19))="SI",UPPER(TRIM($L19))="SI"),COUNTIFS($J$2:J19,"SI",$L$2:L19,"SI"),"") -> 9
A20: OPA | B20: VIP | C20: =IF(COUNTA($A20:$B20,$D20:$I20)=0,"",COUNTIF($A$2:$A20,"<>")) -> 19 | D20: Director General | E20: Señor | F20: Cerna | G20: Lozano | H20: Eduardo | I20: Director General de la Policía de Investigaciones | J20: SI | K20: Caldera Figueroa, Leila | L20: SI | O20: =IF(UPPER(TRIM($J20))="SI",COUNTIF($J$2:J20,"SI"),"") -> 15 | P20: =IF(AND(UPPER(TRIM($J20))="SI",UPPER(TRIM($L20))="SI"),COUNTIFS($J$2:J20,"SI",$L$2:L20,"SI"),"") -> 10
A21: OPA | B21: VIP | C21: =IF(COUNTA($A21:$B21,$D21:$I21)=0,"",COUNTIF($A$2:$A21,"<>")) -> 20 | D21: VA | E21: Señor | F21: Romay | H21: Juan Carlos | I21: Jefe del Estado Mayor General de la Armada de la Argentina | J21: SI | K21: Tripque, Liliana | L21: SI | O21: =IF(UPPER(TRIM($J21))="SI",COUNTIF($J$2:J21,"SI"),"") -> 16 | P21: =IF(AND(UPPER(TRIM($J21))="SI",UPPER(TRIM($L21))="SI"),COUNTIFS($J$2:J21,"SI",$L$2:L21,"SI"),"") -> 11
A22: OPA | B22: VIP | C22: =IF(COUNTA($A22:$B22,$D22:$I22)=0,"",COUNTIF($A$2:$A22,"<>")) -> 21 | D22: Almirante | E22: Señor | F22: Rozo | G22: Obregón | H22: Juan Ricardo | I22: Comandante de la Armada de Colombia | J22: SI | K22: Rivas, María Andrés | L22: SI | O22: =IF(UPPER(TRIM($J22))="SI",COUNTIF($J$2:J22,"SI"),"") -> 17 | P22: =IF(AND(UPPER(TRIM($J22))="SI",UPPER(TRIM($L22))="SI"),COUNTIFS($J$2:J22,"SI",$L$2:L22,"SI"),"") -> 12
A23: OPA | B23: VIP | C23: =IF(COUNTA($A23:$B23,$D23:$I23)=0,"",COUNTIF($A$2:$A23,"<>")) -> 22 | D23: General de Aviación | E23: Señor | F23: Romanini | G23: Gutiérrez | H23: Leonardo | I23: Jefe del Estado Mayor Conjunto de las Fuerzas Armadas | J23: SI | K23: Jofré, Verónica | L23: SI | O23: =IF(UPPER(TRIM($J23))="SI",COUNTIF($J$2:J23,"SI"),"") -> 18 | P23: =IF(AND(UPPER(TRIM($J23))="SI",UPPER(TRIM($L23))="SI"),COUNTIFS($J$2:J23,"SI",$L$2:L23,"SI"),"") -> 13
A24: OPA | B24: ROJA | C24: =IF(COUNTA($A24:$B24,$D24:$I24)=0,"",COUNTIF($A$2:$A24,"<>")) -> 23 | D24: Ministro | E24: Señor | F24: Alvarado | G24: Andrade | H24: Claudio | I24: Ministro del Interior | J24: NO | K24: Andrade, Ángela | L24: NO | O24: =IF(UPPER(TRIM($J24))="SI",COUNTIF($J$2:J24,"SI"),"") | P24: =IF(AND(UPPER(TRIM($J24))="SI",UPPER(TRIM($L24))="SI"),COUNTIFS($J$2:J24,"SI",$L$2:L24,"SI"),"")
A25: OPA | B25: ROJA | C25: =IF(COUNTA($A25:$B25,$D25:$I25)=0,"",COUNTIF($A$2:$A25,"<>")) -> 24 | D25: Ministro | E25: Señor | F25: Pérez | G25: Mackenna | H25: José Francisco | I25: Ministro de Relaciones Exteriores | J25: SI | K25: Ojeda, María Teresa | L25: SI | O25: =IF(UPPER(TRIM($J25))="SI",COUNTIF($J$2:J25,"SI"),"") -> 19 | P25: =IF(AND(UPPER(TRIM($J25))="SI",UPPER(TRIM($L25))="SI"),COUNTIFS($J$2:J25,"SI",$L$2:L25,"SI"),"") -> 14
A26: OPA | B26: ROJA | C26: =IF(COUNTA($A26:$B26,$D26:$I26)=0,"",COUNTIF($A$2:$A26,"<>")) -> 25 | D26: Ministro | E26: Señor | F26: Quiroz | G26: Castro | H26: Jorge | I26: Ministro de Hacienda | K26: Ríos de Quiroz, Mónica | O26: =IF(UPPER(TRIM($J26))="SI",COUNTIF($J$2:J26,"SI"),"") | P26: =IF(AND(UPPER(TRIM($J26))="SI",UPPER(TRIM($L26))="SI"),COUNTIFS($J$2:J26,"SI",$L$2:L26,"SI"),"")
A27: OPA | B27: ROJA | C27: =IF(COUNTA($A27:$B27,$D27:$I27)=0,"",COUNTIF($A$2:$A27,"<>")) -> 26 | D27: Ministra | E27: Señora | F27: Steinert | G27: Herrera | H27: María Trinidad | I27: Ministra de Seguridad Pública | J27: SI | K27: Chambi, Francisco (Jb) | L27: SI | O27: =IF(UPPER(TRIM($J27))="SI",COUNTIF($J$2:J27,"SI"),"") -> 20 | P27: =IF(AND(UPPER(TRIM($J27))="SI",UPPER(TRIM($L27))="SI"),COUNTIFS($J$2:J27,"SI",$L$2:L27,"SI"),"") -> 15
A28: OPA | B28: ROJA | C28: =IF(COUNTA($A28:$B28,$D28:$I28)=0,"",COUNTIF($A$2:$A28,"<>")) -> 27 | D28: Ministro | E28: Señor | F28: García | G28: Ruminot | H28: José | I28: Ministro Secretario General de la Presidencia | J28: NO | K28: Escobar de García, Doralisa | L28: NO | O28: =IF(UPPER(TRIM($J28))="SI",COUNTIF($J$2:J28,"SI"),"") | P28: =IF(AND(UPPER(TRIM($J28))="SI",UPPER(TRIM($L28))="SI"),COUNTIFS($J$2:J28,"SI",$L$2:L28,"SI"),"")
A29: OPA | B29: ROJA | C29: =IF(COUNTA($A29:$B29,$D29:$I29)=0,"",COUNTIF($A$2:$A29,"<>")) -> 28 | D29: Ministra | E29: Señora | F29: Sedini | G29: Viancos | H29: Mara | I29: Ministra Secretaria General de Gobierno | J29: SI | K29: Krauss, Martín | L29: SI | O29: =IF(UPPER(TRIM($J29))="SI",COUNTIF($J$2:J29,"SI"),"") -> 21 | P29: =IF(AND(UPPER(TRIM($J29))="SI",UPPER(TRIM($L29))="SI"),COUNTIFS($J$2:J29,"SI",$L$2:L29,"SI"),"") -> 16
A30: OPA | B30: ROJA | C30: =IF(COUNTA($A30:$B30,$D30:$I30)=0,"",COUNTIF($A$2:$A30,"<>")) -> 29 | D30: Ministro | E30: Señor | F30: Mas | G30: Valdés | H30: Daniel | I30: Ministro de Economía y Minería | J30: NO | K30: Pizarro, Macarena | L30: NO | O30: =IF(UPPER(TRIM($J30))="SI",COUNTIF($J$2:J30,"SI"),"") | P30: =IF(AND(UPPER(TRIM($J30))="SI",UPPER(TRIM($L30))="SI"),COUNTIFS($J$2:J30,"SI",$L$2:L30,"SI"),"")
A31: OPA | B31: ROJA | C31: =IF(COUNTA($A31:$B31,$D31:$I31)=0,"",COUNTIF($A$2:$A31,"<>")) -> 30 | D31: Ministra | E31: Señora | F31: Wulf | G31: Le May | H31: María Jesús | I31: Ministra de Desarrollo Social y Familia | J31: NO | K31: Casada | L31: NO | O31: =IF(UPPER(TRIM($J31))="SI",COUNTIF($J$2:J31,"SI"),"") | P31: =IF(AND(UPPER(TRIM($J31))="SI",UPPER(TRIM($L31))="SI"),COUNTIFS($J$2:J31,"SI",$L$2:L31,"SI"),"")
A32: OPA | B32: ROJA | C32: =IF(COUNTA($A32:$B32,$D32:$I32)=0,"",COUNTIF($A$2:$A32,"<>")) -> 31 | D32: Ministro | E32: Señor | F32: Arzola | G32: González | H32: María Paz | I32: Ministro de Educación | J32: SI | K32: Casada | L32: NO | O32: =IF(UPPER(TRIM($J32))="SI",COUNTIF($J$2:J32,"SI"),"") -> 22 | P32: =IF(AND(UPPER(TRIM($J32))="SI",UPPER(TRIM($L32))="SI"),COUNTIFS($J$2:J32,"SI",$L$2:L32,"SI"),"")
A33: OPA | B33: ROJA | C33: =IF(COUNTA($A33:$B33,$D33:$I33)=0,"",COUNTIF($A$2:$A33,"<>")) -> 32 | D33: Ministro | E33: Señor | F33: Rabat | G33: Celis | H33: Fernando | I33: Ministro de Justicia y Derechos Humanos | J33: SI | K33: Rabat, Fernando (Hijo) | L33: SI | O33: =IF(UPPER(TRIM($J33))="SI",COUNTIF($J$2:J33,"SI"),"") -> 23 | P33: =IF(AND(UPPER(TRIM($J33))="SI",UPPER(TRIM($L33))="SI"),COUNTIFS($J$2:J33,"SI",$L$2:L33,"SI"),"") -> 17
A34: OPA | B34: ROJA | C34: =IF(COUNTA($A34:$B34,$D34:$I34)=0,"",COUNTIF($A$2:$A34,"<>")) -> 33 | D34: Ministro | E34: Señor | F34: Rau | G34: Binder | H34: Tomás | I34: Ministro del Trabajo y Previsión Social | J34: SI | L34: NO | O34: =IF(UPPER(TRIM($J34))="SI",COUNTIF($J$2:J34,"SI"),"") -> 24 | P34: =IF(AND(UPPER(TRIM($J34))="SI",UPPER(TRIM($L34))="SI"),COUNTIFS($J$2:J34,"SI",$L$2:L34,"SI"),"")
A35: OPA | B35: ROJA | C35: =IF(COUNTA($A35:$B35,$D35:$I35)=0,"",COUNTIF($A$2:$A35,"<>")) -> 34 | D35: Ministro | E35: Señor | F35: Arrau | G35: Nilsen | H35: Martin | I35: Ministra de Obras Públicas | J35: SI | K35: Varela Echaurre, Andres (JB) | L35: SI | M35: Balmaceda Jimeno, Nicolas | O35: =IF(UPPER(TRIM($J35))="SI",COUNTIF($J$2:J35,"SI"),"") -> 25 | P35: =IF(AND(UPPER(TRIM($J35))="SI",UPPER(TRIM($L35))="SI"),COUNTIFS($J$2:J35,"SI",$L$2:L35,"SI"),"") -> 18
A36: OPA | B36: ROJA | C36: =IF(COUNTA($A36:$B36,$D36:$I36)=0,"",COUNTIF($A$2:$A36,"<>")) -> 35 | D36: Ministra | E36: Señora | F36: Chomalí | G36: Garib | H36: May | I36: Ministra de Salud | J36: SI | K36: Atal, Fernando | O36: =IF(UPPER(TRIM($J36))="SI",COUNTIF($J$2:J36,"SI"),"") -> 26 | P36: =IF(AND(UPPER(TRIM($J36))="SI",UPPER(TRIM($L36))="SI"),COUNTIFS($J$2:J36,"SI",$L$2:L36,"SI"),"")
A37: OPA | B37: ROJA | C37: =IF(COUNTA($A37:$B37,$D37:$I37)=0,"",COUNTIF($A$2:$A37,"<>")) -> 36 | D37: Ministro | E37: Señor | F37: Poduje | G37: Capdeville | H37: Iván | I37: Ministro de la Vivienda y Urbanismo | K37: Iribarne, Caroline | O37: =IF(UPPER(TRIM($J37))="SI",COUNTIF($J$2:J37,"SI"),"") | P37: =IF(AND(UPPER(TRIM($J37))="SI",UPPER(TRIM($L37))="SI"),COUNTIFS($J$2:J37,"SI",$L$2:L37,"SI"),"")
A38: OPA | B38: ROJA | C38: =IF(COUNTA($A38:$B38,$D38:$I38)=0,"",COUNTIF($A$2:$A38,"<>")) -> 37 | D38: Ministro | E38: Señor | F38: Campos | G38: Quiroga | H38: Jaime | I38: Ministra de Agricultura | J38: NO | K38: Abad, Yasmín | L38: NO | O38: =IF(UPPER(TRIM($J38))="SI",COUNTIF($J$2:J38,"SI"),"") | P38: =IF(AND(UPPER(TRIM($J38))="SI",UPPER(TRIM($L38))="SI"),COUNTIFS($J$2:J38,"SI",$L$2:L38,"SI"),"")
A39: OPA | B39: ROJA | C39: =IF(COUNTA($A39:$B39,$D39:$I39)=0,"",COUNTIF($A$2:$A39,"<>")) -> 38 | D39: Ministro | E39: Señor | F39: de Grange | G39: Concha | H39: Louis | I39: Ministro de Transportes y Telecomunicaciones | J39: SI | L39: NO | O39: =IF(UPPER(TRIM($J39))="SI",COUNTIF($J$2:J39,"SI"),"") -> 27 | P39: =IF(AND(UPPER(TRIM($J39))="SI",UPPER(TRIM($L39))="SI"),COUNTIFS($J$2:J39,"SI",$L$2:L39,"SI"),"")
A40: OPA | B40: ROJA | C40: =IF(COUNTA($A40:$B40,$D40:$I40)=0,"",COUNTIF($A$2:$A40,"<>")) -> 39 | D40: Ministra | E40: Señora | F40: Rincón | G40: González | H40: Ximena | I40: Ministro de Energía | J40: SI | K40: Divorciada | O40: =IF(UPPER(TRIM($J40))="SI",COUNTIF($J$2:J40,"SI"),"") -> 28 | P40: =IF(AND(UPPER(TRIM($J40))="SI",UPPER(TRIM($L40))="SI"),COUNTIFS($J$2:J40,"SI",$L$2:L40,"SI"),"")
A41: OPA | B41: ROJA | C41: =IF(COUNTA($A41:$B41,$D41:$I41)=0,"",COUNTIF($A$2:$A41,"<>")) -> 40 | D41: Ministra | E41: Señora | F41: Toledo | G41: Echegaray | H41: Francisca | I41: Ministra del Medio Ambiente | K41: Casada | O41: =IF(UPPER(TRIM($J41))="SI",COUNTIF($J$2:J41,"SI"),"") | P41: =IF(AND(UPPER(TRIM($J41))="SI",UPPER(TRIM($L41))="SI"),COUNTIFS($J$2:J41,"SI",$L$2:L41,"SI"),"")
A42: OPA | B42: ROJA | C42: =IF(COUNTA($A42:$B42,$D42:$I42)=0,"",COUNTIF($A$2:$A42,"<>")) -> 41 | D42: Ministra | E42: Señora | F42: Duco | G42: Soler | H42: Natalia | I42: Ministra del Deporte | J42: SI | O42: =IF(UPPER(TRIM($J42))="SI",COUNTIF($J$2:J42,"SI"),"") -> 29 | P42: =IF(AND(UPPER(TRIM($J42))="SI",UPPER(TRIM($L42))="SI"),COUNTIFS($J$2:J42,"SI",$L$2:L42,"SI"),"")
A43: OPA | B43: ROJA | C43: =IF(COUNTA($A43:$B43,$D43:$I43)=0,"",COUNTIF($A$2:$A43,"<>")) -> 42 | D43: Ministra | E43: Señora | F43: Marín | G43: Morales | H43: Judith | I43: Ministra de la Mujer y Equidad de Género | J43: SI | K43: Pérez, Esteban | L43: SI | O43: =IF(UPPER(TRIM($J43))="SI",COUNTIF($J$2:J43,"SI"),"") -> 30 | P43: =IF(AND(UPPER(TRIM($J43))="SI",UPPER(TRIM($L43))="SI"),COUNTIFS($J$2:J43,"SI",$L$2:L43,"SI"),"") -> 19
A44: OPA | B44: ROJA | C44: =IF(COUNTA($A44:$B44,$D44:$I44)=0,"",COUNTIF($A$2:$A44,"<>")) -> 43 | D44: Ministro | E44: Señor | F44: Undurraga | G44: Gazitúa | H44: Francisco | I44: Ministro de las Culturas, las Artes y el Patrimonio | J44: SI | K44: Dressel, Paulina | L44: NO | O44: =IF(UPPER(TRIM($J44))="SI",COUNTIF($J$2:J44,"SI"),"") -> 31 | P44: =IF(AND(UPPER(TRIM($J44))="SI",UPPER(TRIM($L44))="SI"),COUNTIFS($J$2:J44,"SI",$L$2:L44,"SI"),"")
A45: OPA | B45: ROJA | C45: =IF(COUNTA($A45:$B45,$D45:$I45)=0,"",COUNTIF($A$2:$A45,"<>")) -> 44 | D45: Ministra | E45: Señora | F45: Lincolao | G45: Pilquian | H45: Ximena | I45: Ministra de Ciencia, Tecnología, Conocimiento e Innovación | K45: Casada | O45: =IF(UPPER(TRIM($J45))="SI",COUNTIF($J$2:J45,"SI"),"") | P45: =IF(AND(UPPER(TRIM($J45))="SI",UPPER(TRIM($L45))="SI"),COUNTIFS($J$2:J45,"SI",$L$2:L45,"SI"),"")
A46: OPA | B46: ROJA | C46: =IF(COUNTA($A46:$B46,$D46:$I46)=0,"",COUNTIF($A$2:$A46,"<>")) -> 45 | D46: Excelentísima | E46: Señora | F46: Fries-Gaier | H46: Susanne | I46: Embajadora de Alemania en Chile | J46: SI | K46: Solos | L46: NO | O46: =IF(UPPER(TRIM($J46))="SI",COUNTIF($J$2:J46,"SI"),"") -> 32 | P46: =IF(AND(UPPER(TRIM($J46))="SI",UPPER(TRIM($L46))="SI"),COUNTIFS($J$2:J46,"SI",$L$2:L46,"SI"),"")
A47: OPA | B47: ROJA | C47: =IF(COUNTA($A47:$B47,$D47:$I47)=0,"",COUNTIF($A$2:$A47,"<>")) -> 46 | D47: Excelentísimo | E47: Señor | F47: Faurie Cónsul de Argentina | H47: Jorge Marcelo | I47: Embajador de Argentina en Chile | J47: NO | K47: Solos | L47: NO | M47: Cónsul de Argentina | O47: =IF(UPPER(TRIM($J47))="SI",COUNTIF($J$2:J47,"SI"),"") | P47: =IF(AND(UPPER(TRIM($J47))="SI",UPPER(TRIM($L47))="SI"),COUNTIFS($J$2:J47,"SI",$L$2:L47,"SI"),"")
A48: OPA | B48: ROJA | C48: =IF(COUNTA($A48:$B48,$D48:$I48)=0,"",COUNTIF($A$2:$A48,"<>")) -> 47 | D48: Excelentísimo | E48: Señor | F48: Barrit | G48: Martin | H48: Andrew James | I48: Embajador de Australia en Chile | J48: SI | K48: Solos | L48: NO | O48: =IF(UPPER(TRIM($J48))="SI",COUNTIF($J$2:J48,"SI"),"") -> 33 | P48: =IF(AND(UPPER(TRIM($J48))="SI",UPPER(TRIM($L48))="SI"),COUNTIFS($J$2:J48,"SI",$L$2:L48,"SI"),"")
A49: OPA | B49: ROJA | C49: =IF(COUNTA($A49:$B49,$D49:$I49)=0,"",COUNTIF($A$2:$A49,"<>")) -> 48 | D49: Excelentísimo | E49: Señor | F49: Senfter | H49: Werner | I49: Embajador de Austria en Chile | J49: NO | K49: Solos | L49: NO | O49: =IF(UPPER(TRIM($J49))="SI",COUNTIF($J$2:J49,"SI"),"") | P49: =IF(AND(UPPER(TRIM($J49))="SI",UPPER(TRIM($L49))="SI"),COUNTIFS($J$2:J49,"SI",$L$2:L49,"SI"),"")
A50: OPA | B50: ROJA | C50: =IF(COUNTA($A50:$B50,$D50:$I50)=0,"",COUNTIF($A$2:$A50,"<>")) -> 49 | D50: Excelentísimo | E50: Señor | F50: De Lannoy Leclerq, Martine (Consejero) | H50: Cristian | I50: Embajador de Bélgica en Chile | J50: SI | K50: Solos | L50: NO | M50: Leclerq, Martine (Consejero) | O50: =IF(UPPER(TRIM($J50))="SI",COUNTIF($J$2:J50,"SI"),"") -> 34 | P50: =IF(AND(UPPER(TRIM($J50))="SI",UPPER(TRIM($L50))="SI"),COUNTIFS($J$2:J50,"SI",$L$2:L50,"SI"),"")
A51: OPA | B51: ROJA | C51: =IF(COUNTA($A51:$B51,$D51:$I51)=0,"",COUNTIF($A$2:$A51,"<>")) -> 50 | D51: Excelentísimo | E51: Señor | F51: Soares | G51: Pacheco | H51: Paulo | I51: Embajador de Brasil en Chile | J51: SI | K51: Solos | L51: NO | O51: =IF(UPPER(TRIM($J51))="SI",COUNTIF($J$2:J51,"SI"),"") -> 35 | P51: =IF(AND(UPPER(TRIM($J51))="SI",UPPER(TRIM($L51))="SI"),COUNTIFS($J$2:J51,"SI",$L$2:L51,"SI"),"")
A52: OPA | B52: ROJA | C52: =IF(COUNTA($A52:$B52,$D52:$I52)=0,"",COUNTIF($A$2:$A52,"<>")) -> 51 | D52: Excelentísima | E52: Señora | F52: Guay | H52: Karolina Linda | I52: Embajadora de Canadá en Chile | J52: SI | K52: Solos | L52: NO | O52: =IF(UPPER(TRIM($J52))="SI",COUNTIF($J$2:J52,"SI"),"") -> 36 | P52: =IF(AND(UPPER(TRIM($J52))="SI",UPPER(TRIM($L52))="SI"),COUNTIFS($J$2:J52,"SI",$L$2:L52,"SI"),"")
A53: OPA | B53: ROJA | C53: =IF(COUNTA($A53:$B53,$D53:$I53)=0,"",COUNTIF($A$2:$A53,"<>")) -> 52 | D53: Excelentísimo | E53: Señor | F53: Guanumen | G53: Parra | H53: Sebastián | I53: Embajador de Colombia en Chile | K53: Solos | L53: NO | O53: =IF(UPPER(TRIM($J53))="SI",COUNTIF($J$2:J53,"SI"),"") | P53: =IF(AND(UPPER(TRIM($J53))="SI",UPPER(TRIM($L53))="SI"),COUNTIFS($J$2:J53,"SI",$L$2:L53,"SI"),"")
A54: OPA | B54: ROJA | C54: =IF(COUNTA($A54:$B54,$D54:$I54)=0,"",COUNTIF($A$2:$A54,"<>")) -> 53 | D54: Excelentísimo | E54: Señor | F54: Jae Kim | H54: Hak | I54: Embajador de Corea en Chile | J54: SI | K54: Solos | L54: NO | O54: =IF(UPPER(TRIM($J54))="SI",COUNTIF($J$2:J54,"SI"),"") -> 37 | P54: =IF(AND(UPPER(TRIM($J54))="SI",UPPER(TRIM($L54))="SI"),COUNTIFS($J$2:J54,"SI",$L$2:L54,"SI"),"")
A55: OPA | B55: ROJA | C55: =IF(COUNTA($A55:$B55,$D55:$I55)=0,"",COUNTIF($A$2:$A55,"<>")) -> 54 | D55: Excelentísima | E55: Señora | F55: Martinec | H55: Mira | I55: Embajadora de Croacia en Chile | J55: NO | K55: Solos | L55: NO | O55: =IF(UPPER(TRIM($J55))="SI",COUNTIF($J$2:J55,"SI"),"") | P55: =IF(AND(UPPER(TRIM($J55))="SI",UPPER(TRIM($L55))="SI"),COUNTIFS($J$2:J55,"SI",$L$2:L55,"SI"),"")
A56: OPA | B56: ROJA | C56: =IF(COUNTA($A56:$B56,$D56:$I56)=0,"",COUNTIF($A$2:$A56,"<>")) -> 55 | D56: Excelentísimo | E56: Señor | F56: Bramsen | G56: Hahn | H56: Henrik | I56: Embajador de Dinamarca en Chile | J56: NO | K56: Solos | L56: NO | O56: =IF(UPPER(TRIM($J56))="SI",COUNTIF($J$2:J56,"SI"),"") | P56: =IF(AND(UPPER(TRIM($J56))="SI",UPPER(TRIM($L56))="SI"),COUNTIFS($J$2:J56,"SI",$L$2:L56,"SI"),"")
A57: OPA | B57: ROJA | C57: =IF(COUNTA($A57:$B57,$D57:$I57)=0,"",COUNTIF($A$2:$A57,"<>")) -> 56 | D57: Excelentísima | E57: Señora | F57: Andrade | G57: Abdo | H57: Lotty Farah | I57: Embajadora de Ecuador en Chile | J57: NO | K57: Solos | L57: NO | O57: =IF(UPPER(TRIM($J57))="SI",COUNTIF($J$2:J57,"SI"),"") | P57: =IF(AND(UPPER(TRIM($J57))="SI",UPPER(TRIM($L57))="SI"),COUNTIFS($J$2:J57,"SI",$L$2:L57,"SI"),"")
A58: OPA | B58: ROJA | C58: =IF(COUNTA($A58:$B58,$D58:$I58)=0,"",COUNTIF($A$2:$A58,"<>")) -> 57 | D58: Excelentísima | E58: Señora | F58: Oroz | G58: Ulibarri | H58: Laura | I58: Embajadora de España en Chile | J58: SI | K58: Solos | L58: NO | O58: =IF(UPPER(TRIM($J58))="SI",COUNTIF($J$2:J58,"SI"),"") -> 38 | P58: =IF(AND(UPPER(TRIM($J58))="SI",UPPER(TRIM($L58))="SI"),COUNTIFS($J$2:J58,"SI",$L$2:L58,"SI"),"")
A59: OPA | B59: ROJA | C59: =IF(COUNTA($A59:$B59,$D59:$I59)=0,"",COUNTIF($A$2:$A59,"<>")) -> 58 | D59: Excelentísimo | E59: Señor | F59: Judd | H59: Brandon | I59: Embajador de Estados Unidos de América en Chile | J59: SI | K59: Solos | L59: NO | O59: =IF(UPPER(TRIM($J59))="SI",COUNTIF($J$2:J59,"SI"),"") -> 39 | P59: =IF(AND(UPPER(TRIM($J59))="SI",UPPER(TRIM($L59))="SI"),COUNTIFS($J$2:J59,"SI",$L$2:L59,"SI"),"")
A60: OPA | B60: ROJA | C60: =IF(COUNTA($A60:$B60,$D60:$I60)=0,"",COUNTIF($A$2:$A60,"<>")) -> 59 | D60: Excelentísima | E60: Señora | F60: Vinzon-Balatbat | H60: Celeste | I60: Embajadora de Filipinas en Chile | K60: Solos | L60: NO | O60: =IF(UPPER(TRIM($J60))="SI",COUNTIF($J$2:J60,"SI"),"") | P60: =IF(AND(UPPER(TRIM($J60))="SI",UPPER(TRIM($L60))="SI"),COUNTIFS($J$2:J60,"SI",$L$2:L60,"SI"),"")
A61: OPA | B61: ROJA | C61: =IF(COUNTA($A61:$B61,$D61:$I61)=0,"",COUNTIF($A$2:$A61,"<>")) -> 60 | D61: Excelentísima | E61: Señora | F61: Kotkajarvi Kauttonen, Antti (Primer Secretario) | H61: Johanna | I61: Embajadora de Finlandia en Chile | J61: SI | K61: Solos | L61: NO | M61: Kauttonen, Antti (Primer secretario) | O61: =IF(UPPER(TRIM($J61))="SI",COUNTIF($J$2:J61,"SI"),"") -> 40 | P61: =IF(AND(UPPER(TRIM($J61))="SI",UPPER(TRIM($L61))="SI"),COUNTIFS($J$2:J61,"SI",$L$2:L61,"SI"),"")
A62: OPA | B62: ROJA | C62: =IF(COUNTA($A62:$B62,$D62:$I62)=0,"",COUNTIF($A$2:$A62,"<>")) -> 61 | D62: Excelentísimo | E62: Señor | F62: Rogeau | H62: Cyrille | I62: Embajador de Francia en Chile | J62: SI | K62: Solos | L62: NO | O62: =IF(UPPER(TRIM($J62))="SI",COUNTIF($J$2:J62,"SI"),"") -> 41 | P62: =IF(AND(UPPER(TRIM($J62))="SI",UPPER(TRIM($L62))="SI"),COUNTIFS($J$2:J62,"SI",$L$2:L62,"SI"),"")
A63: OPA | B63: ROJA | C63: =IF(COUNTA($A63:$B63,$D63:$I63)=0,"",COUNTIF($A$2:$A63,"<>")) -> 62 | D63: Excelentísimo | E63: Señor | F63: Piperigkos | H63: Nikolaos | I63: Embajador de Grecia en Chile | J63: SI | K63: Solos | L63: NO | O63: =IF(UPPER(TRIM($J63))="SI",COUNTIF($J$2:J63,"SI"),"") -> 42 | P63: =IF(AND(UPPER(TRIM($J63))="SI",UPPER(TRIM($L63))="SI"),COUNTIFS($J$2:J63,"SI",$L$2:L63,"SI"),"")
A64: OPA | B64: ROJA | C64: =IF(COUNTA($A64:$B64,$D64:$I64)=0,"",COUNTIF($A$2:$A64,"<>")) -> 63 | D64: Excelentísima | E64: Señora | F64: Joshi | H64: Abhilasha | I64: Embajadora de la República de la India en Chile | J64: NO | K64: Solos | L64: NO | O64: =IF(UPPER(TRIM($J64))="SI",COUNTIF($J$2:J64,"SI"),"") | P64: =IF(AND(UPPER(TRIM($J64))="SI",UPPER(TRIM($L64))="SI"),COUNTIFS($J$2:J64,"SI",$L$2:L64,"SI"),"")
A65: OPA | B65: ROJA | C65: =IF(COUNTA($A65:$B65,$D65:$I65)=0,"",COUNTIF($A$2:$A65,"<>")) -> 64 | D65: Excelentísimo | E65: Señor | F65: Lewi | H65: Peleg | I65: Embajador de Israel en Chile | J65: SI | K65: Solos | L65: NO | O65: =IF(UPPER(TRIM($J65))="SI",COUNTIF($J$2:J65,"SI"),"") -> 43 | P65: =IF(AND(UPPER(TRIM($J65))="SI",UPPER(TRIM($L65))="SI"),COUNTIFS($J$2:J65,"SI",$L$2:L65,"SI"),"")
A66: OPA | B66: ROJA | C66: =IF(COUNTA($A66:$B66,$D66:$I66)=0,"",COUNTIF($A$2:$A66,"<>")) -> 65 | D66: Honorable Ministro Consejero | E66: Señor | F66: Badrul | G66: Jamal | H66: Agus | I66: Encargado de Asuntos Políticos y Jefe de Cancillería de Indonesia en Chile | K66: Solos | L66: NO | O66: =IF(UPPER(TRIM($J66))="SI",COUNTIF($J$2:J66,"SI"),"") | P66: =IF(AND(UPPER(TRIM($J66))="SI",UPPER(TRIM($L66))="SI"),COUNTIFS($J$2:J66,"SI",$L$2:L66,"SI"),"")
A67: OPA | B67: ROJA | C67: =IF(COUNTA($A67:$B67,$D67:$I67)=0,"",COUNTIF($A$2:$A67,"<>")) -> 66 | D67: Excelentísimo | E67: Señor | F67: Hatchell | H67: Colum | I67: Embajador de Irlanda en Chile | K67: Solos | L67: NO | O67: =IF(UPPER(TRIM($J67))="SI",COUNTIF($J$2:J67,"SI"),"") | P67: =IF(AND(UPPER(TRIM($J67))="SI",UPPER(TRIM($L67))="SI"),COUNTIFS($J$2:J67,"SI",$L$2:L67,"SI"),"")
A68: OPA | B68: ROJA | C68: =IF(COUNTA($A68:$B68,$D68:$I68)=0,"",COUNTIF($A$2:$A68,"<>")) -> 67 | D68: Excelentísima | E68: Señora | F68: Biagiotti | H68: Valeria | I68: Embajadora de Italia en Chile | J68: NO | K68: Solos | L68: NO | O68: =IF(UPPER(TRIM($J68))="SI",COUNTIF($J$2:J68,"SI"),"") | P68: =IF(AND(UPPER(TRIM($J68))="SI",UPPER(TRIM($L68))="SI"),COUNTIFS($J$2:J68,"SI",$L$2:L68,"SI"),"")
A69: OPA | B69: ROJA | C69: =IF(COUNTA($A69:$B69,$D69:$I69)=0,"",COUNTIF($A$2:$A69,"<>")) -> 68 | D69: Excelentísimo | E69: Señor | F69: Kenko | H69: Sone | I69: Embajador de Japón en Chile | J69: SI | K69: Solos | L69: NO | O69: =IF(UPPER(TRIM($J69))="SI",COUNTIF($J$2:J69,"SI"),"") -> 44 | P69: =IF(AND(UPPER(TRIM($J69))="SI",UPPER(TRIM($L69))="SI"),COUNTIFS($J$2:J69,"SI",$L$2:L69,"SI"),"")
A70: OPA | B70: ROJA | C70: =IF(COUNTA($A70:$B70,$D70:$I70)=0,"",COUNTIF($A$2:$A70,"<>")) -> 69 | D70: Honorable | E70: Señor | F70: Rasyid Bing Abang Yusop | H70: Abang Abdul | I70: Primer Secretario Encargado de Negocios A.I. de Malasia en Chile | K70: Solos | L70: NO | O70: =IF(UPPER(TRIM($J70))="SI",COUNTIF($J$2:J70,"SI"),"") | P70: =IF(AND(UPPER(TRIM($J70))="SI",UPPER(TRIM($L70))="SI"),COUNTIFS($J$2:J70,"SI",$L$2:L70,"SI"),"")
A71: OPA | B71: ROJA | C71: =IF(COUNTA($A71:$B71,$D71:$I71)=0,"",COUNTIF($A$2:$A71,"<>")) -> 70 | D71: Excelentísima | E71: Señora | F71: El Ghali | H71: Kenza | I71: Embajadora de Marruecos en Chile | J71: SI | K71: Solos | L71: NO | O71: =IF(UPPER(TRIM($J71))="SI",COUNTIF($J$2:J71,"SI"),"") -> 45 | P71: =IF(AND(UPPER(TRIM($J71))="SI",UPPER(TRIM($L71))="SI"),COUNTIFS($J$2:J71,"SI",$L$2:L71,"SI"),"")
A72: OPA | B72: ROJA | C72: =IF(COUNTA($A72:$B72,$D72:$I72)=0,"",COUNTIF($A$2:$A72,"<>")) -> 71 | D72: Excelentísima | E72: Señora | F72: Moreno Mendosa, Carlos Ivan | G72: Rodríguez | H72: Laura Beatriz | I72: Embajadora de México en Chile | J72: SI | K72: Solos | L72: NO | M72: Mendosa, Carlos Ivan | O72: =IF(UPPER(TRIM($J72))="SI",COUNTIF($J$2:J72,"SI"),"") -> 46 | P72: =IF(AND(UPPER(TRIM($J72))="SI",UPPER(TRIM($L72))="SI"),COUNTIFS($J$2:J72,"SI",$L$2:L72,"SI"),"")
A73: OPA | B73: ROJA | C73: =IF(COUNTA($A73:$B73,$D73:$I73)=0,"",COUNTIF($A$2:$A73,"<>")) -> 72 | D73: Excelentísimo | E73: Señor | F73: Pollen | G73: Nilsen | H73: Per | I73: Embajador de Noruega en Chile | K73: Solos | L73: NO | O73: =IF(UPPER(TRIM($J73))="SI",COUNTIF($J$2:J73,"SI"),"") | P73: =IF(AND(UPPER(TRIM($J73))="SI",UPPER(TRIM($L73))="SI"),COUNTIFS($J$2:J73,"SI",$L$2:L73,"SI"),"")
A74: OPA | B74: ROJA | C74: =IF(COUNTA($A74:$B74,$D74:$I74)=0,"",COUNTIF($A$2:$A74,"<>")) -> 73 | D74: Excelentísima | E74: Señora | F74: Rigoli Rouse, Courtny | H74: Daniela | I74: Embajadora de Nueva Zelandia en Chile | J74: SI | K74: Solos | L74: NO | M74: Rouse, Courtny | O74: =IF(UPPER(TRIM($J74))="SI",COUNTIF($J$2:J74,"SI"),"") -> 47 | P74: =IF(AND(UPPER(TRIM($J74))="SI",UPPER(TRIM($L74))="SI"),COUNTIFS($J$2:J74,"SI",$L$2:L74,"SI"),"")
A75: OPA | B75: ROJA | C75: =IF(COUNTA($A75:$B75,$D75:$I75)=0,"",COUNTIF($A$2:$A75,"<>")) -> 74 | D75: Excelentísima | E75: Señora | F75: Schaapveld | G75: E/V Merks | H75: Elke | I75: Embajadora de Los Países Bajos en Chile | J75: SI | K75: Solos | L75: NO | O75: =IF(UPPER(TRIM($J75))="SI",COUNTIF($J$2:J75,"SI"),"") -> 48 | P75: =IF(AND(UPPER(TRIM($J75))="SI",UPPER(TRIM($L75))="SI"),COUNTIFS($J$2:J75,"SI",$L$2:L75,"SI"),"")
A76: OPA | B76: ROJA | C76: =IF(COUNTA($A76:$B76,$D76:$I76)=0,"",COUNTIF($A$2:$A76,"<>")) -> 75 | D76: Excelentísimo | E76: Señor | F76: Jiménez | G76: Boyd | H76: Enrique | I76: Embajador de Panamá en Chile | J76: SI | K76: Solos | L76: NO | O76: =IF(UPPER(TRIM($J76))="SI",COUNTIF($J$2:J76,"SI"),"") -> 49 | P76: =IF(AND(UPPER(TRIM($J76))="SI",UPPER(TRIM($L76))="SI"),COUNTIFS($J$2:J76,"SI",$L$2:L76,"SI"),"")
A77: OPA | B77: ROJA | C77: =IF(COUNTA($A77:$B77,$D77:$I77)=0,"",COUNTIF($A$2:$A77,"<>")) -> 76 | D77: Excelentísimo | E77: Señor | F77: Camino | G77: Cannock | H77: John Peter | I77: Embajador de Perú en Chile | J77: SI | K77: Solos | L77: NO | O77: =IF(UPPER(TRIM($J77))="SI",COUNTIF($J$2:J77,"SI"),"") -> 50 | P77: =IF(AND(UPPER(TRIM($J77))="SI",UPPER(TRIM($L77))="SI"),COUNTIFS($J$2:J77,"SI",$L$2:L77,"SI"),"")
A78: OPA | B78: ROJA | C78: =IF(COUNTA($A78:$B78,$D78:$I78)=0,"",COUNTIF($A$2:$A78,"<>")) -> 77 | D78: Excelentísima | E78: Señora | F78: de Oliveira | G78: Bicho | H78: María Helena | I78: Embajadora de Portugal en Chile | J78: NO | K78: Solos | L78: NO | O78: =IF(UPPER(TRIM($J78))="SI",COUNTIF($J$2:J78,"SI"),"") | P78: =IF(AND(UPPER(TRIM($J78))="SI",UPPER(TRIM($L78))="SI"),COUNTIFS($J$2:J78,"SI",$L$2:L78,"SI"),"")
A79: OPA | B79: ROJA | C79: =IF(COUNTA($A79:$B79,$D79:$I79)=0,"",COUNTIF($A$2:$A79,"<>")) -> 78 | D79: Excelentísimo | E79: Señor | F79: Concar Kenedy, Nicholas | H79: David William | I79: Embajador del Reino Unido de Gran Bretaña e Irlanda del Norte en Chile | J79: SI | K79: Solos | L79: NO | M79: Kenedy, Nicholas | O79: =IF(UPPER(TRIM($J79))="SI",COUNTIF($J$2:J79,"SI"),"") -> 51 | P79: =IF(AND(UPPER(TRIM($J79))="SI",UPPER(TRIM($L79))="SI"),COUNTIFS($J$2:J79,"SI",$L$2:L79,"SI"),"")
A80: OPA | B80: ROJA | C80: =IF(COUNTA($A80:$B80,$D80:$I80)=0,"",COUNTIF($A$2:$A80,"<>")) -> 79 | D80: Excelentísimo | E80: Señor | F80: Cohen | G80: Sander | H80: Juan Alberto | I80: Embajador de la República Dominicana en Chile | J80: SI | K80: Solos | L80: NO | M80: Apolinar, Luciano | O80: =IF(UPPER(TRIM($J80))="SI",COUNTIF($J$2:J80,"SI"),"") -> 52 | P80: =IF(AND(UPPER(TRIM($J80))="SI",UPPER(TRIM($L80))="SI"),COUNTIFS($J$2:J80,"SI",$L$2:L80,"SI"),"")
A81: OPA | B81: ROJA | C81: =IF(COUNTA($A81:$B81,$D81:$I81)=0,"",COUNTIF($A$2:$A81,"<>")) -> 80 | D81: Excelentísimo | E81: Señor | F81: Qingbao | H81: Niu | I81: Embajador de la República Popular China en Chile | K81: Solos | L81: NO | O81: =IF(UPPER(TRIM($J81))="SI",COUNTIF($J$2:J81,"SI"),"") | P81: =IF(AND(UPPER(TRIM($J81))="SI",UPPER(TRIM($L81))="SI"),COUNTIFS($J$2:J81,"SI",$L$2:L81,"SI"),"")
A82: OPA | B82: ROJA | C82: =IF(COUNTA($A82:$B82,$D82:$I82)=0,"",COUNTIF($A$2:$A82,"<>")) -> 81 | D82: Excelentísima | E82: Señora | F82: Kotlajic | H82: Mirjana | I82: Embajadora de Serbia en Chile | K82: Solos | L82: NO | O82: =IF(UPPER(TRIM($J82))="SI",COUNTIF($J$2:J82,"SI"),"") | P82: =IF(AND(UPPER(TRIM($J82))="SI",UPPER(TRIM($L82))="SI"),COUNTIFS($J$2:J82,"SI",$L$2:L82,"SI"),"")
A83: OPA | B83: ROJA | C83: =IF(COUNTA($A83:$B83,$D83:$I83)=0,"",COUNTIF($A$2:$A83,"<>")) -> 82 | D83: Excelentísimo | E83: Señor | F83: Monyemangene | H83: George | I83: Embajador de la República de Sudáfrica en Chile | K83: Solos | L83: NO | O83: =IF(UPPER(TRIM($J83))="SI",COUNTIF($J$2:J83,"SI"),"") | P83: =IF(AND(UPPER(TRIM($J83))="SI",UPPER(TRIM($L83))="SI"),COUNTIFS($J$2:J83,"SI",$L$2:L83,"SI"),"")
A84: OPA | B84: ROJA | C84: =IF(COUNTA($A84:$B84,$D84:$I84)=0,"",COUNTIF($A$2:$A84,"<>")) -> 83 | D84: Excelentísimo | E84: Señor | F84: Wiklund | H84: Tomás | I84: Embajador del Reino de Suecia en Chile | J84: NO | K84: Solos | L84: NO | O84: =IF(UPPER(TRIM($J84))="SI",COUNTIF($J$2:J84,"SI"),"") | P84: =IF(AND(UPPER(TRIM($J84))="SI",UPPER(TRIM($L84))="SI"),COUNTIFS($J$2:J84,"SI",$L$2:L84,"SI"),"")
A85: OPA | B85: ROJA | C85: =IF(COUNTA($A85:$B85,$D85:$I85)=0,"",COUNTIF($A$2:$A85,"<>")) -> 84 | D85: Excelentísima | E85: Señora | F85: Ruksakiati | H85: Vimolbajra | I85: Embajadora de Tailandia en Chile | J85: NO | K85: Solos | L85: NO | O85: =IF(UPPER(TRIM($J85))="SI",COUNTIF($J$2:J85,"SI"),"") | P85: =IF(AND(UPPER(TRIM($J85))="SI",UPPER(TRIM($L85))="SI"),COUNTIFS($J$2:J85,"SI",$L$2:L85,"SI"),"")
A86: OPA | B86: ROJA | C86: =IF(COUNTA($A86:$B86,$D86:$I86)=0,"",COUNTIF($A$2:$A86,"<>")) -> 85 | D86: Excelentísimo | E86: Señor | F86: Ihsan | G86: Kiziltan | H86: Ahmet | I86: Embajador de la República de Türkiye en Chile | J86: SI | K86: Solos | L86: NO | O86: =IF(UPPER(TRIM($J86))="SI",COUNTIF($J$2:J86,"SI"),"") -> 53 | P86: =IF(AND(UPPER(TRIM($J86))="SI",UPPER(TRIM($L86))="SI"),COUNTIFS($J$2:J86,"SI",$L$2:L86,"SI"),"")
A87: OPA | B87: ROJA | C87: =IF(COUNTA($A87:$B87,$D87:$I87)=0,"",COUNTIF($A$2:$A87,"<>")) -> 86 | D87: Excelentísima | E87: Señora | F87: Monika | G87: Gintersdorfer | H87: Claudia | I87: Embajadora de la Delegación de la Unión Europea | K87: Solos | L87: NO | O87: =IF(UPPER(TRIM($J87))="SI",COUNTIF($J$2:J87,"SI"),"") | P87: =IF(AND(UPPER(TRIM($J87))="SI",UPPER(TRIM($L87))="SI"),COUNTIFS($J$2:J87,"SI",$L$2:L87,"SI"),"")
A88: OPA | B88: ROJA | C88: =IF(COUNTA($A88:$B88,$D88:$I88)=0,"",COUNTIF($A$2:$A88,"<>")) -> 87 | D88: Excelentísima | E88: Señora | F88: Rocanova | G88: Rodríguez | H88: Ana Inés | I88: Embajadora de la República Oriental del Uruguay en Chile | J88: NO | K88: Solos | L88: NO | O88: =IF(UPPER(TRIM($J88))="SI",COUNTIF($J$2:J88,"SI"),"") | P88: =IF(AND(UPPER(TRIM($J88))="SI",UPPER(TRIM($L88))="SI"),COUNTIFS($J$2:J88,"SI",$L$2:L88,"SI"),"")
A89: OPA | B89: ROJA | C89: =IF(COUNTA($A89:$B89,$D89:$I89)=0,"",COUNTIF($A$2:$A89,"<>")) -> 88 | D89: Honorable Senador | E89: Señor | F89: Cariola | G89: Oliva | H89: Karol | I89: Senadora V Región Costa | J89: SI | K89: Rementeria, Tomás | L89: SI | O89: =IF(UPPER(TRIM($J89))="SI",COUNTIF($J$2:J89,"SI"),"") -> 54 | P89: =IF(AND(UPPER(TRIM($J89))="SI",UPPER(TRIM($L89))="SI"),COUNTIFS($J$2:J89,"SI",$L$2:L89,"SI"),"") -> 20
A90: OPA | B90: ROJA | C90: =IF(COUNTA($A90:$B90,$D90:$I90)=0,"",COUNTIF($A$2:$A90,"<>")) -> 89 | D90: Honorable Senador | E90: Señor | F90: Flores | G90: Oporto | H90: Camila | I90: Senadora V Región Cordillera | J90: SI | O90: =IF(UPPER(TRIM($J90))="SI",COUNTIF($J$2:J90,"SI"),"") -> 55 | P90: =IF(AND(UPPER(TRIM($J90))="SI",UPPER(TRIM($L90))="SI"),COUNTIFS($J$2:J90,"SI",$L$2:L90,"SI"),"")
A91: OPA | B91: ROJA | C91: =IF(COUNTA($A91:$B91,$D91:$I91)=0,"",COUNTIF($A$2:$A91,"<>")) -> 90 | D91: Honorable Senador | E91: Señor | F91: Ibáñez | G91: Cotroneo | H91: Diego | I91: Senador V Región Costa | J91: SI | L91: NO | O91: =IF(UPPER(TRIM($J91))="SI",COUNTIF($J$2:J91,"SI"),"") -> 56 | P91: =IF(AND(UPPER(TRIM($J91))="SI",UPPER(TRIM($L91))="SI"),COUNTIFS($J$2:J91,"SI",$L$2:L91,"SI"),"")
A92: OPA | B92: ROJA | C92: =IF(COUNTA($A92:$B92,$D92:$I92)=0,"",COUNTIF($A$2:$A92,"<>")) -> 91 | D92: Honorable Senador | E92: Señor | F92: Longton | G92: Herrera | H92: Andrés | I92: Senador V Región Cordillera | J92: SI | K92: Mari Guañabens, Agostina | L92: SI | O92: =IF(UPPER(TRIM($J92))="SI",COUNTIF($J$2:J92,"SI"),"") -> 57 | P92: =IF(AND(UPPER(TRIM($J92))="SI",UPPER(TRIM($L92))="SI"),COUNTIFS($J$2:J92,"SI",$L$2:L92,"SI"),"") -> 21
A93: OPA | B93: ROJA | C93: =IF(COUNTA($A93:$B93,$D93:$I93)=0,"",COUNTIF($A$2:$A93,"<>")) -> 92 | D93: Honorable Senador | E93: Señor | F93: Squella | G93: Ovalle | H93: Arturo | I93: Senador V Región Costa | J93: SI | K93: Gazmuri, Alejandro (Jg) | L93: SI | O93: =IF(UPPER(TRIM($J93))="SI",COUNTIF($J$2:J93,"SI"),"") -> 58 | P93: =IF(AND(UPPER(TRIM($J93))="SI",UPPER(TRIM($L93))="SI"),COUNTIFS($J$2:J93,"SI",$L$2:L93,"SI"),"") -> 22
A94: OPA | B94: ROJA | C94: =IF(COUNTA($A94:$B94,$D94:$I94)=0,"",COUNTIF($A$2:$A94,"<>")) -> 93 | D94: Honorable Senador | E94: Señor | F94: Huenchumilla | G94: Jaramillo | H94: Francisco | I94: Comisión de Defensa Nacional | J94: NO | K94: Suarez, Ma. Antonieta | L94: NO | O94: =IF(UPPER(TRIM($J94))="SI",COUNTIF($J$2:J94,"SI"),"") | P94: =IF(AND(UPPER(TRIM($J94))="SI",UPPER(TRIM($L94))="SI"),COUNTIFS($J$2:J94,"SI",$L$2:L94,"SI"),"")
A95: OPA | B95: ROJA | C95: =IF(COUNTA($A95:$B95,$D95:$I95)=0,"",COUNTIF($A$2:$A95,"<>")) -> 94 | D95: Honorable Senador | E95: Señor | F95: Araya | G95: Guerrero | H95: Pedro | I95: Comisión de Defensa Nacional | J95: NO | L95: NO | O95: =IF(UPPER(TRIM($J95))="SI",COUNTIF($J$2:J95,"SI"),"") | P95: =IF(AND(UPPER(TRIM($J95))="SI",UPPER(TRIM($L95))="SI"),COUNTIFS($J$2:J95,"SI",$L$2:L95,"SI"),"")
A96: OPA | B96: ROJA | C96: =IF(COUNTA($A96:$B96,$D96:$I96)=0,"",COUNTIF($A$2:$A96,"<>")) -> 95 | D96: Honorable Senador | E96: Señor | F96: Saavedra | G96: Chandía | H96: Gastón | I96: Comisión de Defensa Nacional | J96: NO | K96: Bachmann, Patricia | L96: NO | O96: =IF(UPPER(TRIM($J96))="SI",COUNTIF($J$2:J96,"SI"),"") | P96: =IF(AND(UPPER(TRIM($J96))="SI",UPPER(TRIM($L96))="SI"),COUNTIFS($J$2:J96,"SI",$L$2:L96,"SI"),"")
A97: OPA | B97: ROJA | C97: =IF(COUNTA($A97:$B97,$D97:$I97)=0,"",COUNTIF($A$2:$A97,"<>")) -> 96 | D97: Honorable Senador | E97: Señor | F97: Vial | G97: Maceratta | H97: Cristián | I97: Comisión de Defensa Nacional | J97: NO | K97: Miranda, Danica | L97: NO | O97: =IF(UPPER(TRIM($J97))="SI",COUNTIF($J$2:J97,"SI"),"") | P97: =IF(AND(UPPER(TRIM($J97))="SI",UPPER(TRIM($L97))="SI"),COUNTIFS($J$2:J97,"SI",$L$2:L97,"SI"),"")
A98: OPA | B98: ROJA | C98: =IF(COUNTA($A98:$B98,$D98:$I98)=0,"",COUNTIF($A$2:$A98,"<>")) -> 97 | D98: Honorable Diputada | E98: Señora | F98: Barchiesi | G98: Chávez | H98: Chiara | I98: Diputada Región Valparaíso | J98: SI | K98: Cabrera Vargas, Felipe | O98: =IF(UPPER(TRIM($J98))="SI",COUNTIF($J$2:J98,"SI"),"") -> 59 | P98: =IF(AND(UPPER(TRIM($J98))="SI",UPPER(TRIM($L98))="SI"),COUNTIFS($J$2:J98,"SI",$L$2:L98,"SI"),"")
A99: OPA | B99: ROJA | C99: =IF(COUNTA($A99:$B99,$D99:$I99)=0,"",COUNTIF($A$2:$A99,"<>")) -> 98 | D99: Honorable Diputada | E99: Señorita | F99: Bello | G99: Campos | H99: María Francisca | I99: Diputada Región Valparaíso | O99: =IF(UPPER(TRIM($J99))="SI",COUNTIF($J$2:J99,"SI"),"") | P99: =IF(AND(UPPER(TRIM($J99))="SI",UPPER(TRIM($L99))="SI"),COUNTIFS($J$2:J99,"SI",$L$2:L99,"SI"),"")
A100: OPA | B100: ROJA | C100: =IF(COUNTA($A100:$B100,$D100:$I100)=0,"",COUNTIF($A$2:$A100,"<>")) -> 99 | D100: Honorable Diputado | E100: Señor | F100: González | G100: Cortés | H100: Sofía | I100: Diputada Región de Valparaíso | O100: =IF(UPPER(TRIM($J100))="SI",COUNTIF($J$2:J100,"SI"),"") | P100: =IF(AND(UPPER(TRIM($J100))="SI",UPPER(TRIM($L100))="SI"),COUNTIFS($J$2:J100,"SI",$L$2:L100,"SI"),"")
...

Sheet Control Totales
A1: CONTROL TOTALES - 21 DE MAYO
A3: TOTAL INVITADOS | B3: INVITADOS SI | C3: INVITADOS NO | D3: INVITADOS PENDIENTES | E3: ACOMP. SI | F3: ACOMP. NO | G3: ACOMP. PENDIENTES | H3: TOTAL PERSONAS ASISTENTES | I3: CAPACIDAD TOTAL | J3: CUPOS CONF. DISP.
A4: =COUNTA(Maestro!$A$2:$A$999) -> 313 | B4: =COUNTIF(Maestro!$J$2:$J$999,"SI") -> 183 | C4: =COUNTIF(Maestro!$J$2:$J$999,"NO") -> 61 | D4: =COUNTIFS(Maestro!$A$2:$A$999,"<>",Maestro!$J$2:$J$999,"") -> 69 | E4: =COUNTIF(Maestro!$L$2:$L$999,"SI") -> 60 | F4: =COUNTIF(Maestro!$L$2:$L$999,"NO") -> 209 | G4: =COUNTIFS(Maestro!$A$2:$A$999,"<>",Maestro!$L$2:$L$999,"") -> 44 | H4: =B4+E4 -> 243 | I4: =SUM(B8:B12) -> 288 | J4: =I4-B4 -> 105
A6: CONTROL DE CAPACIDAD POR TRIBUNA (SOLO TITULARES / ACOMPAÑANTES NO DESCUENTAN CUPO)
A7: TRIBUNA | B7: CAPACIDAD | C7: INV. ASIGNADOS | D7: INV. SI | E7: INV. NO | F7: INV. PEND. | G7: ACOMP. SI | H7: ACOMP. NO | I7: ACOMP. PEND. | J7: CUPOS ASIGNADOS | K7: CUPOS CONF. | L7: % OCUP. CONF. | M7: ESTADO
A8: VIP | B8: 18 | C8: =COUNTIF(Maestro!$B$2:$B$999,A8) -> 22 | D8: =COUNTIFS(Maestro!$B$2:$B$999,A8,Maestro!$J$2:$J$999,"SI") -> 18 | E8: =COUNTIFS(Maestro!$B$2:$B$999,A8,Maestro!$J$2:$J$999,"NO") -> 3 | F8: =COUNTIFS(Maestro!$B$2:$B$999,A8,Maestro!$A$2:$A$999,"<>",Maestro!$J$2:$J$999,"") -> 1 | G8: =COUNTIFS(Maestro!$B$2:$B$999,A8,Maestro!$L$2:$L$999,"SI") -> 13 | H8: =COUNTIFS(Maestro!$B$2:$B$999,A8,Maestro!$L$2:$L$999,"NO") -> 8 | I8: =COUNTIFS(Maestro!$B$2:$B$999,A8,Maestro!$A$2:$A$999,"<>",Maestro!$L$2:$L$999,"") -> 1 | J8: =B8-C8 -> -4 | K8: =MAX(B8-D8,0) -> 0 | L8: =IFERROR(D8/B8,0) -> 1 | M8: =IF(D8>B8,"SOBRECUPO",IF(D8=B8,"COMPLETA","DISPONIBLE")) -> COMPLETA
A9: ROJA | B9: 60 | C9: =COUNTIF(Maestro!$B$2:$B$999,A9) -> 129 | D9: =COUNTIFS(Maestro!$B$2:$B$999,A9,Maestro!$J$2:$J$999,"SI") -> 68 | E9: =COUNTIFS(Maestro!$B$2:$B$999,A9,Maestro!$J$2:$J$999,"NO") -> 25 | F9: =COUNTIFS(Maestro!$B$2:$B$999,A9,Maestro!$A$2:$A$999,"<>",Maestro!$J$2:$J$999,"") -> 36 | G9: =COUNTIFS(Maestro!$B$2:$B$999,A9,Maestro!$L$2:$L$999,"SI") -> 17 | H9: =COUNTIFS(Maestro!$B$2:$B$999,A9,Maestro!$L$2:$L$999,"NO") -> 80 | I9: =COUNTIFS(Maestro!$B$2:$B$999,A9,Maestro!$A$2:$A$999,"<>",Maestro!$L$2:$L$999,"") -> 32 | J9: =B9-C9 -> -69 | K9: =MAX(B9-D9,0) -> 0 | L9: =IFERROR(D9/B9,0) -> 1.1333333 | M9: =IF(D9>B9,"SOBRECUPO",IF(D9=B9,"COMPLETA","DISPONIBLE")) -> SOBRECUPO
A10: VERDE | B10: 75 | C10: =COUNTIF(Maestro!$B$2:$B$999,A10) -> 66 | D10: =COUNTIFS(Maestro!$B$2:$B$999,A10,Maestro!$J$2:$J$999,"SI") -> 38 | E10: =COUNTIFS(Maestro!$B$2:$B$999,A10,Maestro!$J$2:$J$999,"NO") -> 12 | F10: =COUNTIFS(Maestro!$B$2:$B$999,A10,Maestro!$A$2:$A$999,"<>",Maestro!$J$2:$J$999,"") -> 16 | G10: =COUNTIFS(Maestro!$B$2:$B$999,A10,Maestro!$L$2:$L$999,"SI") -> 1 | H10: =COUNTIFS(Maestro!$B$2:$B$999,A10,Maestro!$L$2:$L$999,"NO") -> 65 | I10: =COUNTIFS(Maestro!$B$2:$B$999,A10,Maestro!$A$2:$A$999,"<>",Maestro!$L$2:$L$999,"") -> 0 | J10: =B10-C10 -> 9 | K10: =MAX(B10-D10,0) -> 37 | L10: =IFERROR(D10/B10,0) -> 0.50666667 | M10: =IF(D10>B10,"SOBRECUPO",IF(D10=B10,"COMPLETA","DISPONIBLE")) -> DISPONIBLE
A11: CELESTE | B11: 60 | C11: =COUNTIF(Maestro!$B$2:$B$999,A11) -> 91 | D11: =COUNTIFS(Maestro!$B$2:$B$999,A11,Maestro!$J$2:$J$999,"SI") -> 56 | E11: =COUNTIFS(Maestro!$B$2:$B$999,A11,Maestro!$J$2:$J$999,"NO") -> 21 | F11: =COUNTIFS(Maestro!$B$2:$B$999,A11,Maestro!$A$2:$A$999,"<>",Maestro!$J$2:$J$999,"") -> 14 | G11: =COUNTIFS(Maestro!$B$2:$B$999,A11,Maestro!$L$2:$L$999,"SI") -> 27 | H11: =COUNTIFS(Maestro!$B$2:$B$999,A11,Maestro!$L$2:$L$999,"NO") -> 55 | I11: =COUNTIFS(Maestro!$B$2:$B$999,A11,Maestro!$A$2:$A$999,"<>",Maestro!$L$2:$L$999,"") -> 9 | J11: =B11-C11 -> -31 | K11: =MAX(B11-D11,0) -> 4 | L11: =IFERROR(D11/B11,0) -> 0.93333333 | M11: =IF(D11>B11,"SOBRECUPO",IF(D11=B11,"COMPLETA","DISPONIBLE")) -> DISPONIBLE
A12: EDIFICIO | B12: 75 | C12: =COUNTIF(Maestro!$B$2:$B$999,A12) -> 5 | D12: =COUNTIFS(Maestro!$B$2:$B$999,A12,Maestro!$J$2:$J$999,"SI") -> 3 | E12: =COUNTIFS(Maestro!$B$2:$B$999,A12,Maestro!$J$2:$J$999,"NO") -> 0 | F12: =COUNTIFS(Maestro!$B$2:$B$999,A12,Maestro!$A$2:$A$999,"<>",Maestro!$J$2:$J$999,"") -> 2 | G12: =COUNTIFS(Maestro!$B$2:$B$999,A12,Maestro!$L$2:$L$999,"SI") -> 2 | H12: =COUNTIFS(Maestro!$B$2:$B$999,A12,Maestro!$L$2:$L$999,"NO") -> 1 | I12: =COUNTIFS(Maestro!$B$2:$B$999,A12,Maestro!$A$2:$A$999,"<>",Maestro!$L$2:$L$999,"") -> 2 | J12: =B12-C12 -> 70 | K12: =MAX(B12-D12,0) -> 72 | L12: =IFERROR(D12/B12,0) -> 0.04 | M12: =IF(D12>B12,"SOBRECUPO",IF(D12=B12,"COMPLETA","DISPONIBLE")) -> DISPONIBLE
A13: TOTAL | B13: =SUM(B8:B12) -> 288 | C13: =SUM(C8:C12) -> 313 | D13: =SUM(D8:D12) -> 183 | E13: =SUM(E8:E12) -> 61 | F13: =SUM(F8:F12) -> 69 | G13: =SUM(G8:G12) -> 60 | H13: =SUM(H8:H12) -> 209 | I13: =SUM(I8:I12) -> 44 | ... K13: =SUM(K8:K12) -> 113 | L13: =IFERROR(D13/B13,0) -> 0.63541667
A16: DESGLOSE POR ORIGEN DE INVITACIÓN Y TRIBUNA
A17: ORIGEN | B17: TRIBUNA | C17: INV. ASIGNADOS | D17: INVITADO SI | E17: INVITADO NO | F17: INVITADO PENDIENTE | G17: ACOMP. SI | H17: ACOMP. NO | I17: ACOMP. PEND. | J17: TOTAL PERSONAS ASISTENTES
A18: OPA | B18: VIP | C18: =COUNTIFS(Maestro!$A$2:$A$999,A18,Maestro!$B$2:$B$999,B18) -> 22 | D18: =COUNTIFS(Maestro!$A$2:$A$999,A18,Maestro!$B$2:$B$999,B18,Maestro!$J$2:$J$999,"SI") -> 18 | E18: =COUNTIFS(Maestro!$A$2:$A$999,A18,Maestro!$B$2:$B$999,B18,Maestro!$J$2:$J$999,"NO") -> 3 | F18: =COUNTIFS(Maestro!$A$2:$A$999,A18,Maestro!$B$2:$B$999,B18,Maestro!$A$2:$A$999,"<>",Maestro!$J$2:$J$999,"") -> 1 | G18: =COUNTIFS(Maestro!$A$2:$A$999,A18,Maestro!$B$2:$B$999,B18,Maestro!$L$2:$L$999,"SI") -> 13 | H18: =COUNTIFS(Maestro!$A$2:$A$999,A18,Maestro!$B$2:$B$999,B18,Maestro!$L$2:$L$999,"NO") -> 8 | I18: =COUNTIFS(Maestro!$A$2:$A$999,A18,Maestro!$B$2:$B$999,B18,Maestro!$A$2:$A$999,"<>",Maestro!$L$2:$L$999,"") -> 1 | J18: =D18+G18 -> 31
A19: OPA | B19: ROJA | C19: =COUNTIFS(Maestro!$A$2:$A$999,A19,Maestro!$B$2:$B$999,B19) -> 113 | D19: =COUNTIFS(Maestro!$A$2:$A$999,A19,Maestro!$B$2:$B$999,B19,Maestro!$J$2:$J$999,"SI") -> 60 | E19: =COUNTIFS(Maestro!$A$2:$A$999,A19,Maestro!$B$2:$B$999,B19,Maestro!$J$2:$J$999,"NO") -> 23 | F19: =COUNTIFS(Maestro!$A$2:$A$999,A19,Maestro!$B$2:$B$999,B19,Maestro!$A$2:$A$999,"<>",Maestro!$J$2:$J$999,"") -> 30 | G19: =COUNTIFS(Maestro!$A$2:$A$999,A19,Maestro!$B$2:$B$999,B19,Maestro!$L$2:$L$999,"SI") -> 17 | H19: =COUNTIFS(Maestro!$A$2:$A$999,A19,Maestro!$B$2:$B$999,B19,Maestro!$L$2:$L$999,"NO") -> 71 | I19: =COUNTIFS(Maestro!$A$2:$A$999,A19,Maestro!$B$2:$B$999,B19,Maestro!$A$2:$A$999,"<>",Maestro!$L$2:$L$999,"") -> 25 | J19: =D19+G19 -> 77
A20: OPA | B20: VERDE | C20: =COUNTIFS(Maestro!$A$2:$A$999,A20,Maestro!$B$2:$B$999,B20) -> 0 | D20: =COUNTIFS(Maestro!$A$2:$A$999,A20,Maestro!$B$2:$B$999,B20,Maestro!$J$2:$J$999,"SI") -> 0 | E20: =COUNTIFS(Maestro!$A$2:$A$999,A20,Maestro!$B$2:$B$999,B20,Maestro!$J$2:$J$999,"NO") -> 0 | F20: =COUNTIFS(Maestro!$A$2:$A$999,A20,Maestro!$B$2:$B$999,B20,Maestro!$A$2:$A$999,"<>",Maestro!$J$2:$J$999,"") -> 0 | G20: =COUNTIFS(Maestro!$A$2:$A$999,A20,Maestro!$B$2:$B$999,B20,Maestro!$L$2:$L$999,"SI") -> 0 | H20: =COUNTIFS(Maestro!$A$2:$A$999,A20,Maestro!$B$2:$B$999,B20,Maestro!$L$2:$L$999,"NO") -> 0 | I20: =COUNTIFS(Maestro!$A$2:$A$999,A20,Maestro!$B$2:$B$999,B20,Maestro!$A$2:$A$999,"<>",Maestro!$L$2:$L$999,"") -> 0 | J20: =D20+G20 -> 0
A21: OPA | B21: CELESTE | C21: =COUNTIFS(Maestro!$A$2:$A$999,A21,Maestro!$B$2:$B$999,B21) -> 29 | D21: =COUNTIFS(Maestro!$A$2:$A$999,A21,Maestro!$B$2:$B$999,B21,Maestro!$J$2:$J$999,"SI") -> 18 | E21: =COUNTIFS(Maestro!$A$2:$A$999,A21,Maestro!$B$2:$B$999,B21,Maestro!$J$2:$J$999,"NO") -> 6 | F21: =COUNTIFS(Maestro!$A$2:$A$999,A21,Maestro!$B$2:$B$999,B21,Maestro!$A$2:$A$999,"<>",Maestro!$J$2:$J$999,"") -> 5 | G21: =COUNTIFS(Maestro!$A$2:$A$999,A21,Maestro!$B$2:$B$999,B21,Maestro!$L$2:$L$999,"SI") -> 8 | H21: =COUNTIFS(Maestro!$A$2:$A$999,A21,Maestro!$B$2:$B$999,B21,Maestro!$L$2:$L$999,"NO") -> 13 | I21: =COUNTIFS(Maestro!$A$2:$A$999,A21,Maestro!$B$2:$B$999,B21,Maestro!$A$2:$A$999,"<>",Maestro!$L$2:$L$999,"") -> 8 | J21: =D21+G21 -> 26
A22: OPA | B22: EDIFICIO | C22: =COUNTIFS(Maestro!$A$2:$A$999,A22,Maestro!$B$2:$B$999,B22) -> 5 | D22: =COUNTIFS(Maestro!$A$2:$A$999,A22,Maestro!$B$2:$B$999,B22,Maestro!$J$2:$J$999,"SI") -> 3 | E22: =COUNTIFS(Maestro!$A$2:$A$999,A22,Maestro!$B$2:$B$999,B22,Maestro!$J$2:$J$999,"NO") -> 0 | F22: =COUNTIFS(Maestro!$A$2:$A$999,A22,Maestro!$B$2:$B$999,B22,Maestro!$A$2:$A$999,"<>",Maestro!$J$2:$J$999,"") -> 2 | G22: =COUNTIFS(Maestro!$A$2:$A$999,A22,Maestro!$B$2:$B$999,B22,Maestro!$L$2:$L$999,"SI") -> 2 | H22: =COUNTIFS(Maestro!$A$2:$A$999,A22,Maestro!$B$2:$B$999,B22,Maestro!$L$2:$L$999,"NO") -> 1 | I22: =COUNTIFS(Maestro!$A$2:$A$999,A22,Maestro!$B$2:$B$999,B22,Maestro!$A$2:$A$999,"<>",Maestro!$L$2:$L$999,"") -> 2 | J22: =D22+G22 -> 5
A23: PRIZONA | B23: VIP | C23: =COUNTIFS(Maestro!$A$2:$A$999,A23,Maestro!$B$2:$B$999,B23) -> 0 | D23: =COUNTIFS(Maestro!$A$2:$A$999,A23,Maestro!$B$2:$B$999,B23,Maestro!$J$2:$J$999,"SI") -> 0 | E23: =COUNTIFS(Maestro!$A$2:$A$999,A23,Maestro!$B$2:$B$999,B23,Maestro!$J$2:$J$999,"NO") -> 0 | F23: =COUNTIFS(Maestro!$A$2:$A$999,A23,Maestro!$B$2:$B$999,B23,Maestro!$A$2:$A$999,"<>",Maestro!$J$2:$J$999,"") -> 0 | G23: =COUNTIFS(Maestro!$A$2:$A$999,A23,Maestro!$B$2:$B$999,B23,Maestro!$L$2:$L$999,"SI") -> 0 | H23: =COUNTIFS(Maestro!$A$2:$A$999,A23,Maestro!$B$2:$B$999,B23,Maestro!$L$2:$L$999,"NO") -> 0 | I23: =COUNTIFS(Maestro!$A$2:$A$999,A23,Maestro!$B$2:$B$999,B23,Maestro!$A$2:$A$999,"<>",Maestro!$L$2:$L$999,"") -> 0 | J23: =D23+G23 -> 0
A24: PRIZONA | B24: ROJA | C24: =COUNTIFS(Maestro!$A$2:$A$999,A24,Maestro!$B$2:$B$999,B24) -> 16 | D24: =COUNTIFS(Maestro!$A$2:$A$999,A24,Maestro!$B$2:$B$999,B24,Maestro!$J$2:$J$999,"SI") -> 8 | E24: =COUNTIFS(Maestro!$A$2:$A$999,A24,Maestro!$B$2:$B$999,B24,Maestro!$J$2:$J$999,"NO") -> 2 | F24: =COUNTIFS(Maestro!$A$2:$A$999,A24,Maestro!$B$2:$B$999,B24,Maestro!$A$2:$A$999,"<>",Maestro!$J$2:$J$999,"") -> 6 | G24: =COUNTIFS(Maestro!$A$2:$A$999,A24,Maestro!$B$2:$B$999,B24,Maestro!$L$2:$L$999,"SI") -> 0 | H24: =COUNTIFS(Maestro!$A$2:$A$999,A24,Maestro!$B$2:$B$999,B24,Maestro!$L$2:$L$999,"NO") -> 9 | I24: =COUNTIFS(Maestro!$A$2:$A$999,A24,Maestro!$B$2:$B$999,B24,Maestro!$A$2:$A$999,"<>",Maestro!$L$2:$L$999,"") -> 7 | J24: =D24+G24 -> 8
A25: PRIZONA | B25: VERDE | C25: =COUNTIFS(Maestro!$A$2:$A$999,A25,Maestro!$B$2:$B$999,B25) -> 66 | D25: =COUNTIFS(Maestro!$A$2:$A$999,A25,Maestro!$B$2:$B$999,B25,Maestro!$J$2:$J$999,"SI") -> 38 | E25: =COUNTIFS(Maestro!$A$2:$A$999,A25,Maestro!$B$2:$B$999,B25,Maestro!$J$2:$J$999,"NO") -> 12 | F25: =COUNTIFS(Maestro!$A$2:$A$999,A25,Maestro!$B$2:$B$999,B25,Maestro!$A$2:$A$999,"<>",Maestro!$J$2:$J$999,"") -> 16 | G25: =COUNTIFS(Maestro!$A$2:$A$999,A25,Maestro!$B$2:$B$999,B25,Maestro!$L$2:$L$999,"SI") -> 1 | H25: =COUNTIFS(Maestro!$A$2:$A$999,A25,Maestro!$B$2:$B$999,B25,Maestro!$L$2:$L$999,"NO") -> 65 | I25: =COUNTIFS(Maestro!$A$2:$A$999,A25,Maestro!$B$2:$B$999,B25,Maestro!$A$2:$A$999,"<>",Maestro!$L$2:$L$999,"") -> 0 | J25: =D25+G25 -> 39
A26: PRIZONA | B26: CELESTE | C26: =COUNTIFS(Maestro!$A$2:$A$999,A26,Maestro!$B$2:$B$999,B26) -> 62 | D26: =COUNTIFS(Maestro!$A$2:$A$999,A26,Maestro!$B$2:$B$999,B26,Maestro!$J$2:$J$999,"SI") -> 38 | E26: =COUNTIFS(Maestro!$A$2:$A$999,A26,Maestro!$B$2:$B$999,B26,Maestro!$J$2:$J$999,"NO") -> 15 | F26: =COUNTIFS(Maestro!$A$2:$A$999,A26,Maestro!$B$2:$B$999,B26,Maestro!$A$2:$A$999,"<>",Maestro!$J$2:$J$999,"") -> 9 | G26: =COUNTIFS(Maestro!$A$2:$A$999,A26,Maestro!$B$2:$B$999,B26,Maestro!$L$2:$L$999,"SI") -> 19 | H26: =COUNTIFS(Maestro!$A$2:$A$999,A26,Maestro!$B$2:$B$999,B26,Maestro!$L$2:$L$999,"NO") -> 42 | I26: =COUNTIFS(Maestro!$A$2:$A$999,A26,Maestro!$B$2:$B$999,B26,Maestro!$A$2:$A$999,"<>",Maestro!$L$2:$L$999,"") -> 1 | J26: =D26+G26 -> 57
A27: PRIZONA | B27: EDIFICIO | C27: =COUNTIFS(Maestro!$A$2:$A$999,A27,Maestro!$B$2:$B$999,B27) -> 0 | D27: =COUNTIFS(Maestro!$A$2:$A$999,A27,Maestro!$B$2:$B$999,B27,Maestro!$J$2:$J$999,"SI") -> 0 | E27: =COUNTIFS(Maestro!$A$2:$A$999,A27,Maestro!$B$2:$B$999,B27,Maestro!$J$2:$J$999,"NO") -> 0 | F27: =COUNTIFS(Maestro!$A$2:$A$999,A27,Maestro!$B$2:$B$999,B27,Maestro!$A$2:$A$999,"<>",Maestro!$J$2:$J$999,"") -> 0 | G27: =COUNTIFS(Maestro!$A$2:$A$999,A27,Maestro!$B$2:$B$999,B27,Maestro!$L$2:$L$999,"SI") -> 0 | H27: =COUNTIFS(Maestro!$A$2:$A$999,A27,Maestro!$B$2:$B$999,B27,Maestro!$L$2:$L$999,"NO") -> 0 | I27: =COUNTIFS(Maestro!$A$2:$A$999,A27,Maestro!$B$2:$B$999,B27,Maestro!$A$2:$A$999,"<>",Maestro!$L$2:$L$999,"") -> 0 | J27: =D27+G27 -> 0
A28: TOTAL | B28: GENERAL | C28: =SUM(C18:C27) -> 313 | D28: =SUM(D18:D27) -> 183 | E28: =SUM(E18:E27) -> 61 | F28: =SUM(F18:F27) -> 69 | G28: =SUM(G18:G27) -> 60 | H28: =SUM(H18:H27) -> 209 | I28: =SUM(I18:I27) -> 44 | J28: =SUM(J18:J27) -> 243
A31: RESUMEN POR ORIGEN
A32: ORIGEN | B32: TOTAL INVITADOS | C32: INVITADO SI | D32: INVITADO NO | E32: INVITADO PENDIENTE | F32: ACOMP. SI | G32: ACOMP. NO | H32: ACOMP. PEND. | I32: TOTAL PERSONAS ASISTENTES | J32: % CONFIRMACIÓN INVITADO
A33: OPA | B33: =COUNTIF(Maestro!$A$2:$A$999,A33) -> 169 | C33: =COUNTIFS(Maestro!$A$2:$A$999,A33,Maestro!$J$2:$J$999,"SI") -> 99 | D33: =COUNTIFS(Maestro!$A$2:$A$999,A33,Maestro!$J$2:$J$999,"NO") -> 32 | E33: =COUNTIFS(Maestro!$A$2:$A$999,A33,Maestro!$A$2:$A$999,"<>",Maestro!$J$2:$J$999,"") -> 38 | F33: =COUNTIFS(Maestro!$A$2:$A$999,A33,Maestro!$L$2:$L$999,"SI") -> 40 | G33: =COUNTIFS(Maestro!$A$2:$A$999,A33,Maestro!$L$2:$L$999,"NO") -> 93 | H33: =COUNTIFS(Maestro!$A$2:$A$999,A33,Maestro!$A$2:$A$999,"<>",Maestro!$L$2:$L$999,"") -> 36 | I33: =C33+F33 -> 139 | J33: =IFERROR(C33/B33,0) -> 0.58579882
A34: PRIZONA | B34: =COUNTIF(Maestro!$A$2:$A$999,A34) -> 144 | C34: =COUNTIFS(Maestro!$A$2:$A$999,A34,Maestro!$J$2:$J$999,"SI") -> 84 | D34: =COUNTIFS(Maestro!$A$2:$A$999,A34,Maestro!$J$2:$J$999,"NO") -> 29 | E34: =COUNTIFS(Maestro!$A$2:$A$999,A34,Maestro!$A$2:$A$999,"<>",Maestro!$J$2:$J$999,"") -> 31 | F34: =COUNTIFS(Maestro!$A$2:$A$999,A34,Maestro!$L$2:$L$999,"SI") -> 20 | G34: =COUNTIFS(Maestro!$A$2:$A$999,A34,Maestro!$L$2:$L$999,"NO") -> 116 | H34: =COUNTIFS(Maestro!$A$2:$A$999,A34,Maestro!$A$2:$A$999,"<>",Maestro!$L$2:$L$999,"") -> 8 | I34: =C34+F34 -> 104 | J34: =IFERROR(C34/B34,0) -> 0.58333333
A35: TOTAL | B35: =SUM(B33:B34) -> 313 | C35: =SUM(C33:C34) -> 183 | D35: =SUM(D33:D34) -> 61 | E35: =SUM(E33:E34) -> 69 | F35: =SUM(F33:F34) -> 60 | G35: =SUM(G33:G34) -> 209 | H35: =SUM(H33:H34) -> 44 | I35: =SUM(I33:I34) -> 243 | J35: =IFERROR(C35/B35,0) -> 0.58466454
A38: LISTADOS DINÁMICOS DE CONTROL DE ACCESO
A39: LISTADO | B39: TOTAL REGISTROS | C39: TOTAL PERSONAS | D39: ACCESO
A40: Invitados titulares confirmados | B40: =COUNTIF(Maestro!$J$2:$J$999,"SI") -> 183 | C40: =B40 -> 183 | D40: Ver pestaña Asistencia Titular
A41: Acompañantes confirmados | B41: =COUNTIFS(Maestro!$J$2:$J$999,"SI",Maestro!$L$2:$L$999,"SI") -> 60 | C41: =B41 -> 60 | D41: Ver pestaña Asistencia Acompañante

Sheet Asistencia Titular
A1: ASISTENCIA TITULAR - CONTROL DE ACCESO DE INVITADOS
A2: Total titulares confirmados | B2: =COUNTIF(Maestro!$J$2:$J$999,"SI") -> 183 | D2: Listado automático desde Maestro: solo invitados con Asistencia invitado = SI.
A3: Origen invitación | B3: Tribuna | C3: N° | D3: Grado | E3: Vocativo | F3: Apellido 1 | G3: Apellido 2 | H3: Nombres | I3: Cargo | J3: Asistencia invitado | K3: Representante
A4: =IFERROR(INDEX(Maestro!$A$2:$A$999,MATCH(ROWS($A$4:A4),Maestro!$O$2:$O$999,0)),"") -> OPA | B4: =IFERROR(INDEX(Maestro!$B$2:$B$999,MATCH(ROWS($A$4:A4),Maestro!$O$2:$O$999,0)),"") -> VIP | C4: =IFERROR(INDEX(Maestro!$C$2:$C$999,MATCH(ROWS($A$4:A4),Maestro!$O$2:$O$999,0)),"") -> 1 | D4: =IFERROR(INDEX(Maestro!$D$2:$D$999,MATCH(ROWS($A$4:A4),Maestro!$O$2:$O$999,0)),"") -> Su Excelencia | E4: =IFERROR(INDEX(Maestro!$E$2:$E$999,MATCH(ROWS($A$4:A4),Maestro!$O$2:$O$999,0)),"") -> Señor | F4: =IFERROR(INDEX(Maestro!$F$2:$F$999,MATCH(ROWS($A$4:A4),Maestro!$O$2:$O$999,0)),"") -> Kast | G4: =IFERROR(INDEX(Maestro!$G$2:$G$999,MATCH(ROWS($A$4:A4),Maestro!$O$2:$O$999,0)),"") -> Rist | H4: =IFERROR(INDEX(Maestro!$H$2:$H$999,MATCH(ROWS($A$4:A4),Maestro!$O$2:$O$999,0)),"") -> José Antonio | I4: =IFERROR(INDEX(Maestro!$I$2:$I$999,MATCH(ROWS($A$4:A4),Maestro!$O$2:$O$999,0)),"") -> Presidente de la República | J4: =IFERROR(INDEX(Maestro!$J$2:$J$999,MATCH(ROWS($A$4:A4),Maestro!$O$2:$O$999,0)),"") -> SI | K4: =IFERROR(INDEX(Maestro!$M$2:$M$999,MATCH(ROWS($A$4:A4),Maestro!$O$2:$O$999,0)),"") -> 0
A5: =IFERROR(INDEX(Maestro!$A$2:$A$999,MATCH(ROWS($A$4:A5),Maestro!$O$2:$O$999,0)),"") -> OPA | B5: =IFERROR(INDEX(Maestro!$B$2:$B$999,MATCH(ROWS($A$4:A5),Maestro!$O$2:$O$999,0)),"") -> VIP | C5: =IFERROR(INDEX(Maestro!$C$2:$C$999,MATCH(ROWS($A$4:A5),Maestro!$O$2:$O$999,0)),"") -> 2 | D5: =IFERROR(INDEX(Maestro!$D$2:$D$999,MATCH(ROWS($A$4:A5),Maestro!$O$2:$O$999,0)),"") -> Ministro | E5: =IFERROR(INDEX(Maestro!$E$2:$E$999,MATCH(ROWS($A$4:A5),Maestro!$O$2:$O$999,0)),"") -> Señor | F5: =IFERROR(INDEX(Maestro!$F$2:$F$999,MATCH(ROWS($A$4:A5),Maestro!$O$2:$O$999,0)),"") -> Barros | G5: =IFERROR(INDEX(Maestro!$G$2:$G$999,MATCH(ROWS($A$4:A5),Maestro!$O$2:$O$999,0)),"") -> Tocornal | H5: =IFERROR(INDEX(Maestro!$H$2:$H$999,MATCH(ROWS($A$4:A5),Maestro!$O$2:$O$999,0)),"") -> Fernando | I5: =IFERROR(INDEX(Maestro!$I$2:$I$999,MATCH(ROWS($A$4:A5),Maestro!$O$2:$O$999,0)),"") -> Ministro de Defensa Nacional | J5: =IFERROR(INDEX(Maestro!$J$2:$J$999,MATCH(ROWS($A$4:A5),Maestro!$O$2:$O$999,0)),"") -> SI | K5: =IFERROR(INDEX(Maestro!$M$2:$M$999,MATCH(ROWS($A$4:A5),Maestro!$O$2:$O$999,0)),"") -> 0
A6: =IFERROR(INDEX(Maestro!$A$2:$A$999,MATCH(ROWS($A$4:A6),Maestro!$O$2:$O$999,0)),"") -> OPA | B6: =IFERROR(INDEX(Maestro!$B$2:$B$999,MATCH(ROWS($A$4:A6),Maestro!$O$2:$O$999,0)),"") -> VIP | C6: =IFERROR(INDEX(Maestro!$C$2:$C$999,MATCH(ROWS($A$4:A6),Maestro!$O$2:$O$999,0)),"") -> 3 | D6: =IFERROR(INDEX(Maestro!$D$2:$D$999,MATCH(ROWS($A$4:A6),Maestro!$O$2:$O$999,0)),"") -> Almirante | E6: =IFERROR(INDEX(Maestro!$E$2:$E$999,MATCH(ROWS($A$4:A6),Maestro!$O$2:$O$999,0)),"") -> Señor | F6: =IFERROR(INDEX(Maestro!$F$2:$F$999,MATCH(ROWS($A$4:A6),Maestro!$O$2:$O$999,0)),"") -> Cabrera | G6: =IFERROR(INDEX(Maestro!$G$2:$G$999,MATCH(ROWS($A$4:A6),Maestro!$O$2:$O$999,0)),"") -> Salazar | H6: =IFERROR(INDEX(Maestro!$H$2:$H$999,MATCH(ROWS($A$4:A6),Maestro!$O$2:$O$999,0)),"") -> Fernando | I6: =IFERROR(INDEX(Maestro!$I$2:$I$999,MATCH(ROWS($A$4:A6),Maestro!$O$2:$O$999,0)),"") -> Comandante en Jefe de la Armada | J6: =IFERROR(INDEX(Maestro!$J$2:$J$999,MATCH(ROWS($A$4:A6),Maestro!$O$2:$O$999,0)),"") -> SI | K6: =IFERROR(INDEX(Maestro!$M$2:$M$999,MATCH(ROWS($A$4:A6),Maestro!$O$2:$O$999,0)),"") -> 0
A7: =IFERROR(INDEX(Maestro!$A$2:$A$999,MATCH(ROWS($A$4:A7),Maestro!$O$2:$O$999,0)),"") -> OPA | B7: =IFERROR(INDEX(Maestro!$B$2:$B$999,MATCH(ROWS($A$4:A7),Maestro!$O$2:$O$999,0)),"") -> VIP | C7: =IFERROR(INDEX(Maestro!$C$2:$C$999,MATCH(ROWS($A$4:A7),Maestro!$O$2:$O$999,0)),"") -> 5 | D7: =IFERROR(INDEX(Maestro!$D$2:$D$999,MATCH(ROWS($A$4:A7),Maestro!$O$2:$O$999,0)),"") -> Honorable Senadora | E7: =IFERROR(INDEX(Maestro!$E$2:$E$999,MATCH(ROWS($A$4:A7),Maestro!$O$2:$O$999,0)),"") -> Señora | F7: =IFERROR(INDEX(Maestro!$F$2:$F$999,MATCH(ROWS($A$4:A7),Maestro!$O$2:$O$999,0)),"") -> Núñez | G7: =IFERROR(INDEX(Maestro!$G$2:$G$999,MATCH(ROWS($A$4:A7),Maestro!$O$2:$O$999,0)),"") -> Urrutia | H7: =IFERROR(INDEX(Maestro!$H$2:$H$999,MATCH(ROWS($A$4:A7),Maestro!$O$2:$O$999,0)),"") -> Paulina | I7: =IFERROR(INDEX(Maestro!$I$2:$I$999,MATCH(ROWS($A$4:A7),Maestro!$O$2:$O$999,0)),"") -> Presidenta del Senado | J7: =IFERROR(INDEX(Maestro!$J$2:$J$999,MATCH(ROWS($A$4:A7),Maestro!$O$2:$O$999,0)),"") -> SI | K7: =IFERROR(INDEX(Maestro!$M$2:$M$999,MATCH(ROWS($A$4:A7),Maestro!$O$2:$O$999,0)),"") -> 0
A8: =IFERROR(INDEX(Maestro!$A$2:$A$999,MATCH(ROWS($A$4:A8),Maestro!$O$2:$O$999,0)),"") -> OPA | B8: =IFERROR(INDEX(Maestro!$B$2:$B$999,MATCH(ROWS($A$4:A8),Maestro!$O$2:$O$999,0)),"") -> VIP | C8: =IFERROR(INDEX(Maestro!$C$2:$C$999,MATCH(ROWS($A$4:A8),Maestro!$O$2:$O$999,0)),"") -> 6 | D8: =IFERROR(INDEX(Maestro!$D$2:$D$999,MATCH(ROWS($A$4:A8),Maestro!$O$2:$O$999,0)),"") -> Excelentísima | E8: =IFERROR(INDEX(Maestro!$E$2:$E$999,MATCH(ROWS($A$4:A8),Maestro!$O$2:$O$999,0)),"") -> Señora | F8: =IFERROR(INDEX(Maestro!$F$2:$F$999,MATCH(ROWS($A$4:A8),Maestro!$O$2:$O$999,0)),"") -> Chevesich (Quevesich) | G8: =IFERROR(INDEX(Maestro!$G$2:$G$999,MATCH(ROWS($A$4:A8),Maestro!$O$2:$O$999,0)),"") -> Ruíz | H8: =IFERROR(INDEX(Maestro!$H$2:$H$999,MATCH(ROWS($A$4:A8),Maestro!$O$2:$O$999,0)),"") -> Gloria Ana | I8: =IFERROR(INDEX(Maestro!$I$2:$I$999,MATCH(ROWS($A$4:A8),Maestro!$O$2:$O$999,0)),"") -> Presidenta de la Excelentísima Corte Suprema de Justicia | J8: =IFERROR(INDEX(Maestro!$J$2:$J$999,MATCH(ROWS($A$4:A8),Maestro!$O$2:$O$999,0)),"") -> SI | K8: =IFERROR(INDEX(Maestro!$M$2:$M$999,MATCH(ROWS($A$4:A8),Maestro!$O$2:$O$999,0)),"") -> 0
A9: =IFERROR(INDEX(Maestro!$A$2:$A$999,MATCH(ROWS($A$4:A9),Maestro!$O$2:$O$999,0)),"") -> OPA | B9: =IFERROR(INDEX(Maestro!$B$2:$B$999,MATCH(ROWS($A$4:A9),Maestro!$O$2:$O$999,0)),"") -> VIP | C9: =IFERROR(INDEX(Maestro!$C$2:$C$999,MATCH(ROWS($A$4:A9),Maestro!$O$2:$O$999,0)),"") -> 7 | D9: =IFERROR(INDEX(Maestro!$D$2:$D$999,MATCH(ROWS($A$4:A9),Maestro!$O$2:$O$999,0)),"") -> Honorable Diputado | E9: =IFERROR(INDEX(Maestro!$E$2:$E$999,MATCH(ROWS($A$4:A9),Maestro!$O$2:$O$999,0)),"") -> Señor | F9: =IFERROR(INDEX(Maestro!$F$2:$F$999,MATCH(ROWS($A$4:A9),Maestro!$O$2:$O$999,0)),"") -> Alessandri | G9: =IFERROR(INDEX(Maestro!$G$2:$G$999,MATCH(ROWS($A$4:A9),Maestro!$O$2:$O$999,0)),"") -> Vergara | H9: =IFERROR(INDEX(Maestro!$H$2:$H$999,MATCH(ROWS($A$4:A9),Maestro!$O$2:$O$999,0)),"") -> Jorge | I9: =IFERROR(INDEX(Maestro!$I$2:$I$999,MATCH(ROWS($A$4:A9),Maestro!$O$2:$O$999,0)),"") -> Presidente de la Cámara de Diputadas y Diputados | J9: =IFERROR(INDEX(Maestro!$J$2:$J$999,MATCH(ROWS($A$4:A9),Maestro!$O$2:$O$999,0)),"") -> SI | K9: =IFERROR(INDEX(Maestro!$M$2:$M$999,MATCH(ROWS($A$4:A9),Maestro!$O$2:$O$999,0)),"") -> 0
A10: =IFERROR(INDEX(Maestro!$A$2:$A$999,MATCH(ROWS($A$4:A10),Maestro!$O$2:$O$999,0)),"") -> OPA | B10: =IFERROR(INDEX(Maestro!$B$2:$B$999,MATCH(ROWS($A$4:A10),Maestro!$O$2:$O$999,0)),"") -> VIP | C10: =IFERROR(INDEX(Maestro!$C$2:$C$999,MATCH(ROWS($A$4:A10),Maestro!$O$2:$O$999,0)),"") -> 8 | D10: =IFERROR(INDEX(Maestro!$D$2:$D$999,MATCH(ROWS($A$4:A10),Maestro!$O$2:$O$999,0)),"") -> Arzobispo | E10: =IFERROR(INDEX(Maestro!$E$2:$E$999,MATCH(ROWS($A$4:A10),Maestro!$O$2:$O$999,0)),"") -> Monseñor | F10: =IFERROR(INDEX(Maestro!$F$2:$F$999,MATCH(ROWS($A$4:A10),Maestro!$O$2:$O$999,0)),"") -> Chomali | G10: =IFERROR(INDEX(Maestro!$G$2:$G$999,MATCH(ROWS($A$4:A10),Maestro!$O$2:$O$999,0)),"") -> Garib | H10: =IFERROR(INDEX(Maestro!$H$2:$H$999,MATCH(ROWS($A$4:A10),Maestro!$O$2:$O$999,0)),"") -> Fernando | I10: =IFERROR(INDEX(Maestro!$I$2:$I$999,MATCH(ROWS($A$4:A10),Maestro!$O$2:$O$999,0)),"") -> Arzobispo de Santiago | J10: =IFERROR(INDEX(Maestro!$J$2:$J$999,MATCH(ROWS($A$4:A10),Maestro!$O$2:$O$999,0)),"") -> SI | K10: =IFERROR(INDEX(Maestro!$M$2:$M$999,MATCH(ROWS($A$4:A10),Maestro!$O$2:$O$999,0)),"") -> 0
A11: =IFERROR(INDEX(Maestro!$A$2:$A$999,MATCH(ROWS($A$4:A11),Maestro!$O$2:$O$999,0)),"") -> OPA | B11: =IFERROR(INDEX(Maestro!$B$2:$B$999,MATCH(ROWS($A$4:A11),Maestro!$O$2:$O$999,0)),"") -> VIP | C11: =IFERROR(INDEX(Maestro!$C$2:$C$999,MATCH(ROWS($A$4:A11),Maestro!$O$2:$O$999,0)),"") -> 9 | D11: =IFERROR(INDEX(Maestro!$D$2:$D$999,MATCH(ROWS($A$4:A11),Maestro!$O$2:$O$999,0)),"") -> Obispo | E11: =IFERROR(INDEX(Maestro!$E$2:$E$999,MATCH(ROWS($A$4:A11),Maestro!$O$2:$O$999,0)),"") -> Señor | F11: =IFERROR(INDEX(Maestro!$F$2:$F$999,MATCH(ROWS($A$4:A11),Maestro!$O$2:$O$999,0)),"") -> Cancino | G11: =IFERROR(INDEX(Maestro!$G$2:$G$999,MATCH(ROWS($A$4:A11),Maestro!$O$2:$O$999,0)),"") -> del Valle | H11: =IFERROR(INDEX(Maestro!$H$2:$H$999,MATCH(ROWS($A$4:A11),Maestro!$O$2:$O$999,0)),"") -> Héctor | I11: =IFERROR(INDEX(Maestro!$I$2:$I$999,MATCH(ROWS($A$4:A11),Maestro!$O$2:$O$999,0)),"") -> Alto Representante de las Iglesias Evangélicas | J11: =IFERROR(INDEX(Maestro!$J$2:$J$999,MATCH(ROWS($A$4:A11),Maestro!$O$2:$O$999,0)),"") -> SI | K11: =IFERROR(INDEX(Maestro!$M$2:$M$999,MATCH(ROWS($A$4:A11),Maestro!$O$2:$O$999,0)),"") -> 0
A12: =IFERROR(INDEX(Maestro!$A$2:$A$999,MATCH(ROWS($A$4:A12),Maestro!$O$2:$O$999,0)),"") -> OPA | B12: =IFERROR(INDEX(Maestro!$B$2:$B$999,MATCH(ROWS($A$4:A12),Maestro!$O$2:$O$999,0)),"") -> VIP | C12: =IFERROR(INDEX(Maestro!$C$2:$C$999,MATCH(ROWS($A$4:A12),Maestro!$O$2:$O$999,0)),"") -> 10 | D12: =IFERROR(INDEX(Maestro!$D$2:$D$999,MATCH(ROWS($A$4:A12),Maestro!$O$2:$O$999,0)),"") -> 0 | E12: =IFERROR(INDEX(Maestro!$E$2:$E$999,MATCH(ROWS($A$4:A12),Maestro!$O$2:$O$999,0)),"") -> Señora | F12: =IFERROR(INDEX(Maestro!$F$2:$F$999,MATCH(ROWS($A$4:A12),Maestro!$O$2:$O$999,0)),"") -> Marzi | G12: =IFERROR(INDEX(Maestro!$G$2:$G$999,MATCH(ROWS($A$4:A12),Maestro!$O$2:$O$999,0)),"") -> Muñoz | H12: =IFERROR(INDEX(Maestro!$H$2:$H$999,MATCH(ROWS($A$4:A12),Maestro!$O$2:$O$999,0)),"") -> Daniela | I12: =IFERROR(INDEX(Maestro!$I$2:$I$999,MATCH(ROWS($A$4:A12),Maestro!$O$2:$O$999,0)),"") -> Presidenta del Tribunal Constitucional | J12: =IFERROR(INDEX(Maestro!$J$2:$J$999,MATCH(ROWS($A$4:A12),Maestro!$O$2:$O$999,0)),"") -> SI | K12: =IFERROR(INDEX(Maestro!$M$2:$M$999,MATCH(ROWS($A$4:A12),Maestro!$O$2:$O$999,0)),"") -> 0
A13: =IFERROR(INDEX(Maestro!$A$2:$A$999,MATCH(ROWS($A$4:A13),Maestro!$O$2:$O$999,0)),"") -> OPA | B13: =IFERROR(INDEX(Maestro!$B$2:$B$999,MATCH(ROWS($A$4:A13),Maestro!$O$2:$O$999,0)),"") -> VIP | C13: =IFERROR(INDEX(Maestro!$C$2:$C$999,MATCH(ROWS($A$4:A13),Maestro!$O$2:$O$999,0)),"") -> 11 | D13: =IFERROR(INDEX(Maestro!$D$2:$D$999,MATCH(ROWS($A$4:A13),Maestro!$O$2:$O$999,0)),"") -> 0 | E13: =IFERROR(INDEX(Maestro!$E$2:$E$999,MATCH(ROWS($A$4:A13),Maestro!$O$2:$O$999,0)),"") -> Señora | F13: =IFERROR(INDEX(Maestro!$F$2:$F$999,MATCH(ROWS($A$4:A13),Maestro!$O$2:$O$999,0)),"") -> Pérez | G13: =IFERROR(INDEX(Maestro!$G$2:$G$999,MATCH(ROWS($A$4:A13),Maestro!$O$2:$O$999,0)),"") -> Gutiérrez | H13: =IFERROR(INDEX(Maestro!$H$2:$H$999,MATCH(ROWS($A$4:A13),Maestro!$O$2:$O$999,0)),"") -> Dorothy | I13: =IFERROR(INDEX(Maestro!$I$2:$I$999,MATCH(ROWS($A$4:A13),Maestro!$O$2:$O$999,0)),"") -> Contralora General de la República | J13: =IFERROR(INDEX(Maestro!$J$2:$J$999,MATCH(ROWS($A$4:A13),Maestro!$O$2:$O$999,0)),"") -> SI | K13: =IFERROR(INDEX(Maestro!$M$2:$M$999,MATCH(ROWS($A$4:A13),Maestro!$O$2:$O$999,0)),"") -> 0
A14: =IFERROR(INDEX(Maestro!$A$2:$A$999,MATCH(ROWS($A$4:A14),Maestro!$O$2:$O$999,0)),"") -> OPA | B14: =IFERROR(INDEX(Maestro!$B$2:$B$999,MATCH(ROWS($A$4:A14),Maestro!$O$2:$O$999,0)),"") -> VIP | C14: =IFERROR(INDEX(Maestro!$C$2:$C$999,MATCH(ROWS($A$4:A14),Maestro!$O$2:$O$999,0)),"") -> 12 | D14: =IFERROR(INDEX(Maestro!$D$2:$D$999,MATCH(ROWS($A$4:A14),Maestro!$O$2:$O$999,0)),"") -> 0 | E14: =IFERROR(INDEX(Maestro!$E$2:$E$999,MATCH(ROWS($A$4:A14),Maestro!$O$2:$O$999,0)),"") -> Señor | F14: =IFERROR(INDEX(Maestro!$F$2:$F$999,MATCH(ROWS($A$4:A14),Maestro!$O$2:$O$999,0)),"") -> Valencia Garrido Bedwell, Roberto | G14: =IFERROR(INDEX(Maestro!$G$2:$G$999,MATCH(ROWS($A$4:A14),Maestro!$O$2:$O$999,0)),"") -> Vásquez | H14: =IFERROR(INDEX(Maestro!$H$2:$H$999,MATCH(ROWS($A$4:A14),Maestro!$O$2:$O$999,0)),"") -> Ángel | I14: =IFERROR(INDEX(Maestro!$I$2:$I$999,MATCH(ROWS($A$4:A14),Maestro!$O$2:$O$999,0)),"") -> Fiscal Nacional del Ministerio Público | J14: =IFERROR(INDEX(Maestro!$J$2:$J$999,MATCH(ROWS($A$4:A14),Maestro!$O$2:$O$999,0)),"") -> SI | K14: =IFERROR(INDEX(Maestro!$M$2:$M$999,MATCH(ROWS($A$4:A14),Maestro!$O$2:$O$999,0)),"") -> Garrido Bedwell, Roberto
A15: =IFERROR(INDEX(Maestro!$A$2:$A$999,MATCH(ROWS($A$4:A15),Maestro!$O$2:$O$999,0)),"") -> OPA | B15: =IFERROR(INDEX(Maestro!$B$2:$B$999,MATCH(ROWS($A$4:A15),Maestro!$O$2:$O$999,0)),"") -> VIP | C15: =IFERROR(INDEX(Maestro!$C$2:$C$999,MATCH(ROWS($A$4:A15),Maestro!$O$2:$O$999,0)),"") -> 16 | D15: =IFERROR(INDEX(Maestro!$D$2:$D$999,MATCH(ROWS($A$4:A15),Maestro!$O$2:$O$999,0)),"") -> General de Ejército | E15: =IFERROR(INDEX(Maestro!$E$2:$E$999,MATCH(ROWS($A$4:A15),Maestro!$O$2:$O$999,0)),"") -> Señor | F15: =IFERROR(INDEX(Maestro!$F$2:$F$999,MATCH(ROWS($A$4:A15),Maestro!$O$2:$O$999,0)),"") -> Varela | G15: =IFERROR(INDEX(Maestro!$G$2:$G$999,MATCH(ROWS($A$4:A15),Maestro!$O$2:$O$999,0)),"") -> Sabando | H15: =IFERROR(INDEX(Maestro!$H$2:$H$999,MATCH(ROWS($A$4:A15),Maestro!$O$2:$O$999,0)),"") -> Pedro | I15: =IFERROR(INDEX(Maestro!$I$2:$I$999,MATCH(ROWS($A$4:A15),Maestro!$O$2:$O$999,0)),"") -> Comandante en Jefe del Ejército | J15: =IFERROR(INDEX(Maestro!$J$2:$J$999,MATCH(ROWS($A$4:A15),Maestro!$O$2:$O$999,0)),"") -> SI | K15: =IFERROR(INDEX(Maestro!$M$2:$M$999,MATCH(ROWS($A$4:A15),Maestro!$O$2:$O$999,0)),"") -> 0
... A503: =IFERROR(INDEX(Maestro!$A$2:$A$999,MATCH(ROWS($A$4:A503),Maestro!$O$2:$O$999,0)),"") | B503: =IFERROR(INDEX(Maestro!$B$2:$B$999,MATCH(ROWS($A$4:A503),Maestro!$O$2:$O$999,0)),"") | C503: =IFERROR(INDEX(Maestro!$C$2:$C$999,MATCH(ROWS($A$4:A503),Maestro!$O$2:$O$999,0)),"") | D503: =IFERROR(INDEX(Maestro!$D$2:$D$999,MATCH(ROWS($A$4:A503),Maestro!$O$2:$O$999,0)),"") | E503: =IFERROR(INDEX(Maestro!$E$2:$E$999,MATCH(ROWS($A$4:A503),Maestro!$O$2:$O$999,0)),"") | F503: =IFERROR(INDEX(Maestro!$F$2:$F$999,MATCH(ROWS($A$4:A503),Maestro!$O$2:$O$999,0)),"") | G503: =IFERROR(INDEX(Maestro!$G$2:$G$999,MATCH(ROWS($A$4:A503),Maestro!$O$2:$O$999,0)),"") | H503: =IFERROR(INDEX(Maestro!$H$2:$H$999,MATCH(ROWS($A$4:A503),Maestro!$O$2:$O$999,0)),"") | I503: =IFERROR(INDEX(Maestro!$I$2:$I$999,MATCH(ROWS($A$4:A503),Maestro!$O$2:$O$999,0)),"") | J503: =IFERROR(INDEX(Maestro!$J$2:$J$999,MATCH(ROWS($A$4:A503),Maestro!$O$2:$O$999,0)),"") | K503: =IFERROR(INDEX(Maestro!$M$2:$M$999,MATCH(ROWS($A$4:A503),Maestro!$O$2:$O$999,0)),"")

Sheet Asistencia Acompañante
A1: Asistencia Acompañante - Control De Acceso De Acompañantes
A2: Total Acompañantes Confirmados | B2: =COUNTIFS(Maestro!$J$2:$J$999,"SI",Maestro!$L$2:$L$999,"SI") -> 60 | D2: Listado Automático Desde Maestro: Solo Titulares Que Asisten Y Acompañante = Si.
A3: Origen Invitación | B3: Tribuna Titular | C3: N° Titular | D3: Invitado Titular | E3: Cargo Titular | F3: Acompañante | G3: Asistencia Acompañante | H3: Representante
A4: =IFERROR(INDEX(Maestro!$A$2:$A$999,MATCH(ROWS($A$4:A4),Maestro!$P$2:$P$999,0)),"") -> OPA | B4: =IFERROR(INDEX(Maestro!$B$2:$B$999,MATCH(ROWS($A$4:A4),Maestro!$P$2:$P$999,0)),"") -> VIP | C4: =IFERROR(INDEX(Maestro!$C$2:$C$999,MATCH(ROWS($A$4:A4),Maestro!$P$2:$P$999,0)),"") -> 1 | D4: =IFERROR(TRIM(INDEX(Maestro!$F$2:$F$999,MATCH(ROWS($A$4:A4),Maestro!$P$2:$P$999,0))&" "&INDEX(Maestro!$G$2:$G$999,MATCH(ROWS($A$4:A4),Maestro!$P$2:$P$999,0))&", "&INDEX(Maestro!$H$2:$H$999,MATCH(ROWS($A$4:A4),Maestro!$P$2:$P$999,0))),"") -> Kast Rist, José Antonio | E4: =IFERROR(INDEX(Maestro!$I$2:$I$999,MATCH(ROWS($A$4:A4),Maestro!$P$2:$P$999,0)),"") -> Presidente de la República | F4: =IFERROR(INDEX(Maestro!$K$2:$K$999,MATCH(ROWS($A$4:A4),Maestro!$P$2:$P$999,0)),"") -> Adriasola, María Pía | G4: =IFERROR(INDEX(Maestro!$L$2:$L$999,MATCH(ROWS($A$4:A4),Maestro!$P$2:$P$999,0)),"") -> SI | H4: =IFERROR(INDEX(Maestro!$M$2:$M$999,MATCH(ROWS($A$4:A4),Maestro!$P$2:$P$999,0)),"") -> 0
A5: =IFERROR(INDEX(Maestro!$A$2:$A$999,MATCH(ROWS($A$4:A5),Maestro!$P$2:$P$999,0)),"") -> OPA | B5: =IFERROR(INDEX(Maestro!$B$2:$B$999,MATCH(ROWS($A$4:A5),Maestro!$P$2:$P$999,0)),"") -> VIP | C5: =IFERROR(INDEX(Maestro!$C$2:$C$999,MATCH(ROWS($A$4:A5),Maestro!$P$2:$P$999,0)),"") -> 2 | D5: =IFERROR(TRIM(INDEX(Maestro!$F$2:$F$999,MATCH(ROWS($A$4:A5),Maestro!$P$2:$P$999,0))&" "&INDEX(Maestro!$G$2:$G$999,MATCH(ROWS($A$4:A5),Maestro!$P$2:$P$999,0))&", "&INDEX(Maestro!$H$2:$H$999,MATCH(ROWS($A$4:A5),Maestro!$P$2:$P$999,0))),"") -> Barros Tocornal, Fernando | E5: =IFERROR(INDEX(Maestro!$I$2:$I$999,MATCH(ROWS($A$4:A5),Maestro!$P$2:$P$999,0)),"") -> Ministro de Defensa Nacional | F5: =IFERROR(INDEX(Maestro!$K$2:$K$999,MATCH(ROWS($A$4:A5),Maestro!$P$2:$P$999,0)),"") -> Vial Echeverría, Natalia | G5: =IFERROR(INDEX(Maestro!$L$2:$L$999,MATCH(ROWS($A$4:A5),Maestro!$P$2:$P$999,0)),"") -> SI | H5: =IFERROR(INDEX(Maestro!$M$2:$M$999,MATCH(ROWS($A$4:A5),Maestro!$P$2:$P$999,0)),"") -> 0
A6: =IFERROR(INDEX(Maestro!$A$2:$A$999,MATCH(ROWS($A$4:A6),Maestro!$P$2:$P$999,0)),"") -> OPA | B6: =IFERROR(INDEX(Maestro!$B$2:$B$999,MATCH(ROWS($A$4:A6),Maestro!$P$2:$P$999,0)),"") -> VIP | C6: =IFERROR(INDEX(Maestro!$C$2:$C$999,MATCH(ROWS($A$4:A6),Maestro!$P$2:$P$999,0)),"") -> 3 | D6: =IFERROR(TRIM(INDEX(Maestro!$F$2:$F$999,MATCH(ROWS($A$4:A6),Maestro!$P$2:$P$999,0))&" "&INDEX(Maestro!$G$2:$G$999,MATCH(ROWS($A$4:A6),Maestro!$P$2:$P$999,0))&", "&INDEX(Maestro!$H$2:$H$999,MATCH(ROWS($A$4:A6),Maestro!$P$2:$P$999,0))),"") -> Cabrera Salazar, Fernando | E6: =IFERROR(INDEX(Maestro!$I$2:$I$999,MATCH(ROWS($A$4:A6),Maestro!$P$2:$P$999,0)),"") -> Comandante en Jefe de la Armada | F6: =IFERROR(INDEX(Maestro!$K$2:$K$999,MATCH(ROWS($A$4:A6),Maestro!$P$2:$P$999,0)),"") -> Mery, Roxana | G6: =IFERROR(INDEX(Maestro!$L$2:$L$999,MATCH(ROWS($A$4:A6),Maestro!$P$2:$P$999,0)),"") -> SI | H6: =IFERROR(INDEX(Maestro!$M$2:$M$999,MATCH(ROWS($A$4:A6),Maestro!$P$2:$P$999,0)),"") -> 0
A7: =IFERROR(INDEX(Maestro!$A$2:$A$999,MATCH(ROWS($A$4:A7),Maestro!$P$2:$P$999,0)),"") -> OPA | B7: =IFERROR(INDEX(Maestro!$B$2:$B$999,MATCH(ROWS($A$4:A7),Maestro!$P$2:$P$999,0)),"") -> VIP | C7: =IFERROR(INDEX(Maestro!$C$2:$C$999,MATCH(ROWS($A$4:A7),Maestro!$P$2:$P$999,0)),"") -> 5 | D7: =IFERROR(TRIM(INDEX(Maestro!$F$2:$F$999,MATCH(ROWS($A$4:A7),Maestro!$P$2:$P$999,0))&" "&INDEX(Maestro!$G$2:$G$999,MATCH(ROWS($A$4:A7),Maestro!$P$2:$P$999,0))&", "&INDEX(Maestro!$H$2:$H$999,MATCH(ROWS($A$4:A7),Maestro!$P$2:$P$999,0))),"") -> Núñez Urrutia, Paulina | E7: =IFERROR(INDEX(Maestro!$I$2:$I$999,MATCH(ROWS($A$4:A7),Maestro!$P$2:$P$999,0)),"") -> Presidenta del Senado | F7: =IFERROR(INDEX(Maestro!$K$2:$K$999,MATCH(ROWS($A$4:A7),Maestro!$P$2:$P$999,0)),"") -> Monckeberg Bruner, Cristián | G7: =IFERROR(INDEX(Maestro!$L$2:$L$999,MATCH(ROWS($A$4:A7),Maestro!$P$2:$P$999,0)),"") -> SI | H7: =IFERROR(INDEX(Maestro!$M$2:$M$999,MATCH(ROWS($A$4:A7),Maestro!$P$2:$P$999,0)),"") -> 0
A8: =IFERROR(INDEX(Maestro!$A$2:$A$999,MATCH(ROWS($A$4:A8),Maestro!$P$2:$P$999,0)),"") -> OPA | B8: =IFERROR(INDEX(Maestro!$B$2:$B$999,MATCH(ROWS($A$4:A8),Maestro!$P$2:$P$999,0)),"") -> VIP | C8: =IFERROR(INDEX(Maestro!$C$2:$C$999,MATCH(ROWS($A$4:A8),Maestro!$P$2:$P$999,0)),"") -> 10 | D8: =IFERROR(TRIM(INDEX(Maestro!$F$2:$F$999,MATCH(ROWS($A$4:A8),Maestro!$P$2:$P$999,0))&" "&INDEX(Maestro!$G$2:$G$999,MATCH(ROWS($A$4:A8),Maestro!$P$2:$P$999,0))&", "&INDEX(Maestro!$H$2:$H$999,MATCH(ROWS($A$4:A8),Maestro!$P$2:$P$999,0))),"") -> Marzi Muñoz, Daniela | E8: =IFERROR(INDEX(Maestro!$I$2:$I$999,MATCH(ROWS($A$4:A8),Maestro!$P$2:$P$999,0)),"") -> Presidenta del Tribunal Constitucional | F8: =IFERROR(INDEX(Maestro!$K$2:$K$999,MATCH(ROWS($A$4:A8),Maestro!$P$2:$P$999,0)),"") -> Vargas Borguel, Matías | G8: =IFERROR(INDEX(Maestro!$L$2:$L$999,MATCH(ROWS($A$4:A8),Maestro!$P$2:$P$999,0)),"") -> SI | H8: =IFERROR(INDEX(Maestro!$M$2:$M$999,MATCH(ROWS($A$4:A8),Maestro!$P$2:$P$999,0)),"") -> 0
A9: =IFERROR(INDEX(Maestro!$A$2:$A$999,MATCH(ROWS($A$4:A9),Maestro!$P$2:$P$999,0)),"") -> OPA | B9: =IFERROR(INDEX(Maestro!$B$2:$B$999,MATCH(ROWS($A$4:A9),Maestro!$P$2:$P$999,0)),"") -> VIP | C9: =IFERROR(INDEX(Maestro!$C$2:$C$999,MATCH(ROWS($A$4:A9),Maestro!$P$2:$P$999,0)),"") -> 11 | D9: =IFERROR(TRIM(INDEX(Maestro!$F$2:$F$999,MATCH(ROWS($A$4:A9),Maestro!$P$2:$P$999,0))&" "&INDEX(Maestro!$G$2:$G$999,MATCH(ROWS($A$4:A9),Maestro!$P$2:$P$999,0))&", "&INDEX(Maestro!$H$2:$H$999,MATCH(ROWS($A$4:A9),Maestro!$P$2:$P$999,0))),"") -> Pérez Gutiérrez, Dorothy | E9: =IFERROR(INDEX(Maestro!$I$2:$I$999,MATCH(ROWS($A$4:A9),Maestro!$P$2:$P$999,0)),"") -> Contralora General de la República | F9: =IFERROR(INDEX(Maestro!$K$2:$K$999,MATCH(ROWS($A$4:A9),Maestro!$P$2:$P$999,0)),"") -> López Paredes, Fabián | G9: =IFERROR(INDEX(Maestro!$L$2:$L$999,MATCH(ROWS($A$4:A9),Maestro!$P$2:$P$999,0)),"") -> SI | H9: =IFERROR(INDEX(Maestro!$M$2:$M$999,MATCH(ROWS($A$4:A9),Maestro!$P$2:$P$999,0)),"") -> 0
A10: =IFERROR(INDEX(Maestro!$A$2:$A$999,MATCH(ROWS($A$4:A10),Maestro!$P$2:$P$999,0)),"") -> OPA | B10: =IFERROR(INDEX(Maestro!$B$2:$B$999,MATCH(ROWS($A$4:A10),Maestro!$P$2:$P$999,0)),"") -> VIP | C10: =IFERROR(INDEX(Maestro!$C$2:$C$999,MATCH(ROWS($A$4:A10),Maestro!$P$2:$P$999,0)),"") -> 16 | D10: =IFERROR(TRIM(INDEX(Maestro!$F$2:$F$999,MATCH(ROWS($A$4:A10),Maestro!$P$2:$P$999,0))&" "&INDEX(Maestro!$G$2:$G$999,MATCH(ROWS($A$4:A10),Maestro!$P$2:$P$999,0))&", "&INDEX(Maestro!$H$2:$H$999,MATCH(ROWS($A$4:A10),Maestro!$P$2:$P$999,0))),"") -> Varela Sabando, Pedro | E10: =IFERROR(INDEX(Maestro!$I$2:$I$999,MATCH(ROWS($A$4:A10),Maestro!$P$2:$P$999,0)),"") -> Comandante en Jefe del Ejército | F10: =IFERROR(INDEX(Maestro!$K$2:$K$999,MATCH(ROWS($A$4:A10),Maestro!$P$2:$P$999,0)),"") -> Thibaut, Paola | G10: =IFERROR(INDEX(Maestro!$L$2:$L$999,MATCH(ROWS($A$4:A10),Maestro!$P$2:$P$999,0)),"") -> SI | H10: =IFERROR(INDEX(Maestro!$M$2:$M$999,MATCH(ROWS($A$4:A10),Maestro!$P$2:$P$999,0)),"") -> 0
A11: =IFERROR(INDEX(Maestro!$A$2:$A$999,MATCH(ROWS($A$4:A11),Maestro!$P$2:$P$999,0)),"") -> OPA | B11: =IFERROR(INDEX(Maestro!$B$2:$B$999,MATCH(ROWS($A$4:A11),Maestro!$P$2:$P$999,0)),"") -> VIP | C11: =IFERROR(INDEX(Maestro!$C$2:$C$999,MATCH(ROWS($A$4:A11),Maestro!$P$2:$P$999,0)),"") -> 17 | D11: =IFERROR(TRIM(INDEX(Maestro!$F$2:$F$999,MATCH(ROWS($A$4:A11),Maestro!$P$2:$P$999,0))&" "&INDEX(Maestro!$G$2:$G$999,MATCH(ROWS($A$4:A11),Maestro!$P$2:$P$999,0))&", "&INDEX(Maestro!$H$2:$H$999,MATCH(ROWS($A$4:A11),Maestro!$P$2:$P$999,0))),"") -> Rodríguez González, Hugo | E11: =IFERROR(INDEX(Maestro!$I$2:$I$999,MATCH(ROWS($A$4:A11),Maestro!$P$2:$P$999,0)),"") -> Comandante en Jefe de la Fuerza Aérea | F11: =IFERROR(INDEX(Maestro!$K$2:$K$999,MATCH(ROWS($A$4:A11),Maestro!$P$2:$P$999,0)),"") -> Araujo, Louise María | G11: =IFERROR(INDEX(Maestro!$L$2:$L$999,MATCH(ROWS($A$4:A11),Maestro!$P$2:$P$999,0)),"") -> SI | H11: =IFERROR(INDEX(Maestro!$M$2:$M$999,MATCH(ROWS($A$4:A11),Maestro!$P$2:$P$999,0)),"") -> 0
A12: =IFERROR(INDEX(Maestro!$A$2:$A$999,MATCH(ROWS($A$4:A12),Maestro!$P$2:$P$999,0)),"") -> OPA | B12: =IFERROR(INDEX(Maestro!$B$2:$B$999,MATCH(ROWS($A$4:A12),Maestro!$P$2:$P$999,0)),"") -> VIP | C12: =IFERROR(INDEX(Maestro!$C$2:$C$999,MATCH(ROWS($A$4:A12),Maestro!$P$2:$P$999,0)),"") -> 18 | D12: =IFERROR(TRIM(INDEX(Maestro!$F$2:$F$999,MATCH(ROWS($A$4:A12),Maestro!$P$2:$P$999,0))&" "&INDEX(Maestro!$G$2:$G$999,MATCH(ROWS($A$4:A12),Maestro!$P$2:$P$999,0))&", "&INDEX(Maestro!$H$2:$H$999,MATCH(ROWS($A$4:A12),Maestro!$P$2:$P$999,0))),"") -> Araya Zapata, Marcelo | E12: =IFERROR(INDEX(Maestro!$I$2:$I$999,MATCH(ROWS($A$4:A12),Maestro!$P$2:$P$999,0)),"") -> General Director de Carabineros | F12: =IFERROR(INDEX(Maestro!$K$2:$K$999,MATCH(ROWS($A$4:A12),Maestro!$P$2:$P$999,0)),"") -> Morales, Janet | G12: =IFERROR(INDEX(Maestro!$L$2:$L$999,MATCH(ROWS($A$4:A12),Maestro!$P$2:$P$999,0)),"") -> SI | H12: =IFERROR(INDEX(Maestro!$M$2:$M$999,MATCH(ROWS($A$4:A12),Maestro!$P$2:$P$999,0)),"") -> 0
A13: =IFERROR(INDEX(Maestro!$A$2:$A$999,MATCH(ROWS($A$4:A13),Maestro!$P$2:$P$999,0)),"") -> OPA | B13: =IFERROR(INDEX(Maestro!$B$2:$B$999,MATCH(ROWS($A$4:A13),Maestro!$P$2:$P$999,0)),"") -> VIP | C13: =IFERROR(INDEX(Maestro!$C$2:$C$999,MATCH(ROWS($A$4:A13),Maestro!$P$2:$P$999,0)),"") -> 19 | D13: =IFERROR(TRIM(INDEX(Maestro!$F$2:$F$999,MATCH(ROWS($A$4:A13),Maestro!$P$2:$P$999,0))&" "&INDEX(Maestro!$G$2:$G$999,MATCH(ROWS($A$4:A13),Maestro!$P$2:$P$999,0))&", "&INDEX(Maestro!$H$2:$H$999,MATCH(ROWS($A$4:A13),Maestro!$P$2:$P$999,0))),"") -> Cerna Lozano, Eduardo | E13: =IFERROR(INDEX(Maestro!$I$2:$I$999,MATCH(ROWS($A$4:A13),Maestro!$P$2:$P$999,0)),"") -> Director General de la Policía de Investigaciones | F13: =IFERROR(INDEX(Maestro!$K$2:$K$999,MATCH(ROWS($A$4:A13),Maestro!$P$2:$P$999,0)),"") -> Caldera Figueroa, Leila | G13: =IFERROR(INDEX(Maestro!$L$2:$L$999,MATCH(ROWS($A$4:A13),Maestro!$P$2:$P$999,0)),"") -> SI | H13: =IFERROR(INDEX(Maestro!$M$2:$M$999,MATCH(ROWS($A$4:A13),Maestro!$P$2:$P$999,0)),"") -> 0
A14: =IFERROR(INDEX(Maestro!$A$2:$A$999,MATCH(ROWS($A$4:A14),Maestro!$P$2:$P$999,0)),"") -> OPA | B14: =IFERROR(INDEX(Maestro!$B$2:$B$999,MATCH(ROWS($A$4:A14),Maestro!$P$2:$P$999,0)),"") -> VIP | C14: =IFERROR(INDEX(Maestro!$C$2:$C$999,MATCH(ROWS($A$4:A14),Maestro!$P$2:$P$999,0)),"") -> 20 | D14: =IFERROR(TRIM(INDEX(Maestro!$F$2:$F$999,MATCH(ROWS($A$4:A14),Maestro!$P$2:$P$999,0))&" "&INDEX(Maestro!$G$2:$G$999,MATCH(ROWS($A$4:A14),Maestro!$P$2:$P$999,0))&", "&INDEX(Maestro!$H$2:$H$999,MATCH(ROWS($A$4:A14),Maestro!$P$2:$P$999,0))),"") -> Romay , Juan Carlos | E14: =IFERROR(INDEX(Maestro!$I$2:$I$999,MATCH(ROWS($A$4:A14),Maestro!$P$2:$P$999,0)),"") -> Jefe del Estado Mayor General de la Armada de la Argentina | F14: =IFERROR(INDEX(Maestro!$K$2:$K$999,MATCH(ROWS($A$4:A14),Maestro!$P$2:$P$999,0)),"") -> Tripque, Liliana | G14: =IFERROR(INDEX(Maestro!$L$2:$L$999,MATCH(ROWS($A$4:A14),Maestro!$P$2:$P$999,0)),"") -> SI | H14: =IFERROR(INDEX(Maestro!$M$2:$M$999,MATCH(ROWS($A$4:A14),Maestro!$P$2:$P$999,0)),"") -> 0
A15: =IFERROR(INDEX(Maestro!$A$2:$A$999,MATCH(ROWS($A$4:A15),Maestro!$P$2:$P$999,0)),"") -> OPA | B15: =IFERROR(INDEX(Maestro!$B$2:$B$999,MATCH(ROWS($A$4:A15),Maestro!$P$2:$P$999,0)),"") -> VIP | C15: =IFERROR(INDEX(Maestro!$C$2:$C$999,MATCH(ROWS($A$4:A15),Maestro!$P$2:$P$999,0)),"") -> 21 | D15: =IFERROR(TRIM(INDEX(Maestro!$F$2:$F$999,MATCH(ROWS($A$4:A15),Maestro!$P$2:$P$999,0))&" "&INDEX(Maestro!$G$2:$G$999,MATCH(ROWS($A$4:A15),Maestro!$P$2:$P$999,0))&", "&INDEX(Maestro!$H$2:$H$999,MATCH(ROWS($A$4:A15),Maestro!$P$2:$P$999,0))),"") -> Rozo Obregón, Juan Ricardo | E15: =IFERROR(INDEX(Maestro!$I$2:$I$999,MATCH(ROWS($A$4:A15),Maestro!$P$2:$P$999,0)),"") -> Comandante de la Armada de Colombia | F15: =IFERROR(INDEX(Maestro!$K$2:$K$999,MATCH(ROWS($A$4:A15),Maestro!$P$2:$P$999,0)),"") -> Rivas, María Andrés | G15: =IFERROR(INDEX(Maestro!$L$2:$L$999,MATCH(ROWS($A$4:A15),Maestro!$P$2:$P$999,0)),"") -> SI | H15: =IFERROR(INDEX(Maestro!$M$2:$M$999,MATCH(ROWS($A$4:A15),Maestro!$P$2:$P$999,0)),"") -> 0
... A503: =IFERROR(INDEX(Maestro!$A$2:$A$999,MATCH(ROWS($A$4:A503),Maestro!$P$2:$P$999,0)),"") | B503: =IFERROR(INDEX(Maestro!$B$2:$B$999,MATCH(ROWS($A$4:A503),Maestro!$P$2:$P$999,0)),"") | C503: =IFERROR(INDEX(Maestro!$C$2:$C$999,MATCH(ROWS($A$4:A503),Maestro!$P$2:$P$999,0)),"") | D503: =IFERROR(TRIM(INDEX(Maestro!$F$2:$F$999,MATCH(ROWS($A$4:A503),Maestro!$P$2:$P$999,0))&" "&INDEX(Maestro!$G$2:$G$999,MATCH(ROWS($A$4:A503),Maestro!$P$2:$P$999,0))&", "&INDEX(Maestro!$H$2:$H$999,MATCH(ROWS($A$4:A503),Maestro!$P$2:$P$999,0))),"") | E503: =IFERROR(INDEX(Maestro!$I$2:$I$999,MATCH(ROWS($A$4:A503),Maestro!$P$2:$P$999,0)),"") | F503: =IFERROR(INDEX(Maestro!$K$2:$K$999,MATCH(ROWS($A$4:A503),Maestro!$P$2:$P$999,0)),"") | G503: =IFERROR(INDEX(Maestro!$L$2:$L$999,MATCH(ROWS($A$4:A503),Maestro!$P$2:$P$999,0)),"") | H503: =IFERROR(INDEX(Maestro!$M$2:$M$999,MATCH(ROWS($A$4:A503),Maestro!$P$2:$P$999,0)),"")

Sheet Correcciones Maestro
A1: Fila | B1: Columna | C1: Antes | D1: Después
A2: 2 | B2: Señora | C2: Adriasola, maría pía | D2: Adriasola, María Pía
A3: 3 | B3: Señora | C3: Vial echeverría, natalia | D3: Vial Echeverría, Natalia
A4: 4 | B4: Señora | C4: Mery, roxana | D4: Mery, Roxana
A5: 5 | B5: Señora | C5: Rodríguez, gabriela | D5: Rodríguez, Gabriela
A6: 6 | B6: Apellido 1 | C6: Nuñez | D6: Núñez
A7: 6 | B7: Señora | C7: Monckeberg bruner, cristián | D7: Monckeberg Bruner, Cristián
A8: 7 | B8: Señora | C8: Gajardo (pareja), carlos | D8: Gajardo (Pareja), Carlos
A9: 7 | B9: Cargo | C9: Presidenta Excelentísima Corte Suprema de Justicia | D9: Presidenta de la Excelentísima Corte Suprema de Justicia
A10: 8 | B10: Señora | C10: García de la huerta, teresita | D10: García de la Huerta, Teresita
A11: 8 | B11: Cargo | C11: Presidenta de la Cámara de Diputadas y Diputados | D11: Presidente de la Cámara de Diputadas y Diputados
A12: 11 | B12: Señora | C12: Vargas borguel, matias | D12: Vargas Borguel, Matías
A13: 11 | B13: Cargo | C13: Presidente del Tribunal Constitucional | D13: Presidenta del Tribunal Constitucional
... A176: 238 | B176: Cargo | C176: Jefe de la V Zona de Carabineros de Valparaíso | D176: Jefa de la V Zona de Carabineros de Valparaíso
