Workbook

Sheet MAESTRO
A1: N° | B1: PRECEDENCIA | C1: FUENTE | D1: TRATAMIENTO | E1: TRIBUNA | F1: NOMBRE COMPLETO | G1: NOMBRE | H1: APE. P. | I1: APE. M. | J1: AST. | K1: CARGO | L1: OBSERVACIONES | M1: TRIBUNA BASE | N1: DISTRIBUYE | O1: SEMAFORO | P1: ASIENTO
A2: =IF(COUNTA(C2:K2)=0,"",ROW()-1) -> 1 | B2: =IF($F2<>"",$A2,"") -> 1 | C2: OPA | D2: Su Excelencia | E2: =IF(UPPER($J2)="NO","",$M2) -> VIP | F2: Kast Rist, José Antonio | G2: José Antonio | H2: Kast | I2: Rist | J2: SI | K2: * Presidente de la República | M2: VIP | N2: =IF(AND(UPPER($M2)="VIP",UPPER($J2)="SI",$F2<>""),"SI","NO") -> SI | O2: =IF(UPPER($J2)="SI","🟢",IF(UPPER($J2)="NO","🔴","🟡")) -> 🟢 | P2: A23
A3: =IF(COUNTA(C3:K3)=0,"",ROW()-1) -> 2 | B3: =IF($F3<>"",$A3,"") -> 2 | C3: OPA | D3: Primera Dama | E3: =IF(UPPER($J3)="NO","",$M3) -> VIP | F3: Adriasola Barroihet, María Pía | G3: María Pía | H3: Adriasola | I3: Barroihet | J3: SI | K3: Esposa del Presidente de la República | M3: VIP | N3: =IF(AND(UPPER($M3)="VIP",UPPER($J3)="SI",$F3<>""),"SI","NO") -> SI | O3: =IF(UPPER($J3)="SI","🟢",IF(UPPER($J3)="NO","🔴","🟡")) -> 🟢 | P3: A24
A4: =IF(COUNTA(C4:K4)=0,"",ROW()-1) -> 3 | B4: =IF($F4<>"",$A4,"") -> 3 | C4: OPA | D4: Ministro | E4: =IF(UPPER($J4)="NO","",$M4) -> VIP | F4: Barros Tocornal, Fernando | G4: Fernando | H4: Barros | I4: Tocornal | J4: SI | K4: *Ministro de Defensa Nacional | M4: VIP | N4: =IF(AND(UPPER($M4)="VIP",UPPER($J4)="SI",$F4<>""),"SI","NO") -> SI | O4: =IF(UPPER($J4)="SI","🟢",IF(UPPER($J4)="NO","🔴","🟡")) -> 🟢 | P4: A22
A5: =IF(COUNTA(C5:K5)=0,"",ROW()-1) -> 4 | B5: =IF($F5<>"",$A5,"") -> 4 | C5: OPA | D5: Almirante | E5: =IF(UPPER($J5)="NO","",$M5) -> VIP | F5: Cabrera Salazar, Fernando | G5: Fernando | H5: Cabrera | I5: Salazar | J5: SI | K5: *Comandante en Jefe de la Armada | M5: VIP | N5: =IF(AND(UPPER($M5)="VIP",UPPER($J5)="SI",$F5<>""),"SI","NO") -> SI | O5: =IF(UPPER($J5)="SI","🟢",IF(UPPER($J5)="NO","🔴","🟡")) -> 🟢 | P5: A21
A6: =IF(COUNTA(C6:K6)=0,"",ROW()-1) -> 5 | B6: =IF($F6<>"",$A6,"") -> 5 | C6: OPA | D6: Señora | E6: =IF(UPPER($J6)="NO","",$M6) -> VIP | F6: Mery, Roxana | G6: Roxana | H6: Mery | I6: Casella | J6: SI | K6: Esposa del Comandante en Jefe de la Armada | M6: VIP | N6: =IF(AND(UPPER($M6)="VIP",UPPER($J6)="SI",$F6<>""),"SI","NO") -> SI | O6: =IF(UPPER($J6)="SI","🟢",IF(UPPER($J6)="NO","🔴","🟡")) -> 🟢 | P6: A25
A7: =IF(COUNTA(C7:K7)=0,"",ROW()-1) -> 6 | B7: =IF($F7<>"",$A7,"") -> 6 | C7: OPA | D7: Señora | E7: =IF(UPPER($J7)="NO","",$M7) -> VIP | F7: Morel Montes, María Cecilia | G7: María Cecilia | H7: Morel | I7: Montes | J7: PENDIENTE | K7: Ex - Primera Dama | M7: VIP | N7: =IF(AND(UPPER($M7)="VIP",UPPER($J7)="SI",$F7<>""),"SI","NO") -> NO | O7: =IF(UPPER($J7)="SI","🟢",IF(UPPER($J7)="NO","🔴","🟡")) -> 🟡 | P7: A20
A8: =IF(COUNTA(C8:K8)=0,"",ROW()-1) -> 7 | B8: =IF($F8<>"",$A8,"") -> 7 | C8: OPA | D8: Honorable Senador | E8: =IF(UPPER($J8)="NO","",$M8) | F8: Núñez Urrutia, Paulina | G8: Iván | H8: Moreira | I8: Barros | J8: NO | K8: *Presidenta del Senado (Representante). | M8: VIP | N8: =IF(AND(UPPER($M8)="VIP",UPPER($J8)="SI",$F8<>""),"SI","NO") -> NO | O8: =IF(UPPER($J8)="SI","🟢",IF(UPPER($J8)="NO","🔴","🟡")) -> 🔴 | P8: A26
A9: =IF(COUNTA(C9:K9)=0,"",ROW()-1) -> 8 | B9: =IF($F9<>"",$A9,"") -> 8 | C9: OPA | D9: Honorable Diputado | E9: =IF(UPPER($J9)="NO","",$M9) | F9: Alessandri Vergara, Jorge | G9: Jorge | H9: Alessandri | I9: Vergara | J9: NO | K9: Presidente de la Cámara de Diputados | M9: VIP | N9: =IF(AND(UPPER($M9)="VIP",UPPER($J9)="SI",$F9<>""),"SI","NO") -> NO | O9: =IF(UPPER($J9)="SI","🟢",IF(UPPER($J9)="NO","🔴","🟡")) -> 🔴
A10: =IF(COUNTA(C10:K10)=0,"",ROW()-1) -> 9 | B10: =IF($F10<>"",$A10,"") -> 9 | C10: OPA | D10: Su Excelencia | E10: =IF(UPPER($J10)="NO","",$M10) -> VIP | F10: Boric Font, Gabriel | G10: Gabriel | H10: Boric | I10: Font | J10: PENDIENTE | K10: Ex Presidente de la República | M10: VIP | N10: =IF(AND(UPPER($M10)="VIP",UPPER($J10)="SI",$F10<>""),"SI","NO") -> NO | O10: =IF(UPPER($J10)="SI","🟢",IF(UPPER($J10)="NO","🔴","🟡")) -> 🟡 | P10: A19
A11: =IF(COUNTA(C11:K11)=0,"",ROW()-1) -> 10 | B11: =IF($F11<>"",$A11,"") -> 10 | C11: OPA | D11: Su Excelencia | E11: =IF(UPPER($J11)="NO","",$M11) -> VIP | F11: Bachelet Jeria, Michelle | G11: Michelle | H11: Bachelet | I11: Jeria | J11: PENDIENTE | K11: Ex Presidenta de la República | M11: VIP | N11: =IF(AND(UPPER($M11)="VIP",UPPER($J11)="SI",$F11<>""),"SI","NO") -> NO | O11: =IF(UPPER($J11)="SI","🟢",IF(UPPER($J11)="NO","🔴","🟡")) -> 🟡 | P11: A27
A12: =IF(COUNTA(C12:K12)=0,"",ROW()-1) -> 11 | B12: =IF($F12<>"",$A12,"") -> 11 | C12: OPA | D12: Su Excelencia | E12: =IF(UPPER($J12)="NO","",$M12) | F12: Lagos Escobar, Ricardo | G12: Ricardo | H12: Lagos | I12: Escobar | J12: NO | K12: Ex Presidente de la República | M12: VIP | N12: =IF(AND(UPPER($M12)="VIP",UPPER($J12)="SI",$F12<>""),"SI","NO") -> NO | O12: =IF(UPPER($J12)="SI","🟢",IF(UPPER($J12)="NO","🔴","🟡")) -> 🔴 | P12: A18
A13: =IF(COUNTA(C13:K13)=0,"",ROW()-1) -> 12 | B13: =IF($F13<>"",$A13,"") -> 12 | C13: OPA | D13: Su Excelencia | E13: =IF(UPPER($J13)="NO","",$M13) -> VIP | F13: Frei Ruiz-tagle, Eduardo | G13: Eduardo | H13: Frei | I13: Ruiz-tagle | J13: PENDIENTE | K13: Ex Presidente de la República | M13: VIP | N13: =IF(AND(UPPER($M13)="VIP",UPPER($J13)="SI",$F13<>""),"SI","NO") -> NO | O13: =IF(UPPER($J13)="SI","🟢",IF(UPPER($J13)="NO","🔴","🟡")) -> 🟡 | P13: A28
A14: =IF(COUNTA(C14:K14)=0,"",ROW()-1) -> 13 | B14: =IF($F14<>"",$A14,"") -> 13 | C14: OPA | D14: Presidente | E14: =IF(UPPER($J14)="NO","",$M14) | F14: Marzi Muñoz, Daniela | G14: Daniela | H14: Marzi | I14: Muñoz | J14: NO | K14: Presidente del Tribunal Constitucional | M14: VIP | N14: =IF(AND(UPPER($M14)="VIP",UPPER($J14)="SI",$F14<>""),"SI","NO") -> NO | O14: =IF(UPPER($J14)="SI","🟢",IF(UPPER($J14)="NO","🔴","🟡")) -> 🔴
A15: =IF(COUNTA(C15:K15)=0,"",ROW()-1) -> 14 | B15: =IF($F15<>"",$A15,"") -> 14 | C15: OPA | D15: Contralora | E15: =IF(UPPER($J15)="NO","",$M15) | F15: Pérez Gutiérrez, Dorothy | G15: Dorothy | H15: Pérez | I15: Gutiérrez | J15: NO | K15: Contralora General de la República | M15: VIP | N15: =IF(AND(UPPER($M15)="VIP",UPPER($J15)="SI",$F15<>""),"SI","NO") -> NO | O15: =IF(UPPER($J15)="SI","🟢",IF(UPPER($J15)="NO","🔴","🟡")) -> 🔴
A16: =IF(COUNTA(C16:K16)=0,"",ROW()-1) -> 15 | B16: =IF($F16<>"",$A16,"") -> 15 | C16: OPA | D16: Fiscal | E16: =IF(UPPER($J16)="NO","",$M16) | F16: Valencia Vásquez, Ángel | G16: Ángel | H16: Valencia | I16: Vásquez | J16: NO | K16: Fiscal Nacional del Ministerio Público | M16: VIP | N16: =IF(AND(UPPER($M16)="VIP",UPPER($J16)="SI",$F16<>""),"SI","NO") -> NO | O16: =IF(UPPER($J16)="SI","🟢",IF(UPPER($J16)="NO","🔴","🟡")) -> 🔴
A17: =IF(COUNTA(C17:K17)=0,"",ROW()-1) -> 16 | B17: =IF($F17<>"",$A17,"") -> 16 | C17: OPA | D17: Ministro | E17: =IF(UPPER($J17)="NO","",$M17) -> VIP | F17: Alvarado Andrade, Claudio | G17: Claudio | H17: Alvarado | I17: Andrade | J17: SI | K17: Biministro del Interior y Secretario General de Gobierno | M17: VIP | N17: =IF(AND(UPPER($M17)="VIP",UPPER($J17)="SI",$F17<>""),"SI","NO") -> SI | O17: =IF(UPPER($J17)="SI","🟢",IF(UPPER($J17)="NO","🔴","🟡")) -> 🟢 | P17: A17
A18: =IF(COUNTA(C18:K18)=0,"",ROW()-1) -> 17 | B18: =IF($F18<>"",$A18,"") -> 17 | C18: OPA | D18: Ministro | E18: =IF(UPPER($J18)="NO","",$M18) | F18: Pérez Mackenna, Francisco | G18: Francisco | H18: Pérez | I18: Mackenna | J18: NO | K18: Ministro de Relaciones Exteriores | M18: VIP | N18: =IF(AND(UPPER($M18)="VIP",UPPER($J18)="SI",$F18<>""),"SI","NO") -> NO | O18: =IF(UPPER($J18)="SI","🟢",IF(UPPER($J18)="NO","🔴","🟡")) -> 🔴
A19: =IF(COUNTA(C19:K19)=0,"",ROW()-1) -> 18 | B19: =IF($F19<>"",$A19,"") -> 18 | C19: OPA | D19: Ministro | E19: =IF(UPPER($J19)="NO","",$M19) | F19: Quiroz Castro, Jorge | G19: Jorge | H19: Quiroz | I19: Castro | J19: NO | K19: Ministro de Hacienda | M19: VIP | N19: =IF(AND(UPPER($M19)="VIP",UPPER($J19)="SI",$F19<>""),"SI","NO") -> NO | O19: =IF(UPPER($J19)="SI","🟢",IF(UPPER($J19)="NO","🔴","🟡")) -> 🔴
A20: =IF(COUNTA(C20:K20)=0,"",ROW()-1) -> 19 | B20: =IF($F20<>"",$A20,"") -> 19 | C20: OPA | D20: Ministro | E20: =IF(UPPER($J20)="NO","",$M20) | F20: Mas Valdés, Daniel | G20: Daniel | H20: Mas | I20: Valdés | J20: NO | K20: Biministro de Minería, Economía y Turismo | M20: VIP | N20: =IF(AND(UPPER($M20)="VIP",UPPER($J20)="SI",$F20<>""),"SI","NO") -> NO | O20: =IF(UPPER($J20)="SI","🟢",IF(UPPER($J20)="NO","🔴","🟡")) -> 🔴
A21: =IF(COUNTA(C21:K21)=0,"",ROW()-1) -> 20 | B21: =IF($F21<>"",$A21,"") -> 20 | C21: OPA | D21: Ministro | E21: =IF(UPPER($J21)="NO","",$M21) | F21: Arzola González, María Paz | G21: María Paz | H21: Arzola | I21: González | J21: NO | K21: Ministra de Educación | M21: VIP | N21: =IF(AND(UPPER($M21)="VIP",UPPER($J21)="SI",$F21<>""),"SI","NO") -> NO | O21: =IF(UPPER($J21)="SI","🟢",IF(UPPER($J21)="NO","🔴","🟡")) -> 🔴
A22: =IF(COUNTA(C22:K22)=0,"",ROW()-1) -> 21 | B22: =IF($F22<>"",$A22,"") -> 21 | C22: OPA | D22: Ministro | E22: =IF(UPPER($J22)="NO","",$M22) | F22: De Grange Concha, Louis | G22: Louis | H22: De Grange | I22: Concha | J22: NO | K22: Biministro de Obras Publicas, Transporte y Telecomunicaciones | M22: VIP | N22: =IF(AND(UPPER($M22)="VIP",UPPER($J22)="SI",$F22<>""),"SI","NO") -> NO | O22: =IF(UPPER($J22)="SI","🟢",IF(UPPER($J22)="NO","🔴","🟡")) -> 🔴
A23: =IF(COUNTA(C23:K23)=0,"",ROW()-1) -> 22 | B23: =IF($F23<>"",$A23,"") -> 22 | C23: OPA | D23: Ministro | E23: =IF(UPPER($J23)="NO","",$M23) | F23: Parot Donoso, Catalina | G23: Catalina | H23: Parot | I23: Donoso | J23: NO | K23: Ministra de Bienes Nacionales | M23: VIP | N23: =IF(AND(UPPER($M23)="VIP",UPPER($J23)="SI",$F23<>""),"SI","NO") -> NO | O23: =IF(UPPER($J23)="SI","🟢",IF(UPPER($J23)="NO","🔴","🟡")) -> 🔴 | P23: A29
A24: =IF(COUNTA(C24:K24)=0,"",ROW()-1) -> 23 | B24: =IF($F24<>"",$A24,"") -> 23 | C24: OPA | D24: Ministro | E24: =IF(UPPER($J24)="NO","",$M24) | F24: Rincón González, Ximena | G24: Ximena | H24: Rincón | I24: González | J24: NO | K24: Ministra de Energía | M24: VIP | N24: =IF(AND(UPPER($M24)="VIP",UPPER($J24)="SI",$F24<>""),"SI","NO") -> NO | O24: =IF(UPPER($J24)="SI","🟢",IF(UPPER($J24)="NO","🔴","🟡")) -> 🔴
A25: =IF(COUNTA(C25:K25)=0,"",ROW()-1) -> 24 | B25: =IF($F25<>"",$A25,"") -> 24 | C25: OPA | D25: Ministro | E25: =IF(UPPER($J25)="NO","",$M25) | F25: Toledo Echegaray, Francisca | G25: Francisca | H25: Toledo | I25: Echegaray | J25: NO | K25: Ministra del Medio Ambiente | M25: VIP | N25: =IF(AND(UPPER($M25)="VIP",UPPER($J25)="SI",$F25<>""),"SI","NO") -> NO | O25: =IF(UPPER($J25)="SI","🟢",IF(UPPER($J25)="NO","🔴","🟡")) -> 🔴
A26: =IF(COUNTA(C26:K26)=0,"",ROW()-1) -> 25 | B26: =IF($F26<>"",$A26,"") -> 25 | C26: OPA | D26: Ministro | E26: =IF(UPPER($J26)="NO","",$M26) | F26: Undurruga Gazitúa, Francisco | G26: Francisco | H26: Undurruga | I26: Gazitúa | J26: NO | K26: Ministro de las Culturas, las Artes y el Patrimonio | M26: VIP | N26: =IF(AND(UPPER($M26)="VIP",UPPER($J26)="SI",$F26<>""),"SI","NO") -> NO | O26: =IF(UPPER($J26)="SI","🟢",IF(UPPER($J26)="NO","🔴","🟡")) -> 🔴 | P26: A16
A27: =IF(COUNTA(C27:K27)=0,"",ROW()-1) -> 26 | B27: =IF($F27<>"",$A27,"") -> 26 | C27: OPA | D27: Ministro | E27: =IF(UPPER($J27)="NO","",$M27) | F27: Lincolao Gates, Ximena | G27: Ximena | H27: Lincolao | I27: Gates | J27: NO | K27: Ministra de Ciencia, Tecnología, Conocimiento e Innovación | M27: VIP | N27: =IF(AND(UPPER($M27)="VIP",UPPER($J27)="SI",$F27<>""),"SI","NO") -> NO | O27: =IF(UPPER($J27)="SI","🟢",IF(UPPER($J27)="NO","🔴","🟡")) -> 🔴
A28: =IF(COUNTA(C28:K28)=0,"",ROW()-1) -> 27 | B28: =IF($F28<>"",$A28,"") -> 27 | C28: OPA | D28: Ministro | E28: =IF(UPPER($J28)="NO","",$M28) | F28: Burgos Varela, Jorge | G28: Jorge | H28: Burgos | I28: Varela | J28: NO | K28: Ex Ministro de Defensa Nacional | M28: VIP | N28: =IF(AND(UPPER($M28)="VIP",UPPER($J28)="SI",$F28<>""),"SI","NO") -> NO | O28: =IF(UPPER($J28)="SI","🟢",IF(UPPER($J28)="NO","🔴","🟡")) -> 🔴
A29: =IF(COUNTA(C29:K29)=0,"",ROW()-1) -> 28 | B29: =IF($F29<>"",$A29,"") -> 28 | C29: OPA | D29: Ministro | E29: =IF(UPPER($J29)="NO","",$M29) -> VIP | F29: Fernández Allende, Maya | G29: Maya | H29: Fernández | I29: Allende | J29: PENDIENTE | K29: Ex Ministra de Defensa Nacional | M29: VIP | N29: =IF(AND(UPPER($M29)="VIP",UPPER($J29)="SI",$F29<>""),"SI","NO") -> NO | O29: =IF(UPPER($J29)="SI","🟢",IF(UPPER($J29)="NO","🔴","🟡")) -> 🟡 | P29: A30
A30: =IF(COUNTA(C30:K30)=0,"",ROW()-1) -> 29 | B30: =IF($F30<>"",$A30,"") -> 29 | C30: OPA | D30: Ministro | E30: =IF(UPPER($J30)="NO","",$M30) -> VIP | F30: Delpiano Puelma, Adriana | G30: Adriana | H30: Delpiano | I30: Puelma | J30: PENDIENTE | K30: Ex Ministra de Defensa Nacional | M30: VIP | N30: =IF(AND(UPPER($M30)="VIP",UPPER($J30)="SI",$F30<>""),"SI","NO") -> NO | O30: =IF(UPPER($J30)="SI","🟢",IF(UPPER($J30)="NO","🔴","🟡")) -> 🟡 | P30: A15
A31: =IF(COUNTA(C31:K31)=0,"",ROW()-1) -> 30 | B31: =IF($F31<>"",$A31,"") -> 30 | C31: OPA | D31: Excelentísima | E31: =IF(UPPER($J31)="NO","",$M31) | F31: El Ghali, Kenza | G31: Kenza | H31: El Ghali | J31: NO | K31: Embajador de Marruecos | M31: VIP | N31: =IF(AND(UPPER($M31)="VIP",UPPER($J31)="SI",$F31<>""),"SI","NO") -> NO | O31: =IF(UPPER($J31)="SI","🟢",IF(UPPER($J31)="NO","🔴","🟡")) -> 🔴
A32: =IF(COUNTA(C32:K32)=0,"",ROW()-1) -> 31 | B32: =IF($F32<>"",$A32,"") -> 31 | C32: OPA | D32: Excelentísima | E32: =IF(UPPER($J32)="NO","",$M32) | F32: Soares Pacheco, Paulo | G32: Paulo | H32: Soares | I32: Pacheco | J32: NO | K32: Embajador de Brasil en Chile | M32: VIP | N32: =IF(AND(UPPER($M32)="VIP",UPPER($J32)="SI",$F32<>""),"SI","NO") -> NO | O32: =IF(UPPER($J32)="SI","🟢",IF(UPPER($J32)="NO","🔴","🟡")) -> 🔴
A33: =IF(COUNTA(C33:K33)=0,"",ROW()-1) -> 32 | B33: =IF($F33<>"",$A33,"") -> 32 | C33: OPA | D33: Excelentísima | E33: =IF(UPPER($J33)="NO","",$M33) -> VIP | F33: Qingbao, Niu | G33: Niu | H33: Qingbao | J33: PENDIENTE | K33: Embajador de la República Popular China en Chile | M33: VIP | N33: =IF(AND(UPPER($M33)="VIP",UPPER($J33)="SI",$F33<>""),"SI","NO") -> NO | O33: =IF(UPPER($J33)="SI","🟢",IF(UPPER($J33)="NO","🔴","🟡")) -> 🟡 | P33: A31
A34: =IF(COUNTA(C34:K34)=0,"",ROW()-1) -> 33 | B34: =IF($F34<>"",$A34,"") -> 33 | C34: OPA | D34: Excelentísima | E34: =IF(UPPER($J34)="NO","",$M34) -> VIP | F34: Kotkajarvi, Johanna | G34: Johanna | H34: Kotkajarvi | J34: PENDIENTE | K34: Embajadora de Finlandia en Chile | M34: VIP | N34: =IF(AND(UPPER($M34)="VIP",UPPER($J34)="SI",$F34<>""),"SI","NO") -> NO | O34: =IF(UPPER($J34)="SI","🟢",IF(UPPER($J34)="NO","🔴","🟡")) -> 🟡 | P34: A14
A35: =IF(COUNTA(C35:K35)=0,"",ROW()-1) -> 34 | B35: =IF($F35<>"",$A35,"") -> 34 | C35: OPA | D35: Excelentísima | E35: =IF(UPPER($J35)="NO","",$M35) -> VIP | F35: Biagiotti, Valeria | G35: Valeria | H35: Biagiotti | J35: PENDIENTE | K35: Embajadora de Italia en Chile | M35: VIP | N35: =IF(AND(UPPER($M35)="VIP",UPPER($J35)="SI",$F35<>""),"SI","NO") -> NO | O35: =IF(UPPER($J35)="SI","🟢",IF(UPPER($J35)="NO","🔴","🟡")) -> 🟡 | P35: A32
A36: =IF(COUNTA(C36:K36)=0,"",ROW()-1) -> 35 | B36: =IF($F36<>"",$A36,"") -> 35 | C36: OPA | D36: Excelentísima | E36: =IF(UPPER($J36)="NO","",$M36) | F36: Jae Kim, Hak | G36: Hak | H36: Jae Kim | J36: NO | K36: Embajadora de Corea en Chile | M36: VIP | N36: =IF(AND(UPPER($M36)="VIP",UPPER($J36)="SI",$F36<>""),"SI","NO") -> NO | O36: =IF(UPPER($J36)="SI","🟢",IF(UPPER($J36)="NO","🔴","🟡")) -> 🔴
A37: =IF(COUNTA(C37:K37)=0,"",ROW()-1) -> 36 | B37: =IF($F37<>"",$A37,"") -> 36 | C37: OPA | D37: Excelentísima | E37: =IF(UPPER($J37)="NO","",$M37) | F37: Moreno Rodriguez, Laura | G37: Laura | H37: Moreno | I37: Rodriguez | J37: NO | K37: Embajadora de Mexico en Chile | M37: VIP | N37: =IF(AND(UPPER($M37)="VIP",UPPER($J37)="SI",$F37<>""),"SI","NO") -> NO | O37: =IF(UPPER($J37)="SI","🟢",IF(UPPER($J37)="NO","🔴","🟡")) -> 🔴
A38: =IF(COUNTA(C38:K38)=0,"",ROW()-1) -> 37 | B38: =IF($F38<>"",$A38,"") -> 37 | C38: OPA | D38: Excelentísima | E38: =IF(UPPER($J38)="NO","",$M38) | F38: Faurie, Jorge | G38: Jorge | H38: Faurie | J38: NO | K38: Embajador de Argentina en Chile | M38: VIP | N38: =IF(AND(UPPER($M38)="VIP",UPPER($J38)="SI",$F38<>""),"SI","NO") -> NO | O38: =IF(UPPER($J38)="SI","🟢",IF(UPPER($J38)="NO","🔴","🟡")) -> 🔴
A39: =IF(COUNTA(C39:K39)=0,"",ROW()-1) -> 38 | B39: =IF($F39<>"",$A39,"") -> 38 | C39: OPA | D39: Excelentísima | E39: =IF(UPPER($J39)="NO","",$M39) -> VIP | F39: Barrit Martin, Andrew James | G39: Andrew James | H39: Barrit | I39: Martin | J39: PENDIENTE | K39: Embajador de Australia en Chile | M39: VIP | N39: =IF(AND(UPPER($M39)="VIP",UPPER($J39)="SI",$F39<>""),"SI","NO") -> NO | O39: =IF(UPPER($J39)="SI","🟢",IF(UPPER($J39)="NO","🔴","🟡")) -> 🟡 | P39: A13
A40: =IF(COUNTA(C40:K40)=0,"",ROW()-1) -> 39 | B40: =IF($F40<>"",$A40,"") -> 39 | C40: OPA | D40: Excelentísima | E40: =IF(UPPER($J40)="NO","",$M40) | F40: Rogeau, Cyrille | G40: Cyrille | H40: Rogeau | J40: NO | K40: Embajador de Francia en Chile | M40: VIP | N40: =IF(AND(UPPER($M40)="VIP",UPPER($J40)="SI",$F40<>""),"SI","NO") -> NO | O40: =IF(UPPER($J40)="SI","🟢",IF(UPPER($J40)="NO","🔴","🟡")) -> 🔴
...

Sheet CONTROL ASISTENCIA
A1: CONTROL ASISTENCIA - GENERAL / VIP / 3 TRIBUNAS | L1: RESUMEN VIP SI
L2: VIP SI | M2: =SUMPRODUCT((MAESTRO!$M$2:$M$1399="VIP")*(MAESTRO!$J$2:$J$1399="SI")*(MAESTRO!$F$2:$F$1399<>"")) -> 138
A3: Indicador | B3: Cantidad | C3: Referencia | E3: TRIBUNA | F3: TOTAL BASE | G3: SI | H3: NO | I3: PENDIENTE | J3: DISTRIBUYE | L3: Asientos válidos | M3: =155 -> 155
A4: Total invitados | B4: =COUNTA(MAESTRO!$F$2:$F$1202) -> 717 | C4: NOMBRE COMPLETO | E4: VIP | F4: =COUNTIFS(MAESTRO!$F$2:$F$1202,"<>",MAESTRO!$M$2:$M$1202,E4) -> 317 | G4: =COUNTIFS(MAESTRO!$F$2:$F$1202,"<>",MAESTRO!$M$2:$M$1202,E4,MAESTRO!$J$2:$J$1202,"SI") -> 138 | H4: =COUNTIFS(MAESTRO!$F$2:$F$1202,"<>",MAESTRO!$M$2:$M$1202,E4,MAESTRO!$J$2:$J$1202,"NO") -> 100 | I4: =F4-G4-H4 -> 79 | J4: =COUNTIFS(MAESTRO!$F$2:$F$1202,"<>",MAESTRO!$E$2:$E$1202,E4,MAESTRO!$N$2:$N$1202,"SI") -> 137 | L4: Con asiento | M4: =SUMPRODUCT((LISTADO [1]VIP!$A$2:$A$1400<>"")*(LISTADO [1]VIP!$A$2:$A$1400<>"PENDIENTE POR ASIGNAR")) -> #NAME?
A5: Confirmados SI | B5: =COUNTIFS(MAESTRO!$F$2:$F$1202,"<>",MAESTRO!$J$2:$J$1202,"SI") -> 411 | C5: AST. | E5: LATERAL VIP | F5: =COUNTIFS(MAESTRO!$F$2:$F$1202,"<>",MAESTRO!$M$2:$M$1202,E5) -> 170 | G5: =COUNTIFS(MAESTRO!$F$2:$F$1202,"<>",MAESTRO!$M$2:$M$1202,E5,MAESTRO!$J$2:$J$1202,"SI") -> 137 | H5: =COUNTIFS(MAESTRO!$F$2:$F$1202,"<>",MAESTRO!$M$2:$M$1202,E5,MAESTRO!$J$2:$J$1202,"NO") -> 16 | I5: =F5-G5-H5 -> 17 | J5: =COUNTIFS(MAESTRO!$F$2:$F$1202,"<>",MAESTRO!$E$2:$E$1202,E5,MAESTRO!$N$2:$N$1202,"SI") -> 1 | L5: Pendiente | M5: =SUMPRODUCT((LISTADO [1]VIP!$A$2:$A$1400="PENDIENTE POR ASIGNAR")) -> #NAME?
A6: No asisten | B6: =COUNTIFS(MAESTRO!$F$2:$F$1202,"<>",MAESTRO!$J$2:$J$1202,"NO") -> 177 | C6: AST. | E6: LATERAL | F6: =COUNTIFS(MAESTRO!$F$2:$F$1202,"<>",MAESTRO!$M$2:$M$1202,E6) -> 191 | G6: =COUNTIFS(MAESTRO!$F$2:$F$1202,"<>",MAESTRO!$M$2:$M$1202,E6,MAESTRO!$J$2:$J$1202,"SI") -> 130 | H6: =COUNTIFS(MAESTRO!$F$2:$F$1202,"<>",MAESTRO!$M$2:$M$1202,E6,MAESTRO!$J$2:$J$1202,"NO") -> 31 | I6: =F6-G6-H6 -> 30 | J6: =COUNTIFS(MAESTRO!$F$2:$F$1202,"<>",MAESTRO!$E$2:$E$1202,E6,MAESTRO!$N$2:$N$1202,"SI") -> 0
A7: Pendientes | B7: =B4-B5-B6 -> 129 | C7: AST.
A8: Distribuye | B8: =COUNTIFS(MAESTRO!$F$2:$F$1202,"<>",MAESTRO!$N$2:$N$1202,"SI") -> 138 | C8: AST. distinto de NO
A9: VIP distribuye | B9: =COUNTIFS(MAESTRO!$F$2:$F$1202,"<>",MAESTRO!$E$2:$E$1202,"VIP",MAESTRO!$N$2:$N$1202,"SI") -> 137 | C9: Solo TRIBUNA = VIP
A10: Capacidad VIP | B10: =149 -> 149 | C10: Plano 149 asientos
A11: VIP sin asignar | B11: =MAX(0,B9-B10) -> 0 | C11: Exceso sobre 149
A14: RESUMEN POR FUENTE
A15: FUENTE | B15: TOTAL | C15: SI | D15: NO | E15: PENDIENTE | F15: VIP | G15: LATERAL VIP | H15: LATERAL | I15: DISTRIBUYE
A16: ACADÉMICOS | B16: =IF($A16="","",COUNTIFS(MAESTRO!$C$2:$C$1202,$A16,MAESTRO!$F$2:$F$1202,"<>")) -> 24 | C16: =IF($A16="","",COUNTIFS(MAESTRO!$C$2:$C$1202,$A16,MAESTRO!$J$2:$J$1202,"SI",MAESTRO!$F$2:$F$1202,"<>")) -> 12 | D16: =IF($A16="","",COUNTIFS(MAESTRO!$C$2:$C$1202,$A16,MAESTRO!$J$2:$J$1202,"NO",MAESTRO!$F$2:$F$1202,"<>")) -> 4 | E16: =IF($A16="","",B16-C16-D16) -> 8 | F16: =IF($A16="","",COUNTIFS(MAESTRO!$C$2:$C$1202,$A16,MAESTRO!$M$2:$M$1202,"VIP",MAESTRO!$F$2:$F$1202,"<>")) -> 13 | G16: =IF($A16="","",COUNTIFS(MAESTRO!$C$2:$C$1202,$A16,MAESTRO!$M$2:$M$1202,"LATERAL VIP",MAESTRO!$F$2:$F$1202,"<>")) -> 10 | H16: =IF($A16="","",COUNTIFS(MAESTRO!$C$2:$C$1202,$A16,MAESTRO!$M$2:$M$1202,"LATERAL",MAESTRO!$F$2:$F$1202,"<>")) -> 0 | I16: =IF($A16="","",COUNTIFS(MAESTRO!$C$2:$C$1202,$A16,MAESTRO!$N$2:$N$1202,"SI",MAESTRO!$F$2:$F$1202,"<>")) -> 5
A17: ASMAR | B17: =IF($A17="","",COUNTIFS(MAESTRO!$C$2:$C$1202,$A17,MAESTRO!$F$2:$F$1202,"<>")) -> 0 | C17: =IF($A17="","",COUNTIFS(MAESTRO!$C$2:$C$1202,$A17,MAESTRO!$J$2:$J$1202,"SI",MAESTRO!$F$2:$F$1202,"<>")) -> 0 | D17: =IF($A17="","",COUNTIFS(MAESTRO!$C$2:$C$1202,$A17,MAESTRO!$J$2:$J$1202,"NO",MAESTRO!$F$2:$F$1202,"<>")) -> 0 | E17: =IF($A17="","",B17-C17-D17) -> 0 | F17: =IF($A17="","",COUNTIFS(MAESTRO!$C$2:$C$1202,$A17,MAESTRO!$M$2:$M$1202,"VIP",MAESTRO!$F$2:$F$1202,"<>")) -> 0 | G17: =IF($A17="","",COUNTIFS(MAESTRO!$C$2:$C$1202,$A17,MAESTRO!$M$2:$M$1202,"LATERAL VIP",MAESTRO!$F$2:$F$1202,"<>")) -> 0 | H17: =IF($A17="","",COUNTIFS(MAESTRO!$C$2:$C$1202,$A17,MAESTRO!$M$2:$M$1202,"LATERAL",MAESTRO!$F$2:$F$1202,"<>")) -> 0 | I17: =IF($A17="","",COUNTIFS(MAESTRO!$C$2:$C$1202,$A17,MAESTRO!$N$2:$N$1202,"SI",MAESTRO!$F$2:$F$1202,"<>")) -> 0
A18: ASMAR DIRECCIÓN | B18: =IF($A18="","",COUNTIFS(MAESTRO!$C$2:$C$1202,$A18,MAESTRO!$F$2:$F$1202,"<>")) -> 25 | C18: =IF($A18="","",COUNTIFS(MAESTRO!$C$2:$C$1202,$A18,MAESTRO!$J$2:$J$1202,"SI",MAESTRO!$F$2:$F$1202,"<>")) -> 25 | D18: =IF($A18="","",COUNTIFS(MAESTRO!$C$2:$C$1202,$A18,MAESTRO!$J$2:$J$1202,"NO",MAESTRO!$F$2:$F$1202,"<>")) -> 0 | E18: =IF($A18="","",B18-C18-D18) -> 0 | F18: =IF($A18="","",COUNTIFS(MAESTRO!$C$2:$C$1202,$A18,MAESTRO!$M$2:$M$1202,"VIP",MAESTRO!$F$2:$F$1202,"<>")) -> 1 | G18: =IF($A18="","",COUNTIFS(MAESTRO!$C$2:$C$1202,$A18,MAESTRO!$M$2:$M$1202,"LATERAL VIP",MAESTRO!$F$2:$F$1202,"<>")) -> 11 | H18: =IF($A18="","",COUNTIFS(MAESTRO!$C$2:$C$1202,$A18,MAESTRO!$M$2:$M$1202,"LATERAL",MAESTRO!$F$2:$F$1202,"<>")) -> 13 | I18: =IF($A18="","",COUNTIFS(MAESTRO!$C$2:$C$1202,$A18,MAESTRO!$N$2:$N$1202,"SI",MAESTRO!$F$2:$F$1202,"<>")) -> 1
A19: ASMARMAG | B19: =IF($A19="","",COUNTIFS(MAESTRO!$C$2:$C$1202,$A19,MAESTRO!$F$2:$F$1202,"<>")) -> 8 | C19: =IF($A19="","",COUNTIFS(MAESTRO!$C$2:$C$1202,$A19,MAESTRO!$J$2:$J$1202,"SI",MAESTRO!$F$2:$F$1202,"<>")) -> 8 | D19: =IF($A19="","",COUNTIFS(MAESTRO!$C$2:$C$1202,$A19,MAESTRO!$J$2:$J$1202,"NO",MAESTRO!$F$2:$F$1202,"<>")) -> 0 | E19: =IF($A19="","",B19-C19-D19) -> 0 | F19: =IF($A19="","",COUNTIFS(MAESTRO!$C$2:$C$1202,$A19,MAESTRO!$M$2:$M$1202,"VIP",MAESTRO!$F$2:$F$1202,"<>")) -> 0 | G19: =IF($A19="","",COUNTIFS(MAESTRO!$C$2:$C$1202,$A19,MAESTRO!$M$2:$M$1202,"LATERAL VIP",MAESTRO!$F$2:$F$1202,"<>")) -> 0 | H19: =IF($A19="","",COUNTIFS(MAESTRO!$C$2:$C$1202,$A19,MAESTRO!$M$2:$M$1202,"LATERAL",MAESTRO!$F$2:$F$1202,"<>")) -> 8 | I19: =IF($A19="","",COUNTIFS(MAESTRO!$C$2:$C$1202,$A19,MAESTRO!$N$2:$N$1202,"SI",MAESTRO!$F$2:$F$1202,"<>")) -> 0
A20: ASMARTALC | B20: =IF($A20="","",COUNTIFS(MAESTRO!$C$2:$C$1202,$A20,MAESTRO!$F$2:$F$1202,"<>")) -> 72 | C20: =IF($A20="","",COUNTIFS(MAESTRO!$C$2:$C$1202,$A20,MAESTRO!$J$2:$J$1202,"SI",MAESTRO!$F$2:$F$1202,"<>")) -> 67 | D20: =IF($A20="","",COUNTIFS(MAESTRO!$C$2:$C$1202,$A20,MAESTRO!$J$2:$J$1202,"NO",MAESTRO!$F$2:$F$1202,"<>")) -> 4 | E20: =IF($A20="","",B20-C20-D20) -> 1 | F20: =IF($A20="","",COUNTIFS(MAESTRO!$C$2:$C$1202,$A20,MAESTRO!$M$2:$M$1202,"VIP",MAESTRO!$F$2:$F$1202,"<>")) -> 0 | G20: =IF($A20="","",COUNTIFS(MAESTRO!$C$2:$C$1202,$A20,MAESTRO!$M$2:$M$1202,"LATERAL VIP",MAESTRO!$F$2:$F$1202,"<>")) -> 1 | H20: =IF($A20="","",COUNTIFS(MAESTRO!$C$2:$C$1202,$A20,MAESTRO!$M$2:$M$1202,"LATERAL",MAESTRO!$F$2:$F$1202,"<>")) -> 70 | I20: =IF($A20="","",COUNTIFS(MAESTRO!$C$2:$C$1202,$A20,MAESTRO!$N$2:$N$1202,"SI",MAESTRO!$F$2:$F$1202,"<>")) -> 0
A21: ASMARVALP | B21: =IF($A21="","",COUNTIFS(MAESTRO!$C$2:$C$1202,$A21,MAESTRO!$F$2:$F$1202,"<>")) -> 11 | C21: =IF($A21="","",COUNTIFS(MAESTRO!$C$2:$C$1202,$A21,MAESTRO!$J$2:$J$1202,"SI",MAESTRO!$F$2:$F$1202,"<>")) -> 11 | D21: =IF($A21="","",COUNTIFS(MAESTRO!$C$2:$C$1202,$A21,MAESTRO!$J$2:$J$1202,"NO",MAESTRO!$F$2:$F$1202,"<>")) -> 0 | E21: =IF($A21="","",B21-C21-D21) -> 0 | F21: =IF($A21="","",COUNTIFS(MAESTRO!$C$2:$C$1202,$A21,MAESTRO!$M$2:$M$1202,"VIP",MAESTRO!$F$2:$F$1202,"<>")) -> 0 | G21: =IF($A21="","",COUNTIFS(MAESTRO!$C$2:$C$1202,$A21,MAESTRO!$M$2:$M$1202,"LATERAL VIP",MAESTRO!$F$2:$F$1202,"<>")) -> 1 | H21: =IF($A21="","",COUNTIFS(MAESTRO!$C$2:$C$1202,$A21,MAESTRO!$M$2:$M$1202,"LATERAL",MAESTRO!$F$2:$F$1202,"<>")) -> 10 | I21: =IF($A21="","",COUNTIFS(MAESTRO!$C$2:$C$1202,$A21,MAESTRO!$N$2:$N$1202,"SI",MAESTRO!$F$2:$F$1202,"<>")) -> 0
A22: CIVILES | B22: =IF($A22="","",COUNTIFS(MAESTRO!$C$2:$C$1202,$A22,MAESTRO!$F$2:$F$1202,"<>")) -> 3 | C22: =IF($A22="","",COUNTIFS(MAESTRO!$C$2:$C$1202,$A22,MAESTRO!$J$2:$J$1202,"SI",MAESTRO!$F$2:$F$1202,"<>")) -> 1 | D22: =IF($A22="","",COUNTIFS(MAESTRO!$C$2:$C$1202,$A22,MAESTRO!$J$2:$J$1202,"NO",MAESTRO!$F$2:$F$1202,"<>")) -> 1 | E22: =IF($A22="","",B22-C22-D22) -> 1 | F22: =IF($A22="","",COUNTIFS(MAESTRO!$C$2:$C$1202,$A22,MAESTRO!$M$2:$M$1202,"VIP",MAESTRO!$F$2:$F$1202,"<>")) -> 1 | G22: =IF($A22="","",COUNTIFS(MAESTRO!$C$2:$C$1202,$A22,MAESTRO!$M$2:$M$1202,"LATERAL VIP",MAESTRO!$F$2:$F$1202,"<>")) -> 1 | H22: =IF($A22="","",COUNTIFS(MAESTRO!$C$2:$C$1202,$A22,MAESTRO!$M$2:$M$1202,"LATERAL",MAESTRO!$F$2:$F$1202,"<>")) -> 1 | I22: =IF($A22="","",COUNTIFS(MAESTRO!$C$2:$C$1202,$A22,MAESTRO!$N$2:$N$1202,"SI",MAESTRO!$F$2:$F$1202,"<>")) -> 1
A23: INVITADOS ASMAR | B23: =IF($A23="","",COUNTIFS(MAESTRO!$C$2:$C$1202,$A23,MAESTRO!$F$2:$F$1202,"<>")) -> 0 | C23: =IF($A23="","",COUNTIFS(MAESTRO!$C$2:$C$1202,$A23,MAESTRO!$J$2:$J$1202,"SI",MAESTRO!$F$2:$F$1202,"<>")) -> 0 | D23: =IF($A23="","",COUNTIFS(MAESTRO!$C$2:$C$1202,$A23,MAESTRO!$J$2:$J$1202,"NO",MAESTRO!$F$2:$F$1202,"<>")) -> 0 | E23: =IF($A23="","",B23-C23-D23) -> 0 | F23: =IF($A23="","",COUNTIFS(MAESTRO!$C$2:$C$1202,$A23,MAESTRO!$M$2:$M$1202,"VIP",MAESTRO!$F$2:$F$1202,"<>")) -> 0 | G23: =IF($A23="","",COUNTIFS(MAESTRO!$C$2:$C$1202,$A23,MAESTRO!$M$2:$M$1202,"LATERAL VIP",MAESTRO!$F$2:$F$1202,"<>")) -> 0 | H23: =IF($A23="","",COUNTIFS(MAESTRO!$C$2:$C$1202,$A23,MAESTRO!$M$2:$M$1202,"LATERAL",MAESTRO!$F$2:$F$1202,"<>")) -> 0 | I23: =IF($A23="","",COUNTIFS(MAESTRO!$C$2:$C$1202,$A23,MAESTRO!$N$2:$N$1202,"SI",MAESTRO!$F$2:$F$1202,"<>")) -> 0
A24: INVITADOS DGSA | B24: =IF($A24="","",COUNTIFS(MAESTRO!$C$2:$C$1202,$A24,MAESTRO!$F$2:$F$1202,"<>")) -> 15 | C24: =IF($A24="","",COUNTIFS(MAESTRO!$C$2:$C$1202,$A24,MAESTRO!$J$2:$J$1202,"SI",MAESTRO!$F$2:$F$1202,"<>")) -> 5 | D24: =IF($A24="","",COUNTIFS(MAESTRO!$C$2:$C$1202,$A24,MAESTRO!$J$2:$J$1202,"NO",MAESTRO!$F$2:$F$1202,"<>")) -> 5 | E24: =IF($A24="","",B24-C24-D24) -> 5 | F24: =IF($A24="","",COUNTIFS(MAESTRO!$C$2:$C$1202,$A24,MAESTRO!$M$2:$M$1202,"VIP",MAESTRO!$F$2:$F$1202,"<>")) -> 3 | G24: =IF($A24="","",COUNTIFS(MAESTRO!$C$2:$C$1202,$A24,MAESTRO!$M$2:$M$1202,"LATERAL VIP",MAESTRO!$F$2:$F$1202,"<>")) -> 7 | H24: =IF($A24="","",COUNTIFS(MAESTRO!$C$2:$C$1202,$A24,MAESTRO!$M$2:$M$1202,"LATERAL",MAESTRO!$F$2:$F$1202,"<>")) -> 3 | I24: =IF($A24="","",COUNTIFS(MAESTRO!$C$2:$C$1202,$A24,MAESTRO!$N$2:$N$1202,"SI",MAESTRO!$F$2:$F$1202,"<>")) -> 2
A25: MADRINA | B25: =IF($A25="","",COUNTIFS(MAESTRO!$C$2:$C$1202,$A25,MAESTRO!$F$2:$F$1202,"<>")) -> 29 | C25: =IF($A25="","",COUNTIFS(MAESTRO!$C$2:$C$1202,$A25,MAESTRO!$J$2:$J$1202,"SI",MAESTRO!$F$2:$F$1202,"<>")) -> 14 | D25: =IF($A25="","",COUNTIFS(MAESTRO!$C$2:$C$1202,$A25,MAESTRO!$J$2:$J$1202,"NO",MAESTRO!$F$2:$F$1202,"<>")) -> 14 | E25: =IF($A25="","",B25-C25-D25) -> 1 | F25: =IF($A25="","",COUNTIFS(MAESTRO!$C$2:$C$1202,$A25,MAESTRO!$M$2:$M$1202,"VIP",MAESTRO!$F$2:$F$1202,"<>")) -> 3 | G25: =IF($A25="","",COUNTIFS(MAESTRO!$C$2:$C$1202,$A25,MAESTRO!$M$2:$M$1202,"LATERAL VIP",MAESTRO!$F$2:$F$1202,"<>")) -> 12 | H25: =IF($A25="","",COUNTIFS(MAESTRO!$C$2:$C$1202,$A25,MAESTRO!$M$2:$M$1202,"LATERAL",MAESTRO!$F$2:$F$1202,"<>")) -> 5 | I25: =IF($A25="","",COUNTIFS(MAESTRO!$C$2:$C$1202,$A25,MAESTRO!$N$2:$N$1202,"SI",MAESTRO!$F$2:$F$1202,"<>")) -> 0
A26: MANDOS SEZONA | B26: =IF($A26="","",COUNTIFS(MAESTRO!$C$2:$C$1202,$A26,MAESTRO!$F$2:$F$1202,"<>")) -> 37 | C26: =IF($A26="","",COUNTIFS(MAESTRO!$C$2:$C$1202,$A26,MAESTRO!$J$2:$J$1202,"SI",MAESTRO!$F$2:$F$1202,"<>")) -> 27 | D26: =IF($A26="","",COUNTIFS(MAESTRO!$C$2:$C$1202,$A26,MAESTRO!$J$2:$J$1202,"NO",MAESTRO!$F$2:$F$1202,"<>")) -> 2 | E26: =IF($A26="","",B26-C26-D26) -> 8 | F26: =IF($A26="","",COUNTIFS(MAESTRO!$C$2:$C$1202,$A26,MAESTRO!$M$2:$M$1202,"VIP",MAESTRO!$F$2:$F$1202,"<>")) -> 0 | G26: =IF($A26="","",COUNTIFS(MAESTRO!$C$2:$C$1202,$A26,MAESTRO!$M$2:$M$1202,"LATERAL VIP",MAESTRO!$F$2:$F$1202,"<>")) -> 10 | H26: =IF($A26="","",COUNTIFS(MAESTRO!$C$2:$C$1202,$A26,MAESTRO!$M$2:$M$1202,"LATERAL",MAESTRO!$F$2:$F$1202,"<>")) -> 27 | I26: =IF($A26="","",COUNTIFS(MAESTRO!$C$2:$C$1202,$A26,MAESTRO!$N$2:$N$1202,"SI",MAESTRO!$F$2:$F$1202,"<>")) -> 0
A27: MILITARES | B27: =IF($A27="","",COUNTIFS(MAESTRO!$C$2:$C$1202,$A27,MAESTRO!$F$2:$F$1202,"<>")) -> 46 | C27: =IF($A27="","",COUNTIFS(MAESTRO!$C$2:$C$1202,$A27,MAESTRO!$J$2:$J$1202,"SI",MAESTRO!$F$2:$F$1202,"<>")) -> 26 | D27: =IF($A27="","",COUNTIFS(MAESTRO!$C$2:$C$1202,$A27,MAESTRO!$J$2:$J$1202,"NO",MAESTRO!$F$2:$F$1202,"<>")) -> 16 | E27: =IF($A27="","",B27-C27-D27) -> 4 | F27: =IF($A27="","",COUNTIFS(MAESTRO!$C$2:$C$1202,$A27,MAESTRO!$M$2:$M$1202,"VIP",MAESTRO!$F$2:$F$1202,"<>")) -> 7 | G27: =IF($A27="","",COUNTIFS(MAESTRO!$C$2:$C$1202,$A27,MAESTRO!$M$2:$M$1202,"LATERAL VIP",MAESTRO!$F$2:$F$1202,"<>")) -> 31 | H27: =IF($A27="","",COUNTIFS(MAESTRO!$C$2:$C$1202,$A27,MAESTRO!$M$2:$M$1202,"LATERAL",MAESTRO!$F$2:$F$1202,"<>")) -> 5 | I27: =IF($A27="","",COUNTIFS(MAESTRO!$C$2:$C$1202,$A27,MAESTRO!$N$2:$N$1202,"SI",MAESTRO!$F$2:$F$1202,"<>")) -> 6
... A34: PROVEEDORES | B34: =IF($A34="","",COUNTIFS(MAESTRO!$C$2:$C$1202,$A34,MAESTRO!$F$2:$F$1202,"<>")) -> 82 | C34: =IF($A34="","",COUNTIFS(MAESTRO!$C$2:$C$1202,$A34,MAESTRO!$J$2:$J$1202,"SI",MAESTRO!$F$2:$F$1202,"<>")) -> 44 | D34: =IF($A34="","",COUNTIFS(MAESTRO!$C$2:$C$1202,$A34,MAESTRO!$J$2:$J$1202,"NO",MAESTRO!$F$2:$F$1202,"<>")) -> 15 | E34: =IF($A34="","",B34-C34-D34) -> 23 | F34: =IF($A34="","",COUNTIFS(MAESTRO!$C$2:$C$1202,$A34,MAESTRO!$M$2:$M$1202,"VIP",MAESTRO!$F$2:$F$1202,"<>")) -> 41 | G34: =IF($A34="","",COUNTIFS(MAESTRO!$C$2:$C$1202,$A34,MAESTRO!$M$2:$M$1202,"LATERAL VIP",MAESTRO!$F$2:$F$1202,"<>")) -> 25 | H34: =IF($A34="","",COUNTIFS(MAESTRO!$C$2:$C$1202,$A34,MAESTRO!$M$2:$M$1202,"LATERAL",MAESTRO!$F$2:$F$1202,"<>")) -> 7 | I34: =IF($A34="","",COUNTIFS(MAESTRO!$C$2:$C$1202,$A34,MAESTRO!$N$2:$N$1202,"SI",MAESTRO!$F$2:$F$1202,"<>")) -> 18
B35: =IF($A35="","",COUNTIFS(MAESTRO!$C$2:$C$1202,$A35,MAESTRO!$F$2:$F$1202,"<>")) | C35: =IF($A35="","",COUNTIFS(MAESTRO!$C$2:$C$1202,$A35,MAESTRO!$J$2:$J$1202,"SI",MAESTRO!$F$2:$F$1202,"<>")) | D35: =IF($A35="","",COUNTIFS(MAESTRO!$C$2:$C$1202,$A35,MAESTRO!$J$2:$J$1202,"NO",MAESTRO!$F$2:$F$1202,"<>")) | E35: =IF($A35="","",B35-C35-D35) | F35: =IF($A35="","",COUNTIFS(MAESTRO!$C$2:$C$1202,$A35,MAESTRO!$M$2:$M$1202,"VIP",MAESTRO!$F$2:$F$1202,"<>")) | G35: =IF($A35="","",COUNTIFS(MAESTRO!$C$2:$C$1202,$A35,MAESTRO!$M$2:$M$1202,"LATERAL VIP",MAESTRO!$F$2:$F$1202,"<>")) | H35: =IF($A35="","",COUNTIFS(MAESTRO!$C$2:$C$1202,$A35,MAESTRO!$M$2:$M$1202,"LATERAL",MAESTRO!$F$2:$F$1202,"<>")) | I35: =IF($A35="","",COUNTIFS(MAESTRO!$C$2:$C$1202,$A35,MAESTRO!$N$2:$N$1202,"SI",MAESTRO!$F$2:$F$1202,"<>"))
B36: =IF($A36="","",COUNTIFS(MAESTRO!$C$2:$C$1202,$A36,MAESTRO!$F$2:$F$1202,"<>")) | C36: =IF($A36="","",COUNTIFS(MAESTRO!$C$2:$C$1202,$A36,MAESTRO!$J$2:$J$1202,"SI",MAESTRO!$F$2:$F$1202,"<>")) | D36: =IF($A36="","",COUNTIFS(MAESTRO!$C$2:$C$1202,$A36,MAESTRO!$J$2:$J$1202,"NO",MAESTRO!$F$2:$F$1202,"<>")) | E36: =IF($A36="","",B36-C36-D36) | F36: =IF($A36="","",COUNTIFS(MAESTRO!$C$2:$C$1202,$A36,MAESTRO!$M$2:$M$1202,"VIP",MAESTRO!$F$2:$F$1202,"<>")) | G36: =IF($A36="","",COUNTIFS(MAESTRO!$C$2:$C$1202,$A36,MAESTRO!$M$2:$M$1202,"LATERAL VIP",MAESTRO!$F$2:$F$1202,"<>")) | H36: =IF($A36="","",COUNTIFS(MAESTRO!$C$2:$C$1202,$A36,MAESTRO!$M$2:$M$1202,"LATERAL",MAESTRO!$F$2:$F$1202,"<>")) | I36: =IF($A36="","",COUNTIFS(MAESTRO!$C$2:$C$1202,$A36,MAESTRO!$N$2:$N$1202,"SI",MAESTRO!$F$2:$F$1202,"<>"))
B37: =IF($A37="","",COUNTIFS(MAESTRO!$C$2:$C$1202,$A37,MAESTRO!$F$2:$F$1202,"<>")) | C37: =IF($A37="","",COUNTIFS(MAESTRO!$C$2:$C$1202,$A37,MAESTRO!$J$2:$J$1202,"SI",MAESTRO!$F$2:$F$1202,"<>")) | D37: =IF($A37="","",COUNTIFS(MAESTRO!$C$2:$C$1202,$A37,MAESTRO!$J$2:$J$1202,"NO",MAESTRO!$F$2:$F$1202,"<>")) | E37: =IF($A37="","",B37-C37-D37) | F37: =IF($A37="","",COUNTIFS(MAESTRO!$C$2:$C$1202,$A37,MAESTRO!$M$2:$M$1202,"VIP",MAESTRO!$F$2:$F$1202,"<>")) | G37: =IF($A37="","",COUNTIFS(MAESTRO!$C$2:$C$1202,$A37,MAESTRO!$M$2:$M$1202,"LATERAL VIP",MAESTRO!$F$2:$F$1202,"<>")) | H37: =IF($A37="","",COUNTIFS(MAESTRO!$C$2:$C$1202,$A37,MAESTRO!$M$2:$M$1202,"LATERAL",MAESTRO!$F$2:$F$1202,"<>")) | I37: =IF($A37="","",COUNTIFS(MAESTRO!$C$2:$C$1202,$A37,MAESTRO!$N$2:$N$1202,"SI",MAESTRO!$F$2:$F$1202,"<>"))
B38: =IF($A38="","",COUNTIFS(MAESTRO!$C$2:$C$1202,$A38,MAESTRO!$F$2:$F$1202,"<>")) | C38: =IF($A38="","",COUNTIFS(MAESTRO!$C$2:$C$1202,$A38,MAESTRO!$J$2:$J$1202,"SI",MAESTRO!$F$2:$F$1202,"<>")) | D38: =IF($A38="","",COUNTIFS(MAESTRO!$C$2:$C$1202,$A38,MAESTRO!$J$2:$J$1202,"NO",MAESTRO!$F$2:$F$1202,"<>")) | E38: =IF($A38="","",B38-C38-D38) | F38: =IF($A38="","",COUNTIFS(MAESTRO!$C$2:$C$1202,$A38,MAESTRO!$M$2:$M$1202,"VIP",MAESTRO!$F$2:$F$1202,"<>")) | G38: =IF($A38="","",COUNTIFS(MAESTRO!$C$2:$C$1202,$A38,MAESTRO!$M$2:$M$1202,"LATERAL VIP",MAESTRO!$F$2:$F$1202,"<>")) | H38: =IF($A38="","",COUNTIFS(MAESTRO!$C$2:$C$1202,$A38,MAESTRO!$M$2:$M$1202,"LATERAL",MAESTRO!$F$2:$F$1202,"<>")) | I38: =IF($A38="","",COUNTIFS(MAESTRO!$C$2:$C$1202,$A38,MAESTRO!$N$2:$N$1202,"SI",MAESTRO!$F$2:$F$1202,"<>"))
B39: =IF($A39="","",COUNTIFS(MAESTRO!$C$2:$C$1202,$A39,MAESTRO!$F$2:$F$1202,"<>")) | C39: =IF($A39="","",COUNTIFS(MAESTRO!$C$2:$C$1202,$A39,MAESTRO!$J$2:$J$1202,"SI",MAESTRO!$F$2:$F$1202,"<>")) | D39: =IF($A39="","",COUNTIFS(MAESTRO!$C$2:$C$1202,$A39,MAESTRO!$J$2:$J$1202,"NO",MAESTRO!$F$2:$F$1202,"<>")) | E39: =IF($A39="","",B39-C39-D39) | F39: =IF($A39="","",COUNTIFS(MAESTRO!$C$2:$C$1202,$A39,MAESTRO!$M$2:$M$1202,"VIP",MAESTRO!$F$2:$F$1202,"<>")) | G39: =IF($A39="","",COUNTIFS(MAESTRO!$C$2:$C$1202,$A39,MAESTRO!$M$2:$M$1202,"LATERAL VIP",MAESTRO!$F$2:$F$1202,"<>")) | H39: =IF($A39="","",COUNTIFS(MAESTRO!$C$2:$C$1202,$A39,MAESTRO!$M$2:$M$1202,"LATERAL",MAESTRO!$F$2:$F$1202,"<>")) | I39: =IF($A39="","",COUNTIFS(MAESTRO!$C$2:$C$1202,$A39,MAESTRO!$N$2:$N$1202,"SI",MAESTRO!$F$2:$F$1202,"<>"))
B40: =IF($A40="","",COUNTIFS(MAESTRO!$C$2:$C$1202,$A40,MAESTRO!$F$2:$F$1202,"<>")) | C40: =IF($A40="","",COUNTIFS(MAESTRO!$C$2:$C$1202,$A40,MAESTRO!$J$2:$J$1202,"SI",MAESTRO!$F$2:$F$1202,"<>")) | D40: =IF($A40="","",COUNTIFS(MAESTRO!$C$2:$C$1202,$A40,MAESTRO!$J$2:$J$1202,"NO",MAESTRO!$F$2:$F$1202,"<>")) | E40: =IF($A40="","",B40-C40-D40) | F40: =IF($A40="","",COUNTIFS(MAESTRO!$C$2:$C$1202,$A40,MAESTRO!$M$2:$M$1202,"VIP",MAESTRO!$F$2:$F$1202,"<>")) | G40: =IF($A40="","",COUNTIFS(MAESTRO!$C$2:$C$1202,$A40,MAESTRO!$M$2:$M$1202,"LATERAL VIP",MAESTRO!$F$2:$F$1202,"<>")) | H40: =IF($A40="","",COUNTIFS(MAESTRO!$C$2:$C$1202,$A40,MAESTRO!$M$2:$M$1202,"LATERAL",MAESTRO!$F$2:$F$1202,"<>")) | I40: =IF($A40="","",COUNTIFS(MAESTRO!$C$2:$C$1202,$A40,MAESTRO!$N$2:$N$1202,"SI",MAESTRO!$F$2:$F$1202,"<>"))
B41: =IF($A41="","",COUNTIFS(MAESTRO!$C$2:$C$1202,$A41,MAESTRO!$F$2:$F$1202,"<>")) | C41: =IF($A41="","",COUNTIFS(MAESTRO!$C$2:$C$1202,$A41,MAESTRO!$J$2:$J$1202,"SI",MAESTRO!$F$2:$F$1202,"<>")) | D41: =IF($A41="","",COUNTIFS(MAESTRO!$C$2:$C$1202,$A41,MAESTRO!$J$2:$J$1202,"NO",MAESTRO!$F$2:$F$1202,"<>")) | E41: =IF($A41="","",B41-C41-D41) | F41: =IF($A41="","",COUNTIFS(MAESTRO!$C$2:$C$1202,$A41,MAESTRO!$M$2:$M$1202,"VIP",MAESTRO!$F$2:$F$1202,"<>")) | G41: =IF($A41="","",COUNTIFS(MAESTRO!$C$2:$C$1202,$A41,MAESTRO!$M$2:$M$1202,"LATERAL VIP",MAESTRO!$F$2:$F$1202,"<>")) | H41: =IF($A41="","",COUNTIFS(MAESTRO!$C$2:$C$1202,$A41,MAESTRO!$M$2:$M$1202,"LATERAL",MAESTRO!$F$2:$F$1202,"<>")) | I41: =IF($A41="","",COUNTIFS(MAESTRO!$C$2:$C$1202,$A41,MAESTRO!$N$2:$N$1202,"SI",MAESTRO!$F$2:$F$1202,"<>"))
B42: =IF($A42="","",COUNTIFS(MAESTRO!$C$2:$C$1202,$A42,MAESTRO!$F$2:$F$1202,"<>")) | C42: =IF($A42="","",COUNTIFS(MAESTRO!$C$2:$C$1202,$A42,MAESTRO!$J$2:$J$1202,"SI",MAESTRO!$F$2:$F$1202,"<>")) | D42: =IF($A42="","",COUNTIFS(MAESTRO!$C$2:$C$1202,$A42,MAESTRO!$J$2:$J$1202,"NO",MAESTRO!$F$2:$F$1202,"<>")) | E42: =IF($A42="","",B42-C42-D42) | F42: =IF($A42="","",COUNTIFS(MAESTRO!$C$2:$C$1202,$A42,MAESTRO!$M$2:$M$1202,"VIP",MAESTRO!$F$2:$F$1202,"<>")) | G42: =IF($A42="","",COUNTIFS(MAESTRO!$C$2:$C$1202,$A42,MAESTRO!$M$2:$M$1202,"LATERAL VIP",MAESTRO!$F$2:$F$1202,"<>")) | H42: =IF($A42="","",COUNTIFS(MAESTRO!$C$2:$C$1202,$A42,MAESTRO!$M$2:$M$1202,"LATERAL",MAESTRO!$F$2:$F$1202,"<>")) | I42: =IF($A42="","",COUNTIFS(MAESTRO!$C$2:$C$1202,$A42,MAESTRO!$N$2:$N$1202,"SI",MAESTRO!$F$2:$F$1202,"<>"))
B43: =IF($A43="","",COUNTIFS(MAESTRO!$C$2:$C$1202,$A43,MAESTRO!$F$2:$F$1202,"<>")) | C43: =IF($A43="","",COUNTIFS(MAESTRO!$C$2:$C$1202,$A43,MAESTRO!$J$2:$J$1202,"SI",MAESTRO!$F$2:$F$1202,"<>")) | D43: =IF($A43="","",COUNTIFS(MAESTRO!$C$2:$C$1202,$A43,MAESTRO!$J$2:$J$1202,"NO",MAESTRO!$F$2:$F$1202,"<>")) | E43: =IF($A43="","",B43-C43-D43) | F43: =IF($A43="","",COUNTIFS(MAESTRO!$C$2:$C$1202,$A43,MAESTRO!$M$2:$M$1202,"VIP",MAESTRO!$F$2:$F$1202,"<>")) | G43: =IF($A43="","",COUNTIFS(MAESTRO!$C$2:$C$1202,$A43,MAESTRO!$M$2:$M$1202,"LATERAL VIP",MAESTRO!$F$2:$F$1202,"<>")) | H43: =IF($A43="","",COUNTIFS(MAESTRO!$C$2:$C$1202,$A43,MAESTRO!$M$2:$M$1202,"LATERAL",MAESTRO!$F$2:$F$1202,"<>")) | I43: =IF($A43="","",COUNTIFS(MAESTRO!$C$2:$C$1202,$A43,MAESTRO!$N$2:$N$1202,"SI",MAESTRO!$F$2:$F$1202,"<>"))
B44: =IF($A44="","",COUNTIFS(MAESTRO!$C$2:$C$1202,$A44,MAESTRO!$F$2:$F$1202,"<>")) | C44: =IF($A44="","",COUNTIFS(MAESTRO!$C$2:$C$1202,$A44,MAESTRO!$J$2:$J$1202,"SI",MAESTRO!$F$2:$F$1202,"<>")) | D44: =IF($A44="","",COUNTIFS(MAESTRO!$C$2:$C$1202,$A44,MAESTRO!$J$2:$J$1202,"NO",MAESTRO!$F$2:$F$1202,"<>")) | E44: =IF($A44="","",B44-C44-D44) | F44: =IF($A44="","",COUNTIFS(MAESTRO!$C$2:$C$1202,$A44,MAESTRO!$M$2:$M$1202,"VIP",MAESTRO!$F$2:$F$1202,"<>")) | G44: =IF($A44="","",COUNTIFS(MAESTRO!$C$2:$C$1202,$A44,MAESTRO!$M$2:$M$1202,"LATERAL VIP",MAESTRO!$F$2:$F$1202,"<>")) | H44: =IF($A44="","",COUNTIFS(MAESTRO!$C$2:$C$1202,$A44,MAESTRO!$M$2:$M$1202,"LATERAL",MAESTRO!$F$2:$F$1202,"<>")) | I44: =IF($A44="","",COUNTIFS(MAESTRO!$C$2:$C$1202,$A44,MAESTRO!$N$2:$N$1202,"SI",MAESTRO!$F$2:$F$1202,"<>"))
B45: =IF($A45="","",COUNTIFS(MAESTRO!$C$2:$C$1202,$A45,MAESTRO!$F$2:$F$1202,"<>")) | C45: =IF($A45="","",COUNTIFS(MAESTRO!$C$2:$C$1202,$A45,MAESTRO!$J$2:$J$1202,"SI",MAESTRO!$F$2:$F$1202,"<>")) | D45: =IF($A45="","",COUNTIFS(MAESTRO!$C$2:$C$1202,$A45,MAESTRO!$J$2:$J$1202,"NO",MAESTRO!$F$2:$F$1202,"<>")) | E45: =IF($A45="","",B45-C45-D45) | F45: =IF($A45="","",COUNTIFS(MAESTRO!$C$2:$C$1202,$A45,MAESTRO!$M$2:$M$1202,"VIP",MAESTRO!$F$2:$F$1202,"<>")) | G45: =IF($A45="","",COUNTIFS(MAESTRO!$C$2:$C$1202,$A45,MAESTRO!$M$2:$M$1202,"LATERAL VIP",MAESTRO!$F$2:$F$1202,"<>")) | H45: =IF($A45="","",COUNTIFS(MAESTRO!$C$2:$C$1202,$A45,MAESTRO!$M$2:$M$1202,"LATERAL",MAESTRO!$F$2:$F$1202,"<>")) | I45: =IF($A45="","",COUNTIFS(MAESTRO!$C$2:$C$1202,$A45,MAESTRO!$N$2:$N$1202,"SI",MAESTRO!$F$2:$F$1202,"<>"))
B46: =IF($A46="","",COUNTIFS(MAESTRO!$C$2:$C$1202,$A46,MAESTRO!$F$2:$F$1202,"<>")) | C46: =IF($A46="","",COUNTIFS(MAESTRO!$C$2:$C$1202,$A46,MAESTRO!$J$2:$J$1202,"SI",MAESTRO!$F$2:$F$1202,"<>")) | D46: =IF($A46="","",COUNTIFS(MAESTRO!$C$2:$C$1202,$A46,MAESTRO!$J$2:$J$1202,"NO",MAESTRO!$F$2:$F$1202,"<>")) | E46: =IF($A46="","",B46-C46-D46) | F46: =IF($A46="","",COUNTIFS(MAESTRO!$C$2:$C$1202,$A46,MAESTRO!$M$2:$M$1202,"VIP",MAESTRO!$F$2:$F$1202,"<>")) | G46: =IF($A46="","",COUNTIFS(MAESTRO!$C$2:$C$1202,$A46,MAESTRO!$M$2:$M$1202,"LATERAL VIP",MAESTRO!$F$2:$F$1202,"<>")) | H46: =IF($A46="","",COUNTIFS(MAESTRO!$C$2:$C$1202,$A46,MAESTRO!$M$2:$M$1202,"LATERAL",MAESTRO!$F$2:$F$1202,"<>")) | I46: =IF($A46="","",COUNTIFS(MAESTRO!$C$2:$C$1202,$A46,MAESTRO!$N$2:$N$1202,"SI",MAESTRO!$F$2:$F$1202,"<>"))
... B80: =IF($A80="","",COUNTIFS(MAESTRO!$C$2:$C$1202,$A80,MAESTRO!$F$2:$F$1202,"<>")) | C80: =IF($A80="","",COUNTIFS(MAESTRO!$C$2:$C$1202,$A80,MAESTRO!$J$2:$J$1202,"SI",MAESTRO!$F$2:$F$1202,"<>")) | D80: =IF($A80="","",COUNTIFS(MAESTRO!$C$2:$C$1202,$A80,MAESTRO!$J$2:$J$1202,"NO",MAESTRO!$F$2:$F$1202,"<>")) | E80: =IF($A80="","",B80-C80-D80) | F80: =IF($A80="","",COUNTIFS(MAESTRO!$C$2:$C$1202,$A80,MAESTRO!$M$2:$M$1202,"VIP",MAESTRO!$F$2:$F$1202,"<>")) | G80: =IF($A80="","",COUNTIFS(MAESTRO!$C$2:$C$1202,$A80,MAESTRO!$M$2:$M$1202,"LATERAL VIP",MAESTRO!$F$2:$F$1202,"<>")) | H80: =IF($A80="","",COUNTIFS(MAESTRO!$C$2:$C$1202,$A80,MAESTRO!$M$2:$M$1202,"LATERAL",MAESTRO!$F$2:$F$1202,"<>")) | I80: =IF($A80="","",COUNTIFS(MAESTRO!$C$2:$C$1202,$A80,MAESTRO!$N$2:$N$1202,"SI",MAESTRO!$F$2:$F$1202,"<>"))

Sheet DISTRIBUCION VIP
A1: DISTRIBUCIÓN VIP - DINÁMICA DESDE MAESTRO
A2: Al cambiar MAESTRO columna P / ASIENTO, este plano se actualiza automáticamente. Criterio: TRIBUNA BASE = VIP y AST. = SI.
A4: VIP SI | B4: =SUMPRODUCT((MAESTRO!$M$2:$M$1399="VIP")*(MAESTRO!$J$2:$J$1399="SI")*(MAESTRO!$F$2:$F$1399<>"")) -> 138
A5: Asientos válidos | B5: =155 -> 155
A6: Con asiento | B6: =SUMPRODUCT((LISTADO [1]VIP!$A$2:$A$1400<>"")*(LISTADO [1]VIP!$A$2:$A$1400<>"PENDIENTE POR ASIGNAR")) -> #NAME?
A7: Pendiente | B7: =SUMPRODUCT((LISTADO [1]VIP!$A$2:$A$1400="PENDIENTE POR ASIGNAR")) -> #NAME?
A8: Centro filas A/B/C | B8: ="23" -> 23
A9: Fila D | B9: ="D11-D17 reservado | D18-D27 sin silla | D28-D35 reservado" -> D11-D17 reservado | D18-D27 sin silla | D28-D35 reservado
B11: 1 | C11: 2 | D11: 3 | E11: 4 | F11: 5 | G11: 6 | H11: 7 | I11: 8 | J11: 9 | K11: 10 | L11: 11 | M11: 12 | N11: 13 | O11: 14 | P11: 15 | Q11: 16 | R11: 17 | S11: 18 | T11: 19 | U11: 20 | V11: 21 | W11: 22 | X11: 23 | Y11: 24 | Z11: 25 | AA11: 26 | AB11: 27 | AC11: 28 | AD11: 29 | AE11: 30 | AF11: 31 | AG11: 32 | AH11: 33 | AI11: 34 | AJ11: 35 | AK11: 36 | AL11: 37 | AM11: 38 | AN11: 39 | AO11: 40 | AP11: 41 | AQ11: 42 | AR11: 43 | AS11: 44 | AT11: 45
A12: FILA A | B12: =IFERROR("A1"&CHAR(10)&INDEX('LISTADO VIP'!$H$2:$H$1400,MATCH("A1",'LISTADO VIP'!$A$2:$A$1400,0))&CHAR(10)&INDEX('LISTADO VIP'!$I$2:$I$1400,MATCH("A1",'LISTADO VIP'!$A$2:$A$1400,0)),"A1") -> A1 Cristian Vergara Gerente General ESSBIO | C12: =IFERROR("A2"&CHAR(10)&INDEX('LISTADO VIP'!$H$2:$H$1400,MATCH("A2",'LISTADO VIP'!$A$2:$A$1400,0))&CHAR(10)&INDEX('LISTADO VIP'!$I$2:$I$1400,MATCH("A2",'LISTADO VIP'!$A$2:$A$1400,0)),"A2") -> A2 Rodrigo Cardoen Aylwin Invitado Especial Director ASMAR | D12: =IFERROR("A3"&CHAR(10)&INDEX('LISTADO VIP'!$H$2:$H$1400,MATCH("A3",'LISTADO VIP'!$A$2:$A$1400,0))&CHAR(10)&INDEX('LISTADO VIP'!$I$2:$I$1400,MATCH("A3",'LISTADO VIP'!$A$2:$A$1400,0)),"A3") -> A3 Julio Anativia Zamora Delegado Presidencial Región de Bio Bio | E12: =IFERROR("A4"&CHAR(10)&INDEX('LISTADO VIP'!$H$2:$H$1400,MATCH("A4",'LISTADO VIP'!$A$2:$A$1400,0))&CHAR(10)&INDEX('LISTADO VIP'!$I$2:$I$1400,MATCH("A4",'LISTADO VIP'!$A$2:$A$1400,0)),"A4") -> A4 Sergio Giacaman García Gobernador Región Bio Bio | F12: =IFERROR("A5"&CHAR(10)&INDEX('LISTADO VIP'!$H$2:$H$1400,MATCH("A5",'LISTADO VIP'!$A$2:$A$1400,0))&CHAR(10)&INDEX('LISTADO VIP'!$I$2:$I$1400,MATCH("A5",'LISTADO VIP'!$A$2:$A$1400,0)),"A5") -> A5 Marcela Larrañaga Martin Madrina | G12: =IFERROR("A6"&CHAR(10)&INDEX('LISTADO VIP'!$H$2:$H$1400,MATCH("A6",'LISTADO VIP'!$A$2:$A$1400,0))&CHAR(10)&INDEX('LISTADO VIP'!$I$2:$I$1400,MATCH("A6",'LISTADO VIP'!$A$2:$A$1400,0)),"A6") -> A6 Milka Gavilán Ortiz Comité CORFO - Presidenta Sindicato ASMAR | H12: =IFERROR("A7"&CHAR(10)&INDEX('LISTADO VIP'!$H$2:$H$1400,MATCH("A7",'LISTADO VIP'!$A$2:$A$1400,0))&CHAR(10)&INDEX('LISTADO VIP'!$I$2:$I$1400,MATCH("A7",'LISTADO VIP'!$A$2:$A$1400,0)),"A7") -> A7 Miguel Stange Muñoz *Comandante en Jefe de la Fuerza Aérea de Chile (S) | I12: =IFERROR("A8"&CHAR(10)&INDEX('LISTADO VIP'!$H$2:$H$1400,MATCH("A8",'LISTADO VIP'!$A$2:$A$1400,0))&CHAR(10)&INDEX('LISTADO VIP'!$I$2:$I$1400,MATCH("A8",'LISTADO VIP'!$A$2:$A$1400,0)),"A8") -> A8 Julio Leiva Molina Ex - Comandante en Jefe de la Armada | J12: =IFERROR("A9"&CHAR(10)&INDEX('LISTADO VIP'!$H$2:$H$1400,MATCH("A9",'LISTADO VIP'!$A$2:$A$1400,0))&CHAR(10)&INDEX('LISTADO VIP'!$I$2:$I$1400,MATCH("A9",'LISTADO VIP'!$A$2:$A$1400,0)),"A9") -> A9 Sone Kenko Embajadora de Japón en Chile | K12: =IFERROR("A10"&CHAR(10)&INDEX('LISTADO VIP'!$H$2:$H$1400,MATCH("A10",'LISTADO VIP'!$A$2:$A$1400,0))&CHAR(10)&INDEX('LISTADO VIP'!$I$2:$I$1400,MATCH("A10",'LISTADO VIP'!$A$2:$A$1400,0)),"A10") -> A10 Patricio Martínez Fernández Gerente General Mutual de Seguros de Chile | L12: =IFERROR("A11"&CHAR(10)&INDEX('LISTADO VIP'!$H$2:$H$1400,MATCH("A11",'LISTADO VIP'!$A$2:$A$1400,0))&CHAR(10)&INDEX('LISTADO VIP'!$I$2:$I$1400,MATCH("A11",'LISTADO VIP'!$A$2:$A$1400,0)),"A11") -> A11 Fernando García Presidente ASIMET A.G. | M12: =IFERROR("A12"&CHAR(10)&INDEX('LISTADO VIP'!$H$2:$H$1400,MATCH("A12",'LISTADO VIP'!$A$2:$A$1400,0))&CHAR(10)&INDEX('LISTADO VIP'!$I$2:$I$1400,MATCH("A12",'LISTADO VIP'!$A$2:$A$1400,0)),"A12") -> A12 Sebastián Guanumen Parra Embajador de Colombia en Chile | N12: =IFERROR("A13"&CHAR(10)&INDEX('LISTADO VIP'!$H$2:$H$1400,MATCH("A13",'LISTADO VIP'!$A$2:$A$1400,0))&CHAR(10)&INDEX('LISTADO VIP'!$I$2:$I$1400,MATCH("A13",'LISTADO VIP'!$A$2:$A$1400,0)),"A13") -> A13 Marcelo Fuster Roa Gerente General Corporativo ASIMET A.G. - Comité CORFO | O12: =IFERROR("A14"&CHAR(10)&INDEX('LISTADO VIP'!$H$2:$H$1400,MATCH("A14",'LISTADO VIP'!$A$2:$A$1400,0))&CHAR(10)&INDEX('LISTADO VIP'!$I$2:$I$1400,MATCH("A14",'LISTADO VIP'!$A$2:$A$1400,0)),"A14") -> A14 Luis González Otero Ayudor VA peruano | P12: =IFERROR("A15"&CHAR(10)&INDEX('LISTADO VIP'!$H$2:$H$1400,MATCH("A15",'LISTADO VIP'!$A$2:$A$1400,0))&CHAR(10)&INDEX('LISTADO VIP'!$I$2:$I$1400,MATCH("A15",'LISTADO VIP'!$A$2:$A$1400,0)),"A15") -> A15 Christian Marambio Taylor Edecan Presidente del Senado | Q12: =IFERROR("A16"&CHAR(10)&INDEX('LISTADO VIP'!$H$2:$H$1400,MATCH("A16",'LISTADO VIP'!$A$2:$A$1400,0))&CHAR(10)&INDEX('LISTADO VIP'!$I$2:$I$1400,MATCH("A16",'LISTADO VIP'!$A$2:$A$1400,0)),"A16") -> A16 Pablo Berg Aldoney AYUDORALM | R12: =IFERROR("A17"&CHAR(10)&INDEX('LISTADO VIP'!$H$2:$H$1400,MATCH("A17",'LISTADO VIP'!$A$2:$A$1400,0))&CHAR(10)&INDEX('LISTADO VIP'!$I$2:$I$1400,MATCH("A17",'LISTADO VIP'!$A$2:$A$1400,0)),"A17") -> A17 Claudio Alvarado Andrade Biministro del Interior y Secretario General de Gobierno | S12: =IFERROR("A18"&CHAR(10)&INDEX('LISTADO VIP'!$H$2:$H$1400,MATCH("A18",'LISTADO VIP'!$A$2:$A$1400,0))&CHAR(10)&INDEX('LISTADO VIP'!$I$2:$I$1400,MATCH("A18",'LISTADO VIP'!$A$2:$A$1400,0)),"A18") -> A18 David Gonzalez Lorenzo Gerente General Puerto Huachipato | T12: =IFERROR("A19"&CHAR(10)&INDEX('LISTADO VIP'!$H$2:$H$1400,MATCH("A19",'LISTADO VIP'!$A$2:$A$1400,0))&CHAR(10)&INDEX('LISTADO VIP'!$I$2:$I$1400,MATCH("A19",'LISTADO VIP'!$A$2:$A$1400,0)),"A19") -> A19 Jacqueline Sepúlveda Carreño Rector Universidad de Concepción | U12: =IFERROR("A20"&CHAR(10)&INDEX('LISTADO VIP'!$H$2:$H$1400,MATCH("A20",'LISTADO VIP'!$A$2:$A$1400,0))&CHAR(10)&INDEX('LISTADO VIP'!$I$2:$I$1400,MATCH("A20",'LISTADO VIP'!$A$2:$A$1400,0)),"A20") -> A20 Alan Cárcamo Barrientos Representante FACH Consejo Superior ASMAR | V12: =IFERROR("A21"&CHAR(10)&INDEX('LISTADO VIP'!$H$2:$H$1400,MATCH("A21",'LISTADO VIP'!$A$2:$A$1400,0))&CHAR(10)&INDEX('LISTADO VIP'!$I$2:$I$1400,MATCH("A21",'LISTADO VIP'!$A$2:$A$1400,0)),"A21") -> A21 Fernando Cabrera Salazar *Comandante en Jefe de la Armada | W12: =IFERROR("A22"&CHAR(10)&INDEX('LISTADO VIP'!$H$2:$H$1400,MATCH("A22",'LISTADO VIP'!$A$2:$A$1400,0))&CHAR(10)&INDEX('LISTADO VIP'!$I$2:$I$1400,MATCH("A22",'LISTADO VIP'!$A$2:$A$1400,0)),"A22") -> A22 Fernando Barros Tocornal *Ministro de Defensa Nacional | X12: =IFERROR("A23"&CHAR(10)&INDEX('LISTADO VIP'!$H$2:$H$1400,MATCH("A23",'LISTADO VIP'!$A$2:$A$1400,0))&CHAR(10)&INDEX('LISTADO VIP'!$I$2:$I$1400,MATCH("A23",'LISTADO VIP'!$A$2:$A$1400,0)),"A23") -> A23 José Antonio Kast Rist * Presidente de la República | Y12: =IFERROR("A24"&CHAR(10)&INDEX('LISTADO VIP'!$H$2:$H$1400,MATCH("A24",'LISTADO VIP'!$A$2:$A$1400,0))&CHAR(10)&INDEX('LISTADO VIP'!$I$2:$I$1400,MATCH("A24",'LISTADO VIP'!$A$2:$A$1400,0)),"A24") -> A24 María Pía Adriasola Barroihet Esposa del Presidente de la República | Z12: =IFERROR("A25"&CHAR(10)&INDEX('LISTADO VIP'!$H$2:$H$1400,MATCH("A25",'LISTADO VIP'!$A$2:$A$1400,0))&CHAR(10)&INDEX('LISTADO VIP'!$I$2:$I$1400,MATCH("A25",'LISTADO VIP'!$A$2:$A$1400,0)),"A25") -> A25 Roxana Mery Casella Esposa del Comandante en Jefe de la Armada | AA12: =IFERROR("A26"&CHAR(10)&INDEX('LISTADO VIP'!$H$2:$H$1400,MATCH("A26",'LISTADO VIP'!$A$2:$A$1400,0))&CHAR(10)&INDEX('LISTADO VIP'!$I$2:$I$1400,MATCH("A26",'LISTADO VIP'!$A$2:$A$1400,0)),"A26") -> A26 | AB12: =IFERROR("A27"&CHAR(10)&INDEX('LISTADO VIP'!$H$2:$H$1400,MATCH("A27",'LISTADO VIP'!$A$2:$A$1400,0))&CHAR(10)&INDEX('LISTADO VIP'!$I$2:$I$1400,MATCH("A27",'LISTADO VIP'!$A$2:$A$1400,0)),"A27") -> A27 Paz Hormazábal Poblete Vicerrectora Universidad de Las Américas sede Concepción - Vicepresidenta CIDERE Biobio | AC12: =IFERROR("A28"&CHAR(10)&INDEX('LISTADO VIP'!$H$2:$H$1400,MATCH("A28",'LISTADO VIP'!$A$2:$A$1400,0))&CHAR(10)&INDEX('LISTADO VIP'!$I$2:$I$1400,MATCH("A28",'LISTADO VIP'!$A$2:$A$1400,0)),"A28") -> A28 Gonzalo Tampier Brockhaus Director de Desarrrollo e Innovación Universidad Austral - Comité CORFO | AD12: =IFERROR("A29"&CHAR(10)&INDEX('LISTADO VIP'!$H$2:$H$1400,MATCH("A29",'LISTADO VIP'!$A$2:$A$1400,0))&CHAR(10)&INDEX('LISTADO VIP'!$I$2:$I$1400,MATCH("A29",'LISTADO VIP'!$A$2:$A$1400,0)),"A29") -> A29 Alessandro Pulleghini Flores Edecán SEPRE | AE12: =IFERROR("A30"&CHAR(10)&INDEX('LISTADO VIP'!$H$2:$H$1400,MATCH("A30",'LISTADO VIP'!$A$2:$A$1400,0))&CHAR(10)&INDEX('LISTADO VIP'!$I$2:$I$1400,MATCH("A30",'LISTADO VIP'!$A$2:$A$1400,0)),"A30") -> A30 César Negrete Cristi Oficial Enlace Armada de las SSFFAA | AF12: =IFERROR("A31"&CHAR(10)&INDEX('LISTADO VIP'!$H$2:$H$1400,MATCH("A31",'LISTADO VIP'!$A$2:$A$1400,0))&CHAR(10)&INDEX('LISTADO VIP'!$I$2:$I$1400,MATCH("A31",'LISTADO VIP'!$A$2:$A$1400,0)),"A31") -> A31 Joaquín Opazo Rojas Ayudor MINDEF | AG12: =IFERROR("A32"&CHAR(10)&INDEX('LISTADO VIP'!$H$2:$H$1400,MATCH("A32",'LISTADO VIP'!$A$2:$A$1400,0))&CHAR(10)&INDEX('LISTADO VIP'!$I$2:$I$1400,MATCH("A32",'LISTADO VIP'!$A$2:$A$1400,0)),"A32") -> A32 Karen Krakman Consul Países Bajos Concepción | AH12: =IFERROR("A33"&CHAR(10)&INDEX('LISTADO VIP'!$H$2:$H$1400,MATCH("A33",'LISTADO VIP'!$A$2:$A$1400,0))&CHAR(10)&INDEX('LISTADO VIP'!$I$2:$I$1400,MATCH("A33",'LISTADO VIP'!$A$2:$A$1400,0)),"A33") -> A33 Ahmet Ihsan Kiziltan Embajadora de Turquia en Chile | AI12: =IFERROR("A34"&CHAR(10)&INDEX('LISTADO VIP'!$H$2:$H$1400,MATCH("A34",'LISTADO VIP'!$A$2:$A$1400,0))&CHAR(10)&INDEX('LISTADO VIP'!$I$2:$I$1400,MATCH("A34",'LISTADO VIP'!$A$2:$A$1400,0)),"A34") -> A34 Karolina Linda Guay Guay Embajadora de Canadá en Chile | AJ12: =IFERROR("A35"&CHAR(10)&INDEX('LISTADO VIP'!$H$2:$H$1400,MATCH("A35",'LISTADO VIP'!$A$2:$A$1400,0))&CHAR(10)&INDEX('LISTADO VIP'!$I$2:$I$1400,MATCH("A35",'LISTADO VIP'!$A$2:$A$1400,0)),"A35") -> A35 Elke Schaapveld E/v Merks Embajadora de los Países Bajos en Chile | AK12: =IFERROR("A36"&CHAR(10)&INDEX('LISTADO VIP'!$H$2:$H$1400,MATCH("A36",'LISTADO VIP'!$A$2:$A$1400,0))&CHAR(10)&INDEX('LISTADO VIP'!$I$2:$I$1400,MATCH("A36",'LISTADO VIP'!$A$2:$A$1400,0)),"A36") -> A36 Laura Oroz Ulibarri Embajadora de España en Chile | AL12: =IFERROR("A37"&CHAR(10)&INDEX('LISTADO VIP'!$H$2:$H$1400,MATCH("A37",'LISTADO VIP'!$A$2:$A$1400,0))&CHAR(10)&INDEX('LISTADO VIP'!$I$2:$I$1400,MATCH("A37",'LISTADO VIP'!$A$2:$A$1400,0)),"A37") -> A37 Peleg Lewi Embajadora de Israel en Chile | AM12: =IFERROR("A38"&CHAR(10)&INDEX('LISTADO VIP'!$H$2:$H$1400,MATCH("A38",'LISTADO VIP'!$A$2:$A$1400,0))&CHAR(10)&INDEX('LISTADO VIP'!$I$2:$I$1400,MATCH("A38",'LISTADO VIP'!$A$2:$A$1400,0)),"A38") -> A38 Pedro Varela Sabando *Comandante en Jefe del Ejército | AN12: =IFERROR("A39"&CHAR(10)&INDEX('LISTADO VIP'!$H$2:$H$1400,MATCH("A39",'LISTADO VIP'!$A$2:$A$1400,0))&CHAR(10)&INDEX('LISTADO VIP'!$I$2:$I$1400,MATCH("A39",'LISTADO VIP'!$A$2:$A$1400,0)),"A39") -> A39 Marcelo Araya Zapata *General Director de Carabineros de Chile | AO12: =IFERROR("A40"&CHAR(10)&INDEX('LISTADO VIP'!$H$2:$H$1400,MATCH("A40",'LISTADO VIP'!$A$2:$A$1400,0))&CHAR(10)&INDEX('LISTADO VIP'!$I$2:$I$1400,MATCH("A40",'LISTADO VIP'!$A$2:$A$1400,0)),"A40") -> A40 Rodrigo Silva Gerente General COOPEUCH | AP12: =IFERROR("A41"&CHAR(10)&INDEX('LISTADO VIP'!$H$2:$H$1400,MATCH("A41",'LISTADO VIP'!$A$2:$A$1400,0))&CHAR(10)&INDEX('LISTADO VIP'!$I$2:$I$1400,MATCH("A41",'LISTADO VIP'!$A$2:$A$1400,0)),"A41") -> A41 Leonardo Romanini Gutiérrez Jefe del Estado Mayor Conjunto de las Fuerzas Armadas | AQ12: =IFERROR("A42"&CHAR(10)&INDEX('LISTADO VIP'!$H$2:$H$1400,MATCH("A42",'LISTADO VIP'!$A$2:$A$1400,0))&CHAR(10)&INDEX('LISTADO VIP'!$I$2:$I$1400,MATCH("A42",'LISTADO VIP'!$A$2:$A$1400,0)),"A42") -> A42 Jorge Flies Añon Gobernador Región de Magallanes | AR12: =IFERROR("A43"&CHAR(10)&INDEX('LISTADO VIP'!$H$2:$H$1400,MATCH("A43",'LISTADO VIP'!$A$2:$A$1400,0))&CHAR(10)&INDEX('LISTADO VIP'!$I$2:$I$1400,MATCH("A43",'LISTADO VIP'!$A$2:$A$1400,0)),"A43") -> A43 Carlos Cardoen Cornejo Invitado Especial Director ASMAR | AS12: =IFERROR("A44"&CHAR(10)&INDEX('LISTADO VIP'!$H$2:$H$1400,MATCH("A44",'LISTADO VIP'!$A$2:$A$1400,0))&CHAR(10)&INDEX('LISTADO VIP'!$I$2:$I$1400,MATCH("A44",'LISTADO VIP'!$A$2:$A$1400,0)),"A44") -> A44 Gastón Saavedra Chandía Comisión de Defensa Nacional | AT12: =IFERROR("A45"&CHAR(10)&INDEX('LISTADO VIP'!$H$2:$H$1400,MATCH("A45",'LISTADO VIP'!$A$2:$A$1400,0))&CHAR(10)&INDEX('LISTADO VIP'!$I$2:$I$1400,MATCH("A45",'LISTADO VIP'!$A$2:$A$1400,0)),"A45") -> A45 Enrique Van Rysselberghe Herrera Circunscripción 10 Región Biobío
