Workbook

Sheet LISTADO GRAL
B3: Nº | C3: GRADO | D3: NOMBRE | E3: ¿ASISTE? | F3: CARGO | G3: INFORMACIÓN DE CONTACTO | H3: OBS.
B4: 1 | C4: ALMIRANTE SR. | D4: FERNANDO CABRERA SALAZAR | E4: SI
B5: 2 | C5: CAPITÁN DE FRAGATA SR. | D5: PABLO BERG ALDONEY | E5: SI
B6: 3 | C6: ALMIRANTE SR. | D6: JORGE ARANCIBIA REYES | E6: SI
B7: 4 | C7: ALMIRANTE SR. | D7: MIGUEL ANGEL VERGARA VILLALOBOS | E7: SI
B8: 5 | C8: ALMIRANTE SR. | D8: ENRIQUE LARRAÑAGA MARTIN | E8: SI
B9: 6 | C9: VICEALMIRANTE SR. | D9: RAÚL ZAMORANO GOÑI | E9: SI
B10: 7 | C10: VICEALMIRANTE SR. | D10: MAURICIO ARENAS MENARES | E10: SI
B11: 8 | C11: VICEALMIRANTE SR. | D11: CÉSAR DELGADO BOFFIL | E11: NO
B12: 9 | C12: VICEALMIRANTE SR. | D12: ARTURO OXLEY LIZANA | E12: SI
B13: 10 | C13: VICEALMIRANTE SR. | D13: JUAN PABLO MARIN FERNÁNDEZ | E13: NO
B14: 11 | C14: VICEALMIRANTE SR. | D14: DANIEL MUÑOZ MIRANDA | E14: SI
B15: 12 | C15: VICEALMIRANTE (IM) SR. | D15: ALEXANDRE CHAVES DE JESUS | E15: SI
... B45: 42 | C45: CONTRAALMIRANTE AB SR. | D45: MARCEL FORT SANTANDER | E45: SI
B46: 43 | D46: SRA. DIVA CASTRO DE FORT | E46: SI
B47: 44 | C47: CONTRAALMIRANTE LT SR. | D47: DANIEL GONZÁLEZ SALINAS | E47: SI
B48: 45 | C48: CONTRAALMIRANTE SR. | D48: JULIÁN MALDONADO O'REILLY | E48: SI
B49: 46 | C49: CONTRAALMIRANTE SR. | D49: FERNANDO MÉNDEZ CAÑAS | E49: NO
B50: 47 | C50: CONTRAALMIRANTE SR. | D50: LUIS FELIPE DÍAZ TORRES | E50: SI
B51: 48 | C51: CONTRAALMIRANTE SR. | D51: JOSÉ MIGUEL ROZAS FLORES | E51: NO
B52: 49 | C52: CONTRAALMIRANTE AB SR. | D52: JOSÉ DEL BARRIO VALENZUELA | E52: NO
B53: 50 | C53: CONTRAALMIRANTE AB SR. | D53: ARTURO VÁSQUEZ NORMAN | E53: SI
B54: 51 | C54: CONTRAALMIRANTE AB SR. | D54: SANTIAGO DÍAZ TORRES | E54: SI
B55: 52 | C55: CONTRAALMIRANTE AB SR. | D55: ALEJANDRO OSORIO OLIVA | E55: SI
B56: 53 | C56: CONTRAALMIRANTE AB SR. | D56: ALBERTO DÍAZ PRIETO | E56: NO
B57: 54 | C57: CONTRAALMIRANTE AB SR. | D57: ALEJANDRO ROSA LEIGHTON | E57: SI
B58: 55 | C58: CONTRAALMIRANTE AB SR. | D58: FERNANDO TAPIA OLGUÍN | E58: SI
... B70: 67 | C70: COMODORO AB SR. | D70: JORGE VIDAL BERROCAL | E70: SI
B71: 68 | D71: SRA. VALERIA MANOSALVA DE VIDAL | E71: SI
B72: 69 | C72: CAPITÁN DE NAVÍO SR. | D72: ANDRÉS HOWARD MOLLER | E72: SI
B73: 70 | C73: CAPITÁN DE NAVÍO IM SR. | D73: CÉSAR AGUIRRE RIVERA | E73: NO
B74: 71 | C74: CORONEL DE AVIACION (AD) | D74: ANGEL POBLETE BAYUK | E74: SI
B75: 72 | C75: CAPITÁN DE NAVÍO LT SR. | D75: MATÍAS HOWARD RIPAMONTI | E75: SI
B76: 73 | C76: CAPITÁN DE NAVÍO LT SR. | D76: SERGIO WALL OLIVARI | E76: SI
B77: 74 | C77: CAPITÁN DE NAVÍO LT SR. | D77: ALEX RICH EHRLICH | E77: SI
B78: 75 | C78: CAPITÁN DE NAVÍO LT SR. | D78: JUAN COLIPÍ DELGADO | E78: SI
B79: 76 | C79: CAPITÁN DE NAVÍO SR. | D79: OSCAR GARCÍA ORELLANA | E79: NO
B80: 77 | C80: CAPITÁN DE NAVÍO SR. | D80: JORGE IBARRA FIGARI | E80: SI
B81: 78 | C81: CAPITÁN DE NAVÍO SR. | D81: JORGE MINOLETTI LEÓN | E81: SI
B82: 79 | C82: CAPITÁN DE NAVÍO SR. | D82: GASTON CABEZAS VILLABLANCA | E82: SI
...

Sheet LISTADO CONFIRMADOS 
B3: ANTIG. | C3: Nº | D3: GRADO | E3: NOMBRE
C4: {=_xlfn._xlws.FILTER(IF('LISTADO GRAL'!$B$4:$D$335="","",'LISTADO GRAL'!$B$4:$D$335),'LISTADO GRAL'!$E$4:$E$335="SI","Sin confirmados")} -> 1 | D4: ALMIRANTE SR. | E4: FERNANDO CABRERA SALAZAR
C5: 2 | D5: CAPITÁN DE FRAGATA SR. | E5: PABLO BERG ALDONEY
C6: 3 | D6: ALMIRANTE SR. | E6: JORGE ARANCIBIA REYES
C7: 4 | D7: ALMIRANTE SR. | E7: MIGUEL ANGEL VERGARA VILLALOBOS
C8: 5 | D8: ALMIRANTE SR. | E8: ENRIQUE LARRAÑAGA MARTIN
C9: 6 | D9: VICEALMIRANTE SR. | E9: RAÚL ZAMORANO GOÑI
C10: 7 | D10: VICEALMIRANTE SR. | E10: MAURICIO ARENAS MENARES
C11: 9 | D11: VICEALMIRANTE SR. | E11: ARTURO OXLEY LIZANA
C12: 11 | D12: VICEALMIRANTE SR. | E12: DANIEL MUÑOZ MIRANDA
C13: 12 | D13: VICEALMIRANTE (IM) SR. | E13: ALEXANDRE CHAVES DE JESUS
C14: 13 | D14: SRA. | E14: ANNA HAYDEÉ LANZILLOTTI JANNUZZI
C15: 15 | D15: SR. ALCALDE | E15: NELSON ESTAY MOLINA
C16: 18 | D16: GENERAL DE BRIGADA SR. | E16: ERIC FUENTES MATURANA
... C30: 42 | D30: CONTRAALMIRANTE AB SR. | E30: MARCEL FORT SANTANDER
C31: 43 | E31: SRA. DIVA CASTRO DE FORT
C32: 44 | D32: CONTRAALMIRANTE LT SR. | E32: DANIEL GONZÁLEZ SALINAS
C33: 45 | D33: CONTRAALMIRANTE SR. | E33: JULIÁN MALDONADO O'REILLY
C34: 47 | D34: CONTRAALMIRANTE SR. | E34: LUIS FELIPE DÍAZ TORRES
C35: 50 | D35: CONTRAALMIRANTE AB SR. | E35: ARTURO VÁSQUEZ NORMAN
C36: 51 | D36: CONTRAALMIRANTE AB SR. | E36: SANTIAGO DÍAZ TORRES
C37: 52 | D37: CONTRAALMIRANTE AB SR. | E37: ALEJANDRO OSORIO OLIVA
C38: 54 | D38: CONTRAALMIRANTE AB SR. | E38: ALEJANDRO ROSA LEIGHTON
C39: 55 | D39: CONTRAALMIRANTE AB SR. | E39: FERNANDO TAPIA OLGUÍN
C40: 56 | D40: CONTRAALMIRANTE AB SR. | E40: MARCELO GONZÁLEZ LANFRANCO
C41: 57 | D41: CONTRAALMIRANTE AB SR. | E41: JORGE VIDAL STUARDO
C42: 58 | D42: CONTRAALMIRANTE AB SR. | E42: FRANCISCO OLEA MORAGA
C43: 60 | D43: CONTRAALMIRANTE AB SR. | E43: JORGE MOLINA VALENCIA
... C49: 67 | D49: COMODORO AB SR. | E49: JORGE VIDAL BERROCAL
C50: 68 | E50: SRA. VALERIA MANOSALVA DE VIDAL
C51: 69 | D51: CAPITÁN DE NAVÍO SR. | E51: ANDRÉS HOWARD MOLLER
C52: 71 | D52: CORONEL DE AVIACION (AD) | E52: ANGEL POBLETE BAYUK
C53: 72 | D53: CAPITÁN DE NAVÍO LT SR. | E53: MATÍAS HOWARD RIPAMONTI
C54: 73 | D54: CAPITÁN DE NAVÍO LT SR. | E54: SERGIO WALL OLIVARI
C55: 74 | D55: CAPITÁN DE NAVÍO LT SR. | E55: ALEX RICH EHRLICH
C56: 75 | D56: CAPITÁN DE NAVÍO LT SR. | E56: JUAN COLIPÍ DELGADO
C57: 77 | D57: CAPITÁN DE NAVÍO SR. | E57: JORGE IBARRA FIGARI
C58: 78 | D58: CAPITÁN DE NAVÍO SR. | E58: JORGE MINOLETTI LEÓN
C59: 79 | D59: CAPITÁN DE NAVÍO SR. | E59: GASTON CABEZAS VILLABLANCA
C60: 80 | D60: CAPITÁN DE NAVÍO SR. | E60: GERARDO ZWANZGER LANDER
...

Sheet TRIBUNA 
B3: TRIBUNA PRINCIPAL PATIO CAMPUS HYATT
B6: A | C6: 19 | D6: 17 | E6: 15 | F6: 13 | G6: 11 | H6: 9 | I6: 7 | J6: 5 | K6: 3 | L6: 1 | M6: 2 | N6: 4 | O6: 6 | P6: 8 | Q6: 10 | R6: 12 | S6: 14 | T6: 16 | U6: 18
C7: =IFERROR(_xlfn.XLOOKUP(C6,'LISTADO CONFIRMADOS '!$B$4:$B$335,'LISTADO CONFIRMADOS '!$E$4:$E$335,""),"") | D7: =IFERROR(_xlfn.XLOOKUP(D6,'LISTADO CONFIRMADOS '!$B$4:$B$335,'LISTADO CONFIRMADOS '!$E$4:$E$335,""),"") | E7: =IFERROR(_xlfn.XLOOKUP(E6,'LISTADO CONFIRMADOS '!$B$4:$B$335,'LISTADO CONFIRMADOS '!$E$4:$E$335,""),"") | F7: =IFERROR(_xlfn.XLOOKUP(F6,'LISTADO CONFIRMADOS '!$B$4:$B$335,'LISTADO CONFIRMADOS '!$E$4:$E$335,""),"") | G7: =IFERROR(_xlfn.XLOOKUP(G6,'LISTADO CONFIRMADOS '!$B$4:$B$335,'LISTADO CONFIRMADOS '!$E$4:$E$335,""),"") | H7: =IFERROR(_xlfn.XLOOKUP(H6,'LISTADO CONFIRMADOS '!$B$4:$B$335,'LISTADO CONFIRMADOS '!$E$4:$E$335,""),"") | I7: =IFERROR(_xlfn.XLOOKUP(I6,'LISTADO CONFIRMADOS '!$B$4:$B$335,'LISTADO CONFIRMADOS '!$E$4:$E$335,""),"") | J7: =IFERROR(_xlfn.XLOOKUP(J6,'LISTADO CONFIRMADOS '!$B$4:$B$335,'LISTADO CONFIRMADOS '!$E$4:$E$335,""),"") | ... U7: =IFERROR(_xlfn.XLOOKUP(U6,'LISTADO CONFIRMADOS '!$B$4:$B$335,'LISTADO CONFIRMADOS '!$E$4:$E$335,""),"")
B8: B | C8: 38 | D8: 36 | E8: 34 | F8: 32 | G8: 30 | H8: 28 | I8: 26 | J8: 24 | K8: 22 | L8: 20 | M8: 21 | N8: 23 | O8: 25 | P8: 27 | Q8: 29 | R8: 31 | S8: 33 | T8: 35 | U8: 37
C9: =IFERROR(_xlfn.XLOOKUP(C8,'LISTADO CONFIRMADOS '!$B$4:$B$335,'LISTADO CONFIRMADOS '!$E$4:$E$335,""),"") | D9: =IFERROR(_xlfn.XLOOKUP(D8,'LISTADO CONFIRMADOS '!$B$4:$B$335,'LISTADO CONFIRMADOS '!$E$4:$E$335,""),"") | E9: =IFERROR(_xlfn.XLOOKUP(E8,'LISTADO CONFIRMADOS '!$B$4:$B$335,'LISTADO CONFIRMADOS '!$E$4:$E$335,""),"") | F9: =IFERROR(_xlfn.XLOOKUP(F8,'LISTADO CONFIRMADOS '!$B$4:$B$335,'LISTADO CONFIRMADOS '!$E$4:$E$335,""),"") | G9: =IFERROR(_xlfn.XLOOKUP(G8,'LISTADO CONFIRMADOS '!$B$4:$B$335,'LISTADO CONFIRMADOS '!$E$4:$E$335,""),"") | H9: =IFERROR(_xlfn.XLOOKUP(H8,'LISTADO CONFIRMADOS '!$B$4:$B$335,'LISTADO CONFIRMADOS '!$E$4:$E$335,""),"") | I9: =IFERROR(_xlfn.XLOOKUP(I8,'LISTADO CONFIRMADOS '!$B$4:$B$335,'LISTADO CONFIRMADOS '!$E$4:$E$335,""),"") | J9: =IFERROR(_xlfn.XLOOKUP(J8,'LISTADO CONFIRMADOS '!$B$4:$B$335,'LISTADO CONFIRMADOS '!$E$4:$E$335,""),"") | ... U9: =IFERROR(_xlfn.XLOOKUP(U8,'LISTADO CONFIRMADOS '!$B$4:$B$335,'LISTADO CONFIRMADOS '!$E$4:$E$335,""),"")
B10: C | C10: 57 | D10: 55 | E10: 53 | F10: 51 | G10: 49 | H10: 47 | I10: 45 | J10: 43 | K10: 41 | L10: 39 | M10: 40 | N10: 42 | O10: 44 | P10: 46 | Q10: 48 | R10: 50 | S10: 52 | T10: 54 | U10: 56
C11: =IFERROR(_xlfn.XLOOKUP(C10,'LISTADO CONFIRMADOS '!$B$4:$B$335,'LISTADO CONFIRMADOS '!$E$4:$E$335,""),"") | D11: =IFERROR(_xlfn.XLOOKUP(D10,'LISTADO CONFIRMADOS '!$B$4:$B$335,'LISTADO CONFIRMADOS '!$E$4:$E$335,""),"") | E11: =IFERROR(_xlfn.XLOOKUP(E10,'LISTADO CONFIRMADOS '!$B$4:$B$335,'LISTADO CONFIRMADOS '!$E$4:$E$335,""),"") | F11: =IFERROR(_xlfn.XLOOKUP(F10,'LISTADO CONFIRMADOS '!$B$4:$B$335,'LISTADO CONFIRMADOS '!$E$4:$E$335,""),"") | G11: =IFERROR(_xlfn.XLOOKUP(G10,'LISTADO CONFIRMADOS '!$B$4:$B$335,'LISTADO CONFIRMADOS '!$E$4:$E$335,""),"") | H11: =IFERROR(_xlfn.XLOOKUP(H10,'LISTADO CONFIRMADOS '!$B$4:$B$335,'LISTADO CONFIRMADOS '!$E$4:$E$335,""),"") | I11: =IFERROR(_xlfn.XLOOKUP(I10,'LISTADO CONFIRMADOS '!$B$4:$B$335,'LISTADO CONFIRMADOS '!$E$4:$E$335,""),"") | J11: =IFERROR(_xlfn.XLOOKUP(J10,'LISTADO CONFIRMADOS '!$B$4:$B$335,'LISTADO CONFIRMADOS '!$E$4:$E$335,""),"") | ... U11: =IFERROR(_xlfn.XLOOKUP(U10,'LISTADO CONFIRMADOS '!$B$4:$B$335,'LISTADO CONFIRMADOS '!$E$4:$E$335,""),"")
B12: D | C12: 76 | D12: 74 | E12: 72 | F12: 70 | G12: 68 | H12: 66 | I12: 64 | J12: 62 | K12: 60 | L12: 58 | M12: 59 | N12: 61 | O12: 63 | P12: 65 | Q12: 67 | R12: 69 | S12: 71 | T12: 73 | U12: 75
C13: =IFERROR(_xlfn.XLOOKUP(C12,'LISTADO CONFIRMADOS '!$B$4:$B$335,'LISTADO CONFIRMADOS '!$E$4:$E$335,""),"") | D13: =IFERROR(_xlfn.XLOOKUP(D12,'LISTADO CONFIRMADOS '!$B$4:$B$335,'LISTADO CONFIRMADOS '!$E$4:$E$335,""),"") | E13: =IFERROR(_xlfn.XLOOKUP(E12,'LISTADO CONFIRMADOS '!$B$4:$B$335,'LISTADO CONFIRMADOS '!$E$4:$E$335,""),"") | F13: =IFERROR(_xlfn.XLOOKUP(F12,'LISTADO CONFIRMADOS '!$B$4:$B$335,'LISTADO CONFIRMADOS '!$E$4:$E$335,""),"") | G13: =IFERROR(_xlfn.XLOOKUP(G12,'LISTADO CONFIRMADOS '!$B$4:$B$335,'LISTADO CONFIRMADOS '!$E$4:$E$335,""),"") | H13: =IFERROR(_xlfn.XLOOKUP(H12,'LISTADO CONFIRMADOS '!$B$4:$B$335,'LISTADO CONFIRMADOS '!$E$4:$E$335,""),"") | I13: =IFERROR(_xlfn.XLOOKUP(I12,'LISTADO CONFIRMADOS '!$B$4:$B$335,'LISTADO CONFIRMADOS '!$E$4:$E$335,""),"") | J13: =IFERROR(_xlfn.XLOOKUP(J12,'LISTADO CONFIRMADOS '!$B$4:$B$335,'LISTADO CONFIRMADOS '!$E$4:$E$335,""),"") | ... U13: =IFERROR(_xlfn.XLOOKUP(U12,'LISTADO CONFIRMADOS '!$B$4:$B$335,'LISTADO CONFIRMADOS '!$E$4:$E$335,""),"")
B14: E | C14: 95 | D14: 93 | E14: 91 | F14: 89 | G14: 87 | H14: 85 | I14: 83 | J14: 81 | K14: 79 | L14: 77 | M14: 78 | N14: 80 | O14: 82 | P14: 84 | Q14: 86 | R14: 88 | S14: 90 | T14: 92 | U14: 94
C15: =IFERROR(_xlfn.XLOOKUP(C14,'LISTADO CONFIRMADOS '!$B$4:$B$335,'LISTADO CONFIRMADOS '!$E$4:$E$335,""),"") | D15: =IFERROR(_xlfn.XLOOKUP(D14,'LISTADO CONFIRMADOS '!$B$4:$B$335,'LISTADO CONFIRMADOS '!$E$4:$E$335,""),"") | E15: =IFERROR(_xlfn.XLOOKUP(E14,'LISTADO CONFIRMADOS '!$B$4:$B$335,'LISTADO CONFIRMADOS '!$E$4:$E$335,""),"") | F15: =IFERROR(_xlfn.XLOOKUP(F14,'LISTADO CONFIRMADOS '!$B$4:$B$335,'LISTADO CONFIRMADOS '!$E$4:$E$335,""),"") | G15: =IFERROR(_xlfn.XLOOKUP(G14,'LISTADO CONFIRMADOS '!$B$4:$B$335,'LISTADO CONFIRMADOS '!$E$4:$E$335,""),"") | H15: =IFERROR(_xlfn.XLOOKUP(H14,'LISTADO CONFIRMADOS '!$B$4:$B$335,'LISTADO CONFIRMADOS '!$E$4:$E$335,""),"") | I15: =IFERROR(_xlfn.XLOOKUP(I14,'LISTADO CONFIRMADOS '!$B$4:$B$335,'LISTADO CONFIRMADOS '!$E$4:$E$335,""),"") | J15: =IFERROR(_xlfn.XLOOKUP(J14,'LISTADO CONFIRMADOS '!$B$4:$B$335,'LISTADO CONFIRMADOS '!$E$4:$E$335,""),"") | ... U15: =IFERROR(_xlfn.XLOOKUP(U14,'LISTADO CONFIRMADOS '!$B$4:$B$335,'LISTADO CONFIRMADOS '!$E$4:$E$335,""),"")
B16: F | C16: 114 | D16: 112 | E16: 110 | F16: 108 | G16: 106 | H16: 104 | I16: 102 | J16: 100 | K16: 98 | L16: 96 | M16: 97 | N16: 99 | O16: 101 | P16: 103 | Q16: 105 | R16: 107 | S16: 109 | T16: 111 | U16: 113
C17: =IFERROR(_xlfn.XLOOKUP(C16,'LISTADO CONFIRMADOS '!$B$4:$B$335,'LISTADO CONFIRMADOS '!$E$4:$E$335,""),"") | D17: =IFERROR(_xlfn.XLOOKUP(D16,'LISTADO CONFIRMADOS '!$B$4:$B$335,'LISTADO CONFIRMADOS '!$E$4:$E$335,""),"") | E17: =IFERROR(_xlfn.XLOOKUP(E16,'LISTADO CONFIRMADOS '!$B$4:$B$335,'LISTADO CONFIRMADOS '!$E$4:$E$335,""),"") | F17: =IFERROR(_xlfn.XLOOKUP(F16,'LISTADO CONFIRMADOS '!$B$4:$B$335,'LISTADO CONFIRMADOS '!$E$4:$E$335,""),"") | G17: =IFERROR(_xlfn.XLOOKUP(G16,'LISTADO CONFIRMADOS '!$B$4:$B$335,'LISTADO CONFIRMADOS '!$E$4:$E$335,""),"") | H17: =IFERROR(_xlfn.XLOOKUP(H16,'LISTADO CONFIRMADOS '!$B$4:$B$335,'LISTADO CONFIRMADOS '!$E$4:$E$335,""),"") | I17: =IFERROR(_xlfn.XLOOKUP(I16,'LISTADO CONFIRMADOS '!$B$4:$B$335,'LISTADO CONFIRMADOS '!$E$4:$E$335,""),"") | J17: =IFERROR(_xlfn.XLOOKUP(J16,'LISTADO CONFIRMADOS '!$B$4:$B$335,'LISTADO CONFIRMADOS '!$E$4:$E$335,""),"") | ... U17: =IFERROR(_xlfn.XLOOKUP(U16,'LISTADO CONFIRMADOS '!$B$4:$B$335,'LISTADO CONFIRMADOS '!$E$4:$E$335,""),"")
B18: G | C18: 133 | D18: 131 | E18: 129 | F18: 127 | G18: 125 | H18: 123 | I18: 121 | J18: 119 | K18: 117 | L18: 115 | M18: 116 | N18: 118 | O18: 120 | P18: 122 | Q18: 124 | R18: 126 | S18: 128 | T18: 130 | U18: 132
C19: =IFERROR(_xlfn.XLOOKUP(C18,'LISTADO CONFIRMADOS '!$B$4:$B$335,'LISTADO CONFIRMADOS '!$E$4:$E$335,""),"") | D19: =IFERROR(_xlfn.XLOOKUP(D18,'LISTADO CONFIRMADOS '!$B$4:$B$335,'LISTADO CONFIRMADOS '!$E$4:$E$335,""),"") | E19: =IFERROR(_xlfn.XLOOKUP(E18,'LISTADO CONFIRMADOS '!$B$4:$B$335,'LISTADO CONFIRMADOS '!$E$4:$E$335,""),"") | F19: =IFERROR(_xlfn.XLOOKUP(F18,'LISTADO CONFIRMADOS '!$B$4:$B$335,'LISTADO CONFIRMADOS '!$E$4:$E$335,""),"") | G19: =IFERROR(_xlfn.XLOOKUP(G18,'LISTADO CONFIRMADOS '!$B$4:$B$335,'LISTADO CONFIRMADOS '!$E$4:$E$335,""),"") | H19: =IFERROR(_xlfn.XLOOKUP(H18,'LISTADO CONFIRMADOS '!$B$4:$B$335,'LISTADO CONFIRMADOS '!$E$4:$E$335,""),"") | I19: =IFERROR(_xlfn.XLOOKUP(I18,'LISTADO CONFIRMADOS '!$B$4:$B$335,'LISTADO CONFIRMADOS '!$E$4:$E$335,""),"") | J19: =IFERROR(_xlfn.XLOOKUP(J18,'LISTADO CONFIRMADOS '!$B$4:$B$335,'LISTADO CONFIRMADOS '!$E$4:$E$335,""),"") | ... U19: =IFERROR(_xlfn.XLOOKUP(U18,'LISTADO CONFIRMADOS '!$B$4:$B$335,'LISTADO CONFIRMADOS '!$E$4:$E$335,""),"")
B20: H | C20: 152 | D20: 150 | E20: 148 | F20: 146 | G20: 144 | H20: 142 | I20: 140 | J20: 138 | K20: 136 | L20: 134 | M20: 135 | N20: 137 | O20: 139 | P20: 141 | Q20: 143 | R20: 145 | S20: 147 | T20: 149 | U20: 151
C21: =IFERROR(_xlfn.XLOOKUP(C20,'LISTADO CONFIRMADOS '!$B$4:$B$335,'LISTADO CONFIRMADOS '!$E$4:$E$335,""),"") | D21: =IFERROR(_xlfn.XLOOKUP(D20,'LISTADO CONFIRMADOS '!$B$4:$B$335,'LISTADO CONFIRMADOS '!$E$4:$E$335,""),"") | E21: =IFERROR(_xlfn.XLOOKUP(E20,'LISTADO CONFIRMADOS '!$B$4:$B$335,'LISTADO CONFIRMADOS '!$E$4:$E$335,""),"") | F21: =IFERROR(_xlfn.XLOOKUP(F20,'LISTADO CONFIRMADOS '!$B$4:$B$335,'LISTADO CONFIRMADOS '!$E$4:$E$335,""),"") | G21: =IFERROR(_xlfn.XLOOKUP(G20,'LISTADO CONFIRMADOS '!$B$4:$B$335,'LISTADO CONFIRMADOS '!$E$4:$E$335,""),"") | H21: =IFERROR(_xlfn.XLOOKUP(H20,'LISTADO CONFIRMADOS '!$B$4:$B$335,'LISTADO CONFIRMADOS '!$E$4:$E$335,""),"") | I21: =IFERROR(_xlfn.XLOOKUP(I20,'LISTADO CONFIRMADOS '!$B$4:$B$335,'LISTADO CONFIRMADOS '!$E$4:$E$335,""),"") | J21: =IFERROR(_xlfn.XLOOKUP(J20,'LISTADO CONFIRMADOS '!$B$4:$B$335,'LISTADO CONFIRMADOS '!$E$4:$E$335,""),"") | ... U21: =IFERROR(_xlfn.XLOOKUP(U20,'LISTADO CONFIRMADOS '!$B$4:$B$335,'LISTADO CONFIRMADOS '!$E$4:$E$335,""),"")
B22: I | C22: 171 | D22: 169 | E22: 167 | F22: 165 | G22: 163 | H22: 161 | I22: 159 | J22: 157 | K22: 155 | L22: 153 | M22: 154 | N22: 156 | O22: 158 | P22: 160 | Q22: 162 | R22: 164 | S22: 166 | T22: 168 | U22: 170
C23: =IFERROR(_xlfn.XLOOKUP(C22,'LISTADO CONFIRMADOS '!$B$4:$B$335,'LISTADO CONFIRMADOS '!$E$4:$E$335,""),"") | D23: =IFERROR(_xlfn.XLOOKUP(D22,'LISTADO CONFIRMADOS '!$B$4:$B$335,'LISTADO CONFIRMADOS '!$E$4:$E$335,""),"") | E23: =IFERROR(_xlfn.XLOOKUP(E22,'LISTADO CONFIRMADOS '!$B$4:$B$335,'LISTADO CONFIRMADOS '!$E$4:$E$335,""),"") | F23: =IFERROR(_xlfn.XLOOKUP(F22,'LISTADO CONFIRMADOS '!$B$4:$B$335,'LISTADO CONFIRMADOS '!$E$4:$E$335,""),"") | G23: =IFERROR(_xlfn.XLOOKUP(G22,'LISTADO CONFIRMADOS '!$B$4:$B$335,'LISTADO CONFIRMADOS '!$E$4:$E$335,""),"") | H23: =IFERROR(_xlfn.XLOOKUP(H22,'LISTADO CONFIRMADOS '!$B$4:$B$335,'LISTADO CONFIRMADOS '!$E$4:$E$335,""),"") | I23: =IFERROR(_xlfn.XLOOKUP(I22,'LISTADO CONFIRMADOS '!$B$4:$B$335,'LISTADO CONFIRMADOS '!$E$4:$E$335,""),"") | J23: =IFERROR(_xlfn.XLOOKUP(J22,'LISTADO CONFIRMADOS '!$B$4:$B$335,'LISTADO CONFIRMADOS '!$E$4:$E$335,""),"") | ... U23: =IFERROR(_xlfn.XLOOKUP(U22,'LISTADO CONFIRMADOS '!$B$4:$B$335,'LISTADO CONFIRMADOS '!$E$4:$E$335,""),"")
