Workbook
Name variable: 'ACTIVIDAD 1'!$D$8:$S$10

Sheet ACTIVIDAD 1
C6: La siguiente información corresponde al número de piezas que los empleados de una fábrica logran armar en un tiempo de 12 horas de trabajo.
D8: 4 | E8: 4 | F8: 9 | G8: 9 | H8: 9 | I8: 4 | J8: 6 | K8: 8 | L8: 8 | M8: 8 | N8: 8 | O8: 4 | P8: 4 | Q8: 5 | R8: 5 | S8: 6
D9: 4 | E9: 4 | F9: 9 | G9: 7 | H9: 7 | I9: 7 | J9: 7 | K9: 7 | L9: 7 | M9: 9 | N9: 9 | O9: 4 | P9: 4 | Q9: 5 | R9: 5 | S9: 6
D10: 9 | E10: 4 | F10: 9 | G10: 4 | H10: 7 | I10: 6 | J10: 6 | K10: 6 | L10: 6 | M10: 6 | N10: 7 | O10: 6 | P10: 6 | Q10: 4 | R10: 5 | S10: 5
Q13: =MIN(variable) -> 4
C14: USANDO FUNCIONES EXCEL | Q14: =MAX(variable) -> 9
B15: 1 | C15: CONSTRUYA LA TABLA
B16: 2 | C16: INTERPRETE f2 | E16: 6 trabajadores fabrican 5 piezas
B17: 3 | C17: INTERPRETE F3 | E17: 28 trabajadores fabrican A LO MÁS 6 piezas
B18: 4 | C18: INTERPRETE h2 | E18: El 13% de los trabajadores fabrican 5 piezas
B19: 5 | C19: INTERPRETE H3 | E19: El 58% de los trabajadores fabrica A LO MÁS 6 piezas
B20: 6 | C20: DETERMINE LA MEDIANA E INTERPRETE | H20: =MEDIAN(variable) -> 6 | I20: EL 50% DE LOS TRABAJADORES FABRICAN A LO MÁS 6 PIEZAS
B21: 7 | C21: DETERMINE LA MODA E INTERPRETE | H21: =MODE(variable) -> 4 | I21: LA MAYORIA DE LOS TRABAJADORES FABRICAN 4 PIEZAS
B22: 8 | C22: DETERMINE LA MEDIA E INTERPRETE | H22: =AVERAGE(variable) -> 6.2083333 | I22: EN PROMEDIO, LOS TRABAJADORES FABRICAN 6 PIEZAS
G25: Variable | H25: freciuencia absoluta | I25: frecuencia absoluta acumulada | J25: frecuencia relativa | K25: frecuencia relativa acumulada
G26: xi | H26: fi | I26: Fi | J26: hi | K26: Hi
G27: 4 | H27: =COUNTIF(variable,G27) -> 12 | I27: =H27 -> 12 | J27: =H27/$H$33 -> 0.25 | K27: =I27/$H$33 -> 0.25
G28: 5 | H28: =COUNTIF(variable,G28) -> 6 | I28: =H28+I27 -> 18 | J28: =H28/$H$33 -> 0.125 | K28: =I28/$H$33 -> 0.375
G29: 6 | H29: =COUNTIF(variable,G29) -> 10 | I29: =H29+I28 -> 28 | J29: =H29/$H$33 -> 0.20833333 | K29: =I29/$H$33 -> 0.58333333
G30: 7 | H30: =COUNTIF(variable,G30) -> 8 | I30: =H30+I29 -> 36 | J30: =H30/$H$33 -> 0.16666667 | K30: =I30/$H$33 -> 0.75
G31: 8 | H31: =COUNTIF(variable,G31) -> 4 | I31: =H31+I30 -> 40 | J31: =H31/$H$33 -> 0.083333333 | K31: =I31/$H$33 -> 0.83333333
G32: 9 | H32: =COUNTIF(variable,G32) -> 8 | I32: =H32+I31 -> 48 | J32: =H32/$H$33 -> 0.16666667 | K32: =I32/$H$33 -> 1
G33: n= | H33: =SUM(H27:H32) -> 48

Sheet ACTIVIDAD 2
B3: La siguiente tabla indica la cantidad de familias que tienen una cierta cantidad de Hijos , encuesta realizadas a 50 familias
B6: Número de hijos | C6: fi | D6: Fi | E6: hr % | F6: Hr% | G6: xi*fi
B7: 0 | C7: 8 | D7: =C7 -> 8 | E7: =('ACTIVIDAD 2'!C7/'ACTIVIDAD 2'!$C$12) -> 0.16 | F7: =D7/$D$11 -> 0.16 | G7: =B7*C7 -> 0
B8: 1 | C8: 14 | D8: =SUM(C8+D7) -> 22 | E8: =('ACTIVIDAD 2'!C8/'ACTIVIDAD 2'!$C$12) -> 0.28 | F8: =D8/$D$11 -> 0.44 | G8: =B8*C8 -> 14
A9: MODA | B9: 2 | C9: 20 | D9: =SUM(C9+D8) -> 42 | E9: =('ACTIVIDAD 2'!C9/'ACTIVIDAD 2'!$C$12) -> 0.4 | F9: =D9/$D$11 -> 0.84 | G9: =B9*C9 -> 40
B10: 3 | C10: 5 | D10: =SUM(C10+D9) -> 47 | E10: =('ACTIVIDAD 2'!C10/'ACTIVIDAD 2'!$C$12) -> 0.1 | F10: =D10/$D$11 -> 0.94 | G10: =B10*C10 -> 15
B11: 4 | C11: 3 | D11: =SUM(C11+D10) -> 50 | E11: =('ACTIVIDAD 2'!C11/'ACTIVIDAD 2'!$C$12) -> 0.06 | F11: =D11/$D$11 -> 1 | G11: =B11*C11 -> 12
B12: n= | C12: =SUM(C7:C11) -> 50 | F12: ∑xi*fi= | G12: =SUM(G7:G11) -> 81
B15: USANDO FUNCIONES EXCEL
A16: 1 | B16: Complete la tabla, haciendo uso de celdas relativas y fijas cuando corresponda
A17: 2 | B17: Interprete f4 | D17: 5 FAMILIAS TIENEN 3 HIJOS
A18: 3 | B18: Interprete F3 | D18: 42 FAMILIAS TIENEN A LO MÁS 2 HIJOS
A19: 4 | B19: Interprete h2 | D19: EL 28% DE LAS FAMILIAS TIENEN 1 HIJO
A20: 5 | B20: Interprete H3 | D20: EL 84% DE LAS FAMILIAS TIENEN A LO MÁS 2 HIJOS
A21: 6 | B21: Calcule la media e interprete | E21: =G12/C12 -> 1.62 | F21: EN PROMEDIO, LAS FAMILIAS TIENEN APROX. 2 HIJOS
A22: 7 | B22: Calcule la moda e interprete | E22: 2 | F22: LA MAYORIA DELAS FAMILIAS TIENE 2 HIJOS
A23: 8 | B23: Calcule la mediana e interprete | E23: 2 | F23: LA MITAD DE LAS FAMILIAS TIENEN A LO MÁS 2 HIJOS
