Workbook

Sheet Programa
A1: CALENDARIO CONFECCIÓN PLAN ESTRATÉGICO 2026-2032 | E1: MAYO | I1: JUNIO | M1: JULIO | Q1: AGOSTO | U1: SEPTIEMBRE | Y1: OCTUBRE | AD1: NOVIEMBRE | AH1: DICIEMBRE
E2: Semana | F2: Semana | G2: Semana | H2: Semana | I2: Semana | J2: Semana | K2: Semana | L2: Semana | M2: Semana | N2: Semana | O2: Semana | P2: Semana | Q2: Semana | R2: Semana | S2: Semana | T2: Semana | U2: Semana | V2: Semana | W2: Semana | X2: Semana | Y2: Semana | Z2: Semana | AA2: Semana | AB2: Semana | AC2: Semana | AD2: Semana | AE2: Semana | AF2: Semana | AG2: Semana | AH2: Semana | AI2: Semana | AJ2: Semana
A3: Etapa | B3: Id Tarea | C3: Nombre de la tarea | D3: Participantes | E3: 05 al 09 | F3: 12 al 16 | G3: 19 al 23 | H3: 26 al 30 | I3: 02 al 06 | J3: 09 al 13 | K3: 16 al 20 | L3: 23 al 27 | M3: 30 jun al 04 | N3: 07 al 11 | O3: 14 al 18 | P3: 21 al 01 ago | Q3: 04 al 08 | R3: 11 al 15 | S3: 18 al 22 | T3: 25 al 29 | U3: 01 al 05 | V3: 08 al 12 | W3: 15 al 19 | X3: 22 al 26 | Y3: 29 al 03 | Z3: 06 al 10 | AA3: 13 al 17 | AB3: 20 al 24 | AC3: 27 al 31 | AD3: 03 al 07 | AE3: 10 al 14 | AF3: 17 al 21 | AG3: 24 al 28 | AH3: 01 AL 05 | AI3: 9 al 12 | AJ3: 15 al 19
A4: Inicio | B4: 1 | C4: =+'Detalle de las tareas'!C2 -> DESIGNACIÓN DEL EQUIPO RESPONSABLE | D4: CONGES | H4: 45807
A5: Marco regulador | B5: 2 | C5: =+'Detalle de las tareas'!C3 -> ELABORACIÓN ANTECEDENTES/PLAN DE TRABAJO | D5: CONGES | I5: 45814
B6: 3 | C6: =+'Detalle de las tareas'!C4 -> ELABORACIÓN DEL CALENDARIO DE TRABAJO | D6: CONGES | I6: 45814
B7: 4 | C7: =+'Detalle de las tareas'!C5 -> REUNIÓN CON DIRECCIÓN PARA VALIDACIÓN DEL MARCO GENERAL | D7: CONGES | I7: 45814
B8: 5 | C8: =+'Detalle de las tareas'!C6 -> PRESENTACIÓN DEL PROCESO A TODOS LOS ACTORES | D8: CONGES | J8: 45820
B9: 6 | C9: =+'Detalle de las tareas'!C7 -> REVISIÓN DE VERSIONES ANTERIORES DEL PLAN | D9: JEFES DEPTO | K9: 45827
B10: 7 | C10: =+'Detalle de las tareas'!C8 -> IDENTIFICACIÓN DE CAMBIOS CNA Y CONTEXTO ACTUAL | D10: CONGES | L10: 45835
B11: 8 | C11: =+'Detalle de las tareas'!C9 -> REVISIÓN CON UNIDAD DE ASEGURAMIENTO (UAC) PLAN EDUCATIVO E.N. | D11: EDUCACIÓN | M11: 45838
B12: 9 | C12: =+'Detalle de las tareas'!C10 -> DEFINICIÓN MISIÓN Y VISIÓN | D12: JEFES DEPTO | M12: 45838
B13: 10 | C13: =+'Detalle de las tareas'!C11 -> VERIFICACIÓN Y ORGANIZACIÓN SEGÚN R.O. | D13: JEFES DEPTO | M13: 45838
A14: Evaluación de la situación actual | B14: 11 | C14: =+'Detalle de las tareas'!C12 -> ACTUALIZACIÓN FODA CON DATOS 2024–2025 | D14: JEFES DEPTO | O14: 45856
B15: 12 | C15: =+'Detalle de las tareas'!C13 -> IDENTIFICACION DE RESPONSABLES Y CONSOLIDACIÓN DE DATOS FICHA INSTITUCIONAL DE DATOS | D15: JEFES DEPTO | O15: 45856
B16: 13 | C16: =+'Detalle de las tareas'!C14 -> ACTUALIZACIÓN PESTEL CON ENFOQUE CNA | D16: JEFES DEPTO | O16: 45856
B17: 14 | C17: =+'Detalle de las tareas'!C15 -> VALIDACIÓN CON COMITÉ ACADÉMICO-TÉCNICO | D17: JEFES DEPTO | P17: 45870
A18: Objetivos estratégicos | B18: 15 | C18: =+'Detalle de las tareas'!C16 -> LEVANTAMIENTO DE INICIATIVAS ACTUALES | D18: JEFES DEPTO | K18: 45827
B19: 16 | C19: =+'Detalle de las tareas'!C17 -> REVISIÓN DE INDICADORES VIGENTES | D19: JEFES DEPTO | M19: 45842
B20: 17 | C20: =+'Detalle de las tareas'!C18 -> DEFINICIÓN DE PERSPECTIVAS (CLIENTES, PROCESOS, ETC) | D20: JEFES DEPTO | N20: 45849
B21: 18 | C21: =+'Detalle de las tareas'!C19 -> REDACCIÓN DE NUEVOS OBJETIVOS POR PERSPECTIVA | D21: JEFES DEPTO | O21: 45855
B22: 19 | C22: =+'Detalle de las tareas'!C20 -> DEFINICIÓN DE LÍNEAS ESTRATÉGICAS | D22: JEFES DEPTO | P22: 45870
B23: 20 | C23: =+'Detalle de las tareas'!C21 -> DEFINICIÓN DE LÍNEA BASE Y METAS POR AÑO | D23: JEFES DEPTO | R23: 45884
B24: 21 | C24: =+'Detalle de las tareas'!C22 -> VALIDACIÓN DE INDICADORES CON RESPONSABLES | D24: JEFES DEPTO | T24: 45897
B25: 22 | C25: =+'Detalle de las tareas'!C23 -> ACTUALIZACIÓN DE KPI´S | D25: JEFES DEPTO | T25: 45897
A26: Compilación de la información | B26: 23 | C26: =+'Detalle de las tareas'!C24 -> REVISIÓN TÉCNICA DE AVANCES DE LA PLANIFICACIÓN ACTUAL Y MATRIZ DE ACTIVIDADES | D26: JEFES DEPTO | X26: 45926
B27: 24 | C27: =+'Detalle de las tareas'!C25 -> ESTIMACIÓN DE COSTOS POR PACA PROYECTOS Y OBJETIVOS | D27: JEFES DEPTO | X27: 45926
B28: 25 | C28: =+'Detalle de las tareas'!C26 -> DISEÑO DE HERRAMIENTAS DE EVALUACIÓN INTERNA | D28: JEFES DEPTO | X28: 45926
B29: 26 | C29: =+'Detalle de las tareas'!C27 -> FUNCIONAMIENTO DEL SIAC | D29: JEFES DEPTO | X29: 45926
A30: Difusión | B30: 27 | C30: =+'Detalle de las tareas'!C28 -> ANÁLISIS DE MEDIOS INTERNOS Y EXTERNOS PARA DIFUSION | D30: JEFES DEPTO | Y30: 45933
A31: Preparación de borrador para revisión institucional | B31: 28 | C31: =+'Detalle de las tareas'!C29 -> DISTRIBUCIÓN DEL BORRADOR A JEFATURAS | D31: CONGES | X31: 45926
B32: 29 | C32: =+'Detalle de las tareas'!C30 -> REUNIONES DE RETROALIMENTACIÓN POR UNIDAD | D32: JEFES DEPTO | Z32: 45940
B33: 30 | C33: =+'Detalle de las tareas'!C31 -> AJUSTES FINALES SEGÚN OBSERVACIONES | D33: CONGES | AA33: 45947
B34: 31 | C34: =+'Detalle de las tareas'!C32 -> PRESENTACIÓN EJECUTIVA DEL PLAN AJUSTADO | D34: CONGES | AB34: 45950
B35: 32 | C35: =+'Detalle de las tareas'!C33 -> REVISIÓN TÉCNICA Y VALIDACIÓN FORMAL | D35: CONGES | AB35: 45950
B36: 33 | C36: =+'Detalle de las tareas'!C34 -> FIRMA Y ENVÍO A DIRECCIÓN PARA PROMULGACIÓN | D36: CONGES | AC36: 45950
B37: 34 | C37: =+'Detalle de las tareas'!C35 -> REVISIÓN FINAL Y VALIDACIÓN DEL PLAN | D37: CONGES | AG37: 45989
A38: Plan estratégico final | B38: 35 | C38: =+'Detalle de las tareas'!C36 -> PUBLICACIÓN NUEVO PLAN ESTRATÉGICO | D38: CONGES | AH38: 45995
B39: 36 | C39: =+'Detalle de las tareas'!C37 -> REVISIÓN DE PLATAFORMA DIGITAL DE SEGUIMIENTO | D39: INFORMÁTICA | AI39: 46003
B40: 37 | C40: =+'Detalle de las tareas'!C38 -> CREACIÓN DE PROTOCOLOS Y ALERTAS TEMPRANAS | D40: JEFES DEPTO | AJ40: 46006
...

Sheet Detalle de las tareas
A1: Etapa | B1: Id Tarea | C1: Nombre de la tarea | D1: Participantes | E1: Descripción de la tarea
A2: Inicio | B2: 1 | C2: DESIGNACIÓN DEL EQUIPO RESPONSABLE | D2: CONGES
A3: Marco regulador | B3: 2 | C3: ELABORACIÓN ANTECEDENTES/PLAN DE TRABAJO | D3: CONGES
A4: Marco regulador | B4: 3 | C4: ELABORACIÓN DEL CALENDARIO DE TRABAJO | D4: CONGES | E4: Diseñar un calendario semanal en formato Excel o plataforma institucional que incluya tareas, responsables, fechas de inicio y término, reuniones clave y entregables esperados
A5: Marco regulador | B5: 4 | C5: REUNIÓN CON DIRECCIÓN PARA VALIDACIÓN DEL MARCO GENERAL | D5: CONGES | E5: Agendar sesión de trabajo con el Director de la Escuela y equipo de planificación para presentar marco institucional, misión, visión, valores y alineación con estándares de defensa y educación superior
A6: Marco regulador | B6: 5 | C6: PRESENTACIÓN DEL PROCESO A TODOS LOS ACTORES | D6: CONGES | E6: Convocar a reunión institucional con jefes de departamento, UAC, estadística, jefes de cátedra, oficiales para presentar el plan de trabajo
A7: Marco regulador | B7: 6 | C7: REVISIÓN DE VERSIONES ANTERIORES DEL PLAN | D7: JEFES DEPTO | E7: Analizar en detalle los planes estratégicos 2015–2019 y 2020–2025, identificando logros alcanzados, brechas no abordadas y elementos vigentes que deban mantenerse
A8: Marco regulador | B8: 7 | C8: IDENTIFICACIÓN DE CAMBIOS CNA Y CONTEXTO ACTUAL | D8: CONGES | E8: Comparar el plan con los nuevos criterios de acreditación institucional 2025–2030 definidos por la CNA. Considerar observaciones y experiencias de la última acreditación
A9: Marco regulador | B9: 8 | C9: REVISIÓN CON UNIDAD DE ASEGURAMIENTO (UAC) PLAN EDUCATIVO E.N. | D9: EDUCACIÓN | E9: Verificar resultados de la RIE y solicitar retroalimentación a la Unidad de Calidad para verificar alineación con criterios institucionales.
A10: Marco regulador | B10: 9 | C10: DEFINICIÓN MISIÓN Y VISIÓN | D10: JEFES DEPTO | E10: Evaluar y proponer en caso de ser necesario la Visión y Misión de la Escuela Naval al año 2032, considerando los criterios de acreditación y el Sistema de Educación Naval
A11: Marco regulador | B11: 10 | C11: VERIFICACIÓN Y ORGANIZACIÓN SEGÚN R.O. | D11: JEFES DEPTO | E11: Revisar y proponer modificaciones de las funciones de los cargos de cada departamento enfocado en el cumplimiento de la Misión. Verificar organigrama.
A12: Evaluación de la situación actual | B12: 11 | C12: ACTUALIZACIÓN FODA CON DATOS 2024–2025 | D12: JEFES DEPTO | E12: Por departamentos, actualizar la matriz FODA institucional con insumos provenientes de encuestas internas, focus groups y auditorías internas realizadas en los últimos dos años.
A13: Evaluación de la situación actual | B13: 12 | C13: IDENTIFICACION DE RESPONSABLES Y CONSOLIDACIÓN DE DATOS FICHA INSTITUCIONAL DE DATOS | D13: JEFES DEPTO | E13: Completar la ficha institucional de datos para el periodo 2024
A14: Evaluación de la situación actual | B14: 13 | C14: ACTUALIZACIÓN PESTEL CON ENFOQUE CNA | D14: JEFES DEPTO | E14: Por departamento, formular el análisis PESTEL (político económico social tecnológico ecológico y legal) incorporando evidencias recientes y su relación con los criterios de aseguramiento de calidad, vinculación con el medio, etc.
A15: Evaluación de la situación actual | B15: 14 | C15: VALIDACIÓN CON COMITÉ ACADÉMICO-TÉCNICO | D15: JEFES DEPTO | E15: Validación de etapas anteriores y presentar el nuevo diagnóstico al comité integrado por jefe de departamento de educación, UAC, VcM y gestión de la calidad.
... A38: Plan estratégico final | B38: 37 | C38: CREACIÓN DE PROTOCOLOS Y ALERTAS TEMPRANAS | D38: JEFES DEPTO | E38: Por departamento, proponer cursos de acción para los casos en los que no se cumplan las metas de los indicadores propuestos
