Workbook
Name PACA: #REF!

Sheet FUERZA TAREA
A1: REQUERIMIENTO EEC-C "INDICAR FT" EJEMPLO
B3: RESUMEN POR SUBTÍTULO
B4: SUBTÍTULO | C4: PESOS
B5: ST 22 | C5: =SUM(D10:D15) -> 600000
B6: TOTAL | C6: =C5 -> 600000
B8: RESUMEN POR ÍTEM
B9: DESCRIPCIÓN | C9: ÍTEM | D9: MONTO
B10: ALIMENTACIÓN | C10: 22-01 | D10: 100000
B11: COMBUSTIBLES | C11: 22-03 | D11: 100000 | K11: MONTOS DEBEN CONCORDAR
B12: MATERIALES DE USO O CONSUMO | C12: 22-04 | D12: 100000
B13: SERVICIOS BÁSICOS | C13: 22-05 | D13: 100000
B14: MANTENIMIENTO Y REPARACIONES | C14: 22-06 | D14: 100000
B15: SERVICIOS GENERALES | C15: 22-08 | D15: 100000
C16: TOTAL | D16: =SUM(D10:D15) -> 600000
B18: ITEMIZACIÓN A NIVEL ASIGNACIÓN
B19: ÍTEM | C19: PESOS
B20: 22-01-001-001 | C20: 100000
B21: 22-03-001-000 | C21: 20000
B22: 22-03-002-000 | C22: 20000
B23: 22-03-002-000 | C23: 20000
B24: 22-03-999-000 | C24: 20000
B25: 22-03-999-001 | C25: 20000
B26: 22-04-001-000 | C26: 10000
B27: 22-04-004-000 | C27: 10000
B28: 22-04-005-000 | C28: 10000
B29: 22-04-006-000 | C29: 10000
B30: 22-04-007-000 | C30: 10000
B31: 22-04-009-000 | C31: 10000
... B39: 22-08-999-002 | C39: 50000
B40: TOTAL | C40: =SUM(C20:C39) -> 600000

Sheet RESUMEN
A1: FUERZA TAREA | B1: OPERACIÓN | C1: DESCRIPCIÓN DE NECESIDAD | D1: MONTO | E1: ITEMIZACIÓN | F1: OBSERVACIONES
A2: ARMADA | B2: OPERACIÓN | C2: SUPLEMENTO ALIMENTACIÓN 100% | D2: 100000 | E2: 22-01-001 | F2: REQUERIMIENTO SUPLEMENTO ALIMENTACION
A3: ARMADA | B3: OPERACIÓN | C3: COMBUSTIBLE MILITAR | D3: =+'FUERZA TAREA'!C25 -> 20000 | E3: 22-03-999-000 | F3: PATRULLAJES UNIDADES NAVALES JEFMAYOR 060840 MARZO 2023
A4: ARMADA | B4: OPERACIÓN | C4: COMBUSTIBLE AVIACIÓN | D4: =+'FUERZA TAREA'!C25 -> 20000 | E4: 22-03-999-001 | F4: REQUERIMIENTOS PARA AERONAVES SEZONA
A5: ARMADA | B5: OPERACIÓN | C5: COMBUSTIBLE VEHICULOS ADMINISTRATIVOS | D5: =+'FUERZA TAREA'!C21 -> 20000 | E5: 22-03-001 | F5: REQUERIMIENTOS PARA USO VEHÍCULOS ADMINISTRATIVOS
A6: ARMADA | B6: OPERACIÓN | C6: COMBUSTIBLE GENERADORES | D6: =+'FUERZA TAREA'!C22 -> 20000 | E6: 22-03-002 | F6: GENERADORES LOS ALAMOS
A7: ARMADA | B7: OPERACIÓN | C7: ACEITES Y LUBRICANTES PARA MOTOSIERRAS Y ARMAMENTO | D7: =+'FUERZA TAREA'!C23 -> 20000 | E7: 22-03-002 | F7: REQUERIMIENTO PARA OPERACIÓN GT LOS ÁLAMOS
A8: ARMADA | B8: OPERACIÓN | C8: ARTICULOS DE ESCRITORIO | D8: =+'FUERZA TAREA'!C26 -> 10000 | E8: 22-04-001 | F8: REQUERIMIENTO PARA OPERACIÓN GT LOS ÁLAMOS
A9: ARMADA | B9: OPERACIÓN | C9: PRODUCTOS FARMACEUTICOS | D9: =+'FUERZA TAREA'!C27 -> 10000 | E9: 22-04-004 | F9: REQUERIMIENTO PARA OPERACIÓN GT LOS ÁLAMOS
A10: ARMADA | B10: OPERACIÓN | C10: MATERIALES Y UTILES QUIRURGICOS | D10: =+'FUERZA TAREA'!C28 -> 10000 | E10: 22-04-005 | F10: REQUERIMIENTO PARA OPERACIÓN GT LOS ÁLAMOS
A11: ARMADA | B11: OPERACIÓN | C11: PRODUCTOS PARA DESRATIZAR | D11: =+'FUERZA TAREA'!C29 -> 10000 | E11: 22-04-006 | F11: REQUERIMIENTO PARA OPERACIÓN GT LOS ÁLAMOS
A12: ARMADA | B12: OPERACIÓN | C12: ARTICULOS DE ASEO | D12: =+'FUERZA TAREA'!C30 -> 10000 | E12: 22-04-007 | F12: REQUERIMIENTO PARA OPERACIÓN GT LOS ÁLAMOS
A13: ARMADA | B13: OPERACIÓN | C13: INSUMOS COMPUTACIONALES | D13: =+'FUERZA TAREA'!C31 -> 10000 | E13: 22-04-009 | F13: REQUERIMIENTO PARA OPERACIÓN GT LOS ÁLAMOS
A14: ARMADA | B14: OPERACIÓN | C14: ARTICULOS PARA REPARACION INSTALACIONES | D14: =+'FUERZA TAREA'!C32 -> 10000 | E14: 22-04-010 | F14: REQUERIMIENTO PARA OPERACIÓN GT LOS ÁLAMOS
A15: ARMADA | B15: OPERACIÓN | C15: REPUESTOS VEHÍCULOS MILITARES | D15: =+'FUERZA TAREA'!C33 -> 10000 | E15: 22-04-011 | F15: REQUERIMIENTO PARA OPERACIÓN GT LOS ÁLAMOS
A16: ARMADA | B16: OPERACIÓN | C16: REPUESTOS GENERADORES Y MOTORES F/B | D16: =+'FUERZA TAREA'!C34 -> 10000 | E16: 22-04-012 | F16: REQUERIMIENTO PARA OPERACIÓN GT LOS ÁLAMOS
A17: ARMADA | B17: OPERACIÓN | C17: MATERIALES PARA LOS ALAMOS | D17: =+'FUERZA TAREA'!C35 -> 10000 | E17: 22-04-999 | F17: REQUERIMIENTO PARA OPERACIÓN GT LOS ÁLAMOS
A18: ARMADA | B18: OPERACIÓN | C18: GAS | D18: =+'FUERZA TAREA'!C36 -> 100000 | E18: 22-05-003 | F18: REQUERIMIENTO PARA OPERACIÓN GT LOS ÁLAMOS
A19: ARMADA | B19: OPERACIÓN | C19: REPARACION DRONES | D19: =+'FUERZA TAREA'!C37 -> 100000 | E19: 22-06-999 | F19: REQUERIMIENTO PARA OPERACIÓN GT LOS ÁLAMOS
... A21: ARMADA | B21: OPERACIÓN | C21: LIMPIEZA DE FOSAS SÉPTICAS | D21: =+'FUERZA TAREA'!C39 -> 50000 | E21: 22-08-999-002 | F21: REQUERIMIENTO QUINCENAL SEZONA
C22: TOTAL GASTOS EEC-C | D22: =SUM(D2:D21) -> 600000
