Workbook

Sheet MAESTRO
A1: NRO. | B1: PRECEDENCIA | C1: CRITERIO DE ORDEN | D1: FUENTE | E1: TRATAMIENTO | F1: TRIBUNA | G1: NOMBRE COMPLETO | H1: NOMBRE | I1: APELLIDO PATERNO | J1: APELLIDO MATERNO | K1: ASISTENCIA | L1: CARGO | M1: OBSERVACIONES
A2: 1 | B2: 1 | C2: Coincidencia exacta PDF: Presidente de la República | D2: OPA | E2: Su Excelencia | F2: VIP | G2: Kast Kast, José Antonio | H2: José Antonio | I2: Kast | J2: Kast | K2: Pendiente | L2: Presidente de la República
A3: 2 | B3: 2 | C3: Coincidencia exacta PDF: Presidenta del Senado | D3: OPA | E3: Honorable Senador | F3: VIP | G3: Núñez Urrutia, Paulina | H3: Paulina | I3: Núñez | J3: Urrutia | K3: Pendiente | L3: Presidenta del Senado
A4: 3 | B4: 4 | C4: Coincidencia exacta PDF: Presidente de la Cámara de Diputados | D4: OPA | E4: Honorable Diputado | F4: VIP | G4: Alessandri Vergara, Jorge | H4: Jorge | I4: Alessandri | J4: Vergara | K4: Pendiente | L4: Presidente de la Cámara de Diputados
A5: 4 | B5: 5 | C5: Coincidencia exacta PDF: Ex Presidente de la República | D5: OPA | F5: VIP | G5: Frei Ruiz-Tagle, Eduardo | H5: Eduardo | I5: Frei | J5: Ruiz-Tagle | K5: Pendiente | L5: Ex Presidente de la República
A6: 5 | B6: 5 | C6: Coincidencia exacta PDF: Ex Presidente de la República | D6: OPA | F6: VIP | G6: Lagos Escobar, Ricardo | H6: Ricardo | I6: Lagos | J6: Escobar | K6: Pendiente | L6: Ex Presidente de la República
A7: 6 | B7: 5 | C7: Coincidencia exacta PDF: Ex Presidenta de la República | D7: OPA | F7: VIP | G7: Bachelet Jeria, Michelle | H7: Michelle | I7: Bachelet | J7: Jeria | K7: Pendiente | L7: Ex Presidenta de la República
A8: 7 | B8: 5 | C8: Coincidencia exacta PDF: Ex Presidente de la República | D8: OPA | F8: VIP | G8: Boric Font, Gabriel | H8: Gabriel | I8: Boric | J8: Font | K8: Pendiente | L8: Ex Presidente de la República
A9: 8 | B9: 10 | C9: Coincidencia exacta PDF: Presidenta del Tribunal Constitucional | D9: OPA | F9: VIP | G9: Marzi Muñoz, Daniela | H9: Daniela | I9: Marzi | J9: Muñoz | K9: Pendiente | L9: Presidenta del Tribunal Constitucional
A10: 9 | B10: 11 | C10: Coincidencia exacta PDF: Contralora General de la República | D10: OPA | E10: Contralora | F10: VIP | G10: Pérez Gutiérrez, Dorothy | H10: Dorothy | I10: Pérez | J10: Gutiérrez | K10: Pendiente | L10: Contralora General de la República
A11: 10 | B11: 12 | C11: Coincidencia exacta PDF: Fiscal Nacional del Ministerio Público | D11: OPA | E11: Fiscal | F11: VIP | G11: Valencia Vásquez, Ángel | H11: Ángel | I11: Valencia | J11: Vásquez | K11: Pendiente | L11: Fiscal Nacional del Ministerio Público
A12: 11 | B12: 16 | C12: Coincidencia exacta PDF: Ministro del Interior | D12: OPA | E12: Ministro | F12: VIP | G12: Alvarado Andrade, Claudio | H12: Claudio | I12: Alvarado | J12: Andrade | K12: Pendiente | L12: Biministro del Interior y Secretario General de Gobierno
A13: 12 | B13: 17 | C13: Coincidencia exacta PDF: Ministro de Relaciones Exteriores | D13: OPA | E13: Ministro | F13: VIP | G13: Pérez Mackenna, Francisco | H13: Francisco | I13: Pérez | J13: Mackenna | K13: Pendiente | L13: Ministro de Relaciones Exteriores
A14: 13 | B14: 18 | C14: Coincidencia exacta PDF: Ministro de Defensa Nacional | D14: OPA | E14: Ministro | F14: VIP | G14: Barros Tocornal, Fernando | H14: Fernando | I14: Barros | J14: Tocornal | K14: Pendiente | L14: Ministro de Defensa Nacional
A15: 14 | B15: 19 | C15: Coincidencia exacta PDF: Ministro de Hacienda | D15: OPA | E15: Ministro | F15: VIP | G15: Quiroz Castro, Jorge | H15: Jorge | I15: Quiroz | J15: Castro | K15: Pendiente | L15: Ministro de Hacienda
A16: 15 | B16: 20 | C16: Coincidencia PDF por cartera principal: Seguridad Pública / Transporte | D16: OPA | E16: Ministro | F16: VIP | G16: De Grange Concha, Louis | H16: Louis | I16: De Grange | J16: Concha | K16: Pendiente | L16: Biministro de Seguridad, Transporte y Telecomunicaciones
A17: 16 | B17: 23 | C17: Coincidencia PDF por cartera principal: Economía / Minería | D17: OPA | E17: Ministro | F17: VIP | G17: Mas Valdés, Daniel | H17: Daniel | I17: Mas | J17: Valdés | K17: NO | L17: Biministro de Minería, Economía y Turismo
A18: 17 | B18: 25 | C18: Coincidencia exacta PDF: Ministra de Educación | D18: OPA | E18: Ministro | F18: VIP | G18: Arzola González, María Paz | H18: María Paz | I18: Arzola | J18: González | K18: Pendiente | L18: Ministra de Educación
A19: 18 | B19: 34 | C19: Coincidencia exacta PDF: Ministra de Bienes Nacionales | D19: OPA | E19: Ministro | F19: VIP | G19: Parot Donoso, Catalina | H19: Catalina | I19: Parot | J19: Donoso | K19: Pendiente | L19: Ministra de Bienes Nacionales
A20: 19 | B20: 35 | C20: Coincidencia exacta PDF: Ministra de Energía | D20: OPA | E20: Ministro | F20: VIP | G20: Rincón González, Ximena | H20: Ximena | I20: Rincón | J20: González | K20: Pendiente | L20: Ministra de Energía
A21: 20 | B21: 36 | C21: Coincidencia exacta PDF: Ministra del Medio Ambiente | D21: OPA | E21: Ministro | F21: VIP | G21: Toledo Echegaray, Francisca | H21: Francisca | I21: Toledo | J21: Echegaray | K21: Pendiente | L21: Ministra del Medio Ambiente
... A23: 22 | B23: 40 | C23: Coincidencia exacta PDF: Ministra de Ciencia, Tecnología, Conocimiento e Innovación | D23: OPA | E23: Ministro | F23: VIP | G23: Lincolao Gates, Ximena | H23: Ximena | I23: Lincolao | J23: Gates | K23: Pendiente | L23: Ministra de Ciencia, Tecnología, Conocimiento e Innovación
A24: 23 | D24: OPA | E24: Vicealmirante | F24: VIP | H24: Julio | I24: Cacho | J24: Morán | K24: Pendiente | L24: Jefe del Estado Mayor de la Armada de Perú
A25: 24 | B25: 43 | C25: Categoría PDF: Embajadores Extranjeros (orden interno diplomático no informado) | D25: OPA | E25: Excelentísima | F25: VIP | G25: Andrade Abdo, Lotty Farah | H25: Lotty Farah | I25: Andrade | J25: Abdo | K25: Pendiente | L25: Embajadora de Ecuador en Chile
A26: 25 | B26: 43 | C26: Categoría PDF: Embajadores Extranjeros (orden interno diplomático no informado) | D26: OPA | E26: Excelentísima | F26: VIP | G26: Biagiotti, Valeria | H26: Valeria | I26: Biagiotti | K26: Pendiente | L26: Embajadora de Italia en Chile
A27: 26 | B27: 43 | C27: Categoría PDF: Embajadores Extranjeros (orden interno diplomático no informado) | D27: OPA | E27: Excelentísima | F27: VIP | G27: Camino Cannock, Peter | H27: Peter | I27: Camino | J27: Cannock | K27: Pendiente | L27: Embajador de Perú en Chile
A28: 27 | B28: 43 | C28: Categoría PDF: Embajadores Extranjeros (orden interno diplomático no informado) | D28: OPA | E28: Excelentísima | F28: VIP | G28: Concar, David | H28: David | I28: Concar | K28: Pendiente | L28: Embajador del Reino Unido de Gran Bretaña e Irlanda del Norte en Chile
A29: 28 | D29: OPA | E29: Excelentísima | F29: VIP | H29: Laura | I29: Moreno | J29: Rodriguez | K29: Pendiente | L29: Embajadora de Mexico en Chile
A30: 29 | D30: OPA | E30: Excelentísima | F30: VIP | H30: Ahmet | I30: Ihsan | J30: Kiziltan | K30: Pendiente | L30: Embajadora de Turquia en Chile
A31: 30 | D31: OPA | E31: Excelentísima | F31: VIP | H31: Ana Inés | I31: Rocanova | J31: Rodríguez | K31: Pendiente | L31: Embajadora de la República Oriental del Uruguay en Chile
A32: 31 | D32: OPA | E32: Excelentísima | F32: VIP | H32: Niu | I32: Qingbao | K32: Pendiente | L32: Embajador de la República Popular China en Chile
A33: 32 | D33: OPA | E33: Excelentísima | F33: VIP | H33: Kenko | I33: Sone | K33: Pendiente | L33: Embajadora de Japón en Chile
A34: 33 | D34: OPA | E34: Excelentísima | F34: VIP | H34: Juan Alberto | I34: Cohen | J34: Sander | K34: Pendiente | L34: Embajadora de Republica Dominicana en Chile
A35: 34 | D35: OPA | E35: Excelentísima | F35: VIP | H35: Hak | I35: Jae Kim | K35: Pendiente | L35: Embajadora de Corea en Chile
A36: 35 | D36: OPA | E36: Excelentísima | F36: VIP | H36: Antonio | I36: Rivas | J36: Palacio | K36: Pendiente | L36: Embajadora de Paraguay en Chile
A37: 36 | D37: OPA | E37: Excelentísima | F37: VIP | H37: Peleg | I37: Lewi | K37: Pendiente | L37: Embajadora de Israel en Chile
A38: 37 | D38: OPA | E38: Excelentísima | F38: VIP | H38: Susanne | I38: Fries-Gaier | K38: Pendiente | L38: Embajadora de Alemania en Chile
A39: 38 | B39: 43 | C39: Categoría PDF: Embajadores Extranjeros (orden interno diplomático no informado) | D39: OPA | E39: Excelentísima | F39: VIP | G39: El Ghali Ghali, Kenza | H39: Kenza | I39: El Ghali | J39: Ghali | K39: Pendiente | L39: Embajadora de Marruecos en Chile
A40: 39 | B40: 43 | C40: Categoría PDF: Embajadores Extranjeros (orden interno diplomático no informado) | D40: OPA | E40: Excelentísima | F40: VIP | G40: Faurie, Jorge | H40: Jorge | I40: Faurie | K40: Pendiente | L40: Embajador de Argentina en Chile
A41: 40 | B41: 43 | C41: Categoría PDF: Embajadores Extranjeros (orden interno diplomático no informado) | D41: OPA | E41: Excelentísima | F41: VIP | G41: Guanumen Parra, Sebastián | H41: Sebastián | I41: Guanumen | J41: Parra | K41: Pendiente | L41: Embajador de Colombia en Chile
...

Sheet CONTROL ASISTENCIA
A1: CONTROL DE ASISTENCIA POR FUENTE
A2: FUENTE | B2: TOTAL INVITADOS | C2: SI | D2: NO | E2: PENDIENTES
A3: OPA | B3: =COUNTIF(MAESTRO!$D$2:$D$416,A3) | C3: =COUNTIFS(MAESTRO!$D$2:$D$416,A3,MAESTRO!$K$2:$K$416,"SI") | D3: =COUNTIFS(MAESTRO!$D$2:$D$416,A3,MAESTRO!$K$2:$K$416,"NO") | E3: =B3-C3-D3
A4: Académicos | B4: =COUNTIF(MAESTRO!$D$2:$D$416,A4) | C4: =COUNTIFS(MAESTRO!$D$2:$D$416,A4,MAESTRO!$K$2:$K$416,"SI") | D4: =COUNTIFS(MAESTRO!$D$2:$D$416,A4,MAESTRO!$K$2:$K$416,"NO") | E4: =B4-C4-D4
A5: ASMAR Dirección | B5: =COUNTIF(MAESTRO!$D$2:$D$416,A5) | C5: =COUNTIFS(MAESTRO!$D$2:$D$416,A5,MAESTRO!$K$2:$K$416,"SI") | D5: =COUNTIFS(MAESTRO!$D$2:$D$416,A5,MAESTRO!$K$2:$K$416,"NO") | E5: =B5-C5-D5
A6: ASMARTALC | B6: =COUNTIF(MAESTRO!$D$2:$D$416,A6) | C6: =COUNTIFS(MAESTRO!$D$2:$D$416,A6,MAESTRO!$K$2:$K$416,"SI") | D6: =COUNTIFS(MAESTRO!$D$2:$D$416,A6,MAESTRO!$K$2:$K$416,"NO") | E6: =B6-C6-D6
A7: Civiles | B7: =COUNTIF(MAESTRO!$D$2:$D$416,A7) | C7: =COUNTIFS(MAESTRO!$D$2:$D$416,A7,MAESTRO!$K$2:$K$416,"SI") | D7: =COUNTIFS(MAESTRO!$D$2:$D$416,A7,MAESTRO!$K$2:$K$416,"NO") | E7: =B7-C7-D7
A8: Militares | B8: =COUNTIF(MAESTRO!$D$2:$D$416,A8) | C8: =COUNTIFS(MAESTRO!$D$2:$D$416,A8,MAESTRO!$K$2:$K$416,"SI") | D8: =COUNTIFS(MAESTRO!$D$2:$D$416,A8,MAESTRO!$K$2:$K$416,"NO") | E8: =B8-C8-D8
A9: Proveedores | B9: =COUNTIF(MAESTRO!$D$2:$D$416,A9) | C9: =COUNTIFS(MAESTRO!$D$2:$D$416,A9,MAESTRO!$K$2:$K$416,"SI") | D9: =COUNTIFS(MAESTRO!$D$2:$D$416,A9,MAESTRO!$K$2:$K$416,"NO") | E9: =B9-C9-D9
A10: TOTAL GENERAL | B10: =SUM(B3:B9) | C10: =SUM(C3:C9) | D10: =SUM(D3:D9) | E10: =SUM(E3:E9)
