Workbook

Sheet INSTRUCCIONES
A1: BOTADURA - MAESTRO AUTOMATIZADO
A3: Uso:
A4: 1. Modificar, agregar o corregir invitados únicamente en la pestaña MAESTRO.
A5: 2. En la columna FUENTE/PESTAÑA del MAESTRO debe estar escrito exactamente el nombre de la pestaña destino.
A6: 3. Las pestañas de tribunas se completan automáticamente desde el MAESTRO mediante fórmulas.
A7: 4. No escribir sobre las fórmulas de las pestañas de tribunas.
A8: 5. Si Excel consulta actualizar o recalcular fórmulas, aceptar.
A10: Pestañas de tribunas automatizadas:
A11: ASMAR DIRECCIÓN
A12: ASMARTALC
A13: MILITARES
A14: CIVILES
... A21: El MAESTRO queda marcado en rojo/naranjo/amarillo según prioridad. No se eliminó ningún registro automáticamente.

Sheet VALIDACIÓN PROTOCOLO
A1: VALIDACIÓN PROTOCOLO - CONTROL DE DUPLICIDADES Y COINCIDENCIAS
A3: TOTAL REGISTROS REVISADOS | B3: 448 | D3: Criterio de revisión
A4: COINCIDENCIAS DETECTADAS | B4: 972 | D4: ALTA: revisar primero; puede existir invitación duplicada.
A5: ALTA | B5: 353 | D5: MEDIA: posible coincidencia por apellidos o cargo similar.
A6: MEDIA | B6: 496 | D6: BAJA: coincidencia débil; revisar solo si genera duda.
A7: BAJA | B7: 123 | D7: Prioridad OPA: no eliminar registros OPA; comparar y eliminar solo duplicados de otra tribuna.
A10: TIPO COINCIDENCIA | B10: PRIORIDAD | C10: VALOR DETECTADO | D10: DETALLE | E10: FILA 1 | F10: N° 1 | G10: NOMBRE 1 | H10: CARGO/PUESTO 1 | I10: TRIBUNA 1 | J10: FUENTE 1 | K10: ASISTENCIA 1 | L10: FILA 2 | M10: N° 2 | N10: NOMBRE 2 | O10: CARGO/PUESTO 2 | P10: TRIBUNA 2 | Q10: FUENTE 2 | R10: ASISTENCIA 2 | S10: RECOMENDACIÓN | T10: ESTADO REVISIÓN
A11: DUPLICADO EXACTO CARGO/PUESTO | B11: ALTA | C11: GERENTE COMERCIAL ARMADA | D11: Mismo cargo o puesto | E11: 21 | F11: 19 | H11: Gerente Comercial Armada | I11: ASMAR DIRECCIÓN | J11: ASMAR DIRECCIÓN | L11: 33 | M11: 28 | O11: Gerente Comercial Armada | P11: LATERAL | Q11: ASMARTALC | S11: REVISAR; PROBABLE MISMA INVITACIÓN O MISMO CARGO | T11: PENDIENTE
A12: DUPLICADO EXACTO CARGO/PUESTO | B12: ALTA | C12: GERENTE OPERACIONES | D12: Mismo cargo o puesto | E12: 38 | F12: 33 | H12: Gerente Operaciones | I12: VIP | J12: ASMARTALC | L12: 327 | M12: 330 | N12: Gonzalo Mercado | O12: Gerente Operaciones | P12: LATERAL | Q12: PROVEEDORES | R12: PENDIENTE | S12: REVISAR; PROBABLE MISMA INVITACIÓN O MISMO CARGO | T12: PENDIENTE
A13: DUPLICADO EXACTO CARGO/PUESTO | B13: ALTA | C13: INVITADO ESPECIAL | D13: Mismo cargo o puesto | E13: 74 | F13: 69 | G13: Carlos Cardoen Cornejo | H13: Invitado especial | I13: LATERAL | J13: ASMARTALC | K13: PENDIENTE | L13: 75 | M13: 70 | N13: Rodrigo Cardoen Aylwin | O13: Invitado especial | P13: LATERAL | Q13: ASMARTALC | R13: PENDIENTE | S13: REVISAR; PROBABLE MISMA INVITACIÓN O MISMO CARGO | T13: PENDIENTE
A14: DUPLICADO EXACTO CARGO/PUESTO | B14: ALTA | C14: COMANDANTE EN JEFE DE LA FUERZA AEREA | D14: Mismo cargo o puesto | E14: 117 | F14: 127 | H14: Comandante en Jefe de la Fuerza Aérea | I14: MILITARES | J14: MILITARES | L14: 377 | M14: 38 | N14: Hugo Rodríguez González | O14: Comandante en Jefe de la Fuerza Aérea | P14: OPA | Q14: OPA | R14: PENDIENTE | S14: REVISAR; PROBABLE MISMA INVITACIÓN O MISMO CARGO | T14: PENDIENTE
A15: DUPLICADO EXACTO CARGO/PUESTO | B15: ALTA | C15: COMANDANTE EN JEFE DEL EJERCITO | D15: Mismo cargo o puesto | E15: 122 | F15: 132 | H15: Comandante en Jefe del Ejército | I15: MILITARES | J15: MILITARES | L15: 376 | M15: 37 | N15: Pedro Varela Sabando | O15: Comandante en Jefe del Ejército | P15: OPA | Q15: OPA | R15: PENDIENTE | S15: REVISAR; PROBABLE MISMA INVITACIÓN O MISMO CARGO | T15: PENDIENTE
A16: DUPLICADO EXACTO CARGO/PUESTO | B16: ALTA | C16: DIRECTOR GENERAL DE LA POLICIA DE INVESTIGACIONES | D16: Mismo cargo o puesto | E16: 143 | F16: 153 | H16: Director General de la Policía de Investigaciones | I16: MILITARES | J16: MILITARES | L16: 379 | M16: 40 | N16: Eduardo Cerna Lozano | O16: Director General de la Policía de Investigaciones | P16: OPA | Q16: OPA | R16: PENDIENTE | S16: REVISAR; PROBABLE MISMA INVITACIÓN O MISMO CARGO | T16: PENDIENTE
A17: DUPLICADO EXACTO CARGO/PUESTO | B17: ALTA | C17: EX COMANDANTE EN JEFE DE LA ARMADA | D17: Mismo cargo o puesto | E17: 146 | F17: 156 | H17: Ex - Comandante en Jefe de la Armada | I17: MILITARES | J17: MILITARES | L17: 147 | M17: 157 | O17: Ex - Comandante en Jefe de la Armada | P17: MILITARES | Q17: MILITARES | S17: REVISAR; PROBABLE MISMA INVITACIÓN O MISMO CARGO | T17: PENDIENTE
A18: DUPLICADO EXACTO CARGO/PUESTO | B18: ALTA | C18: EX COMANDANTE EN JEFE DE LA ARMADA | D18: Mismo cargo o puesto | E18: 146 | F18: 156 | H18: Ex - Comandante en Jefe de la Armada | I18: MILITARES | J18: MILITARES | L18: 148 | M18: 158 | O18: Ex - Comandante en Jefe de la Armada | P18: MILITARES | Q18: MILITARES | S18: REVISAR; PROBABLE MISMA INVITACIÓN O MISMO CARGO | T18: PENDIENTE
A19: DUPLICADO EXACTO CARGO/PUESTO | B19: ALTA | C19: EX COMANDANTE EN JEFE DE LA ARMADA | D19: Mismo cargo o puesto | E19: 146 | F19: 156 | H19: Ex - Comandante en Jefe de la Armada | I19: MILITARES | J19: MILITARES | L19: 149 | M19: 159 | O19: Ex - Comandante en Jefe de la Armada | P19: MILITARES | Q19: MILITARES | S19: REVISAR; PROBABLE MISMA INVITACIÓN O MISMO CARGO | T19: PENDIENTE
A20: DUPLICADO EXACTO CARGO/PUESTO | B20: ALTA | C20: EX COMANDANTE EN JEFE DE LA ARMADA | D20: Mismo cargo o puesto | E20: 146 | F20: 156 | H20: Ex - Comandante en Jefe de la Armada | I20: MILITARES | J20: MILITARES | L20: 150 | M20: 160 | O20: Ex - Comandante en Jefe de la Armada | P20: MILITARES | Q20: MILITARES | S20: REVISAR; PROBABLE MISMA INVITACIÓN O MISMO CARGO | T20: PENDIENTE
A21: DUPLICADO EXACTO CARGO/PUESTO | B21: ALTA | C21: EX COMANDANTE EN JEFE DE LA ARMADA | D21: Mismo cargo o puesto | E21: 146 | F21: 156 | H21: Ex - Comandante en Jefe de la Armada | I21: MILITARES | J21: MILITARES | L21: 151 | M21: 161 | O21: Ex Comandante en Jefe de la Armada | P21: MILITARES | Q21: MILITARES | S21: REVISAR; PROBABLE MISMA INVITACIÓN O MISMO CARGO | T21: PENDIENTE
A22: DUPLICADO EXACTO CARGO/PUESTO | B22: ALTA | C22: EX COMANDANTE EN JEFE DE LA ARMADA | D22: Mismo cargo o puesto | E22: 146 | F22: 156 | H22: Ex - Comandante en Jefe de la Armada | I22: MILITARES | J22: MILITARES | L22: 380 | M22: 41 | N22: Jorge Patricio Arancibia Reyes | O22: Ex - Comandante en Jefe de la Armada | P22: OPA | Q22: OPA | R22: PENDIENTE | S22: REVISAR; PROBABLE MISMA INVITACIÓN O MISMO CARGO | T22: PENDIENTE
A23: DUPLICADO EXACTO CARGO/PUESTO | B23: ALTA | C23: EX COMANDANTE EN JEFE DE LA ARMADA | D23: Mismo cargo o puesto | E23: 146 | F23: 156 | H23: Ex - Comandante en Jefe de la Armada | I23: MILITARES | J23: MILITARES | L23: 381 | M23: 42 | N23: Miguel Ángel Vergara Villalobos | O23: Ex - Comandante en Jefe de la Armada | P23: OPA | Q23: OPA | R23: PENDIENTE | S23: REVISAR; PROBABLE MISMA INVITACIÓN O MISMO CARGO | T23: PENDIENTE
A24: DUPLICADO EXACTO CARGO/PUESTO | B24: ALTA | C24: EX COMANDANTE EN JEFE DE LA ARMADA | D24: Mismo cargo o puesto | E24: 146 | F24: 156 | H24: Ex - Comandante en Jefe de la Armada | I24: MILITARES | J24: MILITARES | L24: 382 | M24: 43 | N24: Rodolfo Codina Díaz | O24: Ex - Comandante en Jefe de la Armada | P24: OPA | Q24: OPA | R24: PENDIENTE | S24: REVISAR; PROBABLE MISMA INVITACIÓN O MISMO CARGO | T24: PENDIENTE
A25: DUPLICADO EXACTO CARGO/PUESTO | B25: ALTA | C25: EX COMANDANTE EN JEFE DE LA ARMADA | D25: Mismo cargo o puesto | E25: 146 | F25: 156 | H25: Ex - Comandante en Jefe de la Armada | I25: MILITARES | J25: MILITARES | L25: 383 | M25: 44 | N25: Edmundo González Robles | O25: Ex - Comandante en Jefe de la Armada | P25: OPA | Q25: OPA | R25: PENDIENTE | S25: REVISAR; PROBABLE MISMA INVITACIÓN O MISMO CARGO | T25: PENDIENTE
A26: DUPLICADO EXACTO CARGO/PUESTO | B26: ALTA | C26: EX COMANDANTE EN JEFE DE LA ARMADA | D26: Mismo cargo o puesto | E26: 146 | F26: 156 | H26: Ex - Comandante en Jefe de la Armada | I26: MILITARES | J26: MILITARES | L26: 384 | M26: 45 | N26: Enrique Larrañaga Martin | O26: Ex - Comandante en Jefe de la Armada | P26: OPA | Q26: OPA | R26: PENDIENTE | S26: REVISAR; PROBABLE MISMA INVITACIÓN O MISMO CARGO | T26: PENDIENTE
A27: DUPLICADO EXACTO CARGO/PUESTO | B27: ALTA | C27: EX COMANDANTE EN JEFE DE LA ARMADA | D27: Mismo cargo o puesto | E27: 146 | F27: 156 | H27: Ex - Comandante en Jefe de la Armada | I27: MILITARES | J27: MILITARES | L27: 385 | M27: 46 | N27: Julio Leiva Molina | O27: Ex - Comandante en Jefe de la Armada | P27: OPA | Q27: OPA | R27: PENDIENTE | S27: REVISAR; PROBABLE MISMA INVITACIÓN O MISMO CARGO | T27: PENDIENTE
A28: DUPLICADO EXACTO CARGO/PUESTO | B28: ALTA | C28: EX COMANDANTE EN JEFE DE LA ARMADA | D28: Mismo cargo o puesto | E28: 146 | F28: 156 | H28: Ex - Comandante en Jefe de la Armada | I28: MILITARES | J28: MILITARES | L28: 387 | M28: 48 | N28: Juan Andrés De La Maza Larraín | O28: Ex - Comandante en Jefe de la Armada | P28: OPA | Q28: OPA | R28: PENDIENTE | S28: REVISAR; PROBABLE MISMA INVITACIÓN O MISMO CARGO | T28: PENDIENTE
A29: DUPLICADO EXACTO CARGO/PUESTO | B29: ALTA | C29: EX COMANDANTE EN JEFE DE LA ARMADA | D29: Mismo cargo o puesto | E29: 147 | F29: 157 | H29: Ex - Comandante en Jefe de la Armada | I29: MILITARES | J29: MILITARES | L29: 148 | M29: 158 | O29: Ex - Comandante en Jefe de la Armada | P29: MILITARES | Q29: MILITARES | S29: REVISAR; PROBABLE MISMA INVITACIÓN O MISMO CARGO | T29: PENDIENTE
A30: DUPLICADO EXACTO CARGO/PUESTO | B30: ALTA | C30: EX COMANDANTE EN JEFE DE LA ARMADA | D30: Mismo cargo o puesto | E30: 147 | F30: 157 | H30: Ex - Comandante en Jefe de la Armada | I30: MILITARES | J30: MILITARES | L30: 149 | M30: 159 | O30: Ex - Comandante en Jefe de la Armada | P30: MILITARES | Q30: MILITARES | S30: REVISAR; PROBABLE MISMA INVITACIÓN O MISMO CARGO | T30: PENDIENTE
A31: DUPLICADO EXACTO CARGO/PUESTO | B31: ALTA | C31: EX COMANDANTE EN JEFE DE LA ARMADA | D31: Mismo cargo o puesto | E31: 147 | F31: 157 | H31: Ex - Comandante en Jefe de la Armada | I31: MILITARES | J31: MILITARES | L31: 150 | M31: 160 | O31: Ex - Comandante en Jefe de la Armada | P31: MILITARES | Q31: MILITARES | S31: REVISAR; PROBABLE MISMA INVITACIÓN O MISMO CARGO | T31: PENDIENTE
A32: DUPLICADO EXACTO CARGO/PUESTO | B32: ALTA | C32: EX COMANDANTE EN JEFE DE LA ARMADA | D32: Mismo cargo o puesto | E32: 147 | F32: 157 | H32: Ex - Comandante en Jefe de la Armada | I32: MILITARES | J32: MILITARES | L32: 151 | M32: 161 | O32: Ex Comandante en Jefe de la Armada | P32: MILITARES | Q32: MILITARES | S32: REVISAR; PROBABLE MISMA INVITACIÓN O MISMO CARGO | T32: PENDIENTE
A33: DUPLICADO EXACTO CARGO/PUESTO | B33: ALTA | C33: EX COMANDANTE EN JEFE DE LA ARMADA | D33: Mismo cargo o puesto | E33: 147 | F33: 157 | H33: Ex - Comandante en Jefe de la Armada | I33: MILITARES | J33: MILITARES | L33: 380 | M33: 41 | N33: Jorge Patricio Arancibia Reyes | O33: Ex - Comandante en Jefe de la Armada | P33: OPA | Q33: OPA | R33: PENDIENTE | S33: REVISAR; PROBABLE MISMA INVITACIÓN O MISMO CARGO | T33: PENDIENTE
A34: DUPLICADO EXACTO CARGO/PUESTO | B34: ALTA | C34: EX COMANDANTE EN JEFE DE LA ARMADA | D34: Mismo cargo o puesto | E34: 147 | F34: 157 | H34: Ex - Comandante en Jefe de la Armada | I34: MILITARES | J34: MILITARES | L34: 381 | M34: 42 | N34: Miguel Ángel Vergara Villalobos | O34: Ex - Comandante en Jefe de la Armada | P34: OPA | Q34: OPA | R34: PENDIENTE | S34: REVISAR; PROBABLE MISMA INVITACIÓN O MISMO CARGO | T34: PENDIENTE
A35: DUPLICADO EXACTO CARGO/PUESTO | B35: ALTA | C35: EX COMANDANTE EN JEFE DE LA ARMADA | D35: Mismo cargo o puesto | E35: 147 | F35: 157 | H35: Ex - Comandante en Jefe de la Armada | I35: MILITARES | J35: MILITARES | L35: 382 | M35: 43 | N35: Rodolfo Codina Díaz | O35: Ex - Comandante en Jefe de la Armada | P35: OPA | Q35: OPA | R35: PENDIENTE | S35: REVISAR; PROBABLE MISMA INVITACIÓN O MISMO CARGO | T35: PENDIENTE
A36: DUPLICADO EXACTO CARGO/PUESTO | B36: ALTA | C36: EX COMANDANTE EN JEFE DE LA ARMADA | D36: Mismo cargo o puesto | E36: 147 | F36: 157 | H36: Ex - Comandante en Jefe de la Armada | I36: MILITARES | J36: MILITARES | L36: 383 | M36: 44 | N36: Edmundo González Robles | O36: Ex - Comandante en Jefe de la Armada | P36: OPA | Q36: OPA | R36: PENDIENTE | S36: REVISAR; PROBABLE MISMA INVITACIÓN O MISMO CARGO | T36: PENDIENTE
A37: DUPLICADO EXACTO CARGO/PUESTO | B37: ALTA | C37: EX COMANDANTE EN JEFE DE LA ARMADA | D37: Mismo cargo o puesto | E37: 147 | F37: 157 | H37: Ex - Comandante en Jefe de la Armada | I37: MILITARES | J37: MILITARES | L37: 384 | M37: 45 | N37: Enrique Larrañaga Martin | O37: Ex - Comandante en Jefe de la Armada | P37: OPA | Q37: OPA | R37: PENDIENTE | S37: REVISAR; PROBABLE MISMA INVITACIÓN O MISMO CARGO | T37: PENDIENTE
A38: DUPLICADO EXACTO CARGO/PUESTO | B38: ALTA | C38: EX COMANDANTE EN JEFE DE LA ARMADA | D38: Mismo cargo o puesto | E38: 147 | F38: 157 | H38: Ex - Comandante en Jefe de la Armada | I38: MILITARES | J38: MILITARES | L38: 385 | M38: 46 | N38: Julio Leiva Molina | O38: Ex - Comandante en Jefe de la Armada | P38: OPA | Q38: OPA | R38: PENDIENTE | S38: REVISAR; PROBABLE MISMA INVITACIÓN O MISMO CARGO | T38: PENDIENTE
A39: DUPLICADO EXACTO CARGO/PUESTO | B39: ALTA | C39: EX COMANDANTE EN JEFE DE LA ARMADA | D39: Mismo cargo o puesto | E39: 147 | F39: 157 | H39: Ex - Comandante en Jefe de la Armada | I39: MILITARES | J39: MILITARES | L39: 387 | M39: 48 | N39: Juan Andrés De La Maza Larraín | O39: Ex - Comandante en Jefe de la Armada | P39: OPA | Q39: OPA | R39: PENDIENTE | S39: REVISAR; PROBABLE MISMA INVITACIÓN O MISMO CARGO | T39: PENDIENTE
A40: DUPLICADO EXACTO CARGO/PUESTO | B40: ALTA | C40: EX COMANDANTE EN JEFE DE LA ARMADA | D40: Mismo cargo o puesto | E40: 148 | F40: 158 | H40: Ex - Comandante en Jefe de la Armada | I40: MILITARES | J40: MILITARES | L40: 149 | M40: 159 | O40: Ex - Comandante en Jefe de la Armada | P40: MILITARES | Q40: MILITARES | S40: REVISAR; PROBABLE MISMA INVITACIÓN O MISMO CARGO | T40: PENDIENTE
A41: DUPLICADO EXACTO CARGO/PUESTO | B41: ALTA | C41: EX COMANDANTE EN JEFE DE LA ARMADA | D41: Mismo cargo o puesto | E41: 148 | F41: 158 | H41: Ex - Comandante en Jefe de la Armada | I41: MILITARES | J41: MILITARES | L41: 150 | M41: 160 | O41: Ex - Comandante en Jefe de la Armada | P41: MILITARES | Q41: MILITARES | S41: REVISAR; PROBABLE MISMA INVITACIÓN O MISMO CARGO | T41: PENDIENTE
A42: DUPLICADO EXACTO CARGO/PUESTO | B42: ALTA | C42: EX COMANDANTE EN JEFE DE LA ARMADA | D42: Mismo cargo o puesto | E42: 148 | F42: 158 | H42: Ex - Comandante en Jefe de la Armada | I42: MILITARES | J42: MILITARES | L42: 151 | M42: 161 | O42: Ex Comandante en Jefe de la Armada | P42: MILITARES | Q42: MILITARES | S42: REVISAR; PROBABLE MISMA INVITACIÓN O MISMO CARGO | T42: PENDIENTE
A43: DUPLICADO EXACTO CARGO/PUESTO | B43: ALTA | C43: EX COMANDANTE EN JEFE DE LA ARMADA | D43: Mismo cargo o puesto | E43: 148 | F43: 158 | H43: Ex - Comandante en Jefe de la Armada | I43: MILITARES | J43: MILITARES | L43: 380 | M43: 41 | N43: Jorge Patricio Arancibia Reyes | O43: Ex - Comandante en Jefe de la Armada | P43: OPA | Q43: OPA | R43: PENDIENTE | S43: REVISAR; PROBABLE MISMA INVITACIÓN O MISMO CARGO | T43: PENDIENTE
...

Sheet MAESTRO
A1: ASMAR DIRECCIÓN
A2: NRO. | B2: FUENTE/PESTAÑA | C2: TRIBUNA | D2: PRIORIDAD | E2: GRADO/TRATAMIENTO | F2: VOCATIVO | G2: PREFIJO | H2: NOMBRE | I2: APELLIDO PATERNO | J2: APELLIDO MATERNO | K2: Nombre Apellido Paterno Apellido Materno | L2: ASISTENCIA | M2: CORREO ELECTRÓNICO | N2: CARGO | O2: EMPRESA/UNIVERSIDAD/OTRO | P2: ORIGEN | Q2: PAÍS | R2: CATEGORÍA | S2: CÓCTEL | T2: CONFIRMACIÓN | U2: ORDEN ACTIVO | V2: UBICACIÓN | W2: IR A TRIBUNA | X2: OBSERVACIONES | Y2: ALERTA VALIDACIÓN
A3: 1 | B3: ASMAR DIRECCIÓN | C3: ASMAR DIRECCIÓN | N3: ADMINISTRADOR ASMAR (M) | O3: ASMARMAG | P3: NACIONAL | Q3: CHILE | R3: 1. ASMAR DIRECCIÓN | Y3: =IF(K3="","",IF(COUNTIF($K:$K,K3)>1,"DUPLICADO NOMBRE",IF(AND(N3<>"",COUNTIF($N:$N,N3)>1),"DUPLICADO CARGO","")))
A4: 2 | B4: ASMAR DIRECCIÓN | C4: ASMAR DIRECCIÓN | N4: ADMINISTRADOR ASMAR VALPARAÍSO | O4: ASMARVALP | P4: NACIONAL | Q4: CHILE | R4: 1. ASMAR DIRECCIÓN | Y4: =IF(K4="","",IF(COUNTIF($K:$K,K4)>1,"DUPLICADO NOMBRE",IF(AND(N4<>"",COUNTIF($N:$N,N4)>1),"DUPLICADO CARGO","")))
A5: 3 | B5: ASMAR DIRECCIÓN | C5: ASMAR DIRECCIÓN | N5: AUDITOR CORPORATIVO | O5: ASMARCORP | P5: NACIONAL | Q5: CHILE | R5: 1. ASMAR DIRECCIÓN | Y5: =IF(K5="","",IF(COUNTIF($K:$K,K5)>1,"DUPLICADO NOMBRE",IF(AND(N5<>"",COUNTIF($N:$N,N5)>1),"DUPLICADO CARGO","")))
A6: 4 | B6: ASMAR DIRECCIÓN | C6: ASMAR DIRECCIÓN | N6: Director | O6: ASMARCORP | P6: Nacional | Q6: Chile | R6: 1. ASMAR DIRECCIÓN | S6: Pelícanos | Y6: =IF(K6="","",IF(COUNTIF($K:$K,K6)>1,"DUPLICADO NOMBRE",IF(AND(N6<>"",COUNTIF($N:$N,N6)>1),"DUPLICADO CARGO","")))
A7: 5 | B7: ASMAR DIRECCIÓN | C7: ASMAR DIRECCIÓN | N7: Gerente Corp. Construcción Naval | O7: ASMARCORP | P7: Nacional | Q7: Chile | R7: 1. ASMAR DIRECCIÓN | S7: Pelícanos | Y7: =IF(K7="","",IF(COUNTIF($K:$K,K7)>1,"DUPLICADO NOMBRE",IF(AND(N7<>"",COUNTIF($N:$N,N7)>1),"DUPLICADO CARGO","")))
A8: 6 | B8: ASMAR DIRECCIÓN | C8: ASMAR DIRECCIÓN | N8: Gerente Corp. Operaciones | O8: ASMARCORP | P8: Nacional | Q8: Chile | R8: 1. ASMAR DIRECCIÓN | Y8: =IF(K8="","",IF(COUNTIF($K:$K,K8)>1,"DUPLICADO NOMBRE",IF(AND(N8<>"",COUNTIF($N:$N,N8)>1),"DUPLICADO CARGO","")))
A9: 7 | B9: ASMAR DIRECCIÓN | C9: ASMAR DIRECCIÓN | N9: Gerente Corp. Planificación y Desarrollo | O9: ASMARCORP | P9: Nacional | Q9: Chile | R9: 1. ASMAR DIRECCIÓN | Y9: =IF(K9="","",IF(COUNTIF($K:$K,K9)>1,"DUPLICADO NOMBRE",IF(AND(N9<>"",COUNTIF($N:$N,N9)>1),"DUPLICADO CARGO","")))
A10: 8 | B10: ASMAR DIRECCIÓN | C10: ASMAR DIRECCIÓN | N10: Gerente Corporativo de Finanzas | O10: ASMARCORP | P10: Nacional | Q10: Chile | R10: 1. ASMAR DIRECCIÓN | Y10: =IF(K10="","",IF(COUNTIF($K:$K,K10)>1,"DUPLICADO NOMBRE",IF(AND(N10<>"",COUNTIF($N:$N,N10)>1),"DUPLICADO CARGO","")))
A11: 9 | B11: ASMAR DIRECCIÓN | C11: ASMAR DIRECCIÓN | N11: Gerente Corporativo de Personas | O11: ASMARCORP | P11: Nacional | Q11: Chile | R11: 1. ASMAR DIRECCIÓN | Y11: =IF(K11="","",IF(COUNTIF($K:$K,K11)>1,"DUPLICADO NOMBRE",IF(AND(N11<>"",COUNTIF($N:$N,N11)>1),"DUPLICADO CARGO","")))
A12: 10 | B12: ASMAR DIRECCIÓN | C12: ASMAR DIRECCIÓN | N12: Jefe Corporativo Comunicaciones y RR.PP. | O12: ASMARCORP | P12: Nacional | Q12: Chile | R12: 1. ASMAR DIRECCIÓN | Y12: =IF(K12="","",IF(COUNTIF($K:$K,K12)>1,"DUPLICADO NOMBRE",IF(AND(N12<>"",COUNTIF($N:$N,N12)>1),"DUPLICADO CARGO","")))
A13: 11 | B13: ASMAR DIRECCIÓN | C13: ASMAR DIRECCIÓN | N13: Jefe Corporativo de Finanzas | O13: ASMARCORP | P13: Nacional | Q13: Chile | R13: 1. ASMAR DIRECCIÓN | Y13: =IF(K13="","",IF(COUNTIF($K:$K,K13)>1,"DUPLICADO NOMBRE",IF(AND(N13<>"",COUNTIF($N:$N,N13)>1),"DUPLICADO CARGO","")))
A14: 12 | B14: ASMAR DIRECCIÓN | C14: ASMAR DIRECCIÓN | N14: Jefe Corporativo de Unidad de Contabilidad | O14: ASMARCORP | P14: Nacional | Q14: Chile | R14: 1. ASMAR DIRECCIÓN | Y14: =IF(K14="","",IF(COUNTIF($K:$K,K14)>1,"DUPLICADO NOMBRE",IF(AND(N14<>"",COUNTIF($N:$N,N14)>1),"DUPLICADO CARGO","")))
A15: 13 | B15: ASMAR DIRECCIÓN | C15: ASMAR DIRECCIÓN | N15: Jefe Corporativo de Unidad de Recursos Financieros | O15: ASMARCORP | P15: Nacional | Q15: Chile | R15: 1. ASMAR DIRECCIÓN | Y15: =IF(K15="","",IF(COUNTIF($K:$K,K15)>1,"DUPLICADO NOMBRE",IF(AND(N15<>"",COUNTIF($N:$N,N15)>1),"DUPLICADO CARGO","")))
A16: 14 | B16: ASMAR DIRECCIÓN | C16: ASMAR DIRECCIÓN | N16: Jefe Corporativo de Unidad de Tesorería | O16: ASMARCORP | P16: Nacional | Q16: Chile | R16: 1. ASMAR DIRECCIÓN | Y16: =IF(K16="","",IF(COUNTIF($K:$K,K16)>1,"DUPLICADO NOMBRE",IF(AND(N16<>"",COUNTIF($N:$N,N16)>1),"DUPLICADO CARGO","")))
A17: 15 | B17: ASMAR DIRECCIÓN | C17: ASMAR DIRECCIÓN | N17: Jefe Corporativo Unidad de Gobierno Corporativo | O17: ASMARCORP | P17: Nacional | Q17: Chile | R17: 1. ASMAR DIRECCIÓN | Y17: =IF(K17="","",IF(COUNTIF($K:$K,K17)>1,"DUPLICADO NOMBRE",IF(AND(N17<>"",COUNTIF($N:$N,N17)>1),"DUPLICADO CARGO","")))
A18: 16 | B18: ASMAR DIRECCIÓN | C18: ASMAR DIRECCIÓN | N18: Secretario Consejo Superior | O18: ASMARCORP | P18: Nacional | Q18: Chile | R18: 1. ASMAR DIRECCIÓN | Y18: =IF(K18="","",IF(COUNTIF($K:$K,K18)>1,"DUPLICADO NOMBRE",IF(AND(N18<>"",COUNTIF($N:$N,N18)>1),"DUPLICADO CARGO","")))
A19: 17 | B19: ASMAR DIRECCIÓN | C19: ASMAR DIRECCIÓN | N19: Secretario General | O19: ASMARCORP | P19: Nacional | Q19: Chile | R19: 1. ASMAR DIRECCIÓN | Y19: =IF(K19="","",IF(COUNTIF($K:$K,K19)>1,"DUPLICADO NOMBRE",IF(AND(N19<>"",COUNTIF($N:$N,N19)>1),"DUPLICADO CARGO","")))
A20: 18 | B20: ASMAR DIRECCIÓN | C20: ASMAR DIRECCIÓN | N20: Subdirector | O20: ASMARCORP | P20: Nacional | Q20: Chile | R20: 1. ASMAR DIRECCIÓN | S20: Galpón | Y20: =IF(K20="","",IF(COUNTIF($K:$K,K20)>1,"DUPLICADO NOMBRE",IF(AND(N20<>"",COUNTIF($N:$N,N20)>1),"DUPLICADO CARGO","")))
A21: 19 | B21: ASMAR DIRECCIÓN | C21: ASMAR DIRECCIÓN | N21: Gerente Comercial Armada | O21: EX ASMAR | P21: Nacional | Q21: Chile | R21: 1. ASMAR DIRECCIÓN | Y21: =IF(K21="","",IF(COUNTIF($K:$K,K21)>1,"DUPLICADO NOMBRE",IF(AND(N21<>"",COUNTIF($N:$N,N21)>1),"DUPLICADO CARGO","")))
A22: 20 | B22: ASMAR DIRECCIÓN | C22: ASMAR DIRECCIÓN | N22: Gerente Comercial Buques Mercantes | O22: EX ASMAR | P22: Nacional | Q22: Chile | R22: 1. ASMAR DIRECCIÓN | Y22: =IF(K22="","",IF(COUNTIF($K:$K,K22)>1,"DUPLICADO NOMBRE",IF(AND(N22<>"",COUNTIF($N:$N,N22)>1),"DUPLICADO CARGO","")))
A23: 21 | B23: ASMAR DIRECCIÓN | C23: ASMAR DIRECCIÓN | N23: Gerente Comercial Corporativo | O23: EX ASMAR | P23: Nacional | Q23: Chile | R23: 1. ASMAR DIRECCIÓN | Y23: =IF(K23="","",IF(COUNTIF($K:$K,K23)>1,"DUPLICADO NOMBRE",IF(AND(N23<>"",COUNTIF($N:$N,N23)>1),"DUPLICADO CARGO","")))
A24: 22 | B24: ASMAR DIRECCIÓN | C24: ASMAR DIRECCIÓN | N24: Gerente de Construcción Naval | O24: EX ASMAR | P24: Nacional | Q24: Chile | R24: 1. ASMAR DIRECCIÓN | Y24: =IF(K24="","",IF(COUNTIF($K:$K,K24)>1,"DUPLICADO NOMBRE",IF(AND(N24<>"",COUNTIF($N:$N,N24)>1),"DUPLICADO CARGO","")))
A25: 23 | B25: ASMAR DIRECCIÓN | C25: ASMAR DIRECCIÓN | N25: Presidente de la Asociación General de Personal en Retiro y Montepíos de las Fuerzas Armadas, Fuerzas de Órden y Seguridad Pública | O25: ASOCIACIÓN GENERAL PERSONAL EN RETIRO Y MONTEPIOS | P25: Nacional | Q25: Chile | R25: 1. ASMAR DIRECCIÓN | Y25: =IF(K25="","",IF(COUNTIF($K:$K,K25)>1,"DUPLICADO NOMBRE",IF(AND(N25<>"",COUNTIF($N:$N,N25)>1),"DUPLICADO CARGO","")))
A26: 24 | B26: ASMAR DIRECCIÓN | C26: ASMAR DIRECCIÓN | N26: Alcaldesa de Valdivia | P26: Nacional | Q26: Chile | R26: 1. ASMAR DIRECCIÓN | S26: Pelícanos | Y26: =IF(K26="","",IF(COUNTIF($K:$K,K26)>1,"DUPLICADO NOMBRE",IF(AND(N26<>"",COUNTIF($N:$N,N26)>1),"DUPLICADO CARGO","")))
Y27: =IF(K27="","",IF(COUNTIF($K:$K,K27)>1,"DUPLICADO NOMBRE",IF(AND(N27<>"",COUNTIF($N:$N,N27)>1),"DUPLICADO CARGO","")))
A28: ASMARTALC | Y28: =IF(K28="","",IF(COUNTIF($K:$K,K28)>1,"DUPLICADO NOMBRE",IF(AND(N28<>"",COUNTIF($N:$N,N28)>1),"DUPLICADO CARGO","")))
A29: Nro. | B29: Fuente/Pestaña | C29: Tribuna | D29: Prioridad | E29: Grado/Tratamiento | F29: Vocativo | G29: Prefijo | H29: Nombre | I29: Apellido Paterno | J29: Apellido Materno | K29: Nombre Apellido Paterno Apellido Materno | L29: PENDIENTE | M29: Correo electrónico | N29: Cargo | O29: Empresa/Universidad/Otro | P29: Origen | Q29: País | R29: Categoría | S29: Cóctel | T29: Confirmación | U29: Orden Activo | V29: Ubicación | W29: Ir a Tribuna | X29: Observaciones | Y29: =IF(K29="","",IF(COUNTIF($K:$K,K29)>1,"DUPLICADO NOMBRE",IF(AND(N29<>"",COUNTIF($N:$N,N29)>1),"DUPLICADO CARGO",""))) -> DUPLICADO NOMBRE
A30: 25 | B30: ASMARTALC | C30: VIP | D30: 1 | G30: CN | N30: Admistrador Asmar (T) | O30: ASMARTALC | P30: Nacional | Q30: Chile | R30: 2. ASMARTALC | S30: Pelícanos | Y30: =IF(K30="","",IF(COUNTIF($K:$K,K30)>1,"DUPLICADO NOMBRE",IF(AND(N30<>"",COUNTIF($N:$N,N30)>1),"DUPLICADO CARGO","")))
A31: 26 | B31: ASMARTALC | C31: LATERAL | D31: 1 | G31: Sr. | N31: Ingeniero Senior Administrador | O31: ASMARTALC | P31: Nacional | Q31: Chile | R31: 2. ASMARTALC | S31: Galpón | Y31: =IF(K31="","",IF(COUNTIF($K:$K,K31)>1,"DUPLICADO NOMBRE",IF(AND(N31<>"",COUNTIF($N:$N,N31)>1),"DUPLICADO CARGO","")))
A32: 27 | B32: ASMARTALC | C32: LATERAL | D32: 1 | G32: SOM | N32: Condestable Mayor ASMAR T | O32: ASMARTALC | P32: Nacional | Q32: Chile | R32: 2. ASMARTALC | S32: Pelícanos | Y32: =IF(K32="","",IF(COUNTIF($K:$K,K32)>1,"DUPLICADO NOMBRE",IF(AND(N32<>"",COUNTIF($N:$N,N32)>1),"DUPLICADO CARGO","")))
A33: 28 | B33: ASMARTALC | C33: LATERAL | D33: 1 | G33: CF | N33: Gerente Comercial Armada | O33: ASMARTALC | P33: Nacional | Q33: Chile | R33: 2. ASMARTALC | S33: Galpón | Y33: =IF(K33="","",IF(COUNTIF($K:$K,K33)>1,"DUPLICADO NOMBRE",IF(AND(N33<>"",COUNTIF($N:$N,N33)>1),"DUPLICADO CARGO","")))
A34: 29 | B34: ASMARTALC | C34: LATERAL | D34: 1 | G34: Sr. | N34: Gerente Comercial Buques Mercantes y Pesqueros | O34: ASMARTALC | P34: Nacional | Q34: Chile | R34: 2. ASMARTALC | S34: Galpón | Y34: =IF(K34="","",IF(COUNTIF($K:$K,K34)>1,"DUPLICADO NOMBRE",IF(AND(N34<>"",COUNTIF($N:$N,N34)>1),"DUPLICADO CARGO","")))
A35: 30 | B35: ASMARTALC | C35: VIP | D35: 1 | G35: CF | N35: Gerente Construcción Naval | O35: ASMARTALC | P35: Nacional | Q35: Chile | R35: 2. ASMARTALC | S35: Pelícanos | Y35: =IF(K35="","",IF(COUNTIF($K:$K,K35)>1,"DUPLICADO NOMBRE",IF(AND(N35<>"",COUNTIF($N:$N,N35)>1),"DUPLICADO CARGO","")))
A36: 31 | B36: ASMARTALC | C36: LATERAL | D36: 1 | G36: Sr. | N36: Gerente de Investigacion, Desarrollo e Inversiones | O36: ASMARTALC | P36: Nacional | Q36: Chile | R36: 2. ASMARTALC | S36: Galpón | Y36: =IF(K36="","",IF(COUNTIF($K:$K,K36)>1,"DUPLICADO NOMBRE",IF(AND(N36<>"",COUNTIF($N:$N,N36)>1),"DUPLICADO CARGO","")))
A37: 32 | B37: ASMARTALC | C37: LATERAL | D37: 1 | G37: Sra. | N37: Gerente Gestion | O37: ASMARTALC | P37: Nacional | Q37: Chile | R37: 2. ASMARTALC | S37: Pelícanos | Y37: =IF(K37="","",IF(COUNTIF($K:$K,K37)>1,"DUPLICADO NOMBRE",IF(AND(N37<>"",COUNTIF($N:$N,N37)>1),"DUPLICADO CARGO","")))
A38: 33 | B38: ASMARTALC | C38: VIP | D38: 1 | G38: CN | N38: Gerente Operaciones | O38: ASMARTALC | P38: Nacional | Q38: Chile | R38: 2. ASMARTALC | S38: Pelícanos | Y38: =IF(K38="","",IF(COUNTIF($K:$K,K38)>1,"DUPLICADO NOMBRE",IF(AND(N38<>"",COUNTIF($N:$N,N38)>1),"DUPLICADO CARGO","")))
A39: 34 | B39: ASMARTALC | C39: LATERAL | D39: 1 | G39: CF | N39: Gerente Reparaciones | O39: ASMARTALC | P39: Nacional | Q39: Chile | R39: 2. ASMARTALC | S39: Galpón | Y39: =IF(K39="","",IF(COUNTIF($K:$K,K39)>1,"DUPLICADO NOMBRE",IF(AND(N39<>"",COUNTIF($N:$N,N39)>1),"DUPLICADO CARGO","")))
A40: 35 | B40: ASMARTALC | C40: LATERAL | D40: 1 | G40: Sr. | N40: Gerente RRHH | O40: ASMARTALC | P40: Nacional | Q40: Chile | R40: 2. ASMARTALC | S40: Galpón | Y40: =IF(K40="","",IF(COUNTIF($K:$K,K40)>1,"DUPLICADO NOMBRE",IF(AND(N40<>"",COUNTIF($N:$N,N40)>1),"DUPLICADO CARGO","")))
...

Sheet ASMAR DIRECCIÓN
A1: ASMAR DIRECCIÓN
A2: NRO. | B2: FUENTE/PESTAÑA | C2: TRIBUNA | D2: PRIORIDAD | E2: GRADO/TRATAMIENTO | F2: VOCATIVO | G2: PREFIJO | H2: NOMBRE | I2: APELLIDO PATERNO | J2: APELLIDO MATERNO | K2: Nombre Apellido Paterno Apellido Materno | L2: ASISTENCIA | M2: CORREO ELECTRÓNICO | N2: CARGO | O2: EMPRESA/UNIVERSIDAD/OTRO | P2: ORIGEN | Q2: PAÍS | R2: CATEGORÍA | S2: CÓCTEL | T2: CONFIRMACIÓN | U2: ORDEN ACTIVO | V2: UBICACIÓN | W2: IR A TRIBUNA | X2: OBSERVACIONES
A3: =IFERROR(INDEX(MAESTRO!A:A,_xludf.AGGREGATE(15,6,ROW(MAESTRO!$B$3:$B$1000)/((MAESTRO!$B$3:$B$1000="ASMAR DIRECCIÓN")*(UPPER(MAESTRO!$L$3:$L$1000)="CONFIRMADO")),ROWS($A$3:A3))),"") | B3: =IFERROR(INDEX(MAESTRO!B:B,_xludf.AGGREGATE(15,6,ROW(MAESTRO!$B$3:$B$1000)/((MAESTRO!$B$3:$B$1000="ASMAR DIRECCIÓN")*(UPPER(MAESTRO!$L$3:$L$1000)="CONFIRMADO")),ROWS($A$3:A3))),"") | C3: =IFERROR(INDEX(MAESTRO!C:C,_xludf.AGGREGATE(15,6,ROW(MAESTRO!$B$3:$B$1000)/((MAESTRO!$B$3:$B$1000="ASMAR DIRECCIÓN")*(UPPER(MAESTRO!$L$3:$L$1000)="CONFIRMADO")),ROWS($A$3:A3))),"") | D3: =IFERROR(INDEX(MAESTRO!D:D,_xludf.AGGREGATE(15,6,ROW(MAESTRO!$B$3:$B$1000)/((MAESTRO!$B$3:$B$1000="ASMAR DIRECCIÓN")*(UPPER(MAESTRO!$L$3:$L$1000)="CONFIRMADO")),ROWS($A$3:A3))),"") | E3: =IFERROR(INDEX(MAESTRO!E:E,_xludf.AGGREGATE(15,6,ROW(MAESTRO!$B$3:$B$1000)/((MAESTRO!$B$3:$B$1000="ASMAR DIRECCIÓN")*(UPPER(MAESTRO!$L$3:$L$1000)="CONFIRMADO")),ROWS($A$3:A3))),"") | F3: =IFERROR(INDEX(MAESTRO!F:F,_xludf.AGGREGATE(15,6,ROW(MAESTRO!$B$3:$B$1000)/((MAESTRO!$B$3:$B$1000="ASMAR DIRECCIÓN")*(UPPER(MAESTRO!$L$3:$L$1000)="CONFIRMADO")),ROWS($A$3:A3))),"") | G3: =IFERROR(INDEX(MAESTRO!G:G,_xludf.AGGREGATE(15,6,ROW(MAESTRO!$B$3:$B$1000)/((MAESTRO!$B$3:$B$1000="ASMAR DIRECCIÓN")*(UPPER(MAESTRO!$L$3:$L$1000)="CONFIRMADO")),ROWS($A$3:A3))),"") | H3: =IFERROR(INDEX(MAESTRO!H:H,_xludf.AGGREGATE(15,6,ROW(MAESTRO!$B$3:$B$1000)/((MAESTRO!$B$3:$B$1000="ASMAR DIRECCIÓN")*(UPPER(MAESTRO!$L$3:$L$1000)="CONFIRMADO")),ROWS($A$3:A3))),"") | I3: =IFERROR(INDEX(MAESTRO!I:I,_xludf.AGGREGATE(15,6,ROW(MAESTRO!$B$3:$B$1000)/((MAESTRO!$B$3:$B$1000="ASMAR DIRECCIÓN")*(UPPER(MAESTRO!$L$3:$L$1000)="CONFIRMADO")),ROWS($A$3:A3))),"") | J3: =IFERROR(INDEX(MAESTRO!J:J,_xludf.AGGREGATE(15,6,ROW(MAESTRO!$B$3:$B$1000)/((MAESTRO!$B$3:$B$1000="ASMAR DIRECCIÓN")*(UPPER(MAESTRO!$L$3:$L$1000)="CONFIRMADO")),ROWS($A$3:A3))),"") | K3: =IFERROR(INDEX(MAESTRO!K:K,_xludf.AGGREGATE(15,6,ROW(MAESTRO!$B$3:$B$1000)/((MAESTRO!$B$3:$B$1000="ASMAR DIRECCIÓN")*(UPPER(MAESTRO!$L$3:$L$1000)="CONFIRMADO")),ROWS($A$3:A3))),"") | L3: =IFERROR(INDEX(MAESTRO!L:L,_xludf.AGGREGATE(15,6,ROW(MAESTRO!$B$3:$B$1000)/((MAESTRO!$B$3:$B$1000="ASMAR DIRECCIÓN")*(UPPER(MAESTRO!$L$3:$L$1000)="CONFIRMADO")),ROWS($A$3:A3))),"") | M3: =IFERROR(INDEX(MAESTRO!M:M,_xludf.AGGREGATE(15,6,ROW(MAESTRO!$B$3:$B$1000)/((MAESTRO!$B$3:$B$1000="ASMAR DIRECCIÓN")*(UPPER(MAESTRO!$L$3:$L$1000)="CONFIRMADO")),ROWS($A$3:A3))),"") | N3: =IFERROR(INDEX(MAESTRO!N:N,_xludf.AGGREGATE(15,6,ROW(MAESTRO!$B$3:$B$1000)/((MAESTRO!$B$3:$B$1000="ASMAR DIRECCIÓN")*(UPPER(MAESTRO!$L$3:$L$1000)="CONFIRMADO")),ROWS($A$3:A3))),"") | O3: =IFERROR(INDEX(MAESTRO!O:O,_xludf.AGGREGATE(15,6,ROW(MAESTRO!$B$3:$B$1000)/((MAESTRO!$B$3:$B$1000="ASMAR DIRECCIÓN")*(UPPER(MAESTRO!$L$3:$L$1000)="CONFIRMADO")),ROWS($A$3:A3))),"") | P3: =IFERROR(INDEX(MAESTRO!P:P,_xludf.AGGREGATE(15,6,ROW(MAESTRO!$B$3:$B$1000)/((MAESTRO!$B$3:$B$1000="ASMAR DIRECCIÓN")*(UPPER(MAESTRO!$L$3:$L$1000)="CONFIRMADO")),ROWS($A$3:A3))),"") | Q3: =IFERROR(INDEX(MAESTRO!Q:Q,_xludf.AGGREGATE(15,6,ROW(MAESTRO!$B$3:$B$1000)/((MAESTRO!$B$3:$B$1000="ASMAR DIRECCIÓN")*(UPPER(MAESTRO!$L$3:$L$1000)="CONFIRMADO")),ROWS($A$3:A3))),"") | R3: =IFERROR(INDEX(MAESTRO!R:R,_xludf.AGGREGATE(15,6,ROW(MAESTRO!$B$3:$B$1000)/((MAESTRO!$B$3:$B$1000="ASMAR DIRECCIÓN")*(UPPER(MAESTRO!$L$3:$L$1000)="CONFIRMADO")),ROWS($A$3:A3))),"") | S3: =IFERROR(INDEX(MAESTRO!S:S,_xludf.AGGREGATE(15,6,ROW(MAESTRO!$B$3:$B$1000)/((MAESTRO!$B$3:$B$1000="ASMAR DIRECCIÓN")*(UPPER(MAESTRO!$L$3:$L$1000)="CONFIRMADO")),ROWS($A$3:A3))),"") | T3: =IFERROR(INDEX(MAESTRO!T:T,_xludf.AGGREGATE(15,6,ROW(MAESTRO!$B$3:$B$1000)/((MAESTRO!$B$3:$B$1000="ASMAR DIRECCIÓN")*(UPPER(MAESTRO!$L$3:$L$1000)="CONFIRMADO")),ROWS($A$3:A3))),"") | U3: =IFERROR(INDEX(MAESTRO!U:U,_xludf.AGGREGATE(15,6,ROW(MAESTRO!$B$3:$B$1000)/((MAESTRO!$B$3:$B$1000="ASMAR DIRECCIÓN")*(UPPER(MAESTRO!$L$3:$L$1000)="CONFIRMADO")),ROWS($A$3:A3))),"") | V3: =IFERROR(INDEX(MAESTRO!V:V,_xludf.AGGREGATE(15,6,ROW(MAESTRO!$B$3:$B$1000)/((MAESTRO!$B$3:$B$1000="ASMAR DIRECCIÓN")*(UPPER(MAESTRO!$L$3:$L$1000)="CONFIRMADO")),ROWS($A$3:A3))),"") | W3: =IFERROR(INDEX(MAESTRO!W:W,_xludf.AGGREGATE(15,6,ROW(MAESTRO!$B$3:$B$1000)/((MAESTRO!$B$3:$B$1000="ASMAR DIRECCIÓN")*(UPPER(MAESTRO!$L$3:$L$1000)="CONFIRMADO")),ROWS($A$3:A3))),"") | X3: =IFERROR(INDEX(MAESTRO!X:X,_xludf.AGGREGATE(15,6,ROW(MAESTRO!$B$3:$B$1000)/((MAESTRO!$B$3:$B$1000="ASMAR DIRECCIÓN")*(UPPER(MAESTRO!$L$3:$L$1000)="CONFIRMADO")),ROWS($A$3:A3))),"")
A4: =IFERROR(INDEX(MAESTRO!A:A,_xludf.AGGREGATE(15,6,ROW(MAESTRO!$B$3:$B$1000)/((MAESTRO!$B$3:$B$1000="ASMAR DIRECCIÓN")*(UPPER(MAESTRO!$L$3:$L$1000)="CONFIRMADO")),ROWS($A$3:A4))),"") | B4: =IFERROR(INDEX(MAESTRO!B:B,_xludf.AGGREGATE(15,6,ROW(MAESTRO!$B$3:$B$1000)/((MAESTRO!$B$3:$B$1000="ASMAR DIRECCIÓN")*(UPPER(MAESTRO!$L$3:$L$1000)="CONFIRMADO")),ROWS($A$3:A4))),"") | C4: =IFERROR(INDEX(MAESTRO!C:C,_xludf.AGGREGATE(15,6,ROW(MAESTRO!$B$3:$B$1000)/((MAESTRO!$B$3:$B$1000="ASMAR DIRECCIÓN")*(UPPER(MAESTRO!$L$3:$L$1000)="CONFIRMADO")),ROWS($A$3:A4))),"") | D4: =IFERROR(INDEX(MAESTRO!D:D,_xludf.AGGREGATE(15,6,ROW(MAESTRO!$B$3:$B$1000)/((MAESTRO!$B$3:$B$1000="ASMAR DIRECCIÓN")*(UPPER(MAESTRO!$L$3:$L$1000)="CONFIRMADO")),ROWS($A$3:A4))),"") | E4: =IFERROR(INDEX(MAESTRO!E:E,_xludf.AGGREGATE(15,6,ROW(MAESTRO!$B$3:$B$1000)/((MAESTRO!$B$3:$B$1000="ASMAR DIRECCIÓN")*(UPPER(MAESTRO!$L$3:$L$1000)="CONFIRMADO")),ROWS($A$3:A4))),"") | F4: =IFERROR(INDEX(MAESTRO!F:F,_xludf.AGGREGATE(15,6,ROW(MAESTRO!$B$3:$B$1000)/((MAESTRO!$B$3:$B$1000="ASMAR DIRECCIÓN")*(UPPER(MAESTRO!$L$3:$L$1000)="CONFIRMADO")),ROWS($A$3:A4))),"") | G4: =IFERROR(INDEX(MAESTRO!G:G,_xludf.AGGREGATE(15,6,ROW(MAESTRO!$B$3:$B$1000)/((MAESTRO!$B$3:$B$1000="ASMAR DIRECCIÓN")*(UPPER(MAESTRO!$L$3:$L$1000)="CONFIRMADO")),ROWS($A$3:A4))),"") | H4: =IFERROR(INDEX(MAESTRO!H:H,_xludf.AGGREGATE(15,6,ROW(MAESTRO!$B$3:$B$1000)/((MAESTRO!$B$3:$B$1000="ASMAR DIRECCIÓN")*(UPPER(MAESTRO!$L$3:$L$1000)="CONFIRMADO")),ROWS($A$3:A4))),"") | I4: =IFERROR(INDEX(MAESTRO!I:I,_xludf.AGGREGATE(15,6,ROW(MAESTRO!$B$3:$B$1000)/((MAESTRO!$B$3:$B$1000="ASMAR DIRECCIÓN")*(UPPER(MAESTRO!$L$3:$L$1000)="CONFIRMADO")),ROWS($A$3:A4))),"") | J4: =IFERROR(INDEX(MAESTRO!J:J,_xludf.AGGREGATE(15,6,ROW(MAESTRO!$B$3:$B$1000)/((MAESTRO!$B$3:$B$1000="ASMAR DIRECCIÓN")*(UPPER(MAESTRO!$L$3:$L$1000)="CONFIRMADO")),ROWS($A$3:A4))),"") | K4: =IFERROR(INDEX(MAESTRO!K:K,_xludf.AGGREGATE(15,6,ROW(MAESTRO!$B$3:$B$1000)/((MAESTRO!$B$3:$B$1000="ASMAR DIRECCIÓN")*(UPPER(MAESTRO!$L$3:$L$1000)="CONFIRMADO")),ROWS($A$3:A4))),"") | L4: =IFERROR(INDEX(MAESTRO!L:L,_xludf.AGGREGATE(15,6,ROW(MAESTRO!$B$3:$B$1000)/((MAESTRO!$B$3:$B$1000="ASMAR DIRECCIÓN")*(UPPER(MAESTRO!$L$3:$L$1000)="CONFIRMADO")),ROWS($A$3:A4))),"") | M4: =IFERROR(INDEX(MAESTRO!M:M,_xludf.AGGREGATE(15,6,ROW(MAESTRO!$B$3:$B$1000)/((MAESTRO!$B$3:$B$1000="ASMAR DIRECCIÓN")*(UPPER(MAESTRO!$L$3:$L$1000)="CONFIRMADO")),ROWS($A$3:A4))),"") | N4: =IFERROR(INDEX(MAESTRO!N:N,_xludf.AGGREGATE(15,6,ROW(MAESTRO!$B$3:$B$1000)/((MAESTRO!$B$3:$B$1000="ASMAR DIRECCIÓN")*(UPPER(MAESTRO!$L$3:$L$1000)="CONFIRMADO")),ROWS($A$3:A4))),"") | O4: =IFERROR(INDEX(MAESTRO!O:O,_xludf.AGGREGATE(15,6,ROW(MAESTRO!$B$3:$B$1000)/((MAESTRO!$B$3:$B$1000="ASMAR DIRECCIÓN")*(UPPER(MAESTRO!$L$3:$L$1000)="CONFIRMADO")),ROWS($A$3:A4))),"") | P4: =IFERROR(INDEX(MAESTRO!P:P,_xludf.AGGREGATE(15,6,ROW(MAESTRO!$B$3:$B$1000)/((MAESTRO!$B$3:$B$1000="ASMAR DIRECCIÓN")*(UPPER(MAESTRO!$L$3:$L$1000)="CONFIRMADO")),ROWS($A$3:A4))),"") | Q4: =IFERROR(INDEX(MAESTRO!Q:Q,_xludf.AGGREGATE(15,6,ROW(MAESTRO!$B$3:$B$1000)/((MAESTRO!$B$3:$B$1000="ASMAR DIRECCIÓN")*(UPPER(MAESTRO!$L$3:$L$1000)="CONFIRMADO")),ROWS($A$3:A4))),"") | R4: =IFERROR(INDEX(MAESTRO!R:R,_xludf.AGGREGATE(15,6,ROW(MAESTRO!$B$3:$B$1000)/((MAESTRO!$B$3:$B$1000="ASMAR DIRECCIÓN")*(UPPER(MAESTRO!$L$3:$L$1000)="CONFIRMADO")),ROWS($A$3:A4))),"") | S4: =IFERROR(INDEX(MAESTRO!S:S,_xludf.AGGREGATE(15,6,ROW(MAESTRO!$B$3:$B$1000)/((MAESTRO!$B$3:$B$1000="ASMAR DIRECCIÓN")*(UPPER(MAESTRO!$L$3:$L$1000)="CONFIRMADO")),ROWS($A$3:A4))),"") | T4: =IFERROR(INDEX(MAESTRO!T:T,_xludf.AGGREGATE(15,6,ROW(MAESTRO!$B$3:$B$1000)/((MAESTRO!$B$3:$B$1000="ASMAR DIRECCIÓN")*(UPPER(MAESTRO!$L$3:$L$1000)="CONFIRMADO")),ROWS($A$3:A4))),"") | U4: =IFERROR(INDEX(MAESTRO!U:U,_xludf.AGGREGATE(15,6,ROW(MAESTRO!$B$3:$B$1000)/((MAESTRO!$B$3:$B$1000="ASMAR DIRECCIÓN")*(UPPER(MAESTRO!$L$3:$L$1000)="CONFIRMADO")),ROWS($A$3:A4))),"") | V4: =IFERROR(INDEX(MAESTRO!V:V,_xludf.AGGREGATE(15,6,ROW(MAESTRO!$B$3:$B$1000)/((MAESTRO!$B$3:$B$1000="ASMAR DIRECCIÓN")*(UPPER(MAESTRO!$L$3:$L$1000)="CONFIRMADO")),ROWS($A$3:A4))),"") | W4: =IFERROR(INDEX(MAESTRO!W:W,_xludf.AGGREGATE(15,6,ROW(MAESTRO!$B$3:$B$1000)/((MAESTRO!$B$3:$B$1000="ASMAR DIRECCIÓN")*(UPPER(MAESTRO!$L$3:$L$1000)="CONFIRMADO")),ROWS($A$3:A4))),"") | X4: =IFERROR(INDEX(MAESTRO!X:X,_xludf.AGGREGATE(15,6,ROW(MAESTRO!$B$3:$B$1000)/((MAESTRO!$B$3:$B$1000="ASMAR DIRECCIÓN")*(UPPER(MAESTRO!$L$3:$L$1000)="CONFIRMADO")),ROWS($A$3:A4))),"")
A5: =IFERROR(INDEX(MAESTRO!A:A,_xludf.AGGREGATE(15,6,ROW(MAESTRO!$B$3:$B$1000)/((MAESTRO!$B$3:$B$1000="ASMAR DIRECCIÓN")*(UPPER(MAESTRO!$L$3:$L$1000)="CONFIRMADO")),ROWS($A$3:A5))),"") | B5: =IFERROR(INDEX(MAESTRO!B:B,_xludf.AGGREGATE(15,6,ROW(MAESTRO!$B$3:$B$1000)/((MAESTRO!$B$3:$B$1000="ASMAR DIRECCIÓN")*(UPPER(MAESTRO!$L$3:$L$1000)="CONFIRMADO")),ROWS($A$3:A5))),"") | C5: =IFERROR(INDEX(MAESTRO!C:C,_xludf.AGGREGATE(15,6,ROW(MAESTRO!$B$3:$B$1000)/((MAESTRO!$B$3:$B$1000="ASMAR DIRECCIÓN")*(UPPER(MAESTRO!$L$3:$L$1000)="CONFIRMADO")),ROWS($A$3:A5))),"") | D5: =IFERROR(INDEX(MAESTRO!D:D,_xludf.AGGREGATE(15,6,ROW(MAESTRO!$B$3:$B$1000)/((MAESTRO!$B$3:$B$1000="ASMAR DIRECCIÓN")*(UPPER(MAESTRO!$L$3:$L$1000)="CONFIRMADO")),ROWS($A$3:A5))),"") | E5: =IFERROR(INDEX(MAESTRO!E:E,_xludf.AGGREGATE(15,6,ROW(MAESTRO!$B$3:$B$1000)/((MAESTRO!$B$3:$B$1000="ASMAR DIRECCIÓN")*(UPPER(MAESTRO!$L$3:$L$1000)="CONFIRMADO")),ROWS($A$3:A5))),"") | F5: =IFERROR(INDEX(MAESTRO!F:F,_xludf.AGGREGATE(15,6,ROW(MAESTRO!$B$3:$B$1000)/((MAESTRO!$B$3:$B$1000="ASMAR DIRECCIÓN")*(UPPER(MAESTRO!$L$3:$L$1000)="CONFIRMADO")),ROWS($A$3:A5))),"") | G5: =IFERROR(INDEX(MAESTRO!G:G,_xludf.AGGREGATE(15,6,ROW(MAESTRO!$B$3:$B$1000)/((MAESTRO!$B$3:$B$1000="ASMAR DIRECCIÓN")*(UPPER(MAESTRO!$L$3:$L$1000)="CONFIRMADO")),ROWS($A$3:A5))),"") | H5: =IFERROR(INDEX(MAESTRO!H:H,_xludf.AGGREGATE(15,6,ROW(MAESTRO!$B$3:$B$1000)/((MAESTRO!$B$3:$B$1000="ASMAR DIRECCIÓN")*(UPPER(MAESTRO!$L$3:$L$1000)="CONFIRMADO")),ROWS($A$3:A5))),"") | I5: =IFERROR(INDEX(MAESTRO!I:I,_xludf.AGGREGATE(15,6,ROW(MAESTRO!$B$3:$B$1000)/((MAESTRO!$B$3:$B$1000="ASMAR DIRECCIÓN")*(UPPER(MAESTRO!$L$3:$L$1000)="CONFIRMADO")),ROWS($A$3:A5))),"") | J5: =IFERROR(INDEX(MAESTRO!J:J,_xludf.AGGREGATE(15,6,ROW(MAESTRO!$B$3:$B$1000)/((MAESTRO!$B$3:$B$1000="ASMAR DIRECCIÓN")*(UPPER(MAESTRO!$L$3:$L$1000)="CONFIRMADO")),ROWS($A$3:A5))),"") | K5: =IFERROR(INDEX(MAESTRO!K:K,_xludf.AGGREGATE(15,6,ROW(MAESTRO!$B$3:$B$1000)/((MAESTRO!$B$3:$B$1000="ASMAR DIRECCIÓN")*(UPPER(MAESTRO!$L$3:$L$1000)="CONFIRMADO")),ROWS($A$3:A5))),"") | L5: =IFERROR(INDEX(MAESTRO!L:L,_xludf.AGGREGATE(15,6,ROW(MAESTRO!$B$3:$B$1000)/((MAESTRO!$B$3:$B$1000="ASMAR DIRECCIÓN")*(UPPER(MAESTRO!$L$3:$L$1000)="CONFIRMADO")),ROWS($A$3:A5))),"") | M5: =IFERROR(INDEX(MAESTRO!M:M,_xludf.AGGREGATE(15,6,ROW(MAESTRO!$B$3:$B$1000)/((MAESTRO!$B$3:$B$1000="ASMAR DIRECCIÓN")*(UPPER(MAESTRO!$L$3:$L$1000)="CONFIRMADO")),ROWS($A$3:A5))),"") | N5: =IFERROR(INDEX(MAESTRO!N:N,_xludf.AGGREGATE(15,6,ROW(MAESTRO!$B$3:$B$1000)/((MAESTRO!$B$3:$B$1000="ASMAR DIRECCIÓN")*(UPPER(MAESTRO!$L$3:$L$1000)="CONFIRMADO")),ROWS($A$3:A5))),"") | O5: =IFERROR(INDEX(MAESTRO!O:O,_xludf.AGGREGATE(15,6,ROW(MAESTRO!$B$3:$B$1000)/((MAESTRO!$B$3:$B$1000="ASMAR DIRECCIÓN")*(UPPER(MAESTRO!$L$3:$L$1000)="CONFIRMADO")),ROWS($A$3:A5))),"") | P5: =IFERROR(INDEX(MAESTRO!P:P,_xludf.AGGREGATE(15,6,ROW(MAESTRO!$B$3:$B$1000)/((MAESTRO!$B$3:$B$1000="ASMAR DIRECCIÓN")*(UPPER(MAESTRO!$L$3:$L$1000)="CONFIRMADO")),ROWS($A$3:A5))),"") | Q5: =IFERROR(INDEX(MAESTRO!Q:Q,_xludf.AGGREGATE(15,6,ROW(MAESTRO!$B$3:$B$1000)/((MAESTRO!$B$3:$B$1000="ASMAR DIRECCIÓN")*(UPPER(MAESTRO!$L$3:$L$1000)="CONFIRMADO")),ROWS($A$3:A5))),"") | R5: =IFERROR(INDEX(MAESTRO!R:R,_xludf.AGGREGATE(15,6,ROW(MAESTRO!$B$3:$B$1000)/((MAESTRO!$B$3:$B$1000="ASMAR DIRECCIÓN")*(UPPER(MAESTRO!$L$3:$L$1000)="CONFIRMADO")),ROWS($A$3:A5))),"") | S5: =IFERROR(INDEX(MAESTRO!S:S,_xludf.AGGREGATE(15,6,ROW(MAESTRO!$B$3:$B$1000)/((MAESTRO!$B$3:$B$1000="ASMAR DIRECCIÓN")*(UPPER(MAESTRO!$L$3:$L$1000)="CONFIRMADO")),ROWS($A$3:A5))),"") | T5: =IFERROR(INDEX(MAESTRO!T:T,_xludf.AGGREGATE(15,6,ROW(MAESTRO!$B$3:$B$1000)/((MAESTRO!$B$3:$B$1000="ASMAR DIRECCIÓN")*(UPPER(MAESTRO!$L$3:$L$1000)="CONFIRMADO")),ROWS($A$3:A5))),"") | U5: =IFERROR(INDEX(MAESTRO!U:U,_xludf.AGGREGATE(15,6,ROW(MAESTRO!$B$3:$B$1000)/((MAESTRO!$B$3:$B$1000="ASMAR DIRECCIÓN")*(UPPER(MAESTRO!$L$3:$L$1000)="CONFIRMADO")),ROWS($A$3:A5))),"") | V5: =IFERROR(INDEX(MAESTRO!V:V,_xludf.AGGREGATE(15,6,ROW(MAESTRO!$B$3:$B$1000)/((MAESTRO!$B$3:$B$1000="ASMAR DIRECCIÓN")*(UPPER(MAESTRO!$L$3:$L$1000)="CONFIRMADO")),ROWS($A$3:A5))),"") | W5: =IFERROR(INDEX(MAESTRO!W:W,_xludf.AGGREGATE(15,6,ROW(MAESTRO!$B$3:$B$1000)/((MAESTRO!$B$3:$B$1000="ASMAR DIRECCIÓN")*(UPPER(MAESTRO!$L$3:$L$1000)="CONFIRMADO")),ROWS($A$3:A5))),"") | X5: =IFERROR(INDEX(MAESTRO!X:X,_xludf.AGGREGATE(15,6,ROW(MAESTRO!$B$3:$B$1000)/((MAESTRO!$B$3:$B$1000="ASMAR DIRECCIÓN")*(UPPER(MAESTRO!$L$3:$L$1000)="CONFIRMADO")),ROWS($A$3:A5))),"")
A6: =IFERROR(INDEX(MAESTRO!A:A,_xludf.AGGREGATE(15,6,ROW(MAESTRO!$B$3:$B$1000)/((MAESTRO!$B$3:$B$1000="ASMAR DIRECCIÓN")*(UPPER(MAESTRO!$L$3:$L$1000)="CONFIRMADO")),ROWS($A$3:A6))),"") | B6: =IFERROR(INDEX(MAESTRO!B:B,_xludf.AGGREGATE(15,6,ROW(MAESTRO!$B$3:$B$1000)/((MAESTRO!$B$3:$B$1000="ASMAR DIRECCIÓN")*(UPPER(MAESTRO!$L$3:$L$1000)="CONFIRMADO")),ROWS($A$3:A6))),"") | C6: =IFERROR(INDEX(MAESTRO!C:C,_xludf.AGGREGATE(15,6,ROW(MAESTRO!$B$3:$B$1000)/((MAESTRO!$B$3:$B$1000="ASMAR DIRECCIÓN")*(UPPER(MAESTRO!$L$3:$L$1000)="CONFIRMADO")),ROWS($A$3:A6))),"") | D6: =IFERROR(INDEX(MAESTRO!D:D,_xludf.AGGREGATE(15,6,ROW(MAESTRO!$B$3:$B$1000)/((MAESTRO!$B$3:$B$1000="ASMAR DIRECCIÓN")*(UPPER(MAESTRO!$L$3:$L$1000)="CONFIRMADO")),ROWS($A$3:A6))),"") | E6: =IFERROR(INDEX(MAESTRO!E:E,_xludf.AGGREGATE(15,6,ROW(MAESTRO!$B$3:$B$1000)/((MAESTRO!$B$3:$B$1000="ASMAR DIRECCIÓN")*(UPPER(MAESTRO!$L$3:$L$1000)="CONFIRMADO")),ROWS($A$3:A6))),"") | F6: =IFERROR(INDEX(MAESTRO!F:F,_xludf.AGGREGATE(15,6,ROW(MAESTRO!$B$3:$B$1000)/((MAESTRO!$B$3:$B$1000="ASMAR DIRECCIÓN")*(UPPER(MAESTRO!$L$3:$L$1000)="CONFIRMADO")),ROWS($A$3:A6))),"") | G6: =IFERROR(INDEX(MAESTRO!G:G,_xludf.AGGREGATE(15,6,ROW(MAESTRO!$B$3:$B$1000)/((MAESTRO!$B$3:$B$1000="ASMAR DIRECCIÓN")*(UPPER(MAESTRO!$L$3:$L$1000)="CONFIRMADO")),ROWS($A$3:A6))),"") | H6: =IFERROR(INDEX(MAESTRO!H:H,_xludf.AGGREGATE(15,6,ROW(MAESTRO!$B$3:$B$1000)/((MAESTRO!$B$3:$B$1000="ASMAR DIRECCIÓN")*(UPPER(MAESTRO!$L$3:$L$1000)="CONFIRMADO")),ROWS($A$3:A6))),"") | I6: =IFERROR(INDEX(MAESTRO!I:I,_xludf.AGGREGATE(15,6,ROW(MAESTRO!$B$3:$B$1000)/((MAESTRO!$B$3:$B$1000="ASMAR DIRECCIÓN")*(UPPER(MAESTRO!$L$3:$L$1000)="CONFIRMADO")),ROWS($A$3:A6))),"") | J6: =IFERROR(INDEX(MAESTRO!J:J,_xludf.AGGREGATE(15,6,ROW(MAESTRO!$B$3:$B$1000)/((MAESTRO!$B$3:$B$1000="ASMAR DIRECCIÓN")*(UPPER(MAESTRO!$L$3:$L$1000)="CONFIRMADO")),ROWS($A$3:A6))),"") | K6: =IFERROR(INDEX(MAESTRO!K:K,_xludf.AGGREGATE(15,6,ROW(MAESTRO!$B$3:$B$1000)/((MAESTRO!$B$3:$B$1000="ASMAR DIRECCIÓN")*(UPPER(MAESTRO!$L$3:$L$1000)="CONFIRMADO")),ROWS($A$3:A6))),"") | L6: =IFERROR(INDEX(MAESTRO!L:L,_xludf.AGGREGATE(15,6,ROW(MAESTRO!$B$3:$B$1000)/((MAESTRO!$B$3:$B$1000="ASMAR DIRECCIÓN")*(UPPER(MAESTRO!$L$3:$L$1000)="CONFIRMADO")),ROWS($A$3:A6))),"") | M6: =IFERROR(INDEX(MAESTRO!M:M,_xludf.AGGREGATE(15,6,ROW(MAESTRO!$B$3:$B$1000)/((MAESTRO!$B$3:$B$1000="ASMAR DIRECCIÓN")*(UPPER(MAESTRO!$L$3:$L$1000)="CONFIRMADO")),ROWS($A$3:A6))),"") | N6: =IFERROR(INDEX(MAESTRO!N:N,_xludf.AGGREGATE(15,6,ROW(MAESTRO!$B$3:$B$1000)/((MAESTRO!$B$3:$B$1000="ASMAR DIRECCIÓN")*(UPPER(MAESTRO!$L$3:$L$1000)="CONFIRMADO")),ROWS($A$3:A6))),"") | O6: =IFERROR(INDEX(MAESTRO!O:O,_xludf.AGGREGATE(15,6,ROW(MAESTRO!$B$3:$B$1000)/((MAESTRO!$B$3:$B$1000="ASMAR DIRECCIÓN")*(UPPER(MAESTRO!$L$3:$L$1000)="CONFIRMADO")),ROWS($A$3:A6))),"") | P6: =IFERROR(INDEX(MAESTRO!P:P,_xludf.AGGREGATE(15,6,ROW(MAESTRO!$B$3:$B$1000)/((MAESTRO!$B$3:$B$1000="ASMAR DIRECCIÓN")*(UPPER(MAESTRO!$L$3:$L$1000)="CONFIRMADO")),ROWS($A$3:A6))),"") | Q6: =IFERROR(INDEX(MAESTRO!Q:Q,_xludf.AGGREGATE(15,6,ROW(MAESTRO!$B$3:$B$1000)/((MAESTRO!$B$3:$B$1000="ASMAR DIRECCIÓN")*(UPPER(MAESTRO!$L$3:$L$1000)="CONFIRMADO")),ROWS($A$3:A6))),"") | R6: =IFERROR(INDEX(MAESTRO!R:R,_xludf.AGGREGATE(15,6,ROW(MAESTRO!$B$3:$B$1000)/((MAESTRO!$B$3:$B$1000="ASMAR DIRECCIÓN")*(UPPER(MAESTRO!$L$3:$L$1000)="CONFIRMADO")),ROWS($A$3:A6))),"") | S6: =IFERROR(INDEX(MAESTRO!S:S,_xludf.AGGREGATE(15,6,ROW(MAESTRO!$B$3:$B$1000)/((MAESTRO!$B$3:$B$1000="ASMAR DIRECCIÓN")*(UPPER(MAESTRO!$L$3:$L$1000)="CONFIRMADO")),ROWS($A$3:A6))),"") | T6: =IFERROR(INDEX(MAESTRO!T:T,_xludf.AGGREGATE(15,6,ROW(MAESTRO!$B$3:$B$1000)/((MAESTRO!$B$3:$B$1000="ASMAR DIRECCIÓN")*(UPPER(MAESTRO!$L$3:$L$1000)="CONFIRMADO")),ROWS($A$3:A6))),"") | U6: =IFERROR(INDEX(MAESTRO!U:U,_xludf.AGGREGATE(15,6,ROW(MAESTRO!$B$3:$B$1000)/((MAESTRO!$B$3:$B$1000="ASMAR DIRECCIÓN")*(UPPER(MAESTRO!$L$3:$L$1000)="CONFIRMADO")),ROWS($A$3:A6))),"") | V6: =IFERROR(INDEX(MAESTRO!V:V,_xludf.AGGREGATE(15,6,ROW(MAESTRO!$B$3:$B$1000)/((MAESTRO!$B$3:$B$1000="ASMAR DIRECCIÓN")*(UPPER(MAESTRO!$L$3:$L$1000)="CONFIRMADO")),ROWS($A$3:A6))),"") | W6: =IFERROR(INDEX(MAESTRO!W:W,_xludf.AGGREGATE(15,6,ROW(MAESTRO!$B$3:$B$1000)/((MAESTRO!$B$3:$B$1000="ASMAR DIRECCIÓN")*(UPPER(MAESTRO!$L$3:$L$1000)="CONFIRMADO")),ROWS($A$3:A6))),"") | X6: =IFERROR(INDEX(MAESTRO!X:X,_xludf.AGGREGATE(15,6,ROW(MAESTRO!$B$3:$B$1000)/((MAESTRO!$B$3:$B$1000="ASMAR DIRECCIÓN")*(UPPER(MAESTRO!$L$3:$L$1000)="CONFIRMADO")),ROWS($A$3:A6))),"")
A7: =IFERROR(INDEX(MAESTRO!A:A,_xludf.AGGREGATE(15,6,ROW(MAESTRO!$B$3:$B$1000)/((MAESTRO!$B$3:$B$1000="ASMAR DIRECCIÓN")*(UPPER(MAESTRO!$L$3:$L$1000)="CONFIRMADO")),ROWS($A$3:A7))),"") | B7: =IFERROR(INDEX(MAESTRO!B:B,_xludf.AGGREGATE(15,6,ROW(MAESTRO!$B$3:$B$1000)/((MAESTRO!$B$3:$B$1000="ASMAR DIRECCIÓN")*(UPPER(MAESTRO!$L$3:$L$1000)="CONFIRMADO")),ROWS($A$3:A7))),"") | C7: =IFERROR(INDEX(MAESTRO!C:C,_xludf.AGGREGATE(15,6,ROW(MAESTRO!$B$3:$B$1000)/((MAESTRO!$B$3:$B$1000="ASMAR DIRECCIÓN")*(UPPER(MAESTRO!$L$3:$L$1000)="CONFIRMADO")),ROWS($A$3:A7))),"") | D7: =IFERROR(INDEX(MAESTRO!D:D,_xludf.AGGREGATE(15,6,ROW(MAESTRO!$B$3:$B$1000)/((MAESTRO!$B$3:$B$1000="ASMAR DIRECCIÓN")*(UPPER(MAESTRO!$L$3:$L$1000)="CONFIRMADO")),ROWS($A$3:A7))),"") | E7: =IFERROR(INDEX(MAESTRO!E:E,_xludf.AGGREGATE(15,6,ROW(MAESTRO!$B$3:$B$1000)/((MAESTRO!$B$3:$B$1000="ASMAR DIRECCIÓN")*(UPPER(MAESTRO!$L$3:$L$1000)="CONFIRMADO")),ROWS($A$3:A7))),"") | F7: =IFERROR(INDEX(MAESTRO!F:F,_xludf.AGGREGATE(15,6,ROW(MAESTRO!$B$3:$B$1000)/((MAESTRO!$B$3:$B$1000="ASMAR DIRECCIÓN")*(UPPER(MAESTRO!$L$3:$L$1000)="CONFIRMADO")),ROWS($A$3:A7))),"") | G7: =IFERROR(INDEX(MAESTRO!G:G,_xludf.AGGREGATE(15,6,ROW(MAESTRO!$B$3:$B$1000)/((MAESTRO!$B$3:$B$1000="ASMAR DIRECCIÓN")*(UPPER(MAESTRO!$L$3:$L$1000)="CONFIRMADO")),ROWS($A$3:A7))),"") | H7: =IFERROR(INDEX(MAESTRO!H:H,_xludf.AGGREGATE(15,6,ROW(MAESTRO!$B$3:$B$1000)/((MAESTRO!$B$3:$B$1000="ASMAR DIRECCIÓN")*(UPPER(MAESTRO!$L$3:$L$1000)="CONFIRMADO")),ROWS($A$3:A7))),"") | I7: =IFERROR(INDEX(MAESTRO!I:I,_xludf.AGGREGATE(15,6,ROW(MAESTRO!$B$3:$B$1000)/((MAESTRO!$B$3:$B$1000="ASMAR DIRECCIÓN")*(UPPER(MAESTRO!$L$3:$L$1000)="CONFIRMADO")),ROWS($A$3:A7))),"") | J7: =IFERROR(INDEX(MAESTRO!J:J,_xludf.AGGREGATE(15,6,ROW(MAESTRO!$B$3:$B$1000)/((MAESTRO!$B$3:$B$1000="ASMAR DIRECCIÓN")*(UPPER(MAESTRO!$L$3:$L$1000)="CONFIRMADO")),ROWS($A$3:A7))),"") | K7: =IFERROR(INDEX(MAESTRO!K:K,_xludf.AGGREGATE(15,6,ROW(MAESTRO!$B$3:$B$1000)/((MAESTRO!$B$3:$B$1000="ASMAR DIRECCIÓN")*(UPPER(MAESTRO!$L$3:$L$1000)="CONFIRMADO")),ROWS($A$3:A7))),"") | L7: =IFERROR(INDEX(MAESTRO!L:L,_xludf.AGGREGATE(15,6,ROW(MAESTRO!$B$3:$B$1000)/((MAESTRO!$B$3:$B$1000="ASMAR DIRECCIÓN")*(UPPER(MAESTRO!$L$3:$L$1000)="CONFIRMADO")),ROWS($A$3:A7))),"") | M7: =IFERROR(INDEX(MAESTRO!M:M,_xludf.AGGREGATE(15,6,ROW(MAESTRO!$B$3:$B$1000)/((MAESTRO!$B$3:$B$1000="ASMAR DIRECCIÓN")*(UPPER(MAESTRO!$L$3:$L$1000)="CONFIRMADO")),ROWS($A$3:A7))),"") | N7: =IFERROR(INDEX(MAESTRO!N:N,_xludf.AGGREGATE(15,6,ROW(MAESTRO!$B$3:$B$1000)/((MAESTRO!$B$3:$B$1000="ASMAR DIRECCIÓN")*(UPPER(MAESTRO!$L$3:$L$1000)="CONFIRMADO")),ROWS($A$3:A7))),"") | O7: =IFERROR(INDEX(MAESTRO!O:O,_xludf.AGGREGATE(15,6,ROW(MAESTRO!$B$3:$B$1000)/((MAESTRO!$B$3:$B$1000="ASMAR DIRECCIÓN")*(UPPER(MAESTRO!$L$3:$L$1000)="CONFIRMADO")),ROWS($A$3:A7))),"") | P7: =IFERROR(INDEX(MAESTRO!P:P,_xludf.AGGREGATE(15,6,ROW(MAESTRO!$B$3:$B$1000)/((MAESTRO!$B$3:$B$1000="ASMAR DIRECCIÓN")*(UPPER(MAESTRO!$L$3:$L$1000)="CONFIRMADO")),ROWS($A$3:A7))),"") | Q7: =IFERROR(INDEX(MAESTRO!Q:Q,_xludf.AGGREGATE(15,6,ROW(MAESTRO!$B$3:$B$1000)/((MAESTRO!$B$3:$B$1000="ASMAR DIRECCIÓN")*(UPPER(MAESTRO!$L$3:$L$1000)="CONFIRMADO")),ROWS($A$3:A7))),"") | R7: =IFERROR(INDEX(MAESTRO!R:R,_xludf.AGGREGATE(15,6,ROW(MAESTRO!$B$3:$B$1000)/((MAESTRO!$B$3:$B$1000="ASMAR DIRECCIÓN")*(UPPER(MAESTRO!$L$3:$L$1000)="CONFIRMADO")),ROWS($A$3:A7))),"") | S7: =IFERROR(INDEX(MAESTRO!S:S,_xludf.AGGREGATE(15,6,ROW(MAESTRO!$B$3:$B$1000)/((MAESTRO!$B$3:$B$1000="ASMAR DIRECCIÓN")*(UPPER(MAESTRO!$L$3:$L$1000)="CONFIRMADO")),ROWS($A$3:A7))),"") | T7: =IFERROR(INDEX(MAESTRO!T:T,_xludf.AGGREGATE(15,6,ROW(MAESTRO!$B$3:$B$1000)/((MAESTRO!$B$3:$B$1000="ASMAR DIRECCIÓN")*(UPPER(MAESTRO!$L$3:$L$1000)="CONFIRMADO")),ROWS($A$3:A7))),"") | U7: =IFERROR(INDEX(MAESTRO!U:U,_xludf.AGGREGATE(15,6,ROW(MAESTRO!$B$3:$B$1000)/((MAESTRO!$B$3:$B$1000="ASMAR DIRECCIÓN")*(UPPER(MAESTRO!$L$3:$L$1000)="CONFIRMADO")),ROWS($A$3:A7))),"") | V7: =IFERROR(INDEX(MAESTRO!V:V,_xludf.AGGREGATE(15,6,ROW(MAESTRO!$B$3:$B$1000)/((MAESTRO!$B$3:$B$1000="ASMAR DIRECCIÓN")*(UPPER(MAESTRO!$L$3:$L$1000)="CONFIRMADO")),ROWS($A$3:A7))),"") | W7: =IFERROR(INDEX(MAESTRO!W:W,_xludf.AGGREGATE(15,6,ROW(MAESTRO!$B$3:$B$1000)/((MAESTRO!$B$3:$B$1000="ASMAR DIRECCIÓN")*(UPPER(MAESTRO!$L$3:$L$1000)="CONFIRMADO")),ROWS($A$3:A7))),"") | X7: =IFERROR(INDEX(MAESTRO!X:X,_xludf.AGGREGATE(15,6,ROW(MAESTRO!$B$3:$B$1000)/((MAESTRO!$B$3:$B$1000="ASMAR DIRECCIÓN")*(UPPER(MAESTRO!$L$3:$L$1000)="CONFIRMADO")),ROWS($A$3:A7))),"")
A8: =IFERROR(INDEX(MAESTRO!A:A,_xludf.AGGREGATE(15,6,ROW(MAESTRO!$B$3:$B$1000)/((MAESTRO!$B$3:$B$1000="ASMAR DIRECCIÓN")*(UPPER(MAESTRO!$L$3:$L$1000)="CONFIRMADO")),ROWS($A$3:A8))),"") | B8: =IFERROR(INDEX(MAESTRO!B:B,_xludf.AGGREGATE(15,6,ROW(MAESTRO!$B$3:$B$1000)/((MAESTRO!$B$3:$B$1000="ASMAR DIRECCIÓN")*(UPPER(MAESTRO!$L$3:$L$1000)="CONFIRMADO")),ROWS($A$3:A8))),"") | C8: =IFERROR(INDEX(MAESTRO!C:C,_xludf.AGGREGATE(15,6,ROW(MAESTRO!$B$3:$B$1000)/((MAESTRO!$B$3:$B$1000="ASMAR DIRECCIÓN")*(UPPER(MAESTRO!$L$3:$L$1000)="CONFIRMADO")),ROWS($A$3:A8))),"") | D8: =IFERROR(INDEX(MAESTRO!D:D,_xludf.AGGREGATE(15,6,ROW(MAESTRO!$B$3:$B$1000)/((MAESTRO!$B$3:$B$1000="ASMAR DIRECCIÓN")*(UPPER(MAESTRO!$L$3:$L$1000)="CONFIRMADO")),ROWS($A$3:A8))),"") | E8: =IFERROR(INDEX(MAESTRO!E:E,_xludf.AGGREGATE(15,6,ROW(MAESTRO!$B$3:$B$1000)/((MAESTRO!$B$3:$B$1000="ASMAR DIRECCIÓN")*(UPPER(MAESTRO!$L$3:$L$1000)="CONFIRMADO")),ROWS($A$3:A8))),"") | F8: =IFERROR(INDEX(MAESTRO!F:F,_xludf.AGGREGATE(15,6,ROW(MAESTRO!$B$3:$B$1000)/((MAESTRO!$B$3:$B$1000="ASMAR DIRECCIÓN")*(UPPER(MAESTRO!$L$3:$L$1000)="CONFIRMADO")),ROWS($A$3:A8))),"") | G8: =IFERROR(INDEX(MAESTRO!G:G,_xludf.AGGREGATE(15,6,ROW(MAESTRO!$B$3:$B$1000)/((MAESTRO!$B$3:$B$1000="ASMAR DIRECCIÓN")*(UPPER(MAESTRO!$L$3:$L$1000)="CONFIRMADO")),ROWS($A$3:A8))),"") | H8: =IFERROR(INDEX(MAESTRO!H:H,_xludf.AGGREGATE(15,6,ROW(MAESTRO!$B$3:$B$1000)/((MAESTRO!$B$3:$B$1000="ASMAR DIRECCIÓN")*(UPPER(MAESTRO!$L$3:$L$1000)="CONFIRMADO")),ROWS($A$3:A8))),"") | I8: =IFERROR(INDEX(MAESTRO!I:I,_xludf.AGGREGATE(15,6,ROW(MAESTRO!$B$3:$B$1000)/((MAESTRO!$B$3:$B$1000="ASMAR DIRECCIÓN")*(UPPER(MAESTRO!$L$3:$L$1000)="CONFIRMADO")),ROWS($A$3:A8))),"") | J8: =IFERROR(INDEX(MAESTRO!J:J,_xludf.AGGREGATE(15,6,ROW(MAESTRO!$B$3:$B$1000)/((MAESTRO!$B$3:$B$1000="ASMAR DIRECCIÓN")*(UPPER(MAESTRO!$L$3:$L$1000)="CONFIRMADO")),ROWS($A$3:A8))),"") | K8: =IFERROR(INDEX(MAESTRO!K:K,_xludf.AGGREGATE(15,6,ROW(MAESTRO!$B$3:$B$1000)/((MAESTRO!$B$3:$B$1000="ASMAR DIRECCIÓN")*(UPPER(MAESTRO!$L$3:$L$1000)="CONFIRMADO")),ROWS($A$3:A8))),"") | L8: =IFERROR(INDEX(MAESTRO!L:L,_xludf.AGGREGATE(15,6,ROW(MAESTRO!$B$3:$B$1000)/((MAESTRO!$B$3:$B$1000="ASMAR DIRECCIÓN")*(UPPER(MAESTRO!$L$3:$L$1000)="CONFIRMADO")),ROWS($A$3:A8))),"") | M8: =IFERROR(INDEX(MAESTRO!M:M,_xludf.AGGREGATE(15,6,ROW(MAESTRO!$B$3:$B$1000)/((MAESTRO!$B$3:$B$1000="ASMAR DIRECCIÓN")*(UPPER(MAESTRO!$L$3:$L$1000)="CONFIRMADO")),ROWS($A$3:A8))),"") | N8: =IFERROR(INDEX(MAESTRO!N:N,_xludf.AGGREGATE(15,6,ROW(MAESTRO!$B$3:$B$1000)/((MAESTRO!$B$3:$B$1000="ASMAR DIRECCIÓN")*(UPPER(MAESTRO!$L$3:$L$1000)="CONFIRMADO")),ROWS($A$3:A8))),"") | O8: =IFERROR(INDEX(MAESTRO!O:O,_xludf.AGGREGATE(15,6,ROW(MAESTRO!$B$3:$B$1000)/((MAESTRO!$B$3:$B$1000="ASMAR DIRECCIÓN")*(UPPER(MAESTRO!$L$3:$L$1000)="CONFIRMADO")),ROWS($A$3:A8))),"") | P8: =IFERROR(INDEX(MAESTRO!P:P,_xludf.AGGREGATE(15,6,ROW(MAESTRO!$B$3:$B$1000)/((MAESTRO!$B$3:$B$1000="ASMAR DIRECCIÓN")*(UPPER(MAESTRO!$L$3:$L$1000)="CONFIRMADO")),ROWS($A$3:A8))),"") | Q8: =IFERROR(INDEX(MAESTRO!Q:Q,_xludf.AGGREGATE(15,6,ROW(MAESTRO!$B$3:$B$1000)/((MAESTRO!$B$3:$B$1000="ASMAR DIRECCIÓN")*(UPPER(MAESTRO!$L$3:$L$1000)="CONFIRMADO")),ROWS($A$3:A8))),"") | R8: =IFERROR(INDEX(MAESTRO!R:R,_xludf.AGGREGATE(15,6,ROW(MAESTRO!$B$3:$B$1000)/((MAESTRO!$B$3:$B$1000="ASMAR DIRECCIÓN")*(UPPER(MAESTRO!$L$3:$L$1000)="CONFIRMADO")),ROWS($A$3:A8))),"") | S8: =IFERROR(INDEX(MAESTRO!S:S,_xludf.AGGREGATE(15,6,ROW(MAESTRO!$B$3:$B$1000)/((MAESTRO!$B$3:$B$1000="ASMAR DIRECCIÓN")*(UPPER(MAESTRO!$L$3:$L$1000)="CONFIRMADO")),ROWS($A$3:A8))),"") | T8: =IFERROR(INDEX(MAESTRO!T:T,_xludf.AGGREGATE(15,6,ROW(MAESTRO!$B$3:$B$1000)/((MAESTRO!$B$3:$B$1000="ASMAR DIRECCIÓN")*(UPPER(MAESTRO!$L$3:$L$1000)="CONFIRMADO")),ROWS($A$3:A8))),"") | U8: =IFERROR(INDEX(MAESTRO!U:U,_xludf.AGGREGATE(15,6,ROW(MAESTRO!$B$3:$B$1000)/((MAESTRO!$B$3:$B$1000="ASMAR DIRECCIÓN")*(UPPER(MAESTRO!$L$3:$L$1000)="CONFIRMADO")),ROWS($A$3:A8))),"") | V8: =IFERROR(INDEX(MAESTRO!V:V,_xludf.AGGREGATE(15,6,ROW(MAESTRO!$B$3:$B$1000)/((MAESTRO!$B$3:$B$1000="ASMAR DIRECCIÓN")*(UPPER(MAESTRO!$L$3:$L$1000)="CONFIRMADO")),ROWS($A$3:A8))),"") | W8: =IFERROR(INDEX(MAESTRO!W:W,_xludf.AGGREGATE(15,6,ROW(MAESTRO!$B$3:$B$1000)/((MAESTRO!$B$3:$B$1000="ASMAR DIRECCIÓN")*(UPPER(MAESTRO!$L$3:$L$1000)="CONFIRMADO")),ROWS($A$3:A8))),"") | X8: =IFERROR(INDEX(MAESTRO!X:X,_xludf.AGGREGATE(15,6,ROW(MAESTRO!$B$3:$B$1000)/((MAESTRO!$B$3:$B$1000="ASMAR DIRECCIÓN")*(UPPER(MAESTRO!$L$3:$L$1000)="CONFIRMADO")),ROWS($A$3:A8))),"")
A9: =IFERROR(INDEX(MAESTRO!A:A,_xludf.AGGREGATE(15,6,ROW(MAESTRO!$B$3:$B$1000)/((MAESTRO!$B$3:$B$1000="ASMAR DIRECCIÓN")*(UPPER(MAESTRO!$L$3:$L$1000)="CONFIRMADO")),ROWS($A$3:A9))),"") | B9: =IFERROR(INDEX(MAESTRO!B:B,_xludf.AGGREGATE(15,6,ROW(MAESTRO!$B$3:$B$1000)/((MAESTRO!$B$3:$B$1000="ASMAR DIRECCIÓN")*(UPPER(MAESTRO!$L$3:$L$1000)="CONFIRMADO")),ROWS($A$3:A9))),"") | C9: =IFERROR(INDEX(MAESTRO!C:C,_xludf.AGGREGATE(15,6,ROW(MAESTRO!$B$3:$B$1000)/((MAESTRO!$B$3:$B$1000="ASMAR DIRECCIÓN")*(UPPER(MAESTRO!$L$3:$L$1000)="CONFIRMADO")),ROWS($A$3:A9))),"") | D9: =IFERROR(INDEX(MAESTRO!D:D,_xludf.AGGREGATE(15,6,ROW(MAESTRO!$B$3:$B$1000)/((MAESTRO!$B$3:$B$1000="ASMAR DIRECCIÓN")*(UPPER(MAESTRO!$L$3:$L$1000)="CONFIRMADO")),ROWS($A$3:A9))),"") | E9: =IFERROR(INDEX(MAESTRO!E:E,_xludf.AGGREGATE(15,6,ROW(MAESTRO!$B$3:$B$1000)/((MAESTRO!$B$3:$B$1000="ASMAR DIRECCIÓN")*(UPPER(MAESTRO!$L$3:$L$1000)="CONFIRMADO")),ROWS($A$3:A9))),"") | F9: =IFERROR(INDEX(MAESTRO!F:F,_xludf.AGGREGATE(15,6,ROW(MAESTRO!$B$3:$B$1000)/((MAESTRO!$B$3:$B$1000="ASMAR DIRECCIÓN")*(UPPER(MAESTRO!$L$3:$L$1000)="CONFIRMADO")),ROWS($A$3:A9))),"") | G9: =IFERROR(INDEX(MAESTRO!G:G,_xludf.AGGREGATE(15,6,ROW(MAESTRO!$B$3:$B$1000)/((MAESTRO!$B$3:$B$1000="ASMAR DIRECCIÓN")*(UPPER(MAESTRO!$L$3:$L$1000)="CONFIRMADO")),ROWS($A$3:A9))),"") | H9: =IFERROR(INDEX(MAESTRO!H:H,_xludf.AGGREGATE(15,6,ROW(MAESTRO!$B$3:$B$1000)/((MAESTRO!$B$3:$B$1000="ASMAR DIRECCIÓN")*(UPPER(MAESTRO!$L$3:$L$1000)="CONFIRMADO")),ROWS($A$3:A9))),"") | I9: =IFERROR(INDEX(MAESTRO!I:I,_xludf.AGGREGATE(15,6,ROW(MAESTRO!$B$3:$B$1000)/((MAESTRO!$B$3:$B$1000="ASMAR DIRECCIÓN")*(UPPER(MAESTRO!$L$3:$L$1000)="CONFIRMADO")),ROWS($A$3:A9))),"") | J9: =IFERROR(INDEX(MAESTRO!J:J,_xludf.AGGREGATE(15,6,ROW(MAESTRO!$B$3:$B$1000)/((MAESTRO!$B$3:$B$1000="ASMAR DIRECCIÓN")*(UPPER(MAESTRO!$L$3:$L$1000)="CONFIRMADO")),ROWS($A$3:A9))),"") | K9: =IFERROR(INDEX(MAESTRO!K:K,_xludf.AGGREGATE(15,6,ROW(MAESTRO!$B$3:$B$1000)/((MAESTRO!$B$3:$B$1000="ASMAR DIRECCIÓN")*(UPPER(MAESTRO!$L$3:$L$1000)="CONFIRMADO")),ROWS($A$3:A9))),"") | L9: =IFERROR(INDEX(MAESTRO!L:L,_xludf.AGGREGATE(15,6,ROW(MAESTRO!$B$3:$B$1000)/((MAESTRO!$B$3:$B$1000="ASMAR DIRECCIÓN")*(UPPER(MAESTRO!$L$3:$L$1000)="CONFIRMADO")),ROWS($A$3:A9))),"") | M9: =IFERROR(INDEX(MAESTRO!M:M,_xludf.AGGREGATE(15,6,ROW(MAESTRO!$B$3:$B$1000)/((MAESTRO!$B$3:$B$1000="ASMAR DIRECCIÓN")*(UPPER(MAESTRO!$L$3:$L$1000)="CONFIRMADO")),ROWS($A$3:A9))),"") | N9: =IFERROR(INDEX(MAESTRO!N:N,_xludf.AGGREGATE(15,6,ROW(MAESTRO!$B$3:$B$1000)/((MAESTRO!$B$3:$B$1000="ASMAR DIRECCIÓN")*(UPPER(MAESTRO!$L$3:$L$1000)="CONFIRMADO")),ROWS($A$3:A9))),"") | O9: =IFERROR(INDEX(MAESTRO!O:O,_xludf.AGGREGATE(15,6,ROW(MAESTRO!$B$3:$B$1000)/((MAESTRO!$B$3:$B$1000="ASMAR DIRECCIÓN")*(UPPER(MAESTRO!$L$3:$L$1000)="CONFIRMADO")),ROWS($A$3:A9))),"") | P9: =IFERROR(INDEX(MAESTRO!P:P,_xludf.AGGREGATE(15,6,ROW(MAESTRO!$B$3:$B$1000)/((MAESTRO!$B$3:$B$1000="ASMAR DIRECCIÓN")*(UPPER(MAESTRO!$L$3:$L$1000)="CONFIRMADO")),ROWS($A$3:A9))),"") | Q9: =IFERROR(INDEX(MAESTRO!Q:Q,_xludf.AGGREGATE(15,6,ROW(MAESTRO!$B$3:$B$1000)/((MAESTRO!$B$3:$B$1000="ASMAR DIRECCIÓN")*(UPPER(MAESTRO!$L$3:$L$1000)="CONFIRMADO")),ROWS($A$3:A9))),"") | R9: =IFERROR(INDEX(MAESTRO!R:R,_xludf.AGGREGATE(15,6,ROW(MAESTRO!$B$3:$B$1000)/((MAESTRO!$B$3:$B$1000="ASMAR DIRECCIÓN")*(UPPER(MAESTRO!$L$3:$L$1000)="CONFIRMADO")),ROWS($A$3:A9))),"") | S9: =IFERROR(INDEX(MAESTRO!S:S,_xludf.AGGREGATE(15,6,ROW(MAESTRO!$B$3:$B$1000)/((MAESTRO!$B$3:$B$1000="ASMAR DIRECCIÓN")*(UPPER(MAESTRO!$L$3:$L$1000)="CONFIRMADO")),ROWS($A$3:A9))),"") | T9: =IFERROR(INDEX(MAESTRO!T:T,_xludf.AGGREGATE(15,6,ROW(MAESTRO!$B$3:$B$1000)/((MAESTRO!$B$3:$B$1000="ASMAR DIRECCIÓN")*(UPPER(MAESTRO!$L$3:$L$1000)="CONFIRMADO")),ROWS($A$3:A9))),"") | U9: =IFERROR(INDEX(MAESTRO!U:U,_xludf.AGGREGATE(15,6,ROW(MAESTRO!$B$3:$B$1000)/((MAESTRO!$B$3:$B$1000="ASMAR DIRECCIÓN")*(UPPER(MAESTRO!$L$3:$L$1000)="CONFIRMADO")),ROWS($A$3:A9))),"") | V9: =IFERROR(INDEX(MAESTRO!V:V,_xludf.AGGREGATE(15,6,ROW(MAESTRO!$B$3:$B$1000)/((MAESTRO!$B$3:$B$1000="ASMAR DIRECCIÓN")*(UPPER(MAESTRO!$L$3:$L$1000)="CONFIRMADO")),ROWS($A$3:A9))),"") | W9: =IFERROR(INDEX(MAESTRO!W:W,_xludf.AGGREGATE(15,6,ROW(MAESTRO!$B$3:$B$1000)/((MAESTRO!$B$3:$B$1000="ASMAR DIRECCIÓN")*(UPPER(MAESTRO!$L$3:$L$1000)="CONFIRMADO")),ROWS($A$3:A9))),"") | X9: =IFERROR(INDEX(MAESTRO!X:X,_xludf.AGGREGATE(15,6,ROW(MAESTRO!$B$3:$B$1000)/((MAESTRO!$B$3:$B$1000="ASMAR DIRECCIÓN")*(UPPER(MAESTRO!$L$3:$L$1000)="CONFIRMADO")),ROWS($A$3:A9))),"")
