Workbook
Name ListaEstados: 'LISTAS'!$A$2:$A$5
Name ListaControles: 'LISTAS'!$B$2:$B$23
Name ListaMedios: 'LISTAS'!$C$2:$C$83
Name ListaRepresentantes: 'REPRESENTANTES'!$B$5:$B$504

Sheet INSTRUCCIONES
A1: USO DEL KARDEX AUTOMATIZADO
A3: N° | B3: Función | C3: Detalle
A4: 1 | B4: Agregar nueva actividad | C4: Ir a INVITACIONES y completar desde la primera fila disponible. El N° se genera automáticamente al ingresar datos en la fila.
A5: 2 | B5: Estado | C5: Usar la lista desplegable en ESTADO: PENDIENTE, CERRADA, TERMINADA o SIN ESTADO. El semáforo y RESUMEN se actualizan con esta columna.
A6: 3 | B6: Quién representa | C6: Usar la lista desplegable de QUIÉN REPRESENTA. La lista se administra en REPRESENTANTES, columna B.
A7: 4 | B7: Más de un representante | C7: En QUIÉN REPRESENTA se puede escribir uno por línea dentro de la misma celda. El control separa hasta 8 representantes por invitación.
A8: 5 | B8: Lista oficial | C8: Pegue la lista oficial de representantes en REPRESENTANTES!B5:B504. Los conteos se actualizan automáticamente.
A9: 6 | B9: Capacidad preparada | C9: La hoja INVITACIONES quedó preparada hasta la fila 1000. La hoja REPRESENTANTES quedó preparada para 500 representantes.
A10: 7 | B10: No editar | C10: Evitar modificar fórmulas en BASE_CONTROL, RESUMEN y columnas automáticas de REPRESENTANTES.
A12: CORRECCIÓN APLICADA
A13: Se dejaron visibles todas las actividades de la hoja INVITACIONES; no hay filas ocultas por filtro.

Sheet INVITACIONES
D1: FECHA DE INGRESO | K1: RESPUESTA
A2: N° | B2: MOTIVO | C2: REMITENTE | D2: KARDEX | E2: CONTROL | F2: MEDIO | G2: FECHA DE ACTIVIDAD | H2: AGENDA | I2: NOTA CJA | J2: QUIÉN REPRESENTA | K2: CONTROL | L2: FECHA | M2: CONTROL ACTUAL | N2: ESTADO | O2: SECRETGEN | P2: TAREA PENDIENTE | Q2: NOTA | R2: ANTECEDENTES
A3: =IF(COUNTA(B3:R3)=0,"",COUNTA($B$3:B3)) | B3: ACCIÓN DE GRACIAS Y ORACIÓN POR EL GOBIERNO | C3: CAPELLANÍA EVANGÉLICA | D3: NO LLEGÓ FORMAL | E3: OPA | F3: WP | G3: 46093 | H3: TALCAHUANO | I3: ASISTE | J3: CJA | K3: OPA | L3: EMAIL 11-03-2026 | M3: OPA | N3: CERRADA | O3: N/C | Q3: INVITACIÓN NUNCA LLEGÓ POR MEDIO OFICIAL
A4: =IF(COUNTA(B4:R4)=0,"",COUNTA($B$3:B4)) | B4: SANTIAGO DE MÚSICA | C4: MUNICIPALIDAD DE SANTIAGO | D4: NO LLEGÓ FORMAL | E4: OPA | F4: WP | G4: 46096 | H4: TALCAHUANO | I4: NO ASISTE | J4: SIN REPRESENTANTE | K4: OPA | L4: EMAIL | M4: OPA | N4: CERRADA
A5: =IF(COUNTA(B5:R5)=0,"",COUNTA($B$3:B5)) | B5: SESIÓN N°06 DEL CONSEJO ASESOR ESTRATÉGICO EN LAS INSTALACIONES DE UNA FRAGATA TIPO 23 | C5: CORFO | D5: NS | E5: OPA | F5: EMAIL 10-03-2026 | G5: 46098 | H5: SALUDOS PROTOCOLARES MINDEF - SANTIAGO | I5: ENTIENDO QUE ES AHORA A BORDO DE UN BUQUE DE LA ESCUADRA YA DESIGNADO - CONDELL | J5: *DIPRIDA | K5: OPA | L5: 46092 | M5: OPA | N5: CERRADA | O5: OK
A6: =IF(COUNTA(B6:R6)=0,"",COUNTA($B$3:B6)) | B6: CEREMONIA DE INAUGURACIÓN DE LA FERIA DE FORMACIÓN CIUDADANA VALPARAÍSO | C6: SERVICIO ELECTORAL | D6: NS | E6: OPA | F6: EMAIL 06-03-2026 | G6: 46098 | H6: AGENDA SANTIAGO | I6: AUDITGEN | J6: *AUDITGEN | K6: OPA | L6: 46091 | M6: OPA | N6: CERRADA | O6: OK
A7: =IF(COUNTA(B7:R7)=0,"",COUNTA($B$3:B7)) | B7: ALMUERZO DE HOMENAJE ANIVERSARIO DE LA FUERZA AÉREA | C7: ROTARY SANTIAGO | D7: INV-001 | E7: OPA | F7: EMAIL 12-03-2026 | G7: 46099 | H7: 15:00 REUNIÓN SEPRE | I7: REPRESENTANTE | J7: *ESTANAVMET | K7: OPA | L7: 46099 | M7: OPA | N7: CERRADA | O7: N/C
A8: =IF(COUNTA(B8:R8)=0,"",COUNTA($B$3:B8)) | B8: AVANCE DE COOPERACIÓN EN MATERIAS DE SEGURIDAD Y DEFENSA ENTRE LA REPÚBLICA DE CHILE Y COREA | C8: EMBAJADA DE COREA | D8: INV-005 | E8: OPA | F8: EMAIL 09-03-2026 | G8: 46100 | H8: CONSEJO NAVAL | I8: NO ASISTE ALTO MANDO POR CONSEJO NAVAL | J8: SIN REPRESENTACIÓN | K8: OPA | L8: EMAIL 11-03-2026 | M8: OPA | N8: CERRADA | O8: N/C | Q8: SE GENERÓ NUEVA INVITACIÓN - A LA ESPERA DE FECHA LO MÁS PROBABLE SEA PARA LA FIDAE
A9: =IF(COUNTA(B9:R9)=0,"",COUNTA($B$3:B9)) | B9: ALMUERZO A BORDO DEL BUQUE OCEANOGRÁFICO DEL PERÚ | C9: EMBAJADOR DE PERÚ | D9: INV-004 | E9: OPA | F9: EMAIL 16-03-2026 | G9: 46100 | H9: CONSEJO NAVAL | I9: REPRESENTA CN IBARRA | J9: *CN IBARRA (PRIZONA) | K9: OPA | L9: EMAIL 17-03-2026 | M9: OPA | N9: CERRADA | O9: OK | Q9: SE EFECTUÓ ENTREGA DE PRESENTE "LIBRO ANTÁRTICA"
A10: =IF(COUNTA(B10:R10)=0,"",COUNTA($B$3:B10)) | B10: CEREMONIA DEL CENTÉSIMO TERCER ANIVERSARIO DE LA ESPECIALIDAD DE AVIACIÓN NAVAL | C10: CÍRCULO DE AVIACIÓN NAVAL | D10: INV-012 | E10: OPA | F10: EMAIL 09-03-2026 | G10: 46102 | H10: ANIVERSARIO FUERZA AÉREA | I10: NO ASISTE, NOTIFICAR REPRESENTANTE | J10: *CN ROMAN | K10: OPA | L10: EMAIL 11-03-2026 | M10: OPA | N10: CERRADA | O10: OK
A11: =IF(COUNTA(B11:R11)=0,"",COUNTA($B$3:B11)) | B11: NONAGÉSIMO SEXTO ANIVERSARIO DE LA CREACIÓN DE LA FUERZA AÉREA DE CHILE | C11: GENERAL DEL AIRE | D11: INV-013 | E11: OPA | F11: EMAIL 16-01-2026 | G11: 46102 | H11: EN AGENDA | I11: ASISTE | J11: CJA | K11: OPA | L11: EMAIL 19-01-2026 | M11: OPA | N11: CERRADA | O11: N/C
A12: =IF(COUNTA(B12:R12)=0,"",COUNTA($B$3:B12)) | B12: CEREMONIA INAUGURAL | C12: AQUASUR | D12: INV-021 | E12: OPA | F12: EMAIL 29-01-2026 | G12: 46105 | H12: REVISTA TERZONA | I12: REPRESENTANTE | J12: *DIRECTEMAR QUINZONA | K12: OPA | L12: EMAIL 04-03-2026 | M12: OPA | N12: CERRADA | O12: OK
A13: =IF(COUNTA(B13:R13)=0,"",COUNTA($B$3:B13)) | B13: HOMENAJE EN HONOR A SU EMINENCIA REVERENDÍSIMA CARDENAL FERNANDO CHOMALÍ GARIB | C13: BERNARDINO BRAVO | D13: INV-010 | E13: OPA | F13: EMAIL 17-03-2026 | G13: 46106 | H13: REVISTA TERZONA | I13: NO PODRÉ IR EXCUSAR | J13: SIN REPRESENTACIÓN | K13: OPA | L13: EMAIL 23-03-2026 | M13: OPA | N13: CERRADA | O13: N/C
A14: =IF(COUNTA(B14:R14)=0,"",COUNTA($B$3:B14)) | B14: RECEPCIÓN EN HONOR A LA LLEGADA DE LA EXPEDICIÓN CIENTÍFICA CANADIENSE QUE VIAJÓ A LA ANTÁRTICA CHILENA A BORDO DEL BUQUE ALMIRANTE VIEL | C14: EMBAJADA DE CANADÁ | D14: INV-023 | E14: OPA | F14: EMAIL 19-03-2026 | G14: 46106 | H14: REVISTA TERZONA | J14: TERZONA | K14: OPA | L14: EMAIL 24-03-2026 | M14: OPA | N14: CERRADA | Q14: SOLICITÓ TRAMITAR A PLANES
A15: =IF(COUNTA(B15:R15)=0,"",COUNTA($B$3:B15)) | B15: ANIVERSARIO DEL EMPERADOR DEL JAPÓN | C15: EMBAJADA DE JAPÓN | D15: INV-003 | E15: OPA | F15: EMAIL 02-03-2026 | G15: 46107 | H15: REVISTA TERZONA | I15: REPRESENTA JEFE MAYOR O UN VA | J15: *DIRECPERS DIRECTEMAR SUBJEMCO PRIZONA DIRINTA | K15: OPA | L15: 46097 | M15: OPA | N15: CERRADA | O15: OK | P15: AGENDAR CENA EN CALETA TRIDENTE CON EMBAJADOR / POSIBLE 14 DE ABRIL
A16: =IF(COUNTA(B16:R16)=0,"",COUNTA($B$3:B16)) | B16: CEREMONIA CUENTA PÚBLICA TRIBUNAL CONSTITUCIONAL | C16: TRIBUNAL CONSTITUCIONAL | D16: INV-015 | E16: OPA | F16: EMAIL 21-01-2026 | G16: 46108 | H16: REVISTA TERZONA | I16: QUE UN VA VAYA | J16: *DIRECPERS | K16: OPA | L16: EMAIL 04-06-2026 | M16: OPA | N16: CERRADA | O16: OK
A17: =IF(COUNTA(B17:R17)=0,"",COUNTA($B$3:B17)) | B17: CONCIERTO INAUGURAL 86 TEMPORADA ARTÍSTICA USM RÉQUIEM DE FAURÉ | C17: RECTOR DE LA UNIVERSIDAD TÉCNICA FEDERICO SANTA MARÍA | D17: INV-014 | E17: OPA | F17: EMAIL 18-03-2026 | G17: 46109 | H17: DISPONIBLE | I17: PREGUNTAR A ROX SI QUIERE IR, SI NO REPRESENTAR | J17: *CN POUVIF (EMGA) | K17: OPA | L17: EMAIL 26-03-2026 | M17: OPA | N17: CERRADA | O17: OK
A18: =IF(COUNTA(B18:R18)=0,"",COUNTA($B$3:B18)) | B18: CUENTA PÚBLICA 2026 | C18: CGR | D18: INV-016 | E18: OPA | F18: EMAIL 25-02-2026 | G18: 46111 | H18: EN AGENDA CAMBIA A REPRESENTANTE POR AGENDA | I18: ASISTE | J18: CJA CONTRALOR | K18: OPA | L18: EMAIL 04-03-2026 | M18: OPA | N18: CERRADA | O18: OK
A19: =IF(COUNTA(B19:R19)=0,"",COUNTA($B$3:B19)) | B19: CUENTA PÚBLICA | C19: CONSEJO DE DEFENSA DEL ESTADO | D19: INV-017 | E19: OPA | F19: EMAIL 26-01-2026 | G19: 46112 | H19: EN AGENDA | I19: ASISTE | J19: CJA *AUDITGEN | K19: OPA | L19: EMAIL 04-03-2026 | M19: OPA | N19: CERRADA | O19: OK
A20: =IF(COUNTA(B20:R20)=0,"",COUNTA($B$3:B20)) | B20: SESIÓN CON EL MINISTRO DE RELACIONES EXTERIORES DE CHILE | C20: MINISTRO DE RELACIONES EXTERIORES | D20: INV-024 | E20: OPA | F20: EMAIL 19-03-2026 | G20: 46112 | H20: EN ESE HORARIO DISPONIBLE | I20: ACOMPAÑA SUBMAYOR | J20: CJA SUBMAYOR | K20: OPA | L20: EMAIL 26-03-2026 | M20: OPA | N20: CERRADA | O20: OK
A21: =IF(COUNTA(B21:R21)=0,"",COUNTA($B$3:B21)) | B21: CEREMONIA DE 134 ANIVERSARIO DE LA CORTE DE APELACIONES DE VALPARAÍSO | C21: PRESIDENTA DE LA CORTE SUPREMA | D21: INV-008 | E21: OPA | F21: EMAIL 16-03-2026 | G21: 46113 | H21: LIBRE | I21: NO ASISTE - REPRESENTA AUDITGEN | J21: *AUDITGEN (NO ASISTE) CN JT HAWARD | K21: OPA | L21: EMAIL 23-03-2026 | M21: OPA | N21: CERRADA | O21: OK
A22: =IF(COUNTA(B22:R22)=0,"",COUNTA($B$3:B22)) | B22: ALMUERZO DE CAMARADERÍA | C22: CA HERNÁNDEZ | D22: INV-009 | E22: OPA | F22: MANO 17-03-2026 | G22: 46113 | H22: LIBRE | I22: AGENDAR | J22: CJA | K22: OPA | L22: EMAIL 23-03-2026 | M22: OPA | N22: CERRADA | O22: N/C
A23: =IF(COUNTA(B23:R23)=0,"",COUNTA($B$3:B23)) | B23: SEMINARIO DE SUBOFICIALES MAYORES DEPENDIENTES DE RIZONA | C23: CONDESTABLE MAYOR | D23: INV-007 | E23: OPA | F23: EMAIL 17-03-2026 | G23: 46114 | H23: EN AGENDA | I23: ESTÁ AGENDADO? | J23: CJA COMAVNAV SECRETGEN | K23: OPA | L23: EMAIL 23-03-2026 | M23: OPA | N23: CERRADA | O23: OK
A24: =IF(COUNTA(B24:R24)=0,"",COUNTA($B$3:B24)) | B24: CEREMONIA DE ROLL OUT DE LA AERONAVE T 40 - NEWEN | C24: ENAER | D24: INV-026 | E24: OPA | F24: EMAIL 23-03-2026 | G24: 46118 | H24: PREAGENDADO | I24: ASISTE | J24: CJA SECRETGEN DIRECSER COMAVNAV DIRECFIN ASMAR DIPLENGA | K24: OPA | L24: EMAIL 24-03-2026 | M24: OPA | N24: CERRADA | O24: OK
A25: =IF(COUNTA(B25:R25)=0,"",COUNTA($B$3:B25)) | B25: CEREMONIA DE INAUGURACIÓN SALA HISTÓRICA COMANDANTE ARTURO PRAT | C25: CLUB SOCIAL SAN CARLOS | D25: INV-029 | E25: OPA | F25: EMAIL 30-03-2026 | G25: 46118 | H25: CEREMONIA ROLL OUT | I25: EXCUSAR, MARINFA | J25: *JEFE DE ESTADO MAYOR SEGUNDA ZONA | K25: OPA | L25: EMAIL 31-03-2026 | M25: OPA | N25: CERRADA | O25: OK | P25: OFICIO ENVIADO
A26: =IF(COUNTA(B26:R26)=0,"",COUNTA($B$3:B26)) | B26: ENCUENTRO DE CAMARADERÍA Y NETWORKING | C26: EMBAJADA DE COREA | D26: INV-005 | E26: OPA | F26: EMAIL 16-03-2026 | G26: 46119 | H26: NO ASISTE | I26: NO ASISTE | J26: NO ASISTE | K26: OPA | L26: EMAIL 01-04-2026 | M26: OPA | N26: CERRADA | O26: NC | P26: INVITACIÓN LLEGÓ Y NO ASISTE
A27: =IF(COUNTA(B27:R27)=0,"",COUNTA($B$3:B27)) | B27: ALMUERZO ROTARY CLUB - ANIVERSARIO DE CARABINEROS | C27: PRESIDENTE ROTARY SANTIAGO | D27: INV-032 | E27: OPA | F27: EMAIL 01-04-2026 | G27: 46120 | I27: REPRESENTANTE | J27: CN PASTRIÁN | K27: OPA | L27: EMAIL 08-04-2026 | M27: OPA | N27: CERRADA | O27: OK
A28: =IF(COUNTA(B28:R28)=0,"",COUNTA($B$3:B28)) | B28: CENA POR VISITA AGREGADO MILITAR DE MARRUECOS | C28: EMBAJADOR DE MARRUECOS | D28: INV-038 | E28: OPA | F28: EMAIL 07-04-2026 | G28: 46122 | H28: RAPANUI | I28: EXCUSAR POR ESCRITO | J28: NO ASISTE | K28: OPA | L28: EMAIL 08-04-2026 | M28: OPA | N28: CERRADA | O28: NC
A29: =IF(COUNTA(B29:R29)=0,"",COUNTA($B$3:B29)) | B29: VINO DE HONOR MOTIVO DESEO DE ÉXITO NUEVO GOBIERNO | C29: 40787 | D29: INV-033 | E29: OPA | F29: EMAIL 01-04-2026 | G29: 46123 | H29: COMISIÓN RAPA NUI | I29: EXCUSARME | J29: NO ASISTE | K29: OPA | L29: EMAIL 07-04-2026 | M29: OPA | N29: CERRADA | O29: N/C
A30: =IF(COUNTA(B30:R30)=0,"",COUNTA($B$3:B30)) | B30: LANZAMIENTO LIBRO UTFSM | C30: UTFSM | D30: INV-042 | E30: OPA | F30: EMAIL 08-04-2026 | G30: 46126 | H30: SIN DISPONIBILIDAD | I30: REPRESENTA | J30: SIN REPRESENTACIÓN | M30: OPA | N30: CERRADA | P30: LLEGÓ TARDE
A31: =IF(COUNTA(B31:R31)=0,"",COUNTA($B$3:B31)) | B31: PRESENTACIÓN DE LIBRO GUERREROS EXPERTOS DEL MAR… | C31: APOLINAV | D31: INV-025 | E31: OPA | F31: EMAIL 19-03-2026 | G31: 46128 | H31: PREAGENDADO | I31: ASISTE | J31: CJA | K31: OPA | L31: EMAIL 24-03-2026 | M31: OPA | N31: CERRADA | O31: OK | P31: RESPONDER
A32: =IF(COUNTA(B32:R32)=0,"",COUNTA($B$3:B32)) | B32: VUELO A BORDO DE AERONAVE C-2 HACIA EL PORTAAVIONES | C32: EMBAJADORA USA | D32: INV-031 SECRET.ADM. | E32: OPA | F32: EMAIL 31-03-2026 | G32: 46128 | H32: ASISTE | I32: ASISTE | J32: CJA DIRECPERS ESCUADRA COMOPER | K32: OPA | L32: EMAIL 10-04-2026 | M32: SECRET.ADM. | N32: CERRADA | O32: OK
A33: =IF(COUNTA(B33:R33)=0,"",COUNTA($B$3:B33)) | B33: INAUGURACIÓN AÑO ACADÉMICO UFSAM | C33: UFSM | D33: INV-049 | E33: OPA | F33: EMAIL 07-04-2026 | G33: 46128 | H33: REPRESENTA | I33: REPRESENTA | J33: *DIREDUCARM | K33: OPA | L33: EMAIL 08-04-2026 | M33: OPA | N33: CERRADA
A34: =IF(COUNTA(B34:R34)=0,"",COUNTA($B$3:B34)) | B34: ANIVERSARIO | C34: BOTE SALVAVIDAS | D34: INV-002 | E34: OPA | F34: EMAIL 09-03-2026 | G34: 46129 | H34: ALMUERZO A BORDO ESMERALDA COYAHUASI | I34: REPRESENTA DIRECTEMAR | J34: *DINSOMAR | K34: OPA | M34: OPA | N34: CERRADA | O34: OK
A35: =IF(COUNTA(B35:R35)=0,"",COUNTA($B$3:B35)) | B35: RECEPCIÓN FORMAL A BORDO DEL PORTAAVIONES USS NIMITZ | C35: EMBAJADOR USA | D35: INV-034 SECRET.ADM. | E35: OPA | F35: EMAIL 01-04-2026 | G35: 46130 | J35: JEFMAYOR DIRECPERS COMOPER SUBMAYOR ESCUADRA DIRINTA DIRECABAS DIREBIEN DIMPLEMGA DOPEMGA PRIZONA | K35: OPA | L35: EMAIL 13-04-2026 | M35: SECRET.ADM. | N35: CERRADA | O35: OK
A36: =IF(COUNTA(B36:R36)=0,"",COUNTA($B$3:B36)) | B36: INAUGURACIÓN AÑO ACADÉMICO UT METROPOLITANA | C36: RECTOR | D36: INV-057 | E36: OPA | F36: EMAIL 20-04-2026 | G36: 46133 | H36: AGENDA BLOQUEADA | J36: NO ASISTE | K36: OPA | L36: EMAIL 20-04-2026 | M36: COLLAO | N36: CERRADA
A37: =IF(COUNTA(B37:R37)=0,"",COUNTA($B$3:B37)) | B37: CUENTA PÚBLICA PROVIDENCIA | C37: MUNICIPALIDAD DE PROVIDENCIA | D37: INV-050 | E37: OPA | F37: EMAIL 13-04-2026 | G37: 46134 | H37: AGENDA BLOQUEADA | I37: EXCUSAR | J37: SIN REPRESENTACIÓN | K37: OPA | L37: EMAIL 15-04-2026 | M37: OPA | N37: CERRADA | O37: N/C
A38: =IF(COUNTA(B38:R38)=0,"",COUNTA($B$3:B38)) | B38: CUARTA SESIÓN MESA DE CIBERSEGURIDAD | C38: CONTRALORIA GENERAL | D38: INV-052 | E38: OPA | F38: EMAIL 13-04-2026 | G38: 46134 | H38: AGENDA BLOQUEADA | I38: QUE REPRESENTE DIRINTA | J38: *DIRINTA | K38: OPA | L38: EMAIL 20-04-2026 | M38: OPA | N38: CERRADA | O38: OK
A39: =IF(COUNTA(B39:R39)=0,"",COUNTA($B$3:B39)) | B39: CEREMONIA POR ANIVERSARIO ASOFAR | C39: PRESIDENTE ASOFAR | D39: INV-030 SECRET.ADM. | E39: OPA | F39: EMAIL 30-03-2026 | G39: 46135 | H39: SALUDOS PROTOCOLARES - SALUDOS PROTOCOLARES REINO UNIDO | I39: NO PODRÉ ASISTIR QUE REPRESENTE JEFMAYOR - ALTERNATIVO SUBMAYOR U OTRO ALMIRANTE | J39: JEFEMAYOR | K39: OPA | L39: EMAIL 15-04-2026 | M39: COLLAO SECRET. ADM. | N39: CERRADA | O39: OK | Q39: SE INFORMÓ ADEMÁS QUE ACOMPAÑAN CON 20 OFICIALES DE ACUERDO A INSTRUCCIONES CF SANDINO
A40: =IF(COUNTA(B40:R40)=0,"",COUNTA($B$3:B40)) | B40: CONCIERTO DE OTOÑO 2026 | C40: FUNDACIÓN CLARO VIAL | D40: INV-043 | E40: OPA | F40: FÍSICA | G40: 46135 | H40: SIN DISPONIBILIDAD | I40: NO PUEDE IR | J40: NO ASISTE | K40: OPA | L40: EMAIL 15-04-2026 | M40: OPA | N40: CERRADA | O40: N/C
A41: =IF(COUNTA(B41:R41)=0,"",COUNTA($B$3:B41)) | B41: MISA POR EL 24 ANIVERSARIO DE BLANCA ESTELA | C41: BLANCA ESTELA | D41: INV-051 | E41: OPA | F41: EMAIL 07-04-2026 | G41: 46135 | H41: TRABAJO EN SANTIAGO | I41: REPRESENTA DGPA O JEFMAYOR | J41: *DIRECTEMAR | K41: OPA | L41: EMAIL 20-04-2026 | M41: OPA | N41: CERRADA
A42: =IF(COUNTA(B42:R42)=0,"",COUNTA($B$3:B42)) | B42: CEREMONIA OFICIAL LANZAMIENTO CÁMARA ANTÁRTICA | C42: FEDERICO GUESALAGA | D42: INV-054 | E42: OPA | F42: EMAIL 17-04-2026 | G42: 46135 | H42: TRABAJO SANTIAGO - AGENDA BLOQUEADA | I42: SECRETGEN ASISTE | J42: *DIRECTEMAR SECRETGEN | K42: OPA | M42: OPA | N42: CERRADA | O42: OK
A43: =IF(COUNTA(B43:R43)=0,"",COUNTA($B$3:B43)) | B43: EXPOSICIÓN DE CUADROS - CARABINEROS DE CHILE | C43: DELEGACIÓN PRESIDENCIAL | D43: INV-059 | E43: OPA | F43: EMAIL 22-04-2026 | G43: 46135 | H43: EXCUSAR | J43: NO ASISTE | K43: OPA | L43: EMAIL 23-04-2026 | M43: COLLAO | N43: CERRADA | P43: SECRETALM DISPONE NO ASISTENCIA
A44: =IF(COUNTA(B44:R44)=0,"",COUNTA($B$3:B44)) | B44: ACTIVIDAD DE CAMARADERÍA | C44: CENTARM | D44: INV-018 | E44: OPA | F44: MANO | G44: 46136 | H44: AGENDADO | I44: ASISTE | J44: ASISTE | K44: OPA | L44: EMAIL 20-03-2026 | M44: OPA | N44: CERRADA | O44: OK
A45: =IF(COUNTA(B45:R45)=0,"",COUNTA($B$3:B45)) | B45: CEREMONIA DE ANIVERSARIO CEDESTRA | C45: VA FERNÁNDEZ | D45: INV-035 | E45: OPA | F45: EMAIL 02-04-2026 | G45: 46136 | H45: AGENDADA | I45: VOY | J45: ASISTE | K45: OPA | L45: EMAIL 08-04-2026 | M45: OPA | N45: CERRADA | O45: OK
A46: =IF(COUNTA(B46:R46)=0,"",COUNTA($B$3:B46)) | B46: INAUGURACIÓN AÑO ACADÉMICO UNIVERSIDAD DE CHILE | C46: UNIVERSIDAD DE CHILE | D46: INV-041 | E46: OPA | F46: EMAIL | G46: 46136 | H46: SIN DISPONIBILIDAD | I46: REPRESENTAR | J46: *DIPLEMGA | K46: OPA | L46: EMAIL 15-04-2026 | M46: OPA | N46: CERRADA | O46: OK
A47: =IF(COUNTA(B47:R47)=0,"",COUNTA($B$3:B47)) | B47: INAUGURACIÓN XCIC CONFERENCIA DEL DISTRITO 4340 FAMILIA ROTARY | C47: ROTARY SANTIAGO | D47: INV-011 | E47: OPA | F47: EMAIL | G47: 46137 | H47: AGENDA OCUPADA | I47: REPRESENTA UN CN | J47: *CN RODRÍGUEZ | K47: OPA | L47: 46091 | M47: OPA | N47: CERRADA | O47: INFORMAR
A48: =IF(COUNTA(B48:R48)=0,"",COUNTA($B$3:B48)) | B48: INVITACIÓN CONMEMORACIÓN DÍA NUEVA ZELANDA | C48: EMBAJADORA NUEVA ZELANDA | D48: INV-044 | E48: OPA | F48: EMAIL 09-04-2026 | G48: 46137 | H48: SIN AGENDA | I48: REPRESENTA | J48: *DOPENGA | K48: OPA | L48: EMAIL 17-04-2026 | M48: OPA | N48: CERRADA
A49: =IF(COUNTA(B49:R49)=0,"",COUNTA($B$3:B49)) | B49: INAUGURACIÓN OFICIAL DEL 77 CAMPEONATO NACIONAL DE RODEO | C49: FEDERACION DE RODEO | D49: INV-006 | E49: OPA | F49: EMAIL 16-03-2026 | G49: 46138 | H49: REVISTA EN TERZONA | I49: EXCUSARME MANDAR CARTA DE AGRADECIMIENTO Y EXCUSARME QUE EN OTRA OPORTUNIDAD …….. | J49: SIN REPRESENTACIÓN | K49: OPA | L49: EMAIL 24-03-2026 | M49: OPA | N49: CERRADA | O49: N/C
A50: =IF(COUNTA(B50:R50)=0,"",COUNTA($B$3:B50)) | B50: ANIVERSARIO 99 DE CARABINEROS DE CHILE | C50: DIRECTOR GENERAL | D50: INV-036 SECRET.ADM. | E50: OPA | F50: EMAIL 02-04-2026 | G50: 46139 | H50: ASISTE | I50: AGENDADA | J50: CJA | K50: OPA | L50: EMAIL 13-04-2026 | M50: SECRET.ADM. | N50: CERRADA | Q50: CF SANDINO - RESPONDIO REQUERIMIENTO
A51: =IF(COUNTA(B51:R51)=0,"",COUNTA($B$3:B51)) | B51: INAUGURACIÓN AÑO ACADÉMICO UNIVERSIDAD DE LOS ANDES | C51: RECTOR DE LA UNIVERSIDAD TÉCNICA FEDERICO SANTA MARÍA | D51: INV-037 | E51: OPA | F51: EMAIL 02-04-2026 | G51: 46140 | M51: COLLAO | N51: CERRADA | P51: VERIFICANDO INVITACIÓN POR QUE ES GENERICA | Q51: INVITACIÓN DIRIGIDA A DIREDUCARM
A52: =IF(COUNTA(B52:R52)=0,"",COUNTA($B$3:B52)) | B52: CUENTA PÚBLICA FISCALIA 2026 | C52: FISCAL NACIONAL DEL MINISTERIO PUBLICO | D52: INV-052 | E52: OPA | F52: EMAIL 16-04-2026 | G52: 46140 | H52: PERÚ | I52: REPRESENTA AUDITGEN | J52: AUDITGEN | K52: OPA | L52: EMAIL 17-04-2026 | M52: OPA | N52: CERRADA
A53: =IF(COUNTA(B53:R53)=0,"",COUNTA($B$3:B53)) | B53: CHILE SINFÓNICO SEMBRANDO CULTURA 2026 | C53: GERENTE REGIONAL COOPEUCH | D53: INV-055 | E53: OPA | F53: EMAIL 17-04-2026 | G53: 46140 | H53: EXTRANJERO | I53: EXCUSAR | J53: NO ASISTE | K53: OPA | L53: EMAIL 21-04-2026 | M53: OPA | N53: CERRADA
A54: =IF(COUNTA(B54:R54)=0,"",COUNTA($B$3:B54)) | B54: ACCIÓN DE GRACIAS Y ORACIÓN POR EL GOBIERNO | C54: CUENTA PÚBLICA LA FLORIDA | D54: INV-062 | E54: OPA | F54: EMAIL 23-04-2026 | G54: 46140 | H54: EXTRANJERO | I54: ESTANAVMET | J54: *ESTANAVMET | K54: OPA | L54: EMAIL 24-04-2026 | M54: OPA | N54: CERRADA
A55: =IF(COUNTA(B55:R55)=0,"",COUNTA($B$3:B55)) | B55: RECEPCIÓN ITALIA | C55: RECEPCIÓN ITALIA | D55: INV-063 | E55: OPA | F55: EMAIL 23-04-2026 | G55: 46140 | H55: VUELO PERÚ | I55: EXCUSAR | J55: NO VOY | K55: OPA | L55: EMAIL 24-04-2026 | M55: OPA | N55: CERRADA | O55: NC
A56: =IF(COUNTA(B56:R56)=0,"",COUNTA($B$3:B56)) | B56: PRIMERA ASAMBLEA ANUAL FUNDACIÓN PIENSA | C56: FUNDACIÓN PIENSA | D56: INV-064 | E56: OPA | F56: EMAIL 24-04-2026 | G56: 46140 | I56: REPRESENTAR | J56: *DIRECFIN | K56: OPA | L56: EMAIL 28-04-2026 | M56: SECRETALM | N56: CERRADA
A57: =IF(COUNTA(B57:R57)=0,"",COUNTA($B$3:B57)) | B57: CEREMONIA DE ANIVERSARIO 50 AÑOS CENTROS DE INFORMÁTICA Y COMPUTACIÓN DE LA ARMADA | C57: VA DELGADO | D57: INV-019 | E57: OPA | F57: EMAIL 22-01-2026 | G57: 46141 | H57: DISPONIBLE | I57: PREAGENDAR | J57: CJA (S) | K57: OPA | L57: EMAIL 02-03-2026 EMAIL 17-04-2026 | M57: OPA | N57: CERRADA | O57: OK | Q57: ASISTE ALMIRANTE (S)
A58: =IF(COUNTA(B58:R58)=0,"",COUNTA($B$3:B58)) | B58: CENA ANUAL ASOCIACIÓN ASEGURADORA DE CHILE | C58: PRESIDENTE DE ASOCIACIÓN | D58: INV-028 | E58: OPA | F58: EMAIL 25-03-2026 | G58: 46141 | H58: COMISIÓN PERÚ | I58: REPRESENTA | J58: *DIREBIEN | K58: OPA | L58: EMAIL 31-03-2026 | M58: OPA | N58: CERRADA | O58: OK | Q58: ENVIAR OFICIO
A59: =IF(COUNTA(B59:R59)=0,"",COUNTA($B$3:B59)) | B59: ENCUENTRO ANUAL LOS DESAFÍOS DE CHILE | C59: PRESIDENTE LEVANTEMOS CHILE | D59: INV-053 | E59: OPA | F59: EMAIL 17-04-2026 | G59: 46141 | H59: COMISIÓN EXTRANJERO | J59: JEFMAYOR | K59: OPA | L59: EMAIL 24-04-2026 | M59: OPA | N59: CERRADA | O59: OK
A60: =IF(COUNTA(B60:R60)=0,"",COUNTA($B$3:B60)) | B60: 116 ANIVERSARIO OBISPADO CASTRENSE DE CHILE | C60: GENERAL DE BRIGADA Y OBISPO CASTRENSE OSSANDÓN | D60: INV-045 | E60: OPA | F60: EMAIL | G60: 46146 | H60: INAUGURACIÓN MES DEL MAR TALCAHUANO | I60: REPRESENTA | J60: *SUBJEMCO ESTANAVMET | K60: OPA | L60: EMAIL 30-04-2026 | M60: OPA | N60: CERRADA | P60: CARTA DE ESCUSA TRAMITADA EMAIL 20-04-2026
A61: =IF(COUNTA(B61:R61)=0,"",COUNTA($B$3:B61)) | B61: 14 ANIVERSARIO MULTILATERAL VIRTUAL DE LIDERAZGO MAR | C61: ADMIRAL US NAVY | D61: INV-039 SECRET.ADM. | E61: OPA | F61: EMAIL 07-04-2026 | G61: 46147 | J61: *COMOPER | K61: SECRET.ADM. | L61: N°2610/660/45 | M61: COLLAO SECRET.ADM | N61: CERRADA
A62: =IF(COUNTA(B62:R62)=0,"",COUNTA($B$3:B62)) | B62: 1ER ANIVERSARIO PONTIFICADO DE SS PAPA | C62: S.E. MONS KURIAN MATHEW | D62: INV-051 | E62: OPA | F62: EMAIL 16-04-2026 | G62: 46150 | H62: ESPAÑA | I62: AGRADECER Y DECLINAR POR VIAJE | J62: NO ASISTE | K62: OPA | L62: EMAIL 14-04-2026 | M62: OPA | N62: CERRADA | P62: INSTRUCCIONES SECRETALM
A63: =IF(COUNTA(B63:R63)=0,"",COUNTA($B$3:B63)) | B63: ASAMBLEA POR 163 AÑOS MOVIMIENTO INTERNACIONAL CRUZ ROJA | C63: PRESIDENTE CRUZ ROJA | D63: INV-071 | E63: OPA | F63: EMAIL 08-05-2026 | G63: 46150 | H63: REPRESENTAR | I63: OFICIAL JEFE O SUPERIOR | K63: OPA | L63: EMAIL 07-05-2026 | M63: OPA | N63: CERRADA
A64: =IF(COUNTA(B64:R64)=0,"",COUNTA($B$3:B64)) | B64: CENA PROFESIONAL FUNDACIÓN ACRUX | C64: ACRUX | D64: INV- MAYO27 | E64: OPA | F64: EMAIL 30-04-2026 | G64: 46150 | H64: REPRESENTAR | J64: *PRIZONA | K64: OPA | L64: EMAIL 07-05-2026 | M64: OPA | N64: CERRADA
A65: =IF(COUNTA(B65:R65)=0,"",COUNTA($B$3:B65)) | B65: CUENTA PÚBLICA CAJA DE LOS ANDES | C65: CAJA DE LOS ANDES | D65: INV-078 | E65: OPA | F65: EMAIL 08-06-2026 | G65: 46153 | H65: EXTRANJERO | I65: DIREBIEN | J65: DIREBIEN | K65: OPA | L65: EMAIL 08-06-2026 | M65: OPA | N65: CERRADA
A66: =IF(COUNTA(B66:R66)=0,"",COUNTA($B$3:B66)) | B66: CUENTA PÚBLICA 2025 SERVEL | C66: PRESIDENTE CONSEJO DIRECTIVO SERVEL | D66: INV-058 | E66: OPA | F66: EMAIL 20-04-2026 | G66: 46154 | H66: CODES | J66: AUDITGEN | K66: OPA | L66: EMAIL 24-04-2026 | M66: OPA | N66: CERRADA
A67: =IF(COUNTA(B67:R67)=0,"",COUNTA($B$3:B67)) | B67: CRUZ ROJA | C67: CRUZ ROJA | D67: INV-082 | E67: OPA | F67: EMAIL 11-05-2026 | G67: 46154 | J67: CN SN VIVADO | K67: OPA | L67: EMAIL 11-05-2026 | M67: OPA | N67: CERRADA
A68: =IF(COUNTA(B68:R68)=0,"",COUNTA($B$3:B68)) | B68: SEMANA DE LA CONSTRUCCIÓN | C68: CÁMARA CHILENA DE LA CONSTRUCCIÓN | D68: INV-065 | E68: OPA | F68: EMAIL 27-04-2026 | G68: 46155 | J68: CJA | K68: OPA | L68: EMAIL 11-05-2026 | M68: OPA | N68: CERRADA
A69: =IF(COUNTA(B69:R69)=0,"",COUNTA($B$3:B69)) | B69: GALA CÁMARA CHILENA DE LA CONSTRUCCIÓN | C69: CCHC | D69: INV-066 | E69: OPA | F69: EMAIL 29-04-2026 | G69: 46155 | H69: REPRESENTANTE | J69: DOPCOM | K69: OPA | L69: EMAIL 11-05-2026 | M69: OPA | N69: CERRADA
A70: =IF(COUNTA(B70:R70)=0,"",COUNTA($B$3:B70)) | B70: 250 ANIVERSARIO INDEPENDENCIA USA | C70: EMBAJADA USA | D70: INV-060 | E70: OPA | F70: EMAIL 22-04-2026 | G70: 46156 | H70: VOY | I70: ASISTE | J70: DIRECPERS DRUARM | K70: OPA | L70: EMAIL 28-04-2026 | M70: OPA | N70: CERRADA
A71: =IF(COUNTA(B71:R71)=0,"",COUNTA($B$3:B71)) | B71: PREMIACIÓN EMPRESARIAL EL MERCURIO | C71: EL MERCURIO | D71: INV-067 | E71: OPA | F71: EMAIL 29-04-2026 | G71: 46156 | J71: DIPLEMGA | K71: OPA | L71: EMAIL 06-05-2026 | M71: COLLAO | N71: CERRADA
A72: =IF(COUNTA(B72:R72)=0,"",COUNTA($B$3:B72)) | B72: SEMINARIO CHILE EN LA ENCRUCIJADA DE LA SEGURIDAD NACIONAL | C72: DIRECTOR LA TERCERA | D72: INV-073 | E72: OPA | F72: EMAIL 07-05-2026 | G72: 46156 | H72: ANIVERSARIO USA | I72: DIRSOMAR DIPORMAR | M72: COLLAO | N72: CERRADA
A73: =IF(COUNTA(B73:R73)=0,"",COUNTA($B$3:B73)) | B73: NOCHE BAJO LAS AURORAS BOREALES | C73: EMBAJADA NORUEGA | D73: INV-072 | E73: OPA | F73: EMAIL 06-05-2026 | G73: 46157 | H73: SIN AGENDA | I73: OFICIAL ALTO MANDO | J73: DOPCOM | K73: OPA | L73: EMAIL 12-05-2026 | M73: OPA | N73: CERRADA
A74: =IF(COUNTA(B74:R74)=0,"",COUNTA($B$3:B74)) | B74: NATALICIO ARTURO MERINO BENÍTEZ | C74: FACH | D74: INV-048 | E74: OPA SECRET.ADM. | F74: EMAIL | G74: 46159 | H74: SIN AGENDA | I74: EMGA RESPONDER | J74: *SEGUNDA ZONA CN SEGUNDA ZONA | K74: OPA | L74: EMAIL 06-05-2026 | M74: SECRET.ADM. COLLAO | N74: CERRADA
A75: =IF(COUNTA(B75:R75)=0,"",COUNTA($B$3:B75)) | B75: INAUGURACIÓN AÑO ACADÉMICO SANTO TOMÁS | C75: SANTO TOMÁS | E75: OPA | F75: EMAIL 14-04-2026 | G75: 46159 | H75: EXTRANJERO | M75: COLLAO | N75: CERRADA | P75: VERIFICAR SI ESTÁ INVITADO | Q75: INVITACIÓN DIRIGIDA A PRIZONA
A76: =IF(COUNTA(B76:R76)=0,"",COUNTA($B$3:B76)) | B76: CEREMONIA DE INAUGURACIÓN DE LA EXPOSICIÓN DE MODELISMO NAVAL TITULADA… | C76: INSTITUTO CHILENO DE LA CULTURA VALPARAÍSO | D76: INV-083 | E76: OPA | F76: EMAIL 12-05-2026 | G76: 46162 | I76: REPRESENTACIÓN | M76: COLLAO | N76: CERRADA
A77: =IF(COUNTA(B77:R77)=0,"",COUNTA($B$3:B77)) | B77: INVITACIÓN CONDECORACIÓN ALMIRANTE DE LA MAZA | C77: EMBAJADA DE FRANCIA | D77: INV-084 | E77: OPA SECRETALM | F77: MANO | G77: 46162 | J77: COMOPER | K77: OPA | L77: EMAIL 12-05-2026 | M77: OPA | N77: CERRADA
A78: =IF(COUNTA(B78:R78)=0,"",COUNTA($B$3:B78)) | B78: INAUGURACIÓN DEL AÑO ACADÉMICO | C78: UVM | D78: INV-089 | E78: OPA | F78: EMAIL 14-05-2026 | G78: 46162 | I78: REPRESENTANTE | J78: SUBDEA | K78: OPA | L78: EMAIL 18-05-2026 | M78: OPA | N78: CERRADA
A79: =IF(COUNTA(B79:R79)=0,"",COUNTA($B$3:B79)) | B79: CELEBRACIÓN FUERZAS ARMADAS | C79: EMBAJADORA DE ESPAÑA | D79: INV-092 | E79: OPA | F79: EMAIL 18-05-2026 | G79: 46166 | I79: REPRESENTANTE | K79: OPA | L79: EMAIL 20-05-2026 | M79: OPA | N79: CERRADA
A80: =IF(COUNTA(B80:R80)=0,"",COUNTA($B$3:B80)) | B80: RECEPCIÓN CELEBRACIÓN 216, REVOLUCIÓN DE MAYO | C80: EMBAJADA DE ARGENTINA | D80: INV-069 | E80: OPA | F80: EMAIL 04-05-2026 | G80: 46168 | H80: SIN AGENDA | I80: 01 VA + DIPLEMGA | J80: SUBJEMCO DOPCON | M80: OPA | N80: CERRADA
A81: =IF(COUNTA(B81:R81)=0,"",COUNTA($B$3:B81)) | B81: CONCIERTO DEL DISTINGUIDO ENSAMBLE CROATA TRIO KAMOV | C81: EMBAJADA REPÚBLICA DE CROACIA | D81: INV-079 | E81: OPA | F81: EMAIL 11-05-2026 | G81: 46168 | H81: REPRESENTAR | I81: REPRESENTAR | J81: CN MARTÍNEZ | K81: OPA | L81: EMAIL 26-05-2026 | M81: OPA | N81: CERRADA
A82: =IF(COUNTA(B82:R82)=0,"",COUNTA($B$3:B82)) | B82: SEMINARIO VALPARAÍSO EN MARCHA | C82: RECTOR UNIVERSIDAD FEDERICO SANTA MARÍA | D82: INV-087 | E82: OPA | F82: EMAIL 13-05-2026 | G82: 46168 | I82: REPRESENTANTE | J82: SOCA | K82: OPA | L82: EMAIL 26-05-2026 | M82: OPA | N82: CERRADA
A83: =IF(COUNTA(B83:R83)=0,"",COUNTA($B$3:B83)) | B83: CÓCTEL CON MOTIVO DEL INICIO DE UNA NUEVA ETAPA DE TIGO EN CHILE | C83: EMBAJADOR DE FRANCIA | D83: INV-095 | E83: OPA | F83: EMAIL 25-05-2026 | G83: 46168 | J83: DIRECTELINF | K83: OPA | L83: EMAIL 26-05-2026 | M83: OPA | N83: CERRADA
A84: =IF(COUNTA(B84:R84)=0,"",COUNTA($B$3:B84)) | B84: 45 ANIVERSARIO DE ULTRAPORT | C84: RICHARD VON APPEN | D84: INV-046 | E84: OPA | F84: EMAIL 13-04-2026 | G84: 46170 | H84: DISPONIBLE | I84: VOY | J84: CJA | K84: OPA | L84: EMAIL 17-05-2026 | M84: OPA | N84: CERRADA
A85: =IF(COUNTA(B85:R85)=0,"",COUNTA($B$3:B85)) | B85: AVANT PREMIERE DE LA PELÍCULA CROATA DIOS NOS AYUDARÁ | C85: EMBAJADA REPÚBLICA DE CROACIA | D85: INV-080 | E85: OPA | F85: EMAIL 11-05-2026 | G85: 46170 | H85: REPRESENTAR | I85: REPRESENTAR | J85: CN BRHAM | K85: OPA | L85: EMAIL 26-05-2026 | M85: OPA | N85: CERRADA | Q85: CN BRHAM INFORMA QUE MUY POCA REPRESENTACIÓN EN ESTÁ ACTIVIDAD
A86: =IF(COUNTA(B86:R86)=0,"",COUNTA($B$3:B86)) | B86: CÓCTEL Y CENA DE CONFRATERNIDAD EMPRESARIAL | C86: PRESIDENTE | D86: INV-085 | E86: OPA | F86: EMAIL 13-05-2026 | G86: 46170 | I86: EXCUSAR | K86: OPA | L86: EMAIL 20-05-2026 | M86: OPA | N86: CERRADA
A87: =IF(COUNTA(B87:R87)=0,"",COUNTA($B$3:B87)) | B87: CELEBRACIÓN DÍA REPÚBLICA ITALIA | C87: ITALIA | D87: INV-093 | E87: OPA | F87: EMAIL 14-05-2026 | G87: 46175 | I87: REPRESENTANTE | J87: DIRECSERV | K87: OPA | L87: EMAIL 26-05-2026 | M87: OPA | N87: CERRADA
A88: =IF(COUNTA(B88:R88)=0,"",COUNTA($B$3:B88)) | B88: GALA BALLET LA CENICIENTA | C88: PDI | D88: INV-097 | E88: OPA | F88: EMAIL 26-05-2026 | G88: 46175 | J88: ALMIRANTE | M88: OPA | N88: CERRADA
A89: =IF(COUNTA(B89:R89)=0,"",COUNTA($B$3:B89)) | B89: PRESENTACIÓN Y ALMUERZO MUTUAL DE SEGUROS | C89: MUTUAL DE SEGUROS | D89: INV-047 | E89: OPA | F89: POR CARTA | G89: 46176 | H89: PREAGENDADO | I89: AGENDAR | J89: CJA DIRECPERS DIREBIEN | K89: OPA | L89: EMAIL 15-04-2026 | M89: OPA | N89: CERRADA | O89: OK
A90: =IF(COUNTA(B90:R90)=0,"",COUNTA($B$3:B90)) | B90: GALA BANCO SANTANDER | C90: SANTANDER | D90: INV-105 | E90: OPA | F90: EMAIL 29-05-2026 | G90: 46176 | I90: PRIZONA | J90: PRIZONA | K90: OPA | L90: EMAIL 03-06-2026 | M90: OPA | N90: CERRADA
A91: =IF(COUNTA(B91:R91)=0,"",COUNTA($B$3:B91)) | B91: CEREMONIA EGRESO GENDARMERÍA PROMOCIÓN 2025-2026 | C91: DIRECTOR NACIONAL DE GENDARMERÍA | D91: INV-099 | E91: OPA | F91: EMAIL 22-05-2026 | G91: 46177 | J91: JEFMAYOR | K91: OPA | L91: EMAIL 28-05-2026 | M91: OPA | N91: CERRADA
A92: =IF(COUNTA(B92:R92)=0,"",COUNTA($B$3:B92)) | B92: CEREMONIA EN CELEBRACIÓN DEL SEXAGÉSIMO NOVENO ANIVERSARIO DEL CLUB DEL SUBOFICIAL MAYOR | C92: PRESIDENTE | D92: INV-075 | E92: OPA | F92: EMAIL 08-06-2026 | G92: 46178 | H92: CODES | I92: DIRECPERS | J92: DIRECPERS | K92: OPA | L92: EMAIL 13-05-2026 | M92: OPA | N92: CERRADA
A93: =IF(COUNTA(B93:R93)=0,"",COUNTA($B$3:B93)) | B93: ALMUERZO CLUB DE LOS VIERNES | C93: T2 RNY VIAL | D93: INV-091 | E93: OPA | F93: EMAIL 14-05-2026 | G93: 46178 | I93: SECRETGEN | M93: COLLAO | N93: PENDIENTE | P93: VERIFICAR | Q93: CAMBIO DE FECHA
A94: =IF(COUNTA(B94:R94)=0,"",COUNTA($B$3:B94)) | B94: CONMEMORACIÓN DEL CENTÉSIMO CUADRAGÉSIMO SEXTO ANIVERSARIO ASALTO Y TOMA DEL MORRO DE ARICA Y DÍA DE LAS GLORIAS DEL ARMA DE INFANTERÍA | C94: CJA | D94: INV-090 | E94: OPA | F94: EMAIL 15-05-2026 | G94: 46180 | I94: ASISTE | J94: CJA | K94: EMAIL | L94: 46175 | M94: OPA | N94: CERRADA
A95: =IF(COUNTA(B95:R95)=0,"",COUNTA($B$3:B95)) | B95: CEREMONIA INAUGURACIÓN EXPONER 2026 | C95: EXPONOR | D95: INV-027 | E95: OPA | F95: EMAIL 23-03-2026 | G95: 46181 | H95: REVISTA CUARZONA | I95: NO VOY | J95: NO ASISTE | K95: OPA | L95: EMAIL 31-03-2026 | M95: OPA | N95: CERRADA
A96: =IF(COUNTA(B96:R96)=0,"",COUNTA($B$3:B96)) | B96: CENA CUARZONA | C96: CURZONA | D96: INV-115 | E96: OPA | F96: EMAIL 04-06-2026 | G96: 46181 | J96: ASISTE | K96: OPA | L96: EMAIL 08-06-2026 | M96: OPA | N96: CERRADA
A97: =IF(COUNTA(B97:R97)=0,"",COUNTA($B$3:B97)) | B97: CONFERENCIA VALPARAÍSO Y TRATADO DE ALTA MAR BBNJ | C97: ALCALDESA VALPO | D97: INV-098 | E97: OPA | F97: EMAIL 26-05-2026 | G97: 46182 | J97: EXCUSAR | M97: OPA | N97: CERRADA
A98: =IF(COUNTA(B98:R98)=0,"",COUNTA($B$3:B98)) | B98: CUENTA ANUAL ANIVERSARIO TECNOLÓGICO METROPOLITANO | C98: RECTORA | D98: INV-101 | E98: OPA | F98: EMAIL 22-05-2026 | G98: 46182 | J98: SUBACANAV | K98: OPA | L98: EMAIL 29-05-2026 | M98: OPA | N98: CERRADA
A99: =IF(COUNTA(B99:R99)=0,"",COUNTA($B$3:B99)) | B99: EUCARISTÍA EN ACCIÓN DE GRACIAS POR EL 93 ANIVERSARIO PDI | C99: DIRECTOR GENERAL PDI | D99: INV-102 | E99: OPA | F99: EMAIL 28-05-2026 | G99: 46182 | I99: REPRESENTANTE | J99: DOPCON | K99: OPA | L99: EMAIL 08-06-2026 | M99: OPA | N99: CERRADA
A100: =IF(COUNTA(B100:R100)=0,"",COUNTA($B$3:B100)) | B100: SEMINARIO COMO VIENE 2026 LA TEMPORADA 2027 | C100: SOCIEDAD NACIONAL DE AGRICULTURA | D100: INV-076 | E100: OPA | F100: EMAIL 08-06-2026 | G100: 46183 | H100: SEGUNDO CONSEJO NAVAL | I100: DIRINMAR | J100: DIRINMAR | K100: OPA | L100: EMAIL 02-06-2026 | M100: OPA | N100: CERRADA
...

Sheet RESUMEN
A1: RESUMEN KARDEX INVITACIONES 2026
A3: Indicador | B3: Total | D3: Estado | E3: Total | F3: Observación
A4: Total actividades | B4: =COUNTIF(INVITACIONES!$B$3:$B$1000,"<>") | D4: PENDIENTE | E4: =COUNTIF(INVITACIONES!$N$3:$N$1000,"PENDIENTE") | F4: Revisar/gestionar
A5: Pendientes | B5: =COUNTIF(INVITACIONES!$N$3:$N$1000,"PENDIENTE") | D5: CERRADA | E5: =COUNTIF(INVITACIONES!$N$3:$N$1000,"CERRADA") | F5: Respuesta cerrada
A6: Cerradas | B6: =COUNTIF(INVITACIONES!$N$3:$N$1000,"CERRADA") | D6: TERMINADA | E6: =COUNTIF(INVITACIONES!$N$3:$N$1000,"TERMINADA") | F6: Actividad finalizada
A7: Terminadas | B7: =COUNTIF(INVITACIONES!$N$3:$N$1000,"TERMINADA") | D7: SIN ESTADO | E7: =COUNTBLANK(INVITACIONES!$N$3:$N$1000)-COUNTBLANK(INVITACIONES!$B$3:$B$1000) | F7: Completar estado
A8: Próx. 30 días pendientes | B8: =COUNTIFS(INVITACIONES!$G$3:$G$1000,">="&TODAY(),INVITACIONES!$G$3:$G$1000,"<="&TODAY()+30,INVITACIONES!$N$3:$N$1000,"PENDIENTE")
A9: Vencidas pendientes | B9: =COUNTIFS(INVITACIONES!$G$3:$G$1000,"<"&TODAY(),INVITACIONES!$N$3:$N$1000,"PENDIENTE")
A12: PRÓXIMAS ACTIVIDADES PENDIENTES
A13: Fecha | B13: Motivo | C13: Remitente | D13: Representa | E13: Estado
A14: =IFERROR(SORT(FILTER(CHOOSE({1,2,3,4,5},INVITACIONES!$G$3:$G$1000,INVITACIONES!$B$3:$B$1000,INVITACIONES!$C$3:$C$1000,INVITACIONES!$J$3:$J$1000,INVITACIONES!$N$3:$N$1000),(INVITACIONES!$N$3:$N$1000="PENDIENTE")*(INVITACIONES!$G$3:$G$1000>=TODAY())),1,1),"Sin pendientes próximos")

Sheet REPRESENTANTES
A1: LISTA Y CONTROL DE REPRESENTANTES | J1: RESUMEN DE CONTROL
A2: Ingrese o reemplace en la columna B la lista oficial que se utilizará en la columna QUIÉN REPRESENTA. El control de representaciones se actualiza automáticamente según la hoja INVITACIONES.
A3: Para registrar más de un representante en una misma invitación, ingréselos en la celda QUIÉN REPRESENTA separados por salto de línea. | J3: REPRESENTANTES EN LISTA | K3: =COUNTIF($B$5:$B$504,"<>")
A4: N° | B4: REPRESENTANTE | C4: CARGO / UNIDAD | D4: TOTAL REPRESENTACIONES | E4: CERRADAS / TERMINADAS | F4: PENDIENTES | G4: ÚLTIMA ACTIVIDAD | H4: OBSERVACIONES | J4: TOTAL REPRESENTACIONES | K4: =SUM($D$5:$D$504)
A5: =IF($B5="","",ROW()-4) | B5: CJA | D5: =IF($B5="","",SUM(COUNTIF(BASE_CONTROL!$D$2:$K$999,$B5))) | E5: =IF($B5="","",SUM(COUNTIFS(BASE_CONTROL!$D$2:$D$999,$B5,BASE_CONTROL!$B$2:$B$999,"CERRADA"),COUNTIFS(BASE_CONTROL!$D$2:$D$999,$B5,BASE_CONTROL!$B$2:$B$999,"TERMINADA"),COUNTIFS(BASE_CONTROL!$E$2:$E$999,$B5,BASE_CONTROL!$B$2:$B$999,"CERRADA"),COUNTIFS(BASE_CONTROL!$E$2:$E$999,$B5,BASE_CONTROL!$B$2:$B$999,"TERMINADA"),COUNTIFS(BASE_CONTROL!$F$2:$F$999,$B5,BASE_CONTROL!$B$2:$B$999,"CERRADA"),COUNTIFS(BASE_CONTROL!$F$2:$F$999,$B5,BASE_CONTROL!$B$2:$B$999,"TERMINADA"),COUNTIFS(BASE_CONTROL!$G$2:$G$999,$B5,BASE_CONTROL!$B$2:$B$999,"CERRADA"),COUNTIFS(BASE_CONTROL!$G$2:$G$999,$B5,BASE_CONTROL!$B$2:$B$999,"TERMINADA"),COUNTIFS(BASE_CONTROL!$H$2:$H$999,$B5,BASE_CONTROL!$B$2:$B$999,"CERRADA"),COUNTIFS(BASE_CONTROL!$H$2:$H$999,$B5,BASE_CONTROL!$B$2:$B$999,"TERMINADA"),COUNTIFS(BASE_CONTROL!$I$2:$I$999,$B5,BASE_CONTROL!$B$2:$B$999,"CERRADA"),COUNTIFS(BASE_CONTROL!$I$2:$I$999,$B5,BASE_CONTROL!$B$2:$B$999,"TERMINADA"),COUNTIFS(BASE_CONTROL!$J$2:$J$999,$B5,BASE_CONTROL!$B$2:$B$999,"CERRADA"),COUNTIFS(BASE_CONTROL!$J$2:$J$999,$B5,BASE_CONTROL!$B$2:$B$999,"TERMINADA"),COUNTIFS(BASE_CONTROL!$K$2:$K$999,$B5,BASE_CONTROL!$B$2:$B$999,"CERRADA"),COUNTIFS(BASE_CONTROL!$K$2:$K$999,$B5,BASE_CONTROL!$B$2:$B$999,"TERMINADA"))) | F5: =IF($B5="","",SUM(COUNTIFS(BASE_CONTROL!$D$2:$D$999,$B5,BASE_CONTROL!$B$2:$B$999,"PENDIENTE"),COUNTIFS(BASE_CONTROL!$E$2:$E$999,$B5,BASE_CONTROL!$B$2:$B$999,"PENDIENTE"),COUNTIFS(BASE_CONTROL!$F$2:$F$999,$B5,BASE_CONTROL!$B$2:$B$999,"PENDIENTE"),COUNTIFS(BASE_CONTROL!$G$2:$G$999,$B5,BASE_CONTROL!$B$2:$B$999,"PENDIENTE"),COUNTIFS(BASE_CONTROL!$H$2:$H$999,$B5,BASE_CONTROL!$B$2:$B$999,"PENDIENTE"),COUNTIFS(BASE_CONTROL!$I$2:$I$999,$B5,BASE_CONTROL!$B$2:$B$999,"PENDIENTE"),COUNTIFS(BASE_CONTROL!$J$2:$J$999,$B5,BASE_CONTROL!$B$2:$B$999,"PENDIENTE"),COUNTIFS(BASE_CONTROL!$K$2:$K$999,$B5,BASE_CONTROL!$B$2:$B$999,"PENDIENTE"))) | G5: =IF($B5="","",IF($D5=0,"",IFERROR(MAX(MAXIFS(BASE_CONTROL!$C$2:$C$999,BASE_CONTROL!$D$2:$D$999,$B5),MAXIFS(BASE_CONTROL!$C$2:$C$999,BASE_CONTROL!$E$2:$E$999,$B5),MAXIFS(BASE_CONTROL!$C$2:$C$999,BASE_CONTROL!$F$2:$F$999,$B5),MAXIFS(BASE_CONTROL!$C$2:$C$999,BASE_CONTROL!$G$2:$G$999,$B5),MAXIFS(BASE_CONTROL!$C$2:$C$999,BASE_CONTROL!$H$2:$H$999,$B5),MAXIFS(BASE_CONTROL!$C$2:$C$999,BASE_CONTROL!$I$2:$I$999,$B5),MAXIFS(BASE_CONTROL!$C$2:$C$999,BASE_CONTROL!$J$2:$J$999,$B5),MAXIFS(BASE_CONTROL!$C$2:$C$999,BASE_CONTROL!$K$2:$K$999,$B5)),""))) | J5: PENDIENTES | K5: =SUM($F$5:$F$504)
A6: =IF($B6="","",ROW()-4) | B6: CJA (S) | D6: =IF($B6="","",SUM(COUNTIF(BASE_CONTROL!$D$2:$K$999,$B6))) | E6: =IF($B6="","",SUM(COUNTIFS(BASE_CONTROL!$D$2:$D$999,$B6,BASE_CONTROL!$B$2:$B$999,"CERRADA"),COUNTIFS(BASE_CONTROL!$D$2:$D$999,$B6,BASE_CONTROL!$B$2:$B$999,"TERMINADA"),COUNTIFS(BASE_CONTROL!$E$2:$E$999,$B6,BASE_CONTROL!$B$2:$B$999,"CERRADA"),COUNTIFS(BASE_CONTROL!$E$2:$E$999,$B6,BASE_CONTROL!$B$2:$B$999,"TERMINADA"),COUNTIFS(BASE_CONTROL!$F$2:$F$999,$B6,BASE_CONTROL!$B$2:$B$999,"CERRADA"),COUNTIFS(BASE_CONTROL!$F$2:$F$999,$B6,BASE_CONTROL!$B$2:$B$999,"TERMINADA"),COUNTIFS(BASE_CONTROL!$G$2:$G$999,$B6,BASE_CONTROL!$B$2:$B$999,"CERRADA"),COUNTIFS(BASE_CONTROL!$G$2:$G$999,$B6,BASE_CONTROL!$B$2:$B$999,"TERMINADA"),COUNTIFS(BASE_CONTROL!$H$2:$H$999,$B6,BASE_CONTROL!$B$2:$B$999,"CERRADA"),COUNTIFS(BASE_CONTROL!$H$2:$H$999,$B6,BASE_CONTROL!$B$2:$B$999,"TERMINADA"),COUNTIFS(BASE_CONTROL!$I$2:$I$999,$B6,BASE_CONTROL!$B$2:$B$999,"CERRADA"),COUNTIFS(BASE_CONTROL!$I$2:$I$999,$B6,BASE_CONTROL!$B$2:$B$999,"TERMINADA"),COUNTIFS(BASE_CONTROL!$J$2:$J$999,$B6,BASE_CONTROL!$B$2:$B$999,"CERRADA"),COUNTIFS(BASE_CONTROL!$J$2:$J$999,$B6,BASE_CONTROL!$B$2:$B$999,"TERMINADA"),COUNTIFS(BASE_CONTROL!$K$2:$K$999,$B6,BASE_CONTROL!$B$2:$B$999,"CERRADA"),COUNTIFS(BASE_CONTROL!$K$2:$K$999,$B6,BASE_CONTROL!$B$2:$B$999,"TERMINADA"))) | F6: =IF($B6="","",SUM(COUNTIFS(BASE_CONTROL!$D$2:$D$999,$B6,BASE_CONTROL!$B$2:$B$999,"PENDIENTE"),COUNTIFS(BASE_CONTROL!$E$2:$E$999,$B6,BASE_CONTROL!$B$2:$B$999,"PENDIENTE"),COUNTIFS(BASE_CONTROL!$F$2:$F$999,$B6,BASE_CONTROL!$B$2:$B$999,"PENDIENTE"),COUNTIFS(BASE_CONTROL!$G$2:$G$999,$B6,BASE_CONTROL!$B$2:$B$999,"PENDIENTE"),COUNTIFS(BASE_CONTROL!$H$2:$H$999,$B6,BASE_CONTROL!$B$2:$B$999,"PENDIENTE"),COUNTIFS(BASE_CONTROL!$I$2:$I$999,$B6,BASE_CONTROL!$B$2:$B$999,"PENDIENTE"),COUNTIFS(BASE_CONTROL!$J$2:$J$999,$B6,BASE_CONTROL!$B$2:$B$999,"PENDIENTE"),COUNTIFS(BASE_CONTROL!$K$2:$K$999,$B6,BASE_CONTROL!$B$2:$B$999,"PENDIENTE"))) | G6: =IF($B6="","",IF($D6=0,"",IFERROR(MAX(MAXIFS(BASE_CONTROL!$C$2:$C$999,BASE_CONTROL!$D$2:$D$999,$B6),MAXIFS(BASE_CONTROL!$C$2:$C$999,BASE_CONTROL!$E$2:$E$999,$B6),MAXIFS(BASE_CONTROL!$C$2:$C$999,BASE_CONTROL!$F$2:$F$999,$B6),MAXIFS(BASE_CONTROL!$C$2:$C$999,BASE_CONTROL!$G$2:$G$999,$B6),MAXIFS(BASE_CONTROL!$C$2:$C$999,BASE_CONTROL!$H$2:$H$999,$B6),MAXIFS(BASE_CONTROL!$C$2:$C$999,BASE_CONTROL!$I$2:$I$999,$B6),MAXIFS(BASE_CONTROL!$C$2:$C$999,BASE_CONTROL!$J$2:$J$999,$B6),MAXIFS(BASE_CONTROL!$C$2:$C$999,BASE_CONTROL!$K$2:$K$999,$B6)),""))) | J6: SIN REPRESENTACIÓN / NO ASISTE | K6: =SUM(COUNTIF(BASE_CONTROL!$D$2:$D$999,"SIN REPRESENTANTE"),COUNTIF(BASE_CONTROL!$D$2:$D$999,"SIN REPRESENTACIÓN"),COUNTIF(BASE_CONTROL!$D$2:$D$999,"SIN REPRESENTACION"),COUNTIF(BASE_CONTROL!$D$2:$D$999,"NO ASISTE"),COUNTIF(BASE_CONTROL!$E$2:$E$999,"SIN REPRESENTANTE"),COUNTIF(BASE_CONTROL!$E$2:$E$999,"SIN REPRESENTACIÓN"),COUNTIF(BASE_CONTROL!$E$2:$E$999,"SIN REPRESENTACION"),COUNTIF(BASE_CONTROL!$E$2:$E$999,"NO ASISTE"),COUNTIF(BASE_CONTROL!$F$2:$F$999,"SIN REPRESENTANTE"),COUNTIF(BASE_CONTROL!$F$2:$F$999,"SIN REPRESENTACIÓN"),COUNTIF(BASE_CONTROL!$F$2:$F$999,"SIN REPRESENTACION"),COUNTIF(BASE_CONTROL!$F$2:$F$999,"NO ASISTE"),COUNTIF(BASE_CONTROL!$G$2:$G$999,"SIN REPRESENTANTE"),COUNTIF(BASE_CONTROL!$G$2:$G$999,"SIN REPRESENTACIÓN"),COUNTIF(BASE_CONTROL!$G$2:$G$999,"SIN REPRESENTACION"),COUNTIF(BASE_CONTROL!$G$2:$G$999,"NO ASISTE"),COUNTIF(BASE_CONTROL!$H$2:$H$999,"SIN REPRESENTANTE"),COUNTIF(BASE_CONTROL!$H$2:$H$999,"SIN REPRESENTACIÓN"),COUNTIF(BASE_CONTROL!$H$2:$H$999,"SIN REPRESENTACION"),COUNTIF(BASE_CONTROL!$H$2:$H$999,"NO ASISTE"),COUNTIF(BASE_CONTROL!$I$2:$I$999,"SIN REPRESENTANTE"),COUNTIF(BASE_CONTROL!$I$2:$I$999,"SIN REPRESENTACIÓN"),COUNTIF(BASE_CONTROL!$I$2:$I$999,"SIN REPRESENTACION"),COUNTIF(BASE_CONTROL!$I$2:$I$999,"NO ASISTE"),COUNTIF(BASE_CONTROL!$J$2:$J$999,"SIN REPRESENTANTE"),COUNTIF(BASE_CONTROL!$J$2:$J$999,"SIN REPRESENTACIÓN"),COUNTIF(BASE_CONTROL!$J$2:$J$999,"SIN REPRESENTACION"),COUNTIF(BASE_CONTROL!$J$2:$J$999,"NO ASISTE"),COUNTIF(BASE_CONTROL!$K$2:$K$999,"SIN REPRESENTANTE"),COUNTIF(BASE_CONTROL!$K$2:$K$999,"SIN REPRESENTACIÓN"),COUNTIF(BASE_CONTROL!$K$2:$K$999,"SIN REPRESENTACION"),COUNTIF(BASE_CONTROL!$K$2:$K$999,"NO ASISTE"))
A7: =IF($B7="","",ROW()-4) | B7: JEFEMAYOR | D7: =IF($B7="","",SUM(COUNTIF(BASE_CONTROL!$D$2:$K$999,$B7))) | E7: =IF($B7="","",SUM(COUNTIFS(BASE_CONTROL!$D$2:$D$999,$B7,BASE_CONTROL!$B$2:$B$999,"CERRADA"),COUNTIFS(BASE_CONTROL!$D$2:$D$999,$B7,BASE_CONTROL!$B$2:$B$999,"TERMINADA"),COUNTIFS(BASE_CONTROL!$E$2:$E$999,$B7,BASE_CONTROL!$B$2:$B$999,"CERRADA"),COUNTIFS(BASE_CONTROL!$E$2:$E$999,$B7,BASE_CONTROL!$B$2:$B$999,"TERMINADA"),COUNTIFS(BASE_CONTROL!$F$2:$F$999,$B7,BASE_CONTROL!$B$2:$B$999,"CERRADA"),COUNTIFS(BASE_CONTROL!$F$2:$F$999,$B7,BASE_CONTROL!$B$2:$B$999,"TERMINADA"),COUNTIFS(BASE_CONTROL!$G$2:$G$999,$B7,BASE_CONTROL!$B$2:$B$999,"CERRADA"),COUNTIFS(BASE_CONTROL!$G$2:$G$999,$B7,BASE_CONTROL!$B$2:$B$999,"TERMINADA"),COUNTIFS(BASE_CONTROL!$H$2:$H$999,$B7,BASE_CONTROL!$B$2:$B$999,"CERRADA"),COUNTIFS(BASE_CONTROL!$H$2:$H$999,$B7,BASE_CONTROL!$B$2:$B$999,"TERMINADA"),COUNTIFS(BASE_CONTROL!$I$2:$I$999,$B7,BASE_CONTROL!$B$2:$B$999,"CERRADA"),COUNTIFS(BASE_CONTROL!$I$2:$I$999,$B7,BASE_CONTROL!$B$2:$B$999,"TERMINADA"),COUNTIFS(BASE_CONTROL!$J$2:$J$999,$B7,BASE_CONTROL!$B$2:$B$999,"CERRADA"),COUNTIFS(BASE_CONTROL!$J$2:$J$999,$B7,BASE_CONTROL!$B$2:$B$999,"TERMINADA"),COUNTIFS(BASE_CONTROL!$K$2:$K$999,$B7,BASE_CONTROL!$B$2:$B$999,"CERRADA"),COUNTIFS(BASE_CONTROL!$K$2:$K$999,$B7,BASE_CONTROL!$B$2:$B$999,"TERMINADA"))) | F7: =IF($B7="","",SUM(COUNTIFS(BASE_CONTROL!$D$2:$D$999,$B7,BASE_CONTROL!$B$2:$B$999,"PENDIENTE"),COUNTIFS(BASE_CONTROL!$E$2:$E$999,$B7,BASE_CONTROL!$B$2:$B$999,"PENDIENTE"),COUNTIFS(BASE_CONTROL!$F$2:$F$999,$B7,BASE_CONTROL!$B$2:$B$999,"PENDIENTE"),COUNTIFS(BASE_CONTROL!$G$2:$G$999,$B7,BASE_CONTROL!$B$2:$B$999,"PENDIENTE"),COUNTIFS(BASE_CONTROL!$H$2:$H$999,$B7,BASE_CONTROL!$B$2:$B$999,"PENDIENTE"),COUNTIFS(BASE_CONTROL!$I$2:$I$999,$B7,BASE_CONTROL!$B$2:$B$999,"PENDIENTE"),COUNTIFS(BASE_CONTROL!$J$2:$J$999,$B7,BASE_CONTROL!$B$2:$B$999,"PENDIENTE"),COUNTIFS(BASE_CONTROL!$K$2:$K$999,$B7,BASE_CONTROL!$B$2:$B$999,"PENDIENTE"))) | G7: =IF($B7="","",IF($D7=0,"",IFERROR(MAX(MAXIFS(BASE_CONTROL!$C$2:$C$999,BASE_CONTROL!$D$2:$D$999,$B7),MAXIFS(BASE_CONTROL!$C$2:$C$999,BASE_CONTROL!$E$2:$E$999,$B7),MAXIFS(BASE_CONTROL!$C$2:$C$999,BASE_CONTROL!$F$2:$F$999,$B7),MAXIFS(BASE_CONTROL!$C$2:$C$999,BASE_CONTROL!$G$2:$G$999,$B7),MAXIFS(BASE_CONTROL!$C$2:$C$999,BASE_CONTROL!$H$2:$H$999,$B7),MAXIFS(BASE_CONTROL!$C$2:$C$999,BASE_CONTROL!$I$2:$I$999,$B7),MAXIFS(BASE_CONTROL!$C$2:$C$999,BASE_CONTROL!$J$2:$J$999,$B7),MAXIFS(BASE_CONTROL!$C$2:$C$999,BASE_CONTROL!$K$2:$K$999,$B7)),"")))
A8: =IF($B8="","",ROW()-4) | B8: SECRETGEN | D8: =IF($B8="","",SUM(COUNTIF(BASE_CONTROL!$D$2:$K$999,$B8))) | E8: =IF($B8="","",SUM(COUNTIFS(BASE_CONTROL!$D$2:$D$999,$B8,BASE_CONTROL!$B$2:$B$999,"CERRADA"),COUNTIFS(BASE_CONTROL!$D$2:$D$999,$B8,BASE_CONTROL!$B$2:$B$999,"TERMINADA"),COUNTIFS(BASE_CONTROL!$E$2:$E$999,$B8,BASE_CONTROL!$B$2:$B$999,"CERRADA"),COUNTIFS(BASE_CONTROL!$E$2:$E$999,$B8,BASE_CONTROL!$B$2:$B$999,"TERMINADA"),COUNTIFS(BASE_CONTROL!$F$2:$F$999,$B8,BASE_CONTROL!$B$2:$B$999,"CERRADA"),COUNTIFS(BASE_CONTROL!$F$2:$F$999,$B8,BASE_CONTROL!$B$2:$B$999,"TERMINADA"),COUNTIFS(BASE_CONTROL!$G$2:$G$999,$B8,BASE_CONTROL!$B$2:$B$999,"CERRADA"),COUNTIFS(BASE_CONTROL!$G$2:$G$999,$B8,BASE_CONTROL!$B$2:$B$999,"TERMINADA"),COUNTIFS(BASE_CONTROL!$H$2:$H$999,$B8,BASE_CONTROL!$B$2:$B$999,"CERRADA"),COUNTIFS(BASE_CONTROL!$H$2:$H$999,$B8,BASE_CONTROL!$B$2:$B$999,"TERMINADA"),COUNTIFS(BASE_CONTROL!$I$2:$I$999,$B8,BASE_CONTROL!$B$2:$B$999,"CERRADA"),COUNTIFS(BASE_CONTROL!$I$2:$I$999,$B8,BASE_CONTROL!$B$2:$B$999,"TERMINADA"),COUNTIFS(BASE_CONTROL!$J$2:$J$999,$B8,BASE_CONTROL!$B$2:$B$999,"CERRADA"),COUNTIFS(BASE_CONTROL!$J$2:$J$999,$B8,BASE_CONTROL!$B$2:$B$999,"TERMINADA"),COUNTIFS(BASE_CONTROL!$K$2:$K$999,$B8,BASE_CONTROL!$B$2:$B$999,"CERRADA"),COUNTIFS(BASE_CONTROL!$K$2:$K$999,$B8,BASE_CONTROL!$B$2:$B$999,"TERMINADA"))) | F8: =IF($B8="","",SUM(COUNTIFS(BASE_CONTROL!$D$2:$D$999,$B8,BASE_CONTROL!$B$2:$B$999,"PENDIENTE"),COUNTIFS(BASE_CONTROL!$E$2:$E$999,$B8,BASE_CONTROL!$B$2:$B$999,"PENDIENTE"),COUNTIFS(BASE_CONTROL!$F$2:$F$999,$B8,BASE_CONTROL!$B$2:$B$999,"PENDIENTE"),COUNTIFS(BASE_CONTROL!$G$2:$G$999,$B8,BASE_CONTROL!$B$2:$B$999,"PENDIENTE"),COUNTIFS(BASE_CONTROL!$H$2:$H$999,$B8,BASE_CONTROL!$B$2:$B$999,"PENDIENTE"),COUNTIFS(BASE_CONTROL!$I$2:$I$999,$B8,BASE_CONTROL!$B$2:$B$999,"PENDIENTE"),COUNTIFS(BASE_CONTROL!$J$2:$J$999,$B8,BASE_CONTROL!$B$2:$B$999,"PENDIENTE"),COUNTIFS(BASE_CONTROL!$K$2:$K$999,$B8,BASE_CONTROL!$B$2:$B$999,"PENDIENTE"))) | G8: =IF($B8="","",IF($D8=0,"",IFERROR(MAX(MAXIFS(BASE_CONTROL!$C$2:$C$999,BASE_CONTROL!$D$2:$D$999,$B8),MAXIFS(BASE_CONTROL!$C$2:$C$999,BASE_CONTROL!$E$2:$E$999,$B8),MAXIFS(BASE_CONTROL!$C$2:$C$999,BASE_CONTROL!$F$2:$F$999,$B8),MAXIFS(BASE_CONTROL!$C$2:$C$999,BASE_CONTROL!$G$2:$G$999,$B8),MAXIFS(BASE_CONTROL!$C$2:$C$999,BASE_CONTROL!$H$2:$H$999,$B8),MAXIFS(BASE_CONTROL!$C$2:$C$999,BASE_CONTROL!$I$2:$I$999,$B8),MAXIFS(BASE_CONTROL!$C$2:$C$999,BASE_CONTROL!$J$2:$J$999,$B8),MAXIFS(BASE_CONTROL!$C$2:$C$999,BASE_CONTROL!$K$2:$K$999,$B8)),""))) | J8: TOP REPRESENTANTES
A9: =IF($B9="","",ROW()-4) | B9: SUBMAYOR | D9: =IF($B9="","",SUM(COUNTIF(BASE_CONTROL!$D$2:$K$999,$B9))) | E9: =IF($B9="","",SUM(COUNTIFS(BASE_CONTROL!$D$2:$D$999,$B9,BASE_CONTROL!$B$2:$B$999,"CERRADA"),COUNTIFS(BASE_CONTROL!$D$2:$D$999,$B9,BASE_CONTROL!$B$2:$B$999,"TERMINADA"),COUNTIFS(BASE_CONTROL!$E$2:$E$999,$B9,BASE_CONTROL!$B$2:$B$999,"CERRADA"),COUNTIFS(BASE_CONTROL!$E$2:$E$999,$B9,BASE_CONTROL!$B$2:$B$999,"TERMINADA"),COUNTIFS(BASE_CONTROL!$F$2:$F$999,$B9,BASE_CONTROL!$B$2:$B$999,"CERRADA"),COUNTIFS(BASE_CONTROL!$F$2:$F$999,$B9,BASE_CONTROL!$B$2:$B$999,"TERMINADA"),COUNTIFS(BASE_CONTROL!$G$2:$G$999,$B9,BASE_CONTROL!$B$2:$B$999,"CERRADA"),COUNTIFS(BASE_CONTROL!$G$2:$G$999,$B9,BASE_CONTROL!$B$2:$B$999,"TERMINADA"),COUNTIFS(BASE_CONTROL!$H$2:$H$999,$B9,BASE_CONTROL!$B$2:$B$999,"CERRADA"),COUNTIFS(BASE_CONTROL!$H$2:$H$999,$B9,BASE_CONTROL!$B$2:$B$999,"TERMINADA"),COUNTIFS(BASE_CONTROL!$I$2:$I$999,$B9,BASE_CONTROL!$B$2:$B$999,"CERRADA"),COUNTIFS(BASE_CONTROL!$I$2:$I$999,$B9,BASE_CONTROL!$B$2:$B$999,"TERMINADA"),COUNTIFS(BASE_CONTROL!$J$2:$J$999,$B9,BASE_CONTROL!$B$2:$B$999,"CERRADA"),COUNTIFS(BASE_CONTROL!$J$2:$J$999,$B9,BASE_CONTROL!$B$2:$B$999,"TERMINADA"),COUNTIFS(BASE_CONTROL!$K$2:$K$999,$B9,BASE_CONTROL!$B$2:$B$999,"CERRADA"),COUNTIFS(BASE_CONTROL!$K$2:$K$999,$B9,BASE_CONTROL!$B$2:$B$999,"TERMINADA"))) | F9: =IF($B9="","",SUM(COUNTIFS(BASE_CONTROL!$D$2:$D$999,$B9,BASE_CONTROL!$B$2:$B$999,"PENDIENTE"),COUNTIFS(BASE_CONTROL!$E$2:$E$999,$B9,BASE_CONTROL!$B$2:$B$999,"PENDIENTE"),COUNTIFS(BASE_CONTROL!$F$2:$F$999,$B9,BASE_CONTROL!$B$2:$B$999,"PENDIENTE"),COUNTIFS(BASE_CONTROL!$G$2:$G$999,$B9,BASE_CONTROL!$B$2:$B$999,"PENDIENTE"),COUNTIFS(BASE_CONTROL!$H$2:$H$999,$B9,BASE_CONTROL!$B$2:$B$999,"PENDIENTE"),COUNTIFS(BASE_CONTROL!$I$2:$I$999,$B9,BASE_CONTROL!$B$2:$B$999,"PENDIENTE"),COUNTIFS(BASE_CONTROL!$J$2:$J$999,$B9,BASE_CONTROL!$B$2:$B$999,"PENDIENTE"),COUNTIFS(BASE_CONTROL!$K$2:$K$999,$B9,BASE_CONTROL!$B$2:$B$999,"PENDIENTE"))) | G9: =IF($B9="","",IF($D9=0,"",IFERROR(MAX(MAXIFS(BASE_CONTROL!$C$2:$C$999,BASE_CONTROL!$D$2:$D$999,$B9),MAXIFS(BASE_CONTROL!$C$2:$C$999,BASE_CONTROL!$E$2:$E$999,$B9),MAXIFS(BASE_CONTROL!$C$2:$C$999,BASE_CONTROL!$F$2:$F$999,$B9),MAXIFS(BASE_CONTROL!$C$2:$C$999,BASE_CONTROL!$G$2:$G$999,$B9),MAXIFS(BASE_CONTROL!$C$2:$C$999,BASE_CONTROL!$H$2:$H$999,$B9),MAXIFS(BASE_CONTROL!$C$2:$C$999,BASE_CONTROL!$I$2:$I$999,$B9),MAXIFS(BASE_CONTROL!$C$2:$C$999,BASE_CONTROL!$J$2:$J$999,$B9),MAXIFS(BASE_CONTROL!$C$2:$C$999,BASE_CONTROL!$K$2:$K$999,$B9)),""))) | J9: N° | K9: REPRESENTANTE | L9: TOTAL | M9: PENDIENTES
A10: =IF($B10="","",ROW()-4) | B10: DIRECPERS | D10: =IF($B10="","",SUM(COUNTIF(BASE_CONTROL!$D$2:$K$999,$B10))) | E10: =IF($B10="","",SUM(COUNTIFS(BASE_CONTROL!$D$2:$D$999,$B10,BASE_CONTROL!$B$2:$B$999,"CERRADA"),COUNTIFS(BASE_CONTROL!$D$2:$D$999,$B10,BASE_CONTROL!$B$2:$B$999,"TERMINADA"),COUNTIFS(BASE_CONTROL!$E$2:$E$999,$B10,BASE_CONTROL!$B$2:$B$999,"CERRADA"),COUNTIFS(BASE_CONTROL!$E$2:$E$999,$B10,BASE_CONTROL!$B$2:$B$999,"TERMINADA"),COUNTIFS(BASE_CONTROL!$F$2:$F$999,$B10,BASE_CONTROL!$B$2:$B$999,"CERRADA"),COUNTIFS(BASE_CONTROL!$F$2:$F$999,$B10,BASE_CONTROL!$B$2:$B$999,"TERMINADA"),COUNTIFS(BASE_CONTROL!$G$2:$G$999,$B10,BASE_CONTROL!$B$2:$B$999,"CERRADA"),COUNTIFS(BASE_CONTROL!$G$2:$G$999,$B10,BASE_CONTROL!$B$2:$B$999,"TERMINADA"),COUNTIFS(BASE_CONTROL!$H$2:$H$999,$B10,BASE_CONTROL!$B$2:$B$999,"CERRADA"),COUNTIFS(BASE_CONTROL!$H$2:$H$999,$B10,BASE_CONTROL!$B$2:$B$999,"TERMINADA"),COUNTIFS(BASE_CONTROL!$I$2:$I$999,$B10,BASE_CONTROL!$B$2:$B$999,"CERRADA"),COUNTIFS(BASE_CONTROL!$I$2:$I$999,$B10,BASE_CONTROL!$B$2:$B$999,"TERMINADA"),COUNTIFS(BASE_CONTROL!$J$2:$J$999,$B10,BASE_CONTROL!$B$2:$B$999,"CERRADA"),COUNTIFS(BASE_CONTROL!$J$2:$J$999,$B10,BASE_CONTROL!$B$2:$B$999,"TERMINADA"),COUNTIFS(BASE_CONTROL!$K$2:$K$999,$B10,BASE_CONTROL!$B$2:$B$999,"CERRADA"),COUNTIFS(BASE_CONTROL!$K$2:$K$999,$B10,BASE_CONTROL!$B$2:$B$999,"TERMINADA"))) | F10: =IF($B10="","",SUM(COUNTIFS(BASE_CONTROL!$D$2:$D$999,$B10,BASE_CONTROL!$B$2:$B$999,"PENDIENTE"),COUNTIFS(BASE_CONTROL!$E$2:$E$999,$B10,BASE_CONTROL!$B$2:$B$999,"PENDIENTE"),COUNTIFS(BASE_CONTROL!$F$2:$F$999,$B10,BASE_CONTROL!$B$2:$B$999,"PENDIENTE"),COUNTIFS(BASE_CONTROL!$G$2:$G$999,$B10,BASE_CONTROL!$B$2:$B$999,"PENDIENTE"),COUNTIFS(BASE_CONTROL!$H$2:$H$999,$B10,BASE_CONTROL!$B$2:$B$999,"PENDIENTE"),COUNTIFS(BASE_CONTROL!$I$2:$I$999,$B10,BASE_CONTROL!$B$2:$B$999,"PENDIENTE"),COUNTIFS(BASE_CONTROL!$J$2:$J$999,$B10,BASE_CONTROL!$B$2:$B$999,"PENDIENTE"),COUNTIFS(BASE_CONTROL!$K$2:$K$999,$B10,BASE_CONTROL!$B$2:$B$999,"PENDIENTE"))) | G10: =IF($B10="","",IF($D10=0,"",IFERROR(MAX(MAXIFS(BASE_CONTROL!$C$2:$C$999,BASE_CONTROL!$D$2:$D$999,$B10),MAXIFS(BASE_CONTROL!$C$2:$C$999,BASE_CONTROL!$E$2:$E$999,$B10),MAXIFS(BASE_CONTROL!$C$2:$C$999,BASE_CONTROL!$F$2:$F$999,$B10),MAXIFS(BASE_CONTROL!$C$2:$C$999,BASE_CONTROL!$G$2:$G$999,$B10),MAXIFS(BASE_CONTROL!$C$2:$C$999,BASE_CONTROL!$H$2:$H$999,$B10),MAXIFS(BASE_CONTROL!$C$2:$C$999,BASE_CONTROL!$I$2:$I$999,$B10),MAXIFS(BASE_CONTROL!$C$2:$C$999,BASE_CONTROL!$J$2:$J$999,$B10),MAXIFS(BASE_CONTROL!$C$2:$C$999,BASE_CONTROL!$K$2:$K$999,$B10)),""))) | J10: 1 | K10: =IFERROR(INDEX($B$5:$B$504,MATCH(L10,$D$5:$D$504,0)),"") | L10: =IFERROR(LARGE($D$5:$D$504,J10),"") | M10: =IF(K10="","",SUMIF($B$5:$B$504,K10,$F$5:$F$504))
A11: =IF($B11="","",ROW()-4) | B11: DIRECTEMAR | D11: =IF($B11="","",SUM(COUNTIF(BASE_CONTROL!$D$2:$K$999,$B11))) | E11: =IF($B11="","",SUM(COUNTIFS(BASE_CONTROL!$D$2:$D$999,$B11,BASE_CONTROL!$B$2:$B$999,"CERRADA"),COUNTIFS(BASE_CONTROL!$D$2:$D$999,$B11,BASE_CONTROL!$B$2:$B$999,"TERMINADA"),COUNTIFS(BASE_CONTROL!$E$2:$E$999,$B11,BASE_CONTROL!$B$2:$B$999,"CERRADA"),COUNTIFS(BASE_CONTROL!$E$2:$E$999,$B11,BASE_CONTROL!$B$2:$B$999,"TERMINADA"),COUNTIFS(BASE_CONTROL!$F$2:$F$999,$B11,BASE_CONTROL!$B$2:$B$999,"CERRADA"),COUNTIFS(BASE_CONTROL!$F$2:$F$999,$B11,BASE_CONTROL!$B$2:$B$999,"TERMINADA"),COUNTIFS(BASE_CONTROL!$G$2:$G$999,$B11,BASE_CONTROL!$B$2:$B$999,"CERRADA"),COUNTIFS(BASE_CONTROL!$G$2:$G$999,$B11,BASE_CONTROL!$B$2:$B$999,"TERMINADA"),COUNTIFS(BASE_CONTROL!$H$2:$H$999,$B11,BASE_CONTROL!$B$2:$B$999,"CERRADA"),COUNTIFS(BASE_CONTROL!$H$2:$H$999,$B11,BASE_CONTROL!$B$2:$B$999,"TERMINADA"),COUNTIFS(BASE_CONTROL!$I$2:$I$999,$B11,BASE_CONTROL!$B$2:$B$999,"CERRADA"),COUNTIFS(BASE_CONTROL!$I$2:$I$999,$B11,BASE_CONTROL!$B$2:$B$999,"TERMINADA"),COUNTIFS(BASE_CONTROL!$J$2:$J$999,$B11,BASE_CONTROL!$B$2:$B$999,"CERRADA"),COUNTIFS(BASE_CONTROL!$J$2:$J$999,$B11,BASE_CONTROL!$B$2:$B$999,"TERMINADA"),COUNTIFS(BASE_CONTROL!$K$2:$K$999,$B11,BASE_CONTROL!$B$2:$B$999,"CERRADA"),COUNTIFS(BASE_CONTROL!$K$2:$K$999,$B11,BASE_CONTROL!$B$2:$B$999,"TERMINADA"))) | F11: =IF($B11="","",SUM(COUNTIFS(BASE_CONTROL!$D$2:$D$999,$B11,BASE_CONTROL!$B$2:$B$999,"PENDIENTE"),COUNTIFS(BASE_CONTROL!$E$2:$E$999,$B11,BASE_CONTROL!$B$2:$B$999,"PENDIENTE"),COUNTIFS(BASE_CONTROL!$F$2:$F$999,$B11,BASE_CONTROL!$B$2:$B$999,"PENDIENTE"),COUNTIFS(BASE_CONTROL!$G$2:$G$999,$B11,BASE_CONTROL!$B$2:$B$999,"PENDIENTE"),COUNTIFS(BASE_CONTROL!$H$2:$H$999,$B11,BASE_CONTROL!$B$2:$B$999,"PENDIENTE"),COUNTIFS(BASE_CONTROL!$I$2:$I$999,$B11,BASE_CONTROL!$B$2:$B$999,"PENDIENTE"),COUNTIFS(BASE_CONTROL!$J$2:$J$999,$B11,BASE_CONTROL!$B$2:$B$999,"PENDIENTE"),COUNTIFS(BASE_CONTROL!$K$2:$K$999,$B11,BASE_CONTROL!$B$2:$B$999,"PENDIENTE"))) | G11: =IF($B11="","",IF($D11=0,"",IFERROR(MAX(MAXIFS(BASE_CONTROL!$C$2:$C$999,BASE_CONTROL!$D$2:$D$999,$B11),MAXIFS(BASE_CONTROL!$C$2:$C$999,BASE_CONTROL!$E$2:$E$999,$B11),MAXIFS(BASE_CONTROL!$C$2:$C$999,BASE_CONTROL!$F$2:$F$999,$B11),MAXIFS(BASE_CONTROL!$C$2:$C$999,BASE_CONTROL!$G$2:$G$999,$B11),MAXIFS(BASE_CONTROL!$C$2:$C$999,BASE_CONTROL!$H$2:$H$999,$B11),MAXIFS(BASE_CONTROL!$C$2:$C$999,BASE_CONTROL!$I$2:$I$999,$B11),MAXIFS(BASE_CONTROL!$C$2:$C$999,BASE_CONTROL!$J$2:$J$999,$B11),MAXIFS(BASE_CONTROL!$C$2:$C$999,BASE_CONTROL!$K$2:$K$999,$B11)),""))) | J11: 2 | K11: =IFERROR(INDEX($B$5:$B$504,MATCH(L11,$D$5:$D$504,0)),"") | L11: =IFERROR(LARGE($D$5:$D$504,J11),"") | M11: =IF(K11="","",SUMIF($B$5:$B$504,K11,$F$5:$F$504))
A12: =IF($B12="","",ROW()-4) | B12: DIRINTA | D12: =IF($B12="","",SUM(COUNTIF(BASE_CONTROL!$D$2:$K$999,$B12))) | E12: =IF($B12="","",SUM(COUNTIFS(BASE_CONTROL!$D$2:$D$999,$B12,BASE_CONTROL!$B$2:$B$999,"CERRADA"),COUNTIFS(BASE_CONTROL!$D$2:$D$999,$B12,BASE_CONTROL!$B$2:$B$999,"TERMINADA"),COUNTIFS(BASE_CONTROL!$E$2:$E$999,$B12,BASE_CONTROL!$B$2:$B$999,"CERRADA"),COUNTIFS(BASE_CONTROL!$E$2:$E$999,$B12,BASE_CONTROL!$B$2:$B$999,"TERMINADA"),COUNTIFS(BASE_CONTROL!$F$2:$F$999,$B12,BASE_CONTROL!$B$2:$B$999,"CERRADA"),COUNTIFS(BASE_CONTROL!$F$2:$F$999,$B12,BASE_CONTROL!$B$2:$B$999,"TERMINADA"),COUNTIFS(BASE_CONTROL!$G$2:$G$999,$B12,BASE_CONTROL!$B$2:$B$999,"CERRADA"),COUNTIFS(BASE_CONTROL!$G$2:$G$999,$B12,BASE_CONTROL!$B$2:$B$999,"TERMINADA"),COUNTIFS(BASE_CONTROL!$H$2:$H$999,$B12,BASE_CONTROL!$B$2:$B$999,"CERRADA"),COUNTIFS(BASE_CONTROL!$H$2:$H$999,$B12,BASE_CONTROL!$B$2:$B$999,"TERMINADA"),COUNTIFS(BASE_CONTROL!$I$2:$I$999,$B12,BASE_CONTROL!$B$2:$B$999,"CERRADA"),COUNTIFS(BASE_CONTROL!$I$2:$I$999,$B12,BASE_CONTROL!$B$2:$B$999,"TERMINADA"),COUNTIFS(BASE_CONTROL!$J$2:$J$999,$B12,BASE_CONTROL!$B$2:$B$999,"CERRADA"),COUNTIFS(BASE_CONTROL!$J$2:$J$999,$B12,BASE_CONTROL!$B$2:$B$999,"TERMINADA"),COUNTIFS(BASE_CONTROL!$K$2:$K$999,$B12,BASE_CONTROL!$B$2:$B$999,"CERRADA"),COUNTIFS(BASE_CONTROL!$K$2:$K$999,$B12,BASE_CONTROL!$B$2:$B$999,"TERMINADA"))) | F12: =IF($B12="","",SUM(COUNTIFS(BASE_CONTROL!$D$2:$D$999,$B12,BASE_CONTROL!$B$2:$B$999,"PENDIENTE"),COUNTIFS(BASE_CONTROL!$E$2:$E$999,$B12,BASE_CONTROL!$B$2:$B$999,"PENDIENTE"),COUNTIFS(BASE_CONTROL!$F$2:$F$999,$B12,BASE_CONTROL!$B$2:$B$999,"PENDIENTE"),COUNTIFS(BASE_CONTROL!$G$2:$G$999,$B12,BASE_CONTROL!$B$2:$B$999,"PENDIENTE"),COUNTIFS(BASE_CONTROL!$H$2:$H$999,$B12,BASE_CONTROL!$B$2:$B$999,"PENDIENTE"),COUNTIFS(BASE_CONTROL!$I$2:$I$999,$B12,BASE_CONTROL!$B$2:$B$999,"PENDIENTE"),COUNTIFS(BASE_CONTROL!$J$2:$J$999,$B12,BASE_CONTROL!$B$2:$B$999,"PENDIENTE"),COUNTIFS(BASE_CONTROL!$K$2:$K$999,$B12,BASE_CONTROL!$B$2:$B$999,"PENDIENTE"))) | G12: =IF($B12="","",IF($D12=0,"",IFERROR(MAX(MAXIFS(BASE_CONTROL!$C$2:$C$999,BASE_CONTROL!$D$2:$D$999,$B12),MAXIFS(BASE_CONTROL!$C$2:$C$999,BASE_CONTROL!$E$2:$E$999,$B12),MAXIFS(BASE_CONTROL!$C$2:$C$999,BASE_CONTROL!$F$2:$F$999,$B12),MAXIFS(BASE_CONTROL!$C$2:$C$999,BASE_CONTROL!$G$2:$G$999,$B12),MAXIFS(BASE_CONTROL!$C$2:$C$999,BASE_CONTROL!$H$2:$H$999,$B12),MAXIFS(BASE_CONTROL!$C$2:$C$999,BASE_CONTROL!$I$2:$I$999,$B12),MAXIFS(BASE_CONTROL!$C$2:$C$999,BASE_CONTROL!$J$2:$J$999,$B12),MAXIFS(BASE_CONTROL!$C$2:$C$999,BASE_CONTROL!$K$2:$K$999,$B12)),""))) | J12: 3 | K12: =IFERROR(INDEX($B$5:$B$504,MATCH(L12,$D$5:$D$504,0)),"") | L12: =IFERROR(LARGE($D$5:$D$504,J12),"") | M12: =IF(K12="","",SUMIF($B$5:$B$504,K12,$F$5:$F$504))
A13: =IF($B13="","",ROW()-4) | B13: DIRECFIN | D13: =IF($B13="","",SUM(COUNTIF(BASE_CONTROL!$D$2:$K$999,$B13))) | E13: =IF($B13="","",SUM(COUNTIFS(BASE_CONTROL!$D$2:$D$999,$B13,BASE_CONTROL!$B$2:$B$999,"CERRADA"),COUNTIFS(BASE_CONTROL!$D$2:$D$999,$B13,BASE_CONTROL!$B$2:$B$999,"TERMINADA"),COUNTIFS(BASE_CONTROL!$E$2:$E$999,$B13,BASE_CONTROL!$B$2:$B$999,"CERRADA"),COUNTIFS(BASE_CONTROL!$E$2:$E$999,$B13,BASE_CONTROL!$B$2:$B$999,"TERMINADA"),COUNTIFS(BASE_CONTROL!$F$2:$F$999,$B13,BASE_CONTROL!$B$2:$B$999,"CERRADA"),COUNTIFS(BASE_CONTROL!$F$2:$F$999,$B13,BASE_CONTROL!$B$2:$B$999,"TERMINADA"),COUNTIFS(BASE_CONTROL!$G$2:$G$999,$B13,BASE_CONTROL!$B$2:$B$999,"CERRADA"),COUNTIFS(BASE_CONTROL!$G$2:$G$999,$B13,BASE_CONTROL!$B$2:$B$999,"TERMINADA"),COUNTIFS(BASE_CONTROL!$H$2:$H$999,$B13,BASE_CONTROL!$B$2:$B$999,"CERRADA"),COUNTIFS(BASE_CONTROL!$H$2:$H$999,$B13,BASE_CONTROL!$B$2:$B$999,"TERMINADA"),COUNTIFS(BASE_CONTROL!$I$2:$I$999,$B13,BASE_CONTROL!$B$2:$B$999,"CERRADA"),COUNTIFS(BASE_CONTROL!$I$2:$I$999,$B13,BASE_CONTROL!$B$2:$B$999,"TERMINADA"),COUNTIFS(BASE_CONTROL!$J$2:$J$999,$B13,BASE_CONTROL!$B$2:$B$999,"CERRADA"),COUNTIFS(BASE_CONTROL!$J$2:$J$999,$B13,BASE_CONTROL!$B$2:$B$999,"TERMINADA"),COUNTIFS(BASE_CONTROL!$K$2:$K$999,$B13,BASE_CONTROL!$B$2:$B$999,"CERRADA"),COUNTIFS(BASE_CONTROL!$K$2:$K$999,$B13,BASE_CONTROL!$B$2:$B$999,"TERMINADA"))) | F13: =IF($B13="","",SUM(COUNTIFS(BASE_CONTROL!$D$2:$D$999,$B13,BASE_CONTROL!$B$2:$B$999,"PENDIENTE"),COUNTIFS(BASE_CONTROL!$E$2:$E$999,$B13,BASE_CONTROL!$B$2:$B$999,"PENDIENTE"),COUNTIFS(BASE_CONTROL!$F$2:$F$999,$B13,BASE_CONTROL!$B$2:$B$999,"PENDIENTE"),COUNTIFS(BASE_CONTROL!$G$2:$G$999,$B13,BASE_CONTROL!$B$2:$B$999,"PENDIENTE"),COUNTIFS(BASE_CONTROL!$H$2:$H$999,$B13,BASE_CONTROL!$B$2:$B$999,"PENDIENTE"),COUNTIFS(BASE_CONTROL!$I$2:$I$999,$B13,BASE_CONTROL!$B$2:$B$999,"PENDIENTE"),COUNTIFS(BASE_CONTROL!$J$2:$J$999,$B13,BASE_CONTROL!$B$2:$B$999,"PENDIENTE"),COUNTIFS(BASE_CONTROL!$K$2:$K$999,$B13,BASE_CONTROL!$B$2:$B$999,"PENDIENTE"))) | G13: =IF($B13="","",IF($D13=0,"",IFERROR(MAX(MAXIFS(BASE_CONTROL!$C$2:$C$999,BASE_CONTROL!$D$2:$D$999,$B13),MAXIFS(BASE_CONTROL!$C$2:$C$999,BASE_CONTROL!$E$2:$E$999,$B13),MAXIFS(BASE_CONTROL!$C$2:$C$999,BASE_CONTROL!$F$2:$F$999,$B13),MAXIFS(BASE_CONTROL!$C$2:$C$999,BASE_CONTROL!$G$2:$G$999,$B13),MAXIFS(BASE_CONTROL!$C$2:$C$999,BASE_CONTROL!$H$2:$H$999,$B13),MAXIFS(BASE_CONTROL!$C$2:$C$999,BASE_CONTROL!$I$2:$I$999,$B13),MAXIFS(BASE_CONTROL!$C$2:$C$999,BASE_CONTROL!$J$2:$J$999,$B13),MAXIFS(BASE_CONTROL!$C$2:$C$999,BASE_CONTROL!$K$2:$K$999,$B13)),""))) | J13: 4 | K13: =IFERROR(INDEX($B$5:$B$504,MATCH(L13,$D$5:$D$504,0)),"") | L13: =IFERROR(LARGE($D$5:$D$504,J13),"") | M13: =IF(K13="","",SUMIF($B$5:$B$504,K13,$F$5:$F$504))
A14: =IF($B14="","",ROW()-4) | B14: DIRECSERV | D14: =IF($B14="","",SUM(COUNTIF(BASE_CONTROL!$D$2:$K$999,$B14))) | E14: =IF($B14="","",SUM(COUNTIFS(BASE_CONTROL!$D$2:$D$999,$B14,BASE_CONTROL!$B$2:$B$999,"CERRADA"),COUNTIFS(BASE_CONTROL!$D$2:$D$999,$B14,BASE_CONTROL!$B$2:$B$999,"TERMINADA"),COUNTIFS(BASE_CONTROL!$E$2:$E$999,$B14,BASE_CONTROL!$B$2:$B$999,"CERRADA"),COUNTIFS(BASE_CONTROL!$E$2:$E$999,$B14,BASE_CONTROL!$B$2:$B$999,"TERMINADA"),COUNTIFS(BASE_CONTROL!$F$2:$F$999,$B14,BASE_CONTROL!$B$2:$B$999,"CERRADA"),COUNTIFS(BASE_CONTROL!$F$2:$F$999,$B14,BASE_CONTROL!$B$2:$B$999,"TERMINADA"),COUNTIFS(BASE_CONTROL!$G$2:$G$999,$B14,BASE_CONTROL!$B$2:$B$999,"CERRADA"),COUNTIFS(BASE_CONTROL!$G$2:$G$999,$B14,BASE_CONTROL!$B$2:$B$999,"TERMINADA"),COUNTIFS(BASE_CONTROL!$H$2:$H$999,$B14,BASE_CONTROL!$B$2:$B$999,"CERRADA"),COUNTIFS(BASE_CONTROL!$H$2:$H$999,$B14,BASE_CONTROL!$B$2:$B$999,"TERMINADA"),COUNTIFS(BASE_CONTROL!$I$2:$I$999,$B14,BASE_CONTROL!$B$2:$B$999,"CERRADA"),COUNTIFS(BASE_CONTROL!$I$2:$I$999,$B14,BASE_CONTROL!$B$2:$B$999,"TERMINADA"),COUNTIFS(BASE_CONTROL!$J$2:$J$999,$B14,BASE_CONTROL!$B$2:$B$999,"CERRADA"),COUNTIFS(BASE_CONTROL!$J$2:$J$999,$B14,BASE_CONTROL!$B$2:$B$999,"TERMINADA"),COUNTIFS(BASE_CONTROL!$K$2:$K$999,$B14,BASE_CONTROL!$B$2:$B$999,"CERRADA"),COUNTIFS(BASE_CONTROL!$K$2:$K$999,$B14,BASE_CONTROL!$B$2:$B$999,"TERMINADA"))) | F14: =IF($B14="","",SUM(COUNTIFS(BASE_CONTROL!$D$2:$D$999,$B14,BASE_CONTROL!$B$2:$B$999,"PENDIENTE"),COUNTIFS(BASE_CONTROL!$E$2:$E$999,$B14,BASE_CONTROL!$B$2:$B$999,"PENDIENTE"),COUNTIFS(BASE_CONTROL!$F$2:$F$999,$B14,BASE_CONTROL!$B$2:$B$999,"PENDIENTE"),COUNTIFS(BASE_CONTROL!$G$2:$G$999,$B14,BASE_CONTROL!$B$2:$B$999,"PENDIENTE"),COUNTIFS(BASE_CONTROL!$H$2:$H$999,$B14,BASE_CONTROL!$B$2:$B$999,"PENDIENTE"),COUNTIFS(BASE_CONTROL!$I$2:$I$999,$B14,BASE_CONTROL!$B$2:$B$999,"PENDIENTE"),COUNTIFS(BASE_CONTROL!$J$2:$J$999,$B14,BASE_CONTROL!$B$2:$B$999,"PENDIENTE"),COUNTIFS(BASE_CONTROL!$K$2:$K$999,$B14,BASE_CONTROL!$B$2:$B$999,"PENDIENTE"))) | G14: =IF($B14="","",IF($D14=0,"",IFERROR(MAX(MAXIFS(BASE_CONTROL!$C$2:$C$999,BASE_CONTROL!$D$2:$D$999,$B14),MAXIFS(BASE_CONTROL!$C$2:$C$999,BASE_CONTROL!$E$2:$E$999,$B14),MAXIFS(BASE_CONTROL!$C$2:$C$999,BASE_CONTROL!$F$2:$F$999,$B14),MAXIFS(BASE_CONTROL!$C$2:$C$999,BASE_CONTROL!$G$2:$G$999,$B14),MAXIFS(BASE_CONTROL!$C$2:$C$999,BASE_CONTROL!$H$2:$H$999,$B14),MAXIFS(BASE_CONTROL!$C$2:$C$999,BASE_CONTROL!$I$2:$I$999,$B14),MAXIFS(BASE_CONTROL!$C$2:$C$999,BASE_CONTROL!$J$2:$J$999,$B14),MAXIFS(BASE_CONTROL!$C$2:$C$999,BASE_CONTROL!$K$2:$K$999,$B14)),""))) | J14: 5 | K14: =IFERROR(INDEX($B$5:$B$504,MATCH(L14,$D$5:$D$504,0)),"") | L14: =IFERROR(LARGE($D$5:$D$504,J14),"") | M14: =IF(K14="","",SUMIF($B$5:$B$504,K14,$F$5:$F$504))
A15: =IF($B15="","",ROW()-4) | B15: DIREBIEN | D15: =IF($B15="","",SUM(COUNTIF(BASE_CONTROL!$D$2:$K$999,$B15))) | E15: =IF($B15="","",SUM(COUNTIFS(BASE_CONTROL!$D$2:$D$999,$B15,BASE_CONTROL!$B$2:$B$999,"CERRADA"),COUNTIFS(BASE_CONTROL!$D$2:$D$999,$B15,BASE_CONTROL!$B$2:$B$999,"TERMINADA"),COUNTIFS(BASE_CONTROL!$E$2:$E$999,$B15,BASE_CONTROL!$B$2:$B$999,"CERRADA"),COUNTIFS(BASE_CONTROL!$E$2:$E$999,$B15,BASE_CONTROL!$B$2:$B$999,"TERMINADA"),COUNTIFS(BASE_CONTROL!$F$2:$F$999,$B15,BASE_CONTROL!$B$2:$B$999,"CERRADA"),COUNTIFS(BASE_CONTROL!$F$2:$F$999,$B15,BASE_CONTROL!$B$2:$B$999,"TERMINADA"),COUNTIFS(BASE_CONTROL!$G$2:$G$999,$B15,BASE_CONTROL!$B$2:$B$999,"CERRADA"),COUNTIFS(BASE_CONTROL!$G$2:$G$999,$B15,BASE_CONTROL!$B$2:$B$999,"TERMINADA"),COUNTIFS(BASE_CONTROL!$H$2:$H$999,$B15,BASE_CONTROL!$B$2:$B$999,"CERRADA"),COUNTIFS(BASE_CONTROL!$H$2:$H$999,$B15,BASE_CONTROL!$B$2:$B$999,"TERMINADA"),COUNTIFS(BASE_CONTROL!$I$2:$I$999,$B15,BASE_CONTROL!$B$2:$B$999,"CERRADA"),COUNTIFS(BASE_CONTROL!$I$2:$I$999,$B15,BASE_CONTROL!$B$2:$B$999,"TERMINADA"),COUNTIFS(BASE_CONTROL!$J$2:$J$999,$B15,BASE_CONTROL!$B$2:$B$999,"CERRADA"),COUNTIFS(BASE_CONTROL!$J$2:$J$999,$B15,BASE_CONTROL!$B$2:$B$999,"TERMINADA"),COUNTIFS(BASE_CONTROL!$K$2:$K$999,$B15,BASE_CONTROL!$B$2:$B$999,"CERRADA"),COUNTIFS(BASE_CONTROL!$K$2:$K$999,$B15,BASE_CONTROL!$B$2:$B$999,"TERMINADA"))) | F15: =IF($B15="","",SUM(COUNTIFS(BASE_CONTROL!$D$2:$D$999,$B15,BASE_CONTROL!$B$2:$B$999,"PENDIENTE"),COUNTIFS(BASE_CONTROL!$E$2:$E$999,$B15,BASE_CONTROL!$B$2:$B$999,"PENDIENTE"),COUNTIFS(BASE_CONTROL!$F$2:$F$999,$B15,BASE_CONTROL!$B$2:$B$999,"PENDIENTE"),COUNTIFS(BASE_CONTROL!$G$2:$G$999,$B15,BASE_CONTROL!$B$2:$B$999,"PENDIENTE"),COUNTIFS(BASE_CONTROL!$H$2:$H$999,$B15,BASE_CONTROL!$B$2:$B$999,"PENDIENTE"),COUNTIFS(BASE_CONTROL!$I$2:$I$999,$B15,BASE_CONTROL!$B$2:$B$999,"PENDIENTE"),COUNTIFS(BASE_CONTROL!$J$2:$J$999,$B15,BASE_CONTROL!$B$2:$B$999,"PENDIENTE"),COUNTIFS(BASE_CONTROL!$K$2:$K$999,$B15,BASE_CONTROL!$B$2:$B$999,"PENDIENTE"))) | G15: =IF($B15="","",IF($D15=0,"",IFERROR(MAX(MAXIFS(BASE_CONTROL!$C$2:$C$999,BASE_CONTROL!$D$2:$D$999,$B15),MAXIFS(BASE_CONTROL!$C$2:$C$999,BASE_CONTROL!$E$2:$E$999,$B15),MAXIFS(BASE_CONTROL!$C$2:$C$999,BASE_CONTROL!$F$2:$F$999,$B15),MAXIFS(BASE_CONTROL!$C$2:$C$999,BASE_CONTROL!$G$2:$G$999,$B15),MAXIFS(BASE_CONTROL!$C$2:$C$999,BASE_CONTROL!$H$2:$H$999,$B15),MAXIFS(BASE_CONTROL!$C$2:$C$999,BASE_CONTROL!$I$2:$I$999,$B15),MAXIFS(BASE_CONTROL!$C$2:$C$999,BASE_CONTROL!$J$2:$J$999,$B15),MAXIFS(BASE_CONTROL!$C$2:$C$999,BASE_CONTROL!$K$2:$K$999,$B15)),""))) | J15: 6 | K15: =IFERROR(INDEX($B$5:$B$504,MATCH(L15,$D$5:$D$504,0)),"") | L15: =IFERROR(LARGE($D$5:$D$504,J15),"") | M15: =IF(K15="","",SUMIF($B$5:$B$504,K15,$F$5:$F$504))
A16: =IF($B16="","",ROW()-4) | B16: DIRECABAS | D16: =IF($B16="","",SUM(COUNTIF(BASE_CONTROL!$D$2:$K$999,$B16))) | E16: =IF($B16="","",SUM(COUNTIFS(BASE_CONTROL!$D$2:$D$999,$B16,BASE_CONTROL!$B$2:$B$999,"CERRADA"),COUNTIFS(BASE_CONTROL!$D$2:$D$999,$B16,BASE_CONTROL!$B$2:$B$999,"TERMINADA"),COUNTIFS(BASE_CONTROL!$E$2:$E$999,$B16,BASE_CONTROL!$B$2:$B$999,"CERRADA"),COUNTIFS(BASE_CONTROL!$E$2:$E$999,$B16,BASE_CONTROL!$B$2:$B$999,"TERMINADA"),COUNTIFS(BASE_CONTROL!$F$2:$F$999,$B16,BASE_CONTROL!$B$2:$B$999,"CERRADA"),COUNTIFS(BASE_CONTROL!$F$2:$F$999,$B16,BASE_CONTROL!$B$2:$B$999,"TERMINADA"),COUNTIFS(BASE_CONTROL!$G$2:$G$999,$B16,BASE_CONTROL!$B$2:$B$999,"CERRADA"),COUNTIFS(BASE_CONTROL!$G$2:$G$999,$B16,BASE_CONTROL!$B$2:$B$999,"TERMINADA"),COUNTIFS(BASE_CONTROL!$H$2:$H$999,$B16,BASE_CONTROL!$B$2:$B$999,"CERRADA"),COUNTIFS(BASE_CONTROL!$H$2:$H$999,$B16,BASE_CONTROL!$B$2:$B$999,"TERMINADA"),COUNTIFS(BASE_CONTROL!$I$2:$I$999,$B16,BASE_CONTROL!$B$2:$B$999,"CERRADA"),COUNTIFS(BASE_CONTROL!$I$2:$I$999,$B16,BASE_CONTROL!$B$2:$B$999,"TERMINADA"),COUNTIFS(BASE_CONTROL!$J$2:$J$999,$B16,BASE_CONTROL!$B$2:$B$999,"CERRADA"),COUNTIFS(BASE_CONTROL!$J$2:$J$999,$B16,BASE_CONTROL!$B$2:$B$999,"TERMINADA"),COUNTIFS(BASE_CONTROL!$K$2:$K$999,$B16,BASE_CONTROL!$B$2:$B$999,"CERRADA"),COUNTIFS(BASE_CONTROL!$K$2:$K$999,$B16,BASE_CONTROL!$B$2:$B$999,"TERMINADA"))) | F16: =IF($B16="","",SUM(COUNTIFS(BASE_CONTROL!$D$2:$D$999,$B16,BASE_CONTROL!$B$2:$B$999,"PENDIENTE"),COUNTIFS(BASE_CONTROL!$E$2:$E$999,$B16,BASE_CONTROL!$B$2:$B$999,"PENDIENTE"),COUNTIFS(BASE_CONTROL!$F$2:$F$999,$B16,BASE_CONTROL!$B$2:$B$999,"PENDIENTE"),COUNTIFS(BASE_CONTROL!$G$2:$G$999,$B16,BASE_CONTROL!$B$2:$B$999,"PENDIENTE"),COUNTIFS(BASE_CONTROL!$H$2:$H$999,$B16,BASE_CONTROL!$B$2:$B$999,"PENDIENTE"),COUNTIFS(BASE_CONTROL!$I$2:$I$999,$B16,BASE_CONTROL!$B$2:$B$999,"PENDIENTE"),COUNTIFS(BASE_CONTROL!$J$2:$J$999,$B16,BASE_CONTROL!$B$2:$B$999,"PENDIENTE"),COUNTIFS(BASE_CONTROL!$K$2:$K$999,$B16,BASE_CONTROL!$B$2:$B$999,"PENDIENTE"))) | G16: =IF($B16="","",IF($D16=0,"",IFERROR(MAX(MAXIFS(BASE_CONTROL!$C$2:$C$999,BASE_CONTROL!$D$2:$D$999,$B16),MAXIFS(BASE_CONTROL!$C$2:$C$999,BASE_CONTROL!$E$2:$E$999,$B16),MAXIFS(BASE_CONTROL!$C$2:$C$999,BASE_CONTROL!$F$2:$F$999,$B16),MAXIFS(BASE_CONTROL!$C$2:$C$999,BASE_CONTROL!$G$2:$G$999,$B16),MAXIFS(BASE_CONTROL!$C$2:$C$999,BASE_CONTROL!$H$2:$H$999,$B16),MAXIFS(BASE_CONTROL!$C$2:$C$999,BASE_CONTROL!$I$2:$I$999,$B16),MAXIFS(BASE_CONTROL!$C$2:$C$999,BASE_CONTROL!$J$2:$J$999,$B16),MAXIFS(BASE_CONTROL!$C$2:$C$999,BASE_CONTROL!$K$2:$K$999,$B16)),""))) | J16: 7 | K16: =IFERROR(INDEX($B$5:$B$504,MATCH(L16,$D$5:$D$504,0)),"") | L16: =IFERROR(LARGE($D$5:$D$504,J16),"") | M16: =IF(K16="","",SUMIF($B$5:$B$504,K16,$F$5:$F$504))
A17: =IF($B17="","",ROW()-4) | B17: DIPLEMGA | D17: =IF($B17="","",SUM(COUNTIF(BASE_CONTROL!$D$2:$K$999,$B17))) | E17: =IF($B17="","",SUM(COUNTIFS(BASE_CONTROL!$D$2:$D$999,$B17,BASE_CONTROL!$B$2:$B$999,"CERRADA"),COUNTIFS(BASE_CONTROL!$D$2:$D$999,$B17,BASE_CONTROL!$B$2:$B$999,"TERMINADA"),COUNTIFS(BASE_CONTROL!$E$2:$E$999,$B17,BASE_CONTROL!$B$2:$B$999,"CERRADA"),COUNTIFS(BASE_CONTROL!$E$2:$E$999,$B17,BASE_CONTROL!$B$2:$B$999,"TERMINADA"),COUNTIFS(BASE_CONTROL!$F$2:$F$999,$B17,BASE_CONTROL!$B$2:$B$999,"CERRADA"),COUNTIFS(BASE_CONTROL!$F$2:$F$999,$B17,BASE_CONTROL!$B$2:$B$999,"TERMINADA"),COUNTIFS(BASE_CONTROL!$G$2:$G$999,$B17,BASE_CONTROL!$B$2:$B$999,"CERRADA"),COUNTIFS(BASE_CONTROL!$G$2:$G$999,$B17,BASE_CONTROL!$B$2:$B$999,"TERMINADA"),COUNTIFS(BASE_CONTROL!$H$2:$H$999,$B17,BASE_CONTROL!$B$2:$B$999,"CERRADA"),COUNTIFS(BASE_CONTROL!$H$2:$H$999,$B17,BASE_CONTROL!$B$2:$B$999,"TERMINADA"),COUNTIFS(BASE_CONTROL!$I$2:$I$999,$B17,BASE_CONTROL!$B$2:$B$999,"CERRADA"),COUNTIFS(BASE_CONTROL!$I$2:$I$999,$B17,BASE_CONTROL!$B$2:$B$999,"TERMINADA"),COUNTIFS(BASE_CONTROL!$J$2:$J$999,$B17,BASE_CONTROL!$B$2:$B$999,"CERRADA"),COUNTIFS(BASE_CONTROL!$J$2:$J$999,$B17,BASE_CONTROL!$B$2:$B$999,"TERMINADA"),COUNTIFS(BASE_CONTROL!$K$2:$K$999,$B17,BASE_CONTROL!$B$2:$B$999,"CERRADA"),COUNTIFS(BASE_CONTROL!$K$2:$K$999,$B17,BASE_CONTROL!$B$2:$B$999,"TERMINADA"))) | F17: =IF($B17="","",SUM(COUNTIFS(BASE_CONTROL!$D$2:$D$999,$B17,BASE_CONTROL!$B$2:$B$999,"PENDIENTE"),COUNTIFS(BASE_CONTROL!$E$2:$E$999,$B17,BASE_CONTROL!$B$2:$B$999,"PENDIENTE"),COUNTIFS(BASE_CONTROL!$F$2:$F$999,$B17,BASE_CONTROL!$B$2:$B$999,"PENDIENTE"),COUNTIFS(BASE_CONTROL!$G$2:$G$999,$B17,BASE_CONTROL!$B$2:$B$999,"PENDIENTE"),COUNTIFS(BASE_CONTROL!$H$2:$H$999,$B17,BASE_CONTROL!$B$2:$B$999,"PENDIENTE"),COUNTIFS(BASE_CONTROL!$I$2:$I$999,$B17,BASE_CONTROL!$B$2:$B$999,"PENDIENTE"),COUNTIFS(BASE_CONTROL!$J$2:$J$999,$B17,BASE_CONTROL!$B$2:$B$999,"PENDIENTE"),COUNTIFS(BASE_CONTROL!$K$2:$K$999,$B17,BASE_CONTROL!$B$2:$B$999,"PENDIENTE"))) | G17: =IF($B17="","",IF($D17=0,"",IFERROR(MAX(MAXIFS(BASE_CONTROL!$C$2:$C$999,BASE_CONTROL!$D$2:$D$999,$B17),MAXIFS(BASE_CONTROL!$C$2:$C$999,BASE_CONTROL!$E$2:$E$999,$B17),MAXIFS(BASE_CONTROL!$C$2:$C$999,BASE_CONTROL!$F$2:$F$999,$B17),MAXIFS(BASE_CONTROL!$C$2:$C$999,BASE_CONTROL!$G$2:$G$999,$B17),MAXIFS(BASE_CONTROL!$C$2:$C$999,BASE_CONTROL!$H$2:$H$999,$B17),MAXIFS(BASE_CONTROL!$C$2:$C$999,BASE_CONTROL!$I$2:$I$999,$B17),MAXIFS(BASE_CONTROL!$C$2:$C$999,BASE_CONTROL!$J$2:$J$999,$B17),MAXIFS(BASE_CONTROL!$C$2:$C$999,BASE_CONTROL!$K$2:$K$999,$B17)),""))) | J17: 8 | K17: =IFERROR(INDEX($B$5:$B$504,MATCH(L17,$D$5:$D$504,0)),"") | L17: =IFERROR(LARGE($D$5:$D$504,J17),"") | M17: =IF(K17="","",SUMIF($B$5:$B$504,K17,$F$5:$F$504))
A18: =IF($B18="","",ROW()-4) | B18: DOPEMGA | D18: =IF($B18="","",SUM(COUNTIF(BASE_CONTROL!$D$2:$K$999,$B18))) | E18: =IF($B18="","",SUM(COUNTIFS(BASE_CONTROL!$D$2:$D$999,$B18,BASE_CONTROL!$B$2:$B$999,"CERRADA"),COUNTIFS(BASE_CONTROL!$D$2:$D$999,$B18,BASE_CONTROL!$B$2:$B$999,"TERMINADA"),COUNTIFS(BASE_CONTROL!$E$2:$E$999,$B18,BASE_CONTROL!$B$2:$B$999,"CERRADA"),COUNTIFS(BASE_CONTROL!$E$2:$E$999,$B18,BASE_CONTROL!$B$2:$B$999,"TERMINADA"),COUNTIFS(BASE_CONTROL!$F$2:$F$999,$B18,BASE_CONTROL!$B$2:$B$999,"CERRADA"),COUNTIFS(BASE_CONTROL!$F$2:$F$999,$B18,BASE_CONTROL!$B$2:$B$999,"TERMINADA"),COUNTIFS(BASE_CONTROL!$G$2:$G$999,$B18,BASE_CONTROL!$B$2:$B$999,"CERRADA"),COUNTIFS(BASE_CONTROL!$G$2:$G$999,$B18,BASE_CONTROL!$B$2:$B$999,"TERMINADA"),COUNTIFS(BASE_CONTROL!$H$2:$H$999,$B18,BASE_CONTROL!$B$2:$B$999,"CERRADA"),COUNTIFS(BASE_CONTROL!$H$2:$H$999,$B18,BASE_CONTROL!$B$2:$B$999,"TERMINADA"),COUNTIFS(BASE_CONTROL!$I$2:$I$999,$B18,BASE_CONTROL!$B$2:$B$999,"CERRADA"),COUNTIFS(BASE_CONTROL!$I$2:$I$999,$B18,BASE_CONTROL!$B$2:$B$999,"TERMINADA"),COUNTIFS(BASE_CONTROL!$J$2:$J$999,$B18,BASE_CONTROL!$B$2:$B$999,"CERRADA"),COUNTIFS(BASE_CONTROL!$J$2:$J$999,$B18,BASE_CONTROL!$B$2:$B$999,"TERMINADA"),COUNTIFS(BASE_CONTROL!$K$2:$K$999,$B18,BASE_CONTROL!$B$2:$B$999,"CERRADA"),COUNTIFS(BASE_CONTROL!$K$2:$K$999,$B18,BASE_CONTROL!$B$2:$B$999,"TERMINADA"))) | F18: =IF($B18="","",SUM(COUNTIFS(BASE_CONTROL!$D$2:$D$999,$B18,BASE_CONTROL!$B$2:$B$999,"PENDIENTE"),COUNTIFS(BASE_CONTROL!$E$2:$E$999,$B18,BASE_CONTROL!$B$2:$B$999,"PENDIENTE"),COUNTIFS(BASE_CONTROL!$F$2:$F$999,$B18,BASE_CONTROL!$B$2:$B$999,"PENDIENTE"),COUNTIFS(BASE_CONTROL!$G$2:$G$999,$B18,BASE_CONTROL!$B$2:$B$999,"PENDIENTE"),COUNTIFS(BASE_CONTROL!$H$2:$H$999,$B18,BASE_CONTROL!$B$2:$B$999,"PENDIENTE"),COUNTIFS(BASE_CONTROL!$I$2:$I$999,$B18,BASE_CONTROL!$B$2:$B$999,"PENDIENTE"),COUNTIFS(BASE_CONTROL!$J$2:$J$999,$B18,BASE_CONTROL!$B$2:$B$999,"PENDIENTE"),COUNTIFS(BASE_CONTROL!$K$2:$K$999,$B18,BASE_CONTROL!$B$2:$B$999,"PENDIENTE"))) | G18: =IF($B18="","",IF($D18=0,"",IFERROR(MAX(MAXIFS(BASE_CONTROL!$C$2:$C$999,BASE_CONTROL!$D$2:$D$999,$B18),MAXIFS(BASE_CONTROL!$C$2:$C$999,BASE_CONTROL!$E$2:$E$999,$B18),MAXIFS(BASE_CONTROL!$C$2:$C$999,BASE_CONTROL!$F$2:$F$999,$B18),MAXIFS(BASE_CONTROL!$C$2:$C$999,BASE_CONTROL!$G$2:$G$999,$B18),MAXIFS(BASE_CONTROL!$C$2:$C$999,BASE_CONTROL!$H$2:$H$999,$B18),MAXIFS(BASE_CONTROL!$C$2:$C$999,BASE_CONTROL!$I$2:$I$999,$B18),MAXIFS(BASE_CONTROL!$C$2:$C$999,BASE_CONTROL!$J$2:$J$999,$B18),MAXIFS(BASE_CONTROL!$C$2:$C$999,BASE_CONTROL!$K$2:$K$999,$B18)),""))) | J18: 9 | K18: =IFERROR(INDEX($B$5:$B$504,MATCH(L18,$D$5:$D$504,0)),"") | L18: =IFERROR(LARGE($D$5:$D$504,J18),"") | M18: =IF(K18="","",SUMIF($B$5:$B$504,K18,$F$5:$F$504))
A19: =IF($B19="","",ROW()-4) | B19: DOPCOM | D19: =IF($B19="","",SUM(COUNTIF(BASE_CONTROL!$D$2:$K$999,$B19))) | E19: =IF($B19="","",SUM(COUNTIFS(BASE_CONTROL!$D$2:$D$999,$B19,BASE_CONTROL!$B$2:$B$999,"CERRADA"),COUNTIFS(BASE_CONTROL!$D$2:$D$999,$B19,BASE_CONTROL!$B$2:$B$999,"TERMINADA"),COUNTIFS(BASE_CONTROL!$E$2:$E$999,$B19,BASE_CONTROL!$B$2:$B$999,"CERRADA"),COUNTIFS(BASE_CONTROL!$E$2:$E$999,$B19,BASE_CONTROL!$B$2:$B$999,"TERMINADA"),COUNTIFS(BASE_CONTROL!$F$2:$F$999,$B19,BASE_CONTROL!$B$2:$B$999,"CERRADA"),COUNTIFS(BASE_CONTROL!$F$2:$F$999,$B19,BASE_CONTROL!$B$2:$B$999,"TERMINADA"),COUNTIFS(BASE_CONTROL!$G$2:$G$999,$B19,BASE_CONTROL!$B$2:$B$999,"CERRADA"),COUNTIFS(BASE_CONTROL!$G$2:$G$999,$B19,BASE_CONTROL!$B$2:$B$999,"TERMINADA"),COUNTIFS(BASE_CONTROL!$H$2:$H$999,$B19,BASE_CONTROL!$B$2:$B$999,"CERRADA"),COUNTIFS(BASE_CONTROL!$H$2:$H$999,$B19,BASE_CONTROL!$B$2:$B$999,"TERMINADA"),COUNTIFS(BASE_CONTROL!$I$2:$I$999,$B19,BASE_CONTROL!$B$2:$B$999,"CERRADA"),COUNTIFS(BASE_CONTROL!$I$2:$I$999,$B19,BASE_CONTROL!$B$2:$B$999,"TERMINADA"),COUNTIFS(BASE_CONTROL!$J$2:$J$999,$B19,BASE_CONTROL!$B$2:$B$999,"CERRADA"),COUNTIFS(BASE_CONTROL!$J$2:$J$999,$B19,BASE_CONTROL!$B$2:$B$999,"TERMINADA"),COUNTIFS(BASE_CONTROL!$K$2:$K$999,$B19,BASE_CONTROL!$B$2:$B$999,"CERRADA"),COUNTIFS(BASE_CONTROL!$K$2:$K$999,$B19,BASE_CONTROL!$B$2:$B$999,"TERMINADA"))) | F19: =IF($B19="","",SUM(COUNTIFS(BASE_CONTROL!$D$2:$D$999,$B19,BASE_CONTROL!$B$2:$B$999,"PENDIENTE"),COUNTIFS(BASE_CONTROL!$E$2:$E$999,$B19,BASE_CONTROL!$B$2:$B$999,"PENDIENTE"),COUNTIFS(BASE_CONTROL!$F$2:$F$999,$B19,BASE_CONTROL!$B$2:$B$999,"PENDIENTE"),COUNTIFS(BASE_CONTROL!$G$2:$G$999,$B19,BASE_CONTROL!$B$2:$B$999,"PENDIENTE"),COUNTIFS(BASE_CONTROL!$H$2:$H$999,$B19,BASE_CONTROL!$B$2:$B$999,"PENDIENTE"),COUNTIFS(BASE_CONTROL!$I$2:$I$999,$B19,BASE_CONTROL!$B$2:$B$999,"PENDIENTE"),COUNTIFS(BASE_CONTROL!$J$2:$J$999,$B19,BASE_CONTROL!$B$2:$B$999,"PENDIENTE"),COUNTIFS(BASE_CONTROL!$K$2:$K$999,$B19,BASE_CONTROL!$B$2:$B$999,"PENDIENTE"))) | G19: =IF($B19="","",IF($D19=0,"",IFERROR(MAX(MAXIFS(BASE_CONTROL!$C$2:$C$999,BASE_CONTROL!$D$2:$D$999,$B19),MAXIFS(BASE_CONTROL!$C$2:$C$999,BASE_CONTROL!$E$2:$E$999,$B19),MAXIFS(BASE_CONTROL!$C$2:$C$999,BASE_CONTROL!$F$2:$F$999,$B19),MAXIFS(BASE_CONTROL!$C$2:$C$999,BASE_CONTROL!$G$2:$G$999,$B19),MAXIFS(BASE_CONTROL!$C$2:$C$999,BASE_CONTROL!$H$2:$H$999,$B19),MAXIFS(BASE_CONTROL!$C$2:$C$999,BASE_CONTROL!$I$2:$I$999,$B19),MAXIFS(BASE_CONTROL!$C$2:$C$999,BASE_CONTROL!$J$2:$J$999,$B19),MAXIFS(BASE_CONTROL!$C$2:$C$999,BASE_CONTROL!$K$2:$K$999,$B19)),""))) | J19: 10 | K19: =IFERROR(INDEX($B$5:$B$504,MATCH(L19,$D$5:$D$504,0)),"") | L19: =IFERROR(LARGE($D$5:$D$504,J19),"") | M19: =IF(K19="","",SUMIF($B$5:$B$504,K19,$F$5:$F$504))
A20: =IF($B20="","",ROW()-4) | B20: DOPCON | D20: =IF($B20="","",SUM(COUNTIF(BASE_CONTROL!$D$2:$K$999,$B20))) | E20: =IF($B20="","",SUM(COUNTIFS(BASE_CONTROL!$D$2:$D$999,$B20,BASE_CONTROL!$B$2:$B$999,"CERRADA"),COUNTIFS(BASE_CONTROL!$D$2:$D$999,$B20,BASE_CONTROL!$B$2:$B$999,"TERMINADA"),COUNTIFS(BASE_CONTROL!$E$2:$E$999,$B20,BASE_CONTROL!$B$2:$B$999,"CERRADA"),COUNTIFS(BASE_CONTROL!$E$2:$E$999,$B20,BASE_CONTROL!$B$2:$B$999,"TERMINADA"),COUNTIFS(BASE_CONTROL!$F$2:$F$999,$B20,BASE_CONTROL!$B$2:$B$999,"CERRADA"),COUNTIFS(BASE_CONTROL!$F$2:$F$999,$B20,BASE_CONTROL!$B$2:$B$999,"TERMINADA"),COUNTIFS(BASE_CONTROL!$G$2:$G$999,$B20,BASE_CONTROL!$B$2:$B$999,"CERRADA"),COUNTIFS(BASE_CONTROL!$G$2:$G$999,$B20,BASE_CONTROL!$B$2:$B$999,"TERMINADA"),COUNTIFS(BASE_CONTROL!$H$2:$H$999,$B20,BASE_CONTROL!$B$2:$B$999,"CERRADA"),COUNTIFS(BASE_CONTROL!$H$2:$H$999,$B20,BASE_CONTROL!$B$2:$B$999,"TERMINADA"),COUNTIFS(BASE_CONTROL!$I$2:$I$999,$B20,BASE_CONTROL!$B$2:$B$999,"CERRADA"),COUNTIFS(BASE_CONTROL!$I$2:$I$999,$B20,BASE_CONTROL!$B$2:$B$999,"TERMINADA"),COUNTIFS(BASE_CONTROL!$J$2:$J$999,$B20,BASE_CONTROL!$B$2:$B$999,"CERRADA"),COUNTIFS(BASE_CONTROL!$J$2:$J$999,$B20,BASE_CONTROL!$B$2:$B$999,"TERMINADA"),COUNTIFS(BASE_CONTROL!$K$2:$K$999,$B20,BASE_CONTROL!$B$2:$B$999,"CERRADA"),COUNTIFS(BASE_CONTROL!$K$2:$K$999,$B20,BASE_CONTROL!$B$2:$B$999,"TERMINADA"))) | F20: =IF($B20="","",SUM(COUNTIFS(BASE_CONTROL!$D$2:$D$999,$B20,BASE_CONTROL!$B$2:$B$999,"PENDIENTE"),COUNTIFS(BASE_CONTROL!$E$2:$E$999,$B20,BASE_CONTROL!$B$2:$B$999,"PENDIENTE"),COUNTIFS(BASE_CONTROL!$F$2:$F$999,$B20,BASE_CONTROL!$B$2:$B$999,"PENDIENTE"),COUNTIFS(BASE_CONTROL!$G$2:$G$999,$B20,BASE_CONTROL!$B$2:$B$999,"PENDIENTE"),COUNTIFS(BASE_CONTROL!$H$2:$H$999,$B20,BASE_CONTROL!$B$2:$B$999,"PENDIENTE"),COUNTIFS(BASE_CONTROL!$I$2:$I$999,$B20,BASE_CONTROL!$B$2:$B$999,"PENDIENTE"),COUNTIFS(BASE_CONTROL!$J$2:$J$999,$B20,BASE_CONTROL!$B$2:$B$999,"PENDIENTE"),COUNTIFS(BASE_CONTROL!$K$2:$K$999,$B20,BASE_CONTROL!$B$2:$B$999,"PENDIENTE"))) | G20: =IF($B20="","",IF($D20=0,"",IFERROR(MAX(MAXIFS(BASE_CONTROL!$C$2:$C$999,BASE_CONTROL!$D$2:$D$999,$B20),MAXIFS(BASE_CONTROL!$C$2:$C$999,BASE_CONTROL!$E$2:$E$999,$B20),MAXIFS(BASE_CONTROL!$C$2:$C$999,BASE_CONTROL!$F$2:$F$999,$B20),MAXIFS(BASE_CONTROL!$C$2:$C$999,BASE_CONTROL!$G$2:$G$999,$B20),MAXIFS(BASE_CONTROL!$C$2:$C$999,BASE_CONTROL!$H$2:$H$999,$B20),MAXIFS(BASE_CONTROL!$C$2:$C$999,BASE_CONTROL!$I$2:$I$999,$B20),MAXIFS(BASE_CONTROL!$C$2:$C$999,BASE_CONTROL!$J$2:$J$999,$B20),MAXIFS(BASE_CONTROL!$C$2:$C$999,BASE_CONTROL!$K$2:$K$999,$B20)),"")))
A21: =IF($B21="","",ROW()-4) | B21: COMOPER | D21: =IF($B21="","",SUM(COUNTIF(BASE_CONTROL!$D$2:$K$999,$B21))) | E21: =IF($B21="","",SUM(COUNTIFS(BASE_CONTROL!$D$2:$D$999,$B21,BASE_CONTROL!$B$2:$B$999,"CERRADA"),COUNTIFS(BASE_CONTROL!$D$2:$D$999,$B21,BASE_CONTROL!$B$2:$B$999,"TERMINADA"),COUNTIFS(BASE_CONTROL!$E$2:$E$999,$B21,BASE_CONTROL!$B$2:$B$999,"CERRADA"),COUNTIFS(BASE_CONTROL!$E$2:$E$999,$B21,BASE_CONTROL!$B$2:$B$999,"TERMINADA"),COUNTIFS(BASE_CONTROL!$F$2:$F$999,$B21,BASE_CONTROL!$B$2:$B$999,"CERRADA"),COUNTIFS(BASE_CONTROL!$F$2:$F$999,$B21,BASE_CONTROL!$B$2:$B$999,"TERMINADA"),COUNTIFS(BASE_CONTROL!$G$2:$G$999,$B21,BASE_CONTROL!$B$2:$B$999,"CERRADA"),COUNTIFS(BASE_CONTROL!$G$2:$G$999,$B21,BASE_CONTROL!$B$2:$B$999,"TERMINADA"),COUNTIFS(BASE_CONTROL!$H$2:$H$999,$B21,BASE_CONTROL!$B$2:$B$999,"CERRADA"),COUNTIFS(BASE_CONTROL!$H$2:$H$999,$B21,BASE_CONTROL!$B$2:$B$999,"TERMINADA"),COUNTIFS(BASE_CONTROL!$I$2:$I$999,$B21,BASE_CONTROL!$B$2:$B$999,"CERRADA"),COUNTIFS(BASE_CONTROL!$I$2:$I$999,$B21,BASE_CONTROL!$B$2:$B$999,"TERMINADA"),COUNTIFS(BASE_CONTROL!$J$2:$J$999,$B21,BASE_CONTROL!$B$2:$B$999,"CERRADA"),COUNTIFS(BASE_CONTROL!$J$2:$J$999,$B21,BASE_CONTROL!$B$2:$B$999,"TERMINADA"),COUNTIFS(BASE_CONTROL!$K$2:$K$999,$B21,BASE_CONTROL!$B$2:$B$999,"CERRADA"),COUNTIFS(BASE_CONTROL!$K$2:$K$999,$B21,BASE_CONTROL!$B$2:$B$999,"TERMINADA"))) | F21: =IF($B21="","",SUM(COUNTIFS(BASE_CONTROL!$D$2:$D$999,$B21,BASE_CONTROL!$B$2:$B$999,"PENDIENTE"),COUNTIFS(BASE_CONTROL!$E$2:$E$999,$B21,BASE_CONTROL!$B$2:$B$999,"PENDIENTE"),COUNTIFS(BASE_CONTROL!$F$2:$F$999,$B21,BASE_CONTROL!$B$2:$B$999,"PENDIENTE"),COUNTIFS(BASE_CONTROL!$G$2:$G$999,$B21,BASE_CONTROL!$B$2:$B$999,"PENDIENTE"),COUNTIFS(BASE_CONTROL!$H$2:$H$999,$B21,BASE_CONTROL!$B$2:$B$999,"PENDIENTE"),COUNTIFS(BASE_CONTROL!$I$2:$I$999,$B21,BASE_CONTROL!$B$2:$B$999,"PENDIENTE"),COUNTIFS(BASE_CONTROL!$J$2:$J$999,$B21,BASE_CONTROL!$B$2:$B$999,"PENDIENTE"),COUNTIFS(BASE_CONTROL!$K$2:$K$999,$B21,BASE_CONTROL!$B$2:$B$999,"PENDIENTE"))) | G21: =IF($B21="","",IF($D21=0,"",IFERROR(MAX(MAXIFS(BASE_CONTROL!$C$2:$C$999,BASE_CONTROL!$D$2:$D$999,$B21),MAXIFS(BASE_CONTROL!$C$2:$C$999,BASE_CONTROL!$E$2:$E$999,$B21),MAXIFS(BASE_CONTROL!$C$2:$C$999,BASE_CONTROL!$F$2:$F$999,$B21),MAXIFS(BASE_CONTROL!$C$2:$C$999,BASE_CONTROL!$G$2:$G$999,$B21),MAXIFS(BASE_CONTROL!$C$2:$C$999,BASE_CONTROL!$H$2:$H$999,$B21),MAXIFS(BASE_CONTROL!$C$2:$C$999,BASE_CONTROL!$I$2:$I$999,$B21),MAXIFS(BASE_CONTROL!$C$2:$C$999,BASE_CONTROL!$J$2:$J$999,$B21),MAXIFS(BASE_CONTROL!$C$2:$C$999,BASE_CONTROL!$K$2:$K$999,$B21)),"")))
A22: =IF($B22="","",ROW()-4) | B22: COMAVNAV | D22: =IF($B22="","",SUM(COUNTIF(BASE_CONTROL!$D$2:$K$999,$B22))) | E22: =IF($B22="","",SUM(COUNTIFS(BASE_CONTROL!$D$2:$D$999,$B22,BASE_CONTROL!$B$2:$B$999,"CERRADA"),COUNTIFS(BASE_CONTROL!$D$2:$D$999,$B22,BASE_CONTROL!$B$2:$B$999,"TERMINADA"),COUNTIFS(BASE_CONTROL!$E$2:$E$999,$B22,BASE_CONTROL!$B$2:$B$999,"CERRADA"),COUNTIFS(BASE_CONTROL!$E$2:$E$999,$B22,BASE_CONTROL!$B$2:$B$999,"TERMINADA"),COUNTIFS(BASE_CONTROL!$F$2:$F$999,$B22,BASE_CONTROL!$B$2:$B$999,"CERRADA"),COUNTIFS(BASE_CONTROL!$F$2:$F$999,$B22,BASE_CONTROL!$B$2:$B$999,"TERMINADA"),COUNTIFS(BASE_CONTROL!$G$2:$G$999,$B22,BASE_CONTROL!$B$2:$B$999,"CERRADA"),COUNTIFS(BASE_CONTROL!$G$2:$G$999,$B22,BASE_CONTROL!$B$2:$B$999,"TERMINADA"),COUNTIFS(BASE_CONTROL!$H$2:$H$999,$B22,BASE_CONTROL!$B$2:$B$999,"CERRADA"),COUNTIFS(BASE_CONTROL!$H$2:$H$999,$B22,BASE_CONTROL!$B$2:$B$999,"TERMINADA"),COUNTIFS(BASE_CONTROL!$I$2:$I$999,$B22,BASE_CONTROL!$B$2:$B$999,"CERRADA"),COUNTIFS(BASE_CONTROL!$I$2:$I$999,$B22,BASE_CONTROL!$B$2:$B$999,"TERMINADA"),COUNTIFS(BASE_CONTROL!$J$2:$J$999,$B22,BASE_CONTROL!$B$2:$B$999,"CERRADA"),COUNTIFS(BASE_CONTROL!$J$2:$J$999,$B22,BASE_CONTROL!$B$2:$B$999,"TERMINADA"),COUNTIFS(BASE_CONTROL!$K$2:$K$999,$B22,BASE_CONTROL!$B$2:$B$999,"CERRADA"),COUNTIFS(BASE_CONTROL!$K$2:$K$999,$B22,BASE_CONTROL!$B$2:$B$999,"TERMINADA"))) | F22: =IF($B22="","",SUM(COUNTIFS(BASE_CONTROL!$D$2:$D$999,$B22,BASE_CONTROL!$B$2:$B$999,"PENDIENTE"),COUNTIFS(BASE_CONTROL!$E$2:$E$999,$B22,BASE_CONTROL!$B$2:$B$999,"PENDIENTE"),COUNTIFS(BASE_CONTROL!$F$2:$F$999,$B22,BASE_CONTROL!$B$2:$B$999,"PENDIENTE"),COUNTIFS(BASE_CONTROL!$G$2:$G$999,$B22,BASE_CONTROL!$B$2:$B$999,"PENDIENTE"),COUNTIFS(BASE_CONTROL!$H$2:$H$999,$B22,BASE_CONTROL!$B$2:$B$999,"PENDIENTE"),COUNTIFS(BASE_CONTROL!$I$2:$I$999,$B22,BASE_CONTROL!$B$2:$B$999,"PENDIENTE"),COUNTIFS(BASE_CONTROL!$J$2:$J$999,$B22,BASE_CONTROL!$B$2:$B$999,"PENDIENTE"),COUNTIFS(BASE_CONTROL!$K$2:$K$999,$B22,BASE_CONTROL!$B$2:$B$999,"PENDIENTE"))) | G22: =IF($B22="","",IF($D22=0,"",IFERROR(MAX(MAXIFS(BASE_CONTROL!$C$2:$C$999,BASE_CONTROL!$D$2:$D$999,$B22),MAXIFS(BASE_CONTROL!$C$2:$C$999,BASE_CONTROL!$E$2:$E$999,$B22),MAXIFS(BASE_CONTROL!$C$2:$C$999,BASE_CONTROL!$F$2:$F$999,$B22),MAXIFS(BASE_CONTROL!$C$2:$C$999,BASE_CONTROL!$G$2:$G$999,$B22),MAXIFS(BASE_CONTROL!$C$2:$C$999,BASE_CONTROL!$H$2:$H$999,$B22),MAXIFS(BASE_CONTROL!$C$2:$C$999,BASE_CONTROL!$I$2:$I$999,$B22),MAXIFS(BASE_CONTROL!$C$2:$C$999,BASE_CONTROL!$J$2:$J$999,$B22),MAXIFS(BASE_CONTROL!$C$2:$C$999,BASE_CONTROL!$K$2:$K$999,$B22)),"")))
A23: =IF($B23="","",ROW()-4) | B23: ESCUADRA | D23: =IF($B23="","",SUM(COUNTIF(BASE_CONTROL!$D$2:$K$999,$B23))) | E23: =IF($B23="","",SUM(COUNTIFS(BASE_CONTROL!$D$2:$D$999,$B23,BASE_CONTROL!$B$2:$B$999,"CERRADA"),COUNTIFS(BASE_CONTROL!$D$2:$D$999,$B23,BASE_CONTROL!$B$2:$B$999,"TERMINADA"),COUNTIFS(BASE_CONTROL!$E$2:$E$999,$B23,BASE_CONTROL!$B$2:$B$999,"CERRADA"),COUNTIFS(BASE_CONTROL!$E$2:$E$999,$B23,BASE_CONTROL!$B$2:$B$999,"TERMINADA"),COUNTIFS(BASE_CONTROL!$F$2:$F$999,$B23,BASE_CONTROL!$B$2:$B$999,"CERRADA"),COUNTIFS(BASE_CONTROL!$F$2:$F$999,$B23,BASE_CONTROL!$B$2:$B$999,"TERMINADA"),COUNTIFS(BASE_CONTROL!$G$2:$G$999,$B23,BASE_CONTROL!$B$2:$B$999,"CERRADA"),COUNTIFS(BASE_CONTROL!$G$2:$G$999,$B23,BASE_CONTROL!$B$2:$B$999,"TERMINADA"),COUNTIFS(BASE_CONTROL!$H$2:$H$999,$B23,BASE_CONTROL!$B$2:$B$999,"CERRADA"),COUNTIFS(BASE_CONTROL!$H$2:$H$999,$B23,BASE_CONTROL!$B$2:$B$999,"TERMINADA"),COUNTIFS(BASE_CONTROL!$I$2:$I$999,$B23,BASE_CONTROL!$B$2:$B$999,"CERRADA"),COUNTIFS(BASE_CONTROL!$I$2:$I$999,$B23,BASE_CONTROL!$B$2:$B$999,"TERMINADA"),COUNTIFS(BASE_CONTROL!$J$2:$J$999,$B23,BASE_CONTROL!$B$2:$B$999,"CERRADA"),COUNTIFS(BASE_CONTROL!$J$2:$J$999,$B23,BASE_CONTROL!$B$2:$B$999,"TERMINADA"),COUNTIFS(BASE_CONTROL!$K$2:$K$999,$B23,BASE_CONTROL!$B$2:$B$999,"CERRADA"),COUNTIFS(BASE_CONTROL!$K$2:$K$999,$B23,BASE_CONTROL!$B$2:$B$999,"TERMINADA"))) | F23: =IF($B23="","",SUM(COUNTIFS(BASE_CONTROL!$D$2:$D$999,$B23,BASE_CONTROL!$B$2:$B$999,"PENDIENTE"),COUNTIFS(BASE_CONTROL!$E$2:$E$999,$B23,BASE_CONTROL!$B$2:$B$999,"PENDIENTE"),COUNTIFS(BASE_CONTROL!$F$2:$F$999,$B23,BASE_CONTROL!$B$2:$B$999,"PENDIENTE"),COUNTIFS(BASE_CONTROL!$G$2:$G$999,$B23,BASE_CONTROL!$B$2:$B$999,"PENDIENTE"),COUNTIFS(BASE_CONTROL!$H$2:$H$999,$B23,BASE_CONTROL!$B$2:$B$999,"PENDIENTE"),COUNTIFS(BASE_CONTROL!$I$2:$I$999,$B23,BASE_CONTROL!$B$2:$B$999,"PENDIENTE"),COUNTIFS(BASE_CONTROL!$J$2:$J$999,$B23,BASE_CONTROL!$B$2:$B$999,"PENDIENTE"),COUNTIFS(BASE_CONTROL!$K$2:$K$999,$B23,BASE_CONTROL!$B$2:$B$999,"PENDIENTE"))) | G23: =IF($B23="","",IF($D23=0,"",IFERROR(MAX(MAXIFS(BASE_CONTROL!$C$2:$C$999,BASE_CONTROL!$D$2:$D$999,$B23),MAXIFS(BASE_CONTROL!$C$2:$C$999,BASE_CONTROL!$E$2:$E$999,$B23),MAXIFS(BASE_CONTROL!$C$2:$C$999,BASE_CONTROL!$F$2:$F$999,$B23),MAXIFS(BASE_CONTROL!$C$2:$C$999,BASE_CONTROL!$G$2:$G$999,$B23),MAXIFS(BASE_CONTROL!$C$2:$C$999,BASE_CONTROL!$H$2:$H$999,$B23),MAXIFS(BASE_CONTROL!$C$2:$C$999,BASE_CONTROL!$I$2:$I$999,$B23),MAXIFS(BASE_CONTROL!$C$2:$C$999,BASE_CONTROL!$J$2:$J$999,$B23),MAXIFS(BASE_CONTROL!$C$2:$C$999,BASE_CONTROL!$K$2:$K$999,$B23)),"")))
A24: =IF($B24="","",ROW()-4) | B24: PRIZONA | D24: =IF($B24="","",SUM(COUNTIF(BASE_CONTROL!$D$2:$K$999,$B24))) | E24: =IF($B24="","",SUM(COUNTIFS(BASE_CONTROL!$D$2:$D$999,$B24,BASE_CONTROL!$B$2:$B$999,"CERRADA"),COUNTIFS(BASE_CONTROL!$D$2:$D$999,$B24,BASE_CONTROL!$B$2:$B$999,"TERMINADA"),COUNTIFS(BASE_CONTROL!$E$2:$E$999,$B24,BASE_CONTROL!$B$2:$B$999,"CERRADA"),COUNTIFS(BASE_CONTROL!$E$2:$E$999,$B24,BASE_CONTROL!$B$2:$B$999,"TERMINADA"),COUNTIFS(BASE_CONTROL!$F$2:$F$999,$B24,BASE_CONTROL!$B$2:$B$999,"CERRADA"),COUNTIFS(BASE_CONTROL!$F$2:$F$999,$B24,BASE_CONTROL!$B$2:$B$999,"TERMINADA"),COUNTIFS(BASE_CONTROL!$G$2:$G$999,$B24,BASE_CONTROL!$B$2:$B$999,"CERRADA"),COUNTIFS(BASE_CONTROL!$G$2:$G$999,$B24,BASE_CONTROL!$B$2:$B$999,"TERMINADA"),COUNTIFS(BASE_CONTROL!$H$2:$H$999,$B24,BASE_CONTROL!$B$2:$B$999,"CERRADA"),COUNTIFS(BASE_CONTROL!$H$2:$H$999,$B24,BASE_CONTROL!$B$2:$B$999,"TERMINADA"),COUNTIFS(BASE_CONTROL!$I$2:$I$999,$B24,BASE_CONTROL!$B$2:$B$999,"CERRADA"),COUNTIFS(BASE_CONTROL!$I$2:$I$999,$B24,BASE_CONTROL!$B$2:$B$999,"TERMINADA"),COUNTIFS(BASE_CONTROL!$J$2:$J$999,$B24,BASE_CONTROL!$B$2:$B$999,"CERRADA"),COUNTIFS(BASE_CONTROL!$J$2:$J$999,$B24,BASE_CONTROL!$B$2:$B$999,"TERMINADA"),COUNTIFS(BASE_CONTROL!$K$2:$K$999,$B24,BASE_CONTROL!$B$2:$B$999,"CERRADA"),COUNTIFS(BASE_CONTROL!$K$2:$K$999,$B24,BASE_CONTROL!$B$2:$B$999,"TERMINADA"))) | F24: =IF($B24="","",SUM(COUNTIFS(BASE_CONTROL!$D$2:$D$999,$B24,BASE_CONTROL!$B$2:$B$999,"PENDIENTE"),COUNTIFS(BASE_CONTROL!$E$2:$E$999,$B24,BASE_CONTROL!$B$2:$B$999,"PENDIENTE"),COUNTIFS(BASE_CONTROL!$F$2:$F$999,$B24,BASE_CONTROL!$B$2:$B$999,"PENDIENTE"),COUNTIFS(BASE_CONTROL!$G$2:$G$999,$B24,BASE_CONTROL!$B$2:$B$999,"PENDIENTE"),COUNTIFS(BASE_CONTROL!$H$2:$H$999,$B24,BASE_CONTROL!$B$2:$B$999,"PENDIENTE"),COUNTIFS(BASE_CONTROL!$I$2:$I$999,$B24,BASE_CONTROL!$B$2:$B$999,"PENDIENTE"),COUNTIFS(BASE_CONTROL!$J$2:$J$999,$B24,BASE_CONTROL!$B$2:$B$999,"PENDIENTE"),COUNTIFS(BASE_CONTROL!$K$2:$K$999,$B24,BASE_CONTROL!$B$2:$B$999,"PENDIENTE"))) | G24: =IF($B24="","",IF($D24=0,"",IFERROR(MAX(MAXIFS(BASE_CONTROL!$C$2:$C$999,BASE_CONTROL!$D$2:$D$999,$B24),MAXIFS(BASE_CONTROL!$C$2:$C$999,BASE_CONTROL!$E$2:$E$999,$B24),MAXIFS(BASE_CONTROL!$C$2:$C$999,BASE_CONTROL!$F$2:$F$999,$B24),MAXIFS(BASE_CONTROL!$C$2:$C$999,BASE_CONTROL!$G$2:$G$999,$B24),MAXIFS(BASE_CONTROL!$C$2:$C$999,BASE_CONTROL!$H$2:$H$999,$B24),MAXIFS(BASE_CONTROL!$C$2:$C$999,BASE_CONTROL!$I$2:$I$999,$B24),MAXIFS(BASE_CONTROL!$C$2:$C$999,BASE_CONTROL!$J$2:$J$999,$B24),MAXIFS(BASE_CONTROL!$C$2:$C$999,BASE_CONTROL!$K$2:$K$999,$B24)),"")))
A25: =IF($B25="","",ROW()-4) | B25: TERZONA | D25: =IF($B25="","",SUM(COUNTIF(BASE_CONTROL!$D$2:$K$999,$B25))) | E25: =IF($B25="","",SUM(COUNTIFS(BASE_CONTROL!$D$2:$D$999,$B25,BASE_CONTROL!$B$2:$B$999,"CERRADA"),COUNTIFS(BASE_CONTROL!$D$2:$D$999,$B25,BASE_CONTROL!$B$2:$B$999,"TERMINADA"),COUNTIFS(BASE_CONTROL!$E$2:$E$999,$B25,BASE_CONTROL!$B$2:$B$999,"CERRADA"),COUNTIFS(BASE_CONTROL!$E$2:$E$999,$B25,BASE_CONTROL!$B$2:$B$999,"TERMINADA"),COUNTIFS(BASE_CONTROL!$F$2:$F$999,$B25,BASE_CONTROL!$B$2:$B$999,"CERRADA"),COUNTIFS(BASE_CONTROL!$F$2:$F$999,$B25,BASE_CONTROL!$B$2:$B$999,"TERMINADA"),COUNTIFS(BASE_CONTROL!$G$2:$G$999,$B25,BASE_CONTROL!$B$2:$B$999,"CERRADA"),COUNTIFS(BASE_CONTROL!$G$2:$G$999,$B25,BASE_CONTROL!$B$2:$B$999,"TERMINADA"),COUNTIFS(BASE_CONTROL!$H$2:$H$999,$B25,BASE_CONTROL!$B$2:$B$999,"CERRADA"),COUNTIFS(BASE_CONTROL!$H$2:$H$999,$B25,BASE_CONTROL!$B$2:$B$999,"TERMINADA"),COUNTIFS(BASE_CONTROL!$I$2:$I$999,$B25,BASE_CONTROL!$B$2:$B$999,"CERRADA"),COUNTIFS(BASE_CONTROL!$I$2:$I$999,$B25,BASE_CONTROL!$B$2:$B$999,"TERMINADA"),COUNTIFS(BASE_CONTROL!$J$2:$J$999,$B25,BASE_CONTROL!$B$2:$B$999,"CERRADA"),COUNTIFS(BASE_CONTROL!$J$2:$J$999,$B25,BASE_CONTROL!$B$2:$B$999,"TERMINADA"),COUNTIFS(BASE_CONTROL!$K$2:$K$999,$B25,BASE_CONTROL!$B$2:$B$999,"CERRADA"),COUNTIFS(BASE_CONTROL!$K$2:$K$999,$B25,BASE_CONTROL!$B$2:$B$999,"TERMINADA"))) | F25: =IF($B25="","",SUM(COUNTIFS(BASE_CONTROL!$D$2:$D$999,$B25,BASE_CONTROL!$B$2:$B$999,"PENDIENTE"),COUNTIFS(BASE_CONTROL!$E$2:$E$999,$B25,BASE_CONTROL!$B$2:$B$999,"PENDIENTE"),COUNTIFS(BASE_CONTROL!$F$2:$F$999,$B25,BASE_CONTROL!$B$2:$B$999,"PENDIENTE"),COUNTIFS(BASE_CONTROL!$G$2:$G$999,$B25,BASE_CONTROL!$B$2:$B$999,"PENDIENTE"),COUNTIFS(BASE_CONTROL!$H$2:$H$999,$B25,BASE_CONTROL!$B$2:$B$999,"PENDIENTE"),COUNTIFS(BASE_CONTROL!$I$2:$I$999,$B25,BASE_CONTROL!$B$2:$B$999,"PENDIENTE"),COUNTIFS(BASE_CONTROL!$J$2:$J$999,$B25,BASE_CONTROL!$B$2:$B$999,"PENDIENTE"),COUNTIFS(BASE_CONTROL!$K$2:$K$999,$B25,BASE_CONTROL!$B$2:$B$999,"PENDIENTE"))) | G25: =IF($B25="","",IF($D25=0,"",IFERROR(MAX(MAXIFS(BASE_CONTROL!$C$2:$C$999,BASE_CONTROL!$D$2:$D$999,$B25),MAXIFS(BASE_CONTROL!$C$2:$C$999,BASE_CONTROL!$E$2:$E$999,$B25),MAXIFS(BASE_CONTROL!$C$2:$C$999,BASE_CONTROL!$F$2:$F$999,$B25),MAXIFS(BASE_CONTROL!$C$2:$C$999,BASE_CONTROL!$G$2:$G$999,$B25),MAXIFS(BASE_CONTROL!$C$2:$C$999,BASE_CONTROL!$H$2:$H$999,$B25),MAXIFS(BASE_CONTROL!$C$2:$C$999,BASE_CONTROL!$I$2:$I$999,$B25),MAXIFS(BASE_CONTROL!$C$2:$C$999,BASE_CONTROL!$J$2:$J$999,$B25),MAXIFS(BASE_CONTROL!$C$2:$C$999,BASE_CONTROL!$K$2:$K$999,$B25)),"")))
A26: =IF($B26="","",ROW()-4) | B26: SEGUNDA ZONA | D26: =IF($B26="","",SUM(COUNTIF(BASE_CONTROL!$D$2:$K$999,$B26))) | E26: =IF($B26="","",SUM(COUNTIFS(BASE_CONTROL!$D$2:$D$999,$B26,BASE_CONTROL!$B$2:$B$999,"CERRADA"),COUNTIFS(BASE_CONTROL!$D$2:$D$999,$B26,BASE_CONTROL!$B$2:$B$999,"TERMINADA"),COUNTIFS(BASE_CONTROL!$E$2:$E$999,$B26,BASE_CONTROL!$B$2:$B$999,"CERRADA"),COUNTIFS(BASE_CONTROL!$E$2:$E$999,$B26,BASE_CONTROL!$B$2:$B$999,"TERMINADA"),COUNTIFS(BASE_CONTROL!$F$2:$F$999,$B26,BASE_CONTROL!$B$2:$B$999,"CERRADA"),COUNTIFS(BASE_CONTROL!$F$2:$F$999,$B26,BASE_CONTROL!$B$2:$B$999,"TERMINADA"),COUNTIFS(BASE_CONTROL!$G$2:$G$999,$B26,BASE_CONTROL!$B$2:$B$999,"CERRADA"),COUNTIFS(BASE_CONTROL!$G$2:$G$999,$B26,BASE_CONTROL!$B$2:$B$999,"TERMINADA"),COUNTIFS(BASE_CONTROL!$H$2:$H$999,$B26,BASE_CONTROL!$B$2:$B$999,"CERRADA"),COUNTIFS(BASE_CONTROL!$H$2:$H$999,$B26,BASE_CONTROL!$B$2:$B$999,"TERMINADA"),COUNTIFS(BASE_CONTROL!$I$2:$I$999,$B26,BASE_CONTROL!$B$2:$B$999,"CERRADA"),COUNTIFS(BASE_CONTROL!$I$2:$I$999,$B26,BASE_CONTROL!$B$2:$B$999,"TERMINADA"),COUNTIFS(BASE_CONTROL!$J$2:$J$999,$B26,BASE_CONTROL!$B$2:$B$999,"CERRADA"),COUNTIFS(BASE_CONTROL!$J$2:$J$999,$B26,BASE_CONTROL!$B$2:$B$999,"TERMINADA"),COUNTIFS(BASE_CONTROL!$K$2:$K$999,$B26,BASE_CONTROL!$B$2:$B$999,"CERRADA"),COUNTIFS(BASE_CONTROL!$K$2:$K$999,$B26,BASE_CONTROL!$B$2:$B$999,"TERMINADA"))) | F26: =IF($B26="","",SUM(COUNTIFS(BASE_CONTROL!$D$2:$D$999,$B26,BASE_CONTROL!$B$2:$B$999,"PENDIENTE"),COUNTIFS(BASE_CONTROL!$E$2:$E$999,$B26,BASE_CONTROL!$B$2:$B$999,"PENDIENTE"),COUNTIFS(BASE_CONTROL!$F$2:$F$999,$B26,BASE_CONTROL!$B$2:$B$999,"PENDIENTE"),COUNTIFS(BASE_CONTROL!$G$2:$G$999,$B26,BASE_CONTROL!$B$2:$B$999,"PENDIENTE"),COUNTIFS(BASE_CONTROL!$H$2:$H$999,$B26,BASE_CONTROL!$B$2:$B$999,"PENDIENTE"),COUNTIFS(BASE_CONTROL!$I$2:$I$999,$B26,BASE_CONTROL!$B$2:$B$999,"PENDIENTE"),COUNTIFS(BASE_CONTROL!$J$2:$J$999,$B26,BASE_CONTROL!$B$2:$B$999,"PENDIENTE"),COUNTIFS(BASE_CONTROL!$K$2:$K$999,$B26,BASE_CONTROL!$B$2:$B$999,"PENDIENTE"))) | G26: =IF($B26="","",IF($D26=0,"",IFERROR(MAX(MAXIFS(BASE_CONTROL!$C$2:$C$999,BASE_CONTROL!$D$2:$D$999,$B26),MAXIFS(BASE_CONTROL!$C$2:$C$999,BASE_CONTROL!$E$2:$E$999,$B26),MAXIFS(BASE_CONTROL!$C$2:$C$999,BASE_CONTROL!$F$2:$F$999,$B26),MAXIFS(BASE_CONTROL!$C$2:$C$999,BASE_CONTROL!$G$2:$G$999,$B26),MAXIFS(BASE_CONTROL!$C$2:$C$999,BASE_CONTROL!$H$2:$H$999,$B26),MAXIFS(BASE_CONTROL!$C$2:$C$999,BASE_CONTROL!$I$2:$I$999,$B26),MAXIFS(BASE_CONTROL!$C$2:$C$999,BASE_CONTROL!$J$2:$J$999,$B26),MAXIFS(BASE_CONTROL!$C$2:$C$999,BASE_CONTROL!$K$2:$K$999,$B26)),"")))
A27: =IF($B27="","",ROW()-4) | B27: QUINZONA | D27: =IF($B27="","",SUM(COUNTIF(BASE_CONTROL!$D$2:$K$999,$B27))) | E27: =IF($B27="","",SUM(COUNTIFS(BASE_CONTROL!$D$2:$D$999,$B27,BASE_CONTROL!$B$2:$B$999,"CERRADA"),COUNTIFS(BASE_CONTROL!$D$2:$D$999,$B27,BASE_CONTROL!$B$2:$B$999,"TERMINADA"),COUNTIFS(BASE_CONTROL!$E$2:$E$999,$B27,BASE_CONTROL!$B$2:$B$999,"CERRADA"),COUNTIFS(BASE_CONTROL!$E$2:$E$999,$B27,BASE_CONTROL!$B$2:$B$999,"TERMINADA"),COUNTIFS(BASE_CONTROL!$F$2:$F$999,$B27,BASE_CONTROL!$B$2:$B$999,"CERRADA"),COUNTIFS(BASE_CONTROL!$F$2:$F$999,$B27,BASE_CONTROL!$B$2:$B$999,"TERMINADA"),COUNTIFS(BASE_CONTROL!$G$2:$G$999,$B27,BASE_CONTROL!$B$2:$B$999,"CERRADA"),COUNTIFS(BASE_CONTROL!$G$2:$G$999,$B27,BASE_CONTROL!$B$2:$B$999,"TERMINADA"),COUNTIFS(BASE_CONTROL!$H$2:$H$999,$B27,BASE_CONTROL!$B$2:$B$999,"CERRADA"),COUNTIFS(BASE_CONTROL!$H$2:$H$999,$B27,BASE_CONTROL!$B$2:$B$999,"TERMINADA"),COUNTIFS(BASE_CONTROL!$I$2:$I$999,$B27,BASE_CONTROL!$B$2:$B$999,"CERRADA"),COUNTIFS(BASE_CONTROL!$I$2:$I$999,$B27,BASE_CONTROL!$B$2:$B$999,"TERMINADA"),COUNTIFS(BASE_CONTROL!$J$2:$J$999,$B27,BASE_CONTROL!$B$2:$B$999,"CERRADA"),COUNTIFS(BASE_CONTROL!$J$2:$J$999,$B27,BASE_CONTROL!$B$2:$B$999,"TERMINADA"),COUNTIFS(BASE_CONTROL!$K$2:$K$999,$B27,BASE_CONTROL!$B$2:$B$999,"CERRADA"),COUNTIFS(BASE_CONTROL!$K$2:$K$999,$B27,BASE_CONTROL!$B$2:$B$999,"TERMINADA"))) | F27: =IF($B27="","",SUM(COUNTIFS(BASE_CONTROL!$D$2:$D$999,$B27,BASE_CONTROL!$B$2:$B$999,"PENDIENTE"),COUNTIFS(BASE_CONTROL!$E$2:$E$999,$B27,BASE_CONTROL!$B$2:$B$999,"PENDIENTE"),COUNTIFS(BASE_CONTROL!$F$2:$F$999,$B27,BASE_CONTROL!$B$2:$B$999,"PENDIENTE"),COUNTIFS(BASE_CONTROL!$G$2:$G$999,$B27,BASE_CONTROL!$B$2:$B$999,"PENDIENTE"),COUNTIFS(BASE_CONTROL!$H$2:$H$999,$B27,BASE_CONTROL!$B$2:$B$999,"PENDIENTE"),COUNTIFS(BASE_CONTROL!$I$2:$I$999,$B27,BASE_CONTROL!$B$2:$B$999,"PENDIENTE"),COUNTIFS(BASE_CONTROL!$J$2:$J$999,$B27,BASE_CONTROL!$B$2:$B$999,"PENDIENTE"),COUNTIFS(BASE_CONTROL!$K$2:$K$999,$B27,BASE_CONTROL!$B$2:$B$999,"PENDIENTE"))) | G27: =IF($B27="","",IF($D27=0,"",IFERROR(MAX(MAXIFS(BASE_CONTROL!$C$2:$C$999,BASE_CONTROL!$D$2:$D$999,$B27),MAXIFS(BASE_CONTROL!$C$2:$C$999,BASE_CONTROL!$E$2:$E$999,$B27),MAXIFS(BASE_CONTROL!$C$2:$C$999,BASE_CONTROL!$F$2:$F$999,$B27),MAXIFS(BASE_CONTROL!$C$2:$C$999,BASE_CONTROL!$G$2:$G$999,$B27),MAXIFS(BASE_CONTROL!$C$2:$C$999,BASE_CONTROL!$H$2:$H$999,$B27),MAXIFS(BASE_CONTROL!$C$2:$C$999,BASE_CONTROL!$I$2:$I$999,$B27),MAXIFS(BASE_CONTROL!$C$2:$C$999,BASE_CONTROL!$J$2:$J$999,$B27),MAXIFS(BASE_CONTROL!$C$2:$C$999,BASE_CONTROL!$K$2:$K$999,$B27)),"")))
A28: =IF($B28="","",ROW()-4) | B28: AUDITGEN | D28: =IF($B28="","",SUM(COUNTIF(BASE_CONTROL!$D$2:$K$999,$B28))) | E28: =IF($B28="","",SUM(COUNTIFS(BASE_CONTROL!$D$2:$D$999,$B28,BASE_CONTROL!$B$2:$B$999,"CERRADA"),COUNTIFS(BASE_CONTROL!$D$2:$D$999,$B28,BASE_CONTROL!$B$2:$B$999,"TERMINADA"),COUNTIFS(BASE_CONTROL!$E$2:$E$999,$B28,BASE_CONTROL!$B$2:$B$999,"CERRADA"),COUNTIFS(BASE_CONTROL!$E$2:$E$999,$B28,BASE_CONTROL!$B$2:$B$999,"TERMINADA"),COUNTIFS(BASE_CONTROL!$F$2:$F$999,$B28,BASE_CONTROL!$B$2:$B$999,"CERRADA"),COUNTIFS(BASE_CONTROL!$F$2:$F$999,$B28,BASE_CONTROL!$B$2:$B$999,"TERMINADA"),COUNTIFS(BASE_CONTROL!$G$2:$G$999,$B28,BASE_CONTROL!$B$2:$B$999,"CERRADA"),COUNTIFS(BASE_CONTROL!$G$2:$G$999,$B28,BASE_CONTROL!$B$2:$B$999,"TERMINADA"),COUNTIFS(BASE_CONTROL!$H$2:$H$999,$B28,BASE_CONTROL!$B$2:$B$999,"CERRADA"),COUNTIFS(BASE_CONTROL!$H$2:$H$999,$B28,BASE_CONTROL!$B$2:$B$999,"TERMINADA"),COUNTIFS(BASE_CONTROL!$I$2:$I$999,$B28,BASE_CONTROL!$B$2:$B$999,"CERRADA"),COUNTIFS(BASE_CONTROL!$I$2:$I$999,$B28,BASE_CONTROL!$B$2:$B$999,"TERMINADA"),COUNTIFS(BASE_CONTROL!$J$2:$J$999,$B28,BASE_CONTROL!$B$2:$B$999,"CERRADA"),COUNTIFS(BASE_CONTROL!$J$2:$J$999,$B28,BASE_CONTROL!$B$2:$B$999,"TERMINADA"),COUNTIFS(BASE_CONTROL!$K$2:$K$999,$B28,BASE_CONTROL!$B$2:$B$999,"CERRADA"),COUNTIFS(BASE_CONTROL!$K$2:$K$999,$B28,BASE_CONTROL!$B$2:$B$999,"TERMINADA"))) | F28: =IF($B28="","",SUM(COUNTIFS(BASE_CONTROL!$D$2:$D$999,$B28,BASE_CONTROL!$B$2:$B$999,"PENDIENTE"),COUNTIFS(BASE_CONTROL!$E$2:$E$999,$B28,BASE_CONTROL!$B$2:$B$999,"PENDIENTE"),COUNTIFS(BASE_CONTROL!$F$2:$F$999,$B28,BASE_CONTROL!$B$2:$B$999,"PENDIENTE"),COUNTIFS(BASE_CONTROL!$G$2:$G$999,$B28,BASE_CONTROL!$B$2:$B$999,"PENDIENTE"),COUNTIFS(BASE_CONTROL!$H$2:$H$999,$B28,BASE_CONTROL!$B$2:$B$999,"PENDIENTE"),COUNTIFS(BASE_CONTROL!$I$2:$I$999,$B28,BASE_CONTROL!$B$2:$B$999,"PENDIENTE"),COUNTIFS(BASE_CONTROL!$J$2:$J$999,$B28,BASE_CONTROL!$B$2:$B$999,"PENDIENTE"),COUNTIFS(BASE_CONTROL!$K$2:$K$999,$B28,BASE_CONTROL!$B$2:$B$999,"PENDIENTE"))) | G28: =IF($B28="","",IF($D28=0,"",IFERROR(MAX(MAXIFS(BASE_CONTROL!$C$2:$C$999,BASE_CONTROL!$D$2:$D$999,$B28),MAXIFS(BASE_CONTROL!$C$2:$C$999,BASE_CONTROL!$E$2:$E$999,$B28),MAXIFS(BASE_CONTROL!$C$2:$C$999,BASE_CONTROL!$F$2:$F$999,$B28),MAXIFS(BASE_CONTROL!$C$2:$C$999,BASE_CONTROL!$G$2:$G$999,$B28),MAXIFS(BASE_CONTROL!$C$2:$C$999,BASE_CONTROL!$H$2:$H$999,$B28),MAXIFS(BASE_CONTROL!$C$2:$C$999,BASE_CONTROL!$I$2:$I$999,$B28),MAXIFS(BASE_CONTROL!$C$2:$C$999,BASE_CONTROL!$J$2:$J$999,$B28),MAXIFS(BASE_CONTROL!$C$2:$C$999,BASE_CONTROL!$K$2:$K$999,$B28)),"")))
A29: =IF($B29="","",ROW()-4) | B29: ESTANAVMET | D29: =IF($B29="","",SUM(COUNTIF(BASE_CONTROL!$D$2:$K$999,$B29))) | E29: =IF($B29="","",SUM(COUNTIFS(BASE_CONTROL!$D$2:$D$999,$B29,BASE_CONTROL!$B$2:$B$999,"CERRADA"),COUNTIFS(BASE_CONTROL!$D$2:$D$999,$B29,BASE_CONTROL!$B$2:$B$999,"TERMINADA"),COUNTIFS(BASE_CONTROL!$E$2:$E$999,$B29,BASE_CONTROL!$B$2:$B$999,"CERRADA"),COUNTIFS(BASE_CONTROL!$E$2:$E$999,$B29,BASE_CONTROL!$B$2:$B$999,"TERMINADA"),COUNTIFS(BASE_CONTROL!$F$2:$F$999,$B29,BASE_CONTROL!$B$2:$B$999,"CERRADA"),COUNTIFS(BASE_CONTROL!$F$2:$F$999,$B29,BASE_CONTROL!$B$2:$B$999,"TERMINADA"),COUNTIFS(BASE_CONTROL!$G$2:$G$999,$B29,BASE_CONTROL!$B$2:$B$999,"CERRADA"),COUNTIFS(BASE_CONTROL!$G$2:$G$999,$B29,BASE_CONTROL!$B$2:$B$999,"TERMINADA"),COUNTIFS(BASE_CONTROL!$H$2:$H$999,$B29,BASE_CONTROL!$B$2:$B$999,"CERRADA"),COUNTIFS(BASE_CONTROL!$H$2:$H$999,$B29,BASE_CONTROL!$B$2:$B$999,"TERMINADA"),COUNTIFS(BASE_CONTROL!$I$2:$I$999,$B29,BASE_CONTROL!$B$2:$B$999,"CERRADA"),COUNTIFS(BASE_CONTROL!$I$2:$I$999,$B29,BASE_CONTROL!$B$2:$B$999,"TERMINADA"),COUNTIFS(BASE_CONTROL!$J$2:$J$999,$B29,BASE_CONTROL!$B$2:$B$999,"CERRADA"),COUNTIFS(BASE_CONTROL!$J$2:$J$999,$B29,BASE_CONTROL!$B$2:$B$999,"TERMINADA"),COUNTIFS(BASE_CONTROL!$K$2:$K$999,$B29,BASE_CONTROL!$B$2:$B$999,"CERRADA"),COUNTIFS(BASE_CONTROL!$K$2:$K$999,$B29,BASE_CONTROL!$B$2:$B$999,"TERMINADA"))) | F29: =IF($B29="","",SUM(COUNTIFS(BASE_CONTROL!$D$2:$D$999,$B29,BASE_CONTROL!$B$2:$B$999,"PENDIENTE"),COUNTIFS(BASE_CONTROL!$E$2:$E$999,$B29,BASE_CONTROL!$B$2:$B$999,"PENDIENTE"),COUNTIFS(BASE_CONTROL!$F$2:$F$999,$B29,BASE_CONTROL!$B$2:$B$999,"PENDIENTE"),COUNTIFS(BASE_CONTROL!$G$2:$G$999,$B29,BASE_CONTROL!$B$2:$B$999,"PENDIENTE"),COUNTIFS(BASE_CONTROL!$H$2:$H$999,$B29,BASE_CONTROL!$B$2:$B$999,"PENDIENTE"),COUNTIFS(BASE_CONTROL!$I$2:$I$999,$B29,BASE_CONTROL!$B$2:$B$999,"PENDIENTE"),COUNTIFS(BASE_CONTROL!$J$2:$J$999,$B29,BASE_CONTROL!$B$2:$B$999,"PENDIENTE"),COUNTIFS(BASE_CONTROL!$K$2:$K$999,$B29,BASE_CONTROL!$B$2:$B$999,"PENDIENTE"))) | G29: =IF($B29="","",IF($D29=0,"",IFERROR(MAX(MAXIFS(BASE_CONTROL!$C$2:$C$999,BASE_CONTROL!$D$2:$D$999,$B29),MAXIFS(BASE_CONTROL!$C$2:$C$999,BASE_CONTROL!$E$2:$E$999,$B29),MAXIFS(BASE_CONTROL!$C$2:$C$999,BASE_CONTROL!$F$2:$F$999,$B29),MAXIFS(BASE_CONTROL!$C$2:$C$999,BASE_CONTROL!$G$2:$G$999,$B29),MAXIFS(BASE_CONTROL!$C$2:$C$999,BASE_CONTROL!$H$2:$H$999,$B29),MAXIFS(BASE_CONTROL!$C$2:$C$999,BASE_CONTROL!$I$2:$I$999,$B29),MAXIFS(BASE_CONTROL!$C$2:$C$999,BASE_CONTROL!$J$2:$J$999,$B29),MAXIFS(BASE_CONTROL!$C$2:$C$999,BASE_CONTROL!$K$2:$K$999,$B29)),"")))
A30: =IF($B30="","",ROW()-4) | B30: DIREDUCARM | D30: =IF($B30="","",SUM(COUNTIF(BASE_CONTROL!$D$2:$K$999,$B30))) | E30: =IF($B30="","",SUM(COUNTIFS(BASE_CONTROL!$D$2:$D$999,$B30,BASE_CONTROL!$B$2:$B$999,"CERRADA"),COUNTIFS(BASE_CONTROL!$D$2:$D$999,$B30,BASE_CONTROL!$B$2:$B$999,"TERMINADA"),COUNTIFS(BASE_CONTROL!$E$2:$E$999,$B30,BASE_CONTROL!$B$2:$B$999,"CERRADA"),COUNTIFS(BASE_CONTROL!$E$2:$E$999,$B30,BASE_CONTROL!$B$2:$B$999,"TERMINADA"),COUNTIFS(BASE_CONTROL!$F$2:$F$999,$B30,BASE_CONTROL!$B$2:$B$999,"CERRADA"),COUNTIFS(BASE_CONTROL!$F$2:$F$999,$B30,BASE_CONTROL!$B$2:$B$999,"TERMINADA"),COUNTIFS(BASE_CONTROL!$G$2:$G$999,$B30,BASE_CONTROL!$B$2:$B$999,"CERRADA"),COUNTIFS(BASE_CONTROL!$G$2:$G$999,$B30,BASE_CONTROL!$B$2:$B$999,"TERMINADA"),COUNTIFS(BASE_CONTROL!$H$2:$H$999,$B30,BASE_CONTROL!$B$2:$B$999,"CERRADA"),COUNTIFS(BASE_CONTROL!$H$2:$H$999,$B30,BASE_CONTROL!$B$2:$B$999,"TERMINADA"),COUNTIFS(BASE_CONTROL!$I$2:$I$999,$B30,BASE_CONTROL!$B$2:$B$999,"CERRADA"),COUNTIFS(BASE_CONTROL!$I$2:$I$999,$B30,BASE_CONTROL!$B$2:$B$999,"TERMINADA"),COUNTIFS(BASE_CONTROL!$J$2:$J$999,$B30,BASE_CONTROL!$B$2:$B$999,"CERRADA"),COUNTIFS(BASE_CONTROL!$J$2:$J$999,$B30,BASE_CONTROL!$B$2:$B$999,"TERMINADA"),COUNTIFS(BASE_CONTROL!$K$2:$K$999,$B30,BASE_CONTROL!$B$2:$B$999,"CERRADA"),COUNTIFS(BASE_CONTROL!$K$2:$K$999,$B30,BASE_CONTROL!$B$2:$B$999,"TERMINADA"))) | F30: =IF($B30="","",SUM(COUNTIFS(BASE_CONTROL!$D$2:$D$999,$B30,BASE_CONTROL!$B$2:$B$999,"PENDIENTE"),COUNTIFS(BASE_CONTROL!$E$2:$E$999,$B30,BASE_CONTROL!$B$2:$B$999,"PENDIENTE"),COUNTIFS(BASE_CONTROL!$F$2:$F$999,$B30,BASE_CONTROL!$B$2:$B$999,"PENDIENTE"),COUNTIFS(BASE_CONTROL!$G$2:$G$999,$B30,BASE_CONTROL!$B$2:$B$999,"PENDIENTE"),COUNTIFS(BASE_CONTROL!$H$2:$H$999,$B30,BASE_CONTROL!$B$2:$B$999,"PENDIENTE"),COUNTIFS(BASE_CONTROL!$I$2:$I$999,$B30,BASE_CONTROL!$B$2:$B$999,"PENDIENTE"),COUNTIFS(BASE_CONTROL!$J$2:$J$999,$B30,BASE_CONTROL!$B$2:$B$999,"PENDIENTE"),COUNTIFS(BASE_CONTROL!$K$2:$K$999,$B30,BASE_CONTROL!$B$2:$B$999,"PENDIENTE"))) | G30: =IF($B30="","",IF($D30=0,"",IFERROR(MAX(MAXIFS(BASE_CONTROL!$C$2:$C$999,BASE_CONTROL!$D$2:$D$999,$B30),MAXIFS(BASE_CONTROL!$C$2:$C$999,BASE_CONTROL!$E$2:$E$999,$B30),MAXIFS(BASE_CONTROL!$C$2:$C$999,BASE_CONTROL!$F$2:$F$999,$B30),MAXIFS(BASE_CONTROL!$C$2:$C$999,BASE_CONTROL!$G$2:$G$999,$B30),MAXIFS(BASE_CONTROL!$C$2:$C$999,BASE_CONTROL!$H$2:$H$999,$B30),MAXIFS(BASE_CONTROL!$C$2:$C$999,BASE_CONTROL!$I$2:$I$999,$B30),MAXIFS(BASE_CONTROL!$C$2:$C$999,BASE_CONTROL!$J$2:$J$999,$B30),MAXIFS(BASE_CONTROL!$C$2:$C$999,BASE_CONTROL!$K$2:$K$999,$B30)),"")))
A31: =IF($B31="","",ROW()-4) | B31: DINSOMAR | D31: =IF($B31="","",SUM(COUNTIF(BASE_CONTROL!$D$2:$K$999,$B31))) | E31: =IF($B31="","",SUM(COUNTIFS(BASE_CONTROL!$D$2:$D$999,$B31,BASE_CONTROL!$B$2:$B$999,"CERRADA"),COUNTIFS(BASE_CONTROL!$D$2:$D$999,$B31,BASE_CONTROL!$B$2:$B$999,"TERMINADA"),COUNTIFS(BASE_CONTROL!$E$2:$E$999,$B31,BASE_CONTROL!$B$2:$B$999,"CERRADA"),COUNTIFS(BASE_CONTROL!$E$2:$E$999,$B31,BASE_CONTROL!$B$2:$B$999,"TERMINADA"),COUNTIFS(BASE_CONTROL!$F$2:$F$999,$B31,BASE_CONTROL!$B$2:$B$999,"CERRADA"),COUNTIFS(BASE_CONTROL!$F$2:$F$999,$B31,BASE_CONTROL!$B$2:$B$999,"TERMINADA"),COUNTIFS(BASE_CONTROL!$G$2:$G$999,$B31,BASE_CONTROL!$B$2:$B$999,"CERRADA"),COUNTIFS(BASE_CONTROL!$G$2:$G$999,$B31,BASE_CONTROL!$B$2:$B$999,"TERMINADA"),COUNTIFS(BASE_CONTROL!$H$2:$H$999,$B31,BASE_CONTROL!$B$2:$B$999,"CERRADA"),COUNTIFS(BASE_CONTROL!$H$2:$H$999,$B31,BASE_CONTROL!$B$2:$B$999,"TERMINADA"),COUNTIFS(BASE_CONTROL!$I$2:$I$999,$B31,BASE_CONTROL!$B$2:$B$999,"CERRADA"),COUNTIFS(BASE_CONTROL!$I$2:$I$999,$B31,BASE_CONTROL!$B$2:$B$999,"TERMINADA"),COUNTIFS(BASE_CONTROL!$J$2:$J$999,$B31,BASE_CONTROL!$B$2:$B$999,"CERRADA"),COUNTIFS(BASE_CONTROL!$J$2:$J$999,$B31,BASE_CONTROL!$B$2:$B$999,"TERMINADA"),COUNTIFS(BASE_CONTROL!$K$2:$K$999,$B31,BASE_CONTROL!$B$2:$B$999,"CERRADA"),COUNTIFS(BASE_CONTROL!$K$2:$K$999,$B31,BASE_CONTROL!$B$2:$B$999,"TERMINADA"))) | F31: =IF($B31="","",SUM(COUNTIFS(BASE_CONTROL!$D$2:$D$999,$B31,BASE_CONTROL!$B$2:$B$999,"PENDIENTE"),COUNTIFS(BASE_CONTROL!$E$2:$E$999,$B31,BASE_CONTROL!$B$2:$B$999,"PENDIENTE"),COUNTIFS(BASE_CONTROL!$F$2:$F$999,$B31,BASE_CONTROL!$B$2:$B$999,"PENDIENTE"),COUNTIFS(BASE_CONTROL!$G$2:$G$999,$B31,BASE_CONTROL!$B$2:$B$999,"PENDIENTE"),COUNTIFS(BASE_CONTROL!$H$2:$H$999,$B31,BASE_CONTROL!$B$2:$B$999,"PENDIENTE"),COUNTIFS(BASE_CONTROL!$I$2:$I$999,$B31,BASE_CONTROL!$B$2:$B$999,"PENDIENTE"),COUNTIFS(BASE_CONTROL!$J$2:$J$999,$B31,BASE_CONTROL!$B$2:$B$999,"PENDIENTE"),COUNTIFS(BASE_CONTROL!$K$2:$K$999,$B31,BASE_CONTROL!$B$2:$B$999,"PENDIENTE"))) | G31: =IF($B31="","",IF($D31=0,"",IFERROR(MAX(MAXIFS(BASE_CONTROL!$C$2:$C$999,BASE_CONTROL!$D$2:$D$999,$B31),MAXIFS(BASE_CONTROL!$C$2:$C$999,BASE_CONTROL!$E$2:$E$999,$B31),MAXIFS(BASE_CONTROL!$C$2:$C$999,BASE_CONTROL!$F$2:$F$999,$B31),MAXIFS(BASE_CONTROL!$C$2:$C$999,BASE_CONTROL!$G$2:$G$999,$B31),MAXIFS(BASE_CONTROL!$C$2:$C$999,BASE_CONTROL!$H$2:$H$999,$B31),MAXIFS(BASE_CONTROL!$C$2:$C$999,BASE_CONTROL!$I$2:$I$999,$B31),MAXIFS(BASE_CONTROL!$C$2:$C$999,BASE_CONTROL!$J$2:$J$999,$B31),MAXIFS(BASE_CONTROL!$C$2:$C$999,BASE_CONTROL!$K$2:$K$999,$B31)),"")))
... A53: =IF($B53="","",ROW()-4) | B53: CN PACHECO | D53: =IF($B53="","",SUM(COUNTIF(BASE_CONTROL!$D$2:$K$999,$B53))) | E53: =IF($B53="","",SUM(COUNTIFS(BASE_CONTROL!$D$2:$D$999,$B53,BASE_CONTROL!$B$2:$B$999,"CERRADA"),COUNTIFS(BASE_CONTROL!$D$2:$D$999,$B53,BASE_CONTROL!$B$2:$B$999,"TERMINADA"),COUNTIFS(BASE_CONTROL!$E$2:$E$999,$B53,BASE_CONTROL!$B$2:$B$999,"CERRADA"),COUNTIFS(BASE_CONTROL!$E$2:$E$999,$B53,BASE_CONTROL!$B$2:$B$999,"TERMINADA"),COUNTIFS(BASE_CONTROL!$F$2:$F$999,$B53,BASE_CONTROL!$B$2:$B$999,"CERRADA"),COUNTIFS(BASE_CONTROL!$F$2:$F$999,$B53,BASE_CONTROL!$B$2:$B$999,"TERMINADA"),COUNTIFS(BASE_CONTROL!$G$2:$G$999,$B53,BASE_CONTROL!$B$2:$B$999,"CERRADA"),COUNTIFS(BASE_CONTROL!$G$2:$G$999,$B53,BASE_CONTROL!$B$2:$B$999,"TERMINADA"),COUNTIFS(BASE_CONTROL!$H$2:$H$999,$B53,BASE_CONTROL!$B$2:$B$999,"CERRADA"),COUNTIFS(BASE_CONTROL!$H$2:$H$999,$B53,BASE_CONTROL!$B$2:$B$999,"TERMINADA"),COUNTIFS(BASE_CONTROL!$I$2:$I$999,$B53,BASE_CONTROL!$B$2:$B$999,"CERRADA"),COUNTIFS(BASE_CONTROL!$I$2:$I$999,$B53,BASE_CONTROL!$B$2:$B$999,"TERMINADA"),COUNTIFS(BASE_CONTROL!$J$2:$J$999,$B53,BASE_CONTROL!$B$2:$B$999,"CERRADA"),COUNTIFS(BASE_CONTROL!$J$2:$J$999,$B53,BASE_CONTROL!$B$2:$B$999,"TERMINADA"),COUNTIFS(BASE_CONTROL!$K$2:$K$999,$B53,BASE_CONTROL!$B$2:$B$999,"CERRADA"),COUNTIFS(BASE_CONTROL!$K$2:$K$999,$B53,BASE_CONTROL!$B$2:$B$999,"TERMINADA"))) | F53: =IF($B53="","",SUM(COUNTIFS(BASE_CONTROL!$D$2:$D$999,$B53,BASE_CONTROL!$B$2:$B$999,"PENDIENTE"),COUNTIFS(BASE_CONTROL!$E$2:$E$999,$B53,BASE_CONTROL!$B$2:$B$999,"PENDIENTE"),COUNTIFS(BASE_CONTROL!$F$2:$F$999,$B53,BASE_CONTROL!$B$2:$B$999,"PENDIENTE"),COUNTIFS(BASE_CONTROL!$G$2:$G$999,$B53,BASE_CONTROL!$B$2:$B$999,"PENDIENTE"),COUNTIFS(BASE_CONTROL!$H$2:$H$999,$B53,BASE_CONTROL!$B$2:$B$999,"PENDIENTE"),COUNTIFS(BASE_CONTROL!$I$2:$I$999,$B53,BASE_CONTROL!$B$2:$B$999,"PENDIENTE"),COUNTIFS(BASE_CONTROL!$J$2:$J$999,$B53,BASE_CONTROL!$B$2:$B$999,"PENDIENTE"),COUNTIFS(BASE_CONTROL!$K$2:$K$999,$B53,BASE_CONTROL!$B$2:$B$999,"PENDIENTE"))) | G53: =IF($B53="","",IF($D53=0,"",IFERROR(MAX(MAXIFS(BASE_CONTROL!$C$2:$C$999,BASE_CONTROL!$D$2:$D$999,$B53),MAXIFS(BASE_CONTROL!$C$2:$C$999,BASE_CONTROL!$E$2:$E$999,$B53),MAXIFS(BASE_CONTROL!$C$2:$C$999,BASE_CONTROL!$F$2:$F$999,$B53),MAXIFS(BASE_CONTROL!$C$2:$C$999,BASE_CONTROL!$G$2:$G$999,$B53),MAXIFS(BASE_CONTROL!$C$2:$C$999,BASE_CONTROL!$H$2:$H$999,$B53),MAXIFS(BASE_CONTROL!$C$2:$C$999,BASE_CONTROL!$I$2:$I$999,$B53),MAXIFS(BASE_CONTROL!$C$2:$C$999,BASE_CONTROL!$J$2:$J$999,$B53),MAXIFS(BASE_CONTROL!$C$2:$C$999,BASE_CONTROL!$K$2:$K$999,$B53)),"")))
A54: =IF($B54="","",ROW()-4) | D54: =IF($B54="","",SUM(COUNTIF(BASE_CONTROL!$D$2:$K$999,$B54))) | E54: =IF($B54="","",SUM(COUNTIFS(BASE_CONTROL!$D$2:$D$999,$B54,BASE_CONTROL!$B$2:$B$999,"CERRADA"),COUNTIFS(BASE_CONTROL!$D$2:$D$999,$B54,BASE_CONTROL!$B$2:$B$999,"TERMINADA"),COUNTIFS(BASE_CONTROL!$E$2:$E$999,$B54,BASE_CONTROL!$B$2:$B$999,"CERRADA"),COUNTIFS(BASE_CONTROL!$E$2:$E$999,$B54,BASE_CONTROL!$B$2:$B$999,"TERMINADA"),COUNTIFS(BASE_CONTROL!$F$2:$F$999,$B54,BASE_CONTROL!$B$2:$B$999,"CERRADA"),COUNTIFS(BASE_CONTROL!$F$2:$F$999,$B54,BASE_CONTROL!$B$2:$B$999,"TERMINADA"),COUNTIFS(BASE_CONTROL!$G$2:$G$999,$B54,BASE_CONTROL!$B$2:$B$999,"CERRADA"),COUNTIFS(BASE_CONTROL!$G$2:$G$999,$B54,BASE_CONTROL!$B$2:$B$999,"TERMINADA"),COUNTIFS(BASE_CONTROL!$H$2:$H$999,$B54,BASE_CONTROL!$B$2:$B$999,"CERRADA"),COUNTIFS(BASE_CONTROL!$H$2:$H$999,$B54,BASE_CONTROL!$B$2:$B$999,"TERMINADA"),COUNTIFS(BASE_CONTROL!$I$2:$I$999,$B54,BASE_CONTROL!$B$2:$B$999,"CERRADA"),COUNTIFS(BASE_CONTROL!$I$2:$I$999,$B54,BASE_CONTROL!$B$2:$B$999,"TERMINADA"),COUNTIFS(BASE_CONTROL!$J$2:$J$999,$B54,BASE_CONTROL!$B$2:$B$999,"CERRADA"),COUNTIFS(BASE_CONTROL!$J$2:$J$999,$B54,BASE_CONTROL!$B$2:$B$999,"TERMINADA"),COUNTIFS(BASE_CONTROL!$K$2:$K$999,$B54,BASE_CONTROL!$B$2:$B$999,"CERRADA"),COUNTIFS(BASE_CONTROL!$K$2:$K$999,$B54,BASE_CONTROL!$B$2:$B$999,"TERMINADA"))) | F54: =IF($B54="","",SUM(COUNTIFS(BASE_CONTROL!$D$2:$D$999,$B54,BASE_CONTROL!$B$2:$B$999,"PENDIENTE"),COUNTIFS(BASE_CONTROL!$E$2:$E$999,$B54,BASE_CONTROL!$B$2:$B$999,"PENDIENTE"),COUNTIFS(BASE_CONTROL!$F$2:$F$999,$B54,BASE_CONTROL!$B$2:$B$999,"PENDIENTE"),COUNTIFS(BASE_CONTROL!$G$2:$G$999,$B54,BASE_CONTROL!$B$2:$B$999,"PENDIENTE"),COUNTIFS(BASE_CONTROL!$H$2:$H$999,$B54,BASE_CONTROL!$B$2:$B$999,"PENDIENTE"),COUNTIFS(BASE_CONTROL!$I$2:$I$999,$B54,BASE_CONTROL!$B$2:$B$999,"PENDIENTE"),COUNTIFS(BASE_CONTROL!$J$2:$J$999,$B54,BASE_CONTROL!$B$2:$B$999,"PENDIENTE"),COUNTIFS(BASE_CONTROL!$K$2:$K$999,$B54,BASE_CONTROL!$B$2:$B$999,"PENDIENTE"))) | G54: =IF($B54="","",IF($D54=0,"",IFERROR(MAX(MAXIFS(BASE_CONTROL!$C$2:$C$999,BASE_CONTROL!$D$2:$D$999,$B54),MAXIFS(BASE_CONTROL!$C$2:$C$999,BASE_CONTROL!$E$2:$E$999,$B54),MAXIFS(BASE_CONTROL!$C$2:$C$999,BASE_CONTROL!$F$2:$F$999,$B54),MAXIFS(BASE_CONTROL!$C$2:$C$999,BASE_CONTROL!$G$2:$G$999,$B54),MAXIFS(BASE_CONTROL!$C$2:$C$999,BASE_CONTROL!$H$2:$H$999,$B54),MAXIFS(BASE_CONTROL!$C$2:$C$999,BASE_CONTROL!$I$2:$I$999,$B54),MAXIFS(BASE_CONTROL!$C$2:$C$999,BASE_CONTROL!$J$2:$J$999,$B54),MAXIFS(BASE_CONTROL!$C$2:$C$999,BASE_CONTROL!$K$2:$K$999,$B54)),"")))
A55: =IF($B55="","",ROW()-4) | D55: =IF($B55="","",SUM(COUNTIF(BASE_CONTROL!$D$2:$K$999,$B55))) | E55: =IF($B55="","",SUM(COUNTIFS(BASE_CONTROL!$D$2:$D$999,$B55,BASE_CONTROL!$B$2:$B$999,"CERRADA"),COUNTIFS(BASE_CONTROL!$D$2:$D$999,$B55,BASE_CONTROL!$B$2:$B$999,"TERMINADA"),COUNTIFS(BASE_CONTROL!$E$2:$E$999,$B55,BASE_CONTROL!$B$2:$B$999,"CERRADA"),COUNTIFS(BASE_CONTROL!$E$2:$E$999,$B55,BASE_CONTROL!$B$2:$B$999,"TERMINADA"),COUNTIFS(BASE_CONTROL!$F$2:$F$999,$B55,BASE_CONTROL!$B$2:$B$999,"CERRADA"),COUNTIFS(BASE_CONTROL!$F$2:$F$999,$B55,BASE_CONTROL!$B$2:$B$999,"TERMINADA"),COUNTIFS(BASE_CONTROL!$G$2:$G$999,$B55,BASE_CONTROL!$B$2:$B$999,"CERRADA"),COUNTIFS(BASE_CONTROL!$G$2:$G$999,$B55,BASE_CONTROL!$B$2:$B$999,"TERMINADA"),COUNTIFS(BASE_CONTROL!$H$2:$H$999,$B55,BASE_CONTROL!$B$2:$B$999,"CERRADA"),COUNTIFS(BASE_CONTROL!$H$2:$H$999,$B55,BASE_CONTROL!$B$2:$B$999,"TERMINADA"),COUNTIFS(BASE_CONTROL!$I$2:$I$999,$B55,BASE_CONTROL!$B$2:$B$999,"CERRADA"),COUNTIFS(BASE_CONTROL!$I$2:$I$999,$B55,BASE_CONTROL!$B$2:$B$999,"TERMINADA"),COUNTIFS(BASE_CONTROL!$J$2:$J$999,$B55,BASE_CONTROL!$B$2:$B$999,"CERRADA"),COUNTIFS(BASE_CONTROL!$J$2:$J$999,$B55,BASE_CONTROL!$B$2:$B$999,"TERMINADA"),COUNTIFS(BASE_CONTROL!$K$2:$K$999,$B55,BASE_CONTROL!$B$2:$B$999,"CERRADA"),COUNTIFS(BASE_CONTROL!$K$2:$K$999,$B55,BASE_CONTROL!$B$2:$B$999,"TERMINADA"))) | F55: =IF($B55="","",SUM(COUNTIFS(BASE_CONTROL!$D$2:$D$999,$B55,BASE_CONTROL!$B$2:$B$999,"PENDIENTE"),COUNTIFS(BASE_CONTROL!$E$2:$E$999,$B55,BASE_CONTROL!$B$2:$B$999,"PENDIENTE"),COUNTIFS(BASE_CONTROL!$F$2:$F$999,$B55,BASE_CONTROL!$B$2:$B$999,"PENDIENTE"),COUNTIFS(BASE_CONTROL!$G$2:$G$999,$B55,BASE_CONTROL!$B$2:$B$999,"PENDIENTE"),COUNTIFS(BASE_CONTROL!$H$2:$H$999,$B55,BASE_CONTROL!$B$2:$B$999,"PENDIENTE"),COUNTIFS(BASE_CONTROL!$I$2:$I$999,$B55,BASE_CONTROL!$B$2:$B$999,"PENDIENTE"),COUNTIFS(BASE_CONTROL!$J$2:$J$999,$B55,BASE_CONTROL!$B$2:$B$999,"PENDIENTE"),COUNTIFS(BASE_CONTROL!$K$2:$K$999,$B55,BASE_CONTROL!$B$2:$B$999,"PENDIENTE"))) | G55: =IF($B55="","",IF($D55=0,"",IFERROR(MAX(MAXIFS(BASE_CONTROL!$C$2:$C$999,BASE_CONTROL!$D$2:$D$999,$B55),MAXIFS(BASE_CONTROL!$C$2:$C$999,BASE_CONTROL!$E$2:$E$999,$B55),MAXIFS(BASE_CONTROL!$C$2:$C$999,BASE_CONTROL!$F$2:$F$999,$B55),MAXIFS(BASE_CONTROL!$C$2:$C$999,BASE_CONTROL!$G$2:$G$999,$B55),MAXIFS(BASE_CONTROL!$C$2:$C$999,BASE_CONTROL!$H$2:$H$999,$B55),MAXIFS(BASE_CONTROL!$C$2:$C$999,BASE_CONTROL!$I$2:$I$999,$B55),MAXIFS(BASE_CONTROL!$C$2:$C$999,BASE_CONTROL!$J$2:$J$999,$B55),MAXIFS(BASE_CONTROL!$C$2:$C$999,BASE_CONTROL!$K$2:$K$999,$B55)),"")))
A56: =IF($B56="","",ROW()-4) | D56: =IF($B56="","",SUM(COUNTIF(BASE_CONTROL!$D$2:$K$999,$B56))) | E56: =IF($B56="","",SUM(COUNTIFS(BASE_CONTROL!$D$2:$D$999,$B56,BASE_CONTROL!$B$2:$B$999,"CERRADA"),COUNTIFS(BASE_CONTROL!$D$2:$D$999,$B56,BASE_CONTROL!$B$2:$B$999,"TERMINADA"),COUNTIFS(BASE_CONTROL!$E$2:$E$999,$B56,BASE_CONTROL!$B$2:$B$999,"CERRADA"),COUNTIFS(BASE_CONTROL!$E$2:$E$999,$B56,BASE_CONTROL!$B$2:$B$999,"TERMINADA"),COUNTIFS(BASE_CONTROL!$F$2:$F$999,$B56,BASE_CONTROL!$B$2:$B$999,"CERRADA"),COUNTIFS(BASE_CONTROL!$F$2:$F$999,$B56,BASE_CONTROL!$B$2:$B$999,"TERMINADA"),COUNTIFS(BASE_CONTROL!$G$2:$G$999,$B56,BASE_CONTROL!$B$2:$B$999,"CERRADA"),COUNTIFS(BASE_CONTROL!$G$2:$G$999,$B56,BASE_CONTROL!$B$2:$B$999,"TERMINADA"),COUNTIFS(BASE_CONTROL!$H$2:$H$999,$B56,BASE_CONTROL!$B$2:$B$999,"CERRADA"),COUNTIFS(BASE_CONTROL!$H$2:$H$999,$B56,BASE_CONTROL!$B$2:$B$999,"TERMINADA"),COUNTIFS(BASE_CONTROL!$I$2:$I$999,$B56,BASE_CONTROL!$B$2:$B$999,"CERRADA"),COUNTIFS(BASE_CONTROL!$I$2:$I$999,$B56,BASE_CONTROL!$B$2:$B$999,"TERMINADA"),COUNTIFS(BASE_CONTROL!$J$2:$J$999,$B56,BASE_CONTROL!$B$2:$B$999,"CERRADA"),COUNTIFS(BASE_CONTROL!$J$2:$J$999,$B56,BASE_CONTROL!$B$2:$B$999,"TERMINADA"),COUNTIFS(BASE_CONTROL!$K$2:$K$999,$B56,BASE_CONTROL!$B$2:$B$999,"CERRADA"),COUNTIFS(BASE_CONTROL!$K$2:$K$999,$B56,BASE_CONTROL!$B$2:$B$999,"TERMINADA"))) | F56: =IF($B56="","",SUM(COUNTIFS(BASE_CONTROL!$D$2:$D$999,$B56,BASE_CONTROL!$B$2:$B$999,"PENDIENTE"),COUNTIFS(BASE_CONTROL!$E$2:$E$999,$B56,BASE_CONTROL!$B$2:$B$999,"PENDIENTE"),COUNTIFS(BASE_CONTROL!$F$2:$F$999,$B56,BASE_CONTROL!$B$2:$B$999,"PENDIENTE"),COUNTIFS(BASE_CONTROL!$G$2:$G$999,$B56,BASE_CONTROL!$B$2:$B$999,"PENDIENTE"),COUNTIFS(BASE_CONTROL!$H$2:$H$999,$B56,BASE_CONTROL!$B$2:$B$999,"PENDIENTE"),COUNTIFS(BASE_CONTROL!$I$2:$I$999,$B56,BASE_CONTROL!$B$2:$B$999,"PENDIENTE"),COUNTIFS(BASE_CONTROL!$J$2:$J$999,$B56,BASE_CONTROL!$B$2:$B$999,"PENDIENTE"),COUNTIFS(BASE_CONTROL!$K$2:$K$999,$B56,BASE_CONTROL!$B$2:$B$999,"PENDIENTE"))) | G56: =IF($B56="","",IF($D56=0,"",IFERROR(MAX(MAXIFS(BASE_CONTROL!$C$2:$C$999,BASE_CONTROL!$D$2:$D$999,$B56),MAXIFS(BASE_CONTROL!$C$2:$C$999,BASE_CONTROL!$E$2:$E$999,$B56),MAXIFS(BASE_CONTROL!$C$2:$C$999,BASE_CONTROL!$F$2:$F$999,$B56),MAXIFS(BASE_CONTROL!$C$2:$C$999,BASE_CONTROL!$G$2:$G$999,$B56),MAXIFS(BASE_CONTROL!$C$2:$C$999,BASE_CONTROL!$H$2:$H$999,$B56),MAXIFS(BASE_CONTROL!$C$2:$C$999,BASE_CONTROL!$I$2:$I$999,$B56),MAXIFS(BASE_CONTROL!$C$2:$C$999,BASE_CONTROL!$J$2:$J$999,$B56),MAXIFS(BASE_CONTROL!$C$2:$C$999,BASE_CONTROL!$K$2:$K$999,$B56)),"")))
A57: =IF($B57="","",ROW()-4) | D57: =IF($B57="","",SUM(COUNTIF(BASE_CONTROL!$D$2:$K$999,$B57))) | E57: =IF($B57="","",SUM(COUNTIFS(BASE_CONTROL!$D$2:$D$999,$B57,BASE_CONTROL!$B$2:$B$999,"CERRADA"),COUNTIFS(BASE_CONTROL!$D$2:$D$999,$B57,BASE_CONTROL!$B$2:$B$999,"TERMINADA"),COUNTIFS(BASE_CONTROL!$E$2:$E$999,$B57,BASE_CONTROL!$B$2:$B$999,"CERRADA"),COUNTIFS(BASE_CONTROL!$E$2:$E$999,$B57,BASE_CONTROL!$B$2:$B$999,"TERMINADA"),COUNTIFS(BASE_CONTROL!$F$2:$F$999,$B57,BASE_CONTROL!$B$2:$B$999,"CERRADA"),COUNTIFS(BASE_CONTROL!$F$2:$F$999,$B57,BASE_CONTROL!$B$2:$B$999,"TERMINADA"),COUNTIFS(BASE_CONTROL!$G$2:$G$999,$B57,BASE_CONTROL!$B$2:$B$999,"CERRADA"),COUNTIFS(BASE_CONTROL!$G$2:$G$999,$B57,BASE_CONTROL!$B$2:$B$999,"TERMINADA"),COUNTIFS(BASE_CONTROL!$H$2:$H$999,$B57,BASE_CONTROL!$B$2:$B$999,"CERRADA"),COUNTIFS(BASE_CONTROL!$H$2:$H$999,$B57,BASE_CONTROL!$B$2:$B$999,"TERMINADA"),COUNTIFS(BASE_CONTROL!$I$2:$I$999,$B57,BASE_CONTROL!$B$2:$B$999,"CERRADA"),COUNTIFS(BASE_CONTROL!$I$2:$I$999,$B57,BASE_CONTROL!$B$2:$B$999,"TERMINADA"),COUNTIFS(BASE_CONTROL!$J$2:$J$999,$B57,BASE_CONTROL!$B$2:$B$999,"CERRADA"),COUNTIFS(BASE_CONTROL!$J$2:$J$999,$B57,BASE_CONTROL!$B$2:$B$999,"TERMINADA"),COUNTIFS(BASE_CONTROL!$K$2:$K$999,$B57,BASE_CONTROL!$B$2:$B$999,"CERRADA"),COUNTIFS(BASE_CONTROL!$K$2:$K$999,$B57,BASE_CONTROL!$B$2:$B$999,"TERMINADA"))) | F57: =IF($B57="","",SUM(COUNTIFS(BASE_CONTROL!$D$2:$D$999,$B57,BASE_CONTROL!$B$2:$B$999,"PENDIENTE"),COUNTIFS(BASE_CONTROL!$E$2:$E$999,$B57,BASE_CONTROL!$B$2:$B$999,"PENDIENTE"),COUNTIFS(BASE_CONTROL!$F$2:$F$999,$B57,BASE_CONTROL!$B$2:$B$999,"PENDIENTE"),COUNTIFS(BASE_CONTROL!$G$2:$G$999,$B57,BASE_CONTROL!$B$2:$B$999,"PENDIENTE"),COUNTIFS(BASE_CONTROL!$H$2:$H$999,$B57,BASE_CONTROL!$B$2:$B$999,"PENDIENTE"),COUNTIFS(BASE_CONTROL!$I$2:$I$999,$B57,BASE_CONTROL!$B$2:$B$999,"PENDIENTE"),COUNTIFS(BASE_CONTROL!$J$2:$J$999,$B57,BASE_CONTROL!$B$2:$B$999,"PENDIENTE"),COUNTIFS(BASE_CONTROL!$K$2:$K$999,$B57,BASE_CONTROL!$B$2:$B$999,"PENDIENTE"))) | G57: =IF($B57="","",IF($D57=0,"",IFERROR(MAX(MAXIFS(BASE_CONTROL!$C$2:$C$999,BASE_CONTROL!$D$2:$D$999,$B57),MAXIFS(BASE_CONTROL!$C$2:$C$999,BASE_CONTROL!$E$2:$E$999,$B57),MAXIFS(BASE_CONTROL!$C$2:$C$999,BASE_CONTROL!$F$2:$F$999,$B57),MAXIFS(BASE_CONTROL!$C$2:$C$999,BASE_CONTROL!$G$2:$G$999,$B57),MAXIFS(BASE_CONTROL!$C$2:$C$999,BASE_CONTROL!$H$2:$H$999,$B57),MAXIFS(BASE_CONTROL!$C$2:$C$999,BASE_CONTROL!$I$2:$I$999,$B57),MAXIFS(BASE_CONTROL!$C$2:$C$999,BASE_CONTROL!$J$2:$J$999,$B57),MAXIFS(BASE_CONTROL!$C$2:$C$999,BASE_CONTROL!$K$2:$K$999,$B57)),"")))
A58: =IF($B58="","",ROW()-4) | D58: =IF($B58="","",SUM(COUNTIF(BASE_CONTROL!$D$2:$K$999,$B58))) | E58: =IF($B58="","",SUM(COUNTIFS(BASE_CONTROL!$D$2:$D$999,$B58,BASE_CONTROL!$B$2:$B$999,"CERRADA"),COUNTIFS(BASE_CONTROL!$D$2:$D$999,$B58,BASE_CONTROL!$B$2:$B$999,"TERMINADA"),COUNTIFS(BASE_CONTROL!$E$2:$E$999,$B58,BASE_CONTROL!$B$2:$B$999,"CERRADA"),COUNTIFS(BASE_CONTROL!$E$2:$E$999,$B58,BASE_CONTROL!$B$2:$B$999,"TERMINADA"),COUNTIFS(BASE_CONTROL!$F$2:$F$999,$B58,BASE_CONTROL!$B$2:$B$999,"CERRADA"),COUNTIFS(BASE_CONTROL!$F$2:$F$999,$B58,BASE_CONTROL!$B$2:$B$999,"TERMINADA"),COUNTIFS(BASE_CONTROL!$G$2:$G$999,$B58,BASE_CONTROL!$B$2:$B$999,"CERRADA"),COUNTIFS(BASE_CONTROL!$G$2:$G$999,$B58,BASE_CONTROL!$B$2:$B$999,"TERMINADA"),COUNTIFS(BASE_CONTROL!$H$2:$H$999,$B58,BASE_CONTROL!$B$2:$B$999,"CERRADA"),COUNTIFS(BASE_CONTROL!$H$2:$H$999,$B58,BASE_CONTROL!$B$2:$B$999,"TERMINADA"),COUNTIFS(BASE_CONTROL!$I$2:$I$999,$B58,BASE_CONTROL!$B$2:$B$999,"CERRADA"),COUNTIFS(BASE_CONTROL!$I$2:$I$999,$B58,BASE_CONTROL!$B$2:$B$999,"TERMINADA"),COUNTIFS(BASE_CONTROL!$J$2:$J$999,$B58,BASE_CONTROL!$B$2:$B$999,"CERRADA"),COUNTIFS(BASE_CONTROL!$J$2:$J$999,$B58,BASE_CONTROL!$B$2:$B$999,"TERMINADA"),COUNTIFS(BASE_CONTROL!$K$2:$K$999,$B58,BASE_CONTROL!$B$2:$B$999,"CERRADA"),COUNTIFS(BASE_CONTROL!$K$2:$K$999,$B58,BASE_CONTROL!$B$2:$B$999,"TERMINADA"))) | F58: =IF($B58="","",SUM(COUNTIFS(BASE_CONTROL!$D$2:$D$999,$B58,BASE_CONTROL!$B$2:$B$999,"PENDIENTE"),COUNTIFS(BASE_CONTROL!$E$2:$E$999,$B58,BASE_CONTROL!$B$2:$B$999,"PENDIENTE"),COUNTIFS(BASE_CONTROL!$F$2:$F$999,$B58,BASE_CONTROL!$B$2:$B$999,"PENDIENTE"),COUNTIFS(BASE_CONTROL!$G$2:$G$999,$B58,BASE_CONTROL!$B$2:$B$999,"PENDIENTE"),COUNTIFS(BASE_CONTROL!$H$2:$H$999,$B58,BASE_CONTROL!$B$2:$B$999,"PENDIENTE"),COUNTIFS(BASE_CONTROL!$I$2:$I$999,$B58,BASE_CONTROL!$B$2:$B$999,"PENDIENTE"),COUNTIFS(BASE_CONTROL!$J$2:$J$999,$B58,BASE_CONTROL!$B$2:$B$999,"PENDIENTE"),COUNTIFS(BASE_CONTROL!$K$2:$K$999,$B58,BASE_CONTROL!$B$2:$B$999,"PENDIENTE"))) | G58: =IF($B58="","",IF($D58=0,"",IFERROR(MAX(MAXIFS(BASE_CONTROL!$C$2:$C$999,BASE_CONTROL!$D$2:$D$999,$B58),MAXIFS(BASE_CONTROL!$C$2:$C$999,BASE_CONTROL!$E$2:$E$999,$B58),MAXIFS(BASE_CONTROL!$C$2:$C$999,BASE_CONTROL!$F$2:$F$999,$B58),MAXIFS(BASE_CONTROL!$C$2:$C$999,BASE_CONTROL!$G$2:$G$999,$B58),MAXIFS(BASE_CONTROL!$C$2:$C$999,BASE_CONTROL!$H$2:$H$999,$B58),MAXIFS(BASE_CONTROL!$C$2:$C$999,BASE_CONTROL!$I$2:$I$999,$B58),MAXIFS(BASE_CONTROL!$C$2:$C$999,BASE_CONTROL!$J$2:$J$999,$B58),MAXIFS(BASE_CONTROL!$C$2:$C$999,BASE_CONTROL!$K$2:$K$999,$B58)),"")))
A59: =IF($B59="","",ROW()-4) | D59: =IF($B59="","",SUM(COUNTIF(BASE_CONTROL!$D$2:$K$999,$B59))) | E59: =IF($B59="","",SUM(COUNTIFS(BASE_CONTROL!$D$2:$D$999,$B59,BASE_CONTROL!$B$2:$B$999,"CERRADA"),COUNTIFS(BASE_CONTROL!$D$2:$D$999,$B59,BASE_CONTROL!$B$2:$B$999,"TERMINADA"),COUNTIFS(BASE_CONTROL!$E$2:$E$999,$B59,BASE_CONTROL!$B$2:$B$999,"CERRADA"),COUNTIFS(BASE_CONTROL!$E$2:$E$999,$B59,BASE_CONTROL!$B$2:$B$999,"TERMINADA"),COUNTIFS(BASE_CONTROL!$F$2:$F$999,$B59,BASE_CONTROL!$B$2:$B$999,"CERRADA"),COUNTIFS(BASE_CONTROL!$F$2:$F$999,$B59,BASE_CONTROL!$B$2:$B$999,"TERMINADA"),COUNTIFS(BASE_CONTROL!$G$2:$G$999,$B59,BASE_CONTROL!$B$2:$B$999,"CERRADA"),COUNTIFS(BASE_CONTROL!$G$2:$G$999,$B59,BASE_CONTROL!$B$2:$B$999,"TERMINADA"),COUNTIFS(BASE_CONTROL!$H$2:$H$999,$B59,BASE_CONTROL!$B$2:$B$999,"CERRADA"),COUNTIFS(BASE_CONTROL!$H$2:$H$999,$B59,BASE_CONTROL!$B$2:$B$999,"TERMINADA"),COUNTIFS(BASE_CONTROL!$I$2:$I$999,$B59,BASE_CONTROL!$B$2:$B$999,"CERRADA"),COUNTIFS(BASE_CONTROL!$I$2:$I$999,$B59,BASE_CONTROL!$B$2:$B$999,"TERMINADA"),COUNTIFS(BASE_CONTROL!$J$2:$J$999,$B59,BASE_CONTROL!$B$2:$B$999,"CERRADA"),COUNTIFS(BASE_CONTROL!$J$2:$J$999,$B59,BASE_CONTROL!$B$2:$B$999,"TERMINADA"),COUNTIFS(BASE_CONTROL!$K$2:$K$999,$B59,BASE_CONTROL!$B$2:$B$999,"CERRADA"),COUNTIFS(BASE_CONTROL!$K$2:$K$999,$B59,BASE_CONTROL!$B$2:$B$999,"TERMINADA"))) | F59: =IF($B59="","",SUM(COUNTIFS(BASE_CONTROL!$D$2:$D$999,$B59,BASE_CONTROL!$B$2:$B$999,"PENDIENTE"),COUNTIFS(BASE_CONTROL!$E$2:$E$999,$B59,BASE_CONTROL!$B$2:$B$999,"PENDIENTE"),COUNTIFS(BASE_CONTROL!$F$2:$F$999,$B59,BASE_CONTROL!$B$2:$B$999,"PENDIENTE"),COUNTIFS(BASE_CONTROL!$G$2:$G$999,$B59,BASE_CONTROL!$B$2:$B$999,"PENDIENTE"),COUNTIFS(BASE_CONTROL!$H$2:$H$999,$B59,BASE_CONTROL!$B$2:$B$999,"PENDIENTE"),COUNTIFS(BASE_CONTROL!$I$2:$I$999,$B59,BASE_CONTROL!$B$2:$B$999,"PENDIENTE"),COUNTIFS(BASE_CONTROL!$J$2:$J$999,$B59,BASE_CONTROL!$B$2:$B$999,"PENDIENTE"),COUNTIFS(BASE_CONTROL!$K$2:$K$999,$B59,BASE_CONTROL!$B$2:$B$999,"PENDIENTE"))) | G59: =IF($B59="","",IF($D59=0,"",IFERROR(MAX(MAXIFS(BASE_CONTROL!$C$2:$C$999,BASE_CONTROL!$D$2:$D$999,$B59),MAXIFS(BASE_CONTROL!$C$2:$C$999,BASE_CONTROL!$E$2:$E$999,$B59),MAXIFS(BASE_CONTROL!$C$2:$C$999,BASE_CONTROL!$F$2:$F$999,$B59),MAXIFS(BASE_CONTROL!$C$2:$C$999,BASE_CONTROL!$G$2:$G$999,$B59),MAXIFS(BASE_CONTROL!$C$2:$C$999,BASE_CONTROL!$H$2:$H$999,$B59),MAXIFS(BASE_CONTROL!$C$2:$C$999,BASE_CONTROL!$I$2:$I$999,$B59),MAXIFS(BASE_CONTROL!$C$2:$C$999,BASE_CONTROL!$J$2:$J$999,$B59),MAXIFS(BASE_CONTROL!$C$2:$C$999,BASE_CONTROL!$K$2:$K$999,$B59)),"")))
A60: =IF($B60="","",ROW()-4) | D60: =IF($B60="","",SUM(COUNTIF(BASE_CONTROL!$D$2:$K$999,$B60))) | E60: =IF($B60="","",SUM(COUNTIFS(BASE_CONTROL!$D$2:$D$999,$B60,BASE_CONTROL!$B$2:$B$999,"CERRADA"),COUNTIFS(BASE_CONTROL!$D$2:$D$999,$B60,BASE_CONTROL!$B$2:$B$999,"TERMINADA"),COUNTIFS(BASE_CONTROL!$E$2:$E$999,$B60,BASE_CONTROL!$B$2:$B$999,"CERRADA"),COUNTIFS(BASE_CONTROL!$E$2:$E$999,$B60,BASE_CONTROL!$B$2:$B$999,"TERMINADA"),COUNTIFS(BASE_CONTROL!$F$2:$F$999,$B60,BASE_CONTROL!$B$2:$B$999,"CERRADA"),COUNTIFS(BASE_CONTROL!$F$2:$F$999,$B60,BASE_CONTROL!$B$2:$B$999,"TERMINADA"),COUNTIFS(BASE_CONTROL!$G$2:$G$999,$B60,BASE_CONTROL!$B$2:$B$999,"CERRADA"),COUNTIFS(BASE_CONTROL!$G$2:$G$999,$B60,BASE_CONTROL!$B$2:$B$999,"TERMINADA"),COUNTIFS(BASE_CONTROL!$H$2:$H$999,$B60,BASE_CONTROL!$B$2:$B$999,"CERRADA"),COUNTIFS(BASE_CONTROL!$H$2:$H$999,$B60,BASE_CONTROL!$B$2:$B$999,"TERMINADA"),COUNTIFS(BASE_CONTROL!$I$2:$I$999,$B60,BASE_CONTROL!$B$2:$B$999,"CERRADA"),COUNTIFS(BASE_CONTROL!$I$2:$I$999,$B60,BASE_CONTROL!$B$2:$B$999,"TERMINADA"),COUNTIFS(BASE_CONTROL!$J$2:$J$999,$B60,BASE_CONTROL!$B$2:$B$999,"CERRADA"),COUNTIFS(BASE_CONTROL!$J$2:$J$999,$B60,BASE_CONTROL!$B$2:$B$999,"TERMINADA"),COUNTIFS(BASE_CONTROL!$K$2:$K$999,$B60,BASE_CONTROL!$B$2:$B$999,"CERRADA"),COUNTIFS(BASE_CONTROL!$K$2:$K$999,$B60,BASE_CONTROL!$B$2:$B$999,"TERMINADA"))) | F60: =IF($B60="","",SUM(COUNTIFS(BASE_CONTROL!$D$2:$D$999,$B60,BASE_CONTROL!$B$2:$B$999,"PENDIENTE"),COUNTIFS(BASE_CONTROL!$E$2:$E$999,$B60,BASE_CONTROL!$B$2:$B$999,"PENDIENTE"),COUNTIFS(BASE_CONTROL!$F$2:$F$999,$B60,BASE_CONTROL!$B$2:$B$999,"PENDIENTE"),COUNTIFS(BASE_CONTROL!$G$2:$G$999,$B60,BASE_CONTROL!$B$2:$B$999,"PENDIENTE"),COUNTIFS(BASE_CONTROL!$H$2:$H$999,$B60,BASE_CONTROL!$B$2:$B$999,"PENDIENTE"),COUNTIFS(BASE_CONTROL!$I$2:$I$999,$B60,BASE_CONTROL!$B$2:$B$999,"PENDIENTE"),COUNTIFS(BASE_CONTROL!$J$2:$J$999,$B60,BASE_CONTROL!$B$2:$B$999,"PENDIENTE"),COUNTIFS(BASE_CONTROL!$K$2:$K$999,$B60,BASE_CONTROL!$B$2:$B$999,"PENDIENTE"))) | G60: =IF($B60="","",IF($D60=0,"",IFERROR(MAX(MAXIFS(BASE_CONTROL!$C$2:$C$999,BASE_CONTROL!$D$2:$D$999,$B60),MAXIFS(BASE_CONTROL!$C$2:$C$999,BASE_CONTROL!$E$2:$E$999,$B60),MAXIFS(BASE_CONTROL!$C$2:$C$999,BASE_CONTROL!$F$2:$F$999,$B60),MAXIFS(BASE_CONTROL!$C$2:$C$999,BASE_CONTROL!$G$2:$G$999,$B60),MAXIFS(BASE_CONTROL!$C$2:$C$999,BASE_CONTROL!$H$2:$H$999,$B60),MAXIFS(BASE_CONTROL!$C$2:$C$999,BASE_CONTROL!$I$2:$I$999,$B60),MAXIFS(BASE_CONTROL!$C$2:$C$999,BASE_CONTROL!$J$2:$J$999,$B60),MAXIFS(BASE_CONTROL!$C$2:$C$999,BASE_CONTROL!$K$2:$K$999,$B60)),"")))
A61: =IF($B61="","",ROW()-4) | D61: =IF($B61="","",SUM(COUNTIF(BASE_CONTROL!$D$2:$K$999,$B61))) | E61: =IF($B61="","",SUM(COUNTIFS(BASE_CONTROL!$D$2:$D$999,$B61,BASE_CONTROL!$B$2:$B$999,"CERRADA"),COUNTIFS(BASE_CONTROL!$D$2:$D$999,$B61,BASE_CONTROL!$B$2:$B$999,"TERMINADA"),COUNTIFS(BASE_CONTROL!$E$2:$E$999,$B61,BASE_CONTROL!$B$2:$B$999,"CERRADA"),COUNTIFS(BASE_CONTROL!$E$2:$E$999,$B61,BASE_CONTROL!$B$2:$B$999,"TERMINADA"),COUNTIFS(BASE_CONTROL!$F$2:$F$999,$B61,BASE_CONTROL!$B$2:$B$999,"CERRADA"),COUNTIFS(BASE_CONTROL!$F$2:$F$999,$B61,BASE_CONTROL!$B$2:$B$999,"TERMINADA"),COUNTIFS(BASE_CONTROL!$G$2:$G$999,$B61,BASE_CONTROL!$B$2:$B$999,"CERRADA"),COUNTIFS(BASE_CONTROL!$G$2:$G$999,$B61,BASE_CONTROL!$B$2:$B$999,"TERMINADA"),COUNTIFS(BASE_CONTROL!$H$2:$H$999,$B61,BASE_CONTROL!$B$2:$B$999,"CERRADA"),COUNTIFS(BASE_CONTROL!$H$2:$H$999,$B61,BASE_CONTROL!$B$2:$B$999,"TERMINADA"),COUNTIFS(BASE_CONTROL!$I$2:$I$999,$B61,BASE_CONTROL!$B$2:$B$999,"CERRADA"),COUNTIFS(BASE_CONTROL!$I$2:$I$999,$B61,BASE_CONTROL!$B$2:$B$999,"TERMINADA"),COUNTIFS(BASE_CONTROL!$J$2:$J$999,$B61,BASE_CONTROL!$B$2:$B$999,"CERRADA"),COUNTIFS(BASE_CONTROL!$J$2:$J$999,$B61,BASE_CONTROL!$B$2:$B$999,"TERMINADA"),COUNTIFS(BASE_CONTROL!$K$2:$K$999,$B61,BASE_CONTROL!$B$2:$B$999,"CERRADA"),COUNTIFS(BASE_CONTROL!$K$2:$K$999,$B61,BASE_CONTROL!$B$2:$B$999,"TERMINADA"))) | F61: =IF($B61="","",SUM(COUNTIFS(BASE_CONTROL!$D$2:$D$999,$B61,BASE_CONTROL!$B$2:$B$999,"PENDIENTE"),COUNTIFS(BASE_CONTROL!$E$2:$E$999,$B61,BASE_CONTROL!$B$2:$B$999,"PENDIENTE"),COUNTIFS(BASE_CONTROL!$F$2:$F$999,$B61,BASE_CONTROL!$B$2:$B$999,"PENDIENTE"),COUNTIFS(BASE_CONTROL!$G$2:$G$999,$B61,BASE_CONTROL!$B$2:$B$999,"PENDIENTE"),COUNTIFS(BASE_CONTROL!$H$2:$H$999,$B61,BASE_CONTROL!$B$2:$B$999,"PENDIENTE"),COUNTIFS(BASE_CONTROL!$I$2:$I$999,$B61,BASE_CONTROL!$B$2:$B$999,"PENDIENTE"),COUNTIFS(BASE_CONTROL!$J$2:$J$999,$B61,BASE_CONTROL!$B$2:$B$999,"PENDIENTE"),COUNTIFS(BASE_CONTROL!$K$2:$K$999,$B61,BASE_CONTROL!$B$2:$B$999,"PENDIENTE"))) | G61: =IF($B61="","",IF($D61=0,"",IFERROR(MAX(MAXIFS(BASE_CONTROL!$C$2:$C$999,BASE_CONTROL!$D$2:$D$999,$B61),MAXIFS(BASE_CONTROL!$C$2:$C$999,BASE_CONTROL!$E$2:$E$999,$B61),MAXIFS(BASE_CONTROL!$C$2:$C$999,BASE_CONTROL!$F$2:$F$999,$B61),MAXIFS(BASE_CONTROL!$C$2:$C$999,BASE_CONTROL!$G$2:$G$999,$B61),MAXIFS(BASE_CONTROL!$C$2:$C$999,BASE_CONTROL!$H$2:$H$999,$B61),MAXIFS(BASE_CONTROL!$C$2:$C$999,BASE_CONTROL!$I$2:$I$999,$B61),MAXIFS(BASE_CONTROL!$C$2:$C$999,BASE_CONTROL!$J$2:$J$999,$B61),MAXIFS(BASE_CONTROL!$C$2:$C$999,BASE_CONTROL!$K$2:$K$999,$B61)),"")))
A62: =IF($B62="","",ROW()-4) | D62: =IF($B62="","",SUM(COUNTIF(BASE_CONTROL!$D$2:$K$999,$B62))) | E62: =IF($B62="","",SUM(COUNTIFS(BASE_CONTROL!$D$2:$D$999,$B62,BASE_CONTROL!$B$2:$B$999,"CERRADA"),COUNTIFS(BASE_CONTROL!$D$2:$D$999,$B62,BASE_CONTROL!$B$2:$B$999,"TERMINADA"),COUNTIFS(BASE_CONTROL!$E$2:$E$999,$B62,BASE_CONTROL!$B$2:$B$999,"CERRADA"),COUNTIFS(BASE_CONTROL!$E$2:$E$999,$B62,BASE_CONTROL!$B$2:$B$999,"TERMINADA"),COUNTIFS(BASE_CONTROL!$F$2:$F$999,$B62,BASE_CONTROL!$B$2:$B$999,"CERRADA"),COUNTIFS(BASE_CONTROL!$F$2:$F$999,$B62,BASE_CONTROL!$B$2:$B$999,"TERMINADA"),COUNTIFS(BASE_CONTROL!$G$2:$G$999,$B62,BASE_CONTROL!$B$2:$B$999,"CERRADA"),COUNTIFS(BASE_CONTROL!$G$2:$G$999,$B62,BASE_CONTROL!$B$2:$B$999,"TERMINADA"),COUNTIFS(BASE_CONTROL!$H$2:$H$999,$B62,BASE_CONTROL!$B$2:$B$999,"CERRADA"),COUNTIFS(BASE_CONTROL!$H$2:$H$999,$B62,BASE_CONTROL!$B$2:$B$999,"TERMINADA"),COUNTIFS(BASE_CONTROL!$I$2:$I$999,$B62,BASE_CONTROL!$B$2:$B$999,"CERRADA"),COUNTIFS(BASE_CONTROL!$I$2:$I$999,$B62,BASE_CONTROL!$B$2:$B$999,"TERMINADA"),COUNTIFS(BASE_CONTROL!$J$2:$J$999,$B62,BASE_CONTROL!$B$2:$B$999,"CERRADA"),COUNTIFS(BASE_CONTROL!$J$2:$J$999,$B62,BASE_CONTROL!$B$2:$B$999,"TERMINADA"),COUNTIFS(BASE_CONTROL!$K$2:$K$999,$B62,BASE_CONTROL!$B$2:$B$999,"CERRADA"),COUNTIFS(BASE_CONTROL!$K$2:$K$999,$B62,BASE_CONTROL!$B$2:$B$999,"TERMINADA"))) | F62: =IF($B62="","",SUM(COUNTIFS(BASE_CONTROL!$D$2:$D$999,$B62,BASE_CONTROL!$B$2:$B$999,"PENDIENTE"),COUNTIFS(BASE_CONTROL!$E$2:$E$999,$B62,BASE_CONTROL!$B$2:$B$999,"PENDIENTE"),COUNTIFS(BASE_CONTROL!$F$2:$F$999,$B62,BASE_CONTROL!$B$2:$B$999,"PENDIENTE"),COUNTIFS(BASE_CONTROL!$G$2:$G$999,$B62,BASE_CONTROL!$B$2:$B$999,"PENDIENTE"),COUNTIFS(BASE_CONTROL!$H$2:$H$999,$B62,BASE_CONTROL!$B$2:$B$999,"PENDIENTE"),COUNTIFS(BASE_CONTROL!$I$2:$I$999,$B62,BASE_CONTROL!$B$2:$B$999,"PENDIENTE"),COUNTIFS(BASE_CONTROL!$J$2:$J$999,$B62,BASE_CONTROL!$B$2:$B$999,"PENDIENTE"),COUNTIFS(BASE_CONTROL!$K$2:$K$999,$B62,BASE_CONTROL!$B$2:$B$999,"PENDIENTE"))) | G62: =IF($B62="","",IF($D62=0,"",IFERROR(MAX(MAXIFS(BASE_CONTROL!$C$2:$C$999,BASE_CONTROL!$D$2:$D$999,$B62),MAXIFS(BASE_CONTROL!$C$2:$C$999,BASE_CONTROL!$E$2:$E$999,$B62),MAXIFS(BASE_CONTROL!$C$2:$C$999,BASE_CONTROL!$F$2:$F$999,$B62),MAXIFS(BASE_CONTROL!$C$2:$C$999,BASE_CONTROL!$G$2:$G$999,$B62),MAXIFS(BASE_CONTROL!$C$2:$C$999,BASE_CONTROL!$H$2:$H$999,$B62),MAXIFS(BASE_CONTROL!$C$2:$C$999,BASE_CONTROL!$I$2:$I$999,$B62),MAXIFS(BASE_CONTROL!$C$2:$C$999,BASE_CONTROL!$J$2:$J$999,$B62),MAXIFS(BASE_CONTROL!$C$2:$C$999,BASE_CONTROL!$K$2:$K$999,$B62)),"")))
A63: =IF($B63="","",ROW()-4) | D63: =IF($B63="","",SUM(COUNTIF(BASE_CONTROL!$D$2:$K$999,$B63))) | E63: =IF($B63="","",SUM(COUNTIFS(BASE_CONTROL!$D$2:$D$999,$B63,BASE_CONTROL!$B$2:$B$999,"CERRADA"),COUNTIFS(BASE_CONTROL!$D$2:$D$999,$B63,BASE_CONTROL!$B$2:$B$999,"TERMINADA"),COUNTIFS(BASE_CONTROL!$E$2:$E$999,$B63,BASE_CONTROL!$B$2:$B$999,"CERRADA"),COUNTIFS(BASE_CONTROL!$E$2:$E$999,$B63,BASE_CONTROL!$B$2:$B$999,"TERMINADA"),COUNTIFS(BASE_CONTROL!$F$2:$F$999,$B63,BASE_CONTROL!$B$2:$B$999,"CERRADA"),COUNTIFS(BASE_CONTROL!$F$2:$F$999,$B63,BASE_CONTROL!$B$2:$B$999,"TERMINADA"),COUNTIFS(BASE_CONTROL!$G$2:$G$999,$B63,BASE_CONTROL!$B$2:$B$999,"CERRADA"),COUNTIFS(BASE_CONTROL!$G$2:$G$999,$B63,BASE_CONTROL!$B$2:$B$999,"TERMINADA"),COUNTIFS(BASE_CONTROL!$H$2:$H$999,$B63,BASE_CONTROL!$B$2:$B$999,"CERRADA"),COUNTIFS(BASE_CONTROL!$H$2:$H$999,$B63,BASE_CONTROL!$B$2:$B$999,"TERMINADA"),COUNTIFS(BASE_CONTROL!$I$2:$I$999,$B63,BASE_CONTROL!$B$2:$B$999,"CERRADA"),COUNTIFS(BASE_CONTROL!$I$2:$I$999,$B63,BASE_CONTROL!$B$2:$B$999,"TERMINADA"),COUNTIFS(BASE_CONTROL!$J$2:$J$999,$B63,BASE_CONTROL!$B$2:$B$999,"CERRADA"),COUNTIFS(BASE_CONTROL!$J$2:$J$999,$B63,BASE_CONTROL!$B$2:$B$999,"TERMINADA"),COUNTIFS(BASE_CONTROL!$K$2:$K$999,$B63,BASE_CONTROL!$B$2:$B$999,"CERRADA"),COUNTIFS(BASE_CONTROL!$K$2:$K$999,$B63,BASE_CONTROL!$B$2:$B$999,"TERMINADA"))) | F63: =IF($B63="","",SUM(COUNTIFS(BASE_CONTROL!$D$2:$D$999,$B63,BASE_CONTROL!$B$2:$B$999,"PENDIENTE"),COUNTIFS(BASE_CONTROL!$E$2:$E$999,$B63,BASE_CONTROL!$B$2:$B$999,"PENDIENTE"),COUNTIFS(BASE_CONTROL!$F$2:$F$999,$B63,BASE_CONTROL!$B$2:$B$999,"PENDIENTE"),COUNTIFS(BASE_CONTROL!$G$2:$G$999,$B63,BASE_CONTROL!$B$2:$B$999,"PENDIENTE"),COUNTIFS(BASE_CONTROL!$H$2:$H$999,$B63,BASE_CONTROL!$B$2:$B$999,"PENDIENTE"),COUNTIFS(BASE_CONTROL!$I$2:$I$999,$B63,BASE_CONTROL!$B$2:$B$999,"PENDIENTE"),COUNTIFS(BASE_CONTROL!$J$2:$J$999,$B63,BASE_CONTROL!$B$2:$B$999,"PENDIENTE"),COUNTIFS(BASE_CONTROL!$K$2:$K$999,$B63,BASE_CONTROL!$B$2:$B$999,"PENDIENTE"))) | G63: =IF($B63="","",IF($D63=0,"",IFERROR(MAX(MAXIFS(BASE_CONTROL!$C$2:$C$999,BASE_CONTROL!$D$2:$D$999,$B63),MAXIFS(BASE_CONTROL!$C$2:$C$999,BASE_CONTROL!$E$2:$E$999,$B63),MAXIFS(BASE_CONTROL!$C$2:$C$999,BASE_CONTROL!$F$2:$F$999,$B63),MAXIFS(BASE_CONTROL!$C$2:$C$999,BASE_CONTROL!$G$2:$G$999,$B63),MAXIFS(BASE_CONTROL!$C$2:$C$999,BASE_CONTROL!$H$2:$H$999,$B63),MAXIFS(BASE_CONTROL!$C$2:$C$999,BASE_CONTROL!$I$2:$I$999,$B63),MAXIFS(BASE_CONTROL!$C$2:$C$999,BASE_CONTROL!$J$2:$J$999,$B63),MAXIFS(BASE_CONTROL!$C$2:$C$999,BASE_CONTROL!$K$2:$K$999,$B63)),"")))
A64: =IF($B64="","",ROW()-4) | D64: =IF($B64="","",SUM(COUNTIF(BASE_CONTROL!$D$2:$K$999,$B64))) | E64: =IF($B64="","",SUM(COUNTIFS(BASE_CONTROL!$D$2:$D$999,$B64,BASE_CONTROL!$B$2:$B$999,"CERRADA"),COUNTIFS(BASE_CONTROL!$D$2:$D$999,$B64,BASE_CONTROL!$B$2:$B$999,"TERMINADA"),COUNTIFS(BASE_CONTROL!$E$2:$E$999,$B64,BASE_CONTROL!$B$2:$B$999,"CERRADA"),COUNTIFS(BASE_CONTROL!$E$2:$E$999,$B64,BASE_CONTROL!$B$2:$B$999,"TERMINADA"),COUNTIFS(BASE_CONTROL!$F$2:$F$999,$B64,BASE_CONTROL!$B$2:$B$999,"CERRADA"),COUNTIFS(BASE_CONTROL!$F$2:$F$999,$B64,BASE_CONTROL!$B$2:$B$999,"TERMINADA"),COUNTIFS(BASE_CONTROL!$G$2:$G$999,$B64,BASE_CONTROL!$B$2:$B$999,"CERRADA"),COUNTIFS(BASE_CONTROL!$G$2:$G$999,$B64,BASE_CONTROL!$B$2:$B$999,"TERMINADA"),COUNTIFS(BASE_CONTROL!$H$2:$H$999,$B64,BASE_CONTROL!$B$2:$B$999,"CERRADA"),COUNTIFS(BASE_CONTROL!$H$2:$H$999,$B64,BASE_CONTROL!$B$2:$B$999,"TERMINADA"),COUNTIFS(BASE_CONTROL!$I$2:$I$999,$B64,BASE_CONTROL!$B$2:$B$999,"CERRADA"),COUNTIFS(BASE_CONTROL!$I$2:$I$999,$B64,BASE_CONTROL!$B$2:$B$999,"TERMINADA"),COUNTIFS(BASE_CONTROL!$J$2:$J$999,$B64,BASE_CONTROL!$B$2:$B$999,"CERRADA"),COUNTIFS(BASE_CONTROL!$J$2:$J$999,$B64,BASE_CONTROL!$B$2:$B$999,"TERMINADA"),COUNTIFS(BASE_CONTROL!$K$2:$K$999,$B64,BASE_CONTROL!$B$2:$B$999,"CERRADA"),COUNTIFS(BASE_CONTROL!$K$2:$K$999,$B64,BASE_CONTROL!$B$2:$B$999,"TERMINADA"))) | F64: =IF($B64="","",SUM(COUNTIFS(BASE_CONTROL!$D$2:$D$999,$B64,BASE_CONTROL!$B$2:$B$999,"PENDIENTE"),COUNTIFS(BASE_CONTROL!$E$2:$E$999,$B64,BASE_CONTROL!$B$2:$B$999,"PENDIENTE"),COUNTIFS(BASE_CONTROL!$F$2:$F$999,$B64,BASE_CONTROL!$B$2:$B$999,"PENDIENTE"),COUNTIFS(BASE_CONTROL!$G$2:$G$999,$B64,BASE_CONTROL!$B$2:$B$999,"PENDIENTE"),COUNTIFS(BASE_CONTROL!$H$2:$H$999,$B64,BASE_CONTROL!$B$2:$B$999,"PENDIENTE"),COUNTIFS(BASE_CONTROL!$I$2:$I$999,$B64,BASE_CONTROL!$B$2:$B$999,"PENDIENTE"),COUNTIFS(BASE_CONTROL!$J$2:$J$999,$B64,BASE_CONTROL!$B$2:$B$999,"PENDIENTE"),COUNTIFS(BASE_CONTROL!$K$2:$K$999,$B64,BASE_CONTROL!$B$2:$B$999,"PENDIENTE"))) | G64: =IF($B64="","",IF($D64=0,"",IFERROR(MAX(MAXIFS(BASE_CONTROL!$C$2:$C$999,BASE_CONTROL!$D$2:$D$999,$B64),MAXIFS(BASE_CONTROL!$C$2:$C$999,BASE_CONTROL!$E$2:$E$999,$B64),MAXIFS(BASE_CONTROL!$C$2:$C$999,BASE_CONTROL!$F$2:$F$999,$B64),MAXIFS(BASE_CONTROL!$C$2:$C$999,BASE_CONTROL!$G$2:$G$999,$B64),MAXIFS(BASE_CONTROL!$C$2:$C$999,BASE_CONTROL!$H$2:$H$999,$B64),MAXIFS(BASE_CONTROL!$C$2:$C$999,BASE_CONTROL!$I$2:$I$999,$B64),MAXIFS(BASE_CONTROL!$C$2:$C$999,BASE_CONTROL!$J$2:$J$999,$B64),MAXIFS(BASE_CONTROL!$C$2:$C$999,BASE_CONTROL!$K$2:$K$999,$B64)),"")))
A65: =IF($B65="","",ROW()-4) | D65: =IF($B65="","",SUM(COUNTIF(BASE_CONTROL!$D$2:$K$999,$B65))) | E65: =IF($B65="","",SUM(COUNTIFS(BASE_CONTROL!$D$2:$D$999,$B65,BASE_CONTROL!$B$2:$B$999,"CERRADA"),COUNTIFS(BASE_CONTROL!$D$2:$D$999,$B65,BASE_CONTROL!$B$2:$B$999,"TERMINADA"),COUNTIFS(BASE_CONTROL!$E$2:$E$999,$B65,BASE_CONTROL!$B$2:$B$999,"CERRADA"),COUNTIFS(BASE_CONTROL!$E$2:$E$999,$B65,BASE_CONTROL!$B$2:$B$999,"TERMINADA"),COUNTIFS(BASE_CONTROL!$F$2:$F$999,$B65,BASE_CONTROL!$B$2:$B$999,"CERRADA"),COUNTIFS(BASE_CONTROL!$F$2:$F$999,$B65,BASE_CONTROL!$B$2:$B$999,"TERMINADA"),COUNTIFS(BASE_CONTROL!$G$2:$G$999,$B65,BASE_CONTROL!$B$2:$B$999,"CERRADA"),COUNTIFS(BASE_CONTROL!$G$2:$G$999,$B65,BASE_CONTROL!$B$2:$B$999,"TERMINADA"),COUNTIFS(BASE_CONTROL!$H$2:$H$999,$B65,BASE_CONTROL!$B$2:$B$999,"CERRADA"),COUNTIFS(BASE_CONTROL!$H$2:$H$999,$B65,BASE_CONTROL!$B$2:$B$999,"TERMINADA"),COUNTIFS(BASE_CONTROL!$I$2:$I$999,$B65,BASE_CONTROL!$B$2:$B$999,"CERRADA"),COUNTIFS(BASE_CONTROL!$I$2:$I$999,$B65,BASE_CONTROL!$B$2:$B$999,"TERMINADA"),COUNTIFS(BASE_CONTROL!$J$2:$J$999,$B65,BASE_CONTROL!$B$2:$B$999,"CERRADA"),COUNTIFS(BASE_CONTROL!$J$2:$J$999,$B65,BASE_CONTROL!$B$2:$B$999,"TERMINADA"),COUNTIFS(BASE_CONTROL!$K$2:$K$999,$B65,BASE_CONTROL!$B$2:$B$999,"CERRADA"),COUNTIFS(BASE_CONTROL!$K$2:$K$999,$B65,BASE_CONTROL!$B$2:$B$999,"TERMINADA"))) | F65: =IF($B65="","",SUM(COUNTIFS(BASE_CONTROL!$D$2:$D$999,$B65,BASE_CONTROL!$B$2:$B$999,"PENDIENTE"),COUNTIFS(BASE_CONTROL!$E$2:$E$999,$B65,BASE_CONTROL!$B$2:$B$999,"PENDIENTE"),COUNTIFS(BASE_CONTROL!$F$2:$F$999,$B65,BASE_CONTROL!$B$2:$B$999,"PENDIENTE"),COUNTIFS(BASE_CONTROL!$G$2:$G$999,$B65,BASE_CONTROL!$B$2:$B$999,"PENDIENTE"),COUNTIFS(BASE_CONTROL!$H$2:$H$999,$B65,BASE_CONTROL!$B$2:$B$999,"PENDIENTE"),COUNTIFS(BASE_CONTROL!$I$2:$I$999,$B65,BASE_CONTROL!$B$2:$B$999,"PENDIENTE"),COUNTIFS(BASE_CONTROL!$J$2:$J$999,$B65,BASE_CONTROL!$B$2:$B$999,"PENDIENTE"),COUNTIFS(BASE_CONTROL!$K$2:$K$999,$B65,BASE_CONTROL!$B$2:$B$999,"PENDIENTE"))) | G65: =IF($B65="","",IF($D65=0,"",IFERROR(MAX(MAXIFS(BASE_CONTROL!$C$2:$C$999,BASE_CONTROL!$D$2:$D$999,$B65),MAXIFS(BASE_CONTROL!$C$2:$C$999,BASE_CONTROL!$E$2:$E$999,$B65),MAXIFS(BASE_CONTROL!$C$2:$C$999,BASE_CONTROL!$F$2:$F$999,$B65),MAXIFS(BASE_CONTROL!$C$2:$C$999,BASE_CONTROL!$G$2:$G$999,$B65),MAXIFS(BASE_CONTROL!$C$2:$C$999,BASE_CONTROL!$H$2:$H$999,$B65),MAXIFS(BASE_CONTROL!$C$2:$C$999,BASE_CONTROL!$I$2:$I$999,$B65),MAXIFS(BASE_CONTROL!$C$2:$C$999,BASE_CONTROL!$J$2:$J$999,$B65),MAXIFS(BASE_CONTROL!$C$2:$C$999,BASE_CONTROL!$K$2:$K$999,$B65)),"")))
... A504: =IF($B504="","",ROW()-4) | D504: =IF($B504="","",SUM(COUNTIF(BASE_CONTROL!$D$2:$K$999,$B504))) | E504: =IF($B504="","",SUM(COUNTIFS(BASE_CONTROL!$D$2:$D$999,$B504,BASE_CONTROL!$B$2:$B$999,"CERRADA"),COUNTIFS(BASE_CONTROL!$D$2:$D$999,$B504,BASE_CONTROL!$B$2:$B$999,"TERMINADA"),COUNTIFS(BASE_CONTROL!$E$2:$E$999,$B504,BASE_CONTROL!$B$2:$B$999,"CERRADA"),COUNTIFS(BASE_CONTROL!$E$2:$E$999,$B504,BASE_CONTROL!$B$2:$B$999,"TERMINADA"),COUNTIFS(BASE_CONTROL!$F$2:$F$999,$B504,BASE_CONTROL!$B$2:$B$999,"CERRADA"),COUNTIFS(BASE_CONTROL!$F$2:$F$999,$B504,BASE_CONTROL!$B$2:$B$999,"TERMINADA"),COUNTIFS(BASE_CONTROL!$G$2:$G$999,$B504,BASE_CONTROL!$B$2:$B$999,"CERRADA"),COUNTIFS(BASE_CONTROL!$G$2:$G$999,$B504,BASE_CONTROL!$B$2:$B$999,"TERMINADA"),COUNTIFS(BASE_CONTROL!$H$2:$H$999,$B504,BASE_CONTROL!$B$2:$B$999,"CERRADA"),COUNTIFS(BASE_CONTROL!$H$2:$H$999,$B504,BASE_CONTROL!$B$2:$B$999,"TERMINADA"),COUNTIFS(BASE_CONTROL!$I$2:$I$999,$B504,BASE_CONTROL!$B$2:$B$999,"CERRADA"),COUNTIFS(BASE_CONTROL!$I$2:$I$999,$B504,BASE_CONTROL!$B$2:$B$999,"TERMINADA"),COUNTIFS(BASE_CONTROL!$J$2:$J$999,$B504,BASE_CONTROL!$B$2:$B$999,"CERRADA"),COUNTIFS(BASE_CONTROL!$J$2:$J$999,$B504,BASE_CONTROL!$B$2:$B$999,"TERMINADA"),COUNTIFS(BASE_CONTROL!$K$2:$K$999,$B504,BASE_CONTROL!$B$2:$B$999,"CERRADA"),COUNTIFS(BASE_CONTROL!$K$2:$K$999,$B504,BASE_CONTROL!$B$2:$B$999,"TERMINADA"))) | F504: =IF($B504="","",SUM(COUNTIFS(BASE_CONTROL!$D$2:$D$999,$B504,BASE_CONTROL!$B$2:$B$999,"PENDIENTE"),COUNTIFS(BASE_CONTROL!$E$2:$E$999,$B504,BASE_CONTROL!$B$2:$B$999,"PENDIENTE"),COUNTIFS(BASE_CONTROL!$F$2:$F$999,$B504,BASE_CONTROL!$B$2:$B$999,"PENDIENTE"),COUNTIFS(BASE_CONTROL!$G$2:$G$999,$B504,BASE_CONTROL!$B$2:$B$999,"PENDIENTE"),COUNTIFS(BASE_CONTROL!$H$2:$H$999,$B504,BASE_CONTROL!$B$2:$B$999,"PENDIENTE"),COUNTIFS(BASE_CONTROL!$I$2:$I$999,$B504,BASE_CONTROL!$B$2:$B$999,"PENDIENTE"),COUNTIFS(BASE_CONTROL!$J$2:$J$999,$B504,BASE_CONTROL!$B$2:$B$999,"PENDIENTE"),COUNTIFS(BASE_CONTROL!$K$2:$K$999,$B504,BASE_CONTROL!$B$2:$B$999,"PENDIENTE"))) | G504: =IF($B504="","",IF($D504=0,"",IFERROR(MAX(MAXIFS(BASE_CONTROL!$C$2:$C$999,BASE_CONTROL!$D$2:$D$999,$B504),MAXIFS(BASE_CONTROL!$C$2:$C$999,BASE_CONTROL!$E$2:$E$999,$B504),MAXIFS(BASE_CONTROL!$C$2:$C$999,BASE_CONTROL!$F$2:$F$999,$B504),MAXIFS(BASE_CONTROL!$C$2:$C$999,BASE_CONTROL!$G$2:$G$999,$B504),MAXIFS(BASE_CONTROL!$C$2:$C$999,BASE_CONTROL!$H$2:$H$999,$B504),MAXIFS(BASE_CONTROL!$C$2:$C$999,BASE_CONTROL!$I$2:$I$999,$B504),MAXIFS(BASE_CONTROL!$C$2:$C$999,BASE_CONTROL!$J$2:$J$999,$B504),MAXIFS(BASE_CONTROL!$C$2:$C$999,BASE_CONTROL!$K$2:$K$999,$B504)),"")))

Sheet LISTAS
A1: ESTADOS | B1: CONTROL / RESPONSABLE | C1: MEDIOS | D1: INSTRUCCIÓN
A2: PENDIENTE | B2: AYUDANTÍA | C2: EMAIL | D2: En esta hoja se pueden agregar nuevos estados, controles o medios para las listas desplegables.
A3: CERRADA | B3: CARRASCO SILVA | C3: EMAIL 01-04-2026 | D3: Los representantes se agregan en la pestaña REPRESENTANTES, columna B, desde la fila 5.
A4: TERMINADA | B4: COLLAO | C4: EMAIL 01-06-2026 | D4: La hoja INVITACIONES está preparada hasta la fila 1000 para nuevas actividades.
A5: SIN ESTADO | B5: COLLAO SECRET. ADM. | C5: EMAIL 02-03-2026 | D5: Si una invitación tiene más de un representante, se puede escribir uno por línea en QUIÉN REPRESENTA.
B6: COLLAO SECRET.ADM | C6: EMAIL 02-04-2026
B7: COMOPER | C7: EMAIL 02-06-2026
B8: DIPRIDA | C8: EMAIL 03-06-2026
B9: EMAIL | C9: EMAIL 04-05-2026
B10: INFORMAR | C10: EMAIL 04-06-2026
B11: JEFEMAYOR | C11: EMAIL 05-05-2026
B12: N/C | C12: EMAIL 05-06-2026
B13: NC | C13: EMAIL 06-03-2026
B14: OK | C14: EMAIL 06-05-2026
B15: OPA | C15: EMAIL 07-04-2026
B16: OPA SECRET.ADM. | C16: EMAIL 07-05-2026
B17: OPA SECRETALM | C17: EMAIL 08-04-2026
... B23: YO | C23: EMAIL 10-03-2026
C24: EMAIL 10-06-2026
C25: EMAIL 11-05-2026
C26: EMAIL 11-12-2025
C27: EMAIL 12-03-2026
C28: EMAIL 12-05-2026
C29: EMAIL 13-04-2026
C30: EMAIL 13-05-2026
C31: EMAIL 14-04-2026
C32: EMAIL 14-05-2026
C33: EMAIL 15-05-2026
C34: EMAIL 15-06-2026
C35: EMAIL 16-01-2026
... C83: WP

Sheet BASE_CONTROL
A1: N° INV. | B1: ESTADO | C1: FECHA ACTIVIDAD | D1: REP. 1 | E1: REP. 2 | F1: REP. 3 | G1: REP. 4 | H1: REP. 5 | I1: REP. 6 | J1: REP. 7 | K1: REP. 8
A2: =IF(INVITACIONES!A3="","",INVITACIONES!A3) | B2: =IF(INVITACIONES!N3="","",TRIM(INVITACIONES!N3)) | C2: =IF(INVITACIONES!G3="","",INVITACIONES!G3) | D2: =IFERROR(TRIM(MID(SUBSTITUTE(SUBSTITUTE(SUBSTITUTE(INVITACIONES!$J3,"*",""),CHAR(13),""),CHAR(10),REPT(" ",100)),1,100)),"") | E2: =IFERROR(TRIM(MID(SUBSTITUTE(SUBSTITUTE(SUBSTITUTE(INVITACIONES!$J3,"*",""),CHAR(13),""),CHAR(10),REPT(" ",100)),101,100)),"") | F2: =IFERROR(TRIM(MID(SUBSTITUTE(SUBSTITUTE(SUBSTITUTE(INVITACIONES!$J3,"*",""),CHAR(13),""),CHAR(10),REPT(" ",100)),201,100)),"") | G2: =IFERROR(TRIM(MID(SUBSTITUTE(SUBSTITUTE(SUBSTITUTE(INVITACIONES!$J3,"*",""),CHAR(13),""),CHAR(10),REPT(" ",100)),301,100)),"") | H2: =IFERROR(TRIM(MID(SUBSTITUTE(SUBSTITUTE(SUBSTITUTE(INVITACIONES!$J3,"*",""),CHAR(13),""),CHAR(10),REPT(" ",100)),401,100)),"") | I2: =IFERROR(TRIM(MID(SUBSTITUTE(SUBSTITUTE(SUBSTITUTE(INVITACIONES!$J3,"*",""),CHAR(13),""),CHAR(10),REPT(" ",100)),501,100)),"") | J2: =IFERROR(TRIM(MID(SUBSTITUTE(SUBSTITUTE(SUBSTITUTE(INVITACIONES!$J3,"*",""),CHAR(13),""),CHAR(10),REPT(" ",100)),601,100)),"") | K2: =IFERROR(TRIM(MID(SUBSTITUTE(SUBSTITUTE(SUBSTITUTE(INVITACIONES!$J3,"*",""),CHAR(13),""),CHAR(10),REPT(" ",100)),701,100)),"")
A3: =IF(INVITACIONES!A4="","",INVITACIONES!A4) | B3: =IF(INVITACIONES!N4="","",TRIM(INVITACIONES!N4)) | C3: =IF(INVITACIONES!G4="","",INVITACIONES!G4) | D3: =IFERROR(TRIM(MID(SUBSTITUTE(SUBSTITUTE(SUBSTITUTE(INVITACIONES!$J4,"*",""),CHAR(13),""),CHAR(10),REPT(" ",100)),1,100)),"") | E3: =IFERROR(TRIM(MID(SUBSTITUTE(SUBSTITUTE(SUBSTITUTE(INVITACIONES!$J4,"*",""),CHAR(13),""),CHAR(10),REPT(" ",100)),101,100)),"") | F3: =IFERROR(TRIM(MID(SUBSTITUTE(SUBSTITUTE(SUBSTITUTE(INVITACIONES!$J4,"*",""),CHAR(13),""),CHAR(10),REPT(" ",100)),201,100)),"") | G3: =IFERROR(TRIM(MID(SUBSTITUTE(SUBSTITUTE(SUBSTITUTE(INVITACIONES!$J4,"*",""),CHAR(13),""),CHAR(10),REPT(" ",100)),301,100)),"") | H3: =IFERROR(TRIM(MID(SUBSTITUTE(SUBSTITUTE(SUBSTITUTE(INVITACIONES!$J4,"*",""),CHAR(13),""),CHAR(10),REPT(" ",100)),401,100)),"") | I3: =IFERROR(TRIM(MID(SUBSTITUTE(SUBSTITUTE(SUBSTITUTE(INVITACIONES!$J4,"*",""),CHAR(13),""),CHAR(10),REPT(" ",100)),501,100)),"") | J3: =IFERROR(TRIM(MID(SUBSTITUTE(SUBSTITUTE(SUBSTITUTE(INVITACIONES!$J4,"*",""),CHAR(13),""),CHAR(10),REPT(" ",100)),601,100)),"") | K3: =IFERROR(TRIM(MID(SUBSTITUTE(SUBSTITUTE(SUBSTITUTE(INVITACIONES!$J4,"*",""),CHAR(13),""),CHAR(10),REPT(" ",100)),701,100)),"")
A4: =IF(INVITACIONES!A5="","",INVITACIONES!A5) | B4: =IF(INVITACIONES!N5="","",TRIM(INVITACIONES!N5)) | C4: =IF(INVITACIONES!G5="","",INVITACIONES!G5) | D4: =IFERROR(TRIM(MID(SUBSTITUTE(SUBSTITUTE(SUBSTITUTE(INVITACIONES!$J5,"*",""),CHAR(13),""),CHAR(10),REPT(" ",100)),1,100)),"") | E4: =IFERROR(TRIM(MID(SUBSTITUTE(SUBSTITUTE(SUBSTITUTE(INVITACIONES!$J5,"*",""),CHAR(13),""),CHAR(10),REPT(" ",100)),101,100)),"") | F4: =IFERROR(TRIM(MID(SUBSTITUTE(SUBSTITUTE(SUBSTITUTE(INVITACIONES!$J5,"*",""),CHAR(13),""),CHAR(10),REPT(" ",100)),201,100)),"") | G4: =IFERROR(TRIM(MID(SUBSTITUTE(SUBSTITUTE(SUBSTITUTE(INVITACIONES!$J5,"*",""),CHAR(13),""),CHAR(10),REPT(" ",100)),301,100)),"") | H4: =IFERROR(TRIM(MID(SUBSTITUTE(SUBSTITUTE(SUBSTITUTE(INVITACIONES!$J5,"*",""),CHAR(13),""),CHAR(10),REPT(" ",100)),401,100)),"") | I4: =IFERROR(TRIM(MID(SUBSTITUTE(SUBSTITUTE(SUBSTITUTE(INVITACIONES!$J5,"*",""),CHAR(13),""),CHAR(10),REPT(" ",100)),501,100)),"") | J4: =IFERROR(TRIM(MID(SUBSTITUTE(SUBSTITUTE(SUBSTITUTE(INVITACIONES!$J5,"*",""),CHAR(13),""),CHAR(10),REPT(" ",100)),601,100)),"") | K4: =IFERROR(TRIM(MID(SUBSTITUTE(SUBSTITUTE(SUBSTITUTE(INVITACIONES!$J5,"*",""),CHAR(13),""),CHAR(10),REPT(" ",100)),701,100)),"")
A5: =IF(INVITACIONES!A6="","",INVITACIONES!A6) | B5: =IF(INVITACIONES!N6="","",TRIM(INVITACIONES!N6)) | C5: =IF(INVITACIONES!G6="","",INVITACIONES!G6) | D5: =IFERROR(TRIM(MID(SUBSTITUTE(SUBSTITUTE(SUBSTITUTE(INVITACIONES!$J6,"*",""),CHAR(13),""),CHAR(10),REPT(" ",100)),1,100)),"") | E5: =IFERROR(TRIM(MID(SUBSTITUTE(SUBSTITUTE(SUBSTITUTE(INVITACIONES!$J6,"*",""),CHAR(13),""),CHAR(10),REPT(" ",100)),101,100)),"") | F5: =IFERROR(TRIM(MID(SUBSTITUTE(SUBSTITUTE(SUBSTITUTE(INVITACIONES!$J6,"*",""),CHAR(13),""),CHAR(10),REPT(" ",100)),201,100)),"") | G5: =IFERROR(TRIM(MID(SUBSTITUTE(SUBSTITUTE(SUBSTITUTE(INVITACIONES!$J6,"*",""),CHAR(13),""),CHAR(10),REPT(" ",100)),301,100)),"") | H5: =IFERROR(TRIM(MID(SUBSTITUTE(SUBSTITUTE(SUBSTITUTE(INVITACIONES!$J6,"*",""),CHAR(13),""),CHAR(10),REPT(" ",100)),401,100)),"") | I5: =IFERROR(TRIM(MID(SUBSTITUTE(SUBSTITUTE(SUBSTITUTE(INVITACIONES!$J6,"*",""),CHAR(13),""),CHAR(10),REPT(" ",100)),501,100)),"") | J5: =IFERROR(TRIM(MID(SUBSTITUTE(SUBSTITUTE(SUBSTITUTE(INVITACIONES!$J6,"*",""),CHAR(13),""),CHAR(10),REPT(" ",100)),601,100)),"") | K5: =IFERROR(TRIM(MID(SUBSTITUTE(SUBSTITUTE(SUBSTITUTE(INVITACIONES!$J6,"*",""),CHAR(13),""),CHAR(10),REPT(" ",100)),701,100)),"")
A6: =IF(INVITACIONES!A7="","",INVITACIONES!A7) | B6: =IF(INVITACIONES!N7="","",TRIM(INVITACIONES!N7)) | C6: =IF(INVITACIONES!G7="","",INVITACIONES!G7) | D6: =IFERROR(TRIM(MID(SUBSTITUTE(SUBSTITUTE(SUBSTITUTE(INVITACIONES!$J7,"*",""),CHAR(13),""),CHAR(10),REPT(" ",100)),1,100)),"") | E6: =IFERROR(TRIM(MID(SUBSTITUTE(SUBSTITUTE(SUBSTITUTE(INVITACIONES!$J7,"*",""),CHAR(13),""),CHAR(10),REPT(" ",100)),101,100)),"") | F6: =IFERROR(TRIM(MID(SUBSTITUTE(SUBSTITUTE(SUBSTITUTE(INVITACIONES!$J7,"*",""),CHAR(13),""),CHAR(10),REPT(" ",100)),201,100)),"") | G6: =IFERROR(TRIM(MID(SUBSTITUTE(SUBSTITUTE(SUBSTITUTE(INVITACIONES!$J7,"*",""),CHAR(13),""),CHAR(10),REPT(" ",100)),301,100)),"") | H6: =IFERROR(TRIM(MID(SUBSTITUTE(SUBSTITUTE(SUBSTITUTE(INVITACIONES!$J7,"*",""),CHAR(13),""),CHAR(10),REPT(" ",100)),401,100)),"") | I6: =IFERROR(TRIM(MID(SUBSTITUTE(SUBSTITUTE(SUBSTITUTE(INVITACIONES!$J7,"*",""),CHAR(13),""),CHAR(10),REPT(" ",100)),501,100)),"") | J6: =IFERROR(TRIM(MID(SUBSTITUTE(SUBSTITUTE(SUBSTITUTE(INVITACIONES!$J7,"*",""),CHAR(13),""),CHAR(10),REPT(" ",100)),601,100)),"") | K6: =IFERROR(TRIM(MID(SUBSTITUTE(SUBSTITUTE(SUBSTITUTE(INVITACIONES!$J7,"*",""),CHAR(13),""),CHAR(10),REPT(" ",100)),701,100)),"")
A7: =IF(INVITACIONES!A8="","",INVITACIONES!A8) | B7: =IF(INVITACIONES!N8="","",TRIM(INVITACIONES!N8)) | C7: =IF(INVITACIONES!G8="","",INVITACIONES!G8) | D7: =IFERROR(TRIM(MID(SUBSTITUTE(SUBSTITUTE(SUBSTITUTE(INVITACIONES!$J8,"*",""),CHAR(13),""),CHAR(10),REPT(" ",100)),1,100)),"") | E7: =IFERROR(TRIM(MID(SUBSTITUTE(SUBSTITUTE(SUBSTITUTE(INVITACIONES!$J8,"*",""),CHAR(13),""),CHAR(10),REPT(" ",100)),101,100)),"") | F7: =IFERROR(TRIM(MID(SUBSTITUTE(SUBSTITUTE(SUBSTITUTE(INVITACIONES!$J8,"*",""),CHAR(13),""),CHAR(10),REPT(" ",100)),201,100)),"") | G7: =IFERROR(TRIM(MID(SUBSTITUTE(SUBSTITUTE(SUBSTITUTE(INVITACIONES!$J8,"*",""),CHAR(13),""),CHAR(10),REPT(" ",100)),301,100)),"") | H7: =IFERROR(TRIM(MID(SUBSTITUTE(SUBSTITUTE(SUBSTITUTE(INVITACIONES!$J8,"*",""),CHAR(13),""),CHAR(10),REPT(" ",100)),401,100)),"") | I7: =IFERROR(TRIM(MID(SUBSTITUTE(SUBSTITUTE(SUBSTITUTE(INVITACIONES!$J8,"*",""),CHAR(13),""),CHAR(10),REPT(" ",100)),501,100)),"") | J7: =IFERROR(TRIM(MID(SUBSTITUTE(SUBSTITUTE(SUBSTITUTE(INVITACIONES!$J8,"*",""),CHAR(13),""),CHAR(10),REPT(" ",100)),601,100)),"") | K7: =IFERROR(TRIM(MID(SUBSTITUTE(SUBSTITUTE(SUBSTITUTE(INVITACIONES!$J8,"*",""),CHAR(13),""),CHAR(10),REPT(" ",100)),701,100)),"")
A8: =IF(INVITACIONES!A9="","",INVITACIONES!A9) | B8: =IF(INVITACIONES!N9="","",TRIM(INVITACIONES!N9)) | C8: =IF(INVITACIONES!G9="","",INVITACIONES!G9) | D8: =IFERROR(TRIM(MID(SUBSTITUTE(SUBSTITUTE(SUBSTITUTE(INVITACIONES!$J9,"*",""),CHAR(13),""),CHAR(10),REPT(" ",100)),1,100)),"") | E8: =IFERROR(TRIM(MID(SUBSTITUTE(SUBSTITUTE(SUBSTITUTE(INVITACIONES!$J9,"*",""),CHAR(13),""),CHAR(10),REPT(" ",100)),101,100)),"") | F8: =IFERROR(TRIM(MID(SUBSTITUTE(SUBSTITUTE(SUBSTITUTE(INVITACIONES!$J9,"*",""),CHAR(13),""),CHAR(10),REPT(" ",100)),201,100)),"") | G8: =IFERROR(TRIM(MID(SUBSTITUTE(SUBSTITUTE(SUBSTITUTE(INVITACIONES!$J9,"*",""),CHAR(13),""),CHAR(10),REPT(" ",100)),301,100)),"") | H8: =IFERROR(TRIM(MID(SUBSTITUTE(SUBSTITUTE(SUBSTITUTE(INVITACIONES!$J9,"*",""),CHAR(13),""),CHAR(10),REPT(" ",100)),401,100)),"") | I8: =IFERROR(TRIM(MID(SUBSTITUTE(SUBSTITUTE(SUBSTITUTE(INVITACIONES!$J9,"*",""),CHAR(13),""),CHAR(10),REPT(" ",100)),501,100)),"") | J8: =IFERROR(TRIM(MID(SUBSTITUTE(SUBSTITUTE(SUBSTITUTE(INVITACIONES!$J9,"*",""),CHAR(13),""),CHAR(10),REPT(" ",100)),601,100)),"") | K8: =IFERROR(TRIM(MID(SUBSTITUTE(SUBSTITUTE(SUBSTITUTE(INVITACIONES!$J9,"*",""),CHAR(13),""),CHAR(10),REPT(" ",100)),701,100)),"")
A9: =IF(INVITACIONES!A10="","",INVITACIONES!A10) | B9: =IF(INVITACIONES!N10="","",TRIM(INVITACIONES!N10)) | C9: =IF(INVITACIONES!G10="","",INVITACIONES!G10) | D9: =IFERROR(TRIM(MID(SUBSTITUTE(SUBSTITUTE(SUBSTITUTE(INVITACIONES!$J10,"*",""),CHAR(13),""),CHAR(10),REPT(" ",100)),1,100)),"") | E9: =IFERROR(TRIM(MID(SUBSTITUTE(SUBSTITUTE(SUBSTITUTE(INVITACIONES!$J10,"*",""),CHAR(13),""),CHAR(10),REPT(" ",100)),101,100)),"") | F9: =IFERROR(TRIM(MID(SUBSTITUTE(SUBSTITUTE(SUBSTITUTE(INVITACIONES!$J10,"*",""),CHAR(13),""),CHAR(10),REPT(" ",100)),201,100)),"") | G9: =IFERROR(TRIM(MID(SUBSTITUTE(SUBSTITUTE(SUBSTITUTE(INVITACIONES!$J10,"*",""),CHAR(13),""),CHAR(10),REPT(" ",100)),301,100)),"") | H9: =IFERROR(TRIM(MID(SUBSTITUTE(SUBSTITUTE(SUBSTITUTE(INVITACIONES!$J10,"*",""),CHAR(13),""),CHAR(10),REPT(" ",100)),401,100)),"") | I9: =IFERROR(TRIM(MID(SUBSTITUTE(SUBSTITUTE(SUBSTITUTE(INVITACIONES!$J10,"*",""),CHAR(13),""),CHAR(10),REPT(" ",100)),501,100)),"") | J9: =IFERROR(TRIM(MID(SUBSTITUTE(SUBSTITUTE(SUBSTITUTE(INVITACIONES!$J10,"*",""),CHAR(13),""),CHAR(10),REPT(" ",100)),601,100)),"") | K9: =IFERROR(TRIM(MID(SUBSTITUTE(SUBSTITUTE(SUBSTITUTE(INVITACIONES!$J10,"*",""),CHAR(13),""),CHAR(10),REPT(" ",100)),701,100)),"")
A10: =IF(INVITACIONES!A11="","",INVITACIONES!A11) | B10: =IF(INVITACIONES!N11="","",TRIM(INVITACIONES!N11)) | C10: =IF(INVITACIONES!G11="","",INVITACIONES!G11) | D10: =IFERROR(TRIM(MID(SUBSTITUTE(SUBSTITUTE(SUBSTITUTE(INVITACIONES!$J11,"*",""),CHAR(13),""),CHAR(10),REPT(" ",100)),1,100)),"") | E10: =IFERROR(TRIM(MID(SUBSTITUTE(SUBSTITUTE(SUBSTITUTE(INVITACIONES!$J11,"*",""),CHAR(13),""),CHAR(10),REPT(" ",100)),101,100)),"") | F10: =IFERROR(TRIM(MID(SUBSTITUTE(SUBSTITUTE(SUBSTITUTE(INVITACIONES!$J11,"*",""),CHAR(13),""),CHAR(10),REPT(" ",100)),201,100)),"") | G10: =IFERROR(TRIM(MID(SUBSTITUTE(SUBSTITUTE(SUBSTITUTE(INVITACIONES!$J11,"*",""),CHAR(13),""),CHAR(10),REPT(" ",100)),301,100)),"") | H10: =IFERROR(TRIM(MID(SUBSTITUTE(SUBSTITUTE(SUBSTITUTE(INVITACIONES!$J11,"*",""),CHAR(13),""),CHAR(10),REPT(" ",100)),401,100)),"") | I10: =IFERROR(TRIM(MID(SUBSTITUTE(SUBSTITUTE(SUBSTITUTE(INVITACIONES!$J11,"*",""),CHAR(13),""),CHAR(10),REPT(" ",100)),501,100)),"") | J10: =IFERROR(TRIM(MID(SUBSTITUTE(SUBSTITUTE(SUBSTITUTE(INVITACIONES!$J11,"*",""),CHAR(13),""),CHAR(10),REPT(" ",100)),601,100)),"") | K10: =IFERROR(TRIM(MID(SUBSTITUTE(SUBSTITUTE(SUBSTITUTE(INVITACIONES!$J11,"*",""),CHAR(13),""),CHAR(10),REPT(" ",100)),701,100)),"")
A11: =IF(INVITACIONES!A12="","",INVITACIONES!A12) | B11: =IF(INVITACIONES!N12="","",TRIM(INVITACIONES!N12)) | C11: =IF(INVITACIONES!G12="","",INVITACIONES!G12) | D11: =IFERROR(TRIM(MID(SUBSTITUTE(SUBSTITUTE(SUBSTITUTE(INVITACIONES!$J12,"*",""),CHAR(13),""),CHAR(10),REPT(" ",100)),1,100)),"") | E11: =IFERROR(TRIM(MID(SUBSTITUTE(SUBSTITUTE(SUBSTITUTE(INVITACIONES!$J12,"*",""),CHAR(13),""),CHAR(10),REPT(" ",100)),101,100)),"") | F11: =IFERROR(TRIM(MID(SUBSTITUTE(SUBSTITUTE(SUBSTITUTE(INVITACIONES!$J12,"*",""),CHAR(13),""),CHAR(10),REPT(" ",100)),201,100)),"") | G11: =IFERROR(TRIM(MID(SUBSTITUTE(SUBSTITUTE(SUBSTITUTE(INVITACIONES!$J12,"*",""),CHAR(13),""),CHAR(10),REPT(" ",100)),301,100)),"") | H11: =IFERROR(TRIM(MID(SUBSTITUTE(SUBSTITUTE(SUBSTITUTE(INVITACIONES!$J12,"*",""),CHAR(13),""),CHAR(10),REPT(" ",100)),401,100)),"") | I11: =IFERROR(TRIM(MID(SUBSTITUTE(SUBSTITUTE(SUBSTITUTE(INVITACIONES!$J12,"*",""),CHAR(13),""),CHAR(10),REPT(" ",100)),501,100)),"") | J11: =IFERROR(TRIM(MID(SUBSTITUTE(SUBSTITUTE(SUBSTITUTE(INVITACIONES!$J12,"*",""),CHAR(13),""),CHAR(10),REPT(" ",100)),601,100)),"") | K11: =IFERROR(TRIM(MID(SUBSTITUTE(SUBSTITUTE(SUBSTITUTE(INVITACIONES!$J12,"*",""),CHAR(13),""),CHAR(10),REPT(" ",100)),701,100)),"")
A12: =IF(INVITACIONES!A13="","",INVITACIONES!A13) | B12: =IF(INVITACIONES!N13="","",TRIM(INVITACIONES!N13)) | C12: =IF(INVITACIONES!G13="","",INVITACIONES!G13) | D12: =IFERROR(TRIM(MID(SUBSTITUTE(SUBSTITUTE(SUBSTITUTE(INVITACIONES!$J13,"*",""),CHAR(13),""),CHAR(10),REPT(" ",100)),1,100)),"") | E12: =IFERROR(TRIM(MID(SUBSTITUTE(SUBSTITUTE(SUBSTITUTE(INVITACIONES!$J13,"*",""),CHAR(13),""),CHAR(10),REPT(" ",100)),101,100)),"") | F12: =IFERROR(TRIM(MID(SUBSTITUTE(SUBSTITUTE(SUBSTITUTE(INVITACIONES!$J13,"*",""),CHAR(13),""),CHAR(10),REPT(" ",100)),201,100)),"") | G12: =IFERROR(TRIM(MID(SUBSTITUTE(SUBSTITUTE(SUBSTITUTE(INVITACIONES!$J13,"*",""),CHAR(13),""),CHAR(10),REPT(" ",100)),301,100)),"") | H12: =IFERROR(TRIM(MID(SUBSTITUTE(SUBSTITUTE(SUBSTITUTE(INVITACIONES!$J13,"*",""),CHAR(13),""),CHAR(10),REPT(" ",100)),401,100)),"") | I12: =IFERROR(TRIM(MID(SUBSTITUTE(SUBSTITUTE(SUBSTITUTE(INVITACIONES!$J13,"*",""),CHAR(13),""),CHAR(10),REPT(" ",100)),501,100)),"") | J12: =IFERROR(TRIM(MID(SUBSTITUTE(SUBSTITUTE(SUBSTITUTE(INVITACIONES!$J13,"*",""),CHAR(13),""),CHAR(10),REPT(" ",100)),601,100)),"") | K12: =IFERROR(TRIM(MID(SUBSTITUTE(SUBSTITUTE(SUBSTITUTE(INVITACIONES!$J13,"*",""),CHAR(13),""),CHAR(10),REPT(" ",100)),701,100)),"")
A13: =IF(INVITACIONES!A14="","",INVITACIONES!A14) | B13: =IF(INVITACIONES!N14="","",TRIM(INVITACIONES!N14)) | C13: =IF(INVITACIONES!G14="","",INVITACIONES!G14) | D13: =IFERROR(TRIM(MID(SUBSTITUTE(SUBSTITUTE(SUBSTITUTE(INVITACIONES!$J14,"*",""),CHAR(13),""),CHAR(10),REPT(" ",100)),1,100)),"") | E13: =IFERROR(TRIM(MID(SUBSTITUTE(SUBSTITUTE(SUBSTITUTE(INVITACIONES!$J14,"*",""),CHAR(13),""),CHAR(10),REPT(" ",100)),101,100)),"") | F13: =IFERROR(TRIM(MID(SUBSTITUTE(SUBSTITUTE(SUBSTITUTE(INVITACIONES!$J14,"*",""),CHAR(13),""),CHAR(10),REPT(" ",100)),201,100)),"") | G13: =IFERROR(TRIM(MID(SUBSTITUTE(SUBSTITUTE(SUBSTITUTE(INVITACIONES!$J14,"*",""),CHAR(13),""),CHAR(10),REPT(" ",100)),301,100)),"") | H13: =IFERROR(TRIM(MID(SUBSTITUTE(SUBSTITUTE(SUBSTITUTE(INVITACIONES!$J14,"*",""),CHAR(13),""),CHAR(10),REPT(" ",100)),401,100)),"") | I13: =IFERROR(TRIM(MID(SUBSTITUTE(SUBSTITUTE(SUBSTITUTE(INVITACIONES!$J14,"*",""),CHAR(13),""),CHAR(10),REPT(" ",100)),501,100)),"") | J13: =IFERROR(TRIM(MID(SUBSTITUTE(SUBSTITUTE(SUBSTITUTE(INVITACIONES!$J14,"*",""),CHAR(13),""),CHAR(10),REPT(" ",100)),601,100)),"") | K13: =IFERROR(TRIM(MID(SUBSTITUTE(SUBSTITUTE(SUBSTITUTE(INVITACIONES!$J14,"*",""),CHAR(13),""),CHAR(10),REPT(" ",100)),701,100)),"")
... A999: =IF(INVITACIONES!A1000="","",INVITACIONES!A1000) | B999: =IF(INVITACIONES!N1000="","",TRIM(INVITACIONES!N1000)) | C999: =IF(INVITACIONES!G1000="","",INVITACIONES!G1000) | D999: =IFERROR(TRIM(MID(SUBSTITUTE(SUBSTITUTE(SUBSTITUTE(INVITACIONES!$J1000,"*",""),CHAR(13),""),CHAR(10),REPT(" ",100)),1,100)),"") | E999: =IFERROR(TRIM(MID(SUBSTITUTE(SUBSTITUTE(SUBSTITUTE(INVITACIONES!$J1000,"*",""),CHAR(13),""),CHAR(10),REPT(" ",100)),101,100)),"") | F999: =IFERROR(TRIM(MID(SUBSTITUTE(SUBSTITUTE(SUBSTITUTE(INVITACIONES!$J1000,"*",""),CHAR(13),""),CHAR(10),REPT(" ",100)),201,100)),"") | G999: =IFERROR(TRIM(MID(SUBSTITUTE(SUBSTITUTE(SUBSTITUTE(INVITACIONES!$J1000,"*",""),CHAR(13),""),CHAR(10),REPT(" ",100)),301,100)),"") | H999: =IFERROR(TRIM(MID(SUBSTITUTE(SUBSTITUTE(SUBSTITUTE(INVITACIONES!$J1000,"*",""),CHAR(13),""),CHAR(10),REPT(" ",100)),401,100)),"") | I999: =IFERROR(TRIM(MID(SUBSTITUTE(SUBSTITUTE(SUBSTITUTE(INVITACIONES!$J1000,"*",""),CHAR(13),""),CHAR(10),REPT(" ",100)),501,100)),"") | J999: =IFERROR(TRIM(MID(SUBSTITUTE(SUBSTITUTE(SUBSTITUTE(INVITACIONES!$J1000,"*",""),CHAR(13),""),CHAR(10),REPT(" ",100)),601,100)),"") | K999: =IFERROR(TRIM(MID(SUBSTITUTE(SUBSTITUTE(SUBSTITUTE(INVITACIONES!$J1000,"*",""),CHAR(13),""),CHAR(10),REPT(" ",100)),701,100)),"")
