Workbook
Name ListaEstados: 'LISTAS'!$A$2:$A$5
Name ListaControles: 'LISTAS'!$B$2:$B$23
Name ListaMedios: 'LISTAS'!$C$2:$C$83
Name ListaRepresentantes: 'REPRESENTANTES'!$B$5:$B$504

Sheet INSTRUCCIONES
A1: USO DEL KARDEX AUTOMATIZADO
A3: N° | B3: Función | C3: Detalle
A4: 1 | B4: Agregar nueva actividad | C4: Ir a INVITACIONES y completar desde la primera fila disponible. El N° se genera automáticamente al ingresar datos en la fila.
A5: 2 | B5: Estado | C5: Usar la lista desplegable en ESTADO: PENDIENTE, CERRADA, TERMINADA o SIN ESTADO. El semáforo y RESUMEN se actualizan con esta columna.
A6: 3 | B6: Quién representa | C6: Usar la lista desplegable de QUIÉN REPRESENTA. La lista se administra en REPRESENTANTES, columna B.
A7: 4 | B7: Más de un representante | C7: En QUIÉN REPRESENTA se puede escribir uno por línea dentro de la misma celda. El control separa hasta 8 representantes por invitación.
A8: 5 | B8: Lista oficial | C8: Pegue la lista oficial de representantes en REPRESENTANTES!B5:B504. Los conteos se actualizan automáticamente.
A9: 6 | B9: Capacidad preparada | C9: La hoja INVITACIONES quedó preparada hasta la fila 1000. La hoja REPRESENTANTES quedó preparada para 500 representantes.
A10: 7 | B10: No editar | C10: Evitar modificar fórmulas en BASE_CONTROL, RESUMEN y columnas automáticas de REPRESENTANTES.
A12: CORRECCIÓN APLICADA
A13: Se dejaron visibles todas las actividades de la hoja INVITACIONES; no hay filas ocultas por filtro.

Sheet INVITACIONES
D1: FECHA DE INGRESO | K1: RESPUESTA
A2: N° | B2: MOTIVO | C2: REMITENTE | D2: KARDEX | E2: CONTROL | F2: MEDIO | G2: FECHA DE ACTIVIDAD | H2: AGENDA | I2: NOTA CJA | J2: QUIÉN REPRESENTA | K2: CONTROL | L2: FECHA | M2: CONTROL ACTUAL | N2: ESTADO | O2: SECRETGEN | P2: TAREA PENDIENTE | Q2: NOTA | R2: ANTECEDENTES
A3: =IF(COUNTA(B3:R3)=0,"",COUNTA($B$3:B3)) | B3: ACCIÓN DE GRACIAS Y ORACIÓN POR EL GOBIERNO | C3: CAPELLANÍA EVANGÉLICA | D3: NO LLEGÓ FORMAL | E3: OPA | F3: WP | G3: 46093 | H3: TALCAHUANO | I3: ASISTE | J3: CJA | K3: OPA | L3: EMAIL 11-03-2026 | M3: OPA | N3: CERRADA | O3: N/C | Q3: INVITACIÓN NUNCA LLEGÓ POR MEDIO OFICIAL
A4: =IF(COUNTA(B4:R4)=0,"",COUNTA($B$3:B4)) | B4: SANTIAGO DE MÚSICA | C4: MUNICIPALIDAD DE SANTIAGO | D4: NO LLEGÓ FORMAL | E4: OPA | F4: WP | G4: 46096 | H4: TALCAHUANO | I4: NO ASISTE | J4: SIN REPRESENTANTE | K4: OPA | L4: EMAIL | M4: OPA | N4: CERRADA
A5: =IF(COUNTA(B5:R5)=0,"",COUNTA($B$3:B5)) | B5: SESIÓN N°06 DEL CONSEJO ASESOR ESTRATÉGICO EN LAS INSTALACIONES DE UNA FRAGATA TIPO 23 | C5: CORFO | D5: NS | E5: OPA | F5: EMAIL 10-03-2026 | G5: 46098 | H5: SALUDOS PROTOCOLARES MINDEF - SANTIAGO | I5: ENTIENDO QUE ES AHORA A BORDO DE UN BUQUE DE LA ESCUADRA YA DESIGNADO - CONDELL | J5: *DIPRIDA | K5: OPA | L5: 46092 | M5: OPA | N5: CERRADA | O5: OK
A6: =IF(COUNTA(B6:R6)=0,"",COUNTA($B$3:B6)) | B6: CEREMONIA DE INAUGURACIÓN DE LA FERIA DE FORMACIÓN CIUDADANA VALPARAÍSO | C6: SERVICIO ELECTORAL | D6: NS | E6: OPA | F6: EMAIL 06-03-2026 | G6: 46098 | H6: AGENDA SANTIAGO | I6: AUDITGEN | J6: *AUDITGEN | K6: OPA | L6: 46091 | M6: OPA | N6: CERRADA | O6: OK
A7: =IF(COUNTA(B7:R7)=0,"",COUNTA($B$3:B7)) | B7: ALMUERZO DE HOMENAJE ANIVERSARIO DE LA FUERZA AÉREA | C7: ROTARY SANTIAGO | D7: INV-001 | E7: OPA | F7: EMAIL 12-03-2026 | G7: 46099 | H7: 15:00 REUNIÓN SEPRE | I7: REPRESENTANTE | J7: *ESTANAVMET | K7: OPA | L7: 46099 | M7: OPA | N7: CERRADA | O7: N/C
A8: =IF(COUNTA(B8:R8)=0,"",COUNTA($B$3:B8)) | B8: AVANCE DE COOPERACIÓN EN MATERIAS DE SEGURIDAD Y DEFENSA ENTRE LA REPÚBLICA DE CHILE Y COREA | C8: EMBAJADA DE COREA | D8: INV-005 | E8: OPA | F8: EMAIL 09-03-2026 | G8: 46100 | H8: CONSEJO NAVAL | I8: NO ASISTE ALTO MANDO POR CONSEJO NAVAL | J8: SIN REPRESENTACIÓN | K8: OPA | L8: EMAIL 11-03-2026 | M8: OPA | N8: CERRADA | O8: N/C | Q8: SE GENERÓ NUEVA INVITACIÓN - A LA ESPERA DE FECHA LO MÁS PROBABLE SEA PARA LA FIDAE
A9: =IF(COUNTA(B9:R9)=0,"",COUNTA($B$3:B9)) | B9: ALMUERZO A BORDO DEL BUQUE OCEANOGRÁFICO DEL PERÚ | C9: EMBAJADOR DE PERÚ | D9: INV-004 | E9: OPA | F9: EMAIL 16-03-2026 | G9: 46100 | H9: CONSEJO NAVAL | I9: REPRESENTA CN IBARRA | J9: *CN IBARRA (PRIZONA) | K9: OPA | L9: EMAIL 17-03-2026 | M9: OPA | N9: CERRADA | O9: OK | Q9: SE EFECTUÓ ENTREGA DE PRESENTE "LIBRO ANTÁRTICA"
A10: =IF(COUNTA(B10:R10)=0,"",COUNTA($B$3:B10)) | B10: CEREMONIA DEL CENTÉSIMO TERCER ANIVERSARIO DE LA ESPECIALIDAD DE AVIACIÓN NAVAL | C10: CÍRCULO DE AVIACIÓN NAVAL | D10: INV-012 | E10: OPA | F10: EMAIL 09-03-2026 | G10: 46102 | H10: ANIVERSARIO FUERZA AÉREA | I10: NO ASISTE, NOTIFICAR REPRESENTANTE | J10: *CN ROMAN | K10: OPA | L10: EMAIL 11-03-2026 | M10: OPA | N10: CERRADA | O10: OK
A11: =IF(COUNTA(B11:R11)=0,"",COUNTA($B$3:B11)) | B11: NONAGÉSIMO SEXTO ANIVERSARIO DE LA CREACIÓN DE LA FUERZA AÉREA DE CHILE | C11: GENERAL DEL AIRE | D11: INV-013 | E11: OPA | F11: EMAIL 16-01-2026 | G11: 46102 | H11: EN AGENDA | I11: ASISTE | J11: CJA | K11: OPA | L11: EMAIL 19-01-2026 | M11: OPA | N11: CERRADA | O11: N/C
A12: =IF(COUNTA(B12:R12)=0,"",COUNTA($B$3:B12)) | B12: CEREMONIA INAUGURAL | C12: AQUASUR | D12: INV-021 | E12: OPA | F12: EMAIL 29-01-2026 | G12: 46105 | H12: REVISTA TERZONA | I12: REPRESENTANTE | J12: *DIRECTEMAR QUINZONA | K12: OPA | L12: EMAIL 04-03-2026 | M12: OPA | N12: CERRADA | O12: OK
A13: =IF(COUNTA(B13:R13)=0,"",COUNTA($B$3:B13)) | B13: HOMENAJE EN HONOR A SU EMINENCIA REVERENDÍSIMA CARDENAL FERNANDO CHOMALÍ GARIB | C13: BERNARDINO BRAVO | D13: INV-010 | E13: OPA | F13: EMAIL 17-03-2026 | G13: 46106 | H13: REVISTA TERZONA | I13: NO PODRÉ IR EXCUSAR | J13: SIN REPRESENTACIÓN | K13: OPA | L13: EMAIL 23-03-2026 | M13: OPA | N13: CERRADA | O13: N/C
A14: =IF(COUNTA(B14:R14)=0,"",COUNTA($B$3:B14)) | B14: RECEPCIÓN EN HONOR A LA LLEGADA DE LA EXPEDICIÓN CIENTÍFICA CANADIENSE QUE VIAJÓ A LA ANTÁRTICA CHILENA A BORDO DEL BUQUE ALMIRANTE VIEL | C14: EMBAJADA DE CANADÁ | D14: INV-023 | E14: OPA | F14: EMAIL 19-03-2026 | G14: 46106 | H14: REVISTA TERZONA | J14: TERZONA | K14: OPA | L14: EMAIL 24-03-2026 | M14: OPA | N14: CERRADA | Q14: SOLICITÓ TRAMITAR A PLANES
A15: =IF(COUNTA(B15:R15)=0,"",COUNTA($B$3:B15)) | B15: ANIVERSARIO DEL EMPERADOR DEL JAPÓN | C15: EMBAJADA DE JAPÓN | D15: INV-003 | E15: OPA | F15: EMAIL 02-03-2026 | G15: 46107 | H15: REVISTA TERZONA | I15: REPRESENTA JEFE MAYOR O UN VA | J15: *DIRECPERS DIRECTEMAR SUBJEMCO PRIZONA DIRINTA | K15: OPA | L15: 46097 | M15: OPA | N15: CERRADA | O15: OK | P15: AGENDAR CENA EN CALETA TRIDENTE CON EMBAJADOR / POSIBLE 14 DE ABRIL
A16: =IF(COUNTA(B16:R16)=0,"",COUNTA($B$3:B16)) | B16: CEREMONIA CUENTA PÚBLICA TRIBUNAL CONSTITUCIONAL | C16: TRIBUNAL CONSTITUCIONAL | D16: INV-015 | E16: OPA | F16: EMAIL 21-01-2026 | G16: 46108 | H16: REVISTA TERZONA | I16: QUE UN VA VAYA | J16: *DIRECPERS | K16: OPA | L16: EMAIL 04-06-2026 | M16: OPA | N16: CERRADA | O16: OK
A17: =IF(COUNTA(B17:R17)=0,"",COUNTA($B$3:B17)) | B17: CONCIERTO INAUGURAL 86 TEMPORADA ARTÍSTICA USM RÉQUIEM DE FAURÉ | C17: RECTOR DE LA UNIVERSIDAD TÉCNICA FEDERICO SANTA MARÍA | D17: INV-014 | E17: OPA | F17: EMAIL 18-03-2026 | G17: 46109 | H17: DISPONIBLE | I17: PREGUNTAR A ROX SI QUIERE IR, SI NO REPRESENTAR | J17: *CN POUVIF (EMGA) | K17: OPA | L17: EMAIL 26-03-2026 | M17: OPA | N17: CERRADA | O17: OK
A18: =IF(COUNTA(B18:R18)=0,"",COUNTA($B$3:B18)) | B18: CUENTA PÚBLICA 2026 | C18: CGR | D18: INV-016 | E18: OPA | F18: EMAIL 25-02-2026 | G18: 46111 | H18: EN AGENDA CAMBIA A REPRESENTANTE POR AGENDA | I18: ASISTE | J18: CJA CONTRALOR | K18: OPA | L18: EMAIL 04-03-2026 | M18: OPA | N18: CERRADA | O18: OK
A19: =IF(COUNTA(B19:R19)=0,"",COUNTA($B$3:B19)) | B19: CUENTA PÚBLICA | C19: CONSEJO DE DEFENSA DEL ESTADO | D19: INV-017 | E19: OPA | F19: EMAIL 26-01-2026 | G19: 46112 | H19: EN AGENDA | I19: ASISTE | J19: CJA *AUDITGEN | K19: OPA | L19: EMAIL 04-03-2026 | M19: OPA | N19: CERRADA | O19: OK
A20: =IF(COUNTA(B20:R20)=0,"",COUNTA($B$3:B20)) | B20: SESIÓN CON EL MINISTRO DE RELACIONES EXTERIORES DE CHILE | C20: MINISTRO DE RELACIONES EXTERIORES | D20: INV-024 | E20: OPA | F20: EMAIL 19-03-2026 | G20: 46112 | H20: EN ESE HORARIO DISPONIBLE | I20: ACOMPAÑA SUBMAYOR | J20: CJA SUBMAYOR | K20: OPA | L20: EMAIL 26-03-2026 | M20: OPA | N20: CERRADA | O20: OK
A21: =IF(COUNTA(B21:R21)=0,"",COUNTA($B$3:B21)) | B21: CEREMONIA DE 134 ANIVERSARIO DE LA CORTE DE APELACIONES DE VALPARAÍSO | C21: PRESIDENTA DE LA CORTE SUPREMA | D21: INV-008 | E21: OPA | F21: EMAIL 16-03-2026 | G21: 46113 | H21: LIBRE | I21: NO ASISTE - REPRESENTA AUDITGEN | J21: *AUDITGEN (NO ASISTE) CN JT HAWARD | K21: OPA | L21: EMAIL 23-03-2026 | M21: OPA | N21: CERRADA | O21: OK
A22: =IF(COUNTA(B22:R22)=0,"",COUNTA($B$3:B22)) | B22: ALMUERZO DE CAMARADERÍA | C22: CA HERNÁNDEZ | D22: INV-009 | E22: OPA | F22: MANO 17-03-2026 | G22: 46113 | H22: LIBRE | I22: AGENDAR | J22: CJA | K22: OPA | L22: EMAIL 23-03-2026 | M22: OPA | N22: CERRADA | O22: N/C
A23: =IF(COUNTA(B23:R23)=0,"",COUNTA($B$3:B23)) | B23: SEMINARIO DE SUBOFICIALES MAYORES DEPENDIENTES DE RIZONA | C23: CONDESTABLE MAYOR | D23: INV-007 | E23: OPA | F23: EMAIL 17-03-2026 | G23: 46114 | H23: EN AGENDA | I23: ESTÁ AGENDADO? | J23: CJA COMAVNAV SECRETGEN | K23: OPA | L23: EMAIL 23-03-2026 | M23: OPA | N23: CERRADA | O23: OK
A24: =IF(COUNTA(B24:R24)=0,"",COUNTA($B$3:B24)) | B24: CEREMONIA DE ROLL OUT DE LA AERONAVE T 40 - NEWEN | C24: ENAER | D24: INV-026 | E24: OPA | F24: EMAIL 23-03-2026 | G24: 46118 | H24: PREAGENDADO | I24: ASISTE | J24: CJA SECRETGEN DIRECSER COMAVNAV DIRECFIN ASMAR DIPLENGA | K24: OPA | L24: EMAIL 24-03-2026 | M24: OPA | N24: CERRADA | O24: OK
A25: =IF(COUNTA(B25:R25)=0,"",COUNTA($B$3:B25)) | B25: CEREMONIA DE INAUGURACIÓN SALA HISTÓRICA COMANDANTE ARTURO PRAT | C25: CLUB SOCIAL SAN CARLOS | D25: INV-029 | E25: OPA | F25: EMAIL 30-03-2026 | G25: 46118 | H25: CEREMONIA ROLL OUT | I25: EXCUSAR, MARINFA | J25: *JEFE DE ESTADO MAYOR SEGUNDA ZONA | K25: OPA | L25: EMAIL 31-03-2026 | M25: OPA | N25: CERRADA | O25: OK | P25: OFICIO ENVIADO
A26: =IF(COUNTA(B26:R26)=0,"",COUNTA($B$3:B26)) | B26: ENCUENTRO DE CAMARADERÍA Y NETWORKING | C26: EMBAJADA DE COREA | D26: INV-005 | E26: OPA | F26: EMAIL 16-03-2026 | G26: 46119 | H26: NO ASISTE | I26: NO ASISTE | J26: NO ASISTE | K26: OPA | L26: EMAIL 01-04-2026 | M26: OPA | N26: CERRADA | O26: NC | P26: INVITACIÓN LLEGÓ Y NO ASISTE
A27: =IF(COUNTA(B27:R27)=0,"",COUNTA($B$3:B27)) | B27: ALMUERZO ROTARY CLUB - ANIVERSARIO DE CARABINEROS | C27: PRESIDENTE ROTARY SANTIAGO | D27: INV-032 | E27: OPA | F27: EMAIL 01-04-2026 | G27: 46120 | I27: REPRESENTANTE | J27: CN PASTRIÁN | K27: OPA | L27: EMAIL 08-04-2026 | M27: OPA | N27: CERRADA | O27: OK
A28: =IF(COUNTA(B28:R28)=0,"",COUNTA($B$3:B28)) | B28: CENA POR VISITA AGREGADO MILITAR DE MARRUECOS | C28: EMBAJADOR DE MARRUECOS | D28: INV-038 | E28: OPA | F28: EMAIL 07-04-2026 | G28: 46122 | H28: RAPANUI | I28: EXCUSAR POR ESCRITO | J28: NO ASISTE | K28: OPA | L28: EMAIL 08-04-2026 | M28: OPA | N28: CERRADA | O28: NC
A29: =IF(COUNTA(B29:R29)=0,"",COUNTA($B$3:B29)) | B29: VINO DE HONOR MOTIVO DESEO DE ÉXITO NUEVO GOBIERNO | C29: 40787 | D29: INV-033 | E29: OPA | F29: EMAIL 01-04-2026 | G29: 46123 | H29: COMISIÓN RAPA NUI | I29: EXCUSARME | J29: NO ASISTE | K29: OPA | L29: EMAIL 07-04-2026 | M29: OPA | N29: CERRADA | O29: N/C
A30: =IF(COUNTA(B30:R30)=0,"",COUNTA($B$3:B30)) | B30: LANZAMIENTO LIBRO UTFSM | C30: UTFSM | D30: INV-042 | E30: OPA | F30: EMAIL 08-04-2026 | G30: 46126 | H30: SIN DISPONIBILIDAD | I30: REPRESENTA | J30: SIN REPRESENTACIÓN | M30: OPA | N30: CERRADA | P30: LLEGÓ TARDE
A31: =IF(COUNTA(B31:R31)=0,"",COUNTA($B$3:B31)) | B31: PRESENTACIÓN DE LIBRO GUERREROS EXPERTOS DEL MAR… | C31: APOLINAV | D31: INV-025 | E31: OPA | F31: EMAIL 19-03-2026 | G31: 46128 | H31: PREAGENDADO | I31: ASISTE | J31: CJA | K31: OPA | L31: EMAIL 24-03-2026 | M31: OPA | N31: CERRADA | O31: OK | P31: RESPONDER
A32: =IF(COUNTA(B32:R32)=0,"",COUNTA($B$3:B32)) | B32: VUELO A BORDO DE AERONAVE C-2 HACIA EL PORTAAVIONES | C32: EMBAJADORA USA | D32: INV-031 SECRET.ADM. | E32: OPA | F32: EMAIL 31-03-2026 | G32: 46128 | H32: ASISTE | I32: ASISTE | J32: CJA DIRECPERS ESCUADRA COMOPER | K32: OPA | L32: EMAIL 10-04-2026 | M32: SECRET.ADM. | N32: CERRADA | O32: OK
A33: =IF(COUNTA(B33:R33)=0,"",COUNTA($B$3:B33)) | B33: INAUGURACIÓN AÑO ACADÉMICO UFSAM | C33: UFSM | D33: INV-049 | E33: OPA | F33: EMAIL 07-04-2026 | G33: 46128 | H33: REPRESENTA | I33: REPRESENTA | J33: *DIREDUCARM | K33: OPA | L33: EMAIL 08-04-2026 | M33: OPA | N33: CERRADA
A34: =IF(COUNTA(B34:R34)=0,"",COUNTA($B$3:B34)) | B34: ANIVERSARIO | C34: BOTE SALVAVIDAS | D34: INV-002 | E34: OPA | F34: EMAIL 09-03-2026 | G34: 46129 | H34: ALMUERZO A BORDO ESMERALDA COYAHUASI | I34: REPRESENTA DIRECTEMAR | J34: *DINSOMAR | K34: OPA | M34: OPA | N34: CERRADA | O34: OK
A35: =IF(COUNTA(B35:R35)=0,"",COUNTA($B$3:B35)) | B35: RECEPCIÓN FORMAL A BORDO DEL PORTAAVIONES USS NIMITZ | C35: EMBAJADOR USA | D35: INV-034 SECRET.ADM. | E35: OPA | F35: EMAIL 01-04-2026 | G35: 46130 | J35: JEFMAYOR DIRECPERS COMOPER SUBMAYOR ESCUADRA DIRINTA DIRECABAS DIREBIEN DIMPLEMGA DOPEMGA PRIZONA | K35: OPA | L35: EMAIL 13-04-2026 | M35: SECRET.ADM. | N35: CERRADA | O35: OK
A36: =IF(COUNTA(B36:R36)=0,"",COUNTA($B$3:B36)) | B36: INAUGURACIÓN AÑO ACADÉMICO UT METROPOLITANA | C36: RECTOR | D36: INV-057 | E36: OPA | F36: EMAIL 20-04-2026 | G36: 46133 | H36: AGENDA BLOQUEADA | J36: NO ASISTE | K36: OPA | L36: EMAIL 20-04-2026 | M36: COLLAO | N36: CERRADA
A37: =IF(COUNTA(B37:R37)=0,"",COUNTA($B$3:B37)) | B37: CUENTA PÚBLICA PROVIDENCIA | C37: MUNICIPALIDAD DE PROVIDENCIA | D37: INV-050 | E37: OPA | F37: EMAIL 13-04-2026 | G37: 46134 | H37: AGENDA BLOQUEADA | I37: EXCUSAR | J37: SIN REPRESENTACIÓN | K37: OPA | L37: EMAIL 15-04-2026 | M37: OPA | N37: CERRADA | O37: N/C
A38: =IF(COUNTA(B38:R38)=0,"",COUNTA($B$3:B38)) | B38: CUARTA SESIÓN MESA DE CIBERSEGURIDAD | C38: CONTRALORIA GENERAL | D38: INV-052 | E38: OPA | F38: EMAIL 13-04-2026 | G38: 46134 | H38: AGENDA BLOQUEADA | I38: QUE REPRESENTE DIRINTA | J38: *DIRINTA | K38: OPA | L38: EMAIL 20-04-2026 | M38: OPA | N38: CERRADA | O38: OK
A39: =IF(COUNTA(B39:R39)=0,"",COUNTA($B$3:B39)) | B39: CEREMONIA POR ANIVERSARIO ASOFAR | C39: PRESIDENTE ASOFAR | D39: INV-030 SECRET.ADM. | E39: OPA | F39: EMAIL 30-03-2026 | G39: 46135 | H39: SALUDOS PROTOCOLARES - SALUDOS PROTOCOLARES REINO UNIDO | I39: NO PODRÉ ASISTIR QUE REPRESENTE JEFMAYOR - ALTERNATIVO SUBMAYOR U OTRO ALMIRANTE | J39: JEFEMAYOR | K39: OPA | L39: EMAIL 15-04-2026 | M39: COLLAO SECRET. ADM. | N39: CERRADA | O39: OK | Q39: SE INFORMÓ ADEMÁS QUE ACOMPAÑAN CON 20 OFICIALES DE ACUERDO A INSTRUCCIONES CF SANDINO
A40: =IF(COUNTA(B40:R40)=0,"",COUNTA($B$3:B40)) | B40: CONCIERTO DE OTOÑO 2026 | C40: FUNDACIÓN CLARO VIAL | D40: INV-043 | E40: OPA | F40: FÍSICA | G40: 46135 | H40: SIN DISPONIBILIDAD | I40: NO PUEDE IR | J40: NO ASISTE | K40: OPA | L40: EMAIL 15-04-2026 | M40: OPA | N40: CERRADA | O40: N/C
...

Sheet RESUMEN
A1: RESUMEN KARDEX INVITACIONES 2026
A3: Indicador | B3: Total | D3: Estado | E3: Total | F3: Observación
A4: Total actividades | B4: =COUNTIF(INVITACIONES!$B$3:$B$1000,"<>") | D4: PENDIENTE | E4: =COUNTIF(INVITACIONES!$N$3:$N$1000,"PENDIENTE") | F4: Revisar/gestionar
A5: Pendientes | B5: =COUNTIF(INVITACIONES!$N$3:$N$1000,"PENDIENTE") | D5: CERRADA | E5: =COUNTIF(INVITACIONES!$N$3:$N$1000,"CERRADA") | F5: Respuesta cerrada
A6: Cerradas | B6: =COUNTIF(INVITACIONES!$N$3:$N$1000,"CERRADA") | D6: TERMINADA | E6: =COUNTIF(INVITACIONES!$N$3:$N$1000,"TERMINADA") | F6: Actividad finalizada
A7: Terminadas | B7: =COUNTIF(INVITACIONES!$N$3:$N$1000,"TERMINADA") | D7: SIN ESTADO | E7: =COUNTBLANK(INVITACIONES!$N$3:$N$1000)-COUNTBLANK(INVITACIONES!$B$3:$B$1000) | F7: Completar estado
A8: Próx. 30 días pendientes | B8: =COUNTIFS(INVITACIONES!$G$3:$G$1000,">="&TODAY(),INVITACIONES!$G$3:$G$1000,"<="&TODAY()+30,INVITACIONES!$N$3:$N$1000,"PENDIENTE")
A9: Vencidas pendientes | B9: =COUNTIFS(INVITACIONES!$G$3:$G$1000,"<"&TODAY(),INVITACIONES!$N$3:$N$1000,"PENDIENTE")
A12: PRÓXIMAS ACTIVIDADES PENDIENTES
A13: Fecha | B13: Motivo | C13: Remitente | D13: Representa | E13: Estado
A14: =IFERROR(SORT(FILTER(CHOOSE({1,2,3,4,5},INVITACIONES!$G$3:$G$1000,INVITACIONES!$B$3:$B$1000,INVITACIONES!$C$3:$C$1000,INVITACIONES!$J$3:$J$1000,INVITACIONES!$N$3:$N$1000),(INVITACIONES!$N$3:$N$1000="PENDIENTE")*(INVITACIONES!$G$3:$G$1000>=TODAY())),1,1),"Sin pendientes próximos")

Sheet REPRESENTANTES
A1: LISTA Y CONTROL DE REPRESENTANTES | J1: RESUMEN DE CONTROL
A2: Ingrese o reemplace en la columna B la lista oficial que se utilizará en la columna QUIÉN REPRESENTA. El control de representaciones se actualiza automáticamente según la hoja INVITACIONES.
A3: Para registrar más de un representante en una misma invitación, ingréselos en la celda QUIÉN REPRESENTA separados por salto de línea. | J3: REPRESENTANTES EN LISTA | K3: =COUNTIF($B$5:$B$504,"<>")
A4: N° | B4: REPRESENTANTE | C4: CARGO / UNIDAD | D4: TOTAL REPRESENTACIONES | E4: CERRADAS / TERMINADAS | F4: PENDIENTES | G4: ÚLTIMA ACTIVIDAD | H4: OBSERVACIONES | J4: TOTAL REPRESENTACIONES | K4: =SUM($D$5:$D$504)
A5: =IF($B5="","",ROW()-4) | B5: CJA | D5: =IF($B5="","",SUM(COUNTIF(BASE_CONTROL!$D$2:$K$999,$B5))) | E5: =IF($B5="","",SUM(COUNTIFS(BASE_CONTROL!$D$2:$D$999,$B5,BASE_CONTROL!$B$2:$B$999,"CERRADA"),COUNTIFS(BASE_CONTROL!$D$2:$D$999,$B5,BASE_CONTROL!$B$2:$B$999,"TERMINADA"),COUNTIFS(BASE_CONTROL!$E$2:$E$999,$B5,BASE_CONTROL!$B$2:$B$999,"CERRADA"),COUNTIFS(BASE_CONTROL!$E$2:$E$999,$B5,BASE_CONTROL!$B$2:$B$999,"TERMINADA"),COUNTIFS(BASE_CONTROL!$F$2:$F$999,$B5,BASE_CONTROL!$B$2:$B$999,"CERRADA"),COUNTIFS(BASE_CONTROL!$F$2:$F$999,$B5,BASE_CONTROL!$B$2:$B$999,"TERMINADA"),COUNTIFS(BASE_CONTROL!$G$2:$G$999,$B5,BASE_CONTROL!$B$2:$B$999,"CERRADA"),COUNTIFS(BASE_CONTROL!$G$2:$G$999,$B5,BASE_CONTROL!$B$2:$B$999,"TERMINADA"),COUNTIFS(BASE_CONTROL!$H$2:$H$999,$B5,BASE_CONTROL!$B$2:$B$999,"CERRADA"),COUNTIFS(BASE_CONTROL!$H$2:$H$999,$B5,BASE_CONTROL!$B$2:$B$999,"TERMINADA"),COUNTIFS(BASE_CONTROL!$I$2:$I$999,$B5,BASE_CONTROL!$B$2:$B$999,"CERRADA"),COUNTIFS(BASE_CONTROL!$I$2:$I$999,$B5,BASE_CONTROL!$B$2:$B$999,"TERMINADA"),COUNTIFS(BASE_CONTROL!$J$2:$J$999,$B5,BASE_CONTROL!$B$2:$B$999,"CERRADA"),COUNTIFS(BASE_CONTROL!$J$2:$J$999,$B5,BASE_CONTROL!$B$2:$B$999,"TERMINADA"),COUNTIFS(BASE_CONTROL!$K$2:$K$999,$B5,BASE_CONTROL!$B$2:$B$999,"CERRADA"),COUNTIFS(BASE_CONTROL!$K$2:$K$999,$B5,BASE_CONTROL!$B$2:$B$999,"TERMINADA"))) | F5: =IF($B5="","",SUM(COUNTIFS(BASE_CONTROL!$D$2:$D$999,$B5,BASE_CONTROL!$B$2:$B$999,"PENDIENTE"),COUNTIFS(BASE_CONTROL!$E$2:$E$999,$B5,BASE_CONTROL!$B$2:$B$999,"PENDIENTE"),COUNTIFS(BASE_CONTROL!$F$2:$F$999,$B5,BASE_CONTROL!$B$2:$B$999,"PENDIENTE"),COUNTIFS(BASE_CONTROL!$G$2:$G$999,$B5,BASE_CONTROL!$B$2:$B$999,"PENDIENTE"),COUNTIFS(BASE_CONTROL!$H$2:$H$999,$B5,BASE_CONTROL!$B$2:$B$999,"PENDIENTE"),COUNTIFS(BASE_CONTROL!$I$2:$I$999,$B5,BASE_CONTROL!$B$2:$B$999,"PENDIENTE"),COUNTIFS(BASE_CONTROL!$J$2:$J$999,$B5,BASE_CONTROL!$B$2:$B$999,"PENDIENTE"),COUNTIFS(BASE_CONTROL!$K$2:$K$999,$B5,BASE_CONTROL!$B$2:$B$999,"PENDIENTE"))) | G5: =IF($B5="","",IF($D5=0,"",IFERROR(MAX(MAXIFS(BASE_CONTROL!$C$2:$C$999,BASE_CONTROL!$D$2:$D$999,$B5),MAXIFS(BASE_CONTROL!$C$2:$C$999,BASE_CONTROL!$E$2:$E$999,$B5),MAXIFS(BASE_CONTROL!$C$2:$C$999,BASE_CONTROL!$F$2:$F$999,$B5),MAXIFS(BASE_CONTROL!$C$2:$C$999,BASE_CONTROL!$G$2:$G$999,$B5),MAXIFS(BASE_CONTROL!$C$2:$C$999,BASE_CONTROL!$H$2:$H$999,$B5),MAXIFS(BASE_CONTROL!$C$2:$C$999,BASE_CONTROL!$I$2:$I$999,$B5),MAXIFS(BASE_CONTROL!$C$2:$C$999,BASE_CONTROL!$J$2:$J$999,$B5),MAXIFS(BASE_CONTROL!$C$2:$C$999,BASE_CONTROL!$K$2:$K$999,$B5)),""))) | J5: PENDIENTES | K5: =SUM($F$5:$F$504)
A6: =IF($B6="","",ROW()-4) | B6: CJA (S) | D6: =IF($B6="","",SUM(COUNTIF(BASE_CONTROL!$D$2:$K$999,$B6))) | E6: =IF($B6="","",SUM(COUNTIFS(BASE_CONTROL!$D$2:$D$999,$B6,BASE_CONTROL!$B$2:$B$999,"CERRADA"),COUNTIFS(BASE_CONTROL!$D$2:$D$999,$B6,BASE_CONTROL!$B$2:$B$999,"TERMINADA"),COUNTIFS(BASE_CONTROL!$E$2:$E$999,$B6,BASE_CONTROL!$B$2:$B$999,"CERRADA"),COUNTIFS(BASE_CONTROL!$E$2:$E$999,$B6,BASE_CONTROL!$B$2:$B$999,"TERMINADA"),COUNTIFS(BASE_CONTROL!$F$2:$F$999,$B6,BASE_CONTROL!$B$2:$B$999,"CERRADA"),COUNTIFS(BASE_CONTROL!$F$2:$F$999,$B6,BASE_CONTROL!$B$2:$B$999,"TERMINADA"),COUNTIFS(BASE_CONTROL!$G$2:$G$999,$B6,BASE_CONTROL!$B$2:$B$999,"CERRADA"),COUNTIFS(BASE_CONTROL!$G$2:$G$999,$B6,BASE_CONTROL!$B$2:$B$999,"TERMINADA"),COUNTIFS(BASE_CONTROL!$H$2:$H$999,$B6,BASE_CONTROL!$B$2:$B$999,"CERRADA"),COUNTIFS(BASE_CONTROL!$H$2:$H$999,$B6,BASE_CONTROL!$B$2:$B$999,"TERMINADA"),COUNTIFS(BASE_CONTROL!$I$2:$I$999,$B6,BASE_CONTROL!$B$2:$B$999,"CERRADA"),COUNTIFS(BASE_CONTROL!$I$2:$I$999,$B6,BASE_CONTROL!$B$2:$B$999,"TERMINADA"),COUNTIFS(BASE_CONTROL!$J$2:$J$999,$B6,BASE_CONTROL!$B$2:$B$999,"CERRADA"),COUNTIFS(BASE_CONTROL!$J$2:$J$999,$B6,BASE_CONTROL!$B$2:$B$999,"TERMINADA"),COUNTIFS(BASE_CONTROL!$K$2:$K$999,$B6,BASE_CONTROL!$B$2:$B$999,"CERRADA"),COUNTIFS(BASE_CONTROL!$K$2:$K$999,$B6,BASE_CONTROL!$B$2:$B$999,"TERMINADA"))) | F6: =IF($B6="","",SUM(COUNTIFS(BASE_CONTROL!$D$2:$D$999,$B6,BASE_CONTROL!$B$2:$B$999,"PENDIENTE"),COUNTIFS(BASE_CONTROL!$E$2:$E$999,$B6,BASE_CONTROL!$B$2:$B$999,"PENDIENTE"),COUNTIFS(BASE_CONTROL!$F$2:$F$999,$B6,BASE_CONTROL!$B$2:$B$999,"PENDIENTE"),COUNTIFS(BASE_CONTROL!$G$2:$G$999,$B6,BASE_CONTROL!$B$2:$B$999,"PENDIENTE"),COUNTIFS(BASE_CONTROL!$H$2:$H$999,$B6,BASE_CONTROL!$B$2:$B$999,"PENDIENTE"),COUNTIFS(BASE_CONTROL!$I$2:$I$999,$B6,BASE_CONTROL!$B$2:$B$999,"PENDIENTE"),COUNTIFS(BASE_CONTROL!$J$2:$J$999,$B6,BASE_CONTROL!$B$2:$B$999,"PENDIENTE"),COUNTIFS(BASE_CONTROL!$K$2:$K$999,$B6,BASE_CONTROL!$B$2:$B$999,"PENDIENTE"))) | G6: =IF($B6="","",IF($D6=0,"",IFERROR(MAX(MAXIFS(BASE_CONTROL!$C$2:$C$999,BASE_CONTROL!$D$2:$D$999,$B6),MAXIFS(BASE_CONTROL!$C$2:$C$999,BASE_CONTROL!$E$2:$E$999,$B6),MAXIFS(BASE_CONTROL!$C$2:$C$999,BASE_CONTROL!$F$2:$F$999,$B6),MAXIFS(BASE_CONTROL!$C$2:$C$999,BASE_CONTROL!$G$2:$G$999,$B6),MAXIFS(BASE_CONTROL!$C$2:$C$999,BASE_CONTROL!$H$2:$H$999,$B6),MAXIFS(BASE_CONTROL!$C$2:$C$999,BASE_CONTROL!$I$2:$I$999,$B6),MAXIFS(BASE_CONTROL!$C$2:$C$999,BASE_CONTROL!$J$2:$J$999,$B6),MAXIFS(BASE_CONTROL!$C$2:$C$999,BASE_CONTROL!$K$2:$K$999,$B6)),""))) | J6: SIN REPRESENTACIÓN / NO ASISTE | K6: =SUM(COUNTIF(BASE_CONTROL!$D$2:$D$999,"SIN REPRESENTANTE"),COUNTIF(BASE_CONTROL!$D$2:$D$999,"SIN REPRESENTACIÓN"),COUNTIF(BASE_CONTROL!$D$2:$D$999,"SIN REPRESENTACION"),COUNTIF(BASE_CONTROL!$D$2:$D$999,"NO ASISTE"),COUNTIF(BASE_CONTROL!$E$2:$E$999,"SIN REPRESENTANTE"),COUNTIF(BASE_CONTROL!$E$2:$E$999,"SIN REPRESENTACIÓN"),COUNTIF(BASE_CONTROL!$E$2:$E$999,"SIN REPRESENTACION"),COUNTIF(BASE_CONTROL!$E$2:$E$999,"NO ASISTE"),COUNTIF(BASE_CONTROL!$F$2:$F$999,"SIN REPRESENTANTE"),COUNTIF(BASE_CONTROL!$F$2:$F$999,"SIN REPRESENTACIÓN"),COUNTIF(BASE_CONTROL!$F$2:$F$999,"SIN REPRESENTACION"),COUNTIF(BASE_CONTROL!$F$2:$F$999,"NO ASISTE"),COUNTIF(BASE_CONTROL!$G$2:$G$999,"SIN REPRESENTANTE"),COUNTIF(BASE_CONTROL!$G$2:$G$999,"SIN REPRESENTACIÓN"),COUNTIF(BASE_CONTROL!$G$2:$G$999,"SIN REPRESENTACION"),COUNTIF(BASE_CONTROL!$G$2:$G$999,"NO ASISTE"),COUNTIF(BASE_CONTROL!$H$2:$H$999,"SIN REPRESENTANTE"),COUNTIF(BASE_CONTROL!$H$2:$H$999,"SIN REPRESENTACIÓN"),COUNTIF(BASE_CONTROL!$H$2:$H$999,"SIN REPRESENTACION"),COUNTIF(BASE_CONTROL!$H$2:$H$999,"NO ASISTE"),COUNTIF(BASE_CONTROL!$I$2:$I$999,"SIN REPRESENTANTE"),COUNTIF(BASE_CONTROL!$I$2:$I$999,"SIN REPRESENTACIÓN"),COUNTIF(BASE_CONTROL!$I$2:$I$999,"SIN REPRESENTACION"),COUNTIF(BASE_CONTROL!$I$2:$I$999,"NO ASISTE"),COUNTIF(BASE_CONTROL!$J$2:$J$999,"SIN REPRESENTANTE"),COUNTIF(BASE_CONTROL!$J$2:$J$999,"SIN REPRESENTACIÓN"),COUNTIF(BASE_CONTROL!$J$2:$J$999,"SIN REPRESENTACION"),COUNTIF(BASE_CONTROL!$J$2:$J$999,"NO ASISTE"),COUNTIF(BASE_CONTROL!$K$2:$K$999,"SIN REPRESENTANTE"),COUNTIF(BASE_CONTROL!$K$2:$K$999,"SIN REPRESENTACIÓN"),COUNTIF(BASE_CONTROL!$K$2:$K$999,"SIN REPRESENTACION"),COUNTIF(BASE_CONTROL!$K$2:$K$999,"NO ASISTE"))
A7: =IF($B7="","",ROW()-4) | B7: JEFEMAYOR | D7: =IF($B7="","",SUM(COUNTIF(BASE_CONTROL!$D$2:$K$999,$B7))) | E7: =IF($B7="","",SUM(COUNTIFS(BASE_CONTROL!$D$2:$D$999,$B7,BASE_CONTROL!$B$2:$B$999,"CERRADA"),COUNTIFS(BASE_CONTROL!$D$2:$D$999,$B7,BASE_CONTROL!$B$2:$B$999,"TERMINADA"),COUNTIFS(BASE_CONTROL!$E$2:$E$999,$B7,BASE_CONTROL!$B$2:$B$999,"CERRADA"),COUNTIFS(BASE_CONTROL!$E$2:$E$999,$B7,BASE_CONTROL!$B$2:$B$999,"TERMINADA"),COUNTIFS(BASE_CONTROL!$F$2:$F$999,$B7,BASE_CONTROL!$B$2:$B$999,"CERRADA"),COUNTIFS(BASE_CONTROL!$F$2:$F$999,$B7,BASE_CONTROL!$B$2:$B$999,"TERMINADA"),COUNTIFS(BASE_CONTROL!$G$2:$G$999,$B7,BASE_CONTROL!$B$2:$B$999,"CERRADA"),COUNTIFS(BASE_CONTROL!$G$2:$G$999,$B7,BASE_CONTROL!$B$2:$B$999,"TERMINADA"),COUNTIFS(BASE_CONTROL!$H$2:$H$999,$B7,BASE_CONTROL!$B$2:$B$999,"CERRADA"),COUNTIFS(BASE_CONTROL!$H$2:$H$999,$B7,BASE_CONTROL!$B$2:$B$999,"TERMINADA"),COUNTIFS(BASE_CONTROL!$I$2:$I$999,$B7,BASE_CONTROL!$B$2:$B$999,"CERRADA"),COUNTIFS(BASE_CONTROL!$I$2:$I$999,$B7,BASE_CONTROL!$B$2:$B$999,"TERMINADA"),COUNTIFS(BASE_CONTROL!$J$2:$J$999,$B7,BASE_CONTROL!$B$2:$B$999,"CERRADA"),COUNTIFS(BASE_CONTROL!$J$2:$J$999,$B7,BASE_CONTROL!$B$2:$B$999,"TERMINADA"),COUNTIFS(BASE_CONTROL!$K$2:$K$999,$B7,BASE_CONTROL!$B$2:$B$999,"CERRADA"),COUNTIFS(BASE_CONTROL!$K$2:$K$999,$B7,BASE_CONTROL!$B$2:$B$999,"TERMINADA"))) | F7: =IF($B7="","",SUM(COUNTIFS(BASE_CONTROL!$D$2:$D$999,$B7,BASE_CONTROL!$B$2:$B$999,"PENDIENTE"),COUNTIFS(BASE_CONTROL!$E$2:$E$999,$B7,BASE_CONTROL!$B$2:$B$999,"PENDIENTE"),COUNTIFS(BASE_CONTROL!$F$2:$F$999,$B7,BASE_CONTROL!$B$2:$B$999,"PENDIENTE"),COUNTIFS(BASE_CONTROL!$G$2:$G$999,$B7,BASE_CONTROL!$B$2:$B$999,"PENDIENTE"),COUNTIFS(BASE_CONTROL!$H$2:$H$999,$B7,BASE_CONTROL!$B$2:$B$999,"PENDIENTE"),COUNTIFS(BASE_CONTROL!$I$2:$I$999,$B7,BASE_CONTROL!$B$2:$B$999,"PENDIENTE"),COUNTIFS(BASE_CONTROL!$J$2:$J$999,$B7,BASE_CONTROL!$B$2:$B$999,"PENDIENTE"),COUNTIFS(BASE_CONTROL!$K$2:$K$999,$B7,BASE_CONTROL!$B$2:$B$999,"PENDIENTE"))) | G7: =IF($B7="","",IF($D7=0,"",IFERROR(MAX(MAXIFS(BASE_CONTROL!$C$2:$C$999,BASE_CONTROL!$D$2:$D$999,$B7),MAXIFS(BASE_CONTROL!$C$2:$C$999,BASE_CONTROL!$E$2:$E$999,$B7),MAXIFS(BASE_CONTROL!$C$2:$C$999,BASE_CONTROL!$F$2:$F$999,$B7),MAXIFS(BASE_CONTROL!$C$2:$C$999,BASE_CONTROL!$G$2:$G$999,$B7),MAXIFS(BASE_CONTROL!$C$2:$C$999,BASE_CONTROL!$H$2:$H$999,$B7),MAXIFS(BASE_CONTROL!$C$2:$C$999,BASE_CONTROL!$I$2:$I$999,$B7),MAXIFS(BASE_CONTROL!$C$2:$C$999,BASE_CONTROL!$J$2:$J$999,$B7),MAXIFS(BASE_CONTROL!$C$2:$C$999,BASE_CONTROL!$K$2:$K$999,$B7)),"")))
A8: =IF($B8="","",ROW()-4) | B8: SECRETGEN | D8: =IF($B8="","",SUM(COUNTIF(BASE_CONTROL!$D$2:$K$999,$B8))) | E8: =IF($B8="","",SUM(COUNTIFS(BASE_CONTROL!$D$2:$D$999,$B8,BASE_CONTROL!$B$2:$B$999,"CERRADA"),COUNTIFS(BASE_CONTROL!$D$2:$D$999,$B8,BASE_CONTROL!$B$2:$B$999,"TERMINADA"),COUNTIFS(BASE_CONTROL!$E$2:$E$999,$B8,BASE_CONTROL!$B$2:$B$999,"CERRADA"),COUNTIFS(BASE_CONTROL!$E$2:$E$999,$B8,BASE_CONTROL!$B$2:$B$999,"TERMINADA"),COUNTIFS(BASE_CONTROL!$F$2:$F$999,$B8,BASE_CONTROL!$B$2:$B$999,"CERRADA"),COUNTIFS(BASE_CONTROL!$F$2:$F$999,$B8,BASE_CONTROL!$B$2:$B$999,"TERMINADA"),COUNTIFS(BASE_CONTROL!$G$2:$G$999,$B8,BASE_CONTROL!$B$2:$B$999,"CERRADA"),COUNTIFS(BASE_CONTROL!$G$2:$G$999,$B8,BASE_CONTROL!$B$2:$B$999,"TERMINADA"),COUNTIFS(BASE_CONTROL!$H$2:$H$999,$B8,BASE_CONTROL!$B$2:$B$999,"CERRADA"),COUNTIFS(BASE_CONTROL!$H$2:$H$999,$B8,BASE_CONTROL!$B$2:$B$999,"TERMINADA"),COUNTIFS(BASE_CONTROL!$I$2:$I$999,$B8,BASE_CONTROL!$B$2:$B$999,"CERRADA"),COUNTIFS(BASE_CONTROL!$I$2:$I$999,$B8,BASE_CONTROL!$B$2:$B$999,"TERMINADA"),COUNTIFS(BASE_CONTROL!$J$2:$J$999,$B8,BASE_CONTROL!$B$2:$B$999,"CERRADA"),COUNTIFS(BASE_CONTROL!$J$2:$J$999,$B8,BASE_CONTROL!$B$2:$B$999,"TERMINADA"),COUNTIFS(BASE_CONTROL!$K$2:$K$999,$B8,BASE_CONTROL!$B$2:$B$999,"CERRADA"),COUNTIFS(BASE_CONTROL!$K$2:$K$999,$B8,BASE_CONTROL!$B$2:$B$999,"TERMINADA"))) | F8: =IF($B8="","",SUM(COUNTIFS(BASE_CONTROL!$D$2:$D$999,$B8,BASE_CONTROL!$B$2:$B$999,"PENDIENTE"),COUNTIFS(BASE_CONTROL!$E$2:$E$999,$B8,BASE_CONTROL!$B$2:$B$999,"PENDIENTE"),COUNTIFS(BASE_CONTROL!$F$2:$F$999,$B8,BASE_CONTROL!$B$2:$B$999,"PENDIENTE"),COUNTIFS(BASE_CONTROL!$G$2:$G$999,$B8,BASE_CONTROL!$B$2:$B$999,"PENDIENTE"),COUNTIFS(BASE_CONTROL!$H$2:$H$999,$B8,BASE_CONTROL!$B$2:$B$999,"PENDIENTE"),COUNTIFS(BASE_CONTROL!$I$2:$I$999,$B8,BASE_CONTROL!$B$2:$B$999,"PENDIENTE"),COUNTIFS(BASE_CONTROL!$J$2:$J$999,$B8,BASE_CONTROL!$B$2:$B$999,"PENDIENTE"),COUNTIFS(BASE_CONTROL!$K$2:$K$999,$B8,BASE_CONTROL!$B$2:$B$999,"PENDIENTE"))) | G8: =IF($B8="","",IF($D8=0,"",IFERROR(MAX(MAXIFS(BASE_CONTROL!$C$2:$C$999,BASE_CONTROL!$D$2:$D$999,$B8),MAXIFS(BASE_CONTROL!$C$2:$C$999,BASE_CONTROL!$E$2:$E$999,$B8),MAXIFS(BASE_CONTROL!$C$2:$C$999,BASE_CONTROL!$F$2:$F$999,$B8),MAXIFS(BASE_CONTROL!$C$2:$C$999,BASE_CONTROL!$G$2:$G$999,$B8),MAXIFS(BASE_CONTROL!$C$2:$C$999,BASE_CONTROL!$H$2:$H$999,$B8),MAXIFS(BASE_CONTROL!$C$2:$C$999,BASE_CONTROL!$I$2:$I$999,$B8),MAXIFS(BASE_CONTROL!$C$2:$C$999,BASE_CONTROL!$J$2:$J$999,$B8),MAXIFS(BASE_CONTROL!$C$2:$C$999,BASE_CONTROL!$K$2:$K$999,$B8)),""))) | J8: TOP REPRESENTANTES
A9: =IF($B9="","",ROW()-4) | B9: SUBMAYOR | D9: =IF($B9="","",SUM(COUNTIF(BASE_CONTROL!$D$2:$K$999,$B9))) | E9: =IF($B9="","",SUM(COUNTIFS(BASE_CONTROL!$D$2:$D$999,$B9,BASE_CONTROL!$B$2:$B$999,"CERRADA"),COUNTIFS(BASE_CONTROL!$D$2:$D$999,$B9,BASE_CONTROL!$B$2:$B$999,"TERMINADA"),COUNTIFS(BASE_CONTROL!$E$2:$E$999,$B9,BASE_CONTROL!$B$2:$B$999,"CERRADA"),COUNTIFS(BASE_CONTROL!$E$2:$E$999,$B9,BASE_CONTROL!$B$2:$B$999,"TERMINADA"),COUNTIFS(BASE_CONTROL!$F$2:$F$999,$B9,BASE_CONTROL!$B$2:$B$999,"CERRADA"),COUNTIFS(BASE_CONTROL!$F$2:$F$999,$B9,BASE_CONTROL!$B$2:$B$999,"TERMINADA"),COUNTIFS(BASE_CONTROL!$G$2:$G$999,$B9,BASE_CONTROL!$B$2:$B$999,"CERRADA"),COUNTIFS(BASE_CONTROL!$G$2:$G$999,$B9,BASE_CONTROL!$B$2:$B$999,"TERMINADA"),COUNTIFS(BASE_CONTROL!$H$2:$H$999,$B9,BASE_CONTROL!$B$2:$B$999,"CERRADA"),COUNTIFS(BASE_CONTROL!$H$2:$H$999,$B9,BASE_CONTROL!$B$2:$B$999,"TERMINADA"),COUNTIFS(BASE_CONTROL!$I$2:$I$999,$B9,BASE_CONTROL!$B$2:$B$999,"CERRADA"),COUNTIFS(BASE_CONTROL!$I$2:$I$999,$B9,BASE_CONTROL!$B$2:$B$999,"TERMINADA"),COUNTIFS(BASE_CONTROL!$J$2:$J$999,$B9,BASE_CONTROL!$B$2:$B$999,"CERRADA"),COUNTIFS(BASE_CONTROL!$J$2:$J$999,$B9,BASE_CONTROL!$B$2:$B$999,"TERMINADA"),COUNTIFS(BASE_CONTROL!$K$2:$K$999,$B9,BASE_CONTROL!$B$2:$B$999,"CERRADA"),COUNTIFS(BASE_CONTROL!$K$2:$K$999,$B9,BASE_CONTROL!$B$2:$B$999,"TERMINADA"))) | F9: =IF($B9="","",SUM(COUNTIFS(BASE_CONTROL!$D$2:$D$999,$B9,BASE_CONTROL!$B$2:$B$999,"PENDIENTE"),COUNTIFS(BASE_CONTROL!$E$2:$E$999,$B9,BASE_CONTROL!$B$2:$B$999,"PENDIENTE"),COUNTIFS(BASE_CONTROL!$F$2:$F$999,$B9,BASE_CONTROL!$B$2:$B$999,"PENDIENTE"),COUNTIFS(BASE_CONTROL!$G$2:$G$999,$B9,BASE_CONTROL!$B$2:$B$999,"PENDIENTE"),COUNTIFS(BASE_CONTROL!$H$2:$H$999,$B9,BASE_CONTROL!$B$2:$B$999,"PENDIENTE"),COUNTIFS(BASE_CONTROL!$I$2:$I$999,$B9,BASE_CONTROL!$B$2:$B$999,"PENDIENTE"),COUNTIFS(BASE_CONTROL!$J$2:$J$999,$B9,BASE_CONTROL!$B$2:$B$999,"PENDIENTE"),COUNTIFS(BASE_CONTROL!$K$2:$K$999,$B9,BASE_CONTROL!$B$2:$B$999,"PENDIENTE"))) | G9: =IF($B9="","",IF($D9=0,"",IFERROR(MAX(MAXIFS(BASE_CONTROL!$C$2:$C$999,BASE_CONTROL!$D$2:$D$999,$B9),MAXIFS(BASE_CONTROL!$C$2:$C$999,BASE_CONTROL!$E$2:$E$999,$B9),MAXIFS(BASE_CONTROL!$C$2:$C$999,BASE_CONTROL!$F$2:$F$999,$B9),MAXIFS(BASE_CONTROL!$C$2:$C$999,BASE_CONTROL!$G$2:$G$999,$B9),MAXIFS(BASE_CONTROL!$C$2:$C$999,BASE_CONTROL!$H$2:$H$999,$B9),MAXIFS(BASE_CONTROL!$C$2:$C$999,BASE_CONTROL!$I$2:$I$999,$B9),MAXIFS(BASE_CONTROL!$C$2:$C$999,BASE_CONTROL!$J$2:$J$999,$B9),MAXIFS(BASE_CONTROL!$C$2:$C$999,BASE_CONTROL!$K$2:$K$999,$B9)),""))) | J9: N° | K9: REPRESENTANTE | L9: TOTAL | M9: PENDIENTES
A10: =IF($B10="","",ROW()-4) | B10: DIRECPERS | D10: =IF($B10="","",SUM(COUNTIF(BASE_CONTROL!$D$2:$K$999,$B10))) | E10: =IF($B10="","",SUM(COUNTIFS(BASE_CONTROL!$D$2:$D$999,$B10,BASE_CONTROL!$B$2:$B$999,"CERRADA"),COUNTIFS(BASE_CONTROL!$D$2:$D$999,$B10,BASE_CONTROL!$B$2:$B$999,"TERMINADA"),COUNTIFS(BASE_CONTROL!$E$2:$E$999,$B10,BASE_CONTROL!$B$2:$B$999,"CERRADA"),COUNTIFS(BASE_CONTROL!$E$2:$E$999,$B10,BASE_CONTROL!$B$2:$B$999,"TERMINADA"),COUNTIFS(BASE_CONTROL!$F$2:$F$999,$B10,BASE_CONTROL!$B$2:$B$999,"CERRADA"),COUNTIFS(BASE_CONTROL!$F$2:$F$999,$B10,BASE_CONTROL!$B$2:$B$999,"TERMINADA"),COUNTIFS(BASE_CONTROL!$G$2:$G$999,$B10,BASE_CONTROL!$B$2:$B$999,"CERRADA"),COUNTIFS(BASE_CONTROL!$G$2:$G$999,$B10,BASE_CONTROL!$B$2:$B$999,"TERMINADA"),COUNTIFS(BASE_CONTROL!$H$2:$H$999,$B10,BASE_CONTROL!$B$2:$B$999,"CERRADA"),COUNTIFS(BASE_CONTROL!$H$2:$H$999,$B10,BASE_CONTROL!$B$2:$B$999,"TERMINADA"),COUNTIFS(BASE_CONTROL!$I$2:$I$999,$B10,BASE_CONTROL!$B$2:$B$999,"CERRADA"),COUNTIFS(BASE_CONTROL!$I$2:$I$999,$B10,BASE_CONTROL!$B$2:$B$999,"TERMINADA"),COUNTIFS(BASE_CONTROL!$J$2:$J$999,$B10,BASE_CONTROL!$B$2:$B$999,"CERRADA"),COUNTIFS(BASE_CONTROL!$J$2:$J$999,$B10,BASE_CONTROL!$B$2:$B$999,"TERMINADA"),COUNTIFS(BASE_CONTROL!$K$2:$K$999,$B10,BASE_CONTROL!$B$2:$B$999,"CERRADA"),COUNTIFS(BASE_CONTROL!$K$2:$K$999,$B10,BASE_CONTROL!$B$2:$B$999,"TERMINADA"))) | F10: =IF($B10="","",SUM(COUNTIFS(BASE_CONTROL!$D$2:$D$999,$B10,BASE_CONTROL!$B$2:$B$999,"PENDIENTE"),COUNTIFS(BASE_CONTROL!$E$2:$E$999,$B10,BASE_CONTROL!$B$2:$B$999,"PENDIENTE"),COUNTIFS(BASE_CONTROL!$F$2:$F$999,$B10,BASE_CONTROL!$B$2:$B$999,"PENDIENTE"),COUNTIFS(BASE_CONTROL!$G$2:$G$999,$B10,BASE_CONTROL!$B$2:$B$999,"PENDIENTE"),COUNTIFS(BASE_CONTROL!$H$2:$H$999,$B10,BASE_CONTROL!$B$2:$B$999,"PENDIENTE"),COUNTIFS(BASE_CONTROL!$I$2:$I$999,$B10,BASE_CONTROL!$B$2:$B$999,"PENDIENTE"),COUNTIFS(BASE_CONTROL!$J$2:$J$999,$B10,BASE_CONTROL!$B$2:$B$999,"PENDIENTE"),COUNTIFS(BASE_CONTROL!$K$2:$K$999,$B10,BASE_CONTROL!$B$2:$B$999,"PENDIENTE"))) | G10: =IF($B10="","",IF($D10=0,"",IFERROR(MAX(MAXIFS(BASE_CONTROL!$C$2:$C$999,BASE_CONTROL!$D$2:$D$999,$B10),MAXIFS(BASE_CONTROL!$C$2:$C$999,BASE_CONTROL!$E$2:$E$999,$B10),MAXIFS(BASE_CONTROL!$C$2:$C$999,BASE_CONTROL!$F$2:$F$999,$B10),MAXIFS(BASE_CONTROL!$C$2:$C$999,BASE_CONTROL!$G$2:$G$999,$B10),MAXIFS(BASE_CONTROL!$C$2:$C$999,BASE_CONTROL!$H$2:$H$999,$B10),MAXIFS(BASE_CONTROL!$C$2:$C$999,BASE_CONTROL!$I$2:$I$999,$B10),MAXIFS(BASE_CONTROL!$C$2:$C$999,BASE_CONTROL!$J$2:$J$999,$B10),MAXIFS(BASE_CONTROL!$C$2:$C$999,BASE_CONTROL!$K$2:$K$999,$B10)),""))) | J10: 1 | K10: =IFERROR(INDEX($B$5:$B$504,MATCH(L10,$D$5:$D$504,0)),"") | L10: =IFERROR(LARGE($D$5:$D$504,J10),"") | M10: =IF(K10="","",SUMIF($B$5:$B$504,K10,$F$5:$F$504))
A11: =IF($B11="","",ROW()-4) | B11: DIRECTEMAR | D11: =IF($B11="","",SUM(COUNTIF(BASE_CONTROL!$D$2:$K$999,$B11))) | E11: =IF($B11="","",SUM(COUNTIFS(BASE_CONTROL!$D$2:$D$999,$B11,BASE_CONTROL!$B$2:$B$999,"CERRADA"),COUNTIFS(BASE_CONTROL!$D$2:$D$999,$B11,BASE_CONTROL!$B$2:$B$999,"TERMINADA"),COUNTIFS(BASE_CONTROL!$E$2:$E$999,$B11,BASE_CONTROL!$B$2:$B$999,"CERRADA"),COUNTIFS(BASE_CONTROL!$E$2:$E$999,$B11,BASE_CONTROL!$B$2:$B$999,"TERMINADA"),COUNTIFS(BASE_CONTROL!$F$2:$F$999,$B11,BASE_CONTROL!$B$2:$B$999,"CERRADA"),COUNTIFS(BASE_CONTROL!$F$2:$F$999,$B11,BASE_CONTROL!$B$2:$B$999,"TERMINADA"),COUNTIFS(BASE_CONTROL!$G$2:$G$999,$B11,BASE_CONTROL!$B$2:$B$999,"CERRADA"),COUNTIFS(BASE_CONTROL!$G$2:$G$999,$B11,BASE_CONTROL!$B$2:$B$999,"TERMINADA"),COUNTIFS(BASE_CONTROL!$H$2:$H$999,$B11,BASE_CONTROL!$B$2:$B$999,"CERRADA"),COUNTIFS(BASE_CONTROL!$H$2:$H$999,$B11,BASE_CONTROL!$B$2:$B$999,"TERMINADA"),COUNTIFS(BASE_CONTROL!$I$2:$I$999,$B11,BASE_CONTROL!$B$2:$B$999,"CERRADA"),COUNTIFS(BASE_CONTROL!$I$2:$I$999,$B11,BASE_CONTROL!$B$2:$B$999,"TERMINADA"),COUNTIFS(BASE_CONTROL!$J$2:$J$999,$B11,BASE_CONTROL!$B$2:$B$999,"CERRADA"),COUNTIFS(BASE_CONTROL!$J$2:$J$999,$B11,BASE_CONTROL!$B$2:$B$999,"TERMINADA"),COUNTIFS(BASE_CONTROL!$K$2:$K$999,$B11,BASE_CONTROL!$B$2:$B$999,"CERRADA"),COUNTIFS(BASE_CONTROL!$K$2:$K$999,$B11,BASE_CONTROL!$B$2:$B$999,"TERMINADA"))) | F11: =IF($B11="","",SUM(COUNTIFS(BASE_CONTROL!$D$2:$D$999,$B11,BASE_CONTROL!$B$2:$B$999,"PENDIENTE"),COUNTIFS(BASE_CONTROL!$E$2:$E$999,$B11,BASE_CONTROL!$B$2:$B$999,"PENDIENTE"),COUNTIFS(BASE_CONTROL!$F$2:$F$999,$B11,BASE_CONTROL!$B$2:$B$999,"PENDIENTE"),COUNTIFS(BASE_CONTROL!$G$2:$G$999,$B11,BASE_CONTROL!$B$2:$B$999,"PENDIENTE"),COUNTIFS(BASE_CONTROL!$H$2:$H$999,$B11,BASE_CONTROL!$B$2:$B$999,"PENDIENTE"),COUNTIFS(BASE_CONTROL!$I$2:$I$999,$B11,BASE_CONTROL!$B$2:$B$999,"PENDIENTE"),COUNTIFS(BASE_CONTROL!$J$2:$J$999,$B11,BASE_CONTROL!$B$2:$B$999,"PENDIENTE"),COUNTIFS(BASE_CONTROL!$K$2:$K$999,$B11,BASE_CONTROL!$B$2:$B$999,"PENDIENTE"))) | G11: =IF($B11="","",IF($D11=0,"",IFERROR(MAX(MAXIFS(BASE_CONTROL!$C$2:$C$999,BASE_CONTROL!$D$2:$D$999,$B11),MAXIFS(BASE_CONTROL!$C$2:$C$999,BASE_CONTROL!$E$2:$E$999,$B11),MAXIFS(BASE_CONTROL!$C$2:$C$999,BASE_CONTROL!$F$2:$F$999,$B11),MAXIFS(BASE_CONTROL!$C$2:$C$999,BASE_CONTROL!$G$2:$G$999,$B11),MAXIFS(BASE_CONTROL!$C$2:$C$999,BASE_CONTROL!$H$2:$H$999,$B11),MAXIFS(BASE_CONTROL!$C$2:$C$999,BASE_CONTROL!$I$2:$I$999,$B11),MAXIFS(BASE_CONTROL!$C$2:$C$999,BASE_CONTROL!$J$2:$J$999,$B11),MAXIFS(BASE_CONTROL!$C$2:$C$999,BASE_CONTROL!$K$2:$K$999,$B11)),""))) | J11: 2 | K11: =IFERROR(INDEX($B$5:$B$504,MATCH(L11,$D$5:$D$504,0)),"") | L11: =IFERROR(LARGE($D$5:$D$504,J11),"") | M11: =IF(K11="","",SUMIF($B$5:$B$504,K11,$F$5:$F$504))
A12: =IF($B12="","",ROW()-4) | B12: DIRINTA | D12: =IF($B12="","",SUM(COUNTIF(BASE_CONTROL!$D$2:$K$999,$B12))) | E12: =IF($B12="","",SUM(COUNTIFS(BASE_CONTROL!$D$2:$D$999,$B12,BASE_CONTROL!$B$2:$B$999,"CERRADA"),COUNTIFS(BASE_CONTROL!$D$2:$D$999,$B12,BASE_CONTROL!$B$2:$B$999,"TERMINADA"),COUNTIFS(BASE_CONTROL!$E$2:$E$999,$B12,BASE_CONTROL!$B$2:$B$999,"CERRADA"),COUNTIFS(BASE_CONTROL!$E$2:$E$999,$B12,BASE_CONTROL!$B$2:$B$999,"TERMINADA"),COUNTIFS(BASE_CONTROL!$F$2:$F$999,$B12,BASE_CONTROL!$B$2:$B$999,"CERRADA"),COUNTIFS(BASE_CONTROL!$F$2:$F$999,$B12,BASE_CONTROL!$B$2:$B$999,"TERMINADA"),COUNTIFS(BASE_CONTROL!$G$2:$G$999,$B12,BASE_CONTROL!$B$2:$B$999,"CERRADA"),COUNTIFS(BASE_CONTROL!$G$2:$G$999,$B12,BASE_CONTROL!$B$2:$B$999,"TERMINADA"),COUNTIFS(BASE_CONTROL!$H$2:$H$999,$B12,BASE_CONTROL!$B$2:$B$999,"CERRADA"),COUNTIFS(BASE_CONTROL!$H$2:$H$999,$B12,BASE_CONTROL!$B$2:$B$999,"TERMINADA"),COUNTIFS(BASE_CONTROL!$I$2:$I$999,$B12,BASE_CONTROL!$B$2:$B$999,"CERRADA"),COUNTIFS(BASE_CONTROL!$I$2:$I$999,$B12,BASE_CONTROL!$B$2:$B$999,"TERMINADA"),COUNTIFS(BASE_CONTROL!$J$2:$J$999,$B12,BASE_CONTROL!$B$2:$B$999,"CERRADA"),COUNTIFS(BASE_CONTROL!$J$2:$J$999,$B12,BASE_CONTROL!$B$2:$B$999,"TERMINADA"),COUNTIFS(BASE_CONTROL!$K$2:$K$999,$B12,BASE_CONTROL!$B$2:$B$999,"CERRADA"),COUNTIFS(BASE_CONTROL!$K$2:$K$999,$B12,BASE_CONTROL!$B$2:$B$999,"TERMINADA"))) | F12: =IF($B12="","",SUM(COUNTIFS(BASE_CONTROL!$D$2:$D$999,$B12,BASE_CONTROL!$B$2:$B$999,"PENDIENTE"),COUNTIFS(BASE_CONTROL!$E$2:$E$999,$B12,BASE_CONTROL!$B$2:$B$999,"PENDIENTE"),COUNTIFS(BASE_CONTROL!$F$2:$F$999,$B12,BASE_CONTROL!$B$2:$B$999,"PENDIENTE"),COUNTIFS(BASE_CONTROL!$G$2:$G$999,$B12,BASE_CONTROL!$B$2:$B$999,"PENDIENTE"),COUNTIFS(BASE_CONTROL!$H$2:$H$999,$B12,BASE_CONTROL!$B$2:$B$999,"PENDIENTE"),COUNTIFS(BASE_CONTROL!$I$2:$I$999,$B12,BASE_CONTROL!$B$2:$B$999,"PENDIENTE"),COUNTIFS(BASE_CONTROL!$J$2:$J$999,$B12,BASE_CONTROL!$B$2:$B$999,"PENDIENTE"),COUNTIFS(BASE_CONTROL!$K$2:$K$999,$B12,BASE_CONTROL!$B$2:$B$999,"PENDIENTE"))) | G12: =IF($B12="","",IF($D12=0,"",IFERROR(MAX(MAXIFS(BASE_CONTROL!$C$2:$C$999,BASE_CONTROL!$D$2:$D$999,$B12),MAXIFS(BASE_CONTROL!$C$2:$C$999,BASE_CONTROL!$E$2:$E$999,$B12),MAXIFS(BASE_CONTROL!$C$2:$C$999,BASE_CONTROL!$F$2:$F$999,$B12),MAXIFS(BASE_CONTROL!$C$2:$C$999,BASE_CONTROL!$G$2:$G$999,$B12),MAXIFS(BASE_CONTROL!$C$2:$C$999,BASE_CONTROL!$H$2:$H$999,$B12),MAXIFS(BASE_CONTROL!$C$2:$C$999,BASE_CONTROL!$I$2:$I$999,$B12),MAXIFS(BASE_CONTROL!$C$2:$C$999,BASE_CONTROL!$J$2:$J$999,$B12),MAXIFS(BASE_CONTROL!$C$2:$C$999,BASE_CONTROL!$K$2:$K$999,$B12)),""))) | J12: 3 | K12: =IFERROR(INDEX($B$5:$B$504,MATCH(L12,$D$5:$D$504,0)),"") | L12: =IFERROR(LARGE($D$5:$D$504,J12),"") | M12: =IF(K12="","",SUMIF($B$5:$B$504,K12,$F$5:$F$504))
A13: =IF($B13="","",ROW()-4) | B13: DIRECFIN | D13: =IF($B13="","",SUM(COUNTIF(BASE_CONTROL!$D$2:$K$999,$B13))) | E13: =IF($B13="","",SUM(COUNTIFS(BASE_CONTROL!$D$2:$D$999,$B13,BASE_CONTROL!$B$2:$B$999,"CERRADA"),COUNTIFS(BASE_CONTROL!$D$2:$D$999,$B13,BASE_CONTROL!$B$2:$B$999,"TERMINADA"),COUNTIFS(BASE_CONTROL!$E$2:$E$999,$B13,BASE_CONTROL!$B$2:$B$999,"CERRADA"),COUNTIFS(BASE_CONTROL!$E$2:$E$999,$B13,BASE_CONTROL!$B$2:$B$999,"TERMINADA"),COUNTIFS(BASE_CONTROL!$F$2:$F$999,$B13,BASE_CONTROL!$B$2:$B$999,"CERRADA"),COUNTIFS(BASE_CONTROL!$F$2:$F$999,$B13,BASE_CONTROL!$B$2:$B$999,"TERMINADA"),COUNTIFS(BASE_CONTROL!$G$2:$G$999,$B13,BASE_CONTROL!$B$2:$B$999,"CERRADA"),COUNTIFS(BASE_CONTROL!$G$2:$G$999,$B13,BASE_CONTROL!$B$2:$B$999,"TERMINADA"),COUNTIFS(BASE_CONTROL!$H$2:$H$999,$B13,BASE_CONTROL!$B$2:$B$999,"CERRADA"),COUNTIFS(BASE_CONTROL!$H$2:$H$999,$B13,BASE_CONTROL!$B$2:$B$999,"TERMINADA"),COUNTIFS(BASE_CONTROL!$I$2:$I$999,$B13,BASE_CONTROL!$B$2:$B$999,"CERRADA"),COUNTIFS(BASE_CONTROL!$I$2:$I$999,$B13,BASE_CONTROL!$B$2:$B$999,"TERMINADA"),COUNTIFS(BASE_CONTROL!$J$2:$J$999,$B13,BASE_CONTROL!$B$2:$B$999,"CERRADA"),COUNTIFS(BASE_CONTROL!$J$2:$J$999,$B13,BASE_CONTROL!$B$2:$B$999,"TERMINADA"),COUNTIFS(BASE_CONTROL!$K$2:$K$999,$B13,BASE_CONTROL!$B$2:$B$999,"CERRADA"),COUNTIFS(BASE_CONTROL!$K$2:$K$999,$B13,BASE_CONTROL!$B$2:$B$999,"TERMINADA"))) | F13: =IF($B13="","",SUM(COUNTIFS(BASE_CONTROL!$D$2:$D$999,$B13,BASE_CONTROL!$B$2:$B$999,"PENDIENTE"),COUNTIFS(BASE_CONTROL!$E$2:$E$999,$B13,BASE_CONTROL!$B$2:$B$999,"PENDIENTE"),COUNTIFS(BASE_CONTROL!$F$2:$F$999,$B13,BASE_CONTROL!$B$2:$B$999,"PENDIENTE"),COUNTIFS(BASE_CONTROL!$G$2:$G$999,$B13,BASE_CONTROL!$B$2:$B$999,"PENDIENTE"),COUNTIFS(BASE_CONTROL!$H$2:$H$999,$B13,BASE_CONTROL!$B$2:$B$999,"PENDIENTE"),COUNTIFS(BASE_CONTROL!$I$2:$I$999,$B13,BASE_CONTROL!$B$2:$B$999,"PENDIENTE"),COUNTIFS(BASE_CONTROL!$J$2:$J$999,$B13,BASE_CONTROL!$B$2:$B$999,"PENDIENTE"),COUNTIFS(BASE_CONTROL!$K$2:$K$999,$B13,BASE_CONTROL!$B$2:$B$999,"PENDIENTE"))) | G13: =IF($B13="","",IF($D13=0,"",IFERROR(MAX(MAXIFS(BASE_CONTROL!$C$2:$C$999,BASE_CONTROL!$D$2:$D$999,$B13),MAXIFS(BASE_CONTROL!$C$2:$C$999,BASE_CONTROL!$E$2:$E$999,$B13),MAXIFS(BASE_CONTROL!$C$2:$C$999,BASE_CONTROL!$F$2:$F$999,$B13),MAXIFS(BASE_CONTROL!$C$2:$C$999,BASE_CONTROL!$G$2:$G$999,$B13),MAXIFS(BASE_CONTROL!$C$2:$C$999,BASE_CONTROL!$H$2:$H$999,$B13),MAXIFS(BASE_CONTROL!$C$2:$C$999,BASE_CONTROL!$I$2:$I$999,$B13),MAXIFS(BASE_CONTROL!$C$2:$C$999,BASE_CONTROL!$J$2:$J$999,$B13),MAXIFS(BASE_CONTROL!$C$2:$C$999,BASE_CONTROL!$K$2:$K$999,$B13)),""))) | J13: 4 | K13: =IFERROR(INDEX($B$5:$B$504,MATCH(L13,$D$5:$D$504,0)),"") | L13: =IFERROR(LARGE($D$5:$D$504,J13),"") | M13: =IF(K13="","",SUMIF($B$5:$B$504,K13,$F$5:$F$504))
A14: =IF($B14="","",ROW()-4) | B14: DIRECSERV | D14: =IF($B14="","",SUM(COUNTIF(BASE_CONTROL!$D$2:$K$999,$B14))) | E14: =IF($B14="","",SUM(COUNTIFS(BASE_CONTROL!$D$2:$D$999,$B14,BASE_CONTROL!$B$2:$B$999,"CERRADA"),COUNTIFS(BASE_CONTROL!$D$2:$D$999,$B14,BASE_CONTROL!$B$2:$B$999,"TERMINADA"),COUNTIFS(BASE_CONTROL!$E$2:$E$999,$B14,BASE_CONTROL!$B$2:$B$999,"CERRADA"),COUNTIFS(BASE_CONTROL!$E$2:$E$999,$B14,BASE_CONTROL!$B$2:$B$999,"TERMINADA"),COUNTIFS(BASE_CONTROL!$F$2:$F$999,$B14,BASE_CONTROL!$B$2:$B$999,"CERRADA"),COUNTIFS(BASE_CONTROL!$F$2:$F$999,$B14,BASE_CONTROL!$B$2:$B$999,"TERMINADA"),COUNTIFS(BASE_CONTROL!$G$2:$G$999,$B14,BASE_CONTROL!$B$2:$B$999,"CERRADA"),COUNTIFS(BASE_CONTROL!$G$2:$G$999,$B14,BASE_CONTROL!$B$2:$B$999,"TERMINADA"),COUNTIFS(BASE_CONTROL!$H$2:$H$999,$B14,BASE_CONTROL!$B$2:$B$999,"CERRADA"),COUNTIFS(BASE_CONTROL!$H$2:$H$999,$B14,BASE_CONTROL!$B$2:$B$999,"TERMINADA"),COUNTIFS(BASE_CONTROL!$I$2:$I$999,$B14,BASE_CONTROL!$B$2:$B$999,"CERRADA"),COUNTIFS(BASE_CONTROL!$I$2:$I$999,$B14,BASE_CONTROL!$B$2:$B$999,"TERMINADA"),COUNTIFS(BASE_CONTROL!$J$2:$J$999,$B14,BASE_CONTROL!$B$2:$B$999,"CERRADA"),COUNTIFS(BASE_CONTROL!$J$2:$J$999,$B14,BASE_CONTROL!$B$2:$B$999,"TERMINADA"),COUNTIFS(BASE_CONTROL!$K$2:$K$999,$B14,BASE_CONTROL!$B$2:$B$999,"CERRADA"),COUNTIFS(BASE_CONTROL!$K$2:$K$999,$B14,BASE_CONTROL!$B$2:$B$999,"TERMINADA"))) | F14: =IF($B14="","",SUM(COUNTIFS(BASE_CONTROL!$D$2:$D$999,$B14,BASE_CONTROL!$B$2:$B$999,"PENDIENTE"),COUNTIFS(BASE_CONTROL!$E$2:$E$999,$B14,BASE_CONTROL!$B$2:$B$999,"PENDIENTE"),COUNTIFS(BASE_CONTROL!$F$2:$F$999,$B14,BASE_CONTROL!$B$2:$B$999,"PENDIENTE"),COUNTIFS(BASE_CONTROL!$G$2:$G$999,$B14,BASE_CONTROL!$B$2:$B$999,"PENDIENTE"),COUNTIFS(BASE_CONTROL!$H$2:$H$999,$B14,BASE_CONTROL!$B$2:$B$999,"PENDIENTE"),COUNTIFS(BASE_CONTROL!$I$2:$I$999,$B14,BASE_CONTROL!$B$2:$B$999,"PENDIENTE"),COUNTIFS(BASE_CONTROL!$J$2:$J$999,$B14,BASE_CONTROL!$B$2:$B$999,"PENDIENTE"),COUNTIFS(BASE_CONTROL!$K$2:$K$999,$B14,BASE_CONTROL!$B$2:$B$999,"PENDIENTE"))) | G14: =IF($B14="","",IF($D14=0,"",IFERROR(MAX(MAXIFS(BASE_CONTROL!$C$2:$C$999,BASE_CONTROL!$D$2:$D$999,$B14),MAXIFS(BASE_CONTROL!$C$2:$C$999,BASE_CONTROL!$E$2:$E$999,$B14),MAXIFS(BASE_CONTROL!$C$2:$C$999,BASE_CONTROL!$F$2:$F$999,$B14),MAXIFS(BASE_CONTROL!$C$2:$C$999,BASE_CONTROL!$G$2:$G$999,$B14),MAXIFS(BASE_CONTROL!$C$2:$C$999,BASE_CONTROL!$H$2:$H$999,$B14),MAXIFS(BASE_CONTROL!$C$2:$C$999,BASE_CONTROL!$I$2:$I$999,$B14),MAXIFS(BASE_CONTROL!$C$2:$C$999,BASE_CONTROL!$J$2:$J$999,$B14),MAXIFS(BASE_CONTROL!$C$2:$C$999,BASE_CONTROL!$K$2:$K$999,$B14)),""))) | J14: 5 | K14: =IFERROR(INDEX($B$5:$B$504,MATCH(L14,$D$5:$D$504,0)),"") | L14: =IFERROR(LARGE($D$5:$D$504,J14),"") | M14: =IF(K14="","",SUMIF($B$5:$B$504,K14,$F$5:$F$504))
A15: =IF($B15="","",ROW()-4) | B15: DIREBIEN | D15: =IF($B15="","",SUM(COUNTIF(BASE_CONTROL!$D$2:$K$999,$B15))) | E15: =IF($B15="","",SUM(COUNTIFS(BASE_CONTROL!$D$2:$D$999,$B15,BASE_CONTROL!$B$2:$B$999,"CERRADA"),COUNTIFS(BASE_CONTROL!$D$2:$D$999,$B15,BASE_CONTROL!$B$2:$B$999,"TERMINADA"),COUNTIFS(BASE_CONTROL!$E$2:$E$999,$B15,BASE_CONTROL!$B$2:$B$999,"CERRADA"),COUNTIFS(BASE_CONTROL!$E$2:$E$999,$B15,BASE_CONTROL!$B$2:$B$999,"TERMINADA"),COUNTIFS(BASE_CONTROL!$F$2:$F$999,$B15,BASE_CONTROL!$B$2:$B$999,"CERRADA"),COUNTIFS(BASE_CONTROL!$F$2:$F$999,$B15,BASE_CONTROL!$B$2:$B$999,"TERMINADA"),COUNTIFS(BASE_CONTROL!$G$2:$G$999,$B15,BASE_CONTROL!$B$2:$B$999,"CERRADA"),COUNTIFS(BASE_CONTROL!$G$2:$G$999,$B15,BASE_CONTROL!$B$2:$B$999,"TERMINADA"),COUNTIFS(BASE_CONTROL!$H$2:$H$999,$B15,BASE_CONTROL!$B$2:$B$999,"CERRADA"),COUNTIFS(BASE_CONTROL!$H$2:$H$999,$B15,BASE_CONTROL!$B$2:$B$999,"TERMINADA"),COUNTIFS(BASE_CONTROL!$I$2:$I$999,$B15,BASE_CONTROL!$B$2:$B$999,"CERRADA"),COUNTIFS(BASE_CONTROL!$I$2:$I$999,$B15,BASE_CONTROL!$B$2:$B$999,"TERMINADA"),COUNTIFS(BASE_CONTROL!$J$2:$J$999,$B15,BASE_CONTROL!$B$2:$B$999,"CERRADA"),COUNTIFS(BASE_CONTROL!$J$2:$J$999,$B15,BASE_CONTROL!$B$2:$B$999,"TERMINADA"),COUNTIFS(BASE_CONTROL!$K$2:$K$999,$B15,BASE_CONTROL!$B$2:$B$999,"CERRADA"),COUNTIFS(BASE_CONTROL!$K$2:$K$999,$B15,BASE_CONTROL!$B$2:$B$999,"TERMINADA"))) | F15: =IF($B15="","",SUM(COUNTIFS(BASE_CONTROL!$D$2:$D$999,$B15,BASE_CONTROL!$B$2:$B$999,"PENDIENTE"),COUNTIFS(BASE_CONTROL!$E$2:$E$999,$B15,BASE_CONTROL!$B$2:$B$999,"PENDIENTE"),COUNTIFS(BASE_CONTROL!$F$2:$F$999,$B15,BASE_CONTROL!$B$2:$B$999,"PENDIENTE"),COUNTIFS(BASE_CONTROL!$G$2:$G$999,$B15,BASE_CONTROL!$B$2:$B$999,"PENDIENTE"),COUNTIFS(BASE_CONTROL!$H$2:$H$999,$B15,BASE_CONTROL!$B$2:$B$999,"PENDIENTE"),COUNTIFS(BASE_CONTROL!$I$2:$I$999,$B15,BASE_CONTROL!$B$2:$B$999,"PENDIENTE"),COUNTIFS(BASE_CONTROL!$J$2:$J$999,$B15,BASE_CONTROL!$B$2:$B$999,"PENDIENTE"),COUNTIFS(BASE_CONTROL!$K$2:$K$999,$B15,BASE_CONTROL!$B$2:$B$999,"PENDIENTE"))) | G15: =IF($B15="","",IF($D15=0,"",IFERROR(MAX(MAXIFS(BASE_CONTROL!$C$2:$C$999,BASE_CONTROL!$D$2:$D$999,$B15),MAXIFS(BASE_CONTROL!$C$2:$C$999,BASE_CONTROL!$E$2:$E$999,$B15),MAXIFS(BASE_CONTROL!$C$2:$C$999,BASE_CONTROL!$F$2:$F$999,$B15),MAXIFS(BASE_CONTROL!$C$2:$C$999,BASE_CONTROL!$G$2:$G$999,$B15),MAXIFS(BASE_CONTROL!$C$2:$C$999,BASE_CONTROL!$H$2:$H$999,$B15),MAXIFS(BASE_CONTROL!$C$2:$C$999,BASE_CONTROL!$I$2:$I$999,$B15),MAXIFS(BASE_CONTROL!$C$2:$C$999,BASE_CONTROL!$J$2:$J$999,$B15),MAXIFS(BASE_CONTROL!$C$2:$C$999,BASE_CONTROL!$K$2:$K$999,$B15)),""))) | J15: 6 | K15: =IFERROR(INDEX($B$5:$B$504,MATCH(L15,$D$5:$D$504,0)),"") | L15: =IFERROR(LARGE($D$5:$D$504,J15),"") | M15: =IF(K15="","",SUMIF($B$5:$B$504,K15,$F$5:$F$504))
A16: =IF($B16="","",ROW()-4) | B16: DIRECABAS | D16: =IF($B16="","",SUM(COUNTIF(BASE_CONTROL!$D$2:$K$999,$B16))) | E16: =IF($B16="","",SUM(COUNTIFS(BASE_CONTROL!$D$2:$D$999,$B16,BASE_CONTROL!$B$2:$B$999,"CERRADA"),COUNTIFS(BASE_CONTROL!$D$2:$D$999,$B16,BASE_CONTROL!$B$2:$B$999,"TERMINADA"),COUNTIFS(BASE_CONTROL!$E$2:$E$999,$B16,BASE_CONTROL!$B$2:$B$999,"CERRADA"),COUNTIFS(BASE_CONTROL!$E$2:$E$999,$B16,BASE_CONTROL!$B$2:$B$999,"TERMINADA"),COUNTIFS(BASE_CONTROL!$F$2:$F$999,$B16,BASE_CONTROL!$B$2:$B$999,"CERRADA"),COUNTIFS(BASE_CONTROL!$F$2:$F$999,$B16,BASE_CONTROL!$B$2:$B$999,"TERMINADA"),COUNTIFS(BASE_CONTROL!$G$2:$G$999,$B16,BASE_CONTROL!$B$2:$B$999,"CERRADA"),COUNTIFS(BASE_CONTROL!$G$2:$G$999,$B16,BASE_CONTROL!$B$2:$B$999,"TERMINADA"),COUNTIFS(BASE_CONTROL!$H$2:$H$999,$B16,BASE_CONTROL!$B$2:$B$999,"CERRADA"),COUNTIFS(BASE_CONTROL!$H$2:$H$999,$B16,BASE_CONTROL!$B$2:$B$999,"TERMINADA"),COUNTIFS(BASE_CONTROL!$I$2:$I$999,$B16,BASE_CONTROL!$B$2:$B$999,"CERRADA"),COUNTIFS(BASE_CONTROL!$I$2:$I$999,$B16,BASE_CONTROL!$B$2:$B$999,"TERMINADA"),COUNTIFS(BASE_CONTROL!$J$2:$J$999,$B16,BASE_CONTROL!$B$2:$B$999,"CERRADA"),COUNTIFS(BASE_CONTROL!$J$2:$J$999,$B16,BASE_CONTROL!$B$2:$B$999,"TERMINADA"),COUNTIFS(BASE_CONTROL!$K$2:$K$999,$B16,BASE_CONTROL!$B$2:$B$999,"CERRADA"),COUNTIFS(BASE_CONTROL!$K$2:$K$999,$B16,BASE_CONTROL!$B$2:$B$999,"TERMINADA"))) | F16: =IF($B16="","",SUM(COUNTIFS(BASE_CONTROL!$D$2:$D$999,$B16,BASE_CONTROL!$B$2:$B$999,"PENDIENTE"),COUNTIFS(BASE_CONTROL!$E$2:$E$999,$B16,BASE_CONTROL!$B$2:$B$999,"PENDIENTE"),COUNTIFS(BASE_CONTROL!$F$2:$F$999,$B16,BASE_CONTROL!$B$2:$B$999,"PENDIENTE"),COUNTIFS(BASE_CONTROL!$G$2:$G$999,$B16,BASE_CONTROL!$B$2:$B$999,"PENDIENTE"),COUNTIFS(BASE_CONTROL!$H$2:$H$999,$B16,BASE_CONTROL!$B$2:$B$999,"PENDIENTE"),COUNTIFS(BASE_CONTROL!$I$2:$I$999,$B16,BASE_CONTROL!$B$2:$B$999,"PENDIENTE"),COUNTIFS(BASE_CONTROL!$J$2:$J$999,$B16,BASE_CONTROL!$B$2:$B$999,"PENDIENTE"),COUNTIFS(BASE_CONTROL!$K$2:$K$999,$B16,BASE_CONTROL!$B$2:$B$999,"PENDIENTE"))) | G16: =IF($B16="","",IF($D16=0,"",IFERROR(MAX(MAXIFS(BASE_CONTROL!$C$2:$C$999,BASE_CONTROL!$D$2:$D$999,$B16),MAXIFS(BASE_CONTROL!$C$2:$C$999,BASE_CONTROL!$E$2:$E$999,$B16),MAXIFS(BASE_CONTROL!$C$2:$C$999,BASE_CONTROL!$F$2:$F$999,$B16),MAXIFS(BASE_CONTROL!$C$2:$C$999,BASE_CONTROL!$G$2:$G$999,$B16),MAXIFS(BASE_CONTROL!$C$2:$C$999,BASE_CONTROL!$H$2:$H$999,$B16),MAXIFS(BASE_CONTROL!$C$2:$C$999,BASE_CONTROL!$I$2:$I$999,$B16),MAXIFS(BASE_CONTROL!$C$2:$C$999,BASE_CONTROL!$J$2:$J$999,$B16),MAXIFS(BASE_CONTROL!$C$2:$C$999,BASE_CONTROL!$K$2:$K$999,$B16)),""))) | J16: 7 | K16: =IFERROR(INDEX($B$5:$B$504,MATCH(L16,$D$5:$D$504,0)),"") | L16: =IFERROR(LARGE($D$5:$D$504,J16),"") | M16: =IF(K16="","",SUMIF($B$5:$B$504,K16,$F$5:$F$504))
A17: =IF($B17="","",ROW()-4) | B17: DIPLEMGA | D17: =IF($B17="","",SUM(COUNTIF(BASE_CONTROL!$D$2:$K$999,$B17))) | E17: =IF($B17="","",SUM(COUNTIFS(BASE_CONTROL!$D$2:$D$999,$B17,BASE_CONTROL!$B$2:$B$999,"CERRADA"),COUNTIFS(BASE_CONTROL!$D$2:$D$999,$B17,BASE_CONTROL!$B$2:$B$999,"TERMINADA"),COUNTIFS(BASE_CONTROL!$E$2:$E$999,$B17,BASE_CONTROL!$B$2:$B$999,"CERRADA"),COUNTIFS(BASE_CONTROL!$E$2:$E$999,$B17,BASE_CONTROL!$B$2:$B$999,"TERMINADA"),COUNTIFS(BASE_CONTROL!$F$2:$F$999,$B17,BASE_CONTROL!$B$2:$B$999,"CERRADA"),COUNTIFS(BASE_CONTROL!$F$2:$F$999,$B17,BASE_CONTROL!$B$2:$B$999,"TERMINADA"),COUNTIFS(BASE_CONTROL!$G$2:$G$999,$B17,BASE_CONTROL!$B$2:$B$999,"CERRADA"),COUNTIFS(BASE_CONTROL!$G$2:$G$999,$B17,BASE_CONTROL!$B$2:$B$999,"TERMINADA"),COUNTIFS(BASE_CONTROL!$H$2:$H$999,$B17,BASE_CONTROL!$B$2:$B$999,"CERRADA"),COUNTIFS(BASE_CONTROL!$H$2:$H$999,$B17,BASE_CONTROL!$B$2:$B$999,"TERMINADA"),COUNTIFS(BASE_CONTROL!$I$2:$I$999,$B17,BASE_CONTROL!$B$2:$B$999,"CERRADA"),COUNTIFS(BASE_CONTROL!$I$2:$I$999,$B17,BASE_CONTROL!$B$2:$B$999,"TERMINADA"),COUNTIFS(BASE_CONTROL!$J$2:$J$999,$B17,BASE_CONTROL!$B$2:$B$999,"CERRADA"),COUNTIFS(BASE_CONTROL!$J$2:$J$999,$B17,BASE_CONTROL!$B$2:$B$999,"TERMINADA"),COUNTIFS(BASE_CONTROL!$K$2:$K$999,$B17,BASE_CONTROL!$B$2:$B$999,"CERRADA"),COUNTIFS(BASE_CONTROL!$K$2:$K$999,$B17,BASE_CONTROL!$B$2:$B$999,"TERMINADA"))) | F17: =IF($B17="","",SUM(COUNTIFS(BASE_CONTROL!$D$2:$D$999,$B17,BASE_CONTROL!$B$2:$B$999,"PENDIENTE"),COUNTIFS(BASE_CONTROL!$E$2:$E$999,$B17,BASE_CONTROL!$B$2:$B$999,"PENDIENTE"),COUNTIFS(BASE_CONTROL!$F$2:$F$999,$B17,BASE_CONTROL!$B$2:$B$999,"PENDIENTE"),COUNTIFS(BASE_CONTROL!$G$2:$G$999,$B17,BASE_CONTROL!$B$2:$B$999,"PENDIENTE"),COUNTIFS(BASE_CONTROL!$H$2:$H$999,$B17,BASE_CONTROL!$B$2:$B$999,"PENDIENTE"),COUNTIFS(BASE_CONTROL!$I$2:$I$999,$B17,BASE_CONTROL!$B$2:$B$999,"PENDIENTE"),COUNTIFS(BASE_CONTROL!$J$2:$J$999,$B17,BASE_CONTROL!$B$2:$B$999,"PENDIENTE"),COUNTIFS(BASE_CONTROL!$K$2:$K$999,$B17,BASE_CONTROL!$B$2:$B$999,"PENDIENTE"))) | G17: =IF($B17="","",IF($D17=0,"",IFERROR(MAX(MAXIFS(BASE_CONTROL!$C$2:$C$999,BASE_CONTROL!$D$2:$D$999,$B17),MAXIFS(BASE_CONTROL!$C$2:$C$999,BASE_CONTROL!$E$2:$E$999,$B17),MAXIFS(BASE_CONTROL!$C$2:$C$999,BASE_CONTROL!$F$2:$F$999,$B17),MAXIFS(BASE_CONTROL!$C$2:$C$999,BASE_CONTROL!$G$2:$G$999,$B17),MAXIFS(BASE_CONTROL!$C$2:$C$999,BASE_CONTROL!$H$2:$H$999,$B17),MAXIFS(BASE_CONTROL!$C$2:$C$999,BASE_CONTROL!$I$2:$I$999,$B17),MAXIFS(BASE_CONTROL!$C$2:$C$999,BASE_CONTROL!$J$2:$J$999,$B17),MAXIFS(BASE_CONTROL!$C$2:$C$999,BASE_CONTROL!$K$2:$K$999,$B17)),""))) | J17: 8 | K17: =IFERROR(INDEX($B$5:$B$504,MATCH(L17,$D$5:$D$504,0)),"") | L17: =IFERROR(LARGE($D$5:$D$504,J17),"") | M17: =IF(K17="","",SUMIF($B$5:$B$504,K17,$F$5:$F$504))
A18: =IF($B18="","",ROW()-4) | B18: DOPEMGA | D18: =IF($B18="","",SUM(COUNTIF(BASE_CONTROL!$D$2:$K$999,$B18))) | E18: =IF($B18="","",SUM(COUNTIFS(BASE_CONTROL!$D$2:$D$999,$B18,BASE_CONTROL!$B$2:$B$999,"CERRADA"),COUNTIFS(BASE_CONTROL!$D$2:$D$999,$B18,BASE_CONTROL!$B$2:$B$999,"TERMINADA"),COUNTIFS(BASE_CONTROL!$E$2:$E$999,$B18,BASE_CONTROL!$B$2:$B$999,"CERRADA"),COUNTIFS(BASE_CONTROL!$E$2:$E$999,$B18,BASE_CONTROL!$B$2:$B$999,"TERMINADA"),COUNTIFS(BASE_CONTROL!$F$2:$F$999,$B18,BASE_CONTROL!$B$2:$B$999,"CERRADA"),COUNTIFS(BASE_CONTROL!$F$2:$F$999,$B18,BASE_CONTROL!$B$2:$B$999,"TERMINADA"),COUNTIFS(BASE_CONTROL!$G$2:$G$999,$B18,BASE_CONTROL!$B$2:$B$999,"CERRADA"),COUNTIFS(BASE_CONTROL!$G$2:$G$999,$B18,BASE_CONTROL!$B$2:$B$999,"TERMINADA"),COUNTIFS(BASE_CONTROL!$H$2:$H$999,$B18,BASE_CONTROL!$B$2:$B$999,"CERRADA"),COUNTIFS(BASE_CONTROL!$H$2:$H$999,$B18,BASE_CONTROL!$B$2:$B$999,"TERMINADA"),COUNTIFS(BASE_CONTROL!$I$2:$I$999,$B18,BASE_CONTROL!$B$2:$B$999,"CERRADA"),COUNTIFS(BASE_CONTROL!$I$2:$I$999,$B18,BASE_CONTROL!$B$2:$B$999,"TERMINADA"),COUNTIFS(BASE_CONTROL!$J$2:$J$999,$B18,BASE_CONTROL!$B$2:$B$999,"CERRADA"),COUNTIFS(BASE_CONTROL!$J$2:$J$999,$B18,BASE_CONTROL!$B$2:$B$999,"TERMINADA"),COUNTIFS(BASE_CONTROL!$K$2:$K$999,$B18,BASE_CONTROL!$B$2:$B$999,"CERRADA"),COUNTIFS(BASE_CONTROL!$K$2:$K$999,$B18,BASE_CONTROL!$B$2:$B$999,"TERMINADA"))) | F18: =IF($B18="","",SUM(COUNTIFS(BASE_CONTROL!$D$2:$D$999,$B18,BASE_CONTROL!$B$2:$B$999,"PENDIENTE"),COUNTIFS(BASE_CONTROL!$E$2:$E$999,$B18,BASE_CONTROL!$B$2:$B$999,"PENDIENTE"),COUNTIFS(BASE_CONTROL!$F$2:$F$999,$B18,BASE_CONTROL!$B$2:$B$999,"PENDIENTE"),COUNTIFS(BASE_CONTROL!$G$2:$G$999,$B18,BASE_CONTROL!$B$2:$B$999,"PENDIENTE"),COUNTIFS(BASE_CONTROL!$H$2:$H$999,$B18,BASE_CONTROL!$B$2:$B$999,"PENDIENTE"),COUNTIFS(BASE_CONTROL!$I$2:$I$999,$B18,BASE_CONTROL!$B$2:$B$999,"PENDIENTE"),COUNTIFS(BASE_CONTROL!$J$2:$J$999,$B18,BASE_CONTROL!$B$2:$B$999,"PENDIENTE"),COUNTIFS(BASE_CONTROL!$K$2:$K$999,$B18,BASE_CONTROL!$B$2:$B$999,"PENDIENTE"))) | G18: =IF($B18="","",IF($D18=0,"",IFERROR(MAX(MAXIFS(BASE_CONTROL!$C$2:$C$999,BASE_CONTROL!$D$2:$D$999,$B18),MAXIFS(BASE_CONTROL!$C$2:$C$999,BASE_CONTROL!$E$2:$E$999,$B18),MAXIFS(BASE_CONTROL!$C$2:$C$999,BASE_CONTROL!$F$2:$F$999,$B18),MAXIFS(BASE_CONTROL!$C$2:$C$999,BASE_CONTROL!$G$2:$G$999,$B18),MAXIFS(BASE_CONTROL!$C$2:$C$999,BASE_CONTROL!$H$2:$H$999,$B18),MAXIFS(BASE_CONTROL!$C$2:$C$999,BASE_CONTROL!$I$2:$I$999,$B18),MAXIFS(BASE_CONTROL!$C$2:$C$999,BASE_CONTROL!$J$2:$J$999,$B18),MAXIFS(BASE_CONTROL!$C$2:$C$999,BASE_CONTROL!$K$2:$K$999,$B18)),""))) | J18: 9 | K18: =IFERROR(INDEX($B$5:$B$504,MATCH(L18,$D$5:$D$504,0)),"") | L18: =IFERROR(LARGE($D$5:$D$504,J18),"") | M18: =IF(K18="","",SUMIF($B$5:$B$504,K18,$F$5:$F$504))
A19: =IF($B19="","",ROW()-4) | B19: DOPCOM | D19: =IF($B19="","",SUM(COUNTIF(BASE_CONTROL!$D$2:$K$999,$B19))) | E19: =IF($B19="","",SUM(COUNTIFS(BASE_CONTROL!$D$2:$D$999,$B19,BASE_CONTROL!$B$2:$B$999,"CERRADA"),COUNTIFS(BASE_CONTROL!$D$2:$D$999,$B19,BASE_CONTROL!$B$2:$B$999,"TERMINADA"),COUNTIFS(BASE_CONTROL!$E$2:$E$999,$B19,BASE_CONTROL!$B$2:$B$999,"CERRADA"),COUNTIFS(BASE_CONTROL!$E$2:$E$999,$B19,BASE_CONTROL!$B$2:$B$999,"TERMINADA"),COUNTIFS(BASE_CONTROL!$F$2:$F$999,$B19,BASE_CONTROL!$B$2:$B$999,"CERRADA"),COUNTIFS(BASE_CONTROL!$F$2:$F$999,$B19,BASE_CONTROL!$B$2:$B$999,"TERMINADA"),COUNTIFS(BASE_CONTROL!$G$2:$G$999,$B19,BASE_CONTROL!$B$2:$B$999,"CERRADA"),COUNTIFS(BASE_CONTROL!$G$2:$G$999,$B19,BASE_CONTROL!$B$2:$B$999,"TERMINADA"),COUNTIFS(BASE_CONTROL!$H$2:$H$999,$B19,BASE_CONTROL!$B$2:$B$999,"CERRADA"),COUNTIFS(BASE_CONTROL!$H$2:$H$999,$B19,BASE_CONTROL!$B$2:$B$999,"TERMINADA"),COUNTIFS(BASE_CONTROL!$I$2:$I$999,$B19,BASE_CONTROL!$B$2:$B$999,"CERRADA"),COUNTIFS(BASE_CONTROL!$I$2:$I$999,$B19,BASE_CONTROL!$B$2:$B$999,"TERMINADA"),COUNTIFS(BASE_CONTROL!$J$2:$J$999,$B19,BASE_CONTROL!$B$2:$B$999,"CERRADA"),COUNTIFS(BASE_CONTROL!$J$2:$J$999,$B19,BASE_CONTROL!$B$2:$B$999,"TERMINADA"),COUNTIFS(BASE_CONTROL!$K$2:$K$999,$B19,BASE_CONTROL!$B$2:$B$999,"CERRADA"),COUNTIFS(BASE_CONTROL!$K$2:$K$999,$B19,BASE_CONTROL!$B$2:$B$999,"TERMINADA"))) | F19: =IF($B19="","",SUM(COUNTIFS(BASE_CONTROL!$D$2:$D$999,$B19,BASE_CONTROL!$B$2:$B$999,"PENDIENTE"),COUNTIFS(BASE_CONTROL!$E$2:$E$999,$B19,BASE_CONTROL!$B$2:$B$999,"PENDIENTE"),COUNTIFS(BASE_CONTROL!$F$2:$F$999,$B19,BASE_CONTROL!$B$2:$B$999,"PENDIENTE"),COUNTIFS(BASE_CONTROL!$G$2:$G$999,$B19,BASE_CONTROL!$B$2:$B$999,"PENDIENTE"),COUNTIFS(BASE_CONTROL!$H$2:$H$999,$B19,BASE_CONTROL!$B$2:$B$999,"PENDIENTE"),COUNTIFS(BASE_CONTROL!$I$2:$I$999,$B19,BASE_CONTROL!$B$2:$B$999,"PENDIENTE"),COUNTIFS(BASE_CONTROL!$J$2:$J$999,$B19,BASE_CONTROL!$B$2:$B$999,"PENDIENTE"),COUNTIFS(BASE_CONTROL!$K$2:$K$999,$B19,BASE_CONTROL!$B$2:$B$999,"PENDIENTE"))) | G19: =IF($B19="","",IF($D19=0,"",IFERROR(MAX(MAXIFS(BASE_CONTROL!$C$2:$C$999,BASE_CONTROL!$D$2:$D$999,$B19),MAXIFS(BASE_CONTROL!$C$2:$C$999,BASE_CONTROL!$E$2:$E$999,$B19),MAXIFS(BASE_CONTROL!$C$2:$C$999,BASE_CONTROL!$F$2:$F$999,$B19),MAXIFS(BASE_CONTROL!$C$2:$C$999,BASE_CONTROL!$G$2:$G$999,$B19),MAXIFS(BASE_CONTROL!$C$2:$C$999,BASE_CONTROL!$H$2:$H$999,$B19),MAXIFS(BASE_CONTROL!$C$2:$C$999,BASE_CONTROL!$I$2:$I$999,$B19),MAXIFS(BASE_CONTROL!$C$2:$C$999,BASE_CONTROL!$J$2:$J$999,$B19),MAXIFS(BASE_CONTROL!$C$2:$C$999,BASE_CONTROL!$K$2:$K$999,$B19)),""))) | J19: 10 | K19: =IFERROR(INDEX($B$5:$B$504,MATCH(L19,$D$5:$D$504,0)),"") | L19: =IFERROR(LARGE($D$5:$D$504,J19),"") | M19: =IF(K19="","",SUMIF($B$5:$B$504,K19,$F$5:$F$504))
