Workbook

Sheet Condiciones
B1: Condiciones previas a la carga: | I1: 1er zarpe | J1: carga | K1: unidad | L1: Calado medio | M1: unidad | N1: KB | O1: unidad | P1: KG | Q1: unidad | R1: BM | S1: unidad | T1: KM | U1: unidad | V1: GM | W1: unidad | X1: estabilidad | Y1: CG(X) | Z1: CG(Y) | AA1: CG(Z)
B2: Calado proa | C2: 2 | D2: mt | I2: desplazamiento | J2: =21*200+20 -> 4220 | K2: tn | L2: 3 | M2: mts | N2: - | O2: - | P2: - | Q2: - | R2: - | S2: - | T2: - | U2: - | V2: - | W2: - | X2: - | Y2: - | Z2: - | AA2: -
B3: Calado popa | C3: 4 | D3: mt | I3: carga | J3: =SUM(Pesos!C8:C127) -> 3179.7273 | K3: tn | L3: =J3/C10/100 -> 2.1929154 | M3: mts | N3: - | O3: - | P3: - | Q3: - | R3: - | S3: - | T3: - | U3: - | V3: - | W3: - | X3: - | Y3: - | Z3: - | AA3: -
B4: Lastre peak de proa | C4: 20 | D4: Tons | I4: total | J4: =SUM(J2:J3) -> 7399.7273 | K4: tn | L4: =SUM(L2:L3) -> 5.1929154 | M4: mts | N4: =12*0.25 -> 3 | O4: mts | P4: ='cuadro carga'!H128 -> 4.2237333 | Q4: mts | R4: =(C11*C11)/(12*L4) -> 3.1453109 | S4: mts | T4: =N4+R4 -> 6.1453109 | U4: mts | V4: =T4-P4 -> 1.9215776 | W4: mts | X4: estable | Y4: ='cuadro carga'!D128 -> 19.719206 | Z4: =P4 -> 4.2237333 | AA4: ='cuadro carga'!F128 -> 0.0151028
B5: KG inicial | C5: 6 | D5: mts
B6: Cuaderna Maestra (desde proa) | C6: 38 | D6: mt | I6: zarpe de callao | J6: carga | K6: unidad | L6: Calado medio | M6: unidad | N6: KB | O6: unidad | P6: KG | Q6: unidad | R6: BM | S6: unidad | T6: KM | U6: unidad | V6: GM | W6: unidad | X6: estabilidad | Y6: CG(X) | Z6: CG(Y) | AA6: CG(Z)
B7: G longitudinal | C7: 44 | D7: mts | I7: desplazamiento | J7: =J2 -> 4220 | K7: tn | L7: 3 | M7: mts | N7: - | O7: - | P7: - | Q7: - | R7: - | S7: - | T7: - | U7: - | V7: - | W7: - | X7: - | Y7: - | Z7: - | AA7: -
B8: G longitudinal | C8: 44 | D8: mts | I8: carga | J8: =SUM(Pesos!C26:C127) -> 2750.7273 | K8: tn | L8: =J8/C10/100 -> 1.8970533 | M8: mts | N8: - | O8: - | P8: - | Q8: - | R8: - | S8: - | T8: - | U8: - | V8: - | W8: - | X8: - | Y8: - | Z8: - | AA8: -
B9: Calado medio | C9: 3 | D9: mts | I9: total | J9: =SUM(J7:J8) -> 6970.7273 | K9: tn | L9: =SUM(L7:L8) -> 4.8970533 | M9: mts | N9: =11.5*0.25 -> 2.875 | O9: mts | P9: ='cuadro carga'!H130 -> 3.9047712 | Q9: mts | R9: =(C11*C11)/(12*L9) -> 3.3353391 | S9: mts | T9: =N9+R9 -> 6.2103391 | U9: mts | V9: =T9-P9 -> 2.3055679 | W9: mts | X9: estable | Y9: ='cuadro carga'!D130 -> 21.708284 | Z9: =P9 -> 3.9047712 | AA9: ='cuadro carga'!F130 -> 0.021933611
B10: toneladas por centimetros de inmersión | C10: 14.5 | D10: tn
B11: MANGA | C11: 14 | D11: MTS | I11: zarpe de guayaquil | J11: carga | K11: unidad | L11: Calado medio | M11: unidad | N11: KB | O11: unidad | P11: KG | Q11: unidad | R11: BM | S11: unidad | T11: KM | U11: unidad | V11: GM | W11: unidad | X11: estabilidad | Y11: CG(X) | Z11: CG(Y) | AA11: CG(Z)
I12: desplazamiento | J12: =J2 -> 4220 | K12: tn | L12: 3 | M12: mts | N12: - | O12: - | P12: - | Q12: - | R12: - | S12: - | T12: - | U12: - | V12: - | W12: - | X12: - | Y12: - | Z12: - | AA12: -
B13: Kevin Curutchet | I13: carga | J13: =SUM(Pesos!C26:C33,Pesos!C50:C127) -> 2433.7273 | K13: tn | L13: =J13/C10/100 -> 1.6784326 | M13: mts | N13: - | O13: - | P13: - | Q13: - | R13: - | S13: - | T13: - | U13: - | V13: - | W13: - | X13: - | Y13: - | Z13: - | AA13: -
B14: Ralf Follert | I14: total | J14: =SUM(J12:J13) -> 6653.7273 | K14: tn | L14: =SUM(L12:L13) -> 4.6784326 | M14: mts | N14: =10.5*0.25 -> 2.625 | O14: mts | P14: ='cuadro carga'!H132 -> 3.8273262 | Q14: mts | R14: =(C11*C11)/(12*L14) -> 3.4911977 | S14: mts | T14: =N14+R14 -> 6.1161977 | U14: mts | V14: =T14-P14 -> 2.2888715 | W14: mts | X14: estable | Y14: ='cuadro carga'!D132 -> 23.641724 | Z14: =P14 -> 3.8273262 | AA14: ='cuadro carga'!F132 -> 0.023568977
B15: Deivid Fuentealba
I16: zarpe de panama | J16: carga | K16: unidad | L16: Calado medio | M16: unidad | N16: KB | O16: unidad | P16: KG | Q16: unidad | R16: BM | S16: unidad | T16: KM | U16: unidad | V16: GM | W16: unidad | X16: estabilidad | Y16: CG(X) | Z16: CG(Y) | AA16: CG(Z)
I17: desplazamiento | J17: =J2 -> 4220 | K17: tn | L17: 3 | M17: mts | N17: - | O17: - | P17: - | Q17: - | R17: - | S17: - | T17: - | U17: - | V17: - | W17: - | X17: - | Y17: - | Z17: - | AA17: -
B18: Limitaciones | I18: carga | J18: =SUM(Pesos!C50:C91,Pesos!C26:C33) -> 1638.7273 | K18: tn | L18: =J18/C10/100 -> 1.1301567 | M18: mts | N18: - | O18: - | P18: - | Q18: - | R18: - | S18: - | T18: - | U18: - | V18: - | W18: - | X18: - | Y18: - | Z18: - | AA18: -
B19: Peso máximo por columna | C19: 150 | D19: Tons | I19: total | J19: =SUM(J17:J18) -> 5858.7273 | K19: tn | L19: =SUM(L17:L18) -> 4.1301567 | M19: mts | N19: =9.5*0.25 -> 2.375 | O19: mts | P19: ='cuadro carga'!H134 -> 4.6682268 | Q19: mts | R19: =(C11*C11)/(12*L19) -> 3.9546522 | S19: mts | T19: =N19+R19 -> 6.3296522 | U19: mts | V19: =T19-P19 -> 1.6614254 | W19: mts | X19: estable | Y19: ='cuadro carga'!D134 -> 28.975158 | Z19: =P19 -> 4.6682268 | AA19: ='cuadro carga'!F134 -> -0.043564356
B20: Alimentos no pueden ir adyacentes a químicos ni lubricantes
B21: Químicos no pueden ir adyacentes a lubricantes | I21: zarpe de cartagena | J21: carga | K21: unidad | L21: Calado medio | M21: unidad | N21: KB | O21: unidad | P21: KG | Q21: unidad | R21: BM | S21: unidad | T21: KM | U21: unidad | V21: GM | W21: unidad | X21: estabilidad | Y21: CG(X) | Z21: CG(Y) | AA21: CG(Z)
B22: Químicos y lubricantes deben ir sobre cubierta, posición 4 hacia arriba | I22: desplazamiento | J22: =J2 -> 4220 | K22: tn | L22: 3 | M22: mts | N22: - | O22: - | P22: - | Q22: - | R22: - | S22: - | T22: - | U22: - | V22: - | W22: - | X22: - | Y22: - | Z22: - | AA22: -
I23: carga | J23: =SUM(Pesos!C50:C91) -> 1430.7273 | K23: tn | L23: =J23/C10/100 -> 0.98670846 | M23: mts | N23: - | O23: - | P23: - | Q23: - | R23: - | S23: - | T23: - | U23: - | V23: - | W23: - | X23: - | Y23: - | Z23: - | AA23: -
B24: Operaciones: | I24: total | J24: =SUM(J22:J23) -> 5650.7273 | K24: tn | L24: =SUM(L22:L23) -> 3.9867085 | M24: mts | N24: =9.2*0.25 -> 2.3 | O24: mts | P24: ='cuadro carga'!H136 -> 5.1369628 | Q24: mts | R24: =(C11*C11)/(12*L24) -> 4.096947 | S24: mts | T24: =N24+R24 -> 6.396947 | U24: mts | V24: =T24-P24 -> 1.2599843 | W24: mts | X24: estable | Y24: ='cuadro carga'!D136 -> 32.045272 | Z24: =P24 -> 5.1369628 | AA24: ='cuadro carga'!F136 -> -0.046227316
B26: Calado Medio= 3 mts | I26: recalada de houston | J26: carga | K26: unidad | L26: Calado medio | M26: unidad | N26: KB | O26: unidad | P26: KG | Q26: unidad | R26: BM | S26: unidad | T26: KM | U26: unidad | V26: GM | W26: unidad | X26: estabilidad | Y26: CG(X) | Z26: CG(Y) | AA26: CG(Z)
B27: Desplazamiento( tabla)= 4200 tons | I27: desplazamiento | J27: =J2 -> 4220 | K27: tn | L27: 3 | M27: mts | N27: - | O27: - | P27: - | Q27: - | R27: - | S27: - | T27: - | U27: - | V27: - | W27: - | X27: - | Y27: - | Z27: - | AA27: -
I28: carga | J28: 0 | K28: tn | L28: =J28/C10/100 -> 0 | M28: mts | N28: - | O28: - | P28: - | Q28: - | R28: - | S28: - | T28: - | U28: - | V28: - | W28: - | X28: - | Y28: - | Z28: - | AA28: -
I29: total | J29: =SUM(J27:J28) -> 4220 | K29: tn | L29: =SUM(L27:L28) -> 3 | M29: mts | N29: =7.5*0.25 -> 1.875 | O29: mts | P29: ='cuadro carga'!H138 -> 6 | Q29: mts | R29: =(C11*C11)/(12*L29) -> 5.4444444 | S29: mts | T29: =N29+R29 -> 7.3194444 | U29: mts | V29: =T29-P29 -> 1.3194444 | W29: mts | X29: estable | Y29: ='cuadro carga'!D138 -> 44 | Z29: =P29 -> 6 | AA29: ='cuadro carga'!F138 -> 0

Sheet Pesos
E3: distancia vertical | F3: distancia lateral
C4: Peso | D4: Destino | E4: D_Vert | F4: D_Lat | G4: D_Long | H4: M_V | I4: M_Lat | J4: M_Long
B5: Pesos sumas | C5: =SUM(C6:C127) -> 7399.7273 | H5: =SUM(H7:H126) -> 24928.364 | I5: =SUM(I7:I126) -> 151.45455 | J5: =SUM(J7:J126) -> 99385.364
B6: Buque | C6: 4200
A7: Cont. | B7: Lastre | C7: =20 -> 20
A8: 1 | B8: General_1 | C8: 18 | D8: Callao | E8: 13 | F8: -2 | G8: 21 | H8: =C8*E8 -> 234 | I8: =C8*F8 -> -36 | J8: =C8*G8 -> 378 | K8: si
A9: 2 | B9: General_2 | C9: 23 | D9: Callao | E9: 13 | F9: 2 | G9: 42 | H9: =C9*E9 -> 299 | I9: =C9*F9 -> 46 | J9: =C9*G9 -> 966 | K9: si
A10: 3 | B10: General_3 | C10: 24 | D10: Callao | E10: 13 | F10: 2 | G10: 21 | H10: =C10*E10 -> 312 | I10: =C10*F10 -> 48 | J10: =C10*G10 -> 504 | K10: si
A11: 4 | B11: General_4 | C11: 22 | D11: Callao | E11: 13 | F11: -2 | G11: 42 | H11: =C11*E11 -> 286 | I11: =C11*F11 -> -44 | J11: =C11*G11 -> 924 | K11: si
A12: 5 | B12: Lubricante_17 | C12: 26 | D12: Callao | E12: 16 | F12: -5 | G12: 49 | H12: =C12*E12 -> 416 | I12: =C12*F12 -> -130 | J12: =C12*G12 -> 1274 | K12: si
A13: 6 | B13: Lubricante_18 | C13: 26 | D13: Callao | E13: 16 | F13: -2 | G13: 49 | H13: =C13*E13 -> 416 | I13: =C13*F13 -> -52 | J13: =C13*G13 -> 1274 | K13: si
A14: 7 | B14: Lubricante_19 | C14: 26 | D14: Callao | E14: 16 | F14: 2 | G14: 49 | H14: =C14*E14 -> 416 | I14: =C14*F14 -> 52 | J14: =C14*G14 -> 1274 | K14: si
A15: 8 | B15: Lubricante_20 | C15: 26 | D15: Callao | E15: 16 | F15: 5 | G15: 49 | H15: =C15*E15 -> 416 | I15: =C15*F15 -> 130 | J15: =C15*G15 -> 1274 | K15: si
A16: 9 | B16: Lubricante_21 | C16: 26 | D16: Callao | E16: 16 | F16: -5 | G16: 14 | H16: =C16*E16 -> 416 | I16: =C16*F16 -> -130 | J16: =C16*G16 -> 364 | K16: si
A17: 10 | B17: Lubricante_22 | C17: 26 | D17: Callao | E17: 16 | F17: -2 | G17: 14 | H17: =C17*E17 -> 416 | I17: =C17*F17 -> -52 | J17: =C17*G17 -> 364 | K17: si
A18: 11 | B18: Lubricante_23 | C18: 26 | D18: Callao | E18: 16 | F18: 2 | G18: 14 | H18: =C18*E18 -> 416 | I18: =C18*F18 -> 52 | J18: =C18*G18 -> 364 | K18: si
A19: 12 | B19: Lubricante_24 | C19: 26 | D19: Callao | E19: 16 | F19: 5 | G19: 14 | H19: =C19*E19 -> 416 | I19: =C19*F19 -> 130 | J19: =C19*G19 -> 364 | K19: si
... A91: 84 | B91: Cobre_30 | C91: 40 | D91: Houston | E91: 3 | F91: -5 | G91: 7 | H91: =C91*E91 -> 120 | I91: =C91*F91 -> -200 | J91: =C91*G91 -> 280 | K91: si
A92: 85 | B92: General_15 | C92: 26 | D92: Panama | E92: 6 | F92: 5 | H92: =C92*E92 -> 156 | I92: =C92*F92 -> 130 | J92: =C92*G92 -> 0 | K92: si
A93: 86 | B93: General_16 | C93: 15 | D93: Panama | E93: 9 | F93: 2 | G93: 56 | H93: =C93*E93 -> 135 | I93: =C93*F93 -> 30 | J93: =C93*G93 -> 840 | K93: si
A94: 87 | B94: General_17 | C94: 18 | D94: Panama | E94: 6 | F94: 5 | G94: 21 | H94: =C94*E94 -> 108 | I94: =C94*F94 -> 90 | J94: =C94*G94 -> 378 | K94: si
A95: 88 | B95: General_18 | C95: 19 | D95: Panama | E95: 9 | F95: -5 | G95: 14 | H95: =C95*E95 -> 171 | I95: =C95*F95 -> -95 | J95: =C95*G95 -> 266 | K95: si
A96: 89 | B96: General_19 | C96: 24 | D96: Panama | E96: 9 | F96: 5 | G96: 28 | H96: =C96*E96 -> 216 | I96: =C96*F96 -> 120 | J96: =C96*G96 -> 672 | K96: si
A97: 90 | B97: General_20 | C97: 25 | D97: Panama | E97: 9 | F97: -2 | G97: 42 | H97: =C97*E97 -> 225 | I97: =C97*F97 -> -50 | J97: =C97*G97 -> 1050 | K97: si
A98: 91 | B98: Lubricante_9 | C98: 26 | D98: Panama | E98: 13 | F98: -5 | G98: 7 | H98: =C98*E98 -> 338 | I98: =C98*F98 -> -130 | J98: =C98*G98 -> 182 | K98: si
A99: 92 | B99: Lubricante_10 | C99: 26 | D99: Panama | E99: 13 | F99: -2 | G99: 7 | H99: =C99*E99 -> 338 | I99: =C99*F99 -> -52 | J99: =C99*G99 -> 182 | K99: si
A100: 93 | B100: Lubricante_11 | C100: 26 | D100: Panama | E100: 13 | F100: 2 | G100: 7 | H100: =C100*E100 -> 338 | I100: =C100*F100 -> 52 | J100: =C100*G100 -> 182 | K100: si
A101: 94 | B101: Lubricante_12 | C101: 26 | D101: Panama | E101: 13 | F101: 5 | G101: 7 | H101: =C101*E101 -> 338 | I101: =C101*F101 -> 130 | J101: =C101*G101 -> 182 | K101: si
A102: 95 | B102: Lubricante_13 | C102: 26 | D102: Panama | E102: 13 | F102: -5 | G102: 56 | H102: =C102*E102 -> 338 | I102: =C102*F102 -> -130 | J102: =C102*G102 -> 1456 | K102: si
A103: 96 | B103: Lubricante_14 | C103: 26 | D103: Panama | E103: 13 | F103: -2 | G103: 56 | H103: =C103*E103 -> 338 | I103: =C103*F103 -> -52 | J103: =C103*G103 -> 1456 | K103: si
A104: 97 | B104: Lubricante_15 | C104: 26 | D104: Panama | E104: 13 | F104: 2 | G104: 56 | H104: =C104*E104 -> 338 | I104: =C104*F104 -> 52 | J104: =C104*G104 -> 1456 | K104: si
... A127: 120 | B127: Alimentos_18 | C127: 20 | D127: Panama | E127: 6 | F127: -2 | G127: 35 | H127: =C127*E127 -> 120 | I127: =C127*F127 -> -40 | J127: =C127*G127 -> 700 | K127: si

Sheet posiciones
F2: PLANTA
D3: POPA | E3: A | F3: B | G3: C | H3: D | I3: E | J3: F | K3: G | L3: H | M3: PROA
M4: BABOR
D5: X | M5: -5
D6: Y | M6: -2
D7: Z | M7: 2
D8: W | M8: 5
M9: ESTRIBOR
E13: PERFIL | F13: Líneas segmentadas muestran la ubicación del centro de los contenedores
N14: Altura
E15: 6 | N15: 19
E16: 5 | N16: 16
E17: 4 | N17: 13
E19: 3 | N19: 9
E20: 2 | N20: 6
E21: 1 | M21: peak de | N21: 3
M22: proa
B23: POPA | E23: 56 | F23: 49 | G23: 42 | H23: 35 | I23: 28 | J23: 21 | K23: 14 | L23: 7 | M23: 4
M24: Mts. desde la proa

Sheet Plan de Estiba
D2: TIER 6 | E2: 19 MTS
B3: POPA | C3: A | D3: B | E3: C | F3: D | G3: E | H3: F | I3: G | J3: H | K3: BABOR
B4: X | K4: -5 | L4: PROA | O4: Callao | P4: Quí | Q4: 6
B5: Y | K5: -2 | O5: 1 | P5: Gen | Q5: 4
B6: Z | K6: 2 | P6: Lub | Q6: 8
B7: W | K7: 5
K8: ESTRIBOR | O8: Guayaquil | P8: Quí | Q8: 6
O9: 2 | P9: Gen | Q9: 10
D10: TIER 5 | E10: 16 MTS
B11: POPA | C11: A | D11: B | E11: C | F11: D | G11: E | H11: F | I11: G | J11: H | K11: BABOR | O11: Panamá | P11: Quí | Q11: 4
B12: X | D12: Lubricante_17(26 ton) | F12: Químico_2(20 ton) | G12: Químico_5(30 ton) | I12: Lubricante_21(26 ton) | K12: -5 | L12: PROA | O12: 3 | P12: Gen | Q12: 6
B13: Y | D13: Lubricante_18(26 ton) | F13: Químico_7(17 ton) | G13: Químico_3(27 ton) | I13: Lubricante_22(26 ton) | K13: -2 | P13: Lub | Q13: 8
B14: Z | D14: Lubricante_19(26 ton) | F14: Químico_6(12 ton) | G14: Químico_11(13 ton) | I14: Lubricante_23(26 ton) | K14: 2 | P14: Ali | Q14: 18
B15: W | D15: Lubricante_20(26 ton) | F15: Químico_4(30 ton) | G15: Químico_1(15 ton) | I15: Lubricante_24(26 ton) | K15: 5
K16: ESTRIBOR | O16: Cartagena | P16: Lub | Q16: 8
O17: 4
D18: TIER 4 | E18: 13 MTS | O18: Houston | P18: Cob | Q18: 30
B19: POPA | C19: A | D19: B | E19: C | F19: D | G19: E | H19: F | I19: G | J19: H | K19: BABOR | O19: 5 | P19: Gen | Q19: 12
B20: X | C20: Lubricante_13(26 ton) | D20: Lubricante_5(26 ton) | F20: Químico_9(29 ton) | G20: Químico_8(25 ton) | I20: Lubricante_1(26 ton) | J20: Lubricante_9(26 ton) | K20: -5 | L20: PROA
B21: Y | C21: Lubricante_14(26 ton) | D21: Lubricante_6(26 ton) | E21: General_4(22 ton) | F21: Químico_13(29 ton) | G21: Químico_14(20 ton) | H21: General_1(18 ton) | I21: Lubricante_2(26 ton) | J21: Lubricante_10(26 ton) | K21: -2
B22: Z | C22: Lubricante_15(26 ton) | D22: Lubricante_7(26 ton) | E22: General_2(23 ton) | F22: Químico_16(22 ton) | G22: Químico_15(30 ton) | H22: General_3(24 ton) | I22: Lubricante_3(26 ton) | J22: Lubricante_11(26 ton) | K22: 2
B23: W | C23: Lubricante_16(26 ton) | D23: Lubricante_8(26 ton) | F23: Químico_10(20 ton) | G23: Químico_12(27 ton) | I23: Lubricante_4(26 ton) | J23: Lubricante_12(26 ton) | K23: 5 | P23: Callao
K24: ESTRIBOR | P24: Guayaquil
P25: Panama
D26: TIER 3 | E26: 9 MTS | P26: Cartagena
B27: POPA | C27: A | D27: B | E27: C | F27: D | G27: E | H27: F | I27: G | J27: H | K27: BABOR | P27: Houston
B28: X | F28: General_6(16 ton) | H28: General_5(18 ton) | I28: General_18(19 ton) | J28: General_10(17 ton) | K28: -5 | L28: PROA
B29: Y | C29: General_29 (18 ton) | D29: General_12(12 ton) | E29: General_20(25 ton) | G29: General_14(17 ton) | K29: -2
B30: Z | C30: General_16(15 ton) | D30: General_7(22 ton) | F30: General_8(26 ton) | J30: General_22 (18 ton) | K30: 2
B31: W | C31: General_13(22 ton) | G31: General_19(24 ton) | I31: General_9(14 ton) | J31: General_11(22 ton) | K31: 5
K32: ESTRIBOR
D34: TIER 2 | E34: 6 MTS
B35: POPA | C35: A | D35: B | E35: C | F35: D | G35: E | H35: F | I35: G | J35: H | K35: BABOR
B36: X | C36: General_28 (23 ton) | D36: Alimentos_5(16 ton) | E36: Alimentos_6(18 ton) | F36: Alimentos_15(27 ton) | G36: Alimentos_1(14 ton) | H36: General_30 (19 ton) | I36: Alimentos_4(15 ton) | J36: General_31 (22 ton) | K36: -5 | L36: PROA
B37: Y | C37: General_25(15 ton) | D37: Alimentos_12 (20 ton) | E37: Alimentos_10(15 ton) | F37: Alimentos_18(20 ton) | G37: Alimentos_8(29 ton) | H37: Alimentos_7(23 ton) | I37: Alimentos_3 (22 ton) | K37: -2
B38: Z | D38: Alimentos_17 (22 ton) | E38: Alimentos_11(24 ton) | F38: Alimentos_13 (33 ton) | G38: General_32(19,7372 ton) | H38: Alimentos_2(16 ton) | I38: Alimentos_16(20 ton) | J38: General_27 (15 ton) | K38: 2
B39: W | C39: General_21 (21 ton) | D39: Alimentos_14(15 ton) | E39: General_26 (19 ton) | F39: Alimentos_9 (10 ton) | G39: General_15(26 ton) | H39: General_17(18 ton) | I39: General_23(17 ton) | J39: General_24 (24 ton) | K39: 5
K40: ESTRIBOR
D42: TIER 1 | E42: 3 MTS
B43: POPA | C43: A | D43: B | E43: C | F43: D | G43: E | H43: F | I43: G | J43: H | K43: BABOR
...

Sheet cuadro carga
A3: Item | B3: Pesos | C3: LCG | D3: Mto(long) | E3: TCG | F3: Mto(trans) | G3: VCG | H3: Mto(vert)
A5: Desplazamiento Liviano MAS LASTRE | B5: 4200 | C5: 44 | D5: =B5*C5 -> 184800 | E5: 0 | F5: =E5*B5 -> 0 | G5: 6 | H5: =G5*B5 -> 25200
A7: General_1 | B7: 18 | C7: -23 | D7: =B7*C7 -> -414 | E7: -2 | F7: =B7*E7 -> -36 | G7: 7 | H7: =B7*G7 -> 126
A8: General_2 | B8: 23 | C8: -2 | D8: =B8*C8 -> -46 | E8: 2 | F8: =B8*E8 -> 46 | G8: 7 | H8: =B8*G8 -> 161
A9: General_3 | B9: 24 | C9: -23 | D9: =B9*C9 -> -552 | E9: 2 | F9: =B9*E9 -> 48 | G9: 7 | H9: =B9*G9 -> 168 | J9: 12 | K9: 5 | L9: -2 | M9: -9 | N9: -16 | O9: -23 | P9: -30 | Q9: -36
A10: General_4 | B10: 22 | C10: -2 | D10: =B10*C10 -> -44 | E10: -2 | F10: =B10*E10 -> -44 | G10: 7 | H10: =B10*G10 -> 154
A11: Lubricante_17 | B11: 26 | C11: 5 | D11: =B11*C11 -> 130 | E11: -5 | F11: =B11*E11 -> -130 | G11: 10 | H11: =B11*G11 -> 260 | I11: 10 | K11: Lub._17 | M11: Quím.o_2 | N11: Quím._5 | P11: Lub._21 | R11: -5
A12: Lubricante_18 | B12: 26 | C12: 5 | D12: =B12*C12 -> 130 | E12: -2 | F12: =B12*E12 -> -52 | G12: 10 | H12: =B12*G12 -> 260 | K12: Lub._18 | M12: Quím._7 | N12: Quím._3 | P12: Lub._22 | R12: -2
A13: Lubricante_19 | B13: 26 | C13: 5 | D13: =B13*C13 -> 130 | E13: 2 | F13: =B13*E13 -> 52 | G13: 10 | H13: =B13*G13 -> 260 | K13: Lub._19 | M13: Quím._6 | N13: Quím._11 | P13: Lub.e_23 | R13: 2
A14: Lubricante_20 | B14: 26 | C14: 5 | D14: =B14*C14 -> 130 | E14: 5 | F14: =B14*E14 -> 130 | G14: 10 | H14: =B14*G14 -> 260 | K14: Lub._20 | M14: Quím._4 | N14: Quím._1 | P14: Lub._24 | R14: 5
A15: Lubricante_21 | B15: 26 | C15: -30 | D15: =B15*C15 -> -780 | E15: -5 | F15: =B15*E15 -> -130 | G15: 10 | H15: =B15*G15 -> 260
A16: Lubricante_22 | B16: 26 | C16: -30 | D16: =B16*C16 -> -780 | E16: -2 | F16: =B16*E16 -> -52 | G16: 10 | H16: =B16*G16 -> 260 | I16: 7 | J16: Lub._13 | K16: Lub._5 | M16: Químico_9 | N16: Químico_8 | P16: Lubricante_1 | Q16: Lubricante_9(26 ton) | R16: -5
A17: Lubricante_23 | B17: 26 | C17: -30 | D17: =B17*C17 -> -780 | E17: 2 | F17: =B17*E17 -> 52 | G17: 10 | H17: =B17*G17 -> 260 | J17: Lub._14 | K17: Lub._6 | L17: Gen.l_4 | M17: Químico_13 | N17: Químico_14 | O17: General_1 | P17: Lubricante_2 | Q17: Lubricante_10(26 ton) | R17: -2
A18: Lubricante_24 | B18: 26 | C18: -30 | D18: =B18*C18 -> -780 | E18: 5 | F18: =B18*E18 -> 130 | G18: 10 | H18: =B18*G18 -> 260 | J18: Lub._15 | K18: Lub._7 | L18: Gen._2 | M18: Químico_16 | N18: Químico_15 | O18: General_3 | P18: Lubricante_3 | Q18: Lubricante_11(26 ton) | R18: 2
A19: Químico_1 | B19: 15 | C19: -16 | D19: =B19*C19 -> -240 | E19: 5 | F19: =B19*E19 -> 75 | G19: 10 | H19: =B19*G19 -> 150 | J19: Lub._16 | K19: Lub._8 | M19: Químico_10 | N19: Químico_12 | P19: Lubricante_4 | Q19: Lubricante_12(26 ton) | R19: 5
A20: Químico_2 | B20: 20 | C20: -9 | D20: =B20*C20 -> -180 | E20: -5 | F20: =B20*E20 -> -100 | G20: 10 | H20: =B20*G20 -> 200
A21: Químico_3 | B21: 27 | C21: -16 | D21: =B21*C21 -> -432 | E21: -2 | F21: =B21*E21 -> -54 | G21: 10 | H21: =B21*G21 -> 270 | I21: 3 | M21: General_6(16 ton) | O21: General_5(18 ton) | P21: General_18(19 ton) | Q21: General_10(17 ton) | R21: -5
A22: Químico_4 | B22: 30 | C22: -9 | D22: =B22*C22 -> -270 | E22: 5 | F22: =B22*E22 -> 150 | G22: 10 | H22: =B22*G22 -> 300 | J22: General_29 (18 ton) | K22: General_12(12 ton) | L22: General_20(25 ton) | N22: General_14(17 ton) | R22: -2
A23: Químico_5 | B23: 30 | C23: -16 | D23: =B23*C23 -> -480 | E23: -5 | F23: =B23*E23 -> -150 | G23: 10 | H23: =B23*G23 -> 300 | J23: General_16(15 ton) | K23: General_7(22 ton) | M23: General_8(26 ton) | Q23: General_22 (18 ton) | R23: 2
A24: Químico_6 | B24: 12 | C24: -9 | D24: =B24*C24 -> -108 | E24: 2 | F24: =B24*E24 -> 24 | G24: 10 | H24: =B24*G24 -> 120 | J24: General_13(22 ton) | N24: General_19(24 ton) | P24: General_9(14 ton) | Q24: General_11(22 ton) | R24: 5
A25: Lubricante_1 | B25: 26 | C25: -30 | D25: =B25*C25 -> -780 | E25: -5 | F25: =B25*E25 -> -130 | G25: 7 | H25: =B25*G25 -> 182
A26: Lubricante_2 | B26: 26 | C26: -30 | D26: =B26*C26 -> -780 | E26: -2 | F26: =B26*E26 -> -52 | G26: 7 | H26: =B26*G26 -> 182 | I26: 0 | J26: General_28 (23 ton) | K26: Alimentos_5(16 ton) | L26: Alimentos_6(18 ton) | M26: Alimentos_15(27 ton) | N26: Alimentos_1(14 ton) | O26: General_30 (19 ton) | P26: Alimentos_4(15 ton) | Q26: General_31 (22 ton) | R26: -5
A27: Lubricante_3 | B27: 26 | C27: -30 | D27: =B27*C27 -> -780 | E27: 2 | F27: =B27*E27 -> 52 | G27: 7 | H27: =B27*G27 -> 182 | J27: General_25(15 ton) | K27: Alimentos_12 (20 ton) | L27: Alimentos_10(15 ton) | M27: Alimentos_18(20 ton) | N27: Alimentos_8(29 ton) | O27: Alimentos_7(23 ton) | P27: Alimentos_3 (22 ton) | R27: -2
A28: Lubricante_4 | B28: 26 | C28: -30 | D28: =B28*C28 -> -780 | E28: 5 | F28: =B28*E28 -> 130 | G28: 7 | H28: =B28*G28 -> 182 | K28: Alimentos_17 (22 ton) | L28: Alimentos_11(24 ton) | M28: Alimentos_13 (33 ton) | N28: General_32(19,7372 ton) | O28: Alimentos_2(16 ton) | P28: Alimentos_16(20 ton) | Q28: General_27 (15 ton) | R28: 2
A29: Lubricante_5 | B29: 26 | C29: 5 | D29: =B29*C29 -> 130 | E29: -5 | F29: =B29*E29 -> -130 | G29: 7 | H29: =B29*G29 -> 182 | J29: General_21 (21 ton) | K29: Alimentos_14(15 ton) | L29: General_26 (19 ton) | M29: Alimentos_9 (10 ton) | N29: General_15(26 ton) | O29: General_17(18 ton) | P29: General_23(17 ton) | Q29: General_24 (24 ton) | R29: 5
A30: Lubricante_6 | B30: 26 | C30: 5 | D30: =B30*C30 -> 130 | E30: -2 | F30: =B30*E30 -> -52 | G30: 7 | H30: =B30*G30 -> 182
A31: Lubricante_7 | B31: 26 | C31: 5 | D31: =B31*C31 -> 130 | E31: 2 | F31: =B31*E31 -> 52 | G31: 7 | H31: =B31*G31 -> 182 | I31: -3 | J31: Cobre_3(40 ton) | K31: Cobre_7(40 ton) | L31: Cobre_11(40 ton) | M31: Cobre_15(40 ton) | N31: Cobre_19(40 ton) | O31: Cobre_23(40 ton) | P31: Cobre_27(40 ton) | Q31: Cobre_30(40 ton) | R31: -5
A32: Lubricante_8 | B32: 26 | C32: 5 | D32: =B32*C32 -> 130 | E32: 5 | F32: =B32*E32 -> 130 | G32: 7 | H32: =B32*G32 -> 182 | J32: Cobre_2(40 ton) | K32: Cobre_6(40 ton) | L32: Cobre_10(40 ton) | M32: Cobre_14(40 ton) | N32: Cobre_18(40 ton) | O32: Cobre_22(40 ton) | P32: Cobre_26(40 ton) | R32: -2
A33: General_5 | B33: 18 | C33: -23 | D33: =B33*C33 -> -414 | E33: -5 | F33: =B33*E33 -> -90 | G33: 3 | H33: =B33*G33 -> 54 | K33: Cobre_5(40 ton) | L33: Cobre_9(40 ton) | M33: Cobre_13(40 ton) | N33: Cobre_17(40 ton) | O33: Cobre_21(40 ton) | P33: Cobre_25(40 ton) | Q33: Cobre_29(40 ton) | R33: 2
A34: General_6 | B34: 16 | C34: -9 | D34: =B34*C34 -> -144 | E34: -5 | F34: =B34*E34 -> -80 | G34: 3 | H34: =B34*G34 -> 48 | J34: Cobre_1(40 ton) | K34: Cobre_4(40 ton) | L34: Cobre_8(40 ton) | M34: Cobre_12(40 ton) | N34: Cobre_16(40 ton) | O34: Cobre_20(40 ton) | P34: Cobre_24(40 ton) | Q34: Cobre_28(40 ton) | R34: 5
A35: General_7 | B35: 22 | C35: 5 | D35: =B35*C35 -> 110 | E35: 2 | F35: =B35*E35 -> 44 | G35: 3 | H35: =B35*G35 -> 66
A36: General_8 | B36: 26 | C36: -9 | D36: =B36*C36 -> -234 | E36: 2 | F36: =B36*E36 -> 52 | G36: 3 | H36: =B36*G36 -> 78
A37: General_9 | B37: 14 | C37: -30 | D37: =B37*C37 -> -420 | E37: 5 | F37: =B37*E37 -> 70 | G37: 3 | H37: =B37*G37 -> 42
A38: General_10 | B38: 17 | C38: -36 | D38: =B38*C38 -> -612 | E38: -5 | F38: =B38*E38 -> -85 | G38: 3 | H38: =B38*G38 -> 51
A39: General_11 | B39: 22 | C39: -36 | D39: =B39*C39 -> -792 | E39: 5 | F39: =B39*E39 -> 110 | G39: 3 | H39: =B39*G39 -> 66
A40: General_12 | B40: 12 | C40: 5 | D40: =B40*C40 -> 60 | E40: -2 | F40: =B40*E40 -> -24 | G40: 3 | H40: =B40*G40 -> 36
A41: General_13 | B41: 22 | C41: 12 | D41: =B41*C41 -> 264 | E41: 5 | F41: =B41*E41 -> 110 | G41: 3 | H41: =B41*G41 -> 66
A42: General_14 | B42: 17 | C42: -16 | D42: =B42*C42 -> -272 | E42: -2 | F42: =B42*E42 -> -34 | G42: 3 | H42: =B42*G42 -> 51
A43: Químico_7 | B43: 17 | C43: -9 | D43: =B43*C43 -> -153 | E43: -2 | F43: =B43*E43 -> -34 | G43: 10 | H43: =B43*G43 -> 170
A44: Químico_8 | B44: 25 | C44: -16 | D44: =B44*C44 -> -400 | E44: -5 | F44: =B44*E44 -> -125 | G44: 7 | H44: =B44*G44 -> 175
...

Sheet Callao
D1: TIER 6 | E1: 19 MTS
B2: POPA | C2: A | D2: B | E2: C | F2: D | G2: E | H2: F | I2: G | J2: H | K2: BABOR | V2: distancia vertical | W2: distancia lateral
B3: X | K3: -5 | L3: PROA | T3: Peso | U3: Destino | V3: D_Vert | W3: D_Lat | X3: D_Long | Y3: M_V | Z3: M_Lat | AA3: M_Long
B4: Y | K4: -2 | S4: Pesos sumas | T4: =SUM(T5:T108) -> 6970.7273 | Y4: =SUM(Y5:Y106) -> 18253.364 | Z4: =SUM(Z5:Z106) -> 148.45455 | AA4: =SUM(AA5:AA106) -> 84797.364
B5: Z | K5: 2 | S5: Buque | T5: 4200 | V5: =Y4/T4 -> 2.6185738
B6: W | K6: 5 | R6: Cont. | S6: Lastre | T6: =20 -> 20 | V6: 3 | Y6: =T6*V6 -> 60
K7: ESTRIBOR | R7: 19 | S7: Lubricante_1 | T7: 26 | U7: Cartagena | V7: 13 | W7: -5 | X7: 14 | Y7: =T7*V7 -> 338 | Z7: =T7*W7 -> -130 | AA7: =T7*X7 -> 364
R8: 20 | S8: Lubricante_2 | T8: 26 | U8: Cartagena | V8: 13 | W8: -2 | X8: 14 | Y8: =T8*V8 -> 338 | Z8: =T8*W8 -> -52 | AA8: =T8*X8 -> 364
D9: TIER 5 | E9: 16 MTS | R9: 21 | S9: Lubricante_3 | T9: 26 | U9: Cartagena | V9: 13 | W9: 2 | X9: 14 | Y9: =T9*V9 -> 338 | Z9: =T9*W9 -> 52 | AA9: =T9*X9 -> 364
B10: POPA | C10: A | D10: B | E10: C | F10: D | G10: E | H10: F | I10: G | J10: H | K10: BABOR | R10: 22 | S10: Lubricante_4 | T10: 26 | U10: Cartagena | V10: 13 | W10: 5 | X10: 14 | Y10: =T10*V10 -> 338 | Z10: =T10*W10 -> 130 | AA10: =T10*X10 -> 364
B11: X | K11: -5 | L11: PROA | R11: 23 | S11: Lubricante_5 | T11: 26 | U11: Cartagena | V11: 13 | W11: -5 | X11: 49 | Y11: =T11*V11 -> 338 | Z11: =T11*W11 -> -130 | AA11: =T11*X11 -> 1274
B12: Y | F12: Químico_7(17 ton) | K12: -2 | R12: 24 | S12: Lubricante_6 | T12: 26 | U12: Cartagena | V12: 13 | W12: -2 | X12: 49 | Y12: =T12*V12 -> 338 | Z12: =T12*W12 -> -52 | AA12: =T12*X12 -> 1274
B13: Z | G13: Químico_11(13 ton) | K13: 2 | R13: 25 | S13: Lubricante_7 | T13: 26 | U13: Cartagena | V13: 13 | W13: 2 | X13: 49 | Y13: =T13*V13 -> 338 | Z13: =T13*W13 -> 52 | AA13: =T13*X13 -> 1274
B14: W | K14: 5 | R14: 26 | S14: Lubricante_8 | T14: 26 | U14: Cartagena | V14: 13 | W14: 5 | X14: 49 | Y14: =T14*V14 -> 338 | Z14: =T14*W14 -> 130 | AA14: =T14*X14 -> 1274
K15: ESTRIBOR | R15: 27 | S15: General_5 | T15: 18 | U15: Guayaquil | V15: 9 | W15: -5 | X15: 21 | Y15: =T15*V15 -> 162 | Z15: =T15*W15 -> -90 | AA15: =T15*X15 -> 378
R16: 28 | S16: General_6 | T16: 16 | U16: Guayaquil | V16: 9 | W16: -5 | X16: 35 | Y16: =T16*V16 -> 144 | Z16: =T16*W16 -> -80 | AA16: =T16*X16 -> 560
D17: TIER 4 | E17: 13 MTS | R17: 29 | S17: General_7 | T17: 22 | U17: Guayaquil | V17: 9 | W17: 2 | X17: 49 | Y17: =T17*V17 -> 198 | Z17: =T17*W17 -> 44 | AA17: =T17*X17 -> 1078
B18: POPA | C18: A | D18: B | E18: C | F18: D | G18: E | H18: F | I18: G | J18: H | K18: BABOR | R18: 30 | S18: General_8 | T18: 26 | U18: Guayaquil | V18: 9 | W18: 2 | X18: 35 | Y18: =T18*V18 -> 234 | Z18: =T18*W18 -> 52 | AA18: =T18*X18 -> 910
B19: X | C19: Lubricante_13(26 ton) | D19: Lubricante_5(26 ton) | F19: Químico_9(29 ton) | G19: Químico_8(25 ton) | I19: Lubricante_1(26 ton) | J19: Lubricante_9(26 ton) | K19: -5 | L19: PROA | R19: 31 | S19: General_9 | T19: 14 | U19: Guayaquil | V19: 9 | W19: 5 | X19: 14 | Y19: =T19*V19 -> 126 | Z19: =T19*W19 -> 70 | AA19: =T19*X19 -> 196
B20: Y | C20: Lubricante_14(26 ton) | D20: Lubricante_6(26 ton) | F20: Químico_13(29 ton) | G20: Químico_14(20 ton) | I20: Lubricante_2(26 ton) | J20: Lubricante_10(26 ton) | K20: -2 | R20: 32 | S20: General_10 | T20: 17 | U20: Guayaquil | V20: 9 | W20: -5 | X20: 7 | Y20: =T20*V20 -> 153 | Z20: =T20*W20 -> -85 | AA20: =T20*X20 -> 119
B21: Z | C21: Lubricante_15(26 ton) | D21: Lubricante_7(26 ton) | F21: Químico_16(22 ton) | G21: Químico_15(30 ton) | I21: Lubricante_3(26 ton) | J21: Lubricante_11(26 ton) | K21: 2 | R21: 33 | S21: General_11 | T21: 22 | U21: Guayaquil | V21: 9 | W21: 5 | X21: 7 | Y21: =T21*V21 -> 198 | Z21: =T21*W21 -> 110 | AA21: =T21*X21 -> 154
B22: W | C22: Lubricante_16(26 ton) | D22: Lubricante_8(26 ton) | F22: Químico_10(20 ton) | G22: Químico_12(27 ton) | I22: Lubricante_4(26 ton) | J22: Lubricante_12(26 ton) | K22: 5 | R22: 34 | S22: General_12 | T22: 12 | U22: Guayaquil | V22: 9 | W22: -2 | X22: 49 | Y22: =T22*V22 -> 108 | Z22: =T22*W22 -> -24 | AA22: =T22*X22 -> 588
K23: ESTRIBOR | R23: 35 | S23: General_13 | T23: 22 | U23: Guayaquil | V23: 9 | W23: 5 | X23: 56 | Y23: =T23*V23 -> 198 | Z23: =T23*W23 -> 110 | AA23: =T23*X23 -> 1232
R24: 36 | S24: General_14 | T24: 17 | U24: Guayaquil | V24: 9 | W24: -2 | X24: 28 | Y24: =T24*V24 -> 153 | Z24: =T24*W24 -> -34 | AA24: =T24*X24 -> 476
D25: TIER 3 | E25: 9 MTS | R25: 37 | S25: Químico_7 | T25: 17 | U25: Guayaquil | V25: 16 | W25: -2 | X25: 35 | Y25: =T25*V25 -> 272 | Z25: =T25*W25 -> -34 | AA25: =T25*X25 -> 595
B26: POPA | C26: A | D26: B | E26: C | F26: D | G26: E | H26: F | I26: G | J26: H | K26: BABOR | R26: 38 | S26: Químico_8 | T26: 25 | U26: Guayaquil | V26: 13 | W26: -5 | X26: 28 | Y26: =T26*V26 -> 325 | Z26: =T26*W26 -> -125 | AA26: =T26*X26 -> 700
B27: X | F27: General_6(16 ton) | H27: General_5(18 ton) | I27: General_18(19 ton) | J27: General_10(17 ton) | K27: -5 | L27: PROA | R27: 39 | S27: Químico_9 | T27: 29 | U27: Guayaquil | V27: 13 | W27: -5 | X27: 35 | Y27: =T27*V27 -> 377 | Z27: =T27*W27 -> -145 | AA27: =T27*X27 -> 1015
B28: Y | C28: General_29 (18 ton) | D28: General_12(12 ton) | E28: General_20(25 ton) | G28: General_14(17 ton) | K28: -2 | R28: 40 | S28: Químico_10 | T28: 20 | U28: Guayaquil | V28: 13 | W28: 5 | X28: 35 | Y28: =T28*V28 -> 260 | Z28: =T28*W28 -> 100 | AA28: =T28*X28 -> 700
B29: Z | C29: General_16(15 ton) | D29: General_7(22 ton) | F29: General_8(26 ton) | J29: General_22 (18 ton) | K29: 2 | R29: 41 | S29: Químico_11 | T29: 13 | U29: Guayaquil | V29: 16 | W29: 2 | X29: 28 | Y29: =T29*V29 -> 208 | Z29: =T29*W29 -> 26 | AA29: =T29*X29 -> 364
B30: W | C30: General_13(22 ton) | G30: General_19(24 ton) | I30: General_9(14 ton) | J30: General_11(22 ton) | K30: 5 | R30: 42 | S30: Químico_12 | T30: 27 | U30: Guayaquil | V30: 13 | W30: 5 | X30: 28 | Y30: =T30*V30 -> 351 | Z30: =T30*W30 -> 135 | AA30: =T30*X30 -> 756
K31: ESTRIBOR | R31: 43 | S31: General_21 | T31: 21 | U31: Houston | V31: 6 | W31: 5 | X31: 56 | Y31: =T31*V31 -> 126 | Z31: =T31*W31 -> 105 | AA31: =T31*X31 -> 1176
R32: 44 | S32: General_22 | T32: 18 | U32: Houston | V32: 9 | W32: 2 | X32: 7 | Y32: =T32*V32 -> 162 | Z32: =T32*W32 -> 36 | AA32: =T32*X32 -> 126
D33: TIER 2 | E33: 6 MTS | R33: 45 | S33: General_23 | T33: 17 | U33: Houston | V33: 6 | W33: 5 | X33: 14 | Y33: =T33*V33 -> 102 | Z33: =T33*W33 -> 85 | AA33: =T33*X33 -> 238
B34: POPA | C34: A | D34: B | E34: C | F34: D | G34: E | H34: F | I34: G | J34: H | K34: BABOR | R34: 46 | S34: General_24 | T34: 24 | U34: Houston | V34: 6 | W34: 5 | X34: 7 | Y34: =T34*V34 -> 144 | Z34: =T34*W34 -> 120 | AA34: =T34*X34 -> 168
B35: X | C35: General_28 (23 ton) | D35: Alimentos_5(16 ton) | E35: Alimentos_6(18 ton) | F35: Alimentos_15(27 ton) | G35: Alimentos_1(14 ton) | H35: General_30 (19 ton) | I35: Alimentos_4(15 ton) | J35: General_31 (22 ton) | K35: -5 | L35: PROA | R35: 47 | S35: General_25 | T35: 15 | U35: Houston | V35: 6 | W35: -2 | X35: 56 | Y35: =T35*V35 -> 90 | Z35: =T35*W35 -> -30 | AA35: =T35*X35 -> 840
B36: Y | C36: General_25(15 ton) | D36: Alimentos_12 (20 ton) | E36: Alimentos_10(15 ton) | F36: Alimentos_18(20 ton) | G36: Alimentos_8(29 ton) | H36: Alimentos_7(23 ton) | I36: Alimentos_3 (22 ton) | K36: -2 | R36: 48 | S36: General_26 | T36: 19 | U36: Houston | V36: 6 | W36: 5 | X36: 42 | Y36: =T36*V36 -> 114 | Z36: =T36*W36 -> 95 | AA36: =T36*X36 -> 798
B37: Z | D37: Alimentos_17 (22 ton) | E37: Alimentos_11(24 ton) | F37: Alimentos_13 (33 ton) | G37: General_32(19,7372 ton) | H37: Alimentos_2(16 ton) | I37: Alimentos_16(20 ton) | J37: General_27 (15 ton) | K37: 2 | R37: 49 | S37: General_27 | T37: 15 | U37: Houston | V37: 6 | W37: 2 | X37: 7 | Y37: =T37*V37 -> 90 | Z37: =T37*W37 -> 30 | AA37: =T37*X37 -> 105
B38: W | C38: General_21 (21 ton) | D38: Alimentos_14(15 ton) | E38: General_26 (19 ton) | F38: Alimentos_9 (10 ton) | G38: General_15(26 ton) | H38: General_17(18 ton) | I38: General_23(17 ton) | J38: General_24 (24 ton) | K38: 5 | R38: 50 | S38: General_28 | T38: 23 | U38: Houston | V38: 6 | W38: -5 | X38: 56 | Y38: =T38*V38 -> 138 | Z38: =T38*W38 -> -115 | AA38: =T38*X38 -> 1288
K39: ESTRIBOR | R39: 51 | S39: General_29 | T39: 18 | U39: Houston | V39: 9 | W39: -2 | X39: 56 | Y39: =T39*V39 -> 162 | Z39: =T39*W39 -> -36 | AA39: =T39*X39 -> 1008
R40: 52 | S40: General_30 | T40: 19 | U40: Houston | V40: 6 | W40: -5 | X40: 56 | Y40: =T40*V40 -> 114 | Z40: =T40*W40 -> -95 | AA40: =T40*X40 -> 1064
...

Sheet Guayaquil
V1: distancia vertical | W1: distancia lateral
C2: TIER 6 | D2: 19 MTS | T2: Peso | U2: Destino | V2: D_Vert | W2: D_Lat | X2: D_Long | Y2: M_V | Z2: M_Lat | AA2: M_Long
A3: POPA | B3: A | C3: B | D3: C | E3: D | F3: E | G3: F | H3: G | I3: H | J3: BABOR | S3: Pesos sumas | T3: =SUM(T4:T91) -> 6653.7273 | Y3: =SUM(Y4:Y89) -> 14786.364 | Z3: =SUM(Z4:Z89) -> 118.45455 | AA3: =SUM(AA4:AA89) -> 74976.364
A4: X | J4: -5 | K4: PROA | S4: Buque | T4: 4200 | V4: =Y3/T3 -> 2.2222678
A5: Y | J5: -2 | R5: Cont. | S5: Lastre | T5: =20 -> 20 | V5: 3 | Y5: =T5*V5 -> 60
A6: Z | J6: 2 | R6: 19 | S6: Lubricante_1 | T6: 26 | U6: Cartagena | V6: 13 | W6: -5 | X6: 14 | Y6: =T6*V6 -> 338 | Z6: =T6*W6 -> -130 | AA6: =T6*X6 -> 364
A7: W | J7: 5 | R7: 20 | S7: Lubricante_2 | T7: 26 | U7: Cartagena | V7: 13 | W7: -2 | X7: 14 | Y7: =T7*V7 -> 338 | Z7: =T7*W7 -> -52 | AA7: =T7*X7 -> 364
J8: ESTRIBOR | R8: 21 | S8: Lubricante_3 | T8: 26 | U8: Cartagena | V8: 13 | W8: 2 | X8: 14 | Y8: =T8*V8 -> 338 | Z8: =T8*W8 -> 52 | AA8: =T8*X8 -> 364
R9: 22 | S9: Lubricante_4 | T9: 26 | U9: Cartagena | V9: 13 | W9: 5 | X9: 14 | Y9: =T9*V9 -> 338 | Z9: =T9*W9 -> 130 | AA9: =T9*X9 -> 364
C10: TIER 5 | D10: 16 MTS | R10: 23 | S10: Lubricante_5 | T10: 26 | U10: Cartagena | V10: 13 | W10: -5 | X10: 49 | Y10: =T10*V10 -> 338 | Z10: =T10*W10 -> -130 | AA10: =T10*X10 -> 1274
A11: POPA | B11: A | C11: B | D11: C | E11: D | F11: E | G11: F | H11: G | I11: H | J11: BABOR | R11: 24 | S11: Lubricante_6 | T11: 26 | U11: Cartagena | V11: 13 | W11: -2 | X11: 49 | Y11: =T11*V11 -> 338 | Z11: =T11*W11 -> -52 | AA11: =T11*X11 -> 1274
A12: X | J12: -5 | K12: PROA | R12: 25 | S12: Lubricante_7 | T12: 26 | U12: Cartagena | V12: 13 | W12: 2 | X12: 49 | Y12: =T12*V12 -> 338 | Z12: =T12*W12 -> 52 | AA12: =T12*X12 -> 1274
A13: Y | J13: -2 | R13: 26 | S13: Lubricante_8 | T13: 26 | U13: Cartagena | V13: 13 | W13: 5 | X13: 49 | Y13: =T13*V13 -> 338 | Z13: =T13*W13 -> 130 | AA13: =T13*X13 -> 1274
A14: Z | J14: 2 | R14: 43 | S14: General_21 | T14: 21 | U14: Houston | V14: 6 | W14: 5 | X14: 56 | Y14: =T14*V14 -> 126 | Z14: =T14*W14 -> 105 | AA14: =T14*X14 -> 1176
A15: W | J15: 5 | R15: 44 | S15: General_22 | T15: 18 | U15: Houston | V15: 9 | W15: 2 | X15: 7 | Y15: =T15*V15 -> 162 | Z15: =T15*W15 -> 36 | AA15: =T15*X15 -> 126
J16: ESTRIBOR | R16: 45 | S16: General_23 | T16: 17 | U16: Houston | V16: 6 | W16: 5 | X16: 14 | Y16: =T16*V16 -> 102 | Z16: =T16*W16 -> 85 | AA16: =T16*X16 -> 238
R17: 46 | S17: General_24 | T17: 24 | U17: Houston | V17: 6 | W17: 5 | X17: 7 | Y17: =T17*V17 -> 144 | Z17: =T17*W17 -> 120 | AA17: =T17*X17 -> 168
C18: TIER 4 | D18: 13 MTS | R18: 47 | S18: General_25 | T18: 15 | U18: Houston | V18: 6 | W18: -2 | X18: 56 | Y18: =T18*V18 -> 90 | Z18: =T18*W18 -> -30 | AA18: =T18*X18 -> 840
A19: POPA | B19: A | C19: B | D19: C | E19: D | F19: E | G19: F | H19: G | I19: H | J19: BABOR | R19: 48 | S19: General_26 | T19: 19 | U19: Houston | V19: 6 | W19: 5 | X19: 42 | Y19: =T19*V19 -> 114 | Z19: =T19*W19 -> 95 | AA19: =T19*X19 -> 798
A20: X | B20: Lubricante_13(26 ton) | C20: Lubricante_5(26 ton) | H20: Lubricante_1(26 ton) | I20: Lubricante_9(26 ton) | J20: -5 | K20: PROA | R20: 49 | S20: General_27 | T20: 15 | U20: Houston | V20: 6 | W20: 2 | X20: 7 | Y20: =T20*V20 -> 90 | Z20: =T20*W20 -> 30 | AA20: =T20*X20 -> 105
A21: Y | B21: Lubricante_14(26 ton) | C21: Lubricante_6(26 ton) | E21: Químico_13(29 ton) | F21: Químico_14(20 ton) | H21: Lubricante_2(26 ton) | I21: Lubricante_10(26 ton) | J21: -2 | R21: 50 | S21: General_28 | T21: 23 | U21: Houston | V21: 6 | W21: -5 | X21: 56 | Y21: =T21*V21 -> 138 | Z21: =T21*W21 -> -115 | AA21: =T21*X21 -> 1288
A22: Z | B22: Lubricante_15(26 ton) | C22: Lubricante_7(26 ton) | E22: Químico_16(22 ton) | F22: Químico_15(30 ton) | H22: Lubricante_3(26 ton) | I22: Lubricante_11(26 ton) | J22: 2 | R22: 51 | S22: General_29 | T22: 18 | U22: Houston | V22: 9 | W22: -2 | X22: 56 | Y22: =T22*V22 -> 162 | Z22: =T22*W22 -> -36 | AA22: =T22*X22 -> 1008
A23: W | B23: Lubricante_16(26 ton) | C23: Lubricante_8(26 ton) | H23: Lubricante_4(26 ton) | I23: Lubricante_12(26 ton) | J23: 5 | R23: 52 | S23: General_30 | T23: 19 | U23: Houston | V23: 6 | W23: -5 | X23: 56 | Y23: =T23*V23 -> 114 | Z23: =T23*W23 -> -95 | AA23: =T23*X23 -> 1064
J24: ESTRIBOR | R24: 53 | S24: General_31 | T24: 22 | U24: Houston | V24: 6 | W24: -5 | X24: 7 | Y24: =T24*V24 -> 132 | Z24: =T24*W24 -> -110 | AA24: =T24*X24 -> 154
R25: 54 | S25: General_32 | T25: 19.727273 | U25: Houston | V25: 6 | W25: 2 | X25: 28 | Y25: =T25*V25 -> 118.36364 | Z25: =T25*W25 -> 39.454545 | AA25: =T25*X25 -> 552.36364
C26: TIER 3 | D26: 9 MTS | R26: 55 | S26: Cobre_1 | T26: 40 | U26: Houston | V26: 3 | W26: 5 | X26: 56 | Y26: =T26*V26 -> 120 | Z26: =T26*W26 -> 200 | AA26: =T26*X26 -> 2240
A27: POPA | B27: A | C27: B | D27: C | E27: D | F27: E | G27: F | H27: G | I27: H | J27: BABOR | R27: 56 | S27: Cobre_2 | T27: 40 | U27: Houston | V27: 3 | W27: -2 | X27: 56 | Y27: =T27*V27 -> 120 | Z27: =T27*W27 -> -80 | AA27: =T27*X27 -> 2240
A28: X | H28: General_18(19 ton) | J28: -5 | K28: PROA | R28: 57 | S28: Cobre_3 | T28: 40 | U28: Houston | V28: 3 | W28: -5 | X28: 56 | Y28: =T28*V28 -> 120 | Z28: =T28*W28 -> -200 | AA28: =T28*X28 -> 2240
A29: Y | B29: General_29 (18 ton) | D29: General_20(25 ton) | J29: -2 | R29: 58 | S29: Cobre_4 | T29: 40 | U29: Houston | V29: 3 | W29: 5 | X29: 49 | Y29: =T29*V29 -> 120 | Z29: =T29*W29 -> 200 | AA29: =T29*X29 -> 1960
A30: Z | B30: General_16(15 ton) | I30: General_22 (18 ton) | J30: 2 | R30: 59 | S30: Cobre_5 | T30: 40 | U30: Houston | V30: 3 | W30: 2 | X30: 49 | Y30: =T30*V30 -> 120 | Z30: =T30*W30 -> 80 | AA30: =T30*X30 -> 1960
A31: W | F31: General_19(24 ton) | J31: 5 | R31: 60 | S31: Cobre_6 | T31: 40 | U31: Houston | V31: 3 | W31: -2 | X31: 49 | Y31: =T31*V31 -> 120 | Z31: =T31*W31 -> -80 | AA31: =T31*X31 -> 1960
J32: ESTRIBOR | R32: 61 | S32: Cobre_7 | T32: 40 | U32: Houston | V32: 3 | W32: -5 | X32: 49 | Y32: =T32*V32 -> 120 | Z32: =T32*W32 -> -200 | AA32: =T32*X32 -> 1960
R33: 62 | S33: Cobre_8 | T33: 40 | U33: Houston | V33: 3 | W33: 5 | X33: 42 | Y33: =T33*V33 -> 120 | Z33: =T33*W33 -> 200 | AA33: =T33*X33 -> 1680
C34: TIER 2 | D34: 6 MTS | R34: 63 | S34: Cobre_9 | T34: 40 | U34: Houston | V34: 3 | W34: 2 | X34: 42 | Y34: =T34*V34 -> 120 | Z34: =T34*W34 -> 80 | AA34: =T34*X34 -> 1680
A35: POPA | B35: A | C35: B | D35: C | E35: D | F35: E | G35: F | H35: G | I35: H | J35: BABOR | R35: 64 | S35: Cobre_10 | T35: 40 | U35: Houston | V35: 3 | W35: -2 | X35: 42 | Y35: =T35*V35 -> 120 | Z35: =T35*W35 -> -80 | AA35: =T35*X35 -> 1680
A36: X | B36: General_28 (23 ton) | C36: Alimentos_5(16 ton) | D36: Alimentos_6(18 ton) | E36: Alimentos_15(27 ton) | F36: Alimentos_1(14 ton) | G36: General_30 (19 ton) | H36: Alimentos_4(15 ton) | I36: General_31 (22 ton) | J36: -5 | K36: PROA | R36: 65 | S36: Cobre_11 | T36: 40 | U36: Houston | V36: 3 | W36: -5 | X36: 42 | Y36: =T36*V36 -> 120 | Z36: =T36*W36 -> -200 | AA36: =T36*X36 -> 1680
A37: Y | B37: General_25(15 ton) | C37: Alimentos_12 (20 ton) | D37: Alimentos_10(15 ton) | E37: Alimentos_18(20 ton) | F37: Alimentos_8(29 ton) | G37: Alimentos_7(23 ton) | H37: Alimentos_3 (22 ton) | J37: -2 | R37: 66 | S37: Cobre_12 | T37: 40 | U37: Houston | V37: 3 | W37: 5 | X37: 35 | Y37: =T37*V37 -> 120 | Z37: =T37*W37 -> 200 | AA37: =T37*X37 -> 1400
A38: Z | C38: Alimentos_17 (22 ton) | D38: Alimentos_11(24 ton) | E38: Alimentos_13 (33 ton) | F38: General_32(19,7372 ton) | G38: Alimentos_2(16 ton) | H38: Alimentos_16(20 ton) | I38: General_27 (15 ton) | J38: 2 | R38: 67 | S38: Cobre_13 | T38: 40 | U38: Houston | V38: 3 | W38: 2 | X38: 35 | Y38: =T38*V38 -> 120 | Z38: =T38*W38 -> 80 | AA38: =T38*X38 -> 1400
A39: W | B39: General_21 (21 ton) | C39: Alimentos_14(15 ton) | D39: General_26 (19 ton) | E39: Alimentos_9 (10 ton) | F39: General_15(26 ton) | G39: General_17(18 ton) | H39: General_23(17 ton) | I39: General_24 (24 ton) | J39: 5 | R39: 68 | S39: Cobre_14 | T39: 40 | U39: Houston | V39: 3 | W39: -2 | X39: 35 | Y39: =T39*V39 -> 120 | Z39: =T39*W39 -> -80 | AA39: =T39*X39 -> 1400
J40: ESTRIBOR | R40: 69 | S40: Cobre_15 | T40: 40 | U40: Houston | V40: 3 | W40: -2 | X40: 35 | Y40: =T40*V40 -> 120 | Z40: =T40*W40 -> -80 | AA40: =T40*X40 -> 1400
...

Sheet Panama
C1: TIER 6 | D1: 19 MTS
A2: POPA | B2: A | C2: B | D2: C | E2: D | F2: E | G2: F | H2: G | I2: H | J2: BABOR | V2: distancia vertical | W2: distancia lateral
A3: X | J3: -5 | K3: PROA | T3: Peso | U3: Destino | V3: D_Vert | W3: D_Lat | X3: D_Long | Y3: M_V | Z3: M_Lat | AA3: M_Long
A4: Y | J4: -2 | S4: Pesos sumas | T4: =SUM(T5:T92) -> 5858.7273 | Y4: =SUM(Y5:Y90) -> 7856.3636 | Z4: =SUM(Z5:Z90) -> 244.45455 | AA4: =SUM(AA5:AA90) -> 51869.364
A5: Z | J5: 2 | S5: Buque | T5: 4200 | V5: =Y4/T4 -> 1.3409676
A6: W | J6: 5 | R6: Cont. | S6: Lastre | T6: =20 -> 20 | V6: 3 | Y6: =T6*V6 -> 60
J7: ESTRIBOR | R7: 19 | S7: Lubricante_1 | T7: 26 | U7: Cartagena | V7: 13 | W7: -5 | X7: 14 | Y7: =T7*V7 -> 338 | Z7: =T7*W7 -> -130 | AA7: =T7*X7 -> 364
R8: 20 | S8: Lubricante_2 | T8: 26 | U8: Cartagena | V8: 13 | W8: -2 | X8: 14 | Y8: =T8*V8 -> 338 | Z8: =T8*W8 -> -52 | AA8: =T8*X8 -> 364
C9: TIER 5 | D9: 16 MTS | R9: 21 | S9: Lubricante_3 | T9: 26 | U9: Cartagena | V9: 13 | W9: 2 | X9: 14 | Y9: =T9*V9 -> 338 | Z9: =T9*W9 -> 52 | AA9: =T9*X9 -> 364
A10: POPA | B10: A | C10: B | D10: C | E10: D | F10: E | G10: F | H10: G | I10: H | J10: BABOR | R10: 22 | S10: Lubricante_4 | T10: 26 | U10: Cartagena | V10: 13 | W10: 5 | X10: 14 | Y10: =T10*V10 -> 338 | Z10: =T10*W10 -> 130 | AA10: =T10*X10 -> 364
A11: X | J11: -5 | K11: PROA | R11: 23 | S11: Lubricante_5 | T11: 26 | U11: Cartagena | V11: 13 | W11: -5 | X11: 49 | Y11: =T11*V11 -> 338 | Z11: =T11*W11 -> -130 | AA11: =T11*X11 -> 1274
A12: Y | J12: -2 | R12: 24 | S12: Lubricante_6 | T12: 26 | U12: Cartagena | V12: 13 | W12: -2 | X12: 49 | Y12: =T12*V12 -> 338 | Z12: =T12*W12 -> -52 | AA12: =T12*X12 -> 1274
A13: Z | J13: 2 | R13: 25 | S13: Lubricante_7 | T13: 26 | U13: Cartagena | V13: 13 | W13: 2 | X13: 49 | Y13: =T13*V13 -> 338 | Z13: =T13*W13 -> 52 | AA13: =T13*X13 -> 1274
A14: W | J14: 5 | R14: 26 | S14: Lubricante_8 | T14: 26 | U14: Cartagena | V14: 13 | W14: 5 | X14: 49 | Y14: =T14*V14 -> 338 | Z14: =T14*W14 -> 130 | AA14: =T14*X14 -> 1274
J15: ESTRIBOR | R15: 43 | S15: General_21 | T15: 21 | U15: Houston | V15: 6 | W15: 5 | X15: 56 | Y15: =T15*V15 -> 126 | Z15: =T15*W15 -> 105 | AA15: =T15*X15 -> 1176
R16: 44 | S16: General_22 | T16: 18 | U16: Houston | V16: 9 | W16: 2 | X16: 7 | Y16: =T16*V16 -> 162 | Z16: =T16*W16 -> 36 | AA16: =T16*X16 -> 126
C17: TIER 4 | D17: 13 MTS | R17: 45 | S17: General_23 | T17: 17 | U17: Houston | V17: 6 | W17: 5 | X17: 14 | Y17: =T17*V17 -> 102 | Z17: =T17*W17 -> 85 | AA17: =T17*X17 -> 238
A18: POPA | B18: A | C18: B | D18: C | E18: D | F18: E | G18: F | H18: G | I18: H | J18: BABOR | R18: 46 | S18: General_24 | T18: 24 | U18: Houston | V18: 6 | W18: 5 | X18: 7 | Y18: =T18*V18 -> 144 | Z18: =T18*W18 -> 120 | AA18: =T18*X18 -> 168
A19: X | C19: Lubricante_5(26 ton) | H19: Lubricante_1(26 ton) | J19: -5 | K19: PROA | R19: 47 | S19: General_25 | T19: 15 | U19: Houston | V19: 6 | W19: -2 | X19: 56 | Y19: =T19*V19 -> 90 | Z19: =T19*W19 -> -30 | AA19: =T19*X19 -> 840
A20: Y | C20: Lubricante_6(26 ton) | H20: Lubricante_2(26 ton) | J20: -2 | R20: 48 | S20: General_26 | T20: 19 | U20: Houston | V20: 6 | W20: 5 | X20: 42 | Y20: =T20*V20 -> 114 | Z20: =T20*W20 -> 95 | AA20: =T20*X20 -> 798
A21: Z | C21: Lubricante_7(26 ton) | H21: Lubricante_3(26 ton) | J21: 2 | R21: 49 | S21: General_27 | T21: 15 | U21: Houston | V21: 6 | W21: 2 | X21: 7 | Y21: =T21*V21 -> 90 | Z21: =T21*W21 -> 30 | AA21: =T21*X21 -> 105
A22: W | C22: Lubricante_8(26 ton) | H22: Lubricante_4(26 ton) | J22: 5 | R22: 50 | S22: General_28 | T22: 23 | U22: Houston | V22: 6 | W22: -5 | X22: 56 | Y22: =T22*V22 -> 138 | Z22: =T22*W22 -> -115 | AA22: =T22*X22 -> 1288
J23: ESTRIBOR | R23: 51 | S23: General_29 | T23: 18 | U23: Houston | V23: 9 | W23: -2 | X23: 56 | Y23: =T23*V23 -> 162 | Z23: =T23*W23 -> -36 | AA23: =T23*X23 -> 1008
R24: 52 | S24: General_30 | T24: 19 | U24: Houston | V24: 6 | W24: -5 | X24: 56 | Y24: =T24*V24 -> 114 | Z24: =T24*W24 -> -95 | AA24: =T24*X24 -> 1064
C25: TIER 3 | D25: 9 MTS | R25: 53 | S25: General_31 | T25: 22 | U25: Houston | V25: 6 | W25: -5 | X25: 7 | Y25: =T25*V25 -> 132 | Z25: =T25*W25 -> -110 | AA25: =T25*X25 -> 154
A26: POPA | B26: A | C26: B | D26: C | E26: D | F26: E | G26: F | H26: G | I26: H | J26: BABOR | R26: 54 | S26: General_32 | T26: 19.727273 | U26: Houston | V26: 6 | W26: 2 | X26: 28 | Y26: =T26*V26 -> 118.36364 | Z26: =T26*W26 -> 39.454545 | AA26: =T26*X26 -> 552.36364
A27: X | J27: -5 | K27: PROA | R27: 55 | S27: Cobre_1 | T27: 40 | U27: Houston | V27: 3 | W27: 5 | X27: 56 | Y27: =T27*V27 -> 120 | Z27: =T27*W27 -> 200 | AA27: =T27*X27 -> 2240
A28: Y | B28: General_29 (18 ton) | J28: -2 | R28: 56 | S28: Cobre_2 | T28: 40 | U28: Houston | V28: 3 | W28: -2 | X28: 56 | Y28: =T28*V28 -> 120 | Z28: =T28*W28 -> -80 | AA28: =T28*X28 -> 2240
A29: Z | I29: General_22 (18 ton) | J29: 2 | R29: 57 | S29: Cobre_3 | T29: 40 | U29: Houston | V29: 3 | W29: -5 | X29: 56 | Y29: =T29*V29 -> 120 | Z29: =T29*W29 -> -200 | AA29: =T29*X29 -> 2240
A30: W | J30: 5 | R30: 58 | S30: Cobre_4 | T30: 40 | U30: Houston | V30: 3 | W30: 5 | X30: 49 | Y30: =T30*V30 -> 120 | Z30: =T30*W30 -> 200 | AA30: =T30*X30 -> 1960
J31: ESTRIBOR | R31: 59 | S31: Cobre_5 | T31: 40 | U31: Houston | V31: 3 | W31: 2 | X31: 49 | Y31: =T31*V31 -> 120 | Z31: =T31*W31 -> 80 | AA31: =T31*X31 -> 1960
R32: 60 | S32: Cobre_6 | T32: 40 | U32: Houston | V32: 3 | W32: -2 | X32: 49 | Y32: =T32*V32 -> 120 | Z32: =T32*W32 -> -80 | AA32: =T32*X32 -> 1960
C33: TIER 2 | D33: 6 MTS | R33: 61 | S33: Cobre_7 | T33: 40 | U33: Houston | V33: 3 | W33: -5 | X33: 49 | Y33: =T33*V33 -> 120 | Z33: =T33*W33 -> -200 | AA33: =T33*X33 -> 1960
A34: POPA | B34: A | C34: B | D34: C | E34: D | F34: E | G34: F | H34: G | I34: H | J34: BABOR | R34: 62 | S34: Cobre_8 | T34: 40 | U34: Houston | V34: 3 | W34: 5 | X34: 42 | Y34: =T34*V34 -> 120 | Z34: =T34*W34 -> 200 | AA34: =T34*X34 -> 1680
A35: X | B35: General_28 (23 ton) | G35: General_30 (19 ton) | I35: General_31 (22 ton) | J35: -5 | K35: PROA | R35: 63 | S35: Cobre_9 | T35: 40 | U35: Houston | V35: 3 | W35: 2 | X35: 42 | Y35: =T35*V35 -> 120 | Z35: =T35*W35 -> 80 | AA35: =T35*X35 -> 1680
A36: Y | B36: General_25(15 ton) | J36: -2 | R36: 64 | S36: Cobre_10 | T36: 40 | U36: Houston | V36: 3 | W36: -2 | X36: 42 | Y36: =T36*V36 -> 120 | Z36: =T36*W36 -> -80 | AA36: =T36*X36 -> 1680
A37: Z | F37: General_32(19,7372 ton) | I37: General_27 (15 ton) | J37: 2 | R37: 65 | S37: Cobre_11 | T37: 40 | U37: Houston | V37: 3 | W37: -5 | X37: 42 | Y37: =T37*V37 -> 120 | Z37: =T37*W37 -> -200 | AA37: =T37*X37 -> 1680
A38: W | B38: General_21 (21 ton) | D38: General_26 (19 ton) | H38: General_23(17 ton) | I38: General_24 (24 ton) | J38: 5 | R38: 66 | S38: Cobre_12 | T38: 40 | U38: Houston | V38: 3 | W38: 5 | X38: 35 | Y38: =T38*V38 -> 120 | Z38: =T38*W38 -> 200 | AA38: =T38*X38 -> 1400
J39: ESTRIBOR | R39: 67 | S39: Cobre_13 | T39: 40 | U39: Houston | V39: 3 | W39: 2 | X39: 35 | Y39: =T39*V39 -> 120 | Z39: =T39*W39 -> 80 | AA39: =T39*X39 -> 1400
R40: 68 | S40: Cobre_14 | T40: 40 | U40: Houston | V40: 3 | W40: -2 | X40: 35 | Y40: =T40*V40 -> 120 | Z40: =T40*W40 -> -80 | AA40: =T40*X40 -> 1400
...

Sheet Cartagena
C1: TIER 6 | D1: 19 MTS
A2: POPA | B2: A | C2: B | D2: C | E2: D | F2: E | G2: F | H2: G | I2: H | J2: BABOR | R2: distancia vertical | S2: distancia lateral
A3: X | J3: -5 | K3: PROA | P3: Peso | Q3: Destino | R3: D_Vert | S3: D_Lat | T3: D_Long | U3: M_V | V3: M_Lat | W3: M_Long
A4: Y | J4: -2 | O4: Pesos sumas | P4: =SUM(P5:P92) -> 5650.7273 | U4: =SUM(U5:U90) -> 5152.3636 | V4: =SUM(V5:V90) -> 244.45455 | W4: =SUM(W5:W90) -> 45317.364
A5: Z | J5: 2 | O5: Buque | P5: 4200 | R5: =U4/P4 -> 0.9118054
A6: W | J6: 5 | N6: Cont. | O6: Lastre | P6: =20 -> 20 | R6: 3 | U6: =P6*R6 -> 60
J7: ESTRIBOR | N7: 43 | O7: General_21 | P7: 21 | Q7: Houston | R7: 6 | S7: 5 | T7: 56 | U7: =P7*R7 -> 126 | V7: =P7*S7 -> 105 | W7: =P7*T7 -> 1176
N8: 44 | O8: General_22 | P8: 18 | Q8: Houston | R8: 9 | S8: 2 | T8: 7 | U8: =P8*R8 -> 162 | V8: =P8*S8 -> 36 | W8: =P8*T8 -> 126
C9: TIER 5 | D9: 16 MTS | N9: 45 | O9: General_23 | P9: 17 | Q9: Houston | R9: 6 | S9: 5 | T9: 14 | U9: =P9*R9 -> 102 | V9: =P9*S9 -> 85 | W9: =P9*T9 -> 238
A10: POPA | B10: A | C10: B | D10: C | E10: D | F10: E | G10: F | H10: G | I10: H | J10: BABOR | N10: 46 | O10: General_24 | P10: 24 | Q10: Houston | R10: 6 | S10: 5 | T10: 7 | U10: =P10*R10 -> 144 | V10: =P10*S10 -> 120 | W10: =P10*T10 -> 168
A11: X | J11: -5 | K11: PROA | N11: 47 | O11: General_25 | P11: 15 | Q11: Houston | R11: 6 | S11: -2 | T11: 56 | U11: =P11*R11 -> 90 | V11: =P11*S11 -> -30 | W11: =P11*T11 -> 840
A12: Y | J12: -2 | N12: 48 | O12: General_26 | P12: 19 | Q12: Houston | R12: 6 | S12: 5 | T12: 42 | U12: =P12*R12 -> 114 | V12: =P12*S12 -> 95 | W12: =P12*T12 -> 798
A13: Z | J13: 2 | N13: 49 | O13: General_27 | P13: 15 | Q13: Houston | R13: 6 | S13: 2 | T13: 7 | U13: =P13*R13 -> 90 | V13: =P13*S13 -> 30 | W13: =P13*T13 -> 105
A14: W | J14: 5 | N14: 50 | O14: General_28 | P14: 23 | Q14: Houston | R14: 6 | S14: -5 | T14: 56 | U14: =P14*R14 -> 138 | V14: =P14*S14 -> -115 | W14: =P14*T14 -> 1288
J15: ESTRIBOR | N15: 51 | O15: General_29 | P15: 18 | Q15: Houston | R15: 9 | S15: -2 | T15: 56 | U15: =P15*R15 -> 162 | V15: =P15*S15 -> -36 | W15: =P15*T15 -> 1008
N16: 52 | O16: General_30 | P16: 19 | Q16: Houston | R16: 6 | S16: -5 | T16: 56 | U16: =P16*R16 -> 114 | V16: =P16*S16 -> -95 | W16: =P16*T16 -> 1064
C17: TIER 4 | D17: 13 MTS | N17: 53 | O17: General_31 | P17: 22 | Q17: Houston | R17: 6 | S17: -5 | T17: 7 | U17: =P17*R17 -> 132 | V17: =P17*S17 -> -110 | W17: =P17*T17 -> 154
A18: POPA | B18: A | C18: B | D18: C | E18: D | F18: E | G18: F | H18: G | I18: H | J18: BABOR | N18: 54 | O18: General_32 | P18: 19.727273 | Q18: Houston | R18: 6 | S18: 2 | T18: 28 | U18: =P18*R18 -> 118.36364 | V18: =P18*S18 -> 39.454545 | W18: =P18*T18 -> 552.36364
A19: X | J19: -5 | K19: PROA | N19: 55 | O19: Cobre_1 | P19: 40 | Q19: Houston | R19: 3 | S19: 5 | T19: 56 | U19: =P19*R19 -> 120 | V19: =P19*S19 -> 200 | W19: =P19*T19 -> 2240
A20: Y | J20: -2 | N20: 56 | O20: Cobre_2 | P20: 40 | Q20: Houston | R20: 3 | S20: -2 | T20: 56 | U20: =P20*R20 -> 120 | V20: =P20*S20 -> -80 | W20: =P20*T20 -> 2240
A21: Z | J21: 2 | N21: 57 | O21: Cobre_3 | P21: 40 | Q21: Houston | R21: 3 | S21: -5 | T21: 56 | U21: =P21*R21 -> 120 | V21: =P21*S21 -> -200 | W21: =P21*T21 -> 2240
A22: W | J22: 5 | N22: 58 | O22: Cobre_4 | P22: 40 | Q22: Houston | R22: 3 | S22: 5 | T22: 49 | U22: =P22*R22 -> 120 | V22: =P22*S22 -> 200 | W22: =P22*T22 -> 1960
J23: ESTRIBOR | N23: 59 | O23: Cobre_5 | P23: 40 | Q23: Houston | R23: 3 | S23: 2 | T23: 49 | U23: =P23*R23 -> 120 | V23: =P23*S23 -> 80 | W23: =P23*T23 -> 1960
N24: 60 | O24: Cobre_6 | P24: 40 | Q24: Houston | R24: 3 | S24: -2 | T24: 49 | U24: =P24*R24 -> 120 | V24: =P24*S24 -> -80 | W24: =P24*T24 -> 1960
C25: TIER 3 | D25: 9 MTS | N25: 61 | O25: Cobre_7 | P25: 40 | Q25: Houston | R25: 3 | S25: -5 | T25: 49 | U25: =P25*R25 -> 120 | V25: =P25*S25 -> -200 | W25: =P25*T25 -> 1960
A26: POPA | B26: A | C26: B | D26: C | E26: D | F26: E | G26: F | H26: G | I26: H | J26: BABOR | N26: 62 | O26: Cobre_8 | P26: 40 | Q26: Houston | R26: 3 | S26: 5 | T26: 42 | U26: =P26*R26 -> 120 | V26: =P26*S26 -> 200 | W26: =P26*T26 -> 1680
A27: X | J27: -5 | K27: PROA | N27: 63 | O27: Cobre_9 | P27: 40 | Q27: Houston | R27: 3 | S27: 2 | T27: 42 | U27: =P27*R27 -> 120 | V27: =P27*S27 -> 80 | W27: =P27*T27 -> 1680
A28: Y | B28: General_29 (18 ton) | J28: -2 | N28: 64 | O28: Cobre_10 | P28: 40 | Q28: Houston | R28: 3 | S28: -2 | T28: 42 | U28: =P28*R28 -> 120 | V28: =P28*S28 -> -80 | W28: =P28*T28 -> 1680
A29: Z | I29: General_22 (18 ton) | J29: 2 | N29: 65 | O29: Cobre_11 | P29: 40 | Q29: Houston | R29: 3 | S29: -5 | T29: 42 | U29: =P29*R29 -> 120 | V29: =P29*S29 -> -200 | W29: =P29*T29 -> 1680
A30: W | J30: 5 | N30: 66 | O30: Cobre_12 | P30: 40 | Q30: Houston | R30: 3 | S30: 5 | T30: 35 | U30: =P30*R30 -> 120 | V30: =P30*S30 -> 200 | W30: =P30*T30 -> 1400
J31: ESTRIBOR | N31: 67 | O31: Cobre_13 | P31: 40 | Q31: Houston | R31: 3 | S31: 2 | T31: 35 | U31: =P31*R31 -> 120 | V31: =P31*S31 -> 80 | W31: =P31*T31 -> 1400
N32: 68 | O32: Cobre_14 | P32: 40 | Q32: Houston | R32: 3 | S32: -2 | T32: 35 | U32: =P32*R32 -> 120 | V32: =P32*S32 -> -80 | W32: =P32*T32 -> 1400
C33: TIER 2 | D33: 6 MTS | N33: 69 | O33: Cobre_15 | P33: 40 | Q33: Houston | R33: 3 | S33: -2 | T33: 35 | U33: =P33*R33 -> 120 | V33: =P33*S33 -> -80 | W33: =P33*T33 -> 1400
A34: POPA | B34: A | C34: B | D34: C | E34: D | F34: E | G34: F | H34: G | I34: H | J34: BABOR | N34: 70 | O34: Cobre_16 | P34: 40 | Q34: Houston | R34: 3 | S34: 5 | T34: 28 | U34: =P34*R34 -> 120 | V34: =P34*S34 -> 200 | W34: =P34*T34 -> 1120
A35: X | B35: General_28 (23 ton) | G35: General_30 (19 ton) | I35: General_31 (22 ton) | J35: -5 | K35: PROA | N35: 71 | O35: Cobre_17 | P35: 40 | Q35: Houston | R35: 3 | S35: 2 | T35: 28 | U35: =P35*R35 -> 120 | V35: =P35*S35 -> 80 | W35: =P35*T35 -> 1120
A36: Y | B36: General_25(15 ton) | J36: -2 | N36: 72 | O36: Cobre_18 | P36: 40 | Q36: Houston | R36: 3 | S36: -2 | T36: 28 | U36: =P36*R36 -> 120 | V36: =P36*S36 -> -80 | W36: =P36*T36 -> 1120
A37: Z | F37: General_32(19,7372 ton) | I37: General_27 (15 ton) | J37: 2 | N37: 73 | O37: Cobre_19 | P37: 40 | Q37: Houston | R37: 3 | S37: -5 | T37: 28 | U37: =P37*R37 -> 120 | V37: =P37*S37 -> -200 | W37: =P37*T37 -> 1120
A38: W | B38: General_21 (21 ton) | D38: General_26 (19 ton) | H38: General_23(17 ton) | I38: General_24 (24 ton) | J38: 5 | N38: 74 | O38: Cobre_20 | P38: 40 | Q38: Houston | R38: 3 | S38: 5 | T38: 21 | U38: =P38*R38 -> 120 | V38: =P38*S38 -> 200 | W38: =P38*T38 -> 840
J39: ESTRIBOR | N39: 75 | O39: Cobre_21 | P39: 40 | Q39: Houston | R39: 3 | S39: 2 | T39: 21 | U39: =P39*R39 -> 120 | V39: =P39*S39 -> 80 | W39: =P39*T39 -> 840
N40: 76 | O40: Cobre_22 | P40: 40 | Q40: Houston | R40: 3 | S40: -2 | T40: 21 | U40: =P40*R40 -> 120 | V40: =P40*S40 -> -80 | W40: =P40*T40 -> 840
...

Sheet Houston
C1: TIER 6 | D1: 19 MTS
A2: POPA | B2: A | C2: B | D2: C | E2: D | F2: E | G2: F | H2: G | I2: H | J2: BABOR
A3: X | J3: -5 | K3: PROA | P3: distancia vertical | Q3: distancia lateral
A4: Y | J4: -2 | N4: Peso | O4: Destino | P4: D_Vert | Q4: D_Lat | R4: D_Long | S4: M_V | T4: M_Lat | U4: M_Long
A5: Z | J5: 2 | M5: Pesos sumas | N5: =SUM(U5:U92) -> 0 | S5: =SUM(Z5:Z90) -> 0 | T5: =SUM(AA5:AA90) -> 0 | U5: =SUM(AB5:AB90) -> 0
A6: W | J6: 5 | M6: Buque | N6: 4200 | P6: =S5/N5 -> #DIV/0!
J7: ESTRIBOR | L7: Cont. | M7: Lastre | N7: =20 -> 20 | P7: 3 | S7: =N7*P7 -> 60
C9: TIER 5 | D9: 16 MTS
A10: POPA | B10: A | C10: B | D10: C | E10: D | F10: E | G10: F | H10: G | I10: H | J10: BABOR
A11: X | J11: -5 | K11: PROA
A12: Y | J12: -2
A13: Z | J13: 2
A14: W | J14: 5
J15: ESTRIBOR
C17: TIER 4 | D17: 13 MTS
A18: POPA | B18: A | C18: B | D18: C | E18: D | F18: E | G18: F | H18: G | I18: H | J18: BABOR
A19: X | J19: -5 | K19: PROA
A20: Y | J20: -2
A21: Z | J21: 2
A22: W | J22: 5
J23: ESTRIBOR
C25: TIER 3 | D25: 9 MTS
A26: POPA | B26: A | C26: B | D26: C | E26: D | F26: E | G26: F | H26: G | I26: H | J26: BABOR
A27: X | J27: -5 | K27: PROA
A28: Y | J28: -2
A29: Z | J29: 2
A30: W | J30: 5
J31: ESTRIBOR
C33: TIER 2 | D33: 6 MTS
A34: POPA | B34: A | C34: B | D34: C | E34: D | F34: E | G34: F | H34: G | I34: H | J34: BABOR
A35: X | J35: -5 | K35: PROA
A36: Y | J36: -2
A37: Z | J37: 2
A38: W | J38: 5
J39: ESTRIBOR
C41: TIER 1 | D41: 3 MTS
A42: POPA | B42: A | C42: B | D42: C | E42: D | F42: E | G42: F | H42: G | I42: H | J42: BABOR
A43: X | J43: -5 | K43: PROA
A44: Y | J44: -2
A45: Z | J45: 2
...
