Workbook

Sheet actividad 1
B2: EJERCICIO 1
C4: EVALUACIÓN 1 | D4: EVALUACIÓN 2 | E4: EVALUACIÓN 3 | F4: EVALUACIÓN 4 | G4: PROMEDIO | I4: Preguntas a responder
B5: ALUMNO 1 | C5: 6.7 | D5: 8 | E5: 9 | F5: 9 | G5: =AVERAGE(C5:F5) -> 8.175 | I5: 1.- | J5: Promedio de cada alumno
B6: ALUMNO 2 | C6: 5 | D6: 6.5 | E6: 6.5 | F6: 8 | G6: =AVERAGE(C6:F6) -> 6.5 | I6: 2.- | J6: Nota promedio de cada evaluación
B7: ALUMNO 3 | C7: 5.8 | D7: 7 | E7: 8 | F7: 6 | G7: =AVERAGE(C7:F7) -> 6.7 | I7: 3.- | J7: Nota más alta de cada evaluación
B8: ALUMNO 4 | C8: 4.5 | D8: 5 | E8: 5.9 | F8: 4 | G8: =AVERAGE(C8:F8) -> 4.85 | I8: 4.- | J8: Nota más baja de cada evaluación
B9: ALUMNO 5 | C9: 6.3 | D9: 6.5 | E9: 6.9 | F9: 3.5 | G9: =AVERAGE(C9:F9) -> 5.8 | I9: 6.- | J9: Determinar la nota más baja de todas las evaluaciones
B10: ALUMNO 6 | C10: 4.5 | D10: 3.2 | E10: 5.9 | F10: 8.2 | G10: =AVERAGE(C10:F10) -> 5.45 | I10: 7.- | J10: Contar número de notas en las 4 evaluaciones
B11: ALUMNO 7 | C11: 6 | D11: 5 | E11: 5.9 | F11: 5.4 | G11: =AVERAGE(C11:F11) -> 5.575 | I11: 7.- | J11: Contar número de notas mayores o iguales a 6,0 en cada evaluación
B12: PROMEDIO POR EVALUACIÓN | C12: =AVERAGE(C5:C11) -> 5.5428571 | D12: =AVERAGE(D5:D11) -> 5.8857143 | E12: =AVERAGE(E5:E11) -> 6.8714286 | F12: =AVERAGE(F5:F11) -> 6.3 | G12: =AVERAGE(G5:G11) -> 6.15 | I12: 5.- | J12: Porcentaje de Notas mayores o iguaales a 6,0 en cada evaluación.
B13: NOTA MÁS ALTA | C13: =MAX(C5:C11) -> 6.7 | D13: =MAX(D5:D11) -> 8 | E13: =MAX(E5:E11) -> 9 | F13: =MAX(F5:F11) -> 9 | G13: =MAX(G5:G11) -> 8.175
B14: NOTA MÁS BAJA | C14: =MIN(C5:C11) -> 4.5 | D14: =MIN(D5:D11) -> 3.2 | E14: =MIN(E5:E11) -> 5.9 | F14: =MIN(F5:F11) -> 3.5 | G14: =MIN(G5:G11) -> 4.85
B15: NOTA MÁS BAJA DE TODAS | C15: =MIN(C14:F14) -> 3.2
B16: CANTIDAD DE NOTAS | C16: =COUNT(C5:C11) -> 7 | D16: =COUNT(D5:D11) -> 7 | E16: =COUNT(E5:E11) -> 7 | F16: =COUNT(F5:F11) -> 7 | G16: =COUNT(G5:G11) -> 7
B17: CANTIDAD DE NOTAS >= 6,0 | C17: =COUNTIF(C5:C11,">=6") -> 3 | D17: =COUNTIF(D5:D11,">=6") -> 4 | E17: =COUNTIF(E5:E11,">=6") -> 4 | F17: =COUNTIF(F5:F11,">=6") -> 4 | G17: =COUNTIF(G5:G11,">=6") -> 3
B18: PORCENTAJE DE NOTAS >=6,0 | C18: =C17/C16 -> 0.42857143 | D18: =D17/D16 -> 0.57142857 | E18: =E17/E16 -> 0.57142857 | F18: =F17/F16 -> 0.57142857 | G18: =G17/G16 -> 0.42857143

Sheet actividad 2
B2: EJERCICIO 2
C4: 0.15 | D4: 0.25 | E4: 0.25 | F4: 0.35 | I4: Preguntas a responder
C5: EVALUACIÓN 1 | D5: EVALUACIÓN 2 | E5: EVALUACIÓN 3 | F5: EVALUACIÓN 4 | G5: PROMEDIO PONDERADO | I5: 1.- | J5: Promedio ponderado de cada alumno
B6: ALUMNO 1 | C6: 6.7 | D6: 8 | E6: 9 | F6: 9 | G6: =C6*$C$4+D6*$D$4+E6*$E$4+F6*$F$4 -> 8.405 | I6: 2.- | J6: Nota promedio de cada evaluación
B7: ALUMNO 2 | C7: 5 | D7: 6.5 | E7: 6.5 | F7: 8 | G7: =C7*$C$4+D7*$D$4+E7*$E$4+F7*$F$4 -> 6.8 | I7: 3.- | J7: Nota más alta de cada evaluación
B8: ALUMNO 3 | C8: 5.8 | D8: 7 | E8: 8 | F8: 6 | G8: =C8*$C$4+D8*$D$4+E8*$E$4+F8*$F$4 -> 6.72 | I8: 4.- | J8: Nota más baja de cada evaluación
B9: ALUMNO 4 | C9: 4.5 | D9: 5 | E9: 5.9 | F9: 4 | G9: =C9*$C$4+D9*$D$4+E9*$E$4+F9*$F$4 -> 4.8 | I9: 6.- | J9: Determinar la nota más baja de todas las evaluaciones
B10: ALUMNO 5 | C10: 6.3 | D10: 6.5 | E10: 6.9 | F10: 3.5 | G10: =C10*$C$4+D10*$D$4+E10*$E$4+F10*$F$4 -> 5.52 | I10: 7.- | J10: Contar número de notas en las 4 evaluaciones
B11: ALUMNO 6 | C11: 4.5 | D11: 3.2 | E11: 5.9 | F11: 8.2 | G11: =C11*$C$4+D11*$D$4+E11*$E$4+F11*$F$4 -> 5.82 | I11: 7.- | J11: Contar número de notas MENORES a 6 en cada evaluación
B12: ALUMNO 7 | C12: 6 | D12: 5 | E12: 5.9 | F12: 5.4 | G12: =C12*$C$4+D12*$D$4+E12*$E$4+F12*$F$4 -> 5.515 | I12: 5.- | J12: Porcentaje de Notas MENORES a 6,0 en cada evaluación.
B13: PROMEDIO POR EVALUACIÓN | C13: =AVERAGE(C6:C12) -> 5.5428571 | D13: =AVERAGE(D6:D12) -> 5.8857143 | E13: =AVERAGE(E6:E12) -> 6.8714286 | F13: =AVERAGE(F6:F12) -> 6.3 | G13: =AVERAGE(G6:G12) -> 6.2257143
B14: NOTA MÁS ALTA | C14: =MAX(C6:C12) -> 6.7 | D14: =MAX(D6:D12) -> 8 | E14: =MAX(E6:E12) -> 9 | F14: =MAX(F6:F12) -> 9 | G14: =MAX(G6:G12) -> 8.405
B15: NOTA MÁS BAJA | C15: =MIN(C6:C12) -> 4.5 | D15: =MIN(D6:D12) -> 3.2 | E15: =MIN(E6:E12) -> 5.9 | F15: =MIN(F6:F12) -> 3.5 | G15: =MIN(G6:G12) -> 4.8
B16: NOTA MÁS BAJA DE TODAS | C16: =MIN(C15:F15) -> 3.2
B17: CANTIDAD DE NOTAS | C17: =COUNT(C6:C12) -> 7 | D17: =COUNT(D6:D12) -> 7 | E17: =COUNT(E6:E12) -> 7 | F17: =COUNT(F6:F12) -> 7 | G17: =COUNT(G6:G12) -> 7
B18: CANTIDAD DE NOTAS < 6,0 | C18: =COUNTIF('actividad 2'!C6:C12,"<6") -> 4 | D18: =COUNTIF('actividad 2'!D6:D12,"<6") -> 3 | E18: =COUNTIF('actividad 2'!E6:E12,"<6") -> 3 | F18: =COUNTIF('actividad 2'!F6:F12,"<6") -> 3 | G18: =COUNTIF('actividad 2'!G6:G12,"<6") -> 4
B19: PORCENTAJE DE NOTAS < 6,0 | C19: =C18/C17 -> 0.57142857 | D19: =D18/D17 -> 0.42857143 | E19: =E18/E17 -> 0.42857143 | F19: =F18/F17 -> 0.42857143 | G19: =G18/G17 -> 0.57142857
