Workbook

Sheet AHRROS
A2: LUGAR | B2: CANTIDAD INICIAL
A3: Deuda lucía | B3: ='MAY26'!G64 -> 646463.5
A4: Efectivo MAJOR | B4: =-1*'MAY26'!G13 -> 842744 | H4: lo que sobre a fm estudio
A5: Fondos mutuos MAJORS (CTA. 02) | B5: =4907433 -> 4907433 | L5: invertido | M5: Diferencia
A6: acciones cruzados | B6: =D6*F6 -> 1111800 | C6: cant. Acc. | D6: 21800 | E6: precio accion | F6: 51 | I6: precio compra | J6: 205 | L6: =J6*D6 -> 4469000 | M6: =B6-L6 -> -3357200
A7: fondo mutuo CASA (cta 01) | B7: =44301096 -> 44301096
A8: AHORROS RAUL | B8: =SUM(B3:B7) -> 51809536
A9: FONDO MUTUO colegio agus (cta 00) | B9: 5636408
A11: TOTAL | B11: =B8+SUM(B9:B10) -> 57445944

Sheet DEPA 
B1: en $ | C1: EN UF | D1: en % | G1: purificador mama | K1: Cuota | L1: Fecha Venc. | M1: Valor | N1: Pagado | O1: Por Pagar
A2: VALOR UF al día (18/9/19) | B2: 28162.42 | G2: Total | H2: =M14 -> 332292 | K2: 1 | L2: 44286 | M2: 27691 | N2: 27691 | O2: =M2-N2 -> 0
A3: VALOR UF al pago PIE | B3: 26669.22 | G3: Pagado | H3: =N14 -> 304601 | K3: 2 | L3: 44316 | M3: 27691 | N3: =1351+26340 -> 27691 | O3: =M3-N3 -> 0
A4: VALOR UF al pago PIE EXTRA1 | B4: 27953.42 | K4: 3 | L4: 44347 | M4: 27691 | N4: =1660+26031 -> 27691 | O4: =M4-N4 -> 0
A5: VALOR UF al pago PIE EXTRA2 | B5: 28162.42 | G5: Por Pagar | H5: =H2-H3 -> 27691 | K5: 4 | L5: 44377 | M5: 27691 | N5: 27691 | O5: =M5-N5 -> 0
A6: VALOR TOTAL | B6: =C6*B2 -> 1.3500726e+08 | C6: 4793.88 | D6: 1 | K6: 5 | L6: 44408 | M6: 27691 | N6: =485+27206 -> 27691 | O6: =M6-N6 -> 0
G7: Cant. Cuotas | H7: 12 | K7: 6 | L7: 44439 | M7: 27691 | N7: 27691 | O7: =M7-N7 -> 0
A8: RESERVA | B8: 500000 | C8: =B8/B3 -> 18.748205 | D8: =C8/C6 -> 0.0039108624 | G8: Cuotas | H8: =H2/H7 -> 27691 | K8: 7 | L8: 44469 | M8: 27691 | N8: =1209+26482 -> 27691 | O8: =M8-N8 -> 0
A9: PIE (20% INMOBILIARIA) | B9: =C9*B3 -> 25069915 | C9: =C10-C8 -> 940.0318 | D9: =C9/C6 -> 0.19608997 | K9: 8 | L9: 44500 | M9: 27691 | N9: =7914+19777 -> 27691 | O9: =M9-N9 -> 0
A10: TOTAL PIE (20%) | B10: =SUM(B8:B9) -> 25569915 | C10: 958.78 | D10: =C10/C6 -> 0.20000083 | H10: =56239-H5 -> 28548 | K10: 9 | L10: 44530 | M10: 27691 | N10: =8223+19468 -> 27691 | O10: =M10-N10 -> 0
A11: PIE EXTRA PAGADO 2 | B11: =3000000 -> 3000000 | C11: =B11/B5 -> 106.52494 | D11: =C11/C6 -> 0.022221027 | K11: 10 | L11: 44561 | M11: 27691 | N11: =8509+19182 -> 27691 | O11: =M11-N11 -> 0
A12: PIE EXTRA PAGADO 1 | B12: 13486000 | C12: =B12/B4 -> 482.44544 | D12: =C12/C6 -> 0.10063778 | K12: 11 | L12: 44592 | M12: 27691 | N12: =8818+18873 -> 27691 | O12: =M12-N12 -> 0
A13: CREDITO HIPOTECARIO | B13: =C13*B2 -> 91418866 | C13: =C6-C10-C11-C12 -> 3246.1296 | D13: =C13/C6 -> 0.67714036 | K13: 12 | L13: 44620 | M13: 27691 | O13: =M13-N13 -> 27691
K14: Total | M14: =SUM(M2:M13) -> 332292 | N14: =SUM(N2:N13) -> 304601
A15: Costo UF | B15: =C6 -> 4793.88 | D15: =SUM(C10:C12) -> 1547.7504
A16: Pie pagado | B16: =C12+C10+C11 -> 1547.7504
A17: Cantidad a pedir | B17: =B15-B16 -> 3246.1296 | I17: =113201-H5 -> 85510
A19: TASA INTERÉS ANUAL REAL | B19: 2.68 | M19: =85216-H5 -> 57525
A20: n CUOTAS | B20: 300
A21: VP CREDITO (CRED. +GASTO OP)
A23: GASTOS OPERACIONALES | B23: 784000 | C23: OK
A24: FONDOS DE ADMINISTRACIÓN | B24: 141691 | C24: OK
A25: HONORARIOS NOTARIA | B25: 113500 | C25: OK
A26: IMPUESTO NOTARIA | B26: 184017 | C26: OK
A28: TOTAL IMPO+OP+GASTO COM. | B28: =SUM(B23:B27) -> 1223208

Sheet Deudas
H1: Año actual | I1: 2026 | N1: Ahorros | O1: 85000000 | R1: Gastos mensuales casa | T1: =2500000 -> 2500000
I2: i | J2: 0.03 | K2: 0.05 | N2: Deuda universidad 1 | S2: dividendo | T2: 600000
A3: deuda univ | B3: 5077000 | G3: Tipo | H3: Deuda | I3: año | J3: valor actual | N3: arencel universidad | O3: =K19 -> 30372380 | T3: =T1-T2 -> 1900000
G4: univ mama lu | H4: 5077000 | I4: 2014 | J4: =$H4*POWER((1+J$2),$I$1-$I4) -> 7238588 | K4: =$H4*POWER((1+K$2),$I$1-$I4) -> 9117562.6 | N4: Magister | O4: 2500000
G5: arancel | H5: 4000000 | I5: 2015 | J5: =$H5*POWER((1+J$2),$I$1-$I5) -> 5536935.5 | K5: =$H5*POWER((1+K$2),$I$1-$I5) -> 6841357.4 | N5: gastos anuales (2 años) | O5: =2*T9 -> 22800000
A6: deuda total | B6: =SUM(B3:B4) -> 5077000 | G6: aranceñ | H6: 4000000 | I6: 2016 | J6: =$H6*POWER((1+J$2),$I$1-$I6) -> 5375665.5 | K6: =$H6*POWER((1+K$2),$I$1-$I6) -> 6515578.5 | N6: Remanente | O6: =O1-SUM(O2:O5) -> 29327620
G7: arancel | H7: 4000000 | I7: 2017 | J7: =$H7*POWER((1+J$2),$I$1-$I7) -> 5219092.7 | K7: =$H7*POWER((1+K$2),$I$1-$I7) -> 6205312.9
G8: unap | I8: 2014 | J8: =$H8*POWER((1+J$2),$I$1-$I8) -> 0 | K8: =$H8*POWER((1+K$2),$I$1-$I8) -> 0 | N8: Majors | S8: Gasto mensual | T8: =(T3+T4+T5+T6)/2 -> 950000
I9: Toatl | J9: =SUM(J4:J8) -> 23370282 | K9: =SUM(K4:K8) -> 28679811 | N9: BOSTON | O9: 1750861 | S9: Gasto anual | T9: =T8*12 -> 11400000
N10: CHICAGO | O10: 1593881
N11: LONDRES | O11: 4014046
E12: Usando UF | G12: AÑO | H12: Valor UF | I12: UF | J12: Valor actual UF | K12: Total | N12: BERLIN | O12: 2484715.4
A13: INFLACION | B13: 0.03 | E13: univ mama lu | F13: 5077000 | G13: 2014 | H13: 23700 | I13: =F13/H13 -> 214.21941 | J13: 39784 | K13: =I13*J13 -> 8522505
A14: PERIODOS | B14: =2025-2012 -> 13 | E14: arancel | F14: 4000000 | G14: 2015 | H14: 24910 | I14: =F14/H14 -> 160.57808 | J14: 39784 | K14: =I14*J14 -> 6388438.4 | N14: A depositar | O14: =O6+SUM(O9:O12) -> 39171123
A15: AL 2025 (3% INFLACION) | B15: =B6*POWER(1+B13,B14) -> 7455745.7 | E15: aranceñ | F15: 4000000 | G15: 2016 | H15: 25919 | I15: =F15/H15 -> 154.32694 | J15: 39784 | K15: =I15*J15 -> 6139743
E16: arancel | F16: 4000000 | G16: 2017 | H16: 26681 | I16: =F16/H16 -> 149.91942 | J16: 39784 | K16: =I16*J16 -> 5964394.1 | N16: Cobro de arriendo | O16: 300 mil mensual
E17: unap | F17: 2000000 | G17: 2014 | H17: 23700 | I17: =F17/H17 -> 84.388186 | J17: 39784 | K17: =I17*J17 -> 3357299.6
N18: depa | O18: Propietario Raul | P18: Juez y custodia (gastos abogado) y lo quito en cuanto pueda, se resta valor de arriendo a pension - Nest (nos movemos) - Me quedo
J19: Total deuda | K19: =SUM(K13:K17) -> 30372380 | N19: auto | O19: a medias (vender)
N21: Agus | O21: Dgo PM a Jueves AM quedarse aca (lucia ausente) - FDS con mama, dia de semana salgo temprano y no viajo
N23: gastos compartidos 50/50 | O23: lucia tiene mayor ingreso (ojo)
N24: colegiatura | O24: (pago en diciembre mitad y mitad
O25: resto de los gastos como utiles, uniformes, intercambios, todo con boleta mitad y mitad

Sheet MAR25
B1: Presupuesto | C1: Gastado | D1: Queda | F1: cta cte internet | G1: 3465871 | L1: Cuentas Mamá | O1: prox mes
B2: 2680855 | C2: 2680855 | F2: mama | G2: =M12 -> 153760 | L2: agua | M2: 12450
A3: Supermercado | B3: 195000 | C3: =72886+1565+22209+28864-4194+23972+30360+19338 -> 195000 | D3: =B3-C3 -> 0 | E3: 190000 | F3: Prox mes | G3: =P11 -> 6159 | L3: tag | M3: =6927 -> 6927
A4: DIVIDENDO | B4: 632697 | C4: 632697 | D4: =B4-C4 -> 0 | E4: 62 DE 300 | F4: ANID | G4: =-425380+40000+8307+30000+15000+44327+7515+35000 -> -245231 | L4: luz | M4: ok | O4: vitamina c | P4: 6159
A5: luz | B5: 30400 | C5: 30400 | D5: =B5-C5 -> 0 | F5: prox mes | G5: -2654575 | L5: GGCC | M5: ok
A6: agua | B6: 9510 | C6: 9510 | D6: =B6-C6 -> 0 | F6: Ahorro Major | G6: =-50295-10000+12428 -> -47867 | L6: entrenamiento | M6: ok
A7: GG.CC + agua caliente | B7: 184463 | C7: 184463 | D7: =B7-C7 -> 0 | F7: deudores | G7: =M22 -> 126076 | L7: tag ruta maipo | M7: ok
A8: seguro | B8: 76870 | C8: 76870 | D8: =B8-C8 -> 0 | F8: Dev. Impuesto (zapatiila) | G8: =127994 -> 127994 | I8: cont 2 papa | J8: 134383 | L8: vit C | M8: ok
A9: regalos | B9: 25000 | C9: =6290+14540+4170 -> 25000 | D9: =B9-C9 -> 0 | F9: Efectivo | G9: 24000 | L9: contribuciones 1 de 2 | M9: 134383
A10: Agustina | B10: 80000 | C10: =62913+16191+896 -> 80000 | D10: =B10-C10 -> 0 | F10: Efectivo Lu | G10: 0
A11: Colegio Agus (ahorro) | B11: 120000 | C11: 120000 | D11: =B11-C11 -> 0 | E11: normal 120000 | O11: Total | P11: =SUM(P2:P10) -> 6159
A12: cuota curso agus | B12: 30000 | C12: 30000 | D12: =B12-C12 -> 0 | E12: 30mil semestral 01 OK | F12: ahorro (contribuciones) | G12: =3536-27500-27500-27500-27500-28000-28000-28000+176332 -> -14132 | H12: 2/4 ok | I12: deber ser | J12: 176332 | L12: Total | M12: =SUM(M2:M10) -> 153760
A13: Teléfono | B13: 15988 | C13: 15988 | D13: =B13-C13 -> 0 | F13: ahorro (vacas o depa) | G13: =-3919255+67200+3000000 -> -852055 | O13: total giftcard | P13: 470400 | Q13: METODO COMPRADO | R13: REGALO
A14: Feria | B14: 25000 | C14: =4779+8142+1000+11079 -> 25000 | D14: =B14-C14 -> 0 | F14: ahorro (colegio agus) | G14: 0 | L14: Deudor | M14: Monto | O14: RAUL | P14: ok | Q14: EFECTIVO (DEV. FIESTA) | R14: ZAPATILLA
A15: Furgon Agus | B15: 100000 | C15: 100000 | D15: =B15-C15 -> 0 | F15: ahorro (ferIen agus) | G15: =0 -> 0 | O15: LUCIA
A16: Credito LU | B16: 99383 | C16: 99383 | D16: =B16-C16 -> 0 | F16: Ahorro mantención auto | G16: =-30000-30000-30000 -> -90000 | L16: lu (U) | M16: =(33105+690)*2/3 -> 22530 | O16: AGUS | R16: puzzle
A17: frenillos agus | B17: 25000 | C17: =4279+5490+15231 -> 25000 | D17: =B17-C17 -> 0 | F17: Real | G17: =SUM(G1:G16) -> 0 | L17: andres aranguiz | M17: 26390 | O17: PAPA | P17: =44990 -> 44990 | Q17: giftcard | R17: poleron north face
A18: Ahorro mantencion auto | B18: 30000 | C18: 30000 | D18: =B18-C18 -> 0 | E18: normal 30000 | F18: Ideal | L18: U Lu | M18: =43856+33300 -> 77156 | O18: MAMA | P18: 31990 | Q18: giftcard | R18: sandalia
A19: Ahorro major - casa | B19: 100000 | C19: 100000 | D19: =B19-C19 -> 0 | E19: normal 150000 | F19: cta cte. | G19: liquido | H19: total | J19: =H20-G17 -> 0 | O19: GIO | P19: =44990 -> 44990 | Q19: giftcard | R19: poleron north face
A20: TAG | B20: 40000 | C20: =2493+704+36803 -> 40000 | D20: =B20-C20 -> 0 | F20: =SUM(D3:D35)+B37 -> 0 | G20: 0 | H20: =F20+G20 -> 0 | O20: NINON | P20: 24990 | Q20: giftcard | R20: vestido
A21: nutri-kine | B21: =50000 -> 50000 | C21: =15000+35000 -> 50000 | D21: =B21-C21 -> 0 | O21: FIORELLA | P21: =34990/2 -> 17495 | Q21: giftcard | R21: cocina
A22: Uniforme y utiles agus | B22: 0 | D22: =B22-C22 -> 0 | L22: Total | M22: =SUM(M15:M20) -> 126076 | O22: SUPER | P22: 31990 | Q22: giftcard | R22: sandalia
A23: viajes Y paseos | B23: 80000 | C23: 80000 | D23: =B23-C23 -> 0 | I23: para usar | J23: =G17-D4-D5-D6-D7-D12-D29-D8-D11-D13-D17-D20-D22-D24-D28-D30-D14-D21-D19-D16-D18 -> 0 | O23: LUCHITO | P23: =44990 -> 44990 | Q23: giftcard | R23: poleron north face
A24: entrenamiento raul y agus | B24: 35000 | C24: 35000 | D24: =B24-C24 -> 0 | O24: CARITO | P24: =95970/3 -> 31990 | Q24: giftcard | R24: sandalia
A25: Lucia | B25: 80000 | C25: =53980-5517+10340+21197 -> 80000 | D25: =B25-C25 -> 0 | F25: ahorro colegio agus | G25: =SUM(G26:G28) -> 5636408 | O25: CRIS | P25: 7990 | Q25: giftcard | R25: gorro
A26: raul | B26: 80000 | C26: =25567+2000+9772+700+28767+2000+11194 -> 80000 | D26: =B26-C26 -> 0 | F26: en cta cte | G26: =G14*-1 -> 0 | I26: meses por pagar | J26: =ROUNDUP(12-(G25/'Colegio Agus'!K7),0) -> 12 | O26: MAX | P26: 24190 | Q26: giftcard | R26: juego nintendo
A27: lavado auto | B27: 8000 | C27: =4000+4000 -> 8000 | D27: =B27-C27 -> 0 | E27: 8400 | F27: en cta ahorro | G27: =AHRROS!B9 -> 5636408 | I27: falta | J27: ='Colegio Agus'!K7-G25 -> 602221.37 | O27: DOMI | P27: =34990/2 -> 17495 | Q27: giftcard | R27: cocina
A28: Bencina | B28: 140000 | C28: =48038+1962+45000+22150+9700+13150 -> 140000 | D28: =B28-C28 -> 0 | E28: 140000 | F28: en cuenta lu | G28: 0 | I28: cuotas | J28: 10 | K28: feb-nov | O28: TRINI
A29: VACACIONES (ene) /per circ (marzo) | B29: 158619 | C29: 158619 | D29: =B29-C29 -> 0 | E29: 2 de 2 | I29: monto cuota | J29: =J27/J28 -> 60222.137 | O29: lu cumple
A30: ahorro feren agus | B30: 11700 | C30: 11700 | D30: =B30-C30 -> 0 | E30: normal 8000 | O30: falda agus | P30: 21990 | Q30: giftcard
A31: AHORRO CONTRIBUCIONES | B31: 28000 | C31: 28000 | D31: =B31-C31 -> 0 | E31: debe ser 28000 | O31: cumple cris
A32: rev tecniva | D32: =B32-C32 -> 0 | E32: normal 22000 en julio-agosto 2026 | O32: FLO
A33: Netflix gio (01 año- ultimo agosto) | B33: 0 | D33: =B33-C33 -> 0 | E33: 2620 mensual (32000 anual) | O33: cumple fiorella
A34: carga metro - movilizacion | B34: 0 | D34: =B34-C34 -> 0 | E34: Normal 10000 | O34: cumple mama
A35: extras | B35: 190225 | C35: =19300+20058+2970+4490+17985+1800+16970+5500+16500+990+39990+7990+34294-21580-7990+30733+225 -> 190225 | D35: =B35-C35 -> 0 | H35: lo q sobra a ahorro | O35: Total | P35: =SUM(P14:P33) -> 345090
A36: Total gastos | B36: =SUM(B3:B35) -> 2680855 | C36: =SUM(C3:C35) -> 2680855
A37: Remanente | B37: =B2-B36 -> 0 | C37: =C2-C36 -> 0 | J37: =2752586 -> 2752586
D38: =SUM(D3:D35) -> 0 | J38: =574857 -> 574857 | O38: GASTADO CON GIFTCARD
J39: =J37-J38 -> 2177729
O50: TOTAL USADO | P50: =SUM(P14:P33) -> 345090
...

Sheet JUL25
B1: Presupuesto | C1: Gastado | D1: Queda | F1: cta cte internet | G1: 486282 | L1: Cuentas Mamá | O1: prox mes
B2: 2648345 | C2: 2648345 | F2: mama | G2: =M12 -> 36042 | L2: agua | M2: 9840 | O2: lucia | P2: 150000
A3: Supermercado | B3: 200000 | C3: =52182+30445+4894+20620+2185+16777+2000+23400+7101+30396+1066+8934 -> 200000 | D3: =B3-C3 -> 0 | E3: 190000 | F3: Prox mes | G3: =P11 -> 321429 | L3: tag | M3: 8663 | O3: geles raul | P3: 44700 | Q3: faltan los isotonic
A4: DIVIDENDO | B4: 639119 | C4: 639119 | D4: =B4-C4 -> 0 | E4: 66 DE 300 | F4: ANID | G4: =30000+25000-206000+21500 -> -129500 | H4: (21500 cada ida) | L4: luz | M4: OK | O4: beta raul | P4: 16239
A5: luz | B5: 30100 | C5: 30100 | D5: =B5-C5 -> 0 | L5: GGCC | M5: OK | O5: huevos 14900 | P5: 14900
A6: agua | B6: 6110 | C6: 6110 | D6: =B6-C6 -> 0 | F6: Ahorro Major | G6: =-155000-9000-5000-58557-120000+71995 -> -275562 | L6: Entrenamiento | M6: OK | O6: super | P6: =45230-8934 -> 36296
A7: GG.CC + agua caliente | B7: 196307 | C7: 196307 | D7: =B7-C7 -> 0 | F7: deudores | G7: =M22 -> 141544 | L7: tag | M7: 17539 | O7: AGUS | P7: 59294
A8: seguro | B8: 77433 | C8: 77433 | D8: =B8-C8 -> 0 | L8: CEL papa | M8: ok
A9: regalos (dia del niño + coni) | B9: 30000 | C9: =20000+10000 -> 30000 | D9: =B9-C9 -> 0 | F9: Efectivo | G9: 130000 | L9: almuerzo | M9: ok
A10: Agustina | B10: 80000 | C10: =1840+1167+4000+12993+5000+23295+1705+13000+10000+7000 -> 80000 | D10: =B10-C10 -> 0 | F10: Efectivo Lu
A11: Colegio Agus (ahorro) | B11: 110000 | C11: 110000 | D11: =B11-C11 -> 0 | E11: normal 120000 | O11: Total | P11: =SUM(P2:P10) -> 321429
A12: cuota curso agus | B12: 0 | D12: =B12-C12 -> 0 | E12: FALTA CUOTA 2 $30000 | F12: ahorro (contribuciones) | G12: =-42132-28000-28000-28000 -> -126132 | H12: 2/4 ok (82500 c/u) | I12: deber ser | J12: 176332 | L12: Total | M12: =SUM(M2:M11) -> 36042
A13: Teléfono | B13: 15988 | C13: 15988 | D13: =B13-C13 -> 0 | F13: ahorro (vacas o depa) | G13: =-472349-2802266+2800000+151912 -> -322703 | O13: total giftcard | P13: 470400 | Q13: METODO COMPRADO | R13: REGALO
A14: Feria | B14: 26433 | C14: =3990+10872+11571 -> 26433 | D14: =B14-C14 -> 0 | E14: normas 25000 | F14: ahorro (colegio agus) | G14: 0 | L14: Deudor | M14: Monto | O14: RAUL | P14: ok | Q14: EFECTIVO (DEV. FIESTA) | R14: ZAPATILLA
A15: Furgon Agus | B15: 100000 | C15: 100000 | D15: =B15-C15 -> 0 | F15: ahorro (viaje agus) | G15: =-8000-8000-8000-8000 -> -32000 | L15: Carito telefono | M15: 110000 | O15: LUCIA
A16: Credito LU | B16: 100408 | C16: 100408 | D16: =B16-C16 -> 0 | F16: Ahorro mantención auto | G16: =-30000-30000-30000-30000-30000-30000-30000 -> -210000 | L16: uber lu (vra) | M16: 10381 | O16: AGUS | R16: puzzle
A17: frenillos agus | B17: 25000 | C17: 25000 | D17: =B17-C17 -> 0 | F17: Real | G17: =SUM(G1:G16) -> 19400 | L17: uber 2 lu | M17: 10624 | O17: PAPA | P17: =44990 -> 44990 | Q17: giftcard | R17: poleron north face
A18: Ahorro mantencion auto | B18: 30000 | C18: 30000 | D18: =B18-C18 -> 0 | E18: normal 30000 | F18: Ideal | L18: uber 3 | M18: 10539 | O18: MAMA | P18: 31990 | Q18: giftcard | R18: sandalia
A19: Ahorro major - casa | B19: 120000 | C19: 120000 | D19: =B19-C19 -> 0 | E19: normal 150000 | F19: cta cte. | G19: liquido | H19: total | J19: =H20-G17 -> 0 | O19: GIO | P19: =44990 -> 44990 | Q19: giftcard | R19: poleron north face
A20: TAG | B20: 55000 | C20: =1244+20866+7717+4563+8697+11913 -> 55000 | D20: =B20-C20 -> 0 | F20: =SUM(D3:D35)+B37 -> 19400 | G20: 0 | H20: =F20+G20 -> 19400 | O20: NINON | P20: 24990 | Q20: giftcard | R20: vestido
A21: nutri-kine | B21: =15000+37000 -> 52000 | C21: =37000 -> 37000 | D21: =B21-C21 -> 15000 | E21: NORMAL 52000 | O21: FIORELLA | P21: =34990/2 -> 17495 | Q21: giftcard | R21: cocina
A22: suplementos | B22: 35000 | C22: =4221+25018+5761 -> 35000 | D22: =B22-C22 -> 0 | L22: Total | M22: =SUM(M15:M20) -> 141544 | O22: SUPER | P22: 31990 | Q22: giftcard | R22: sandalia
A23: viajes Y paseos | B23: 85000 | C23: 85000 | D23: =B23-C23 -> 0 | I23: para usar | J23: =G17-D4-D5-D6-D7-D12-D29-D8-D11-D13-D17-D20-D22-D24-D28-D30-D14-D21-D19-D16-D18 -> 4400 | O23: LUCHITO | P23: =44990 -> 44990 | Q23: giftcard | R23: poleron north face
A24: entrenamiento raul | B24: 35000 | C24: 35000 | D24: =B24-C24 -> 0 | O24: CARITO | P24: =95970/3 -> 31990 | Q24: giftcard | R24: sandalia
A25: Lucia | B25: 100000 | C25: =8939+55970+4000+2983+28108 -> 100000 | D25: =B25-C25 -> 0 | E25: 80000 | F25: ahorro colegio agus | G25: =SUM(G26:G28) -> 5636408 | O25: CRIS | P25: 7990 | Q25: giftcard | R25: gorro
A26: raul | B26: 85000 | C26: =1000+49800+5689+800+7711+10586+7031+2383 -> 85000 | D26: =B26-C26 -> 0 | E26: 80000 | F26: en cta cte | G26: =G14*-1 -> 0 | I26: meses por pagar | J26: =ROUNDUP(12-(G25/'Colegio Agus'!K7),0) -> 12 | O26: MAX | P26: 24190 | Q26: giftcard | R26: juego nintendo
A27: lavado auto | B27: =8800 -> 8800 | C27: =4400 -> 4400 | D27: =B27-C27 -> 4400 | E27: 8400 | F27: en cta ahorro | G27: =AHRROS!B9 -> 5636408 | I27: falta | J27: ='Colegio Agus'!K7-G25 -> 602221.37 | O27: DOMI | P27: =34990/2 -> 17495 | Q27: giftcard | R27: cocina
A28: Bencina | B28: 150000 | C28: =25000+36825+23175+51055+13945 -> 150000 | D28: =B28-C28 -> 0 | E28: 140000 | F28: en cuenta lu | G28: 0 | I28: cuotas | J28: 4 | K28: ago-nov | O28: TRINI
D29: =B29-C29 -> 0 | E29: 2 de 2 | I29: monto cuota | J29: =J27/J28 -> 150555.34 | O29: lu cumple
A30: ahorro viaje estudio agus | B30: 8000 | C30: 8000 | D30: =B30-C30 -> 0 | E30: normal 8000 | O30: falda agus | P30: 21990 | Q30: giftcard
A31: AHORRO CONTRIBUCIONES | B31: 28000 | C31: 28000 | D31: =B31-C31 -> 0 | E31: debe ser 28000 | O31: cumple cris
A32: rev tecniva o uniforme y utiles | D32: =B32-C32 -> 0 | E32: normal 22000 en julio-agosto 2026 | O32: FLO
A33: Netflix gio (01 año- ultimo agosto) | B33: 0 | D33: =B33-C33 -> 0 | E33: 2620 mensual (32000 anual) | O33: cumple fiorella
A34: carga metro - movilizacion | B34: 13000 | C34: 13000 | D34: =B34-C34 -> 0 | E34: Normal 10000 | O34: cumple mama
A35: extras | B35: 206647 | C35: =4960+4990+3370+4270+12-24+46420+5900+2630+14959+17513+8200+7500+2150+39724+100+3000+336+3500+35490+1647 -> 206647 | D35: =B35-C35 -> 0 | H35: lo q sobra a ahorro | O35: Total | P35: =SUM(P14:P33) -> 345090
A36: Total gastos | B36: =SUM(B3:B35) -> 2648345 | C36: =SUM(C3:C35) -> 2628945
A37: Remanente | B37: =B2-B36 -> 0 | C37: =C2-C36 -> 19400 | J37: =2752586 -> 2752586
D38: =SUM(D3:D35) -> 19400 | J38: =574857 -> 574857 | O38: GASTADO CON GIFTCARD
J39: =J37-J38 -> 2177729
O50: TOTAL USADO | P50: =SUM(P14:P33) -> 345090
...

Sheet AGO25
B1: Presupuesto | C1: Gastado | D1: Queda | F1: cta cte internet | G1: 4312985 | L1: Cuentas Mamá | O1: prox mes
B2: =2632038+15000+4400 -> 2651438 | C2: =2632038+15000+4400 -> 2651438 | F2: mama | G2: =M12 -> 156695 | J2: =63473+188 -> 63661 | L2: agua | M2: 12080 | O2: Raul poleron | P2: 12996
A3: Supermercado | B3: 200000 | C3: =36296+6390+2197+55117+30857+5990+31030+29670+2453 -> 200000 | D3: =B3-C3 -> 0 | E3: 190000 | F3: Prox mes | G3: =P11 -> 12996 | L3: tag | M3: ok
A4: DIVIDENDO | B4: 639490 | C4: 639490 | D4: =B4-C4 -> 0 | E4: 67 DE 300 | F4: ANID | G4: =-207000-34500+34500 -> -207000 | H4: (34500 cada ida) | L4: luz | M4: ok
A5: luz | B5: 32900 | C5: 32900 | D5: =B5-C5 -> 0 | F5: sueldo | G5: -2749085 | L5: GGCC | M5: ok
A6: agua | B6: 9490 | C6: 9490 | D6: =B6-C6 -> 0 | F6: Ahorro Major | G6: =-155000-9000-5000-58557-120000+71995-103000-132000-180000+34500 -> -656062 | L6: Entrenamiento | M6: ok
A7: GG.CC + agua caliente | B7: 225133 | C7: 225133 | D7: =B7-C7 -> 0 | F7: deudores | G7: =M22 -> 207227 | L7: tag | M7: 8423
A8: seguro | B8: 77836 | C8: 77836 | D8: =B8-C8 -> 0 | F8: En euros | G8: =85*1100 -> 93500 | L8: contribuciones 1 de 2 | M8: 136192
A9: regalos (AGU + OTRO) | B9: 30000 | C9: =30000 -> 30000 | D9: =B9-C9 -> 0 | F9: Efectivo | G9: 51000
A10: Agustina | B10: 80000 | C10: =59294+20706 -> 80000 | D10: =B10-C10 -> 0 | F10: Efectivo Lu
A11: Colegio Agus (ahorro) | B11: 100000 | C11: 100000 | D11: =B11-C11 -> 0 | E11: normal 120000 | O11: Total | P11: =SUM(P2:P10) -> 12996
A12: cuota curso agus | B12: 0 | D12: =B12-C12 -> 0 | E12: FALTA CUOTA 2 $30000 | F12: ahorro (contribuciones) | G12: =-42132-28000-28000-28000-28000+89468 -> -64664 | H12: 2/4 ok (82500 c/u) | I12: deber ser | J12: 176332 | L12: Total | M12: =SUM(M2:M11) -> 156695
A13: Teléfono | B13: 15988 | C13: 15988 | D13: =B13-C13 -> 0 | F13: ahorro (vacas o depa) | G13: =-472349-2802266+2800000+151912-2758250+48819+231000+1923730 -> -877404 | O13: total giftcard | P13: 470400 | Q13: METODO COMPRADO | R13: REGALO
A14: Feria | B14: 25000 | C14: =14900+100+8770+807+423 -> 25000 | D14: =B14-C14 -> 0 | E14: normal 25000 | F14: ahorro (colegio agus) | G14: 0 | L14: Deudor | M14: Monto | O14: RAUL | P14: ok | Q14: EFECTIVO (DEV. FIESTA) | R14: ZAPATILLA
A15: Furgon Agus | B15: 100000 | C15: 100000 | D15: =B15-C15 -> 0 | F15: ahorro (viaje agus) | G15: =-8000-8000-8000-8000-8000 -> -40000 | L15: Carito telefono | M15: 110000 | O15: LUCIA
A16: Credito LU | B16: 100413 | C16: 100413 | D16: =B16-C16 -> 0 | F16: Ahorro mantención auto | G16: =-30000-30000-30000-30000-30000-30000-30000-30000 -> -240000 | L16: uber lu (vra) | M16: 10381 | O16: AGUS | R16: puzzle
A17: frenillos agus | B17: 25000 | C17: =25000 -> 25000 | D17: =B17-C17 -> 0 | F17: Real | G17: =SUM(G1:G16) -> 188 | L17: uber 2 lu | M17: 10624 | O17: PAPA | P17: =44990 -> 44990 | Q17: giftcard | R17: poleron north face
A18: Ahorro mantencion auto | B18: 30000 | C18: 30000 | D18: =B18-C18 -> 0 | E18: normal 30000 | F18: Ideal | L18: uber 3 | M18: 10539 | O18: MAMA | P18: 31990 | Q18: giftcard | R18: sandalia
A19: Ahorro major - casa | B19: 132000 | C19: 132000 | D19: =B19-C19 -> 0 | E19: normal 150000 | F19: cta cte. | G19: liquido | H19: total | J19: =H20-G17 -> 0 | L19: uber 4 | M19: 10740 | O19: GIO | P19: =44990 -> 44990 | Q19: giftcard | R19: poleron north face
A20: TAG | B20: 55000 | C20: =10633+367+17662+6000+16865+3473 -> 55000 | D20: =B20-C20 -> 0 | F20: =SUM(D3:D35)+B37 -> 188 | G20: 0 | H20: =F20+G20 -> 188 | L20: Maurten ROY | M20: 54943 | O20: NINON | P20: 24990 | Q20: giftcard | R20: vestido
A21: nutri-kine | B21: =15000+37000+15000 -> 67000 | C21: =37000+30000 -> 67000 | D21: =B21-C21 -> 0 | E21: NORMAL 52000 | O21: FIORELLA | P21: =34990/2 -> 17495 | Q21: giftcard | R21: cocina
A22: cumple agus | D22: =B22-C22 -> 0 | L22: Total | M22: =SUM(M15:M21) -> 207227 | O22: SUPER | P22: 31990 | Q22: giftcard | R22: sandalia
A23: viajes Y paseos (CUMPLE AGUS) | B23: 51800 | C23: =1003+1600+11717+26895+2700+5200+1100+1585 -> 51800 | D23: =B23-C23 -> 0 | E23: NORMAL 85 | I23: para usar | J23: =G17-D4-D5-D6-D7-D12-D29-D8-D11-D13-D17-D20-D22-D24-D28-D30-D14-D21-D19-D16-D18 -> 188 | O23: LUCHITO | P23: =44990 -> 44990 | Q23: giftcard | R23: poleron north face
A24: entrenamiento raul | B24: 35000 | C24: 35000 | D24: =B24-C24 -> 0 | O24: CARITO | P24: =95970/3 -> 31990 | Q24: giftcard | R24: sandalia
A25: Lucia | B25: =85000+18000 -> 103000 | C25: =50000+18000+11880+4000+19120 -> 103000 | D25: =B25-C25 -> 0 | E25: 80000 | F25: ahorro colegio agus | G25: =SUM(G26:G28) -> 5636408 | O25: CRIS | P25: 7990 | Q25: giftcard | R25: gorro
A26: raul | B26: 85000 | C26: =44700+16239+14061+800+9200-7777-4200+92+9672+2213 -> 85000 | D26: =B26-C26 -> 0 | E26: 80000 | F26: en cta cte | G26: =G14*-1 -> 0 | I26: meses por pagar | J26: =ROUNDUP(12-(G25/'Colegio Agus'!K7),0) -> 12 | O26: MAX | P26: 24190 | Q26: giftcard | R26: juego nintendo
A27: lavado auto | B27: =8800+4400 -> 13200 | C27: =4400+4400+4400 -> 13200 | D27: =B27-C27 -> 0 | E27: 8400 | F27: en cta ahorro | G27: =AHRROS!B9 -> 5636408 | I27: falta | J27: ='Colegio Agus'!K7-G25 -> 602221.37 | O27: DOMI | P27: =34990/2 -> 17495 | Q27: giftcard | R27: cocina
A28: Bencina | B28: 140000 | C28: =45865+6600+16042+11493+60000 -> 140000 | D28: =B28-C28 -> 0 | E28: 140000 | F28: en cuenta lu | G28: 0 | I28: cuotas | J28: 3 | K28: sep-nov | O28: TRINI
D29: =B29-C29 -> 0 | E29: 2 de 2 | I29: monto cuota | J29: =J27/J28 -> 200740.46 | O29: lu cumple
A30: ahorro viaje estudio agus | B30: 8000 | C30: 8000 | D30: =B30-C30 -> 0 | E30: normal 8000 | O30: falda agus | P30: 21990 | Q30: giftcard
A31: AHORRO CONTRIBUCIONES | B31: 28000 | C31: 28000 | D31: =B31-C31 -> 0 | E31: debe ser 28000 | O31: cumple cris
A32: rev tecniva o uniforme y utiles | D32: =B32-C32 -> 0 | E32: normal 22000 en julio-agosto 2026 | O32: FLO
A33: Netflix gio (01 año- ultimo agosto) | B33: 32000 | C33: 32000 | D33: =B33-C33 -> 0 | E33: 2620 mensual (32000 anual) | O33: cumple fiorella
A34: carga metro - movilizacion | B34: 10000 | C34: =5690+2100+2210 -> 10000 | D34: =B34-C34 -> 0 | E34: Normal 10000 | O34: cumple mama
A35: extras | B35: 200000 | C35: =8965+38720+1600+3000+13470+2570+1715+1640+1600+3000+35310+2599+16500-213+1690+3000+1400+25000+17142+2200+6550+12542 -> 200000 | D35: =B35-C35 -> 0 | H35: lo q sobra a ahorro | O35: Total | P35: =SUM(P14:P33) -> 345090
A36: Total gastos | B36: =SUM(B3:B35) -> 2651250 | C36: =SUM(C3:C35) -> 2651250
A37: Remanente | B37: =B2-B36 -> 188 | C37: =C2-C36 -> 188 | J37: =2752586 -> 2752586
D38: =SUM(D3:D35) -> 0 | J38: =574857 -> 574857 | O38: GASTADO CON GIFTCARD
J39: =J37-J38 -> 2177729
O50: TOTAL USADO | P50: =SUM(P14:P33) -> 345090
...

Sheet SEP25
B1: Presupuesto | C1: Gastado | D1: Queda | F1: cta cte internet | G1: 4489110 | L1: Cuentas Mamá | O1: prox mes
B2: =2649085 -> 2649085 | C2: =2649085+24905+366 -> 2674356 | F2: mama | G2: =M12 -> 100752 | L2: agua | M2: 7800
A3: Supermercado | B3: 200000 | C3: =6412-188+24821+27900+14480+25575-259+26092+19549+22223+33395-1020-34500-4124+35462+4182 -> 200000 | D3: =B3-C3 -> 0 | E3: 190000 | F3: Prox mes | G3: =P11 -> 0 | L3: luz | M3: ok
A4: DIVIDENDO | B4: 642712 | C4: 642712 | D4: =B4-C4 -> 0 | E4: 68 DE 300 | F4: ANID | G4: =-207000-34500+34500+34500 -> -172500 | H4: (34500 cada ida) | L4: GGCC | M4: ok
A5: luz | B5: 30000 | C5: 30000 | D5: =B5-C5 -> 0 | F5: sueldo oct | G5: -2747668 | L5: Entrenamiento | M5: ok
A6: agua | B6: 5220 | C6: 5220 | D6: =B6-C6 -> 0 | F6: Ahorro Major | G6: 5144 | L6: tag | M6: 9072
A7: GG.CC + agua caliente | B7: 203247 | C7: 203247 | D7: =B7-C7 -> 0 | F7: deudores | G7: =M22 -> 193547 | L7: contribuciones 1 de 2 | M7: ok
A8: seguro | B8: 78039 | C8: 78039 | D8: =B8-C8 -> 0 | L8: tag 2 | M8: =11100 -> 11100
A9: regalos (AGU + OTRO) | B9: 30000 | C9: =6333+2088+21579 -> 30000 | D9: =B9-C9 -> 0 | F9: Efectivo | G9: 30000
A10: Agustina | B10: 80000 | C10: =12990+12951+5000+21990+780+9990+16299 -> 80000 | D10: =B10-C10 -> 0 | F10: Efectivo Lu | L10: super | M10: 57980
A11: Colegio Agus (ahorro) | B11: 100000 | C11: 100000 | D11: =B11-C11 -> 0 | E11: normal 120000 | L11: TAG 3 | M11: =14800 -> 14800 | O11: Total | P11: =SUM(P2:P10) -> 0
A12: cuota curso agus (polera run wolf) | B12: 30000 | C12: 30000 | D12: =B12-C12 -> 0 | E12: FALTA CUOTA 2 $30000 | F12: ahorro (contribuciones) | G12: =-42132-28000-28000-28000-28000+89468-28000 -> -92664 | H12: 2/4 ok (82500 c/u) | I12: deber ser | J12: 176332 | L12: Total | M12: =SUM(M2:M11) -> 100752
A13: Teléfono | B13: 15988 | C13: 15988 | D13: =B13-C13 -> 0 | F13: ahorro (vacas o depa) | G13: =-500000-1500000+1617804+412273-1500000 -> -1469923 | O13: total giftcard | P13: 470400 | Q13: METODO COMPRADO | R13: REGALO
A14: Feria | B14: 25000 | C14: =25000 -> 25000 | D14: =B14-C14 -> 0 | E14: normal 25000 | F14: ahorro (colegio agus) | L14: Deudor | M14: Monto | O14: RAUL | P14: ok | Q14: EFECTIVO (DEV. FIESTA) | R14: ZAPATILLA
A15: Furgon Agus | B15: 100000 | C15: 100000 | D15: =B15-C15 -> 0 | F15: ahorro (viaje agus) | G15: =-8000-8000-8000-8000-8000-8000 -> -48000 | L15: Carito telefono | M15: 110000 | O15: LUCIA
A16: Credito LU | B16: 101024 | C16: 101024 | D16: =B16-C16 -> 0 | F16: Ahorro mantención auto | G16: =-30000-30000-30000-30000-30000-30000-30000-30000-30000 -> -270000 | L16: uber lu (vra) | M16: =-17716+11302+4500+9981 -> 8067 | O16: AGUS | R16: puzzle
A17: frenillos agus | B17: 25000 | C17: =3000+17000+5000 -> 25000 | D17: =B17-C17 -> 0 | F17: Real | G17: =SUM(G1:G16) -> 17798 | L17: papa | M17: 5670 | O17: PAPA | P17: =44990 -> 44990 | Q17: giftcard | R17: poleron north face
A18: Ahorro mantencion auto | B18: 30000 | C18: 30000 | D18: =B18-C18 -> 0 | E18: normal 30000 | F18: Ideal | L18: gio | M18: =8140+27170 -> 35310 | O18: MAMA | P18: 31990 | Q18: giftcard | R18: sandalia
A19: Ahorro major - casa | B19: 150000 | C19: 150000 | D19: =B19-C19 -> 0 | E19: normal 150000 | F19: cta cte. | G19: liquido | H19: total | J19: =H20-G17 -> 0 | L19: papa MDS | M19: 34500 | O19: GIO | P19: =44990 -> 44990 | Q19: giftcard | R19: poleron north face
A20: TAG | B20: 55000 | C20: =32600+8958+442+13000 -> 55000 | D20: =B20-C20 -> 0 | F20: =SUM(D3:D35)+B37 -> 17798 | G20: 0 | H20: =F20+G20 -> 17798 | O20: NINON | P20: 24990 | Q20: giftcard | R20: vestido
A21: nutri-kine | B21: =15000+37000 -> 52000 | C21: =52000-15000+15000 -> 52000 | D21: =B21-C21 -> 0 | E21: NORMAL 52000 | O21: FIORELLA | P21: =34990/2 -> 17495 | Q21: giftcard | R21: cocina
A22: cumple agus | D22: =B22-C22 -> 0 | L22: Total | M22: =SUM(M15:M21) -> 193547 | O22: SUPER | P22: 31990 | Q22: giftcard | R22: sandalia
A23: viajes Y paseos | B23: 85000 | C23: =38749-330+41400+125+5056 -> 85000 | D23: =B23-C23 -> 0 | E23: NORMAL 85 | I23: para usar | J23: =G17-D4-D5-D6-D7-D12-D29-D8-D11-D13-D17-D20-D22-D24-D28-D30-D14-D21-D19-D16-D18 -> 17798 | O23: LUCHITO | P23: =44990 -> 44990 | Q23: giftcard | R23: poleron north face
A24: entrenamiento raul | B24: 35000 | C24: 35000 | D24: =B24-C24 -> 0 | O24: CARITO | P24: =95970/3 -> 31990 | Q24: giftcard | R24: sandalia
A25: Lucia | B25: 85000 | C25: =1600+12633+12951+3600+5800+4493+10000+5600+1943+12982 -> 71602 | D25: =B25-C25 -> 13398 | E25: 80000 | F25: ahorro colegio agus | G25: =SUM(G26:G28) -> 5636408 | O25: CRIS | P25: 7990 | Q25: giftcard | R25: gorro
A26: raul | B26: 85000 | C26: =12996+3682+50000+1990+2018+14314 -> 85000 | D26: =B26-C26 -> 0 | E26: 80000 | F26: en cta cte | G26: =G14*-1 -> 0 | I26: meses por pagar | J26: =ROUNDUP(12-(G25/'Colegio Agus'!K7),0) -> 12 | O26: MAX | P26: 24190 | Q26: giftcard | R26: juego nintendo
A27: lavado auto | B27: =8800 -> 8800 | C27: =4400 -> 4400 | D27: =B27-C27 -> 4400 | E27: 8400 | F27: en cta ahorro | G27: =AHRROS!B9 -> 5636408 | I27: falta | J27: ='Colegio Agus'!K7-G25 -> 602221.37 | O27: DOMI | P27: =34990/2 -> 17495 | Q27: giftcard | R27: cocina
A28: Bencina | B28: 140000 | C28: =50000+45000+45000 -> 140000 | D28: =B28-C28 -> 0 | E28: 140000 | F28: en cuenta lu | G28: 0 | I28: cuotas | J28: 2 | K28: oct-nov | O28: TRINI
D29: =B29-C29 -> 0 | E29: 2 de 2 | I29: monto cuota | J29: =J27/J28 -> 301110.69 | O29: lu cumple
A30: ahorro viaje estudio agus | B30: 8000 | C30: 8000 | D30: =B30-C30 -> 0 | E30: normal 8000 | O30: falda agus | P30: 21990 | Q30: giftcard
A31: AHORRO CONTRIBUCIONES | B31: 28000 | C31: 28000 | D31: =B31-C31 -> 0 | E31: debe ser 28000 | O31: cumple cris
A32: rev tecniva o uniforme y utiles | D32: =B32-C32 -> 0 | E32: normal 22000 en julio-agosto 2026 | O32: FLO
A33: Netflix gio (01 año- ultimo agosto) | D33: =B33-C33 -> 0 | E33: 2620 mensual (32000 anual) | O33: cumple fiorella
A34: carga metro - movilizacion | B34: 10000 | C34: =1000+2000+3186+3814 -> 10000 | D34: =B34-C34 -> 0 | E34: Normal 10000 | O34: cumple mama
A35: extras | B35: 211055 | C35: =11294+3200+9600+39033+6316+1490+2390+15549+14000+5420+5569+5400+4000+2480+14452+1690+42570+6850+240+8457+11055 -> 211055 | D35: =B35-C35 -> 0 | H35: lo q sobra a ahorro | O35: Total | P35: =SUM(P14:P33) -> 345090
A36: Total gastos | B36: =SUM(B3:B35) -> 2649085 | C36: =SUM(C3:C35) -> 2631287
A37: Remanente | B37: =B2-B36 -> 0 | C37: =C2-C36 -> 43069 | J37: =2752586 -> 2752586
D38: =SUM(D3:D35) -> 17798 | J38: =574857 -> 574857 | O38: GASTADO CON GIFTCARD
J39: =J37-J38 -> 2177729
O50: TOTAL USADO | P50: =SUM(P14:P33) -> 345090
...

Sheet OCT25
B1: Presupuesto | C1: Gastado | D1: Queda | F1: cta cte internet | G1: 4545761 | L1: Cuentas Mamá | O1: prox mes
B2: =2644668+4400+13398 -> 2662466 | C2: =2644668+4400+13398 -> 2662466 | F2: mama | G2: =M13 -> 149212 | L2: agua | M2: 13700 | O2: huevos | P2: 13580
A3: Supermercado | B3: 200000 | C3: =36150-2000-5000+28000+5000+36835+11736+31375+29450+28454 -> 200000 | D3: =B3-C3 -> 0 | E3: 200000 | F3: Prox mes | G3: =P11 -> 60662 | L3: luz | M3: ok | O3: raul | P3: 5372
A4: DIVIDENDO | B4: 643375 | C4: 643375 | D4: =B4-C4 -> 0 | E4: 69 DE 300 | F4: ANID | G4: =-207000-34500+34500+34500+34500 -> -138000 | H4: (34500 cada ida) | L4: GGCC | M4: ok | O4: JUMBO 2 | P4: 41710
A5: luz | B5: 26600 | C5: 26600 | D5: =B5-C5 -> 0 | F5: sueldo prox mes | G5: -2643163 | L5: Entrenamiento | M5: ok
A6: agua | B6: 7610 | C6: 7610 | D6: =B6-C6 -> 0 | F6: Ahorro Major | G6: =5144-103000-150000+24003 -> -223853 | L6: tag | M6: -680
A7: GG.CC + agua caliente | B7: 200000 | C7: =183714+16286 -> 200000 | D7: =B7-C7 -> 0 | F7: deudores | G7: =M23 -> 34500 | L7: contribuciones 2 de 2 | M7: 136192
A8: seguro | B8: 78261 | C8: 78261 | D8: =B8-C8 -> 0 | J8: =33700+J19 -> 33700 | L8: tag 2 | M8: ok
A9: regalos | B9: 35000 | C9: =1421+15000+5246+13333 -> 35000 | D9: =B9-C9 -> 0 | F9: Efectivo | G9: 20000 | L9: TAG 3 | M9: ok
A10: Agustina | B10: 80000 | C10: =5184+44850+5000+1490+20000+3476 -> 80000 | D10: =B10-C10 -> 0 | F10: Efectivo Lu | L10: TAG 4 | M10: ok
A11: Colegio Agus (ahorro) | B11: 100000 | C11: 100000 | D11: =B11-C11 -> 0 | E11: normal 120000 | L11: super 1 | M11: ok | O11: Total | P11: =SUM(P2:P10) -> 60662
A12: cuota curso agus | B12: 30000 | C12: 30000 | D12: =B12-C12 -> 0 | E12: 2 de 2 | F12: ahorro (contribuciones) | G12: =-42132-28000-28000-28000-28000+89468-28000-28000+89468 -> -31196 | H12: 4/4 ok (89468 c/u) | I12: deber ser | J12: 176332
A13: Teléfono | B13: 15988 | C13: 15988 | D13: =B13-C13 -> 0 | F13: ahorro (vacas o depa) | G13: =-500000-1500000+1617804+412273-1500000+110000 -> -1359923 | L13: Total | M13: =SUM(M2:M12) -> 149212 | O13: total giftcard | P13: 470400 | Q13: METODO COMPRADO | R13: REGALO
A14: Feria | B14: 25000 | C14: =15000+10000 -> 25000 | D14: =B14-C14 -> 0 | E14: normal 25000 | F14: ahorro (colegio agus) | G14: 0 | O14: RAUL | P14: ok | Q14: EFECTIVO (DEV. FIESTA) | R14: ZAPATILLA
A15: Furgon Agus | B15: 100000 | C15: 100000 | D15: =B15-C15 -> 0 | F15: ahorro (viaje agus) | G15: =-8000-8000-8000-8000-8000-8000-8000 -> -56000 | L15: Deudor | M15: Monto | O15: LUCIA
A16: Credito LU | B16: 101141 | C16: 101141 | D16: =B16-C16 -> 0 | F16: Ahorro mantención auto | G16: =-30000-30000-30000-30000-30000-30000-30000-30000-30000-30000 -> -300000 | O16: AGUS | R16: puzzle
A17: frenillos agus | B17: 0 | D17: =B17-C17 -> 0 | E17: normal 25000 | F17: Real | G17: =SUM(G1:G16) -> 58000 | O17: PAPA | P17: =44990 -> 44990 | Q17: giftcard | R17: poleron north face
A18: Ahorro mantencion auto | B18: 30000 | C18: 30000 | D18: =B18-C18 -> 0 | E18: normal 30000 | F18: Ideal | O18: MAMA | P18: 31990 | Q18: giftcard | R18: sandalia
A19: Ahorro major - casa | B19: 150000 | C19: 150000 | D19: =B19-C19 -> 0 | E19: normal 150000 | F19: cta cte. | G19: liquido | H19: total | J19: =H20-G17 -> 0 | O19: GIO | P19: =44990 -> 44990 | Q19: giftcard | R19: poleron north face
A20: TAG | B20: =55000+8078 -> 63078 | C20: =7920+8958+29600+16600 -> 63078 | D20: =B20-C20 -> 0 | E20: normal 60 | F20: =SUM(D3:D35)+B37 -> 58000 | G20: 0 | H20: =F20+G20 -> 58000 | L20: papa MDS | M20: 34500 | O20: NINON | P20: 24990 | Q20: giftcard | R20: vestido
A21: nutri-kine | B21: =15000+37000 -> 52000 | C21: =37000+15000 -> 52000 | D21: =B21-C21 -> 0 | E21: NORMAL 52000 | O21: FIORELLA | P21: =34990/2 -> 17495 | Q21: giftcard | R21: cocina
A22: cumple agus | D22: =B22-C22 -> 0 | O22: SUPER | P22: 31990 | Q22: giftcard | R22: sandalia
A23: viajes Y paseos | B23: 85000 | C23: =23277+2000+59723 -> 85000 | D23: =B23-C23 -> 0 | E23: NORMAL 85 | I23: para usar | J23: =G17-D4-D5-D6-D7-D12-D29-D8-D11-D13-D17-D20-D22-D24-D28-D30-D14-D21-D19-D16-D18 -> 0 | L23: Total | M23: =SUM(M16:M22) -> 34500 | O23: LUCHITO | P23: =44990 -> 44990 | Q23: giftcard | R23: poleron north face
A24: entrenamiento raul | B24: 40000 | C24: 40000 | D24: =B24-C24 -> 0 | O24: CARITO | P24: =95970/3 -> 31990 | Q24: giftcard | R24: sandalia
A25: Lucia | B25: 85000 | C25: =22980+4200+2200+1350+10383+10246-1003+9100+5544+9236+764+5000+5000 -> 85000 | D25: =B25-C25 -> 0 | E25: 80000 | F25: ahorro colegio agus | G25: =SUM(G26:G28) -> 5636408 | O25: CRIS | P25: 7990 | Q25: giftcard | R25: gorro
A26: raul | B26: 85608 | C26: =5000+4290+8990+1300+800+1000+1160+1500+12000+1000+2282+5678+1000+39608 -> 85608 | D26: =B26-C26 -> 0 | E26: 80000 | F26: en cta cte | G26: =G14*-1 -> 0 | I26: meses por pagar | J26: =ROUNDUP(12-(G25/'Colegio Agus'!K7),0) -> 12 | O26: MAX | P26: 24190 | Q26: giftcard | R26: juego nintendo
A27: lavado auto | B27: =8800 -> 8800 | C27: =4400+4400 -> 8800 | D27: =B27-C27 -> 0 | E27: 8400 | F27: en cta ahorro | G27: =AHRROS!B9 -> 5636408 | I27: falta | J27: ='Colegio Agus'!K7-G25 -> 602221.37 | O27: DOMI | P27: =34990/2 -> 17495 | Q27: giftcard | R27: cocina
A28: Bencina | B28: =140000-36651 -> 103349 | C28: =20000+54381-33000+39000+619+15000+7349 -> 103349 | D28: =B28-C28 -> 0 | E28: 140000 | F28: en cuenta lu | G28: 0 | I28: cuotas | J28: 1 | K28: nov | O28: TRINI
A29: Parte (cuota 1) | B29: =58000 -> 58000 | D29: =B29-C29 -> 58000 | E29: 1 de 2 | I29: monto cuota | J29: =J27/J28 -> 602221.37 | O29: lu cumple
A30: ahorro viaje estudio agus | B30: 8000 | C30: 8000 | D30: =B30-C30 -> 0 | E30: normal 8000 | O30: falda agus | P30: 21990 | Q30: giftcard
A31: AHORRO CONTRIBUCIONES | B31: 28000 | C31: 28000 | D31: =B31-C31 -> 0 | E31: debe ser 28000 | O31: cumple cris
A32: rev tecniva o uniforme y utiles | D32: =B32-C32 -> 0 | E32: normal 22000 en julio-agosto 2026 | O32: FLO
A33: Netflix gio (01 año- ultimo agosto) | D33: =B33-C33 -> 0 | E33: 2620 mensual (32000 anual) | O33: cumple fiorella
A34: carga metro - movilizacion | B34: 10000 | C34: 10000 | D34: =B34-C34 -> 0 | E34: Normal 10000 | O34: cumple mama
A35: extras | B35: =200000+13398-742 -> 212656 | C35: =8565+5280+4470+3180+7500+22055+6820+2880+2970+1980+1600+1690+1971+1990+18900+29380+6310+8400+18335+13347+21810+20190+450+2583 -> 212656 | D35: =B35-C35 -> 0 | H35: lo q sobra a ahorro | O35: Total | P35: =SUM(P14:P33) -> 345090
A36: Total gastos | B36: =SUM(B3:B35) -> 2662466 | C36: =SUM(C3:C35) -> 2604466
A37: Remanente | B37: =B2-B36 -> 0 | C37: =C2-C36 -> 58000 | J37: =2752586 -> 2752586
D38: =SUM(D3:D35) -> 58000 | J38: =574857 -> 574857 | O38: GASTADO CON GIFTCARD
J39: =J37-J38 -> 2177729
O50: TOTAL USADO | P50: =SUM(P14:P33) -> 345090
...

Sheet NOV25
B1: Presupuesto | C1: Gastado | D1: Queda | F1: cta cte internet | G1: 46911 | L1: Cuentas Mamá | O1: prox mes
B2: =2643163-103000+58000 -> 2598163 | C2: =2643163-103000+58000 -> 2598163 | F2: mama | G2: =M13 -> 18808 | L2: agua | M2: 11970 | O2: regalo fio | P2: =7490*2 -> 14980
A3: Supermercado | B3: 200000 | C3: =41710+30100+50183-4017-176+19846+41540+20814-34500-4+19880+14624 -> 200000 | D3: =B3-C3 -> 0 | E3: 200000 | F3: Prox mes | G3: =P11 -> 88768 | L3: luz | M3: ok | O3: viña 21k | P3: 31050
A4: DIVIDENDO | B4: 645171 | C4: 645171 | D4: =B4-C4 -> 0 | E4: 70 DE 300 | F4: ANID | G4: =-207000-34500+34500+34500+34500+34500 -> -103500 | H4: (34500 cada ida) | L4: GGCC | M4: ok
A5: luz | B5: 30600 | C5: 30600 | D5: =B5-C5 -> 0 | L5: Entrenamiento | M5: ok | O5: CUMPLE CHRIS DIC | P5: 12490
A6: agua | B6: 7750 | C6: 7750 | D6: =B6-C6 -> 0 | F6: Ahorro Major | G6: =6947-140000 -> -133053 | L6: tag | M6: -242 | O6: Regalo mama dic | P6: =11992+4792+1459*2 -> 19702
A7: GG.CC + agua caliente | B7: 186842 | C7: 186842 | D7: =B7-C7 -> 0 | F7: deudores | G7: =M23 -> 34500 | L7: contribuciones 2 de 2 | M7: ok | O7: super | P7: =10800+6396-6650 -> 10546
A8: seguro | B8: 78351 | C8: 78351 | D8: =B8-C8 -> 0 | F8: en giftcard | G8: =P47-P46 -> -18647 | L8: almuerzo
A9: regalos | B9: 50000 | C9: =40000+10000 -> 50000 | D9: =B9-C9 -> 0 | F9: Efectivo | G9: 0 | L9: dentista agus
A10: Agustina | B10: 80000 | C10: =23990+8623+25871+8597+9340+3579 -> 80000 | D10: =B10-C10 -> 0 | F10: Efectivo Lu | L10: leches | M10: 7080
A11: Colegio Agus (ahorro) | B11: 120000 | C11: 120000 | D11: =B11-C11 -> 0 | E11: normal 120000 | O11: Total | P11: =SUM(P2:P10) -> 88768
A12: cuota curso agus | B12: 0 | D12: =B12-C12 -> 0 | E12: OK 2025 | F12: ahorro (contribuciones) | G12: =-42132-28000-28000-28000-28000+89468-28000-28000+89468-30000 -> -61196 | H12: 4/4 ok (89468 c/u) | I12: deber ser | J12: 176332
A13: Teléfono | B13: 15988 | C13: 15988 | D13: =B13-C13 -> 0 | F13: ahorro (vacas o depa) | G13: =-1577676+775391+362-1500000+1977375+214562+631395 -> 521409 | L13: Total | M13: =SUM(M2:M12) -> 18808 | O13: total giftcard | P13: 444440 | Q13: METODO COMPRADO | R13: REGALO | S13: LLEGADA
A14: Feria | B14: 25000 | C14: =13580+11420 -> 25000 | D14: =B14-C14 -> 0 | E14: normal 25000 | F14: ahorro (colegio agus) | G14: 0 | O14: RAUL | P14: ok | Q14: ok | R14: PERFUME | S14: OK
A15: Furgon Agus | B15: 100000 | C15: 100000 | D15: =B15-C15 -> 0 | F15: ahorro (viaje agus) | G15: =-8000-8000-8000-8000-8000-8000-8000-8000 -> -64000 | L15: Deudor | M15: Monto | O15: LUCIA | P15: 35920 | Q15: EFECTIVO | R15: imp | S15: ofi
A16: Credito LU | B16: 101428 | C16: 101428 | D16: =B16-C16 -> 0 | F16: Ahorro mantención auto | G16: =-30000-30000-30000-30000-30000-30000-30000-30000-30000-30000-30000+247990 -> -82010 | O16: AGUS | P16: 19990 | Q16: EFECTIVO | R16: PUZZLE SAN FRANCISCO | S16: OK
A17: frenillos agus | B17: 25000 | C17: 25000 | D17: =B17-C17 -> 0 | E17: normal 25000 | F17: Real | G17: =SUM(G1:G16) -> 247990 | O17: PAPA | P17: 39980 | Q17: GIFTCARD | R17: SUETER TOMMY | S17: OK
A18: Ahorro mantencion auto | B18: 30000 | C18: 30000 | D18: =B18-C18 -> 0 | E18: normal 30000 | F18: Ideal | O18: MAMA | P18: =25990 -> 25990 | Q18: GIFTCARD | R18: SET LANCOME | S18: OK
A19: Ahorro major - casa | B19: 3000 | C19: 3000 | D19: =B19-C19 -> 0 | E19: normal 150000 | F19: cta cte. | G19: liquido | H19: total | J19: =H20-G17 -> -247990 | O19: GIO | P19: 37791 | Q19: GIFTCARD | R19: ZAPATILLAS LACOSTE | S19: OK
A20: TAG | B20: 60000 | C20: =673+6199+8048+1272+9805+32600+1403 -> 60000 | D20: =B20-C20 -> 0 | E20: normal 60 | F20: =SUM(D3:D35)+B37 -> 0 | G20: 0 | H20: =F20+G20 -> 0 | L20: papa MDS | M20: 34500 | O20: NINON | P20: 19990 | Q20: GIFTCARD | R20: vestido | S20: llegada 12 dic
A21: nutri-kine | B21: =15000+37000 -> 52000 | C21: =37000+15000 -> 52000 | D21: =B21-C21 -> 0 | E21: NORMAL 52000 | O21: FIORELLA | P21: 41990 | Q21: GIFTCARD | R21: unicornio | S21: OK
A22: cumple agus | D22: =B22-C22 -> 0 | O22: SUPER
A23: viajes Y paseos | B23: 85000 | C23: =59586+7890+1570+15954 -> 85000 | D23: =B23-C23 -> 0 | E23: NORMAL 85 | I23: para usar | J23: =G17-D4-D5-D6-D7-D12-D29-D8-D11-D13-D17-D20-D22-D24-D28-D30-D14-D21-D19-D16-D18 -> 247990 | L23: Total | M23: =SUM(M16:M22) -> 34500 | O23: LUCHITO | P23: 20990 | Q23: GIFTCARD | R23: POLERA ROJA | S23: ok
A24: entrenamiento raul | B24: 40000 | C24: 40000 | D24: =B24-C24 -> 0 | O24: CARITO
A25: Lucia | B25: 85000 | C25: =19990+7000+58010 -> 85000 | D25: =B25-C25 -> 0 | E25: 80000 | F25: ahorro colegio agus | G25: =SUM(G26:G28) -> 7973310 | O25: CRIS | P25: 17990 | Q25: GIFTCARD | R25: POLAR | S25: ok
A26: raul | B26: 85000 | C26: =5372+3+29990+49635 -> 85000 | D26: =B26-C26 -> 0 | E26: 80000 | F26: en cta cte | G26: =G14*-1 -> 0 | I26: meses por pagar | J26: =ROUNDUP(12-(G25/'Colegio Agus'!K7),0) -> 11 | O26: MAX | P26: =25390+3990 -> 29380 | Q26: GIFTCARD | R26: Juego nintendo | S26: ok
A27: lavado auto | B27: =8800 -> 8800 | C27: =4400+3875+525 -> 8800 | D27: =B27-C27 -> 0 | E27: 8400 | F27: en cta ahorro | G27: =AHRROS!B9 -> 5636408 | I27: falta | J27: ='Colegio Agus'!K7-G25 -> -1734680.6 | O27: DOMI | P27: 24490 | Q27: GIFTCARD | R27: BLUEY | S27: OK
A28: Bencina | B28: 130000 | C28: =30000+45000+53651+1349 -> 130000 | D28: =B28-C28 -> 0 | E28: 140000 | F28: en cuenta lu | G28: 2336902 | I28: cuotas | J28: 12 | K28: dic-nov | O28: TRINI
A29: Parte | B29: 104313 | C29: 104313 | D29: =B29-C29 -> 0 | I29: monto cuota | J29: =J27/J28 -> -144556.72 | O29: lu cumple | P29: =11992+1459 -> 13451 | Q29: EFECTIVO | R29: ….. | S29: …...
A30: ahorro viaje estudio agus | B30: 8000 | C30: 8000 | D30: =B30-C30 -> 0 | E30: normal 8000 | O30: FLO
A31: AHORRO CONTRIBUCIONES | B31: 30000 | C31: 30000 | D31: =B31-C31 -> 0 | E31: debe ser 30000 | O31: SANTI
A32: rev tecniva o uniforme y utiles | D32: =B32-C32 -> 0 | E32: normal 22000 en julio-agosto 2026 | O32: MARTIN | P32: =18890+7990 -> 26880 | Q32: GIFTCARD | R32: carrito + musical | S32: OK
A33: Netflix gio (01 año- ultimo agosto) | D33: =B33-C33 -> 0 | E33: 2620 mensual (32000 anual) | O33: mama 2 | P33: =7992+1460 -> 9452 | Q33: EFECTIVO | R33: calendario | S33: emotions
A34: carga metro - movilizacion | B34: 10000 | C34: 10000 | D34: =B34-C34 -> 0 | E34: Normal 10000
A35: extras | B35: 200920 | C35: =7800+45760+4017+150+2550+20000+3590+224+4385+2880+7995+4661+11934+3200+1600+6710+900+2366-1198+7250+3600+13035+11200+500+1890+480+27316+6125 -> 200920 | D35: =B35-C35 -> 0 | H35: lo q sobra a ahorro | O35: Total | P35: =SUM(P14:P33) -> 364284
A36: Total gastos | B36: =SUM(B3:B35) -> 2598163 | C36: =SUM(C3:C35) -> 2598163
A37: Remanente | B37: =B2-B36 -> 0 | C37: =C2-C36 -> 0 | J37: =2752586 -> 2752586
D38: =SUM(D3:D35) -> 0 | J38: =574857 -> 574857 | O38: GASTADO CON GIFTCARD
J39: =J37-J38 -> 2177729 | O39: perfume raul | P39: 29990
O40: cumple fiorella | P40: =7490*2 -> 14980 | Q40: mascota + pistola burbujas | S40: jumbo 1 norte 1 dic
...

Sheet DIC25
B1: Presupuesto | C1: Gastado | D1: Queda | F1: cta cte internet | G1: 4705440 | L1: Cuentas Mamá | O1: prox mes
B2: =2713123 -> 2713123 | C2: =2713123 -> 2713123 | F2: mama | G2: =M13 -> 26115 | L2: agua | M2: 16160 | O2: super | P2: =18503+800-14000 -> 5303
A3: Supermercado | B3: 200000 | C3: =10546+44752+2201+6594+22795+4000+30230-4480+36881+1690+630+33580+10581 -> 200000 | D3: =B3-C3 -> 0 | E3: 200000 | F3: Prox mes | G3: =P11 -> 5303 | L3: luz | M3: ok
A4: DIVIDENDO | B4: 645834 | C4: 645834 | D4: =B4-C4 -> 0 | E4: 71 DE 300 | F4: ANID | G4: =-207000-34500+34500+34500+34500+34500+19971 -> -83529 | H4: (34500 cada ida) | L4: GGCC | M4: ok
A5: luz | B5: 29800 | C5: 29800 | D5: =B5-C5 -> 0 | F5: sueldo porx mes | G5: =-101645-3342596 -> -3444241 | L5: Entrenamiento | M5: ok
A6: agua | B6: 7440 | C6: 7440 | D6: =B6-C6 -> 0 | F6: Ahorro Major | G6: 0 | L6: tag | M6: =-294+7249+3000 -> 9955
A7: GG.CC + agua caliente | B7: 183531 | C7: 183531 | D7: =B7-C7 -> 0 | F7: deudores | G7: =M23 -> 0
A8: seguro | B8: 78518 | C8: 78518 | D8: =B8-C8 -> 0 | F8: en giftcard | G8: =-11520 -> -11520
A9: regalos | B9: 47172 | C9: =19702+14980+12490 -> 47172 | D9: =B9-C9 -> 0 | F9: Efectivo | G9: 73000
A10: Agustina | B10: 80000 | C10: =5829+14171+6153+3847+1200+12823+35977 -> 80000 | D10: =B10-C10 -> 0 | F10: Efectivo Lu | G10: 15000
A11: Colegio Agus (ahorro) | B11: 120000 | C11: 120000 | D11: =B11-C11 -> 0 | E11: normal 120000 | O11: Total | P11: =SUM(P2:P10) -> 5303
A12: cuota curso agus | B12: 0 | D12: =B12-C12 -> 0 | F12: ahorro (contribuciones) | G12: =-42132-28000-28000-28000-28000+89468-28000-28000+89468-30000-30000 -> -91196 | H12: 4/4 ok (89468 c/u) | I12: deber ser | J12: 176332
A13: Teléfono | B13: 15449 | C13: 15449 | D13: =B13-C13 -> 0 | F13: ahorro (vacas o depa) | G13: =521409-1500000+233226+112074+182552-559623 -> -1010362 | L13: Total | M13: =SUM(M2:M12) -> 26115 | O13: total giftcard | P13: 444440 | Q13: METODO COMPRADO | R13: REGALO | S13: LLEGADA
A14: Feria | B14: 25000 | C14: =10682+1400+1000+11580+338 -> 25000 | D14: =B14-C14 -> 0 | E14: normal 25000 | F14: ahorro (colegio agus) | G14: 0 | O14: RAUL | P14: ok | Q14: ok | R14: PERFUME | S14: OK
A15: Mov. Agus + metro | B15: 0 | D15: =B15-C15 -> 0 | F15: ahorro (viaje agus) | G15: =-8000-8000-8000-8000-8000-8000-8000-8000-8000 -> -72000 | L15: Deudor | M15: Monto | O15: LUCIA | P15: 35920 | Q15: EFECTIVO | R15: imp | S15: ofi
A16: Credito LU | B16: 101536 | C16: 101536 | D16: =B16-C16 -> 0 | F16: Ahorro mantención auto | G16: =-82010-30000 -> -112010 | O16: AGUS | P16: 19990 | Q16: EFECTIVO | R16: PUZZLE SAN FRANCISCO | S16: OK
A17: frenillos agus | B17: 25000 | C17: 25000 | D17: =B17-C17 -> 0 | E17: normal 25000 | F17: Real | G17: =SUM(G1:G16) -> 0 | O17: PAPA | P17: 39980 | Q17: GIFTCARD | R17: SUETER TOMMY | S17: OK
A18: Ahorro mantencion auto | B18: 30000 | C18: =30000 -> 30000 | D18: =B18-C18 -> 0 | E18: normal 30000 | F18: Ideal | O18: MAMA | P18: =25990 -> 25990 | Q18: GIFTCARD | R18: SET LANCOME | S18: OK
A19: Ahorro major - casa | B19: 150000 | C19: 150000 | D19: =B19-C19 -> 0 | E19: normal 150000 | F19: cta cte. | G19: liquido | H19: total | J19: =H20-G17 -> 0 | O19: GIO | P19: 37791 | Q19: GIFTCARD | R19: ZAPATILLAS LACOSTE | S19: OK
A20: TAG | B20: 60000 | C20: =15700+5009+8012+1279+26000+4000 -> 60000 | D20: =B20-C20 -> 0 | E20: normal 60 | F20: =SUM(D3:D35)+B37 -> 0 | G20: 0 | H20: =F20+G20 -> 0 | O20: NINON | P20: 19990 | Q20: GIFTCARD | R20: vestido | S20: llegada 12 dic
A21: nutri-kine | B21: =15000+37000 -> 52000 | C21: =37000+15000 -> 52000 | D21: =B21-C21 -> 0 | E21: NORMAL 52000 | O21: FIORELLA | P21: 41990 | Q21: GIFTCARD | R21: unicornio | S21: OK
A22: cumple agus (sep) / rev tecnica (AGO) | D22: =B22-C22 -> 0 | O22: SUPER
A23: viajes Y paseos | B23: 85000 | C23: =25000+60000 -> 85000 | D23: =B23-C23 -> 0 | E23: NORMAL 85 | I23: para usar | J23: =G17-D4-D5-D6-D7-D12-D29-D8-D11-D13-D17-D20-D22-D24-D28-D30-D14-D21-D19-D16-D18 -> 0 | L23: Total | M23: =SUM(M16:M22) -> 0 | O23: LUCHITO | P23: 20990 | Q23: GIFTCARD | R23: POLERA ROJA | S23: ok
A24: entrenamiento raul | B24: 40000 | C24: 40000 | D24: =B24-C24 -> 0 | O24: CARITO
A25: Lucia | B25: 85000 | C25: =1000+18000+14740+35010+16250 -> 85000 | D25: =B25-C25 -> 0 | E25: 85000 | F25: ahorro colegio agus | G25: =SUM(G26:G28) -> 5636408 | O25: CRIS | P25: 17990 | Q25: GIFTCARD | R25: POLAR | S25: ok
A26: raul | B26: 85000 | C26: =31050+1800+6000+2550+2000+24954+5000+1000+3000+610+7036 -> 85000 | D26: =B26-C26 -> 0 | E26: 85000 | F26: en cta cte | G26: =G14*-1 -> 0 | I26: meses por pagar | J26: =ROUNDUP(12-(G25/'Colegio Agus'!K7),0) -> 12 | O26: MAX | P26: =25390+3990 -> 29380 | Q26: GIFTCARD | R26: Juego nintendo | S26: ok
A27: lavado auto | B27: =8800 -> 8800 | C27: =4400+2200+2200 -> 8800 | D27: =B27-C27 -> 0 | E27: 8800 | F27: en cta ahorro | G27: =AHRROS!B9 -> 5636408 | I27: falta | J27: ='Colegio Agus'!K7-G25 -> 602221.37 | O27: DOMI | P27: 24490 | Q27: GIFTCARD | R27: BLUEY | S27: OK
A28: Bencina | B28: 130000 | C28: =20000+41277+13391+31615+23717 -> 130000 | D28: =B28-C28 -> 0 | E28: 140000 | F28: en cuenta lu | G28: 0 | I28: cuotas | J28: 11 | K28: dic-nov | O28: TRINI | S28: ok
A29: Vacas o extras navidad | B29: 57619 | C29: =23762+33857 -> 57619 | D29: =B29-C29 -> 0 | I29: monto cuota | J29: =J27/J28 -> 54747.397 | O29: lu cumple | P29: =11992+1459 -> 13451 | Q29: EFECTIVO | R29: ….. | S29: …...
A30: ahorro viaje estudio agus | B30: 8000 | C30: 8000 | D30: =B30-C30 -> 0 | E30: normal 8000 | O30: FLO | S30: ok
A31: AHORRO CONTRIBUCIONES | B31: 30000 | C31: 30000 | D31: =B31-C31 -> 0 | E31: debe ser 30000 | O31: SANTI
A32: Utiles agus (uniforme) 1 de 2 | B32: 100000 | C32: =58100+36211+5689 -> 100000 | D32: =B32-C32 -> 0 | E32: normal 22000 en julio-agosto 2026 | O32: MARTIN | P32: =18890+7990 -> 26880 | Q32: GIFTCARD | R32: carrito + musical | S32: OK
A33: Netflix gio (01 año- ultimo agosto) | D33: =B33-C33 -> 0 | E33: 2620 mensual (32000 anual) | O33: mama 2 | P33: =7992+1460 -> 9452 | Q33: EFECTIVO | R33: calendario | S33: emotions
A34: carga metro - movilizacion | B34: 10000 | C34: =5000+5000 -> 10000 | D34: =B34-C34 -> 0 | E34: Normal 10000
A35: extras | B35: 222424 | C35: =18258+16858+21530+990+12990+2090+20590+6194+16500+1050+8400+2070+2000+4570+5900+2000+1890+7103+7365+2859+22627+38590 -> 222424 | D35: =B35-C35 -> 0 | H35: lo q sobra a ahorro | O35: Total | P35: =SUM(P14:P33) -> 364284
A36: Total gastos | B36: =SUM(B3:B35) -> 2713123 | C36: =SUM(C3:C35) -> 2713123
A37: Remanente | B37: =B2-B36 -> 0 | C37: =C2-C36 -> 0 | J37: =2752586 -> 2752586
D38: =SUM(D3:D35) -> 0 | J38: =574857 -> 574857 | O38: GASTADO CON GIFTCARD
J39: =J37-J38 -> 2177729 | O39: perfume raul | P39: 29990
O40: cumple fiorella | P40: =7490*2 -> 14980 | Q40: mascota + pistola burbujas | S40: jumbo 1 norte 1 dic
...

Sheet ENE26
B1: Presupuesto | C1: Gastado | D1: Queda | F1: cta cte internet | G1: =5277751 -> 5277751 | L1: Cuentas Mamá | O1: prox mes
B2: =3342596+101645 -> 3444241 | C2: =3342596+101645 -> 3444241 | F2: mama | G2: =M13 -> 29646 | L2: agua | M2: 15380
A3: Supermercado | B3: =210000 -> 210000 | C3: =5303-1005+5374-50+27971+12407+11520+11068+31760+27885+37025+8710-6450+31457+7025 -> 210000 | D3: =B3-C3 -> 0 | E3: 200000 | F3: Prox mes | G3: =P11 -> 0 | L3: luz | M3: ok
A4: DIVIDENDO | B4: 646554 | C4: 646554 | D4: =B4-C4 -> 0 | E4: 71 DE 300 | F4: ANID | G4: =-207000-34500+34500+34500+34500+34500+19971 -> -83529 | H4: (34500 cada ida) | L4: GGCC | M4: ok
A5: luz | B5: 28100 | C5: =28100 -> 28100 | D5: =B5-C5 -> 0 | F5: Sueldo prox mes | G5: =-3466976-178107 -> -3645083 | L5: Entrenamiento | M5: ok
A6: agua | B6: 9870 | C6: 9870 | D6: =B6-C6 -> 0 | F6: Ahorro Major | G6: =17644-241002 -> -223358 | L6: tag | M6: =5977+5400+2889 -> 14266
A7: GG.CC + agua caliente | B7: 195711 | C7: 195711 | D7: =B7-C7 -> 0 | F7: deudores | G7: =M23 -> 91000
A8: seguro | B8: 78475 | C8: 78475 | D8: =B8-C8 -> 0 | F8: En dolares | G8: =200*845 -> 169000
A9: regalos | B9: 30000 | C9: =30000 -> 30000 | D9: =B9-C9 -> 0 | F9: Efectivo | G9: 35000
A10: Agustina | B10: 80000 | C10: =14400+600+9836+3600+5900+10490+8184+151+26839 -> 80000 | D10: =B10-C10 -> 0 | F10: Efectivo Lu | G10: 0
A11: Colegio Agus (ahorro) | B11: 120000 | C11: 120000 | D11: =B11-C11 -> 0 | E11: normal 120000 | F11: Por pagar viaje (420,99 usd) | G11: =-420.99*892 -> -375523.08 | O11: Total | P11: =SUM(P2:P10) -> 0
A12: cuota curso agus | B12: 0 | D12: =B12-C12 -> 0 | F12: ahorro (contribuciones) | G12: =-42132-28000-28000-28000-28000+89468-28000-28000+89468-30000-30000-32000 -> -123196 | H12: 0/4 ok (89468 c/u) | I12: deber ser | J12: 176332
A13: Teléfono | B13: 15448 | C13: 15448 | D13: =B13-C13 -> 0 | F13: ahorro (vacas o depa) | G13: =-1010362-400000-1608231+1689037+41335+375523 -> -912698 | L13: Total | M13: =SUM(M2:M12) -> 29646 | O13: total giftcard | P13: 444440 | Q13: METODO COMPRADO | R13: REGALO | S13: LLEGADA
A14: Feria | B14: 25000 | C14: =5000+5000+1433+13567 -> 25000 | D14: =B14-C14 -> 0 | E14: normal 25000 | F14: ahorro (colegio agus) | G14: 0 | O14: RAUL | P14: ok | Q14: ok | R14: PERFUME | S14: OK
A15: Mov. Agus + metro | B15: =25000+25000 -> 50000 | C15: =50000 -> 50000 | D15: =B15-C15 -> 0 | F15: ahorro (viaje agus) | G15: =-8000-8000-8000-8000-8000-8000-8000-8000-8000-15000 -> -87000 | L15: Deudor | M15: Monto | O15: LUCIA | P15: 35920 | Q15: EFECTIVO | R15: imp | S15: ofi
A16: Credito LU | B16: 101654 | C16: 101654 | D16: =B16-C16 -> 0 | F16: Ahorro mantención auto | G16: =-82010-30000-40000 -> -152010 | L16: Agus | M16: 91000 | O16: AGUS | P16: 19990 | Q16: EFECTIVO | R16: PUZZLE SAN FRANCISCO | S16: OK
A17: frenillos agus | B17: 25000 | C17: 25000 | D17: =B17-C17 -> 0 | E17: normal 25000 | F17: Real | G17: =SUM(G1:G16) -> -0.08 | O17: PAPA | P17: 39980 | Q17: GIFTCARD | R17: SUETER TOMMY | S17: OK
A18: Ahorro mantencion auto | B18: 40000 | C18: 40000 | D18: =B18-C18 -> 0 | E18: normal 40000 | F18: Ideal | O18: MAMA | P18: =25990 -> 25990 | Q18: GIFTCARD | R18: SET LANCOME | S18: OK
A19: Ahorro major - casa | B19: 250000 | C19: 250000 | D19: =B19-C19 -> 0 | E19: normal 250000 | F19: cta cte. | G19: liquido | H19: total | J19: =H20-G17 -> 0.08 | O19: GIO | P19: 37791 | Q19: GIFTCARD | R19: ZAPATILLAS LACOSTE | S19: OK
A20: TAG | B20: 60000 | C20: =14800+3830+7094+3059+5033+26184 -> 60000 | D20: =B20-C20 -> 0 | E20: normal 60 | F20: =SUM(D3:D36)+B38 -> 0 | G20: 0 | H20: =F20+G20 -> 0 | O20: NINON | P20: 19990 | Q20: GIFTCARD | R20: vestido | S20: llegada 12 dic
A21: nutri-kine | B21: =15000+37000 -> 52000 | C21: =15000+37000 -> 52000 | D21: =B21-C21 -> 0 | E21: NORMAL 52000 | O21: FIORELLA | P21: 41990 | Q21: GIFTCARD | R21: unicornio | S21: OK
A22: cumple agus (sep) / rev tecnica (AGO) | B22: =4990 -> 4990 | C22: 4990 | D22: =B22-C22 -> 0 | E22: o permiso circ marzo | O22: SUPER
A23: viajes Y paseos | B23: 90000 | C23: 90000 | D23: =B23-C23 -> 0 | E23: NORMAL 85 | I23: para usar | J23: =G17-SUM(D4,D5,D6,D7,D8,D11,D12,D13,D16,D17,D18,D19,D20,D21,D22,D24,D28,D30,D31,D33,D36) -> -0.08 | L23: Total | M23: =SUM(M16:M22) -> 91000 | O23: LUCHITO | P23: 20990 | Q23: GIFTCARD | R23: POLERA ROJA | S23: ok
A24: entrenamiento raul | B24: 40000 | C24: 40000 | D24: =B24-C24 -> 0 | O24: CARITO
A25: Lucia | B25: 90000 | C25: =20000+2000+44300+20546+3154 -> 90000 | D25: =B25-C25 -> 0 | E25: 85000 | F25: ahorro colegio agus | G25: =SUM(G26:G28) -> 5636408 | O25: CRIS | P25: 17990 | Q25: GIFTCARD | R25: POLAR | S25: ok
A26: raul | B26: 85000 | C26: =1120+3880+10780+4600+8000+56620 -> 85000 | D26: =B26-C26 -> 0 | E26: 85000 | F26: en cta cte | G26: =G14*-1 -> 0 | I26: meses por pagar | J26: =ROUNDUP(12-(G25/'Colegio Agus'!K7),0) -> 12 | O26: MAX | P26: =25390+3990 -> 29380 | Q26: GIFTCARD | R26: Juego nintendo | S26: ok
A27: lavado auto | B27: =8800 -> 8800 | C27: =8800 -> 8800 | D27: =B27-C27 -> 0 | E27: 8800 | F27: en cta ahorro | G27: =AHRROS!B9 -> 5636408 | I27: falta | J27: ='Colegio Agus'!K7-G25 -> 602221.37 | O27: DOMI | P27: 24490 | Q27: GIFTCARD | R27: BLUEY | S27: OK
A28: Bencina | B28: 140000 | C28: =51112+15000+73888 -> 140000 | D28: =B28-C28 -> 0 | E28: 140000 | F28: en cuenta lu | G28: 0 | I28: cuotas | J28: 10 | K28: ene-nov | O28: TRINI | S28: ok
A29: Vacas o extras navidad | B29: 135639 | C29: 135639 | D29: =B29-C29 -> 0 | I29: monto cuota | J29: =J27/J28 -> 60222.137 | O29: lu cumple | P29: =11992+1459 -> 13451 | Q29: EFECTIVO | R29: ….. | S29: …...
A30: ahorro viaje estudio agus | B30: 15000 | C30: 15000 | D30: =B30-C30 -> 0 | E30: normal 15000 | O30: FLO | S30: ok
A31: AHORRO CONTRIBUCIONES | B31: 32000 | C31: =32000 -> 32000 | D31: =B31-C31 -> 0 | E31: debe ser 32000 | O31: SANTI
A32: Utiles agus (uniforme) 2 de 2 | B32: 150000 | C32: =18754+7814+123432 -> 150000 | D32: =B32-C32 -> 0 | E32: normal 22000 en julio-agosto 2026 | O32: MARTIN | P32: =18890+7990 -> 26880 | Q32: GIFTCARD | R32: carrito + musical | S32: OK
A33: Netflix gio (01 año- ultimo agosto) | D33: =B33-C33 -> 0 | E33: 2620 mensual (32000 anual) | O33: mama 2 | P33: =7992+1460 -> 9452 | Q33: EFECTIVO | R33: calendario | S33: emotions
A34: carga metro - movilizacion-lucia | B34: 15000 | C34: 15000 | D34: =B34-C34 -> 0 | E34: Normal 10000
A35: extras | B35: 220000 | C35: =14000+11310+4990+1000+278+5400+48770+6770+9830+27462+2780+2800+46281+38329 -> 220000 | D35: =B35-C35 -> 0
