Workbook

Sheet MAESTRO
A1: N° | B1: PRECEDENCIA | C1: FUENTE | D1: TRATAMIENTO | E1: TRIBUNA | F1: NOMBRE COMPLETO | G1: NOMBRE | H1: APE. P. | I1: APE. M. | J1: AST. | K1: CARGO | L1: OBSERVACIONES | M1: TRIBUNA BASE | N1: DISTRIBUYE | O1: SEMAFORO | P1: ASIENTO
A2: 1 | B2: 1 | C2: OPA | D2: Su Excelencia | E2: =IF($J2="NO","",IF($M2="","",$M2)) | F2: Kast Rist, José Antonio | G2: José Antonio | H2: Kast | I2: Rist | J2: SI | K2: * Presidente de la República | M2: VIP | N2: =IF($J2="NO","NO","SI") | O2: =IF($J2="SI","🟢",IF($J2="NO","🔴","🟡")) | P2: A21
A3: 2 | B3: 2 | C3: OPA | D3: Primera Dama | E3: =IF($J3="NO","",IF($M3="","",$M3)) | F3: Adriasola Barroihet, María Pía | G3: María Pía | H3: Adriasola | I3: Barroihet | J3: SI | K3: Esposa del Presidente de la República | M3: VIP | N3: =IF($J3="NO","NO","SI") | O3: =IF($J3="SI","🟢",IF($J3="NO","🔴","🟡")) | P3: A20
A4: 3 | B4: 3 | C4: OPA | D4: Ministro | E4: =IF($J4="NO","",IF($M4="","",$M4)) | F4: Barros Tocornal, Fernando | G4: Fernando | H4: Barros | I4: Tocornal | J4: SI | K4: *Ministro de Defensa Nacional | M4: VIP | N4: =IF($J4="NO","NO","SI") | O4: =IF($J4="SI","🟢",IF($J4="NO","🔴","🟡")) | P4: A22
A5: 4 | B5: 4 | C5: OPA | D5: Almirante | E5: =IF($J5="NO","",IF($M5="","",$M5)) | F5: Cabrera Salazar, Fernando | G5: Fernando | H5: Cabrera | I5: Salazar | J5: SI | K5: *Comandante en Jefe de la Armada | M5: VIP | N5: =IF($J5="NO","NO","SI") | O5: =IF($J5="SI","🟢",IF($J5="NO","🔴","🟡")) | P5: A19
A6: 5 | B6: 5 | C6: OPA | D6: Señora | E6: =IF($J6="NO","",IF($M6="","",$M6)) | F6: Mery, Roxana | G6: Roxana | H6: Mery | I6: Casella | J6: SI | K6: Esposa del Comandante en Jefe de la Armada | M6: VIP | N6: =IF($J6="NO","NO","SI") | O6: =IF($J6="SI","🟢",IF($J6="NO","🔴","🟡")) | P6: A23
A7: 6 | B7: 6 | C7: OPA | D7: Señora | E7: =IF($J7="NO","",IF($M7="","",$M7)) | F7: Morel Montes, María Cecilia | G7: María Cecilia | H7: Morel | I7: Montes | J7: PENDIENTE | K7: Ex - Primera Dama | M7: VIP | N7: =IF($J7="NO","NO","SI") | O7: =IF($J7="SI","🟢",IF($J7="NO","🔴","🟡")) | P7: A18
A8: 7 | B8: 7 | C8: OPA | D8: Honorable Senador | E8: =IF($J8="NO","",IF($M8="","",$M8)) | F8: Núñez Urrutia, Paulina | G8: Iván | H8: Moreira | I8: Barros | J8: SI | K8: *Presidenta del Senado (Representante). | M8: VIP | N8: =IF($J8="NO","NO","SI") | O8: =IF($J8="SI","🟢",IF($J8="NO","🔴","🟡")) | P8: A24
A9: 8 | B9: 8 | C9: OPA | D9: Honorable Diputado | E9: =IF($J9="NO","",IF($M9="","",$M9)) | F9: Alessandri Vergara, Jorge | G9: Jorge | H9: Alessandri | I9: Vergara | J9: NO | K9: Presidente de la Cámara de Diputados | M9: VIP | N9: =IF($J9="NO","NO","SI") | O9: =IF($J9="SI","🟢",IF($J9="NO","🔴","🟡"))
A10: 9 | B10: 9 | C10: OPA | D10: Su Excelencia | E10: =IF($J10="NO","",IF($M10="","",$M10)) | F10: Boric Font, Gabriel | G10: Gabriel | H10: Boric | I10: Font | J10: PENDIENTE | K10: Ex Presidente de la República | M10: VIP | N10: =IF($J10="NO","NO","SI") | O10: =IF($J10="SI","🟢",IF($J10="NO","🔴","🟡")) | P10: A17
A11: 10 | B11: 10 | C11: OPA | E11: =IF($J11="NO","",IF($M11="","",$M11)) | F11: Bachelet Jeria, Michelle | G11: Michelle | H11: Bachelet | I11: Jeria | J11: PENDIENTE | K11: Ex Presidenta de la República | M11: VIP | N11: =IF($J11="NO","NO","SI") | O11: =IF($J11="SI","🟢",IF($J11="NO","🔴","🟡")) | P11: A25
A12: 11 | B12: 11 | C12: OPA | D12: Su Excelencia | E12: =IF($J12="NO","",IF($M12="","",$M12)) | F12: Lagos Escobar, Ricardo | G12: Ricardo | H12: Lagos | I12: Escobar | J12: PENDIENTE | K12: Ex Presidente de la República | M12: VIP | N12: =IF($J12="NO","NO","SI") | O12: =IF($J12="SI","🟢",IF($J12="NO","🔴","🟡")) | P12: A16
A13: 12 | B13: 12 | C13: OPA | D13: Su Excelencia | E13: =IF($J13="NO","",IF($M13="","",$M13)) | F13: Frei Ruiz-tagle, Eduardo | G13: Eduardo | H13: Frei | I13: Ruiz-tagle | J13: PENDIENTE | K13: Ex Presidente de la República | M13: VIP | N13: =IF($J13="NO","NO","SI") | O13: =IF($J13="SI","🟢",IF($J13="NO","🔴","🟡")) | P13: A26
A14: 13 | B14: 13 | C14: OPA | D14: Presidente | E14: =IF($J14="NO","",IF($M14="","",$M14)) | F14: Marzi Muñoz, Daniela | G14: Daniela | H14: Marzi | I14: Muñoz | J14: NO | K14: Presidente del Tribunal Constitucional | M14: VIP | N14: =IF($J14="NO","NO","SI") | O14: =IF($J14="SI","🟢",IF($J14="NO","🔴","🟡"))
A15: 14 | B15: 14 | C15: OPA | D15: Contralora | E15: =IF($J15="NO","",IF($M15="","",$M15)) | F15: Pérez Gutiérrez, Dorothy | G15: Dorothy | H15: Pérez | I15: Gutiérrez | J15: NO | K15: Contralora General de la República | M15: VIP | N15: =IF($J15="NO","NO","SI") | O15: =IF($J15="SI","🟢",IF($J15="NO","🔴","🟡"))
A16: 15 | B16: 15 | C16: OPA | D16: Fiscal | E16: =IF($J16="NO","",IF($M16="","",$M16)) | F16: Valencia Vásquez, Ángel | G16: Ángel | H16: Valencia | I16: Vásquez | J16: NO | K16: Fiscal Nacional del Ministerio Público | M16: VIP | N16: =IF($J16="NO","NO","SI") | O16: =IF($J16="SI","🟢",IF($J16="NO","🔴","🟡"))
A17: 16 | B17: 16 | C17: OPA | D17: Ministro | E17: =IF($J17="NO","",IF($M17="","",$M17)) | F17: Alvarado Andrade, Claudio | G17: Claudio | H17: Alvarado | I17: Andrade | J17: PENDIENTE | K17: Biministro del Interior y Secretario General de Gobierno | M17: VIP | N17: =IF($J17="NO","NO","SI") | O17: =IF($J17="SI","🟢",IF($J17="NO","🔴","🟡")) | P17: A15
A18: 17 | B18: 17 | C18: OPA | D18: Ministro | E18: =IF($J18="NO","",IF($M18="","",$M18)) | F18: Pérez Mackenna, Francisco | G18: Francisco | H18: Pérez | I18: Mackenna | J18: NO | K18: Ministro de Relaciones Exteriores | M18: VIP | N18: =IF($J18="NO","NO","SI") | O18: =IF($J18="SI","🟢",IF($J18="NO","🔴","🟡"))
A19: 18 | B19: 18 | C19: OPA | D19: Ministro | E19: =IF($J19="NO","",IF($M19="","",$M19)) | F19: Quiroz Castro, Jorge | G19: Jorge | H19: Quiroz | I19: Castro | J19: NO | K19: Ministro de Hacienda | M19: VIP | N19: =IF($J19="NO","NO","SI") | O19: =IF($J19="SI","🟢",IF($J19="NO","🔴","🟡"))
A20: 19 | B20: 19 | C20: OPA | D20: Ministro | E20: =IF($J20="NO","",IF($M20="","",$M20)) | F20: Mas Valdés, Daniel | G20: Daniel | H20: Mas | I20: Valdés | J20: NO | K20: Biministro de Minería, Economía y Turismo | M20: VIP | N20: =IF($J20="NO","NO","SI") | O20: =IF($J20="SI","🟢",IF($J20="NO","🔴","🟡"))
A21: 20 | B21: 20 | C21: OPA | D21: Ministro | E21: =IF($J21="NO","",IF($M21="","",$M21)) | F21: Arzola González, María Paz | G21: María Paz | H21: Arzola | I21: González | J21: NO | K21: Ministra de Educación | M21: VIP | N21: =IF($J21="NO","NO","SI") | O21: =IF($J21="SI","🟢",IF($J21="NO","🔴","🟡"))
A22: 21 | B22: 21 | C22: OPA | D22: Ministro | E22: =IF($J22="NO","",IF($M22="","",$M22)) | F22: De Grange Concha, Louis | G22: Louis | H22: De Grange | I22: Concha | J22: NO | K22: Biministro de Obras Publicas, Transporte y Telecomunicaciones | M22: VIP | N22: =IF($J22="NO","NO","SI") | O22: =IF($J22="SI","🟢",IF($J22="NO","🔴","🟡"))
A23: 22 | B23: 22 | C23: OPA | D23: Ministro | E23: =IF($J23="NO","",IF($M23="","",$M23)) | F23: Parot Donoso, Catalina | G23: Catalina | H23: Parot | I23: Donoso | J23: PENDIENTE | K23: Ministra de Bienes Nacionales | M23: VIP | N23: =IF($J23="NO","NO","SI") | O23: =IF($J23="SI","🟢",IF($J23="NO","🔴","🟡")) | P23: A27
A24: 23 | B24: 23 | C24: OPA | D24: Ministro | E24: =IF($J24="NO","",IF($M24="","",$M24)) | F24: Rincón González, Ximena | G24: Ximena | H24: Rincón | I24: González | J24: PENDIENTE | K24: Ministra de Energía | M24: VIP | N24: =IF($J24="NO","NO","SI") | O24: =IF($J24="SI","🟢",IF($J24="NO","🔴","🟡")) | P24: A14
A25: 24 | B25: 24 | C25: OPA | D25: Ministro | E25: =IF($J25="NO","",IF($M25="","",$M25)) | F25: Toledo Echegaray, Francisca | G25: Francisca | H25: Toledo | I25: Echegaray | J25: NO | K25: Ministra del Medio Ambiente | M25: VIP | N25: =IF($J25="NO","NO","SI") | O25: =IF($J25="SI","🟢",IF($J25="NO","🔴","🟡"))
A26: 25 | B26: 25 | C26: OPA | D26: Ministro | E26: =IF($J26="NO","",IF($M26="","",$M26)) | F26: Undurruga Gazitúa, Francisco | G26: Francisco | H26: Undurruga | I26: Gazitúa | J26: PENDIENTE | K26: Ministro de las Culturas, las Artes y el Patrimonio | M26: VIP | N26: =IF($J26="NO","NO","SI") | O26: =IF($J26="SI","🟢",IF($J26="NO","🔴","🟡")) | P26: A28
A27: 26 | B27: 26 | C27: OPA | D27: Ministro | E27: =IF($J27="NO","",IF($M27="","",$M27)) | F27: Lincolao Gates, Ximena | G27: Ximena | H27: Lincolao | I27: Gates | J27: NO | K27: Ministra de Ciencia, Tecnología, Conocimiento e Innovación | M27: VIP | N27: =IF($J27="NO","NO","SI") | O27: =IF($J27="SI","🟢",IF($J27="NO","🔴","🟡"))
A28: 27 | B28: 27 | C28: OPA | D28: Ministro | E28: =IF($J28="NO","",IF($M28="","",$M28)) | F28: Burgos Varela, Jorge | G28: Jorge | H28: Burgos | I28: Varela | J28: NO | K28: Ex Ministro de Defensa Nacional | M28: VIP | N28: =IF($J28="NO","NO","SI") | O28: =IF($J28="SI","🟢",IF($J28="NO","🔴","🟡"))
A29: 28 | B29: 28 | C29: OPA | D29: Ministro | E29: =IF($J29="NO","",IF($M29="","",$M29)) | F29: Fernández Allende, Maya | G29: Maya | H29: Fernández | I29: Allende | J29: PENDIENTE | K29: Ex Ministra de Defensa Nacional | M29: VIP | N29: =IF($J29="NO","NO","SI") | O29: =IF($J29="SI","🟢",IF($J29="NO","🔴","🟡")) | P29: A13
A30: 29 | B30: 29 | C30: OPA | D30: Ministro | E30: =IF($J30="NO","",IF($M30="","",$M30)) | F30: Delpiano Puelma, Adriana | G30: Adriana | H30: Delpiano | I30: Puelma | J30: PENDIENTE | K30: Ex Ministra de Defensa Nacional | M30: VIP | N30: =IF($J30="NO","NO","SI") | O30: =IF($J30="SI","🟢",IF($J30="NO","🔴","🟡")) | P30: A29
A31: 30 | B31: 30 | C31: OPA | D31: Excelentísima | E31: =IF($J31="NO","",IF($M31="","",$M31)) | F31: El Ghali, Kenza | G31: Kenza | H31: El Ghali | J31: NO | K31: Embajador de Marruecos | M31: VIP | N31: =IF($J31="NO","NO","SI") | O31: =IF($J31="SI","🟢",IF($J31="NO","🔴","🟡"))
A32: 31 | B32: 31 | C32: OPA | D32: Excelentísima | E32: =IF($J32="NO","",IF($M32="","",$M32)) | F32: Soares Pacheco, Paulo | G32: Paulo | H32: Soares | I32: Pacheco | J32: PENDIENTE | K32: Embajador de Brasil en Chile | M32: VIP | N32: =IF($J32="NO","NO","SI") | O32: =IF($J32="SI","🟢",IF($J32="NO","🔴","🟡")) | P32: A12
A33: 32 | B33: 32 | C33: OPA | D33: Excelentísima | E33: =IF($J33="NO","",IF($M33="","",$M33)) | F33: Qingbao, Niu | G33: Niu | H33: Qingbao | J33: PENDIENTE | K33: Embajador de la República Popular China en Chile | M33: VIP | N33: =IF($J33="NO","NO","SI") | O33: =IF($J33="SI","🟢",IF($J33="NO","🔴","🟡")) | P33: A30
A34: 33 | B34: 33 | C34: OPA | D34: Excelentísima | E34: =IF($J34="NO","",IF($M34="","",$M34)) | F34: Kotkajarvi, Johanna | G34: Johanna | H34: Kotkajarvi | J34: PENDIENTE | K34: Embajadora de Finlandia en Chile | M34: VIP | N34: =IF($J34="NO","NO","SI") | O34: =IF($J34="SI","🟢",IF($J34="NO","🔴","🟡")) | P34: A11
A35: 34 | B35: 34 | C35: OPA | D35: Excelentísima | E35: =IF($J35="NO","",IF($M35="","",$M35)) | F35: Biagiotti, Valeria | G35: Valeria | H35: Biagiotti | J35: PENDIENTE | K35: Embajadora de Italia en Chile | M35: VIP | N35: =IF($J35="NO","NO","SI") | O35: =IF($J35="SI","🟢",IF($J35="NO","🔴","🟡")) | P35: A31
A36: 35 | B36: 35 | C36: OPA | D36: Excelentísima | E36: =IF($J36="NO","",IF($M36="","",$M36)) | F36: Jae Kim, Hak | G36: Hak | H36: Jae Kim | J36: NO | K36: Embajadora de Corea en Chile | M36: VIP | N36: =IF($J36="NO","NO","SI") | O36: =IF($J36="SI","🟢",IF($J36="NO","🔴","🟡"))
A37: 36 | B37: 36 | C37: OPA | D37: Excelentísima | E37: =IF($J37="NO","",IF($M37="","",$M37)) | F37: Moreno Rodriguez, Laura | G37: Laura | H37: Moreno | I37: Rodriguez | J37: PENDIENTE | K37: Embajadora de Mexico en Chile | M37: VIP | N37: =IF($J37="NO","NO","SI") | O37: =IF($J37="SI","🟢",IF($J37="NO","🔴","🟡")) | P37: A10
A38: 37 | B38: 37 | C38: OPA | D38: Excelentísima | E38: =IF($J38="NO","",IF($M38="","",$M38)) | F38: Faurie, Jorge | G38: Jorge | H38: Faurie | J38: NO | K38: Embajador de Argentina en Chile | M38: VIP | N38: =IF($J38="NO","NO","SI") | O38: =IF($J38="SI","🟢",IF($J38="NO","🔴","🟡"))
A39: 38 | B39: 38 | C39: OPA | D39: Excelentísima | E39: =IF($J39="NO","",IF($M39="","",$M39)) | F39: Barrit Martin, Andrew James | G39: Andrew James | H39: Barrit | I39: Martin | J39: PENDIENTE | K39: Embajador de Australia en Chile | M39: VIP | N39: =IF($J39="NO","NO","SI") | O39: =IF($J39="SI","🟢",IF($J39="NO","🔴","🟡")) | P39: A32
A40: 39 | B40: 39 | C40: OPA | D40: Excelentísima | E40: =IF($J40="NO","",IF($M40="","",$M40)) | F40: Rogeau, Cyrille | G40: Cyrille | H40: Rogeau | J40: SI | K40: Embajador de Francia en Chile | M40: VIP | N40: =IF($J40="NO","NO","SI") | O40: =IF($J40="SI","🟢",IF($J40="NO","🔴","🟡")) | P40: A9
...

Sheet CONTROL ASISTENCIA
A1: CONTROL ASISTENCIA - GENERAL / VIP / 3 TRIBUNAS
A3: Indicador | B3: Cantidad | C3: Fórmula/Referencia | E3: TRIBUNA | F3: TOTAL | G3: SI | H3: NO | I3: PENDIENTE | J3: DISTRIBUYE
A4: Total invitados | B4: =COUNTA(MAESTRO!$F$2:$F$716) | C4: NOMBRE COMPLETO | E4: VIP | F4: =COUNTIF(MAESTRO!$M$2:$M$716,E4) | G4: =COUNTIFS(MAESTRO!$M$2:$M$716,E4,MAESTRO!$J$2:$J$716,"SI") | H4: =COUNTIFS(MAESTRO!$M$2:$M$716,E4,MAESTRO!$J$2:$J$716,"NO") | I4: =COUNTIFS(MAESTRO!$M$2:$M$716,E4,MAESTRO!$J$2:$J$716,"PENDIENTE") | J4: =COUNTIFS(MAESTRO!$E$2:$E$716,E4,MAESTRO!$N$2:$N$716,"SI")
A5: Confirmados SI | B5: =COUNTIF(MAESTRO!$J$2:$J$716,"SI") | C5: AST. | E5: LATERAL VIP | F5: =COUNTIF(MAESTRO!$M$2:$M$716,E5) | G5: =COUNTIFS(MAESTRO!$M$2:$M$716,E5,MAESTRO!$J$2:$J$716,"SI") | H5: =COUNTIFS(MAESTRO!$M$2:$M$716,E5,MAESTRO!$J$2:$J$716,"NO") | I5: =COUNTIFS(MAESTRO!$M$2:$M$716,E5,MAESTRO!$J$2:$J$716,"PENDIENTE") | J5: =COUNTIFS(MAESTRO!$E$2:$E$716,E5,MAESTRO!$N$2:$N$716,"SI")
A6: No asisten | B6: =COUNTIF(MAESTRO!$J$2:$J$716,"NO") | C6: AST. | E6: LATERAL | F6: =COUNTIF(MAESTRO!$M$2:$M$716,E6) | G6: =COUNTIFS(MAESTRO!$M$2:$M$716,E6,MAESTRO!$J$2:$J$716,"SI") | H6: =COUNTIFS(MAESTRO!$M$2:$M$716,E6,MAESTRO!$J$2:$J$716,"NO") | I6: =COUNTIFS(MAESTRO!$M$2:$M$716,E6,MAESTRO!$J$2:$J$716,"PENDIENTE") | J6: =COUNTIFS(MAESTRO!$E$2:$E$716,E6,MAESTRO!$N$2:$N$716,"SI")
A7: Pendientes | B7: =COUNTIF(MAESTRO!$J$2:$J$716,"PENDIENTE") | C7: AST.
A8: Distribuye | B8: =COUNTIF(MAESTRO!$N$2:$N$716,"SI") | C8: AST. <> NO
A9: VIP distribuye | B9: =COUNTIFS(MAESTRO!$E$2:$E$716,"VIP",MAESTRO!$N$2:$N$716,"SI") | C9: Solo Tribuna VIP
A10: Capacidad VIP | B10: 149 | C10: Plano 149 asientos
A11: VIP sin asignar | B11: =MAX(0,B7-B8) | C11: Capacidad VIP
A15: RESUMEN POR FUENTE
A16: FUENTE | B16: TOTAL | C16: SI | D16: NO | E16: PENDIENTE | F16: VIP | G16: LATERAL VIP | H16: LATERAL
A17: ACADÉMICOS | B17: =COUNTIF(MAESTRO!$C$2:$C$716,A17) | C17: =COUNTIFS(MAESTRO!$C$2:$C$716,A17,MAESTRO!$J$2:$J$716,"SI") | D17: =COUNTIFS(MAESTRO!$C$2:$C$716,A17,MAESTRO!$J$2:$J$716,"NO") | E17: =COUNTIFS(MAESTRO!$C$2:$C$716,A17,MAESTRO!$J$2:$J$716,"PENDIENTE") | F17: =COUNTIFS(MAESTRO!$C$2:$C$716,A17,MAESTRO!$E$2:$E$716,"VIP",MAESTRO!$N$2:$N$716,"SI") | G17: =COUNTIFS(MAESTRO!$C$2:$C$716,A17,MAESTRO!$E$2:$E$716,"LATERAL VIP",MAESTRO!$N$2:$N$716,"SI") | H17: =COUNTIFS(MAESTRO!$C$2:$C$716,A17,MAESTRO!$E$2:$E$716,"LATERAL",MAESTRO!$N$2:$N$716,"SI")
A18: ASMAR | B18: =COUNTIF(MAESTRO!$C$2:$C$716,A18) | C18: =COUNTIFS(MAESTRO!$C$2:$C$716,A18,MAESTRO!$J$2:$J$716,"SI") | D18: =COUNTIFS(MAESTRO!$C$2:$C$716,A18,MAESTRO!$J$2:$J$716,"NO") | E18: =COUNTIFS(MAESTRO!$C$2:$C$716,A18,MAESTRO!$J$2:$J$716,"PENDIENTE") | F18: =COUNTIFS(MAESTRO!$C$2:$C$716,A18,MAESTRO!$E$2:$E$716,"VIP",MAESTRO!$N$2:$N$716,"SI") | G18: =COUNTIFS(MAESTRO!$C$2:$C$716,A18,MAESTRO!$E$2:$E$716,"LATERAL VIP",MAESTRO!$N$2:$N$716,"SI") | H18: =COUNTIFS(MAESTRO!$C$2:$C$716,A18,MAESTRO!$E$2:$E$716,"LATERAL",MAESTRO!$N$2:$N$716,"SI")
A19: ASMAR DIRECCIÓN | B19: =COUNTIF(MAESTRO!$C$2:$C$716,A19) | C19: =COUNTIFS(MAESTRO!$C$2:$C$716,A19,MAESTRO!$J$2:$J$716,"SI") | D19: =COUNTIFS(MAESTRO!$C$2:$C$716,A19,MAESTRO!$J$2:$J$716,"NO") | E19: =COUNTIFS(MAESTRO!$C$2:$C$716,A19,MAESTRO!$J$2:$J$716,"PENDIENTE") | F19: =COUNTIFS(MAESTRO!$C$2:$C$716,A19,MAESTRO!$E$2:$E$716,"VIP",MAESTRO!$N$2:$N$716,"SI") | G19: =COUNTIFS(MAESTRO!$C$2:$C$716,A19,MAESTRO!$E$2:$E$716,"LATERAL VIP",MAESTRO!$N$2:$N$716,"SI") | H19: =COUNTIFS(MAESTRO!$C$2:$C$716,A19,MAESTRO!$E$2:$E$716,"LATERAL",MAESTRO!$N$2:$N$716,"SI")
A20: ASMARMAG | B20: =COUNTIF(MAESTRO!$C$2:$C$716,A20) | C20: =COUNTIFS(MAESTRO!$C$2:$C$716,A20,MAESTRO!$J$2:$J$716,"SI") | D20: =COUNTIFS(MAESTRO!$C$2:$C$716,A20,MAESTRO!$J$2:$J$716,"NO") | E20: =COUNTIFS(MAESTRO!$C$2:$C$716,A20,MAESTRO!$J$2:$J$716,"PENDIENTE") | F20: =COUNTIFS(MAESTRO!$C$2:$C$716,A20,MAESTRO!$E$2:$E$716,"VIP",MAESTRO!$N$2:$N$716,"SI") | G20: =COUNTIFS(MAESTRO!$C$2:$C$716,A20,MAESTRO!$E$2:$E$716,"LATERAL VIP",MAESTRO!$N$2:$N$716,"SI") | H20: =COUNTIFS(MAESTRO!$C$2:$C$716,A20,MAESTRO!$E$2:$E$716,"LATERAL",MAESTRO!$N$2:$N$716,"SI")
A21: ASMARTALC | B21: =COUNTIF(MAESTRO!$C$2:$C$716,A21) | C21: =COUNTIFS(MAESTRO!$C$2:$C$716,A21,MAESTRO!$J$2:$J$716,"SI") | D21: =COUNTIFS(MAESTRO!$C$2:$C$716,A21,MAESTRO!$J$2:$J$716,"NO") | E21: =COUNTIFS(MAESTRO!$C$2:$C$716,A21,MAESTRO!$J$2:$J$716,"PENDIENTE") | F21: =COUNTIFS(MAESTRO!$C$2:$C$716,A21,MAESTRO!$E$2:$E$716,"VIP",MAESTRO!$N$2:$N$716,"SI") | G21: =COUNTIFS(MAESTRO!$C$2:$C$716,A21,MAESTRO!$E$2:$E$716,"LATERAL VIP",MAESTRO!$N$2:$N$716,"SI") | H21: =COUNTIFS(MAESTRO!$C$2:$C$716,A21,MAESTRO!$E$2:$E$716,"LATERAL",MAESTRO!$N$2:$N$716,"SI")
A22: ASMARVALP | B22: =COUNTIF(MAESTRO!$C$2:$C$716,A22) | C22: =COUNTIFS(MAESTRO!$C$2:$C$716,A22,MAESTRO!$J$2:$J$716,"SI") | D22: =COUNTIFS(MAESTRO!$C$2:$C$716,A22,MAESTRO!$J$2:$J$716,"NO") | E22: =COUNTIFS(MAESTRO!$C$2:$C$716,A22,MAESTRO!$J$2:$J$716,"PENDIENTE") | F22: =COUNTIFS(MAESTRO!$C$2:$C$716,A22,MAESTRO!$E$2:$E$716,"VIP",MAESTRO!$N$2:$N$716,"SI") | G22: =COUNTIFS(MAESTRO!$C$2:$C$716,A22,MAESTRO!$E$2:$E$716,"LATERAL VIP",MAESTRO!$N$2:$N$716,"SI") | H22: =COUNTIFS(MAESTRO!$C$2:$C$716,A22,MAESTRO!$E$2:$E$716,"LATERAL",MAESTRO!$N$2:$N$716,"SI")
A23: CIVILES | B23: =COUNTIF(MAESTRO!$C$2:$C$716,A23) | C23: =COUNTIFS(MAESTRO!$C$2:$C$716,A23,MAESTRO!$J$2:$J$716,"SI") | D23: =COUNTIFS(MAESTRO!$C$2:$C$716,A23,MAESTRO!$J$2:$J$716,"NO") | E23: =COUNTIFS(MAESTRO!$C$2:$C$716,A23,MAESTRO!$J$2:$J$716,"PENDIENTE") | F23: =COUNTIFS(MAESTRO!$C$2:$C$716,A23,MAESTRO!$E$2:$E$716,"VIP",MAESTRO!$N$2:$N$716,"SI") | G23: =COUNTIFS(MAESTRO!$C$2:$C$716,A23,MAESTRO!$E$2:$E$716,"LATERAL VIP",MAESTRO!$N$2:$N$716,"SI") | H23: =COUNTIFS(MAESTRO!$C$2:$C$716,A23,MAESTRO!$E$2:$E$716,"LATERAL",MAESTRO!$N$2:$N$716,"SI")
A24: INVITADOS ASMAR | B24: =COUNTIF(MAESTRO!$C$2:$C$716,A24) | C24: =COUNTIFS(MAESTRO!$C$2:$C$716,A24,MAESTRO!$J$2:$J$716,"SI") | D24: =COUNTIFS(MAESTRO!$C$2:$C$716,A24,MAESTRO!$J$2:$J$716,"NO") | E24: =COUNTIFS(MAESTRO!$C$2:$C$716,A24,MAESTRO!$J$2:$J$716,"PENDIENTE") | F24: =COUNTIFS(MAESTRO!$C$2:$C$716,A24,MAESTRO!$E$2:$E$716,"VIP",MAESTRO!$N$2:$N$716,"SI") | G24: =COUNTIFS(MAESTRO!$C$2:$C$716,A24,MAESTRO!$E$2:$E$716,"LATERAL VIP",MAESTRO!$N$2:$N$716,"SI") | H24: =COUNTIFS(MAESTRO!$C$2:$C$716,A24,MAESTRO!$E$2:$E$716,"LATERAL",MAESTRO!$N$2:$N$716,"SI")
A25: INVITADOS DGSA | B25: =COUNTIF(MAESTRO!$C$2:$C$716,A25) | C25: =COUNTIFS(MAESTRO!$C$2:$C$716,A25,MAESTRO!$J$2:$J$716,"SI") | D25: =COUNTIFS(MAESTRO!$C$2:$C$716,A25,MAESTRO!$J$2:$J$716,"NO") | E25: =COUNTIFS(MAESTRO!$C$2:$C$716,A25,MAESTRO!$J$2:$J$716,"PENDIENTE") | F25: =COUNTIFS(MAESTRO!$C$2:$C$716,A25,MAESTRO!$E$2:$E$716,"VIP",MAESTRO!$N$2:$N$716,"SI") | G25: =COUNTIFS(MAESTRO!$C$2:$C$716,A25,MAESTRO!$E$2:$E$716,"LATERAL VIP",MAESTRO!$N$2:$N$716,"SI") | H25: =COUNTIFS(MAESTRO!$C$2:$C$716,A25,MAESTRO!$E$2:$E$716,"LATERAL",MAESTRO!$N$2:$N$716,"SI")
A26: MADRINA | B26: =COUNTIF(MAESTRO!$C$2:$C$716,A26) | C26: =COUNTIFS(MAESTRO!$C$2:$C$716,A26,MAESTRO!$J$2:$J$716,"SI") | D26: =COUNTIFS(MAESTRO!$C$2:$C$716,A26,MAESTRO!$J$2:$J$716,"NO") | E26: =COUNTIFS(MAESTRO!$C$2:$C$716,A26,MAESTRO!$J$2:$J$716,"PENDIENTE") | F26: =COUNTIFS(MAESTRO!$C$2:$C$716,A26,MAESTRO!$E$2:$E$716,"VIP",MAESTRO!$N$2:$N$716,"SI") | G26: =COUNTIFS(MAESTRO!$C$2:$C$716,A26,MAESTRO!$E$2:$E$716,"LATERAL VIP",MAESTRO!$N$2:$N$716,"SI") | H26: =COUNTIFS(MAESTRO!$C$2:$C$716,A26,MAESTRO!$E$2:$E$716,"LATERAL",MAESTRO!$N$2:$N$716,"SI")
A27: MANDOS SEZONA | B27: =COUNTIF(MAESTRO!$C$2:$C$716,A27) | C27: =COUNTIFS(MAESTRO!$C$2:$C$716,A27,MAESTRO!$J$2:$J$716,"SI") | D27: =COUNTIFS(MAESTRO!$C$2:$C$716,A27,MAESTRO!$J$2:$J$716,"NO") | E27: =COUNTIFS(MAESTRO!$C$2:$C$716,A27,MAESTRO!$J$2:$J$716,"PENDIENTE") | F27: =COUNTIFS(MAESTRO!$C$2:$C$716,A27,MAESTRO!$E$2:$E$716,"VIP",MAESTRO!$N$2:$N$716,"SI") | G27: =COUNTIFS(MAESTRO!$C$2:$C$716,A27,MAESTRO!$E$2:$E$716,"LATERAL VIP",MAESTRO!$N$2:$N$716,"SI") | H27: =COUNTIFS(MAESTRO!$C$2:$C$716,A27,MAESTRO!$E$2:$E$716,"LATERAL",MAESTRO!$N$2:$N$716,"SI")
A28: MILITARES | B28: =COUNTIF(MAESTRO!$C$2:$C$716,A28) | C28: =COUNTIFS(MAESTRO!$C$2:$C$716,A28,MAESTRO!$J$2:$J$716,"SI") | D28: =COUNTIFS(MAESTRO!$C$2:$C$716,A28,MAESTRO!$J$2:$J$716,"NO") | E28: =COUNTIFS(MAESTRO!$C$2:$C$716,A28,MAESTRO!$J$2:$J$716,"PENDIENTE") | F28: =COUNTIFS(MAESTRO!$C$2:$C$716,A28,MAESTRO!$E$2:$E$716,"VIP",MAESTRO!$N$2:$N$716,"SI") | G28: =COUNTIFS(MAESTRO!$C$2:$C$716,A28,MAESTRO!$E$2:$E$716,"LATERAL VIP",MAESTRO!$N$2:$N$716,"SI") | H28: =COUNTIFS(MAESTRO!$C$2:$C$716,A28,MAESTRO!$E$2:$E$716,"LATERAL",MAESTRO!$N$2:$N$716,"SI")
... A35: PROVEEDORES | B35: =COUNTIF(MAESTRO!$C$2:$C$716,A35) | C35: =COUNTIFS(MAESTRO!$C$2:$C$716,A35,MAESTRO!$J$2:$J$716,"SI") | D35: =COUNTIFS(MAESTRO!$C$2:$C$716,A35,MAESTRO!$J$2:$J$716,"NO") | E35: =COUNTIFS(MAESTRO!$C$2:$C$716,A35,MAESTRO!$J$2:$J$716,"PENDIENTE") | F35: =COUNTIFS(MAESTRO!$C$2:$C$716,A35,MAESTRO!$E$2:$E$716,"VIP",MAESTRO!$N$2:$N$716,"SI") | G35: =COUNTIFS(MAESTRO!$C$2:$C$716,A35,MAESTRO!$E$2:$E$716,"LATERAL VIP",MAESTRO!$N$2:$N$716,"SI") | H35: =COUNTIFS(MAESTRO!$C$2:$C$716,A35,MAESTRO!$E$2:$E$716,"LATERAL",MAESTRO!$N$2:$N$716,"SI")

Sheet DISTRIBUCION VIP
A1: DISTRIBUCIÓN VIP - 149 ASIENTOS / CENTRO PROTOCOLAR A21
A2: Criterio: solo TRIBUNA VIP con AST. distinto de NO. Orden por PRECEDENCIA. Centro fijo A21.
A4: FILA A | B4: A1 | C4: A2 | D4: A3 | E4: A4 | F4: A5 | G4: A6 | H4: A7 | I4: A8 | J4: A9 | K4: A10 | L4: A11 | M4: A12 | N4: A13 | O4: A14 | P4: A15 | Q4: A16 | R4: A17 | S4: A18 | T4: A19 | U4: A20 | V4: A21 | W4: A22 | X4: A23 | Y4: A24 | Z4: A25 | AA4: A26 | AB4: A27 | AC4: A28 | AD4: A29 | AE4: A30 | AF4: A31 | AG4: A32 | AH4: A33 | AI4: A34 | AJ4: A35 | AK4: A36 | AL4: A37 | AM4: A38 | AN4: A39 | AO4: A40 | AP4: A41
B5: (66) Marcela Larrañaga | C5: (61) Eduardo Cerna | D5: (59) Hugo Rodríguez | E5: (57) Julio Leiva | F5: (51) Kenko Sone | G5: (48) Lotty Andrade | H5: (45) Per Pollen | I5: (43) Sebastián Guanumen | J5: (39) Cyrille Rogeau | K5: (36) Laura Moreno | L5: (33) Johanna Kotkajarvi | M5: (31) Paulo Soares | N5: (28) Maya Fernández | O5: (23) Ximena Rincón | P5: (16) Claudio Alvarado | Q5: (11) Ricardo Lagos | R5: (9) Gabriel Boric | S5: (6) María Morel | T5: (4) Fernando Cabrera | U5: (2) María Adriasola | V5: (1) José Kast | W5: (3) Fernando Barros | X5: (5) Roxana Mery | Y5: (7) Paulina Núñez | Z5: (10) Michelle Bachelet | AA5: (12) Eduardo Frei | AB5: (22) Catalina Parot | AC5: (25) Francisco Undurruga | AD5: (29) Adriana Delpiano | AE5: (32) Niu Qingbao | AF5: (34) Valeria Biagiotti | AG5: (38) Andrew Barrit | AH5: (41) Ahmet Ihsan | AI5: (44) Karolina Guay | AJ5: (47) Elke Schaapveld | AK5: (50) Laura Oroz | AL5: (54) Peleg Lewi | AM5: (58) Pedro Varela | AN5: (60) Marcelo Araya | AO5: (64) Rodolfo Codina | AP5: (68) Leonardo Romanini
A8: FILA B | B8: B1 | C8: B2 | D8: B3 | E8: B4 | F8: B5 | G8: B6 | H8: B7 | I8: B8 | J8: B9 | K8: B10 | L8: B11 | M8: B12 | N8: B13 | O8: B14 | P8: B15 | Q8: B16 | R8: B17 | S8: B18 | T8: B19 | U8: B20 | V8: B21 | W8: B22 | X8: B23 | Y8: B24 | Z8: B25 | AA8: B26 | AB8: B27 | AC8: B28 | AD8: B29 | AE8: B30 | AF8: B31 | AG8: B32 | AH8: B33 | AI8: B34 | AJ8: B35 | AK8: B36 | AL8: B37 | AM8: B38 | AN8: B39 | AO8: B40 | AP8: B41
B9: (119) Lilian Betancurt | C9: (117) Marlene Pérez | D9: (115) Francesca Muñoz | E9: (113) Sergio Bobadilla | F9: (111) Gael Yeomans | G9: (109) Consuelo Veloso | H9: (107) Diego Schalper | I9: (104) José Montalva | J9: (101) Patricio Briones | K9: (98) Daniel Valenzuela | L9: (96) Omar Sabat | M9: (94) Hans Marowski | N9: (92) Tomás Kast | O9: (90) Jorge Brito | P9: (87) Álvaro Carter | Q9: (85) Gustavo Sanhueza | R9: (83) Enrique Van | S9: (75) Gastón Saavedra | T9: (73) Pedro Araya | U9: (70) Jorge Flies | V9: (69) Sergio Giacaman | W9: (71) Julio Anativia | X9: (74) Camila Flores | Y9: (82) Sebastián Keitel | Z9: (84) Alfonso De | AA9: (86) Loreto Carvajal | AB9: (88) Marcos Barraza | AC9: (91) Carlos Cuadrado | AD9: (93) Raúl Leiva | AE9: (95) Javier Olivares | AF9: (97) Luis Sánchez | AG9: (100) Daniel Manouchehri | AH9: (103) Cristóbal Martínez | AI9: (105) Cristian Neira | AJ9: (108) Daniela Serrano | AK9: (110) Gonzalo Winter | AL9: (112) Roberto Arroyo | AM9: (114) Paz Charpentier | AN9: (116) Álvaro Ortíz | AO9: (118) José Rivas | AP9: (120) Joanna Pérez
A12: FILA C | B12: C1 | C12: C2 | D12: C3 | E12: C4 | F12: C5 | G12: C6 | H12: C7 | I12: C8 | J12: C9 | K12: C10 | L12: C11 | M12: C12 | N12: C13 | O12: C14 | P12: C15 | Q12: C16 | R12: C17 | S12: C18 | T12: C19 | U12: C20 | V12: C21 | W12: C22 | X12: C23 | Y12: C24 | Z12: C25 | AA12: C26 | AB12: C27 | AC12: C28 | AD12: C29 | AE12: C30 | AF12: C31 | AG12: C32 | AH12: C33 | AI12: C34 | AJ12: C35 | AK12: C36 | AL12: C37 | AM12: C38 | AN12: C39 | AO12: C40 | AP12: C41
B13: (191) Claudio Bunster | C13: (189) Jorge Pires | D13: (187) Henry Cleveland | E13: (185) Mario Farren | F13: (182) Pedro Ramirez | G13: (179) Vladimir Recabarren | H13: (177) Constanza Pérez | I13: (168) Francisco Alcorta | J13: (164) Vicente Leiva | K13: (160) Matias Pérez | L13: (158) Constanza Leiva | M13: (155) Pablo Lira | N13: (153) Javier Coopman | O13: (146) José Llodrá | P13: (141) Fernando Hentzschel | Q13: (137) Santiago Browne | R13: (135) José Mujica | S13: (131) Julio Cacho | T13: (126) Christian Bolívar | U13: (123) Flor Weisse | V13: (122) Cristóbal Urruticoechea | W13: (125) Rodrigo Álvarez | X13: (130) Rafael Araos | Y13: (134) Catalina Ugarte | Z13: (136) Elizabeth Zapata | AA13: (140) Carla Coronado | AB13: (145) José Gómez | AC13: (147) Andrés López | AD13: (154) Bárbara Carvajal | AE13: (157) Alejandro Irarrázabal | AF13: (159) Marcela Leiva | AG13: (163) Eugenio Cornejo | AH13: (167) Cecy Quijada | AI13: (170) Sebastian Jerez | AJ13: (178) José Jarpa | AK13: (181) José Piña | AL13: (184) Ronald Ruf | AM13: (186) Katherine Ampuero | AN13: (188) Álvaro Vera | AO13: (190) Joao Costa | AP13: (192) Gino Casassa
A16: FILA D | B16: D1 | C16: D2 | D16: D3 | E16: D4 | F16: D5 | G16: D6 | H16: D7 | I16: D8 | J16: D9 | K16: D10 | L16: D11 | M16: D12 | N16: D13 | O16: D14 | P16: D15 | Q16: D16 | R16: D17 | S16: D18 | T16: D19 | U16: D20 | V16: D21 | W16: D22 | X16: D23 | Y16: D24 | Z16: D25 | AA16: D26 | AB16: D27 | AC16: D28 | AD16: D29 | AE16: D30 | AF16: D31 | AG16: D32 | AH16: D33 | AI16: D34 | AJ16: D35 | AK16: D36 | AL16: D37 | AM16: D38 | AN16: D39 | AO16: D40 | AP16: D41
B17: (220) Oscar Manzano | C17: (218) Daniel Muñoz | D17: (216) Arturo Oxley | E17: (214) Mauricio Arenas | F17: (211) Renzo Miccono | G17: (209) Carlos Basáez | H17: (207) Alvaro Ananías | I17: (205) Marcela Cartagena | J17: (203) María Tapia | K17: (200) Rodrigo Wainraight | L17: (198) Eduardo Saavedra | M17: (196) Héctor Muñoz | N17: (193) Rafael Cabrera | O17: CAM / LIBRE | P17: CAM / LIBRE | Q17: CAM / LIBRE | R17: CAM / LIBRE | S17: CAM / LIBRE | T17: CAM / LIBRE | U17: CAM / LIBRE | V17: CAM / LIBRE | W17: CAM / LIBRE | X17: CAM / LIBRE | Y17: CAM / LIBRE | Z17: CAM / LIBRE | AA17: CAM / LIBRE | AB17: CAM / LIBRE | AC17: CAM / LIBRE | AD17: (195) Jeannette Reveco | AE17: (197) Miguel Rivera | AF17: (199) Carla Amtmann | AG17: (202) Claudio Radonich | AH17: (204) Pablo Zavala | AI17: (206) Claudio Andrade | AJ17: (208) Oscar Rivera | AK17: (210) Claudia Chamorro | AL17: (213) Raúl Zamorano | AM17: (215) César Delgado | AN17: (217) Juan Marín | AO17: (219) José Hernández | AP17: (221) José Pájaro
A22: LISTADO PROTOCOLAR VIP
A23: ASIENTO | B23: PRECEDENCIA | C23: N° | D23: FUENTE | E23: TRATAMIENTO | F23: NOMBRE COMPLETO | G23: CARGO | H23: AST. | I23: OBS.
A24: A21 | B24: 1 | C24: 1 | D24: OPA | E24: Su Excelencia | F24: Kast Rist, José Antonio | G24: * Presidente de la República | H24: SI
A25: A20 | B25: 2 | C25: 2 | D25: OPA | E25: Primera Dama | F25: Adriasola Barroihet, María Pía | G25: Esposa del Presidente de la República | H25: SI
A26: A22 | B26: 3 | C26: 3 | D26: OPA | E26: Ministro | F26: Barros Tocornal, Fernando | G26: *Ministro de Defensa Nacional | H26: SI
A27: A19 | B27: 4 | C27: 4 | D27: OPA | E27: Almirante | F27: Cabrera Salazar, Fernando | G27: *Comandante en Jefe de la Armada | H27: SI
A28: A23 | B28: 5 | C28: 5 | D28: OPA | E28: Señora | F28: Mery, Roxana | G28: Esposa del Comandante en Jefe de la Armada | H28: SI
A29: A18 | B29: 6 | C29: 6 | D29: OPA | E29: Señora | F29: Morel Montes, María Cecilia | G29: Ex - Primera Dama | H29: PENDIENTE
A30: A24 | B30: 7 | C30: 7 | D30: OPA | E30: Honorable Senador | F30: Núñez Urrutia, Paulina | G30: *Presidenta del Senado (Representante). | H30: SI
A31: A17 | B31: 9 | C31: 9 | D31: OPA | E31: Su Excelencia | F31: Boric Font, Gabriel | G31: Ex Presidente de la República | H31: PENDIENTE
A32: A25 | B32: 10 | C32: 10 | D32: OPA | F32: Bachelet Jeria, Michelle | G32: Ex Presidenta de la República | H32: PENDIENTE
A33: A16 | B33: 11 | C33: 11 | D33: OPA | E33: Su Excelencia | F33: Lagos Escobar, Ricardo | G33: Ex Presidente de la República | H33: PENDIENTE
A34: A26 | B34: 12 | C34: 12 | D34: OPA | E34: Su Excelencia | F34: Frei Ruiz-tagle, Eduardo | G34: Ex Presidente de la República | H34: PENDIENTE
A35: A15 | B35: 16 | C35: 16 | D35: OPA | E35: Ministro | F35: Alvarado Andrade, Claudio | G35: Biministro del Interior y Secretario General de Gobierno | H35: PENDIENTE
A36: A27 | B36: 22 | C36: 22 | D36: OPA | E36: Ministro | F36: Parot Donoso, Catalina | G36: Ministra de Bienes Nacionales | H36: PENDIENTE
A37: A14 | B37: 23 | C37: 23 | D37: OPA | E37: Ministro | F37: Rincón González, Ximena | G37: Ministra de Energía | H37: PENDIENTE
A38: A28 | B38: 25 | C38: 25 | D38: OPA | E38: Ministro | F38: Undurruga Gazitúa, Francisco | G38: Ministro de las Culturas, las Artes y el Patrimonio | H38: PENDIENTE
A39: A13 | B39: 28 | C39: 28 | D39: OPA | E39: Ministro | F39: Fernández Allende, Maya | G39: Ex Ministra de Defensa Nacional | H39: PENDIENTE
A40: A29 | B40: 29 | C40: 29 | D40: OPA | E40: Ministro | F40: Delpiano Puelma, Adriana | G40: Ex Ministra de Defensa Nacional | H40: PENDIENTE
A41: A12 | B41: 31 | C41: 31 | D41: OPA | E41: Excelentísima | F41: Soares Pacheco, Paulo | G41: Embajador de Brasil en Chile | H41: PENDIENTE
A42: A30 | B42: 32 | C42: 32 | D42: OPA | E42: Excelentísima | F42: Qingbao, Niu | G42: Embajador de la República Popular China en Chile | H42: PENDIENTE
A43: A11 | B43: 33 | C43: 33 | D43: OPA | E43: Excelentísima | F43: Kotkajarvi, Johanna | G43: Embajadora de Finlandia en Chile | H43: PENDIENTE
A44: A31 | B44: 34 | C44: 34 | D44: OPA | E44: Excelentísima | F44: Biagiotti, Valeria | G44: Embajadora de Italia en Chile | H44: PENDIENTE
... A111: C18 | B111: 131 | C111: 131 | D111: OPA | E111: Vicealmirante | F111: Cacho Morán, Julio | G111: *Jefe del Estado Mayor de la Armada de Perú | H111: SI
A112: C24 | B112: 134 | C112: 134 | D112: OPA | F112: Ugarte Millán, Catalina | G112: Jefe Gabinete Precidencial | H112: PENDIENTE
A113: C17 | B113: 135 | C113: 135 | D113: OPA | E113: Presidente | F113: Mujica Castro, José Ignacio | G113: Vicepresidente Corfo | H113: SI
A114: C25 | B114: 136 | C114: 136 | D114: OPA | E114: Señor | F114: Zapata González, Elizabeth | G114: Directora Desarrollo Tecnológico Corfo y Directora Ejecutiva Comité de Construcción Naval | H114: SI
A115: C16 | B115: 137 | C115: 137 | D115: OPA | F115: Browne Hurtado, Santiago | G115: Gerente de Asuntos Estratégicos (s) de Corfo | H115: SI
A116: C26 | B116: 140 | C116: 140 | D116: OPA | F116: Coronado, Carla | G116: Asesora Ministerio Consejo Directivo de Construcción Naval | H116: PENDIENTE
A117: C15 | B117: 141 | C117: 141 | D117: OPA | F117: Hentzschel, Fernando | G117: Gerente de Capacidades Tecnológicas Consejo Directivo de Construcción Naval | H117: PENDIENTE
...

Sheet SIN ASIGNAR
A1: N° | B1: Precedencia | C1: Fuente | D1: Tratamiento | E1: Tribuna | F1: Nombre Completo | G1: AST. | H1: Cargo | I1: Motivo
A2: 222 | B2: 222 | C2: OPA/MILITAR | D2: Contraalmirante | E2: VIP | F2: Acevedo Pérez, Edgardo | G2: SI | H2: *Comandante en Jefe de la Segunda Zona Naval | I2: Sin asiento VIP: excede capacidad 149
A3: 223 | B3: 223 | C3: OPA/MILITAR | D3: Contraalmirante | E3: VIP | F3: Saelzer Concha, Federico | G3: SI | H3: *Comandante en Jefe de la Fuerza de Submarinos | I3: Sin asiento VIP: excede capacidad 149
A4: 224 | B4: 224 | C4: OPA/MILITAR | D4: Señora | E4: VIP | F4: Arrieta Figueroa, Claudia | G4: SI | H4: Esposa Comandante en Jefe de la Fuerza de Submarinos | I4: Sin asiento VIP: excede capacidad 149
A5: 225 | B5: 225 | C5: OPA/MILITAR | D5: Contraalmirante IM | E5: VIP | F5: Opazo Riquelme, Daniel | G5: SI | H5: *Comandante General del Cuerpo de Infantería de Marina | I5: Sin asiento VIP: excede capacidad 149
A6: 226 | B6: 226 | C6: OPA/MILITAR | D6: Contraalmirante | E6: VIP | F6: Guerrero García, Alberto | G6: SI | H6: Director de Programas, Investigación y Desarrollo de la Armada | I6: Sin asiento VIP: excede capacidad 149
A7: 227 | B7: 227 | C7: OPA/MILITAR | D7: Contraalmirante | E7: VIP | F7: Muñoz Cabrera, Claudio | G7: SI | H7: Contralor de la Armada | I7: Sin asiento VIP: excede capacidad 149
A8: 228 | B8: 228 | C8: OPA/MILITAR | D8: Contraalmirante AB | E8: VIP | F8: Fort Santander, Marcel | G8: SI | H8: Director de finanzaas de la Armada. | I8: Sin asiento VIP: excede capacidad 149
A9: 229 | B9: 229 | C9: OPA/MILITAR | D9: Contraalmirante | E9: VIP | F9: Torres Horton, Alejandro | G9: SI | H9: SUBMAYOR Consejo Superior ASMAR | I9: Sin asiento VIP: excede capacidad 149
A10: 230 | B10: 230 | C10: OPA/MILITAR | D10: Contraalmirante | E10: VIP | F10: Mendez Tapia, Juan Cristobal | G10: SI | H10: DIRISNAV Consejo Superior ASMAR | I10: Sin asiento VIP: excede capacidad 149
A11: 231 | B11: 231 | C11: OPA/MILITAR | D11: Comodoro | E11: VIP | F11: Valenzuea Azócar, Rene | G11: SI | H11: Secretario General de la Armada | I11: Sin asiento VIP: excede capacidad 149
A12: 232 | B12: 232 | C12: OPA/MILITAR | D12: Comodoro AB | E12: VIP | F12: Vidal Berrocal, Jorge | G12: SI | H12: DABA Consejo Superior ASMAR | I12: Sin asiento VIP: excede capacidad 149
A13: 233 | B13: 233 | C13: OPA/MILITAR | D13: General de Brigada | E13: VIP | F13: Espinoza Villalobos, Luis | G13: PENDIENTE | H13: Representante Ejército Consejo Superior ASMAR | I13: Sin asiento VIP: excede capacidad 149
... A29: 259 | B29: 259 | C29: MADRINA | D29: Presidente | E29: VIP | F29: Paulmann , Holger | G29: PENDIENTE | H29: Presidente ICARE | I29: Sin asiento VIP: excede capacidad 149
A30: 260 | B30: 260 | C30: MADRINA | E30: VIP | F30: Álvarez P., Mónica | G30: PENDIENTE | H30: Vicepresidenta ICARE | I30: Sin asiento VIP: excede capacidad 149
A31: 261 | B31: 261 | C31: MADRINA | D31: Rector | E31: VIP | F31: Corona S., Renzo | G31: PENDIENTE | H31: Director Tesorero ICARE | I31: Sin asiento VIP: excede capacidad 149
A32: 287 | B32: 287 | C32: INVITADOS DGSA | D32: Rector | E32: VIP | F32: Dagá Kunze, Joaquin | G32: PENDIENTE | H32: Director General de Obras Públicas | I32: Sin asiento VIP: excede capacidad 149
A33: 290 | B33: 290 | C33: INVITADOS DGSA | D33: Capitán de Fragata | E33: VIP | F33: Morais , Nelson | G33: PENDIENTE | H33: MFG PoN Program Office representative Armada de Portugal | I33: Sin asiento VIP: excede capacidad 149
A34: 297 | B34: 297 | C34: INVITADOS DGSA | E34: VIP | F34: Gonzalez Lorenzo, David | G34: SI | H34: Gerente General Puerto Huachipato | I34: Sin asiento VIP: excede capacidad 149
A35: 301 | B35: 301 | C35: CIVILES | D35: Señor | E35: VIP | F35: Tampier Brockhaus, Gonzalo | G35: SI | H35: Director de Desarrrollo e Innovación Universidad Austral - Comité CORFO | I35: Sin asiento VIP: excede capacidad 149
A36: 306 | B36: 306 | C36: MILITARES | D36: Capitán de Navío | E36: VIP | F36: Pereyra Barbieri, Roberto | G36: SI | H36: Comandante del Comando Anfibio y de Transportes Navales | I36: Sin asiento VIP: excede capacidad 149
A37: 314 | B37: 314 | C37: MILITARES | D37: Capitán de Navío | E37: VIP | F37: Pulleghini Flores, Alessandro | G37: SI | H37: Edecán SEPRE | I37: Sin asiento VIP: excede capacidad 149
A38: 315 | B38: 315 | C38: MILITARES | D38: Capitán de Fragata | E38: VIP | F38: Berg Aldoney, Pablo | G38: SI | H38: AYUDORALM | I38: Sin asiento VIP: excede capacidad 149
A39: 317 | B39: 317 | C39: MILITARES | D39: Capitán de Navío | E39: VIP | F39: Marambio Taylor, Christian | G39: SI | H39: Edecan Presidente del Senado | I39: Sin asiento VIP: excede capacidad 149
A40: 318 | B40: 318 | C40: MILITARES | D40: Capitán de Fragata | E40: VIP | F40: Opazo Rojas, Joaquín | G40: SI | H40: Ayudor MINDEF | I40: Sin asiento VIP: excede capacidad 149
A41: 319 | B41: 319 | C41: MILITARES | D41: Capitán de Fragata | E41: VIP | F41: González Otero, Luis | G41: SI | H41: Ayudor VA peruano | I41: Sin asiento VIP: excede capacidad 149
A42: 341 | B42: 341 | C42: MILITARES | D42: Contraalmirante | E42: VIP | F42: Pasquel Meléndez, Victor | G42: PENDIENTE | H42: Agregado Naval de México | I42: Sin asiento VIP: excede capacidad 149
A43: 395 | B43: 395 | C43: INVITADOS ASMAR | D43: Señora | E43: VIP | F43: Krakman , Karen | G43: SI | H43: Consul Países Bajos Concepción | I43: Sin asiento VIP: excede capacidad 149
A44: 396 | B44: 396 | C44: INVITADOS ASMAR | D44: Presidente | E44: VIP | F44: Fisher , Alvaro | G44: PENDIENTE | H44: Presidente del Consejo Nacional de Innovación para el Desarrollo (CNID) | I44: Sin asiento VIP: excede capacidad 149
A45: 397 | B45: 397 | C45: INVITADOS ASMAR | E45: VIP | F45: Fuster Roa, Marcelo | G45: PENDIENTE | H45: Gerente General Corporativo ASIMET A.G. - Comité CORFO | I45: Sin asiento VIP: excede capacidad 149
A46: 398 | B46: 398 | C46: INVITADOS ASMAR | D46: Presidente | E46: VIP | F46: García , Fernando | G46: PENDIENTE | H46: Presidente ASIMET A.G. | I46: Sin asiento VIP: excede capacidad 149
A47: 402 | B47: 402 | C47: INVITADOS ASMAR | D47: BANCOS | E47: VIP | F47: Donoso Smith, Camilo | G47: SI | H47: Gerente Sucursal Las Salinas de Banco Edwards | I47: Sin asiento VIP: excede capacidad 149
A48: 412 | B48: 412 | C48: INVITADOS ASMAR | D48: BANCOS | E48: VIP | F48: Matte Larraín, Bernardo | G48: PENDIENTE | H48: Vicepresidente Banco BICE | I48: Sin asiento VIP: excede capacidad 149
A49: 425 | B49: 425 | C49: INVITADOS ASMAR | D49: SEGUROS | E49: VIP | F49: Foley , Peter | G49: PENDIENTE | H49: Gerente General Lockton Seguros | I49: Sin asiento VIP: excede capacidad 149
A50: 427 | B50: 427 | C50: INVITADOS ASMAR | D50: SEGUROS | E50: VIP | F50: Martínez Fernández, Patricio | G50: SI | H50: Gerente General Mutual de Seguros de Chile | I50: Sin asiento VIP: excede capacidad 149
A51: 431 | B51: 431 | C51: INVITADOS ASMAR | E51: VIP | F51: Bagnara , Manuel | G51: PENDIENTE | H51: Gerente General en ARMASUR A.G. - Comité CORFO | I51: Sin asiento VIP: excede capacidad 149
A52: 439 | B52: 439 | C52: INVITADOS ASMAR | D52: Rector | E52: VIP | F52: Sabag Villalobos, Jorge | G52: PENDIENTE | H52: Presidente Directorio EFE Sur | I52: Sin asiento VIP: excede capacidad 149
A53: 442 | B53: 442 | C53: INVITADOS ASMAR | E53: VIP | F53: Salas , Juan Pablo | G53: PENDIENTE | H53: Gerente General Astillero ASCON Socio fundador | I53: Sin asiento VIP: excede capacidad 149
A54: 443 | B54: 443 | C54: INVITADOS ASMAR | E54: VIP | F54: Aravena , Manuel | G54: PENDIENTE | H54: Socio fundador Astillero ASCON | I54: Sin asiento VIP: excede capacidad 149
A55: 444 | B55: 444 | C55: INVITADOS ASMAR | D55: Señora | E55: VIP | F55: Gavilán Ortiz, Milka | G55: SI | H55: Comité CORFO - Presidenta Sindicato ASMAR | I55: Sin asiento VIP: excede capacidad 149
...

Sheet LISTAS
A1: LISTAS Y PARÁMETROS
A3: ASISTENCIA | C3: TRIBUNAS | E3: FUENTES | G3: FUENTES OPA | I3: CAPACIDAD VIP
A4: SI | C4: VIP | E4: ACADÉMICOS | G4: OPA | I4: 149 asientos
A5: NO | C5: LATERAL VIP | E5: ASMAR | G5: OPA/ASMAR | I5: Centro A21
A6: PENDIENTE | C6: LATERAL | E6: ASMAR DIRECCIÓN | G6: OPA/CIVILES | I6: Fila D centro reservado camarógrafos
E7: ASMARMAG | G7: OPA/DGSA
E8: ASMARTALC | G8: OPA/MILITAR
E9: ASMARVALP
E10: CIVILES
E11: INVITADOS ASMAR
E12: INVITADOS DGSA
E13: MADRINA
E14: MANDOS SEZONA
E15: MILITARES
E16: OPA
E17: OPA/ASMAR
E18: OPA/CIVILES
E19: OPA/DGSA
E20: OPA/MILITAR
... E22: PROVEEDORES
