Workbook

Sheet Respuestas cadetes
A1: Marca temporal | B1: Indique su Género | C1: Indique a que División pertenece | D1: ¿Con qué FRECUENCIA CREE UD. que ocurren situaciones de ACOSO SEXUAL, en la Escuela Naval? | E1: ¿Con qué FRECUENCIA CREE UD. que ocurren situaciones de VIOLENCIA DE GÉNERO en la Escuela Naval? | F1: ¿Con qué FRECUENCIA CREE UD. que ocurren situaciones de DISCRIMINACIÓN DE GÉNERO en la Escuela Naval? | G1: ¿Qué tan probable es escuchar comentarios sexistas dentro de su ámbito de desempeño en la Escuela Naval? | H1: Considera que existe discriminación por razones de género en la Escuela Naval | I1: Si su respuesta anterior es SI indique en que situación ha ocurrido | J1: A su parecer ¿ Cuál debiera ser el objetivo o foco central del modelo de prevención de acoso sexual, violencia o discriminación de género? | K1: ¿Qué zonas o lugares son a su juicio, propicios para que se den conductas de acoso sexual, violencia o discriminación? | L1: ¿Qué actividades que SE REALIZAN cotidianamente en la Escuela Naval son a su juicio, propicias para que se den conductas que puedan producir acoso, violencia o discriminación? | M1: ¿Qué actividades que se REALIZAN FUERA de las Instalaciones de la Escuela Naval son, a su juicio, propicios para que se den conductas que puedan producir acoso, violencia o discriminación? | N1: ¿En caso que FUERA víctima de acoso sexual, violencia o discriminación de género, haría la denuncia a su mando? | O1: Si su respuesta anterior fue NO, ¿Por qué razones NO haría la denuncia? | P1: ¿En caso que FUERA TESTIGO de acoso sexual, violencia o discriminación de género, haría la denuncia a las autoridades de la Escuela Naval? | Q1: Si su respuesta anterior fue NO, ¿Por qué razón NO haría la denuncia? | R1: ¿En caso de HABER SUFRIDO O SIDO TESTIGO de alguna de las situaciones definidas al inicio de la encuesta y que la Ley reconoce como acoso sexual, violencia o discriminación de género, ¿Hizo usted la denuncia a su mando? | S1: Si su respuesta anterior fue NO, ¿Por qué razones NO haría la denuncia? | T1: ¿Tiene conocimiento usted que haya existido alguna de las siguientes situaciones? | U1: Según su punto vista, ¿Cuál es el grado de efectividad de las medidas que ha adoptado la Escuela Naval ante casos de acoso sexual, violencia o discriminación de género? | V1: Si su respuesta es NADA EFECTIVA (Indique el Motivo) | W1: ¿Cuál de estas medidas de resguardo considera Ud. que otorgan una mejor PROTECCIÓN a la víctima de acoso, violencia o discriminación? | X1: ¿Qué sugerencias haría Ud. para prevenir conductas no deseadas y el buen cumplimiento de la ley 21.369? (estas sugerencias pueden ayudar a fomentar y fortalecer un buen ambiente laboral y estudiantil en la Escuela Naval)
A2: 2023/08/17 7:59:22 p. m. GMT-4 | B2: Femenino | C2: Brigadier | D2: Casi nunca ocurre | E2: Casi nunca ocurre | F2: Casi nunca ocurre | G2: MUY PROBABLE | H2: NO | J2: CONFERENCIAS O TALLERES REALIZADAS POR EXPERTOS EN EL TEMA | K2: Sala de clase | L2: Ninguna actividad | M2: Actividades de camaradería (asados, cumpleaños, aniversario de especialidad) | N2: Si | P2: Si | R2: No he sufrido ni sido testigo | T2: Comentarios inapropiados acerca de su apariencia | U2: Efectiva | W2: Prohibición de contacto entre las partes involucradas | X2: Tomar medidas mas estrictas ante, avisos o denuncias, acerca no solo de cadetes sino también de profesores
A3: 2023/08/17 7:59:46 p. m. GMT-4 | B3: Masculino | C3: Brigadier | D3: Poca Frecuencia | E3: Casi nunca ocurre | F3: Poca Frecuencia | G3: MUY PROBABLE | H3: SI | I3: conversaciones entre brigadieres | J3: CONFERENCIAS O TALLERES REALIZADAS POR EXPERTOS EN EL TEMA | K3: Lugares fuera de la escuela | L3: Fiestas propias de la Escuela | M3: Actividades de camaradería (asados, cumpleaños, aniversario de especialidad) | N3: Si | P3: Si | R3: Si | T3: Proximidad físicamente invasiva o incómoda | U3: Efectiva | W3: Investigación con celeridad y sin dilataciones | X3: Más que mejorar la vigilancia, creo que hay que mejorar la comunicación con el cuerpo de cadetes para que entiendan por qué es necesario denunciar este tipo de situaciones
A4: 2023/08/17 7:59:49 p. m. GMT-4 | B4: Masculino | C4: Brigadier | D4: Nunca ocurre | E4: Nunca ocurre | F4: Nunca ocurre | G4: NUNCA | H4: NO | J4: DIFUSIÓN POR MEDIOS DIGITALES INSTITUCIONALES | K4: En ningún lado | L4: Ninguna actividad | M4: Actividades de camaradería (asados, cumpleaños, aniversario de especialidad) | N4: Si | P4: Si | R4: No he sufrido ni sido testigo | T4: No tengo conocimiento | U4: Muy Efectiva | W4: Apoyo psicológico | X4: Fomentar la empatía y el respeto
A5: 2023/08/17 8:02:32 p. m. GMT-4 | B5: Masculino | C5: Cuarta | D5: Casi nunca ocurre | E5: Casi nunca ocurre | F5: Casi nunca ocurre | G5: POCO PROBABLE | H5: NO | J5: CHARLAS DIVISIONALES | K5: En ningún lado | L5: Ninguna actividad | M5: Embarcos | N5: Si | P5: Si | R5: No he sufrido ni sido testigo | T5: No tengo conocimiento | U5: Efectiva | W5: Mantener el tema al márgen, no generar instancias para que toda ma escuela se entere | X5: No dar énfasis a temas que no lo ameritan
A6: 2023/08/17 8:03:40 p. m. GMT-4 | B6: Masculino | C6: Brigadier | D6: Casi nunca ocurre | E6: Casi nunca ocurre | F6: Casi nunca ocurre | G6: PROBABLE | H6: NO | J6: DIFUSIÓN POR MEDIOS DIGITALES INSTITUCIONALES | K6: Complejo deportivo | L6: Deporte | M6: Actividades deportivas | N6: Si | P6: Si | R6: No he sufrido ni sido testigo | T6: No tengo conocimiento | U6: Efectiva | W6: Investigación con celeridad y sin dilataciones | X6: Dejaría en claro que lo que se necesita es igualdad de oportunidades, no igualdad de genero. Lo anterior, ya que, hombres y mujeres NO somos iguales biológica y fisicamente hablando. Tenemos condiciones y aptitudes diferentes y nos tenemos que desarrollar en esos ámbitos de competencia. No hay que forzar la inclusión en lugares y eventos donde no corresponde o donde el desempeño de un hombre y de una mujer sea notoriamente diferente. Debe existir la misma posibilidad de entrar y postular, pero deben ser las habilidades y competencias las que determinen quien queda dentro, no el genero.
A7: 2023/08/17 8:04:52 p. m. GMT-4 | B7: Masculino | C7: Tercera | D7: Nunca ocurre | E7: Casi nunca ocurre | F7: Poca Frecuencia | G7: PROBABLE | H7: NO | J7: CONFERENCIAS O TALLERES REALIZADAS POR EXPERTOS EN EL TEMA | K7: Sala de clase | L7: Ninguna actividad | M7: Actividades de camaradería (asados, cumpleaños, aniversario de especialidad) | N7: Si | P7: Si | R7: No he sufrido ni sido testigo | T7: No tengo conocimiento | U7: Poco efectiva | W7: Apoyo psicológico | X7: Hacer charlas con expertos sobre el tema
A8: 2023/08/17 8:04:52 p. m. GMT-4 | B8: Masculino | C8: Brigadier | D8: Casi nunca ocurre | E8: Nunca ocurre | F8: Nunca ocurre | G8: PROBABLE | H8: NO | J8: CHARLAS DIVISIONALES | K8: Entrepuente | L8: Ninguna actividad | M8: Actividades de camaradería (asados, cumpleaños, aniversario de especialidad) | N8: Si | P8: Si | R8: No he sufrido ni sido testigo | T8: No tengo conocimiento | U8: Efectiva | W8: Apoyo jurídico | X8: Promover charlas u otras formas de transmisión de información sobre estos temas y mantener un buen ejemplo dentro de la institución.
A9: 2023/08/17 8:04:54 p. m. GMT-4 | B9: Masculino | C9: Brigadier | D9: Poca Frecuencia | E9: Poca Frecuencia | F9: Poca Frecuencia | G9: PROBABLE | H9: NO | J9: CONFERENCIAS O TALLERES REALIZADAS POR EXPERTOS EN EL TEMA | K9: Patios | L9: Retiradas | M9: Embarcos | N9: Si | P9: Si | R9: No he sufrido ni sido testigo | T9: Proximidad físicamente invasiva o incómoda | U9: Efectiva | W9: Prohibición de contacto entre las partes involucradas | X9: Sin comentarios
A10: 2023/08/17 8:04:57 p. m. GMT-4 | B10: Masculino | C10: Primera | D10: Nunca ocurre | E10: Nunca ocurre | F10: Nunca ocurre | G10: POCO PROBABLE | H10: NO | J10: DIFUSIÓN POR MEDIOS DIGITALES INSTITUCIONALES | K10: En ningún lado | L10: Ninguna actividad | M10: En desfiles o lugares con contacto con la población | N10: Si | P10: Si | R10: No he sufrido ni sido testigo | T10: Comentarios inapropiados acerca de su apariencia | U10: Muy Efectiva | W10: Apoyo psicológico | X10: Crear conciencia y difundir la ley para que tengan el conocimiento de esta.
A11: 2023/08/17 8:05:12 p. m. GMT-4 | B11: Masculino | C11: Segunda | D11: Nunca ocurre | E11: Nunca ocurre | F11: Casi nunca ocurre | G11: PROBABLE | H11: NO | J11: DIFUSIÓN POR MEDIOS DIGITALES INSTITUCIONALES | K11: Lugares fuera de la escuela | L11: Fiestas propias de la Escuela | M11: Actividades de camaradería (asados, cumpleaños, aniversario de especialidad) | N11: Si | P11: Si | R11: No he sufrido ni sido testigo | T11: Proximidad físicamente invasiva o incómoda | U11: Poco efectiva | W11: Prohibición de contacto entre las partes involucradas | X11: Dar una charla y dejar en claro el cumplimiento de estas normas en la armada de chile
A12: 2023/08/17 8:08:40 p. m. GMT-4 | B12: Masculino | C12: Brigadier | D12: Nunca ocurre | E12: Casi nunca ocurre | F12: Poca Frecuencia | G12: POCO PROBABLE | H12: NO | J12: CHARLAS DIVISIONALES | K12: En ningún lado | L12: Ninguna actividad | M12: Actividades de camaradería (asados, cumpleaños, aniversario de especialidad) | N12: Si | P12: Si | R12: No he sufrido ni sido testigo | T12: Comentarios inapropiados acerca de su apariencia | U12: Poco efectiva | W12: Investigación con celeridad y sin dilataciones | X12: Que Exista un pleno conocimiento de la ley por parte de los cadetes
A13: 2023/08/17 8:10:27 p. m. GMT-4 | B13: Masculino | C13: Brigadier | D13: Casi nunca ocurre | E13: Casi nunca ocurre | F13: Poca Frecuencia | G13: POCO PROBABLE | H13: NO | J13: DIFUSIÓN POR MEDIOS DIGITALES INSTITUCIONALES | K13: En ningún lado | L13: Fiestas propias de la Escuela | M13: Actividades de camaradería (asados, cumpleaños, aniversario de especialidad) | N13: Si | P13: Si | R13: No he sufrido ni sido testigo | T13: No tengo conocimiento | U13: Efectiva | W13: Prohibición de contacto entre las partes involucradas | X13: Hacer de conocimiento general lo que establece la ley 21.369 y todo lo que respecta a dichas conductas no deseadas
A14: 2023/08/17 8:11:02 p. m. GMT-4 | B14: Masculino | C14: Brigadier | D14: Casi nunca ocurre | E14: Poca Frecuencia | F14: Poca Frecuencia | G14: MUY PROBABLE | H14: NO | J14: CHARLAS DIVISIONALES | K14: Complejo deportivo | L14: Deporte | M14: Ninguna | N14: Si | P14: Si | R14: No he sufrido ni sido testigo | T14: Abuso sexual | U14: Efectiva | W14: Investigación con celeridad y sin dilataciones | X14: Que se hablara más del tema a nivel de división
A15: 2023/08/17 8:15:29 p. m. GMT-4 | B15: Femenino | C15: Brigadier | D15: Poca Frecuencia | E15: Mucha Frecuencia | F15: Mucha Frecuencia | G15: MUY PROBABLE | H15: SI | I15: Comentarios verbales de parte de oficiales y profesores | J15: CONFERENCIAS O TALLERES REALIZADAS POR EXPERTOS EN EL TEMA | K15: Sala de clase | L15: Actividades Académicas | M15: Actividades de camaradería (asados, cumpleaños, aniversario de especialidad) | N15: Si | P15: Si | R15: No | S15: Miedo | T15: Comentarios inapropiados acerca de su apariencia | U15: Nada Efectiva | V15: No he visto medidas en la escuela contra el acoso sexual además de preguntarnos si conocemos la ley que habla sobre este tema | W15: Investigación con celeridad y sin dilataciones | X15: Abrir más espacios para hablar de este tema y que la persona afectada sienta más confianza al momento de informar, quizás poder hablarlo con un oficial/civil que no sea mando directo pero a la vez inspire confianza, que se escuche y no se juzgue.
A16: 2023/08/17 8:16:38 p. m. GMT-4 | B16: Masculino | C16: Séptima | D16: Nunca ocurre | E16: Nunca ocurre | F16: Nunca ocurre | G16: NUNCA | H16: NO | J16: DIFUSIÓN POR MEDIOS DIGITALES INSTITUCIONALES | K16: En ningún lado | L16: Ninguna actividad | M16: Interescuelas | N16: Si | P16: Si | R16: No he sufrido ni sido testigo | T16: No tengo conocimiento | U16: Muy Efectiva | W16: Apoyo psicológico | X16: Seguir con el modelo de formación
A17: 2023/08/17 8:16:43 p. m. GMT-4 | B17: Masculino | C17: Séptima | D17: Nunca ocurre | E17: Nunca ocurre | F17: Nunca ocurre | G17: NUNCA | H17: NO | J17: DIFUSIÓN POR MEDIOS DIGITALES INSTITUCIONALES | K17: En ningún lado | L17: Ninguna actividad | M17: No se me ocurre, no pienso como tal | N17: Si | P17: Si | R17: No he sufrido ni sido testigo | T17: No tengo conocimiento | U17: Poco efectiva | W17: Prohibición de contacto entre las partes involucradas | X17: .
A18: 2023/08/17 8:16:53 p. m. GMT-4 | B18: Masculino | C18: Séptima | D18: Poca Frecuencia | E18: Nunca ocurre | F18: Poca Frecuencia | G18: POCO PROBABLE | H18: NO | J18: DIFUSIÓN POR MEDIOS DIGITALES INSTITUCIONALES | K18: En ningún lado | L18: Terraza Weste | M18: Actividades de camaradería (asados, cumpleaños, aniversario de especialidad) | N18: Si | P18: Si | R18: No he sufrido ni sido testigo | T18: Acoso Sexual | U18: Efectiva | W18: Reserva del proceso investigativo | X18: Las medidas ya expuestas como charlas y talleres
A19: 2023/08/17 8:19:07 p. m. GMT-4 | B19: Femenino | C19: Brigadier | D19: Poca Frecuencia | E19: Poca Frecuencia | F19: Poca Frecuencia | G19: MUY PROBABLE | H19: NO | J19: CONFERENCIAS O TALLERES REALIZADAS POR EXPERTOS EN EL TEMA | K19: Lugares fuera de la escuela | L19: Ninguna actividad | M19: Embarcos | N19: No | O19: Porque no me gustaría que se me pusiera en tela de juicio ni ser apuntada con el dedo, o entrar en discusiones que probablemente no lleguen a nada | P19: No | Q19: Porque dependiendo de la gravedad de lo que sea testigo voy a apoyar y respetar a la víctima, tratar de convencerla de que ella haga la denuncia antes de tomar medidas yo | R19: No he sufrido ni sido testigo | T19: Acoso Sexual | U19: Poco efectiva | W19: Investigación con celeridad y sin dilataciones | X19: Que se de a conocer más la OPI de la escuela al respecto
A20: 2023/08/17 8:19:54 p. m. GMT-4 | B20: Masculino | C20: Brigadier | D20: Poca Frecuencia | E20: Poca Frecuencia | F20: Poca Frecuencia | G20: POCO PROBABLE | H20: NO | J20: CHARLAS DIVISIONALES | K20: Lugares fuera de la escuela | L20: Fiestas propias de la Escuela | M20: Actividades de camaradería (asados, cumpleaños, aniversario de especialidad) | N20: Si | P20: Si | R20: Si | T20: Proximidad físicamente invasiva o incómoda | U20: Efectiva | W20: Apoyo psicológico | X20: Charlas divisionales para fomentar la prevención del acoso en la institución
A21: 2023/08/17 8:20:29 p. m. GMT-4 | B21: Femenino | C21: Séptima | D21: Mucha Frecuencia | E21: Mucha Frecuencia | F21: Mucha Frecuencia | G21: MUY PROBABLE | H21: SI | I21: En clases dicen muchos comentarios sexistas , al igual que en el deporte que son más machistas que no somos capaces de rendir como ellos o mandar como ellos en cualquier ámbito, incluso los profesores dicen comentarios de ese tipo o comentarios de mujeres fuera de lugar en clases. | J21: CONFERENCIAS O TALLERES REALIZADAS POR EXPERTOS EN EL TEMA | K21: Sala de clase | L21: Deporte | M21: Actividades deportivas | N21: Si | O21: Mi respuesta fue si pero aún así el ser mujer y menos antigua invalida nuestra situación. | P21: Si | R21: No he sufrido ni sido testigo | T21: Discriminación de género | U21: Poco efectiva | W21: Investigación con celeridad y sin dilataciones | X21: Equidad de género
A22: 2023/08/17 8:20:42 p. m. GMT-4 | B22: Masculino | C22: Séptima | D22: Casi nunca ocurre | E22: Poca Frecuencia | F22: Mucha Frecuencia | G22: PROBABLE | H22: SI | I22: Temas de antiguedad | J22: CONFERENCIAS O TALLERES REALIZADAS POR EXPERTOS EN EL TEMA | K22: Lugares fuera de la escuela | L22: Ninguna actividad | M22: Embarcos | N22: Si | P22: Si | R22: No he sufrido ni sido testigo | T22: Discriminación de género | U22: Efectiva | W22: Investigación con celeridad y sin dilataciones | X22: Informaría a la escuela en solo UNA charla sobre que hay que hacer y sus conductos regulares
A23: 2023/08/17 8:20:58 p. m. GMT-4 | B23: Masculino | C23: Séptima | D23: Poca Frecuencia | E23: Poca Frecuencia | F23: Mucha Frecuencia | G23: MUY PROBABLE | H23: NO | J23: CONFERENCIAS O TALLERES REALIZADAS POR EXPERTOS EN EL TEMA | K23: En ningún lado | L23: Ninguna actividad | M23: Actividades de camaradería (asados, cumpleaños, aniversario de especialidad) | N23: Si | P23: Si | R23: Si | T23: Abuso sexual | U23: Poco efectiva | W23: Apoyo jurídico | X23: Que se condene el abuso y se investigue
A24: 2023/08/17 8:22:40 p. m. GMT-4 | B24: Masculino | C24: Brigadier | D24: Nunca ocurre | E24: Nunca ocurre | F24: Nunca ocurre | G24: PROBABLE | H24: NO | J24: CHARLAS DIVISIONALES | K24: Sala de clase | L24: Ninguna actividad | M24: Actividades de camaradería (asados, cumpleaños, aniversario de especialidad) | N24: Si | P24: Si | R24: Si | T24: Proximidad físicamente invasiva o incómoda | U24: Poco efectiva | W24: Investigación con celeridad y sin dilataciones | X24: Dar una buena enseñanza , y ahondar en los temas de acoso y abuso para que las personas que tengan estas practicas se sientan identificados y cambien su forma de actuar y tratar al resto de las personas.
A25: 2023/08/17 8:23:28 p. m. GMT-4 | B25: Masculino | C25: Brigadier | D25: Poca Frecuencia | E25: Casi nunca ocurre | F25: Poca Frecuencia | G25: PROBABLE | H25: NO | J25: CONFERENCIAS O TALLERES REALIZADAS POR EXPERTOS EN EL TEMA | K25: En ningún lado | L25: Ninguna actividad | M25: Actividades Culturales | N25: Si | P25: Si | R25: No he sufrido ni sido testigo | T25: No tengo conocimiento | U25: Efectiva | W25: Reserva del proceso investigativo | X25: Que el mando haga un seguimiento más profundo a sus cadetes
A26: 2023/08/17 8:29:50 p. m. GMT-4 | B26: Masculino | C26: Brigadier | D26: Poca Frecuencia | E26: Casi nunca ocurre | F26: Poca Frecuencia | G26: PROBABLE | H26: NO | J26: DIFUSIÓN POR MEDIOS DIGITALES INSTITUCIONALES | K26: Lugares fuera de la escuela | L26: Rancho | M26: Actividades Culturales | N26: Si | P26: Si | R26: No he sufrido ni sido testigo | T26: Comentarios inapropiados acerca de su apariencia | U26: Efectiva | W26: Prohibición de contacto entre las partes involucradas | X26: Mayor conectividad entre cadetes, forjando la amistad y la camaradería.
A27: 2023/08/17 8:30:12 p. m. GMT-4 | B27: Femenino | C27: Séptima | D27: Casi nunca ocurre | E27: Nunca ocurre | F27: Poca Frecuencia | G27: MUY PROBABLE | H27: SI | I27: Comentarios machistas hacia mujeres por pertenecer en la institución y no poder rendir físicamente igual a los hombres. | J27: CHARLAS DIVISIONALES | K27: Lugares fuera de la escuela | L27: Ninguna actividad | M27: Embarcos | N27: No | O27: Porque pueden no creer lo que digo, se puede contradecir las versiones y salir perjudicada | P27: Si | R27: No he sufrido ni sido testigo | T27: Discriminación de género | U27: Poco efectiva | W27: Prohibición de contacto entre las partes involucradas | X27: No prohibir contacto físico en la escuela naval, ya que, de esta manera no se conoce bien a las personas, no hacen cosas por el miedo a ser sancionados y creo que por esto cuando ocurre acoso sexual es cuando nadie los está viendo o controlando
A28: 2023/08/17 8:31:22 p. m. GMT-4 | B28: Femenino | C28: Séptima | D28: Casi nunca ocurre | E28: Casi nunca ocurre | F28: Casi nunca ocurre | G28: PROBABLE | H28: NO | J28: CONFERENCIAS O TALLERES REALIZADAS POR EXPERTOS EN EL TEMA | K28: Lugares fuera de la escuela | L28: Ninguna actividad | M28: Actividades de camaradería (asados, cumpleaños, aniversario de especialidad) | N28: Si | P28: Si | R28: No he sufrido ni sido testigo | T28: Comentarios inapropiados acerca de su apariencia | U28: Poco efectiva | V28: No dan mucho énfasis a este tema en particular | W28: Reserva del proceso investigativo | X28: Charlas y clases sobre estos temas para toda la Armada, y dar énfasis que los dos géneros tienen gran valor en la marina.
A29: 2023/08/17 8:34:24 p. m. GMT-4 | B29: Masculino | C29: Tercera | D29: Casi nunca ocurre | E29: Nunca ocurre | F29: Casi nunca ocurre | G29: MUY PROBABLE | H29: NO | J29: CONFERENCIAS O TALLERES REALIZADAS POR EXPERTOS EN EL TEMA | K29: Enfermería | L29: Estudio | M29: Embarcos | N29: Si | P29: Si | R29: No he sufrido ni sido testigo | T29: Discriminación de género | U29: Muy Efectiva | W29: Prohibición de contacto entre las partes involucradas | X29: Charlas sobre a uso sexual.
A30: 2023/08/17 8:36:49 p. m. GMT-4 | B30: Masculino | C30: Brigadier | D30: Casi nunca ocurre | E30: Casi nunca ocurre | F30: Casi nunca ocurre | G30: PROBABLE | H30: NO | J30: CONFERENCIAS O TALLERES REALIZADAS POR EXPERTOS EN EL TEMA | K30: Sala de clase | L30: Terraza Weste | M30: Actividades de camaradería (asados, cumpleaños, aniversario de especialidad) | N30: Si | P30: Si | R30: No he sufrido ni sido testigo | T30: No tengo conocimiento | U30: Efectiva | W30: Apoyo psicológico | X30: Mantener al cuerpo de cadetes bien informado
A31: 2023/08/17 8:39:07 p. m. GMT-4 | B31: Femenino | C31: Séptima | D31: Mucha Frecuencia | E31: Mucha Frecuencia | F31: Poca Frecuencia | G31: MUY PROBABLE | H31: SI | I31: Marcas en las capacidades físicas | J31: CONFERENCIAS O TALLERES REALIZADAS POR EXPERTOS EN EL TEMA | K31: Lugares fuera de la escuela | L31: Ninguna actividad | M31: Embarcos | N31: No | O31: No me expondría ni haría todo el tedioso trámite del conducto regular | P31: No | R31: No | S31: Miedo | T31: Acoso Sexual | U31: Nada Efectiva | V31: Un arresto no hace cambiar la forma de ser de alguien. Lo puede hacer reflexionar, pero que genere un cambio es difícil | W31: Investigación con celeridad y sin dilataciones | X31: Evitar separar tanto a los sexos en actividades o cosas de régimen, porque al final solo aumenta la tensión
A32: 2023/08/17 8:47:52 p. m. GMT-4 | B32: Femenino | C32: Séptima | D32: Nunca ocurre | E32: Casi nunca ocurre | F32: Casi nunca ocurre | G32: PROBABLE | H32: NO | J32: CHARLAS DIVISIONALES | K32: Entrepuente | L32: Retiradas | M32: Embarcos | N32: Si | P32: Si | R32: Si | T32: Acoso verbal | U32: Nada Efectiva | W32: Investigación con celeridad y sin dilataciones | X32: Fomentar el ambiente sano entre los cadetes con charlas y otras actividades
A33: 2023/08/17 8:49:21 p. m. GMT-4 | B33: Femenino | C33: Séptima | D33: Poca Frecuencia | E33: Mucha Frecuencia | F33: Poca Frecuencia | G33: MUY PROBABLE | H33: NO | J33: CHARLAS DIVISIONALES | K33: Lugares fuera de la escuela | L33: Fiestas propias de la Escuela | M33: Actividades de camaradería (asados, cumpleaños, aniversario de especialidad) | N33: Si | P33: Si | R33: No he sufrido ni sido testigo | T33: Comentarios inapropiados acerca de su apariencia | U33: Efectiva | W33: Reserva del proceso investigativo | X33: Aplicar acorde a la ley, no aceptar que la persona que cometió la falta siga en la escuela
A34: 2023/08/17 8:51:10 p. m. GMT-4 | B34: Masculino | C34: Séptima | D34: Mucha Frecuencia | E34: Nunca ocurre | F34: Nunca ocurre | G34: NUNCA | H34: NO | J34: DIFUSIÓN POR MEDIOS DIGITALES INSTITUCIONALES | K34: Lugares fuera de la escuela | L34: Ninguna actividad | M34: Actividades de camaradería (asados, cumpleaños, aniversario de especialidad) | N34: Si | P34: Si | R34: Si | T34: Proximidad físicamente invasiva o incómoda | U34: Efectiva | W34: Reserva del proceso investigativo | X34: .
A35: 2023/08/17 8:51:58 p. m. GMT-4 | B35: Femenino | C35: Brigadier | D35: Mucha Frecuencia | E35: Poca Frecuencia | F35: Mucha Frecuencia | G35: MUY PROBABLE | H35: NO | J35: CONFERENCIAS O TALLERES REALIZADAS POR EXPERTOS EN EL TEMA | K35: Sala de clase | L35: Ninguna actividad | M35: Embarcos | N35: Si | P35: Si | R35: No | S35: Porque otras personas le bajaron el perfil a lo que ocurrió y lo hicieron ver como una tontería | T35: Proximidad físicamente invasiva o incómoda | U35: Nada Efectiva | V35: No se crea un espacio cómodo para dar a conocer ese tipo de situaciones | W35: Apoyo psicológico | X35: Ser más duro en las sanciones cuando se den a conocer situaciones de este tipo, realizar charlas para que todos estén al tanto qué acciones son incorrectas, y que además no sea un tema que no se habla nunca, ya que eso hace que sea aún más incómodo y difícil hablarlo, debido al miedo y los prejuicios que existen sobre estas conductas
A36: 2023/08/17 8:58:14 p. m. GMT-4 | B36: Masculino | C36: Cuarta | D36: Casi nunca ocurre | E36: Casi nunca ocurre | F36: Casi nunca ocurre | G36: PROBABLE | H36: NO | J36: CHARLAS DIVISIONALES | K36: Patios | L36: Retiradas | M36: Embarcos | N36: Si | P36: Si | R36: No he sufrido ni sido testigo | T36: No tengo conocimiento | U36: Efectiva | W36: Reserva del proceso investigativo | X36: Estar atentos a cualquier situación extraña
A37: 2023/08/17 9:12:53 p. m. GMT-4 | B37: Masculino | C37: Séptima | D37: Casi nunca ocurre | E37: Nunca ocurre | F37: Nunca ocurre | G37: NUNCA | H37: NO | J37: CHARLAS DIVISIONALES | K37: En ningún lado | L37: Ninguna actividad | M37: Ninguna | N37: Si | P37: Si | R37: No he sufrido ni sido testigo | T37: No tengo conocimiento | U37: Muy Efectiva | W37: Prohibición de contacto entre las partes involucradas | X37: Difundir las normas de sana convivencia
A38: 2023/08/17 9:20:36 p. m. GMT-4 | B38: Masculino | C38: Quinta | D38: Casi nunca ocurre | E38: Nunca ocurre | F38: Casi nunca ocurre | G38: POCO PROBABLE | H38: NO | J38: DIFUSIÓN POR MEDIOS DIGITALES INSTITUCIONALES | K38: Lugares fuera de la escuela | L38: Ninguna actividad | M38: Embarcos | N38: Si | P38: Si | R38: No he sufrido ni sido testigo | T38: No tengo conocimiento | U38: Muy Efectiva | W38: Reserva del proceso investigativo | X38: Concientizar a traves de redes sociales
A39: 2023/08/17 9:40:33 p. m. GMT-4 | B39: Masculino | C39: Cuarta | D39: Casi nunca ocurre | E39: Nunca ocurre | F39: Nunca ocurre | G39: PROBABLE | H39: NO | J39: DIFUSIÓN POR MEDIOS DIGITALES INSTITUCIONALES | K39: Lugares fuera de la escuela | L39: Ninguna actividad | M39: Actividades de camaradería (asados, cumpleaños, aniversario de especialidad) | N39: Si | P39: Si | R39: No he sufrido ni sido testigo | T39: Beso insinuante | U39: Efectiva | W39: Prohibición de contacto entre las partes involucradas | X39: Dar consejos o informaciones acerca del tema referido en las aulas de uso institucional
A40: 2023/08/17 9:45:20 p. m. GMT-4 | B40: Masculino | C40: Sexta | D40: Nunca ocurre | E40: Nunca ocurre | F40: Nunca ocurre | G40: NUNCA | H40: NO | J40: CHARLAS DIVISIONALES | K40: En ningún lado | L40: Ninguna actividad | M40: Actividades de camaradería (asados, cumpleaños, aniversario de especialidad) | N40: Si | P40: Si | R40: No he sufrido ni sido testigo | T40: No tengo conocimiento | U40: Muy Efectiva | W40: Reserva del proceso investigativo | X40: A aquellos que sean sorprendidos en dichas faltas, expulsarlos del plantel
...

Sheet Respuestas profes
A1: Marca temporal | B1: Indique su Género | C1: Indique en qué área docente se desempeña | D1: ¿Con QUÉ FRECUENCIA CREE UD. que ocurren situaciones de ACOSO SEXUAL, en la Escuela Naval? | E1: ¿Con QUÉ FRECUENCIA CREE UD. que ocurren situaciones de VIOLENCIA DE GÉNERO en la Escuela Naval? | F1: ¿Con QUÉ FRECUENCIA CREE UD. que ocurren situaciones de DISCRIMINACIÓN DE GÉNERO en la Escuela Naval? | G1: ¿QUE TAN PROBABLE es escuchar comentarios sexistas dentro de su ámbito de desempeño en la Escuela Naval | H1: Considera UD. QUE EXISTE discriminación por razones de género en la Escuela Naval | I1: Si su respuesta anterior es SI indique en que situación ha ocurrido | J1: ¿Con cuál de las siguientes frases está de acuerdo? | K1: A su parecer ¿ Cuál debiera ser el objetivo o foco central del modelo de prevención de acoso sexual, violencia o discriminación de género? | L1: ¿Qué zonas o lugares de la Escuela Naval son a su juicio, PROPICIOS para que se cometan conductas de acoso laboral o sexual, violencia o discriminación? | M1: ¿Qué actividades que se realizan cotidianamente en la Escuela Naval son, a su juicio, propicias para que se den conductas que puedan producir acoso, violencia o discriminación? | N1: ¿En caso que FUERA VÍCTIMA de acoso sexual, violencia o discriminación de género, haría la denuncia a las autoridades de la Escuela Naval? | O1: Si su respuesta anterior fue NO, ¿Por qué razones NO haría la denuncia? | P1: ¿En caso que FUERA TESTIGO de acoso sexual, violencia o discriminación de género, haría la denuncia a las autoridades de la Escuela Naval? | Q1: Si su respuesta anterior fue NO, ¿Por qué razón NO haría la denuncia? | R1: ¿En caso de HABER SUFRIDO O SIDO TESTIGO de alguna de las situaciones que la Ley reconoce como acoso sexual, violencia y discriminación de género en alguna actividad organizada por la Escuela Naval o al interior de ella ¿Hizo usted la denuncia a su mando? | S1: Si su respuesta anterior fue NO, ¿Por qué razones NO haría la denuncia? | T1: ¿Cuál de estas medidas de resguardo considera Ud. que otorgan una mejor PROTECCIÓN a la víctima de acoso, violencia o discriminación? | U1: Según su punto vista, ¿Cuál es el grado de efectividad de las medidas que ha adoptado la Escuela Naval ante casos de acoso sexual, violencia o discriminación de género? | V1: Si su respuesta es NADA EFECTIVA (Indique el Motivo) | W1: ¿Qué sugerencias haría Ud. para prevenir conductas no deseadas y el buen cumplimiento de la ley 21.369? (estas sugerencias pueden ayudar a fomentar y fortalecer un buen ambiente laboral y estudiantil en la Escuela Naval)
A2: 2023/08/17 8:57:06 a. m. GMT-4 | B2: Masculino | C2: Fisico- Deportiva | D2: Nunca ocurre | E2: Nunca ocurre | F2: Nunca ocurre | G2: NUNCA | H2: NO | J2: Hombre y Mujeres avanzan a la misma velocidad o de igual forma en su carrera docente | K2: CONFERENCIAS O TALLERES REALIZADAS POR EXPERTOS EN EL TEMA | L2: Quinchos | M2: Ninguna actividad | N2: Si | P2: Si | R2: No he sufrido ninguna de las situaciones | T2: Apoyo jurídico | U2: Muy Efectiva | W2: Charlas informativas sobre los procedimientos a seguir cuando suceda.
A3: 2023/08/17 9:00:24 a. m. GMT-4 | B3: Masculino | C3: Fisico- Deportiva | D3: Casi nunca ocurre | E3: Casi nunca ocurre | F3: Poca Frecuencia | G3: POCO PROBABLE | H3: NO | J3: Hombre y Mujeres avanzan a la misma velocidad o de igual forma en su carrera docente | K3: CONFERENCIAS O TALLERES REALIZADAS POR EXPERTOS EN EL TEMA | L3: Lugares fuera de la escuela | M3: Eventos de camaradería propios de la Escuela | N3: Si | P3: Si | R3: No he sufrido ninguna de las situaciones | T3: Prohibición de contacto entre las partes involucradas | U3: Efectiva | W3: Fortalecer la entrega de valores y promover la formación integral de los cadetes.
A4: 2023/08/17 9:06:45 a. m. GMT-4 | B4: Masculino | C4: Fisico- Deportiva | D4: Nunca ocurre | E4: Nunca ocurre | F4: Nunca ocurre | G4: POCO PROBABLE | H4: NO | J4: Hombre y Mujeres avanzan a la misma velocidad o de igual forma en su carrera docente | K4: CONFERENCIAS O TALLERES REALIZADAS POR EXPERTOS EN EL TEMA | L4: En ningún lado | M4: Ninguna actividad | N4: Si | P4: Si | R4: No he sufrido ninguna de las situaciones | T4: Reserva del proceso investigativo | U4: Efectiva | W4: Visibilizar el problema y prevenir
A5: 2023/08/17 9:07:46 a. m. GMT-4 | B5: Masculino | C5: Fisico- Deportiva | D5: Casi nunca ocurre | E5: Casi nunca ocurre | F5: Poca Frecuencia | G5: POCO PROBABLE | H5: SI | I5: Se observa en comentarios respecto de la diferencia en capacidad física | J5: Los hombres avanzan más rápido en su carrera docente en la Escuela Naval | K5: CONFERENCIAS O TALLERES REALIZADAS POR EXPERTOS EN EL TEMA | L5: Patios | M5: Puede darse aleatorimente en alguna de ellas | N5: Si | P5: Si | R5: No he sufrido ninguna de las situaciones | T5: Prohibición de contacto entre las partes involucradas | U5: Efectiva | W5: Ciclo de charlas y ponencias donde en forma activa sean los cadetes quienes ponen el tema en carpeta para crear conciencia institucional
A6: 2023/08/17 9:11:24 a. m. GMT-4 | B6: Masculino | C6: Fisico- Deportiva | D6: Casi nunca ocurre | E6: Poca Frecuencia | F6: Casi nunca ocurre | G6: PROBABLE | H6: NO | J6: Hombre y Mujeres avanzan a la misma velocidad o de igual forma en su carrera docente | K6: CONFERENCIAS O TALLERES REALIZADAS POR EXPERTOS EN EL TEMA | L6: Oficina Edificio Administrativo (Ejecutivo) | M6: Clases/Tutorías/Consultorías | N6: Si | P6: Si | R6: No he sufrido ninguna de las situaciones | T6: Apoyo jurídico | U6: Efectiva | W6: Mayor información ,más interacción sobre el tema .
A7: 2023/08/17 9:15:08 a. m. GMT-4 | B7: Masculino | C7: Fisico- Deportiva | D7: Nunca ocurre | E7: Nunca ocurre | F7: Nunca ocurre | G7: NUNCA | H7: NO | J7: Hombre y Mujeres avanzan a la misma velocidad o de igual forma en su carrera docente | K7: CONFERENCIAS O TALLERES REALIZADAS POR EXPERTOS EN EL TEMA | L7: En ningún lado | M7: Ninguna actividad | N7: Si | P7: Si | R7: No he sufrido ninguna de las situaciones | T7: Investigación con celeridad y sin dilataciones | U7: Muy Efectiva | W7: Mantener el tema en discusión contínua
A8: 2023/08/17 9:19:12 a. m. GMT-4 | B8: Masculino | C8: Fisico- Deportiva | D8: Nunca ocurre | E8: Nunca ocurre | F8: Nunca ocurre | G8: NUNCA | H8: NO | J8: Hombre y Mujeres avanzan a la misma velocidad o de igual forma en su carrera docente | K8: CONFERENCIAS O TALLERES REALIZADAS POR EXPERTOS EN EL TEMA | L8: En ningún lado | M8: Ninguna actividad | N8: Si | P8: Si | R8: No he sufrido ninguna de las situaciones | T8: Investigación con celeridad y sin dilataciones | U8: Muy Efectiva | W8: Dar a conocer a todos las leyes de forma efectiva y que llegue a todos
A9: 2023/08/17 9:26:02 a. m. GMT-4 | B9: Masculino | C9: Fisico- Deportiva | D9: Casi nunca ocurre | E9: Casi nunca ocurre | F9: Casi nunca ocurre | G9: POCO PROBABLE | H9: NO | J9: Hombre y Mujeres avanzan a la misma velocidad o de igual forma en su carrera docente | K9: Crear instancias de confianza para realizar Conversaciones en las cuales se puedan abordar estos temas | L9: Baños | M9: Ninguna actividad | N9: Si | P9: Si | R9: No he sufrido ninguna de las situaciones | T9: Investigación con celeridad y sin dilataciones | U9: Efectiva | W9: Principalmente crear instancias en las cuales.se pueda conversar el tema.y que esta sea en forma reciproca
A10: 2023/08/17 9:30:21 a. m. GMT-4 | B10: Masculino | C10: Fisico- Deportiva | D10: Nunca ocurre | E10: Nunca ocurre | F10: Nunca ocurre | G10: NUNCA | H10: NO | J10: Hombre y Mujeres avanzan a la misma velocidad o de igual forma en su carrera docente | K10: CONFERENCIAS O TALLERES REALIZADAS POR EXPERTOS EN EL TEMA | L10: En ningún lado | M10: Ninguna actividad | N10: Si | P10: Si | R10: No he sufrido ninguna de las situaciones | T10: Apoyo psicológico | U10: Efectiva | W10: Sin sugerencia
A11: 2023/08/17 9:31:52 a. m. GMT-4 | B11: Masculino | C11: Fisico- Deportiva | D11: Casi nunca ocurre | E11: Casi nunca ocurre | F11: Casi nunca ocurre | G11: POCO PROBABLE | H11: NO | J11: Las mujeres avanzan más rápido en su carrera docente en la Escuela Naval | K11: CONFERENCIAS O TALLERES REALIZADAS POR EXPERTOS EN EL TEMA | L11: Lugares fuera de la escuela | M11: Eventos de camaradería propios de la Escuela | N11: Si | P11: Si | R11: No he sufrido ninguna de las situaciones | T11: Investigación con celeridad y sin dilataciones | U11: Poco efectiva | W11: Respeto
A12: 2023/08/17 9:39:38 a. m. GMT-4 | B12: Masculino | C12: Académica | D12: Casi nunca ocurre | E12: Casi nunca ocurre | F12: Casi nunca ocurre | G12: POCO PROBABLE | H12: NO | J12: Hombre y Mujeres avanzan a la misma velocidad o de igual forma en su carrera docente | K12: CONFERENCIAS O TALLERES REALIZADAS POR EXPERTOS EN EL TEMA | L12: Lugares fuera de la escuela | M12: Ninguna actividad | N12: Si | P12: Si | R12: No he sufrido ninguna de las situaciones | T12: Investigación con celeridad y sin dilataciones | U12: Efectiva | W12: Permanentemente hay que manifestarle a los estudiantes que el respeto mutuo debe ser en todo momento.
A13: 2023/08/17 10:10:45 a. m. GMT-4 | B13: Masculino | C13: Fisico- Deportiva | D13: Poca Frecuencia | E13: Poca Frecuencia | F13: Casi nunca ocurre | G13: NUNCA | H13: NO | J13: Hombre y Mujeres avanzan a la misma velocidad o de igual forma en su carrera docente | K13: CONFERENCIAS O TALLERES REALIZADAS POR EXPERTOS EN EL TEMA | L13: Lugares fuera de la escuela | M13: Ninguna actividad | N13: Si | P13: Si | R13: No he sufrido ninguna de las situaciones | T13: Prohibición de contacto entre las partes involucradas | U13: Efectiva | W13: Realizar talleres de buena convivencia con expertos.
A14: 2023/08/17 10:25:58 a. m. GMT-4 | B14: Masculino | C14: Fisico- Deportiva | D14: Casi nunca ocurre | E14: Casi nunca ocurre | F14: Poca Frecuencia | G14: PROBABLE | H14: NO | J14: Hombre y Mujeres avanzan a la misma velocidad o de igual forma en su carrera docente | K14: CONFERENCIAS O TALLERES REALIZADAS POR EXPERTOS EN EL TEMA | L14: Lugares fuera de la escuela | M14: Ninguna actividad | N14: Si | P14: Si | R14: No he sufrido ninguna de las situaciones | T14: Investigación con celeridad y sin dilataciones | U14: Efectiva | W14: Reforzamiento de límites de la sana convivencia. Dar seguridad a la posible victima que serán resguardados y considerados sus derechos ante una posible denuncia.
A15: 2023/08/17 10:29:11 a. m. GMT-4 | B15: Masculino | C15: Fisico- Deportiva | D15: Casi nunca ocurre | E15: Casi nunca ocurre | F15: Poca Frecuencia | G15: POCO PROBABLE | H15: NO | J15: Hombre y Mujeres avanzan a la misma velocidad o de igual forma en su carrera docente | K15: CONFERENCIAS O TALLERES REALIZADAS POR EXPERTOS EN EL TEMA | L15: Lugares fuera de la escuela | M15: Ninguna actividad | N15: Si | P15: Si | R15: No he sufrido ninguna de las situaciones | T15: Apoyo espiritual | U15: Efectiva | W15: Solo que en el Proceso de selección, tanto de Docentes, como en Administración, se efectúe mejor filtro, en especial, en el aspecto Psicológico.
A16: 2023/08/17 10:47:54 a. m. GMT-4 | B16: Masculino | C16: Fisico- Deportiva | D16: Nunca ocurre | E16: Nunca ocurre | F16: Nunca ocurre | G16: POCO PROBABLE | H16: NO | J16: Hombre y Mujeres avanzan a la misma velocidad o de igual forma en su carrera docente | K16: DIFUSIÓN POR MEDIOS DIGITALES INSTITUCIONALES | L16: En ningún lado | M16: Ninguna actividad | N16: Si | P16: Si | R16: No he sufrido ninguna de las situaciones | T16: Reserva del proceso investigativo | U16: Efectiva | W16: Charlas y campañas de difusión.
A17: 2023/08/17 10:54:45 a. m. GMT-4 | B17: Masculino | C17: Fisico- Deportiva | D17: Poca Frecuencia | E17: Poca Frecuencia | F17: Poca Frecuencia | G17: PROBABLE | H17: NO | J17: Las mujeres avanzan más rápido en su carrera docente en la Escuela Naval | K17: CONFERENCIAS O TALLERES REALIZADAS POR EXPERTOS EN EL TEMA | L17: Lugares fuera de la escuela | M17: Clases/Tutorías/Consultorías | N17: Si | P17: Si | R17: No he sufrido ninguna de las situaciones | T17: Investigación con celeridad y sin dilataciones | U17: Poco efectiva | W17: Capacitación con expertos para entender como procede la aplicación y cumplimiento de la ley 21.369
... A20: 2023/08/17 12:18:19 p. m. GMT-4 | B20: Masculino | C20: Fisico- Deportiva | D20: Casi nunca ocurre | E20: Casi nunca ocurre | F20: Casi nunca ocurre | G20: NUNCA | H20: NO | J20: Hombre y Mujeres avanzan a la misma velocidad o de igual forma en su carrera docente | K20: CONFERENCIAS O TALLERES REALIZADAS POR EXPERTOS EN EL TEMA | L20: En ningún lado | M20: Ninguna actividad | N20: Si | P20: Si | R20: No he sufrido ninguna de las situaciones | T20: Prohibición de contacto entre las partes involucradas | U20: Efectiva | W20: No tengo sugerencias
A21: 2023/08/17 12:58:46 p. m. GMT-4 | B21: Femenino | C21: Fisico- Deportiva | D21: Poca Frecuencia | E21: Mucha Frecuencia | F21: Mucha Frecuencia | G21: MUY PROBABLE | H21: NO | I21: En reiteradas ocasiones | J21: Hombre y Mujeres avanzan a la misma velocidad o de igual forma en su carrera docente | K21: Visitas a terreno con las personas que después deben trabajar , Contextualizar , familiarizarse con la realidad entorno demográfico. | L21: Patios | M21: Desplazamientos , tiempos libres | N21: Si | P21: Si | R21: Si | T21: Apoyo psicológico | U21: Poco efectiva | W21: educación constante, plan de fomento con profesionales en el área.
A22: 2023/08/17 2:05:04 p. m. GMT-4 | B22: Femenino | C22: Académica | D22: Casi nunca ocurre | E22: Casi nunca ocurre | F22: Poca Frecuencia | G22: PROBABLE | H22: NO | J22: Hombre y Mujeres avanzan a la misma velocidad o de igual forma en su carrera docente | K22: CONFERENCIAS O TALLERES REALIZADAS POR EXPERTOS EN EL TEMA | L22: Oficina Edificio Administrativo (Ejecutivo) | M22: Clases particulares, estudios. | N22: Si | P22: Si | R22: No he sufrido ninguna de las situaciones | T22: Prohibición de contacto entre las partes involucradas | U22: Poco efectiva | W22: Más información y conversación del tema para visibilizar situaciones cotidianas que para otros es normal
A23: 2023/08/17 2:06:31 p. m. GMT-4 | B23: Femenino | C23: Académica | D23: Casi nunca ocurre | E23: Casi nunca ocurre | F23: Casi nunca ocurre | G23: POCO PROBABLE | H23: NO | J23: Hombre y Mujeres avanzan a la misma velocidad o de igual forma en su carrera docente | K23: CONFERENCIAS O TALLERES REALIZADAS POR EXPERTOS EN EL TEMA | L23: Lugares fuera de la escuela | M23: Rancho | N23: Si | P23: Si | R23: No he sufrido ninguna de las situaciones | T23: Investigación con celeridad y sin dilataciones | U23: Efectiva | W23: Motivar el buen ambiente de trabajo en general
A24: 2023/08/17 2:09:25 p. m. GMT-4 | B24: Masculino | C24: Académica | D24: Casi nunca ocurre | E24: Poca Frecuencia | F24: Poca Frecuencia | G24: POCO PROBABLE | H24: NO | J24: Hombre y Mujeres avanzan a la misma velocidad o de igual forma en su carrera docente | K24: CONFERENCIAS O TALLERES REALIZADAS POR EXPERTOS EN EL TEMA | L24: En ningún lado | M24: Ninguna actividad | N24: Si | P24: Si | R24: No he sufrido ninguna de las situaciones | T24: Reserva del proceso investigativo | U24: Efectiva | W24: .
A25: 2023/08/17 2:15:19 p. m. GMT-4 | B25: Masculino | C25: Fisico- Deportiva | D25: Nunca ocurre | E25: Nunca ocurre | F25: Nunca ocurre | G25: POCO PROBABLE | H25: NO | J25: Hombre y Mujeres avanzan a la misma velocidad o de igual forma en su carrera docente | K25: CONFERENCIAS O TALLERES REALIZADAS POR EXPERTOS EN EL TEMA | L25: En ningún lado | M25: Ninguna actividad | N25: Si | P25: Si | R25: No he sufrido ninguna de las situaciones | T25: Apoyo jurídico | U25: Efectiva | W25: Dar a conocer la ley, hacer talleres con especialistas y que el mando sea claro en su postura frente al tema.
A26: 2023/08/17 2:21:18 p. m. GMT-4 | B26: Masculino | C26: Académica | D26: Nunca ocurre | E26: Casi nunca ocurre | F26: Nunca ocurre | G26: POCO PROBABLE | H26: NO | J26: Hombre y Mujeres avanzan a la misma velocidad o de igual forma en su carrera docente | K26: CONFERENCIAS O TALLERES REALIZADAS POR EXPERTOS EN EL TEMA | L26: En ningún lado | M26: Ninguna actividad | N26: Si | P26: Si | R26: No he sufrido ninguna de las situaciones | T26: Apoyo jurídico | U26: Efectiva | W26: Encuentros para prevenir situaciones
A27: 2023/08/17 2:23:11 p. m. GMT-4 | B27: Femenino | C27: Académica | D27: Casi nunca ocurre | E27: Casi nunca ocurre | F27: Casi nunca ocurre | G27: POCO PROBABLE | H27: NO | J27: Hombre y Mujeres avanzan a la misma velocidad o de igual forma en su carrera docente | K27: CONFERENCIAS O TALLERES REALIZADAS POR EXPERTOS EN EL TEMA | L27: Estacionamiento | M27: Actividades Deportivas | N27: Si | P27: Si | R27: Si | T27: Prohibición de contacto entre las partes involucradas | U27: Muy Efectiva | W27: Charlas y focos group
A28: 2023/08/17 2:25:41 p. m. GMT-4 | B28: Masculino | C28: Académica | D28: Casi nunca ocurre | E28: Poca Frecuencia | F28: Poca Frecuencia | G28: PROBABLE | H28: NO | J28: Hombre y Mujeres avanzan a la misma velocidad o de igual forma en su carrera docente | K28: DIFUSIÓN POR MEDIOS DIGITALES INSTITUCIONALES | L28: Lugares fuera de la escuela | M28: Eventos de camaradería propios de la Escuela | N28: Si | P28: Si | R28: No he sufrido ninguna de las situaciones | T28: Prohibición de contacto entre las partes involucradas | U28: Efectiva | W28: Prevención efectiva
A29: 2023/08/17 2:26:53 p. m. GMT-4 | B29: Masculino | C29: Académica | D29: Casi nunca ocurre | E29: Casi nunca ocurre | F29: Nunca ocurre | G29: POCO PROBABLE | H29: NO | J29: Hombre y Mujeres avanzan a la misma velocidad o de igual forma en su carrera docente | K29: CONFERENCIAS O TALLERES REALIZADAS POR EXPERTOS EN EL TEMA | L29: Lugares fuera de la escuela | M29: Actividades Deportivas | N29: Si | P29: Si | R29: No he sufrido ninguna de las situaciones | T29: Prohibición de contacto entre las partes involucradas | U29: Muy Efectiva | W29: Perseverar con la instrucción. Regularmente, una vez por semestre todos los años.
A30: 2023/08/17 2:28:56 p. m. GMT-4 | B30: Masculino | C30: Académica | D30: Nunca ocurre | E30: Nunca ocurre | F30: Casi nunca ocurre | G30: POCO PROBABLE | H30: NO | J30: Hombre y Mujeres avanzan a la misma velocidad o de igual forma en su carrera docente | K30: CHARLAS DIVISIONALES | L30: Lugares fuera de la escuela | M30: Actividades Deportivas | N30: Si | P30: Si | R30: No he sufrido ninguna de las situaciones | T30: Investigación con celeridad y sin dilataciones | U30: Efectiva | W30: Buena instrucción con ejemplos demostrativos
A31: 2023/08/17 2:42:10 p. m. GMT-4 | B31: Masculino | C31: Académica | D31: Casi nunca ocurre | E31: Casi nunca ocurre | F31: Casi nunca ocurre | G31: POCO PROBABLE | H31: NO | J31: Hombre y Mujeres avanzan a la misma velocidad o de igual forma en su carrera docente | K31: CONFERENCIAS O TALLERES REALIZADAS POR EXPERTOS EN EL TEMA | L31: En ningún lado | M31: Ninguna actividad | N31: Si | P31: Si | R31: No he sufrido ninguna de las situaciones | T31: Reserva del proceso investigativo | U31: Efectiva | W31: Fortalecer la difusión de la información
A32: 2023/08/17 2:42:19 p. m. GMT-4 | B32: Masculino | C32: Académica | D32: Casi nunca ocurre | E32: Casi nunca ocurre | F32: Casi nunca ocurre | G32: POCO PROBABLE | H32: NO | J32: Hombre y Mujeres avanzan a la misma velocidad o de igual forma en su carrera docente | K32: CONFERENCIAS O TALLERES REALIZADAS POR EXPERTOS EN EL TEMA | L32: Baños | M32: Eventos de camaradería propios de la Escuela | N32: Si | P32: Si | R32: No he sufrido ninguna de las situaciones | T32: Prohibición de contacto entre las partes involucradas | U32: Efectiva | W32: Capacitar a los alumnos sobre la materia.
A33: 2023/08/17 2:51:27 p. m. GMT-4 | B33: Femenino | C33: Académica | D33: Casi nunca ocurre | E33: Casi nunca ocurre | F33: Casi nunca ocurre | G33: POCO PROBABLE | H33: NO | J33: Hombre y Mujeres avanzan a la misma velocidad o de igual forma en su carrera docente | K33: CONFERENCIAS O TALLERES REALIZADAS POR EXPERTOS EN EL TEMA | L33: Lugares fuera de la escuela | M33: Ninguna actividad | N33: Si | P33: Si | R33: No he sufrido ninguna de las situaciones | T33: Investigación con celeridad y sin dilataciones | U33: Efectiva | W33: Incitar a que se denuncien los problemas y no quedarse callados
A34: 2023/08/17 2:53:24 p. m. GMT-4 | B34: Femenino | C34: Académica | D34: Poca Frecuencia | E34: Poca Frecuencia | F34: Poca Frecuencia | G34: MUY PROBABLE | H34: NO | J34: Hombre y Mujeres avanzan a la misma velocidad o de igual forma en su carrera docente | K34: DIFUSIÓN POR MEDIOS DIGITALES INSTITUCIONALES | L34: Lugares fuera de la escuela | M34: Ninguna actividad | N34: Si | P34: Si | R34: Si | T34: Investigación con celeridad y sin dilataciones | U34: Poco efectiva | W34: Informar adecuadamente de todas las conductas que involucren algún tipo de delito de esta índole, ya que muchas veces por desconocimiento se producen situaciones inadecuadas o incómodas y el/la agredido/a no tiene claridad de cómo actuar frente a ello
A35: 2023/08/17 2:54:55 p. m. GMT-4 | B35: Femenino | C35: Académica | D35: Poca Frecuencia | E35: Poca Frecuencia | F35: Poca Frecuencia | G35: PROBABLE | H35: SI | I35: Cuando se escogen los cargos por catedra | J35: Los hombres avanzan más rápido en su carrera docente en la Escuela Naval | K35: CONFERENCIAS O TALLERES REALIZADAS POR EXPERTOS EN EL TEMA | L35: Sala de Profesores | M35: Eventos de camaradería propios de la Escuela | N35: Si | P35: Si | R35: Si | T35: Investigación con celeridad y sin dilataciones | U35: Efectiva | W35: Castigar dura y públicamente a los culpables
A36: 2023/08/17 3:03:51 p. m. GMT-4 | B36: Masculino | C36: Académica | D36: Nunca ocurre | E36: Nunca ocurre | F36: Nunca ocurre | G36: NUNCA | H36: NO | J36: Hombre y Mujeres avanzan a la misma velocidad o de igual forma en su carrera docente | K36: DIFUSIÓN POR MEDIOS DIGITALES INSTITUCIONALES | L36: Lugares fuera de la escuela | M36: La preguntas anterior debe ser rectifica, sus alternativas deben ser 1 o más de 1 (igual que la presente pregunta) | N36: Si | P36: Si | R36: No he sufrido ninguna de las situaciones | T36: Investigación con celeridad y sin dilataciones | U36: Muy Efectiva | W36: Políticas claras y formación: Establece políticas claras contra el acoso sexual en el lugar de trabajo o en cualquier entorno. Ofrece formación obligatoria para todos los empleados y miembros de la comunidad para que comprendan qué constituye el acoso y cómo prevenirlo.
A37: 2023/08/17 3:15:55 p. m. GMT-4 | B37: Masculino | C37: Académica | D37: Casi nunca ocurre | E37: Casi nunca ocurre | F37: Nunca ocurre | G37: POCO PROBABLE | H37: NO | J37: Hombre y Mujeres avanzan a la misma velocidad o de igual forma en su carrera docente | K37: CONFERENCIAS O TALLERES REALIZADAS POR EXPERTOS EN EL TEMA | L37: Lugares fuera de la escuela | M37: Eventos de camaradería propios de la Escuela | N37: Si | P37: Si | R37: No he sufrido ninguna de las situaciones | T37: Investigación con celeridad y sin dilataciones | U37: Efectiva | W37: Normas claras
A38: 2023/08/17 4:00:48 p. m. GMT-4 | B38: Masculino | C38: Académica | D38: Casi nunca ocurre | E38: Casi nunca ocurre | F38: Casi nunca ocurre | G38: POCO PROBABLE | H38: NO | J38: Hombre y Mujeres avanzan a la misma velocidad o de igual forma en su carrera docente | K38: CHARLAS DIVISIONALES | L38: Lugares fuera de la escuela | M38: TRATO ENTRE CADETES EN PATIOS DURANTE INSTRUCCION MILITAR | N38: Si | P38: Si | R38: No he sufrido ninguna de las situaciones | T38: Prohibición de contacto entre las partes involucradas | U38: Muy Efectiva | W38: INCLUIR SEMESTRALMENTE UNA REUNION DIVISIONAL, DONDE EL OFICIAL DE DIVISION, DEBIDAMENTE PREPARADO PARA ESTO, EMPLEE LA METODOLOGIA DE ESTUDIO DE CASOS REALES INSTITUCIONALES PARA REAFIRMAR LOS CONCEPTOS Y PROCEDIMIENTOS VIGENTES.
A39: 2023/08/17 4:09:03 p. m. GMT-4 | B39: Masculino | C39: Académica | D39: Poca Frecuencia | E39: Casi nunca ocurre | F39: Poca Frecuencia | G39: POCO PROBABLE | H39: NO | J39: Hombre y Mujeres avanzan a la misma velocidad o de igual forma en su carrera docente | K39: CONFERENCIAS O TALLERES REALIZADAS POR EXPERTOS EN EL TEMA | L39: Complejo deportivo | M39: Eventos de camaradería propios de la Escuela | N39: Si | P39: Si | R39: No he sufrido ninguna de las situaciones | T39: Investigación con celeridad y sin dilataciones | U39: Poco efectiva | W39: Mayor difusión de la reglamentación vigente.
A40: 2023/08/17 4:13:46 p. m. GMT-4 | B40: Masculino | C40: Académica | D40: Nunca ocurre | E40: Nunca ocurre | F40: Nunca ocurre | G40: NUNCA | H40: NO | J40: Hombre y Mujeres avanzan a la misma velocidad o de igual forma en su carrera docente | K40: DIFUSIÓN POR MEDIOS DIGITALES INSTITUCIONALES | L40: En ningún lado | M40: Ninguna actividad | N40: Si | P40: Si | R40: No he sufrido ninguna de las situaciones | T40: Prohibición de contacto entre las partes involucradas | U40: Muy Efectiva | W40: Ninguna
A41: 2023/08/17 4:26:19 p. m. GMT-4 | B41: Masculino | C41: Fisico- Deportiva | D41: Casi nunca ocurre | E41: Casi nunca ocurre | F41: Casi nunca ocurre | G41: POCO PROBABLE | H41: NO | J41: Las mujeres avanzan más rápido en su carrera docente en la Escuela Naval | K41: CONFERENCIAS O TALLERES REALIZADAS POR EXPERTOS EN EL TEMA | L41: Sala de clase y Estudios | M41: Ninguna actividad | N41: Si | P41: Si | R41: No he sufrido ninguna de las situaciones | T41: Apoyo psicológico | U41: Muy Efectiva | W41: Hacer charlas dando a conocer lo que se hace.
A42: 2023/08/17 5:47:38 p. m. GMT-4 | B42: Masculino | C42: Académica | D42: Nunca ocurre | E42: Nunca ocurre | F42: Nunca ocurre | G42: POCO PROBABLE | H42: NO | J42: Hombre y Mujeres avanzan a la misma velocidad o de igual forma en su carrera docente | K42: CHARLAS DIVISIONALES | L42: Lugares fuera de la escuela | M42: Eventos de camaradería propios de la Escuela | N42: Si | P42: Si | R42: No he sufrido ninguna de las situaciones | T42: Investigación con celeridad y sin dilataciones | U42: Muy Efectiva | W42: Mejorar la formación calórica de los cadetes
...

Sheet Respuestas Planta
A1: Marca temporal | B1: Indique su Género | C1: Indique el Departamento al que pertenece | D1: ¿Con QUÉ FRECUENCIA CREE UD. que ocurren situaciones de ACOSO SEXUAL en la Escuela Naval? | E1: ¿Con qué FRECUENCIA CREE UD. que ocurren situaciones de VIOLENCIA DE GÉNERO en la Escuela Naval? | F1: ¿Con QUÉ FRECUENCIA CREE UD. que ocurren situaciones de DISCRIMINACIÓN DE GÉNERO en la Escuela Naval? | G1: ¿Qué TAN PROBABLE es escuchar comentarios sexistas dentro de su ámbito de desempeño en la Escuela Naval ? | H1: Considera UD. QUE EXISTE discriminación por razones de género en la Escuela Naval | I1: Si su respuesta anterior fue SI, ¿En qué situación? | J1: A su parecer ¿cuál debiera ser el objetivo o foco central del modelo de prevención de acoso sexual, violencia o discriminación de género? | K1: ¿Qué zonas o lugares son a su juicio, PROPICIOS para que se den conductas de acoso laboral o sexual, violencia o discriminación? | L1: ¿Qué actividades que se realizan cotidianamente en la Escuela Naval son, a su juicio, propicias para que se den conductas que puedan producir acoso, violencia o discriminación? | M1: ¿En caso que UD. FUERA VÍCTIMA de acoso sexual, violencia o discriminación de género, haría la denuncia a su mando? | N1: Si su respuesta anterior es NO ¿indique por que? | O1: ¿En caso que UD. FUERA TESTIGO de acoso sexual, violencia o discriminación de género, haría la denuncia a su mando? | P1: Si su respuesta anterior es NO ¿indique por que? | Q1: En caso de HABER SUFRIDO O SIDO TESTIGO de alguna de las situaciones que la Ley reconoce como acoso sexual, violencia y discriminación de género en alguna actividad organizada por la Escuela Naval, o al interior de ella, ¿Hizo usted la denuncia a su mando? | R1: Si su respuesta anterior es NO ¿indique por que? | S1: ¿Cuál de estas medidas de resguardo considera Ud. que otorgan una mejor PROTECCIÓN a la víctima de acoso, violencia o discriminación? | T1: Según su punto vista, ¿Cuál es el grado de efectividad de las medidas que ha adoptado la Escuela Naval como reacción ante los casos de acoso sexual, violencia o discriminación de género? | U1: Si su respuesta fue NADA EFECTIVA (Indique el Motivo) | V1: ¿Qué sugerencias haría Ud. para prevenir conductas no deseadas y el buen cumplimiento de la ley 21.369? (estas sugerencias pueden ayudar a fomentar y fortalecer un buen ambiente laboral y estudiantil en la Escuela Naval)
A2: 2023/08/16 8:55:56 a. m. GMT-4 | B2: Masculino | C2: Abastecimiento | D2: Casi nunca ocurre | E2: Casi nunca ocurre | F2: Casi nunca ocurre | G2: POCO PROBABLE | H2: NO | I2: Nada | J2: Charlas Divisionales | K2: En ningún lado | L2: Evento de Camaradería | M2: Si | O2: Si | Q2: No he sufrido ninguna de las situaciones | S2: Prohibición de contacto entre las partes involucradas | T2: Efectiva | V2: Nada
A3: 2023/08/16 8:55:56 a. m. GMT-4 | B3: Masculino | C3: Mantención y Servicios | D3: Casi nunca ocurre | E3: Casi nunca ocurre | F3: Casi nunca ocurre | G3: POCO PROBABLE | H3: NO | I3: No | J3: Charlas Divisionales | K3: Lugares fuera de la escuela | L3: Ninguna Actividad | M3: Si | O3: Si | Q3: Si | S3: Apoyo espiritual | T3: Efectiva | V3: Charlas divinidades y orientación
A4: 2023/08/16 8:56:05 a. m. GMT-4 | B4: Masculino | C4: Control de Gestión | D4: Casi nunca ocurre | E4: Casi nunca ocurre | F4: Casi nunca ocurre | G4: POCO PROBABLE | H4: NO | I4: No | J4: Conferencias o Talleres efectuadas por Expertos | K4: En ningún lado | L4: Ninguna Actividad | M4: Si | O4: Si | Q4: No he sufrido ninguna de las situaciones | S4: Investigación con celeridad y sin dilataciones | T4: Muy Efectiva | V4: Charlas y talleres de prevención
A5: 2023/08/16 8:56:20 a. m. GMT-4 | B5: Masculino | C5: Sanidad | D5: Nunca ocurre | E5: Nunca ocurre | F5: Nunca ocurre | G5: POCO PROBABLE | H5: NO | I5: No | J5: Difusión por medios digitales Institucionales | K5: Enfermería | L5: Ninguna Actividad | M5: Si | O5: Si | Q5: No he sufrido ninguna de las situaciones | S5: Apoyo espiritual | T5: Efectiva | V5: Fomentar actividades de camaradería, estableciendo buenas relaciones entre trabajadores
A6: 2023/08/16 8:56:26 a. m. GMT-4 | B6: Masculino | C6: Ejecutivo | D6: Casi nunca ocurre | E6: Nunca ocurre | F6: Nunca ocurre | G6: POCO PROBABLE | H6: NO | I6: . | J6: Conferencias o Talleres efectuadas por Expertos | K6: En ningún lado | L6: Evento de Camaradería | M6: Si | O6: Si | Q6: No he sufrido ninguna de las situaciones | S6: Reserva del proceso investigativo | T6: Efectiva | V6: .
A7: 2023/08/16 8:56:33 a. m. GMT-4 | B7: Masculino | C7: Abastecimiento | D7: Poca Frecuencia | E7: Poca Frecuencia | F7: Poca Frecuencia | G7: PROBABLE | H7: NO | I7: No | J7: Difusión por medios digitales Institucionales | K7: Cámaras/Casinos | L7: Evento de Camaradería | M7: Si | O7: Si | Q7: No he sufrido ninguna de las situaciones | S7: Reserva del proceso investigativo | T7: Efectiva | V7: Campaña de difusión por cámaras, aulas y en los pasillos habitualmente transitados
A8: 2023/08/16 8:57:01 a. m. GMT-4 | B8: Femenino | C8: Brigada | D8: Poca Frecuencia | E8: Mucha Frecuencia | F8: Poca Frecuencia | G8: MUY PROBABLE | H8: SI | I8: cuando la persona es de orientación sexual diferente | J8: Conferencias o Talleres efectuadas por Expertos | K8: Sector Talleres | L8: Guardias | M8: Si | O8: No | P8: Quizá ya está informado, o la victima no quiere informar o están de mutuo acuerdo y yo veo que es incorrecto, hablo con la persona | Q8: Si | S8: Apoyo psicológico | T8: Poco efectiva | V8: Nada
A9: 2023/08/16 8:57:25 a. m. GMT-4 | B9: Masculino | C9: Ejecutivo | D9: Poca Frecuencia | E9: Poca Frecuencia | F9: Poca Frecuencia | G9: POCO PROBABLE | H9: NO | I9: No | J9: Conferencias o Talleres efectuadas por Expertos | K9: Enfermería | L9: Evento de Camaradería | M9: Si | O9: Si | Q9: No he sufrido ninguna de las situaciones | S9: Reserva del proceso investigativo | T9: Efectiva | V9: Sanciones ejemplificadoras Presentar casos reales (sin nombre) de situaciones ocurridas en la institución
A10: 2023/08/16 8:57:31 a. m. GMT-4 | B10: Femenino | C10: Abastecimiento | D10: Casi nunca ocurre | E10: Casi nunca ocurre | F10: Casi nunca ocurre | G10: POCO PROBABLE | H10: NO | I10: . | J10: Difusión por medios digitales Institucionales | K10: Lugares fuera de la escuela | L10: Ninguna Actividad | M10: Si | O10: Si | Q10: No he sufrido ninguna de las situaciones | S10: Prohibición de contacto entre las partes involucradas | T10: Efectiva | V10: .
