Workbook

Sheet Respuestas cadetes
A1: Marca temporal | B1: Indique su Género | C1: Indique a que División pertenece | D1: ¿Con qué FRECUENCIA CREE UD. que ocurren situaciones de ACOSO SEXUAL, en la Escuela Naval? | E1: ¿Con qué FRECUENCIA CREE UD. que ocurren situaciones de VIOLENCIA DE GÉNERO en la Escuela Naval? | F1: ¿Con qué FRECUENCIA CREE UD. que ocurren situaciones de DISCRIMINACIÓN DE GÉNERO en la Escuela Naval? | G1: ¿Qué tan probable es escuchar comentarios sexistas dentro de su ámbito de desempeño en la Escuela Naval? | H1: Considera que existe discriminación por razones de género en la Escuela Naval | I1: Si su respuesta anterior es SI indique en que situación ha ocurrido | J1: A su parecer ¿ Cuál debiera ser el objetivo o foco central del modelo de prevención de acoso sexual, violencia o discriminación de género? | K1: ¿Qué zonas o lugares son a su juicio, propicios para que se den conductas de acoso sexual, violencia o discriminación? | L1: ¿Qué actividades que SE REALIZAN cotidianamente en la Escuela Naval son a su juicio, propicias para que se den conductas que puedan producir acoso, violencia o discriminación? | M1: ¿Qué actividades que se REALIZAN FUERA de las Instalaciones de la Escuela Naval son, a su juicio, propicios para que se den conductas que puedan producir acoso, violencia o discriminación? | N1: ¿En caso que FUERA víctima de acoso sexual, violencia o discriminación de género, haría la denuncia a su mando? | O1: Si su respuesta anterior fue NO, ¿Por qué razones NO haría la denuncia? | P1: ¿En caso que FUERA TESTIGO de acoso sexual, violencia o discriminación de género, haría la denuncia a las autoridades de la Escuela Naval? | Q1: Si su respuesta anterior fue NO, ¿Por qué razón NO haría la denuncia? | R1: ¿En caso de HABER SUFRIDO O SIDO TESTIGO de alguna de las situaciones definidas al inicio de la encuesta y que la Ley reconoce como acoso sexual, violencia o discriminación de género, ¿Hizo usted la denuncia a su mando? | S1: Si su respuesta anterior fue NO, ¿Por qué razones NO haría la denuncia? | T1: ¿Tiene conocimiento usted que haya existido alguna de las siguientes situaciones? | U1: Según su punto vista, ¿Cuál es el grado de efectividad de las medidas que ha adoptado la Escuela Naval ante casos de acoso sexual, violencia o discriminación de género? | V1: Si su respuesta es NADA EFECTIVA (Indique el Motivo) | W1: ¿Cuál de estas medidas de resguardo considera Ud. que otorgan una mejor PROTECCIÓN a la víctima de acoso, violencia o discriminación? | X1: ¿Qué sugerencias haría Ud. para prevenir conductas no deseadas y el buen cumplimiento de la ley 21.369? (estas sugerencias pueden ayudar a fomentar y fortalecer un buen ambiente laboral y estudiantil en la Escuela Naval)
A2: 2023/08/17 7:59:22 p. m. GMT-4 | B2: Femenino | C2: Brigadier | D2: Casi nunca ocurre | E2: Casi nunca ocurre | F2: Casi nunca ocurre | G2: MUY PROBABLE | H2: NO | J2: CONFERENCIAS O TALLERES REALIZADAS POR EXPERTOS EN EL TEMA | K2: Sala de clase | L2: Ninguna actividad | M2: Actividades de camaradería (asados, cumpleaños, aniversario de especialidad) | N2: Si | P2: Si | R2: No he sufrido ni sido testigo | T2: Comentarios inapropiados acerca de su apariencia | U2: Efectiva | W2: Prohibición de contacto entre las partes involucradas | X2: Tomar medidas mas estrictas ante, avisos o denuncias, acerca no solo de cadetes sino también de profesores
A3: 2023/08/17 7:59:46 p. m. GMT-4 | B3: Masculino | C3: Brigadier | D3: Poca Frecuencia | E3: Casi nunca ocurre | F3: Poca Frecuencia | G3: MUY PROBABLE | H3: SI | I3: conversaciones entre brigadieres | J3: CONFERENCIAS O TALLERES REALIZADAS POR EXPERTOS EN EL TEMA | K3: Lugares fuera de la escuela | L3: Fiestas propias de la Escuela | M3: Actividades de camaradería (asados, cumpleaños, aniversario de especialidad) | N3: Si | P3: Si | R3: Si | T3: Proximidad físicamente invasiva o incómoda | U3: Efectiva | W3: Investigación con celeridad y sin dilataciones | X3: Más que mejorar la vigilancia, creo que hay que mejorar la comunicación con el cuerpo de cadetes para que entiendan por qué es necesario denunciar este tipo de situaciones
A4: 2023/08/17 7:59:49 p. m. GMT-4 | B4: Masculino | C4: Brigadier | D4: Nunca ocurre | E4: Nunca ocurre | F4: Nunca ocurre | G4: NUNCA | H4: NO | J4: DIFUSIÓN POR MEDIOS DIGITALES INSTITUCIONALES | K4: En ningún lado | L4: Ninguna actividad | M4: Actividades de camaradería (asados, cumpleaños, aniversario de especialidad) | N4: Si | P4: Si | R4: No he sufrido ni sido testigo | T4: No tengo conocimiento | U4: Muy Efectiva | W4: Apoyo psicológico | X4: Fomentar la empatía y el respeto
A5: 2023/08/17 8:02:32 p. m. GMT-4 | B5: Masculino | C5: Cuarta | D5: Casi nunca ocurre | E5: Casi nunca ocurre | F5: Casi nunca ocurre | G5: POCO PROBABLE | H5: NO | J5: CHARLAS DIVISIONALES | K5: En ningún lado | L5: Ninguna actividad | M5: Embarcos | N5: Si | P5: Si | R5: No he sufrido ni sido testigo | T5: No tengo conocimiento | U5: Efectiva | W5: Mantener el tema al márgen, no generar instancias para que toda ma escuela se entere | X5: No dar énfasis a temas que no lo ameritan
A6: 2023/08/17 8:03:40 p. m. GMT-4 | B6: Masculino | C6: Brigadier | D6: Casi nunca ocurre | E6: Casi nunca ocurre | F6: Casi nunca ocurre | G6: PROBABLE | H6: NO | J6: DIFUSIÓN POR MEDIOS DIGITALES INSTITUCIONALES | K6: Complejo deportivo | L6: Deporte | M6: Actividades deportivas | N6: Si | P6: Si | R6: No he sufrido ni sido testigo | T6: No tengo conocimiento | U6: Efectiva | W6: Investigación con celeridad y sin dilataciones | X6: Dejaría en claro que lo que se necesita es igualdad de oportunidades, no igualdad de genero. Lo anterior, ya que, hombres y mujeres NO somos iguales biológica y fisicamente hablando. Tenemos condiciones y aptitudes diferentes y nos tenemos que desarrollar en esos ámbitos de competencia. No hay que forzar la inclusión en lugares y eventos donde no corresponde o donde el desempeño de un hombre y de una mujer sea notoriamente diferente. Debe existir la misma posibilidad de entrar y postular, pero deben ser las habilidades y competencias las que determinen quien queda dentro, no el genero.
A7: 2023/08/17 8:04:52 p. m. GMT-4 | B7: Masculino | C7: Tercera | D7: Nunca ocurre | E7: Casi nunca ocurre | F7: Poca Frecuencia | G7: PROBABLE | H7: NO | J7: CONFERENCIAS O TALLERES REALIZADAS POR EXPERTOS EN EL TEMA | K7: Sala de clase | L7: Ninguna actividad | M7: Actividades de camaradería (asados, cumpleaños, aniversario de especialidad) | N7: Si | P7: Si | R7: No he sufrido ni sido testigo | T7: No tengo conocimiento | U7: Poco efectiva | W7: Apoyo psicológico | X7: Hacer charlas con expertos sobre el tema
A8: 2023/08/17 8:04:52 p. m. GMT-4 | B8: Masculino | C8: Brigadier | D8: Casi nunca ocurre | E8: Nunca ocurre | F8: Nunca ocurre | G8: PROBABLE | H8: NO | J8: CHARLAS DIVISIONALES | K8: Entrepuente | L8: Ninguna actividad | M8: Actividades de camaradería (asados, cumpleaños, aniversario de especialidad) | N8: Si | P8: Si | R8: No he sufrido ni sido testigo | T8: No tengo conocimiento | U8: Efectiva | W8: Apoyo jurídico | X8: Promover charlas u otras formas de transmisión de información sobre estos temas y mantener un buen ejemplo dentro de la institución.
A9: 2023/08/17 8:04:54 p. m. GMT-4 | B9: Masculino | C9: Brigadier | D9: Poca Frecuencia | E9: Poca Frecuencia | F9: Poca Frecuencia | G9: PROBABLE | H9: NO | J9: CONFERENCIAS O TALLERES REALIZADAS POR EXPERTOS EN EL TEMA | K9: Patios | L9: Retiradas | M9: Embarcos | N9: Si | P9: Si | R9: No he sufrido ni sido testigo | T9: Proximidad físicamente invasiva o incómoda | U9: Efectiva | W9: Prohibición de contacto entre las partes involucradas | X9: Sin comentarios
A10: 2023/08/17 8:04:57 p. m. GMT-4 | B10: Masculino | C10: Primera | D10: Nunca ocurre | E10: Nunca ocurre | F10: Nunca ocurre | G10: POCO PROBABLE | H10: NO | J10: DIFUSIÓN POR MEDIOS DIGITALES INSTITUCIONALES | K10: En ningún lado | L10: Ninguna actividad | M10: En desfiles o lugares con contacto con la población | N10: Si | P10: Si | R10: No he sufrido ni sido testigo | T10: Comentarios inapropiados acerca de su apariencia | U10: Muy Efectiva | W10: Apoyo psicológico | X10: Crear conciencia y difundir la ley para que tengan el conocimiento de esta.
A11: 2023/08/17 8:05:12 p. m. GMT-4 | B11: Masculino | C11: Segunda | D11: Nunca ocurre | E11: Nunca ocurre | F11: Casi nunca ocurre | G11: PROBABLE | H11: NO | J11: DIFUSIÓN POR MEDIOS DIGITALES INSTITUCIONALES | K11: Lugares fuera de la escuela | L11: Fiestas propias de la Escuela | M11: Actividades de camaradería (asados, cumpleaños, aniversario de especialidad) | N11: Si | P11: Si | R11: No he sufrido ni sido testigo | T11: Proximidad físicamente invasiva o incómoda | U11: Poco efectiva | W11: Prohibición de contacto entre las partes involucradas | X11: Dar una charla y dejar en claro el cumplimiento de estas normas en la armada de chile
A12: 2023/08/17 8:08:40 p. m. GMT-4 | B12: Masculino | C12: Brigadier | D12: Nunca ocurre | E12: Casi nunca ocurre | F12: Poca Frecuencia | G12: POCO PROBABLE | H12: NO | J12: CHARLAS DIVISIONALES | K12: En ningún lado | L12: Ninguna actividad | M12: Actividades de camaradería (asados, cumpleaños, aniversario de especialidad) | N12: Si | P12: Si | R12: No he sufrido ni sido testigo | T12: Comentarios inapropiados acerca de su apariencia | U12: Poco efectiva | W12: Investigación con celeridad y sin dilataciones | X12: Que Exista un pleno conocimiento de la ley por parte de los cadetes
A13: 2023/08/17 8:10:27 p. m. GMT-4 | B13: Masculino | C13: Brigadier | D13: Casi nunca ocurre | E13: Casi nunca ocurre | F13: Poca Frecuencia | G13: POCO PROBABLE | H13: NO | J13: DIFUSIÓN POR MEDIOS DIGITALES INSTITUCIONALES | K13: En ningún lado | L13: Fiestas propias de la Escuela | M13: Actividades de camaradería (asados, cumpleaños, aniversario de especialidad) | N13: Si | P13: Si | R13: No he sufrido ni sido testigo | T13: No tengo conocimiento | U13: Efectiva | W13: Prohibición de contacto entre las partes involucradas | X13: Hacer de conocimiento general lo que establece la ley 21.369 y todo lo que respecta a dichas conductas no deseadas
A14: 2023/08/17 8:11:02 p. m. GMT-4 | B14: Masculino | C14: Brigadier | D14: Casi nunca ocurre | E14: Poca Frecuencia | F14: Poca Frecuencia | G14: MUY PROBABLE | H14: NO | J14: CHARLAS DIVISIONALES | K14: Complejo deportivo | L14: Deporte | M14: Ninguna | N14: Si | P14: Si | R14: No he sufrido ni sido testigo | T14: Abuso sexual | U14: Efectiva | W14: Investigación con celeridad y sin dilataciones | X14: Que se hablara más del tema a nivel de división
A15: 2023/08/17 8:15:29 p. m. GMT-4 | B15: Femenino | C15: Brigadier | D15: Poca Frecuencia | E15: Mucha Frecuencia | F15: Mucha Frecuencia | G15: MUY PROBABLE | H15: SI | I15: Comentarios verbales de parte de oficiales y profesores | J15: CONFERENCIAS O TALLERES REALIZADAS POR EXPERTOS EN EL TEMA | K15: Sala de clase | L15: Actividades Académicas | M15: Actividades de camaradería (asados, cumpleaños, aniversario de especialidad) | N15: Si | P15: Si | R15: No | S15: Miedo | T15: Comentarios inapropiados acerca de su apariencia | U15: Nada Efectiva | V15: No he visto medidas en la escuela contra el acoso sexual además de preguntarnos si conocemos la ley que habla sobre este tema | W15: Investigación con celeridad y sin dilataciones | X15: Abrir más espacios para hablar de este tema y que la persona afectada sienta más confianza al momento de informar, quizás poder hablarlo con un oficial/civil que no sea mando directo pero a la vez inspire confianza, que se escuche y no se juzgue.
A16: 2023/08/17 8:16:38 p. m. GMT-4 | B16: Masculino | C16: Séptima | D16: Nunca ocurre | E16: Nunca ocurre | F16: Nunca ocurre | G16: NUNCA | H16: NO | J16: DIFUSIÓN POR MEDIOS DIGITALES INSTITUCIONALES | K16: En ningún lado | L16: Ninguna actividad | M16: Interescuelas | N16: Si | P16: Si | R16: No he sufrido ni sido testigo | T16: No tengo conocimiento | U16: Muy Efectiva | W16: Apoyo psicológico | X16: Seguir con el modelo de formación
A17: 2023/08/17 8:16:43 p. m. GMT-4 | B17: Masculino | C17: Séptima | D17: Nunca ocurre | E17: Nunca ocurre | F17: Nunca ocurre | G17: NUNCA | H17: NO | J17: DIFUSIÓN POR MEDIOS DIGITALES INSTITUCIONALES | K17: En ningún lado | L17: Ninguna actividad | M17: No se me ocurre, no pienso como tal | N17: Si | P17: Si | R17: No he sufrido ni sido testigo | T17: No tengo conocimiento | U17: Poco efectiva | W17: Prohibición de contacto entre las partes involucradas | X17: .
A18: 2023/08/17 8:16:53 p. m. GMT-4 | B18: Masculino | C18: Séptima | D18: Poca Frecuencia | E18: Nunca ocurre | F18: Poca Frecuencia | G18: POCO PROBABLE | H18: NO | J18: DIFUSIÓN POR MEDIOS DIGITALES INSTITUCIONALES | K18: En ningún lado | L18: Terraza Weste | M18: Actividades de camaradería (asados, cumpleaños, aniversario de especialidad) | N18: Si | P18: Si | R18: No he sufrido ni sido testigo | T18: Acoso Sexual | U18: Efectiva | W18: Reserva del proceso investigativo | X18: Las medidas ya expuestas como charlas y talleres
A19: 2023/08/17 8:19:07 p. m. GMT-4 | B19: Femenino | C19: Brigadier | D19: Poca Frecuencia | E19: Poca Frecuencia | F19: Poca Frecuencia | G19: MUY PROBABLE | H19: NO | J19: CONFERENCIAS O TALLERES REALIZADAS POR EXPERTOS EN EL TEMA | K19: Lugares fuera de la escuela | L19: Ninguna actividad | M19: Embarcos | N19: No | O19: Porque no me gustaría que se me pusiera en tela de juicio ni ser apuntada con el dedo, o entrar en discusiones que probablemente no lleguen a nada | P19: No | Q19: Porque dependiendo de la gravedad de lo que sea testigo voy a apoyar y respetar a la víctima, tratar de convencerla de que ella haga la denuncia antes de tomar medidas yo | R19: No he sufrido ni sido testigo | T19: Acoso Sexual | U19: Poco efectiva | W19: Investigación con celeridad y sin dilataciones | X19: Que se de a conocer más la OPI de la escuela al respecto
A20: 2023/08/17 8:19:54 p. m. GMT-4 | B20: Masculino | C20: Brigadier | D20: Poca Frecuencia | E20: Poca Frecuencia | F20: Poca Frecuencia | G20: POCO PROBABLE | H20: NO | J20: CHARLAS DIVISIONALES | K20: Lugares fuera de la escuela | L20: Fiestas propias de la Escuela | M20: Actividades de camaradería (asados, cumpleaños, aniversario de especialidad) | N20: Si | P20: Si | R20: Si | T20: Proximidad físicamente invasiva o incómoda | U20: Efectiva | W20: Apoyo psicológico | X20: Charlas divisionales para fomentar la prevención del acoso en la institución
A21: 2023/08/17 8:20:29 p. m. GMT-4 | B21: Femenino | C21: Séptima | D21: Mucha Frecuencia | E21: Mucha Frecuencia | F21: Mucha Frecuencia | G21: MUY PROBABLE | H21: SI | I21: En clases dicen muchos comentarios sexistas , al igual que en el deporte que son más machistas que no somos capaces de rendir como ellos o mandar como ellos en cualquier ámbito, incluso los profesores dicen comentarios de ese tipo o comentarios de mujeres fuera de lugar en clases. | J21: CONFERENCIAS O TALLERES REALIZADAS POR EXPERTOS EN EL TEMA | K21: Sala de clase | L21: Deporte | M21: Actividades deportivas | N21: Si | O21: Mi respuesta fue si pero aún así el ser mujer y menos antigua invalida nuestra situación. | P21: Si | R21: No he sufrido ni sido testigo | T21: Discriminación de género | U21: Poco efectiva | W21: Investigación con celeridad y sin dilataciones | X21: Equidad de género
A22: 2023/08/17 8:20:42 p. m. GMT-4 | B22: Masculino | C22: Séptima | D22: Casi nunca ocurre | E22: Poca Frecuencia | F22: Mucha Frecuencia | G22: PROBABLE | H22: SI | I22: Temas de antiguedad | J22: CONFERENCIAS O TALLERES REALIZADAS POR EXPERTOS EN EL TEMA | K22: Lugares fuera de la escuela | L22: Ninguna actividad | M22: Embarcos | N22: Si | P22: Si | R22: No he sufrido ni sido testigo | T22: Discriminación de género | U22: Efectiva | W22: Investigación con celeridad y sin dilataciones | X22: Informaría a la escuela en solo UNA charla sobre que hay que hacer y sus conductos regulares
A23: 2023/08/17 8:20:58 p. m. GMT-4 | B23: Masculino | C23: Séptima | D23: Poca Frecuencia | E23: Poca Frecuencia | F23: Mucha Frecuencia | G23: MUY PROBABLE | H23: NO | J23: CONFERENCIAS O TALLERES REALIZADAS POR EXPERTOS EN EL TEMA | K23: En ningún lado | L23: Ninguna actividad | M23: Actividades de camaradería (asados, cumpleaños, aniversario de especialidad) | N23: Si | P23: Si | R23: Si | T23: Abuso sexual | U23: Poco efectiva | W23: Apoyo jurídico | X23: Que se condene el abuso y se investigue
A24: 2023/08/17 8:22:40 p. m. GMT-4 | B24: Masculino | C24: Brigadier | D24: Nunca ocurre | E24: Nunca ocurre | F24: Nunca ocurre | G24: PROBABLE | H24: NO | J24: CHARLAS DIVISIONALES | K24: Sala de clase | L24: Ninguna actividad | M24: Actividades de camaradería (asados, cumpleaños, aniversario de especialidad) | N24: Si | P24: Si | R24: Si | T24: Proximidad físicamente invasiva o incómoda | U24: Poco efectiva | W24: Investigación con celeridad y sin dilataciones | X24: Dar una buena enseñanza , y ahondar en los temas de acoso y abuso para que las personas que tengan estas practicas se sientan identificados y cambien su forma de actuar y tratar al resto de las personas.
A25: 2023/08/17 8:23:28 p. m. GMT-4 | B25: Masculino | C25: Brigadier | D25: Poca Frecuencia | E25: Casi nunca ocurre | F25: Poca Frecuencia | G25: PROBABLE | H25: NO | J25: CONFERENCIAS O TALLERES REALIZADAS POR EXPERTOS EN EL TEMA | K25: En ningún lado | L25: Ninguna actividad | M25: Actividades Culturales | N25: Si | P25: Si | R25: No he sufrido ni sido testigo | T25: No tengo conocimiento | U25: Efectiva | W25: Reserva del proceso investigativo | X25: Que el mando haga un seguimiento más profundo a sus cadetes
A26: 2023/08/17 8:29:50 p. m. GMT-4 | B26: Masculino | C26: Brigadier | D26: Poca Frecuencia | E26: Casi nunca ocurre | F26: Poca Frecuencia | G26: PROBABLE | H26: NO | J26: DIFUSIÓN POR MEDIOS DIGITALES INSTITUCIONALES | K26: Lugares fuera de la escuela | L26: Rancho | M26: Actividades Culturales | N26: Si | P26: Si | R26: No he sufrido ni sido testigo | T26: Comentarios inapropiados acerca de su apariencia | U26: Efectiva | W26: Prohibición de contacto entre las partes involucradas | X26: Mayor conectividad entre cadetes, forjando la amistad y la camaradería.
A27: 2023/08/17 8:30:12 p. m. GMT-4 | B27: Femenino | C27: Séptima | D27: Casi nunca ocurre | E27: Nunca ocurre | F27: Poca Frecuencia | G27: MUY PROBABLE | H27: SI | I27: Comentarios machistas hacia mujeres por pertenecer en la institución y no poder rendir físicamente igual a los hombres. | J27: CHARLAS DIVISIONALES | K27: Lugares fuera de la escuela | L27: Ninguna actividad | M27: Embarcos | N27: No | O27: Porque pueden no creer lo que digo, se puede contradecir las versiones y salir perjudicada | P27: Si | R27: No he sufrido ni sido testigo | T27: Discriminación de género | U27: Poco efectiva | W27: Prohibición de contacto entre las partes involucradas | X27: No prohibir contacto físico en la escuela naval, ya que, de esta manera no se conoce bien a las personas, no hacen cosas por el miedo a ser sancionados y creo que por esto cuando ocurre acoso sexual es cuando nadie los está viendo o controlando
A28: 2023/08/17 8:31:22 p. m. GMT-4 | B28: Femenino | C28: Séptima | D28: Casi nunca ocurre | E28: Casi nunca ocurre | F28: Casi nunca ocurre | G28: PROBABLE | H28: NO | J28: CONFERENCIAS O TALLERES REALIZADAS POR EXPERTOS EN EL TEMA | K28: Lugares fuera de la escuela | L28: Ninguna actividad | M28: Actividades de camaradería (asados, cumpleaños, aniversario de especialidad) | N28: Si | P28: Si | R28: No he sufrido ni sido testigo | T28: Comentarios inapropiados acerca de su apariencia | U28: Poco efectiva | V28: No dan mucho énfasis a este tema en particular | W28: Reserva del proceso investigativo | X28: Charlas y clases sobre estos temas para toda la Armada, y dar énfasis que los dos géneros tienen gran valor en la marina.
A29: 2023/08/17 8:34:24 p. m. GMT-4 | B29: Masculino | C29: Tercera | D29: Casi nunca ocurre | E29: Nunca ocurre | F29: Casi nunca ocurre | G29: MUY PROBABLE | H29: NO | J29: CONFERENCIAS O TALLERES REALIZADAS POR EXPERTOS EN EL TEMA | K29: Enfermería | L29: Estudio | M29: Embarcos | N29: Si | P29: Si | R29: No he sufrido ni sido testigo | T29: Discriminación de género | U29: Muy Efectiva | W29: Prohibición de contacto entre las partes involucradas | X29: Charlas sobre a uso sexual.
A30: 2023/08/17 8:36:49 p. m. GMT-4 | B30: Masculino | C30: Brigadier | D30: Casi nunca ocurre | E30: Casi nunca ocurre | F30: Casi nunca ocurre | G30: PROBABLE | H30: NO | J30: CONFERENCIAS O TALLERES REALIZADAS POR EXPERTOS EN EL TEMA | K30: Sala de clase | L30: Terraza Weste | M30: Actividades de camaradería (asados, cumpleaños, aniversario de especialidad) | N30: Si | P30: Si | R30: No he sufrido ni sido testigo | T30: No tengo conocimiento | U30: Efectiva | W30: Apoyo psicológico | X30: Mantener al cuerpo de cadetes bien informado
A31: 2023/08/17 8:39:07 p. m. GMT-4 | B31: Femenino | C31: Séptima | D31: Mucha Frecuencia | E31: Mucha Frecuencia | F31: Poca Frecuencia | G31: MUY PROBABLE | H31: SI | I31: Marcas en las capacidades físicas | J31: CONFERENCIAS O TALLERES REALIZADAS POR EXPERTOS EN EL TEMA | K31: Lugares fuera de la escuela | L31: Ninguna actividad | M31: Embarcos | N31: No | O31: No me expondría ni haría todo el tedioso trámite del conducto regular | P31: No | R31: No | S31: Miedo | T31: Acoso Sexual | U31: Nada Efectiva | V31: Un arresto no hace cambiar la forma de ser de alguien. Lo puede hacer reflexionar, pero que genere un cambio es difícil | W31: Investigación con celeridad y sin dilataciones | X31: Evitar separar tanto a los sexos en actividades o cosas de régimen, porque al final solo aumenta la tensión
A32: 2023/08/17 8:47:52 p. m. GMT-4 | B32: Femenino | C32: Séptima | D32: Nunca ocurre | E32: Casi nunca ocurre | F32: Casi nunca ocurre | G32: PROBABLE | H32: NO | J32: CHARLAS DIVISIONALES | K32: Entrepuente | L32: Retiradas | M32: Embarcos | N32: Si | P32: Si | R32: Si | T32: Acoso verbal | U32: Nada Efectiva | W32: Investigación con celeridad y sin dilataciones | X32: Fomentar el ambiente sano entre los cadetes con charlas y otras actividades
A33: 2023/08/17 8:49:21 p. m. GMT-4 | B33: Femenino | C33: Séptima | D33: Poca Frecuencia | E33: Mucha Frecuencia | F33: Poca Frecuencia | G33: MUY PROBABLE | H33: NO | J33: CHARLAS DIVISIONALES | K33: Lugares fuera de la escuela | L33: Fiestas propias de la Escuela | M33: Actividades de camaradería (asados, cumpleaños, aniversario de especialidad) | N33: Si | P33: Si | R33: No he sufrido ni sido testigo | T33: Comentarios inapropiados acerca de su apariencia | U33: Efectiva | W33: Reserva del proceso investigativo | X33: Aplicar acorde a la ley, no aceptar que la persona que cometió la falta siga en la escuela
A34: 2023/08/17 8:51:10 p. m. GMT-4 | B34: Masculino | C34: Séptima | D34: Mucha Frecuencia | E34: Nunca ocurre | F34: Nunca ocurre | G34: NUNCA | H34: NO | J34: DIFUSIÓN POR MEDIOS DIGITALES INSTITUCIONALES | K34: Lugares fuera de la escuela | L34: Ninguna actividad | M34: Actividades de camaradería (asados, cumpleaños, aniversario de especialidad) | N34: Si | P34: Si | R34: Si | T34: Proximidad físicamente invasiva o incómoda | U34: Efectiva | W34: Reserva del proceso investigativo | X34: .
A35: 2023/08/17 8:51:58 p. m. GMT-4 | B35: Femenino | C35: Brigadier | D35: Mucha Frecuencia | E35: Poca Frecuencia | F35: Mucha Frecuencia | G35: MUY PROBABLE | H35: NO | J35: CONFERENCIAS O TALLERES REALIZADAS POR EXPERTOS EN EL TEMA | K35: Sala de clase | L35: Ninguna actividad | M35: Embarcos | N35: Si | P35: Si | R35: No | S35: Porque otras personas le bajaron el perfil a lo que ocurrió y lo hicieron ver como una tontería | T35: Proximidad físicamente invasiva o incómoda | U35: Nada Efectiva | V35: No se crea un espacio cómodo para dar a conocer ese tipo de situaciones | W35: Apoyo psicológico | X35: Ser más duro en las sanciones cuando se den a conocer situaciones de este tipo, realizar charlas para que todos estén al tanto qué acciones son incorrectas, y que además no sea un tema que no se habla nunca, ya que eso hace que sea aún más incómodo y difícil hablarlo, debido al miedo y los prejuicios que existen sobre estas conductas
A36: 2023/08/17 8:58:14 p. m. GMT-4 | B36: Masculino | C36: Cuarta | D36: Casi nunca ocurre | E36: Casi nunca ocurre | F36: Casi nunca ocurre | G36: PROBABLE | H36: NO | J36: CHARLAS DIVISIONALES | K36: Patios | L36: Retiradas | M36: Embarcos | N36: Si | P36: Si | R36: No he sufrido ni sido testigo | T36: No tengo conocimiento | U36: Efectiva | W36: Reserva del proceso investigativo | X36: Estar atentos a cualquier situación extraña
A37: 2023/08/17 9:12:53 p. m. GMT-4 | B37: Masculino | C37: Séptima | D37: Casi nunca ocurre | E37: Nunca ocurre | F37: Nunca ocurre | G37: NUNCA | H37: NO | J37: CHARLAS DIVISIONALES | K37: En ningún lado | L37: Ninguna actividad | M37: Ninguna | N37: Si | P37: Si | R37: No he sufrido ni sido testigo | T37: No tengo conocimiento | U37: Muy Efectiva | W37: Prohibición de contacto entre las partes involucradas | X37: Difundir las normas de sana convivencia
A38: 2023/08/17 9:20:36 p. m. GMT-4 | B38: Masculino | C38: Quinta | D38: Casi nunca ocurre | E38: Nunca ocurre | F38: Casi nunca ocurre | G38: POCO PROBABLE | H38: NO | J38: DIFUSIÓN POR MEDIOS DIGITALES INSTITUCIONALES | K38: Lugares fuera de la escuela | L38: Ninguna actividad | M38: Embarcos | N38: Si | P38: Si | R38: No he sufrido ni sido testigo | T38: No tengo conocimiento | U38: Muy Efectiva | W38: Reserva del proceso investigativo | X38: Concientizar a traves de redes sociales
A39: 2023/08/17 9:40:33 p. m. GMT-4 | B39: Masculino | C39: Cuarta | D39: Casi nunca ocurre | E39: Nunca ocurre | F39: Nunca ocurre | G39: PROBABLE | H39: NO | J39: DIFUSIÓN POR MEDIOS DIGITALES INSTITUCIONALES | K39: Lugares fuera de la escuela | L39: Ninguna actividad | M39: Actividades de camaradería (asados, cumpleaños, aniversario de especialidad) | N39: Si | P39: Si | R39: No he sufrido ni sido testigo | T39: Beso insinuante | U39: Efectiva | W39: Prohibición de contacto entre las partes involucradas | X39: Dar consejos o informaciones acerca del tema referido en las aulas de uso institucional
A40: 2023/08/17 9:45:20 p. m. GMT-4 | B40: Masculino | C40: Sexta | D40: Nunca ocurre | E40: Nunca ocurre | F40: Nunca ocurre | G40: NUNCA | H40: NO | J40: CHARLAS DIVISIONALES | K40: En ningún lado | L40: Ninguna actividad | M40: Actividades de camaradería (asados, cumpleaños, aniversario de especialidad) | N40: Si | P40: Si | R40: No he sufrido ni sido testigo | T40: No tengo conocimiento | U40: Muy Efectiva | W40: Reserva del proceso investigativo | X40: A aquellos que sean sorprendidos en dichas faltas, expulsarlos del plantel
A41: 2023/08/17 9:53:56 p. m. GMT-4 | B41: Masculino | C41: Brigadier | D41: Casi nunca ocurre | E41: Casi nunca ocurre | F41: Casi nunca ocurre | G41: POCO PROBABLE | H41: NO | J41: CONFERENCIAS O TALLERES REALIZADAS POR EXPERTOS EN EL TEMA | K41: Entrepuente | L41: Terraza Weste | M41: Actividades de camaradería (asados, cumpleaños, aniversario de especialidad) | N41: Si | P41: Si | R41: No he sufrido ni sido testigo | T41: Discriminación de género | U41: Efectiva | W41: Prohibición de contacto entre las partes involucradas | X41: Traer a expertos a hablar del tema
A42: 2023/08/17 9:57:40 p. m. GMT-4 | B42: Masculino | C42: Sexta | D42: Poca Frecuencia | E42: Poca Frecuencia | F42: Poca Frecuencia | G42: MUY PROBABLE | H42: NO | J42: CONFERENCIAS O TALLERES REALIZADAS POR EXPERTOS EN EL TEMA | K42: Sala de clase | L42: Deporte | M42: Embarcos | N42: Si | P42: Si | R42: No he sufrido ni sido testigo | T42: Comentarios inapropiados acerca de su apariencia | U42: Nada Efectiva | V42: Los cadetes/brigadieres no se lo toman en serio | W42: Apoyo jurídico | X42: Tener más control sobre actividades en las que participen cadetes o brigadierrs de distinto genero y distinta generación
A43: 2023/08/17 9:59:18 p. m. GMT-4 | B43: Femenino | C43: Brigadier | D43: Mucha Frecuencia | E43: Mucha Frecuencia | F43: Mucha Frecuencia | G43: MUY PROBABLE | H43: SI | I43: Cuando dicen que una mujer es inferior a un hombre en clases y los cadetes hombres comienza a decir cosas descriminatoria de la mujer | J43: CHARLAS DIVISIONALES | K43: Sala de clase | L43: Retiradas | M43: Actividades de camaradería (asados, cumpleaños, aniversario de especialidad) | N43: Si | P43: Si | R43: No he sufrido ni sido testigo | T43: Acoso Sexual | U43: Poco efectiva | W43: Investigación con celeridad y sin dilataciones | X43: Que la sanción sea más severa y tener más vigilancia con los cadetes de segundo y Brigadieres que se aprovechan de las motes y les dan regalos.
A44: 2023/08/17 10:02:05 p. m. GMT-4 | B44: Masculino | C44: Séptima | D44: Casi nunca ocurre | E44: Casi nunca ocurre | F44: Casi nunca ocurre | G44: PROBABLE | H44: NO | J44: CHARLAS DIVISIONALES | K44: Lugares fuera de la escuela | L44: Terraza Weste | M44: Actividades de camaradería (asados, cumpleaños, aniversario de especialidad) | N44: Si | P44: Si | R44: No he sufrido ni sido testigo | T44: No tengo conocimiento | U44: Poco efectiva | W44: Prohibición de contacto entre las partes involucradas | X44: .
A45: 2023/08/17 10:02:13 p. m. GMT-4 | B45: Masculino | C45: Sexta | D45: Casi nunca ocurre | E45: Nunca ocurre | F45: Nunca ocurre | G45: POCO PROBABLE | H45: NO | J45: CONFERENCIAS O TALLERES REALIZADAS POR EXPERTOS EN EL TEMA | K45: Lugares fuera de la escuela | L45: Fiestas propias de la Escuela | M45: Durante el franco | N45: Si | P45: Si | R45: No he sufrido ni sido testigo | T45: No tengo conocimiento | U45: Efectiva | W45: Investigación con celeridad y sin dilataciones | X45: Realizar actividades que mejoren la relación entre los cadetes.
A46: 2023/08/17 10:02:45 p. m. GMT-4 | B46: Masculino | C46: Sexta | D46: Casi nunca ocurre | E46: Casi nunca ocurre | F46: Casi nunca ocurre | G46: POCO PROBABLE | H46: NO | J46: CHARLAS DIVISIONALES | K46: Lugares fuera de la escuela | L46: Ninguna actividad | M46: Embarcos | N46: Si | P46: Si | R46: No he sufrido ni sido testigo | T46: Comentarios inapropiados acerca de su apariencia | U46: Efectiva | W46: Apoyo psicológico | X46: Crear lazos más fuertes entre los cadetes
A47: 2023/08/17 10:05:49 p. m. GMT-4 | B47: Masculino | C47: Sexta | D47: Poca Frecuencia | E47: Mucha Frecuencia | F47: Mucha Frecuencia | G47: PROBABLE | H47: SI | J47: CONFERENCIAS O TALLERES REALIZADAS POR EXPERTOS EN EL TEMA | K47: Sala de clase | L47: Fiestas fuera de la Escuela | M47: Actividades de camaradería (asados, cumpleaños, aniversario de especialidad) | N47: No | O47: No hay ninguna red de apoyo para este tipo de casos, la Escuela Naval Arturo Prat no ofrece o no muestra ningún tipo de programa o forma de reaccionar hacia este tipo de situaciones, es algo que se trata como si no existiera | P47: No | Q47: No se, ya que la Escuela Naval no muestra ninguna red de apoyo para este tipo de situaciones | R47: No he sufrido ni sido testigo | T47: Comentarios inapropiados acerca de su apariencia | U47: Nada Efectiva | V47: No son conocidas por el cuerpo de cadetes y no son promovidas en ningún momento | W47: Reserva del proceso investigativo | X47: Apoyo psicológico Promover las medidas y formas de actuar al cuerpo de cadetes Apoyo jurídico Dar cursos sobre el tema, testigos y expertos
A48: 2023/08/17 10:06:28 p. m. GMT-4 | B48: Femenino | C48: Sexta | D48: Poca Frecuencia | E48: Mucha Frecuencia | F48: Mucha Frecuencia | G48: MUY PROBABLE | H48: SI | I48: Sala de clases o clases deportivas | J48: CONFERENCIAS O TALLERES REALIZADAS POR EXPERTOS EN EL TEMA | K48: Sala de clase | L48: Fiestas propias de la Escuela | M48: Actividades de camaradería (asados, cumpleaños, aniversario de especialidad) | N48: Si | P48: Si | R48: No he sufrido ni sido testigo | T48: Discriminación de género | U48: Poco efectiva | W48: Apoyo psicológico | X48: Realizando talleres los cuales los realice un experto en el tema, que los cadetes se den cuenta de la importancia de tener conocimiento acerca del tema.
A49: 2023/08/17 10:07:12 p. m. GMT-4 | B49: Femenino | C49: Sexta | D49: Nunca ocurre | E49: Nunca ocurre | F49: Casi nunca ocurre | G49: POCO PROBABLE | H49: NO | J49: DIFUSIÓN POR MEDIOS DIGITALES INSTITUCIONALES | K49: En ningún lado | L49: Ninguna actividad | M49: Ninguno | N49: Si | P49: Si | R49: No he sufrido ni sido testigo | T49: Comentarios inapropiados acerca de su apariencia | U49: Efectiva | W49: Prohibición de contacto entre las partes involucradas | X49: Una zona para enfrentarnos o debatir cosas que nos molestan
A50: 2023/08/17 10:07:17 p. m. GMT-4 | B50: Masculino | C50: Sexta | D50: Nunca ocurre | E50: Nunca ocurre | F50: Nunca ocurre | G50: PROBABLE | H50: NO | J50: CHARLAS DIVISIONALES | K50: En ningún lado | L50: Ninguna actividad | M50: Actividades de camaradería (asados, cumpleaños, aniversario de especialidad) | N50: Si | P50: Si | R50: No he sufrido ni sido testigo | T50: No tengo conocimiento | U50: Muy Efectiva | W50: Investigación con celeridad y sin dilataciones | X50: Fomentar más acerca este tema que quizás es poco hablado en la Escuela Naval
A51: 2023/08/17 10:07:38 p. m. GMT-4 | B51: Masculino | C51: Sexta | D51: Mucha Frecuencia | E51: Mucha Frecuencia | F51: Mucha Frecuencia | G51: MUY PROBABLE | H51: SI | J51: alentar a los cadetes a informar a sus superiores todas las situaciones de este tipo y crear un conducto de confianza y privacidad para esto, ya que el proceso de información hacia el oficial de división al pasar por los brigadieres se convierte en algo completamente publico. | K51: Entrepuente | L51: Rancho | M51: Embarcos | N51: No | O51: Como dije anteriormente, no se puede confiar en este conducto dado que debe pasar por el brigadier de servicio primero y esto hace que la información se divulgue amplia y rápidamente. | P51: Si | R51: Si | T51: Abuso sexual | U51: Nada Efectiva | V51: La discriminación y la homofobia son excesivos dentro de este establecimiento, los cadetes se educan en un ambiente que trata a homosexuales y mujeres como menos y nadie hace nada al respecto. | X51: crearía una forma de información al oficial de división que no involucrara al brigadier, de tal manera que el cadete se sintiera seguro de informar cualquier situación de este tipo, ademas creo que falta hacer entender a cadetes y brigadieres que no pueden tratar a gente como menos por su sexo u orientación sexual.
A52: 2023/08/17 10:07:52 p. m. GMT-4 | B52: Masculino | C52: Sexta | D52: Poca Frecuencia | E52: Casi nunca ocurre | F52: Casi nunca ocurre | G52: PROBABLE | H52: NO | J52: CHARLAS DIVISIONALES | K52: Gimnasio | L52: Terraza Weste | M52: Actividades Culturales | N52: Si | P52: Si | R52: No he sufrido ni sido testigo | T52: No tengo conocimiento | U52: Poco efectiva | W52: Investigación con celeridad y sin dilataciones | X52: Más reuniones divisionales
A53: 2023/08/17 10:08:17 p. m. GMT-4 | B53: Masculino | C53: Sexta | D53: Poca Frecuencia | E53: Nunca ocurre | F53: Nunca ocurre | G53: PROBABLE | H53: NO | J53: DIFUSIÓN POR MEDIOS DIGITALES INSTITUCIONALES | K53: Lugares fuera de la escuela | L53: Ninguna actividad | M53: Actividades de camaradería (asados, cumpleaños, aniversario de especialidad) | N53: Si | P53: Si | R53: No he sufrido ni sido testigo | T53: Abuso sexual | U53: Efectiva | W53: Reserva del proceso investigativo | X53: Filtrar de mejor manera según exámenes sicologicas
A54: 2023/08/17 10:08:46 p. m. GMT-4 | B54: Masculino | C54: Sexta | D54: Nunca ocurre | E54: Nunca ocurre | F54: Nunca ocurre | G54: POCO PROBABLE | H54: NO | J54: CONFERENCIAS O TALLERES REALIZADAS POR EXPERTOS EN EL TEMA | K54: En ningún lado | L54: Ninguna actividad | M54: Ninguna | N54: Si | P54: Si | R54: No he sufrido ni sido testigo | T54: No tengo conocimiento | U54: Efectiva | W54: Prohibición de contacto entre las partes involucradas | X54: Expulsión de la Escuela
A55: 2023/08/17 10:09:07 p. m. GMT-4 | B55: Masculino | C55: Sexta | D55: Casi nunca ocurre | E55: Nunca ocurre | F55: Nunca ocurre | G55: NUNCA | H55: NO | J55: CHARLAS DIVISIONALES | K55: Sala de clase | L55: Terraza Weste | M55: Actividades de camaradería (asados, cumpleaños, aniversario de especialidad) | N55: No | O55: Miedo | P55: No | Q55: Miedo a represalias | R55: No he sufrido ni sido testigo | T55: Acoso Sexual | U55: Poco efectiva | W55: Investigación con celeridad y sin dilataciones | X55: Dejar de hacer diferencias hombre-mujer
A56: 2023/08/17 10:10:46 p. m. GMT-4 | B56: Femenino | C56: Sexta | D56: Nunca ocurre | E56: Nunca ocurre | F56: Poca Frecuencia | G56: POCO PROBABLE | H56: NO | J56: CONFERENCIAS O TALLERES REALIZADAS POR EXPERTOS EN EL TEMA | K56: Lugares fuera de la escuela | L56: Ninguna actividad | M56: Embarcos | N56: Si | P56: Si | R56: No he sufrido ni sido testigo | T56: Discriminación de género | U56: Efectiva | W56: Investigación con celeridad y sin dilataciones | X56: Charlas sobre el tema
A57: 2023/08/17 10:12:08 p. m. GMT-4 | B57: Masculino | C57: Quinta | D57: Poca Frecuencia | E57: Nunca ocurre | F57: Nunca ocurre | G57: POCO PROBABLE | H57: NO | J57: CONFERENCIAS O TALLERES REALIZADAS POR EXPERTOS EN EL TEMA | K57: En ningún lado | L57: Ninguna actividad | M57: Actividades de camaradería (asados, cumpleaños, aniversario de especialidad) | N57: Si | P57: Si | R57: No he sufrido ni sido testigo | T57: No tengo conocimiento | U57: Poco efectiva | W57: Prohibición de contacto entre las partes involucradas | X57: Dar conocimiento de este tipo de casos, para generar conciencia, mediante charlas o clases.
A58: 2023/08/17 10:14:57 p. m. GMT-4 | B58: Masculino | C58: Quinta | D58: Poca Frecuencia | E58: Poca Frecuencia | F58: Poca Frecuencia | G58: PROBABLE | H58: SI | I58: Ficha Fisica | J58: CONFERENCIAS O TALLERES REALIZADAS POR EXPERTOS EN EL TEMA | K58: Lugares fuera de la escuela | L58: Estudio | M58: Actividades de camaradería (asados, cumpleaños, aniversario de especialidad) | N58: Si | P58: Si | R58: No he sufrido ni sido testigo | T58: Abuso sexual | U58: Poco efectiva | W58: Apoyo jurídico | X58: Educación Sexual
A59: 2023/08/17 10:17:41 p. m. GMT-4 | B59: Masculino | C59: Cuarta | D59: Nunca ocurre | E59: Casi nunca ocurre | F59: Casi nunca ocurre | G59: POCO PROBABLE | H59: NO | J59: CONFERENCIAS O TALLERES REALIZADAS POR EXPERTOS EN EL TEMA | K59: En ningún lado | L59: Deporte | M59: Actividades de camaradería (asados, cumpleaños, aniversario de especialidad) | N59: Si | P59: Si | R59: No he sufrido ni sido testigo | T59: No tengo conocimiento | U59: Efectiva | W59: Reserva del proceso investigativo | X59: Realizar charlas como fue nombrado anteriormente y dar a conocer casos del estilo para que puedan ver consecuencias y se den cuenta de lo grave que puede llegar a ser.
A60: 2023/08/17 10:18:46 p. m. GMT-4 | B60: Femenino | C60: Sexta | D60: Nunca ocurre | E60: Mucha Frecuencia | F60: Mucha Frecuencia | G60: MUY PROBABLE | H60: SI | I60: Al participar en una actividad deportiva, exclusión de actividades, al hacer sentirnos inferiores porque nuestras marcas en la ficha son más bajas que las de los hombres. | J60: DIFUSIÓN POR MEDIOS DIGITALES INSTITUCIONALES | K60: Sala de clase | L60: Terraza Weste | M60: Ninguna | N60: Si | P60: Si | R60: No | S60: Al estar normalizada esta situación en la Escuela y en la Armada, no nos tomarán en cuenta. | T60: Violencia de Género | U60: Poco efectiva | W60: Apoyo jurídico | X60: Reeducar a los cadetes masculinos de la Escuela Naval, para que no exista una normalización de los hechos de disminución a la mujer.
A61: 2023/08/17 10:20:09 p. m. GMT-4 | B61: Femenino | C61: Sexta | D61: Nunca ocurre | E61: Mucha Frecuencia | F61: Mucha Frecuencia | G61: MUY PROBABLE | H61: NO | J61: CHARLAS DIVISIONALES | K61: Sala de clase | L61: Estudio | M61: Actividades de camaradería (asados, cumpleaños, aniversario de especialidad) | N61: Si | P61: Si | R61: No he sufrido ni sido testigo | T61: No tengo conocimiento | U61: Poco efectiva | W61: Prohibición de contacto entre las partes involucradas | X61: Realizar charlas o publicidad a través de internet para concientizar y evitar normalizar comentarios principalmente de los cadetes masculinos
A62: 2023/08/17 10:20:56 p. m. GMT-4 | B62: Masculino | C62: Cuarta | D62: Nunca ocurre | E62: Casi nunca ocurre | F62: Nunca ocurre | G62: PROBABLE | H62: NO | J62: CHARLAS DIVISIONALES | K62: En ningún lado | L62: Ninguna actividad | M62: Ninguna actividad lleva al acoso | N62: Si | P62: Si | R62: No he sufrido ni sido testigo | T62: No tengo conocimiento | U62: Efectiva | W62: Apoyo psicológico | X62: Tratar de informar a los cadetes sobre las consecuencias de sus actos siendo más duros
A63: 2023/08/17 10:26:54 p. m. GMT-4 | B63: Masculino | C63: Cuarta | D63: Poca Frecuencia | E63: Casi nunca ocurre | F63: Poca Frecuencia | G63: MUY PROBABLE | H63: NO | J63: Debería ser crear un entorno seguro y respetuoso para todas las personas, promoviendo la educación, la conciencia y el cambio cultural. Esto implica fomentar la igualdad de género, el respeto mutuo y la responsabilidad individual | K63: Sala de clase | L63: Deporte | M63: Embarcos | N63: Si | P63: Si | R63: No he sufrido ni sido testigo | T63: Comentarios inapropiados acerca de su apariencia | U63: Efectiva | W63: Reserva del proceso investigativo | X63: Tener charlas y sancionar
A64: 2023/08/17 10:28:31 p. m. GMT-4 | B64: Femenino | C64: Sexta | D64: Nunca ocurre | E64: Nunca ocurre | F64: Mucha Frecuencia | G64: MUY PROBABLE | H64: SI | I64: Tanto como en comparación de capacidades físicas (sabiendo que el hombre tiene más fuerza por genética), comentarios machistas por solo ser mujer en “broma”, no nos dejan participar en actividades,, etc | J64: CONFERENCIAS O TALLERES REALIZADAS POR EXPERTOS EN EL TEMA | K64: Sala de clase | L64: Estudio | M64: Actividades de camaradería (asados, cumpleaños, aniversario de especialidad) | N64: No | O64: Porque en la escuela y en la armada en general, aún no están acostumbrados a que estos casos SI existen, que uno se siente a pasar a llevar todos los días por solamente su género, no se ha dado un buen respaldo para estas situaciones. Uno se sentiría que al denunciar, no te tomarán en cuenta lo suficiente | P64: No | Q64: Por lo mismo explicado anteriormente, la armada necesita evolucionar y abrir sus puertas a los diferentes géneros, no tanto en lo académico ni físico, si no del día a día | R64: No | S64: Por lo mismo explicado anteriormente | T64: Discriminación de género | U64: Poco efectiva | W64: Reserva del proceso investigativo | X64: Uno piensa que solamente existe en la escuela por la edad que generalmente tienen los cadetes, pero lamentablemente lo he podido ver en buques con personas ya adultas, el cambio se parte de la escuela, desde la primera escala jerárquica.
A65: 2023/08/17 10:30:10 p. m. GMT-4 | B65: Femenino | C65: Sexta | D65: Casi nunca ocurre | E65: Nunca ocurre | F65: Poca Frecuencia | G65: MUY PROBABLE | H65: SI | I65: Cotidianamente, en el día a día | J65: CHARLAS DIVISIONALES | K65: Sala de clase | L65: Actividades Académicas | M65: Actividades de camaradería (asados, cumpleaños, aniversario de especialidad) | N65: No | O65: La institución no sería suficiente para apelar a aquello | P65: Si | R65: No he sufrido ni sido testigo | T65: Acoso Sexual | U65: Poco efectiva | W65: Reserva del proceso investigativo | X65: Que la escuela naval informe de buena manera a los cadetes, que no pasen por alto cosas que “son menores” para algunos
A66: 2023/08/17 10:32:12 p. m. GMT-4 | B66: Masculino | C66: Sexta | D66: Poca Frecuencia | E66: Casi nunca ocurre | F66: Poca Frecuencia | G66: MUY PROBABLE | H66: NO | J66: CONFERENCIAS O TALLERES REALIZADAS POR EXPERTOS EN EL TEMA | K66: Complejo deportivo | L66: Fiestas propias de la Escuela | M66: Actividades de camaradería (asados, cumpleaños, aniversario de especialidad) | N66: Si | P66: Si | R66: No | S66: Porque la persona que lo sufrió me pidió que no lo informara, para que la victima no se metiera en problemas. | T66: Acoso Sexual | U66: Poco efectiva | W66: Prohibición de contacto entre las partes involucradas | X66: Entregar mayor confianza a que se conversen los temas y se denuncien conductas no adecuadas.
A67: 2023/08/17 10:40:16 p. m. GMT-4 | B67: Masculino | C67: Sexta | D67: Nunca ocurre | E67: Nunca ocurre | F67: Nunca ocurre | G67: NUNCA | H67: NO | J67: CONFERENCIAS O TALLERES REALIZADAS POR EXPERTOS EN EL TEMA | K67: En ningún lado | L67: Ninguna actividad | M67: Ninguna | N67: Si | P67: Si | R67: No he sufrido ni sido testigo | T67: No tengo conocimiento | U67: Efectiva | W67: Apoyo psicológico | X67: Seguir como esta la escuela
A68: 2023/08/17 10:41:47 p. m. GMT-4 | B68: Masculino | C68: Sexta | D68: Poca Frecuencia | E68: Poca Frecuencia | F68: Poca Frecuencia | G68: POCO PROBABLE | H68: NO | J68: CONFERENCIAS O TALLERES REALIZADAS POR EXPERTOS EN EL TEMA | K68: Lugares fuera de la escuela | L68: Estudio | M68: Embarcos | N68: Si | P68: Si | R68: Si | T68: Proximidad físicamente invasiva o incómoda | U68: Efectiva | W68: Apoyo psicológico | X68: Entrevistar a los cadetes de forma semestral con expertos en el tema para identificar conductas fuera de lo acorde.
A69: 2023/08/17 10:43:38 p. m. GMT-4 | B69: Masculino | C69: Sexta | D69: Nunca ocurre | E69: Nunca ocurre | F69: Nunca ocurre | G69: NUNCA | H69: NO | J69: CONFERENCIAS O TALLERES REALIZADAS POR EXPERTOS EN EL TEMA | K69: En ningún lado | L69: Ninguna actividad | M69: Actividades en francos | N69: Si | P69: Si | R69: No he sufrido ni sido testigo | T69: No tengo conocimiento | U69: Efectiva | W69: Reserva del proceso investigativo | X69: Mayor abertura para poder trasmitir al mando situaciones como estas
A70: 2023/08/17 10:43:38 p. m. GMT-4 | B70: Masculino | C70: Sexta | D70: Poca Frecuencia | E70: Poca Frecuencia | F70: Casi nunca ocurre | G70: POCO PROBABLE | H70: NO | I70: No | J70: CONFERENCIAS O TALLERES REALIZADAS POR EXPERTOS EN EL TEMA | K70: En ningún lado | L70: Ninguna actividad | M70: Ningún lado (No se percibe) | N70: Si | O70: Respuesta fue si. | P70: Si | Q70: Respuesta si. | R70: No he sufrido ni sido testigo | T70: No tengo conocimiento | U70: Efectiva | W70: Investigación con celeridad y sin dilataciones | X70: Mejor manejo ante las situaciones que se puedan presentar, comunicación efectiva tanto para la parte demandante como la parte demandada, igualdad de juicios y veredictos
A71: 2023/08/17 10:44:04 p. m. GMT-4 | B71: Masculino | C71: Sexta | D71: Nunca ocurre | E71: Nunca ocurre | F71: Casi nunca ocurre | G71: POCO PROBABLE | H71: NO | J71: CHARLAS DIVISIONALES | K71: En ningún lado | L71: Ninguna actividad | M71: Actividades de camaradería (asados, cumpleaños, aniversario de especialidad) | N71: Si | P71: Si | R71: No he sufrido ni sido testigo | T71: No tengo conocimiento | U71: Efectiva | W71: Investigación con celeridad y sin dilataciones | X71: Mayor resguardo, previniendo situaciones conflictivas
A72: 2023/08/17 10:46:11 p. m. GMT-4 | B72: Masculino | C72: Cuarta | D72: Nunca ocurre | E72: Nunca ocurre | F72: Nunca ocurre | G72: POCO PROBABLE | H72: NO | J72: CHARLAS DIVISIONALES | K72: En ningún lado | L72: Ninguna actividad | M72: Actividades de camaradería (asados, cumpleaños, aniversario de especialidad) | N72: Si | P72: Si | R72: No he sufrido ni sido testigo | T72: No tengo conocimiento | U72: Muy Efectiva | W72: Prohibición de contacto entre las partes involucradas | X72: Mayor supervisión por los más antiguos.
A73: 2023/08/17 10:46:51 p. m. GMT-4 | B73: Masculino | C73: Sexta | D73: Nunca ocurre | E73: Nunca ocurre | F73: Nunca ocurre | G73: NUNCA | H73: NO | J73: CHARLAS DIVISIONALES | K73: Lugares fuera de la escuela | L73: Ninguna actividad | M73: Embarcos | N73: Si | P73: Si | R73: No he sufrido ni sido testigo | T73: No tengo conocimiento | U73: Efectiva | W73: Prohibición de contacto entre las partes involucradas | X73: Fomentando la confianza entre el subordinado y su mando directo, para que pueda informar con seguridad la situación. Además de brindar un buen apoyo emocional.
A74: 2023/08/17 10:55:06 p. m. GMT-4 | B74: Masculino | C74: Sexta | D74: Casi nunca ocurre | E74: Casi nunca ocurre | F74: Casi nunca ocurre | G74: POCO PROBABLE | H74: NO | J74: CHARLAS DIVISIONALES | K74: Estacionamiento | L74: Ninguna actividad | M74: Actividades de camaradería (asados, cumpleaños, aniversario de especialidad) | N74: Si | P74: Si | R74: No he sufrido ni sido testigo | T74: No tengo conocimiento | U74: Efectiva | W74: Apoyo psicológico | X74: Dar más charlas
A75: 2023/08/17 11:01:46 p. m. GMT-4 | B75: Masculino | C75: Cuarta | D75: Casi nunca ocurre | E75: Casi nunca ocurre | F75: Casi nunca ocurre | G75: PROBABLE | H75: NO | J75: CHARLAS DIVISIONALES | K75: Sala de clase | L75: Ninguna actividad | M75: Ninguna | N75: Si | P75: Si | R75: No he sufrido ni sido testigo | T75: Proximidad físicamente invasiva o incómoda | U75: Poco efectiva | W75: Prohibición de contacto entre las partes involucradas | X75: Opino que acosadores sexuales o de cualquier tipo no deberían egresar de la escuela naval
A76: 2023/08/17 11:05:17 p. m. GMT-4 | B76: Masculino | C76: Quinta | D76: Poca Frecuencia | E76: Casi nunca ocurre | F76: Poca Frecuencia | G76: PROBABLE | H76: NO | J76: CHARLAS DIVISIONALES | K76: Sala de clase | L76: Ninguna actividad | M76: Actividades de camaradería (asados, cumpleaños, aniversario de especialidad) | N76: Si | P76: Si | R76: No he sufrido ni sido testigo | T76: No tengo conocimiento | U76: Poco efectiva | W76: Prohibición de contacto entre las partes involucradas | X76: Buscar a los culpables y sancionarlos de que no vuelvan a ocurrir ocaciones parecidas
A77: 2023/08/17 11:27:49 p. m. GMT-4 | B77: Masculino | C77: Séptima | D77: Poca Frecuencia | E77: Casi nunca ocurre | F77: Poca Frecuencia | G77: POCO PROBABLE | H77: NO | J77: CONFERENCIAS O TALLERES REALIZADAS POR EXPERTOS EN EL TEMA | K77: Lugares fuera de la escuela | L77: Retiradas | M77: Embarcos | N77: Si | P77: Si | R77: No he sufrido ni sido testigo | T77: No tengo conocimiento | U77: Efectiva | W77: Prohibición de contacto entre las partes involucradas | X77: Procesos de justicia más eficiente y con una sanción más exhaustiva, para evitar o disminuir estos tipos de actos al interior de recintos militares.
A78: 2023/08/17 11:33:22 p. m. GMT-4 | B78: Masculino | C78: Sexta | D78: Poca Frecuencia | E78: Casi nunca ocurre | F78: Poca Frecuencia | G78: PROBABLE | H78: NO | J78: CHARLAS DIVISIONALES | K78: Lugares fuera de la escuela | L78: Fiestas propias de la Escuela | M78: Embarcos | N78: Si | P78: Si | R78: No he sufrido ni sido testigo | T78: No tengo conocimiento | U78: Efectiva | W78: Investigación con celeridad y sin dilataciones | X78: procurar la igualdad de genero en todo momento
A79: 2023/08/18 12:43:11 a. m. GMT-4 | B79: Masculino | C79: Cuarta | D79: Casi nunca ocurre | E79: Casi nunca ocurre | F79: Poca Frecuencia | G79: POCO PROBABLE | H79: NO | J79: CHARLAS DIVISIONALES | K79: Sala de clase | L79: Retiradas | M79: Actividades de camaradería (asados, cumpleaños, aniversario de especialidad) | N79: Si | P79: Si | R79: Si | T79: Comentarios inapropiados acerca de su apariencia | U79: Efectiva | W79: Investigación con celeridad y sin dilataciones | X79: Tratar de generar lazos de amistad entre compañeros, darles a entender lo importante que son todos juntos. Intentar hablar con la persona que sufre acoso y así saber cual sería el motivo de recibir esa burla. Hablar con los agresores, y de esta forma buscar la manera de que se apoyen entre ellos
A80: 2023/08/18 7:17:40 a. m. GMT-4 | B80: Masculino | C80: Brigadier | D80: Casi nunca ocurre | E80: Casi nunca ocurre | F80: Poca Frecuencia | G80: PROBABLE | H80: NO | J80: CHARLAS DIVISIONALES | K80: Sala de clase | L80: Actividades Académicas | M80: Actividades de camaradería (asados, cumpleaños, aniversario de especialidad) | N80: Si | P80: Si | R80: No he sufrido ni sido testigo | T80: No tengo conocimiento | U80: Efectiva | W80: Apoyo psicológico | X80: Mas charlas para la Escuela sobre esta temática
A81: 2023/08/18 2:16:18 p. m. GMT-4 | B81: Masculino | C81: Quinta | D81: Casi nunca ocurre | E81: Casi nunca ocurre | F81: Casi nunca ocurre | G81: NUNCA | H81: NO | J81: CHARLAS DIVISIONALES | K81: En ningún lado | L81: Ninguna actividad | M81: Embarcos | N81: Si | P81: Si | R81: No he sufrido ni sido testigo | T81: No tengo conocimiento | U81: Efectiva | W81: Apoyo psicológico
A82: 2023/08/18 2:26:31 p. m. GMT-4 | B82: Masculino | C82: Cuarta | D82: Poca Frecuencia | E82: Poca Frecuencia | F82: Poca Frecuencia | G82: POCO PROBABLE | H82: NO | J82: CHARLAS DIVISIONALES | K82: Lugares fuera de la escuela | L82: Fiestas propias de la Escuela | M82: Actividades de camaradería (asados, cumpleaños, aniversario de especialidad) | N82: Si | P82: Si | R82: No he sufrido ni sido testigo | T82: Proximidad físicamente invasiva o incómoda | U82: Efectiva | W82: Reserva del proceso investigativo | X82: charlas sobre responsabilidad y madurez de uno mismo
A83: 2023/08/18 2:29:00 p. m. GMT-4 | B83: Masculino | C83: Sexta | D83: Casi nunca ocurre | E83: Casi nunca ocurre | F83: Casi nunca ocurre | G83: PROBABLE | H83: NO | J83: DIFUSIÓN POR MEDIOS DIGITALES INSTITUCIONALES | K83: En ningún lado | L83: Ninguna actividad | M83: Embarcos | N83: Si | P83: Si | R83: No he sufrido ni sido testigo | T83: No tengo conocimiento | U83: Poco efectiva | W83: Apoyo espiritual | X83: Sancionas más grave
A84: 2023/08/18 2:39:17 p. m. GMT-4 | B84: Femenino | C84: Cuarta | D84: Nunca ocurre | E84: Nunca ocurre | F84: Casi nunca ocurre | G84: PROBABLE | H84: NO | J84: CHARLAS DIVISIONALES | K84: En ningún lado | L84: Ninguna actividad | M84: . | N84: Si | P84: Si | R84: No he sufrido ni sido testigo | T84: No tengo conocimiento | U84: Efectiva | W84: Investigación con celeridad y sin dilataciones | X84: Dar a conocer las consecuencias que podrían ocasionar
A85: 2023/08/18 2:41:49 p. m. GMT-4 | B85: Femenino | C85: Cuarta | D85: Casi nunca ocurre | E85: Nunca ocurre | F85: Nunca ocurre | G85: NUNCA | H85: NO | J85: CHARLAS DIVISIONALES | K85: Lugares fuera de la escuela | L85: Ninguna actividad | M85: Actividades de camaradería (asados, cumpleaños, aniversario de especialidad) | N85: Si | P85: Si | R85: No he sufrido ni sido testigo | T85: No tengo conocimiento | U85: Efectiva | W85: Apoyo psicológico | X85: mantener informados a los cadetes sobre que hacer en caso de acoso
A86: 2023/08/18 2:47:02 p. m. GMT-4 | B86: Masculino | C86: Sexta | D86: Nunca ocurre | E86: Nunca ocurre | F86: Nunca ocurre | G86: NUNCA | H86: NO | J86: CHARLAS DIVISIONALES | K86: En ningún lado | L86: Ninguna actividad | M86: Embarcos | N86: Si | P86: Si | R86: No he sufrido ni sido testigo | T86: No tengo conocimiento | U86: Efectiva | W86: Apoyo psicológico | X86: No conozco la ley
A87: 2023/08/18 2:53:06 p. m. GMT-4 | B87: Masculino | C87: Sexta | D87: Casi nunca ocurre | E87: Nunca ocurre | F87: Nunca ocurre | G87: POCO PROBABLE | H87: NO | J87: DIFUSIÓN POR MEDIOS DIGITALES INSTITUCIONALES | K87: Lugares fuera de la escuela | L87: Terraza Weste | M87: Actividades de camaradería (asados, cumpleaños, aniversario de especialidad) | N87: Si | P87: Si | R87: No he sufrido ni sido testigo | T87: Proximidad físicamente invasiva o incómoda | U87: Poco efectiva | W87: Investigación con celeridad y sin dilataciones | X87: Fomentar más el tema ya que muy pocas veces se ha mencionado ese tema en la escuela naval y sus repercusiones.
A88: 2023/08/18 2:58:07 p. m. GMT-4 | B88: Masculino | C88: Séptima | D88: Poca Frecuencia | E88: Casi nunca ocurre | F88: Casi nunca ocurre | G88: PROBABLE | H88: NO | J88: CONFERENCIAS O TALLERES REALIZADAS POR EXPERTOS EN EL TEMA | K88: Patios | L88: Ninguna actividad | M88: Visitas a Reparticiones | N88: Si | P88: Si | R88: No he sufrido ni sido testigo | T88: No tengo conocimiento | U88: Muy Efectiva | W88: Prohibición de contacto entre las partes involucradas | X88: Que a todas las personas pertenecientes a un mismo grupo se les trate de la misma manera
A89: 2023/08/18 3:00:01 p. m. GMT-4 | B89: Femenino | C89: Cuarta | D89: Poca Frecuencia | E89: Casi nunca ocurre | F89: Mucha Frecuencia | G89: MUY PROBABLE | H89: SI | I89: Si existe discriminación por razones de género entre los mismos cadetes al momento de realizar algún tipo de actividad, pero no de parte de la Escuela | J89: CONFERENCIAS O TALLERES REALIZADAS POR EXPERTOS EN EL TEMA | K89: Sala de clase | L89: Fiestas propias de la Escuela | M89: Embarcos | N89: Si | P89: Si | R89: No he sufrido ni sido testigo | T89: Acoso Sexual | U89: Poco efectiva | W89: Prohibición de contacto entre las partes involucradas | X89: Un castigo severo para aquellas personas que cometen una falta de dicha magnitud, situaciones como el acoso, abuso o violencia, dentro o fuera de la escuela, debiesen tener tolerancia 0. Además, para poder prevenir un hecho de tal magnitud haría charlas sobre estos temas, el cómo le afecta a las víctimas una situación así, etc.
A90: 2023/08/18 3:11:05 p. m. GMT-4 | B90: Femenino | C90: Séptima | D90: Nunca ocurre | E90: Poca Frecuencia | F90: Mucha Frecuencia | G90: MUY PROBABLE | H90: SI | I90: En el momento que el hombre por sus capacidades puede realizar la una acción que a una mujer se le impide hacer | J90: CHARLAS DIVISIONALES | K90: Patios | L90: Terraza Weste | M90: Visitas a Reparticiones | N90: Si | P90: Si | R90: No he sufrido ni sido testigo | T90: Discriminación de género | U90: Muy Efectiva | W90: Prohibición de contacto entre las partes involucradas | X90: Tratar a un hombre y a una mujer de l misma forma
A91: 2023/08/18 3:13:45 p. m. GMT-4 | B91: Femenino | C91: Sexta | D91: Nunca ocurre | E91: Mucha Frecuencia | F91: Mucha Frecuencia | G91: MUY PROBABLE | H91: SI | I91: Debido a las capacidades físicas que tienen la mujeres, se les reprocha continuamente que no pueden hacer lo mismo que los hombres, cuando es científicamente imposible | J91: CHARLAS DIVISIONALES | K91: Patios | L91: Terraza Weste | M91: Visitas a Reparticiones | N91: Si | P91: Si | R91: No he sufrido ni sido testigo | T91: Discriminación de género | U91: Efectiva | W91: Prohibición de contacto entre las partes involucradas | X91: Que enseñen a desarrollar la equidad
A92: 2023/08/18 6:56:08 p. m. GMT-4 | B92: Femenino | C92: Séptima | D92: Poca Frecuencia | E92: Mucha Frecuencia | F92: Mucha Frecuencia | G92: MUY PROBABLE | H92: SI | I92: El no poder llevar algo porque se es mujer | J92: CHARLAS DIVISIONALES | K92: Lugares fuera de la escuela | L92: Rancho | M92: Actividades de camaradería (asados, cumpleaños, aniversario de especialidad) | N92: Si | P92: Si | R92: No he sufrido ni sido testigo | T92: Discriminación de género | U92: Poco efectiva | W92: Apoyo jurídico | X92: Fomentar el no discriminar a la mujer por ser mujer
A93: 2023/08/18 7:03:08 p. m. GMT-4 | B93: Femenino | C93: Cuarta | D93: Casi nunca ocurre | E93: Nunca ocurre | F93: Casi nunca ocurre | G93: PROBABLE | H93: NO | J93: CONFERENCIAS O TALLERES REALIZADAS POR EXPERTOS EN EL TEMA | K93: Sala de clase | L93: Ninguna actividad | M93: Embarcos | N93: Si | P93: Si | R93: No he sufrido ni sido testigo | T93: Proximidad físicamente invasiva o incómoda | U93: Efectiva | W93: Investigación con celeridad y sin dilataciones | X93: Realizar una evaluación antes de entrar para detectar ciertas cualidades que puedan dar pie a un acoso.
A94: 2023/08/18 7:29:27 p. m. GMT-4 | B94: Masculino | C94: Sexta | D94: Casi nunca ocurre | E94: Poca Frecuencia | F94: Poca Frecuencia | G94: POCO PROBABLE | H94: NO | J94: CHARLAS DIVISIONALES | K94: Baños | L94: Estudio | M94: Actividades de camaradería (asados, cumpleaños, aniversario de especialidad) | N94: Si | P94: Si | R94: No he sufrido ni sido testigo | T94: No tengo conocimiento | U94: Poco efectiva | W94: Reserva del proceso investigativo | X94: Instruir más a los cadetes
A95: 2023/08/18 7:52:40 p. m. GMT-4 | B95: Masculino | C95: Séptima | D95: Nunca ocurre | E95: Nunca ocurre | F95: Casi nunca ocurre | G95: PROBABLE | H95: NO | J95: CHARLAS DIVISIONALES | K95: Entrepuente | L95: Estudio | M95: Embarcos | N95: Si | P95: Si | R95: No he sufrido ni sido testigo | T95: Discriminación de género | U95: Efectiva | W95: Prohibición de contacto entre las partes involucradas | X95: charlas de conciencia
A96: 2023/08/18 7:54:38 p. m. GMT-4 | B96: Masculino | C96: Quinta | D96: Poca Frecuencia | E96: Poca Frecuencia | F96: Casi nunca ocurre | G96: PROBABLE | H96: NO | J96: CHARLAS DIVISIONALES | K96: Lugares fuera de la escuela | L96: Guardias | M96: Embarcos | N96: Si | P96: Si | R96: No he sufrido ni sido testigo | T96: No tengo conocimiento | U96: Poco efectiva | W96: Apoyo jurídico | X96: poner sanciones relevantes
A97: 2023/08/18 8:04:50 p. m. GMT-4 | B97: Masculino | C97: Sexta | D97: Poca Frecuencia | E97: Casi nunca ocurre | F97: Casi nunca ocurre | G97: PROBABLE | H97: NO | J97: CONFERENCIAS O TALLERES REALIZADAS POR EXPERTOS EN EL TEMA | K97: Sala de clase | L97: Deporte | M97: Embarcos | N97: Si | P97: Si | R97: No he sufrido ni sido testigo | T97: Acoso Sexual | U97: Efectiva | W97: Reserva del proceso investigativo | X97: Mayor rigidez en las consecuencias a dar
A98: 2023/08/18 8:05:04 p. m. GMT-4 | B98: Masculino | C98: Séptima | D98: Casi nunca ocurre | E98: Casi nunca ocurre | F98: Casi nunca ocurre | G98: MUY PROBABLE | H98: SI | J98: DIFUSIÓN POR MEDIOS DIGITALES INSTITUCIONALES | K98: Lugares fuera de la escuela | L98: Ninguna actividad | M98: Actividades de camaradería (asados, cumpleaños, aniversario de especialidad) | N98: Si | P98: Si | R98: No he sufrido ni sido testigo | T98: Comentarios inapropiados acerca de su apariencia | U98: Poco efectiva | W98: Reserva del proceso investigativo | X98: Charlas educativas
A99: 2023/08/18 8:46:36 p. m. GMT-4 | B99: Masculino | C99: Brigadier | D99: Poca Frecuencia | E99: Poca Frecuencia | F99: Mucha Frecuencia | G99: MUY PROBABLE | H99: SI | I99: En buceo el Suboficial Acuña en todas las clases dice comentarios en contra de la mujer de tono machistas, tales como la mujer solo sirve para la cocina, no sirven para nada, entre otras cosas. | J99: CHARLAS DIVISIONALES | K99: Complejo deportivo | L99: Retiradas | M99: Embarcos | N99: No | O99: Porque es una denuncia complicada y hay que estar seguro del tema | P99: Si | R99: No | S99: Para no calentarme la cabeza | T99: Discriminación de género | U99: Poco efectiva | W99: Reserva del proceso investigativo | X99: Al personal re contratado de la armada hacerle charlas
A100: 2023/08/18 8:49:10 p. m. GMT-4 | B100: Masculino | C100: Brigadier | D100: Nunca ocurre | E100: Casi nunca ocurre | F100: Casi nunca ocurre | G100: PROBABLE | H100: NO | J100: CONFERENCIAS O TALLERES REALIZADAS POR EXPERTOS EN EL TEMA | K100: Lugares fuera de la escuela | L100: Terraza Weste | M100: Visitas a Reparticiones | N100: Si | P100: Si | R100: No he sufrido ni sido testigo | T100: No tengo conocimiento | U100: Efectiva | W100: Prohibición de contacto entre las partes involucradas | X100: El mando debe obligar a los cadetes a denunciar todas la actividades de acoso, y la guardia es fundamental en esto. En mi opinión, el castigo en caso debe ser ejemplar, por lo tanto postula degradar al abusador al frente de toda la escuela, mismo caso si la denuncia es falsa, esto generaría presión en el cuerpo de cadetes logrando de esta manera terminar con este tipo de violencia
...

Sheet Respuestas profes
A1: Marca temporal | B1: Indique su Género | C1: Indique en qué área docente se desempeña | D1: ¿Con QUÉ FRECUENCIA CREE UD. que ocurren situaciones de ACOSO SEXUAL, en la Escuela Naval? | E1: ¿Con QUÉ FRECUENCIA CREE UD. que ocurren situaciones de VIOLENCIA DE GÉNERO en la Escuela Naval? | F1: ¿Con QUÉ FRECUENCIA CREE UD. que ocurren situaciones de DISCRIMINACIÓN DE GÉNERO en la Escuela Naval? | G1: ¿QUE TAN PROBABLE es escuchar comentarios sexistas dentro de su ámbito de desempeño en la Escuela Naval | H1: Considera UD. QUE EXISTE discriminación por razones de género en la Escuela Naval | I1: Si su respuesta anterior es SI indique en que situación ha ocurrido | J1: ¿Con cuál de las siguientes frases está de acuerdo? | K1: A su parecer ¿ Cuál debiera ser el objetivo o foco central del modelo de prevención de acoso sexual, violencia o discriminación de género? | L1: ¿Qué zonas o lugares de la Escuela Naval son a su juicio, PROPICIOS para que se cometan conductas de acoso laboral o sexual, violencia o discriminación? | M1: ¿Qué actividades que se realizan cotidianamente en la Escuela Naval son, a su juicio, propicias para que se den conductas que puedan producir acoso, violencia o discriminación? | N1: ¿En caso que FUERA VÍCTIMA de acoso sexual, violencia o discriminación de género, haría la denuncia a las autoridades de la Escuela Naval? | O1: Si su respuesta anterior fue NO, ¿Por qué razones NO haría la denuncia? | P1: ¿En caso que FUERA TESTIGO de acoso sexual, violencia o discriminación de género, haría la denuncia a las autoridades de la Escuela Naval? | Q1: Si su respuesta anterior fue NO, ¿Por qué razón NO haría la denuncia? | R1: ¿En caso de HABER SUFRIDO O SIDO TESTIGO de alguna de las situaciones que la Ley reconoce como acoso sexual, violencia y discriminación de género en alguna actividad organizada por la Escuela Naval o al interior de ella ¿Hizo usted la denuncia a su mando? | S1: Si su respuesta anterior fue NO, ¿Por qué razones NO haría la denuncia? | T1: ¿Cuál de estas medidas de resguardo considera Ud. que otorgan una mejor PROTECCIÓN a la víctima de acoso, violencia o discriminación? | U1: Según su punto vista, ¿Cuál es el grado de efectividad de las medidas que ha adoptado la Escuela Naval ante casos de acoso sexual, violencia o discriminación de género? | V1: Si su respuesta es NADA EFECTIVA (Indique el Motivo) | W1: ¿Qué sugerencias haría Ud. para prevenir conductas no deseadas y el buen cumplimiento de la ley 21.369? (estas sugerencias pueden ayudar a fomentar y fortalecer un buen ambiente laboral y estudiantil en la Escuela Naval)
A2: 2023/08/17 8:57:06 a. m. GMT-4 | B2: Masculino | C2: Fisico- Deportiva | D2: Nunca ocurre | E2: Nunca ocurre | F2: Nunca ocurre | G2: NUNCA | H2: NO | J2: Hombre y Mujeres avanzan a la misma velocidad o de igual forma en su carrera docente | K2: CONFERENCIAS O TALLERES REALIZADAS POR EXPERTOS EN EL TEMA | L2: Quinchos | M2: Ninguna actividad | N2: Si | P2: Si | R2: No he sufrido ninguna de las situaciones | T2: Apoyo jurídico | U2: Muy Efectiva | W2: Charlas informativas sobre los procedimientos a seguir cuando suceda.
A3: 2023/08/17 9:00:24 a. m. GMT-4 | B3: Masculino | C3: Fisico- Deportiva | D3: Casi nunca ocurre | E3: Casi nunca ocurre | F3: Poca Frecuencia | G3: POCO PROBABLE | H3: NO | J3: Hombre y Mujeres avanzan a la misma velocidad o de igual forma en su carrera docente | K3: CONFERENCIAS O TALLERES REALIZADAS POR EXPERTOS EN EL TEMA | L3: Lugares fuera de la escuela | M3: Eventos de camaradería propios de la Escuela | N3: Si | P3: Si | R3: No he sufrido ninguna de las situaciones | T3: Prohibición de contacto entre las partes involucradas | U3: Efectiva | W3: Fortalecer la entrega de valores y promover la formación integral de los cadetes.
A4: 2023/08/17 9:06:45 a. m. GMT-4 | B4: Masculino | C4: Fisico- Deportiva | D4: Nunca ocurre | E4: Nunca ocurre | F4: Nunca ocurre | G4: POCO PROBABLE | H4: NO | J4: Hombre y Mujeres avanzan a la misma velocidad o de igual forma en su carrera docente | K4: CONFERENCIAS O TALLERES REALIZADAS POR EXPERTOS EN EL TEMA | L4: En ningún lado | M4: Ninguna actividad | N4: Si | P4: Si | R4: No he sufrido ninguna de las situaciones | T4: Reserva del proceso investigativo | U4: Efectiva | W4: Visibilizar el problema y prevenir
A5: 2023/08/17 9:07:46 a. m. GMT-4 | B5: Masculino | C5: Fisico- Deportiva | D5: Casi nunca ocurre | E5: Casi nunca ocurre | F5: Poca Frecuencia | G5: POCO PROBABLE | H5: SI | I5: Se observa en comentarios respecto de la diferencia en capacidad física | J5: Los hombres avanzan más rápido en su carrera docente en la Escuela Naval | K5: CONFERENCIAS O TALLERES REALIZADAS POR EXPERTOS EN EL TEMA | L5: Patios | M5: Puede darse aleatorimente en alguna de ellas | N5: Si | P5: Si | R5: No he sufrido ninguna de las situaciones | T5: Prohibición de contacto entre las partes involucradas | U5: Efectiva | W5: Ciclo de charlas y ponencias donde en forma activa sean los cadetes quienes ponen el tema en carpeta para crear conciencia institucional
A6: 2023/08/17 9:11:24 a. m. GMT-4 | B6: Masculino | C6: Fisico- Deportiva | D6: Casi nunca ocurre | E6: Poca Frecuencia | F6: Casi nunca ocurre | G6: PROBABLE | H6: NO | J6: Hombre y Mujeres avanzan a la misma velocidad o de igual forma en su carrera docente | K6: CONFERENCIAS O TALLERES REALIZADAS POR EXPERTOS EN EL TEMA | L6: Oficina Edificio Administrativo (Ejecutivo) | M6: Clases/Tutorías/Consultorías | N6: Si | P6: Si | R6: No he sufrido ninguna de las situaciones | T6: Apoyo jurídico | U6: Efectiva | W6: Mayor información ,más interacción sobre el tema .
A7: 2023/08/17 9:15:08 a. m. GMT-4 | B7: Masculino | C7: Fisico- Deportiva | D7: Nunca ocurre | E7: Nunca ocurre | F7: Nunca ocurre | G7: NUNCA | H7: NO | J7: Hombre y Mujeres avanzan a la misma velocidad o de igual forma en su carrera docente | K7: CONFERENCIAS O TALLERES REALIZADAS POR EXPERTOS EN EL TEMA | L7: En ningún lado | M7: Ninguna actividad | N7: Si | P7: Si | R7: No he sufrido ninguna de las situaciones | T7: Investigación con celeridad y sin dilataciones | U7: Muy Efectiva | W7: Mantener el tema en discusión contínua
A8: 2023/08/17 9:19:12 a. m. GMT-4 | B8: Masculino | C8: Fisico- Deportiva | D8: Nunca ocurre | E8: Nunca ocurre | F8: Nunca ocurre | G8: NUNCA | H8: NO | J8: Hombre y Mujeres avanzan a la misma velocidad o de igual forma en su carrera docente | K8: CONFERENCIAS O TALLERES REALIZADAS POR EXPERTOS EN EL TEMA | L8: En ningún lado | M8: Ninguna actividad | N8: Si | P8: Si | R8: No he sufrido ninguna de las situaciones | T8: Investigación con celeridad y sin dilataciones | U8: Muy Efectiva | W8: Dar a conocer a todos las leyes de forma efectiva y que llegue a todos
A9: 2023/08/17 9:26:02 a. m. GMT-4 | B9: Masculino | C9: Fisico- Deportiva | D9: Casi nunca ocurre | E9: Casi nunca ocurre | F9: Casi nunca ocurre | G9: POCO PROBABLE | H9: NO | J9: Hombre y Mujeres avanzan a la misma velocidad o de igual forma en su carrera docente | K9: Crear instancias de confianza para realizar Conversaciones en las cuales se puedan abordar estos temas | L9: Baños | M9: Ninguna actividad | N9: Si | P9: Si | R9: No he sufrido ninguna de las situaciones | T9: Investigación con celeridad y sin dilataciones | U9: Efectiva | W9: Principalmente crear instancias en las cuales.se pueda conversar el tema.y que esta sea en forma reciproca
A10: 2023/08/17 9:30:21 a. m. GMT-4 | B10: Masculino | C10: Fisico- Deportiva | D10: Nunca ocurre | E10: Nunca ocurre | F10: Nunca ocurre | G10: NUNCA | H10: NO | J10: Hombre y Mujeres avanzan a la misma velocidad o de igual forma en su carrera docente | K10: CONFERENCIAS O TALLERES REALIZADAS POR EXPERTOS EN EL TEMA | L10: En ningún lado | M10: Ninguna actividad | N10: Si | P10: Si | R10: No he sufrido ninguna de las situaciones | T10: Apoyo psicológico | U10: Efectiva | W10: Sin sugerencia
A11: 2023/08/17 9:31:52 a. m. GMT-4 | B11: Masculino | C11: Fisico- Deportiva | D11: Casi nunca ocurre | E11: Casi nunca ocurre | F11: Casi nunca ocurre | G11: POCO PROBABLE | H11: NO | J11: Las mujeres avanzan más rápido en su carrera docente en la Escuela Naval | K11: CONFERENCIAS O TALLERES REALIZADAS POR EXPERTOS EN EL TEMA | L11: Lugares fuera de la escuela | M11: Eventos de camaradería propios de la Escuela | N11: Si | P11: Si | R11: No he sufrido ninguna de las situaciones | T11: Investigación con celeridad y sin dilataciones | U11: Poco efectiva | W11: Respeto
A12: 2023/08/17 9:39:38 a. m. GMT-4 | B12: Masculino | C12: Académica | D12: Casi nunca ocurre | E12: Casi nunca ocurre | F12: Casi nunca ocurre | G12: POCO PROBABLE | H12: NO | J12: Hombre y Mujeres avanzan a la misma velocidad o de igual forma en su carrera docente | K12: CONFERENCIAS O TALLERES REALIZADAS POR EXPERTOS EN EL TEMA | L12: Lugares fuera de la escuela | M12: Ninguna actividad | N12: Si | P12: Si | R12: No he sufrido ninguna de las situaciones | T12: Investigación con celeridad y sin dilataciones | U12: Efectiva | W12: Permanentemente hay que manifestarle a los estudiantes que el respeto mutuo debe ser en todo momento.
A13: 2023/08/17 10:10:45 a. m. GMT-4 | B13: Masculino | C13: Fisico- Deportiva | D13: Poca Frecuencia | E13: Poca Frecuencia | F13: Casi nunca ocurre | G13: NUNCA | H13: NO | J13: Hombre y Mujeres avanzan a la misma velocidad o de igual forma en su carrera docente | K13: CONFERENCIAS O TALLERES REALIZADAS POR EXPERTOS EN EL TEMA | L13: Lugares fuera de la escuela | M13: Ninguna actividad | N13: Si | P13: Si | R13: No he sufrido ninguna de las situaciones | T13: Prohibición de contacto entre las partes involucradas | U13: Efectiva | W13: Realizar talleres de buena convivencia con expertos.
A14: 2023/08/17 10:25:58 a. m. GMT-4 | B14: Masculino | C14: Fisico- Deportiva | D14: Casi nunca ocurre | E14: Casi nunca ocurre | F14: Poca Frecuencia | G14: PROBABLE | H14: NO | J14: Hombre y Mujeres avanzan a la misma velocidad o de igual forma en su carrera docente | K14: CONFERENCIAS O TALLERES REALIZADAS POR EXPERTOS EN EL TEMA | L14: Lugares fuera de la escuela | M14: Ninguna actividad | N14: Si | P14: Si | R14: No he sufrido ninguna de las situaciones | T14: Investigación con celeridad y sin dilataciones | U14: Efectiva | W14: Reforzamiento de límites de la sana convivencia. Dar seguridad a la posible victima que serán resguardados y considerados sus derechos ante una posible denuncia.
A15: 2023/08/17 10:29:11 a. m. GMT-4 | B15: Masculino | C15: Fisico- Deportiva | D15: Casi nunca ocurre | E15: Casi nunca ocurre | F15: Poca Frecuencia | G15: POCO PROBABLE | H15: NO | J15: Hombre y Mujeres avanzan a la misma velocidad o de igual forma en su carrera docente | K15: CONFERENCIAS O TALLERES REALIZADAS POR EXPERTOS EN EL TEMA | L15: Lugares fuera de la escuela | M15: Ninguna actividad | N15: Si | P15: Si | R15: No he sufrido ninguna de las situaciones | T15: Apoyo espiritual | U15: Efectiva | W15: Solo que en el Proceso de selección, tanto de Docentes, como en Administración, se efectúe mejor filtro, en especial, en el aspecto Psicológico.
A16: 2023/08/17 10:47:54 a. m. GMT-4 | B16: Masculino | C16: Fisico- Deportiva | D16: Nunca ocurre | E16: Nunca ocurre | F16: Nunca ocurre | G16: POCO PROBABLE | H16: NO | J16: Hombre y Mujeres avanzan a la misma velocidad o de igual forma en su carrera docente | K16: DIFUSIÓN POR MEDIOS DIGITALES INSTITUCIONALES | L16: En ningún lado | M16: Ninguna actividad | N16: Si | P16: Si | R16: No he sufrido ninguna de las situaciones | T16: Reserva del proceso investigativo | U16: Efectiva | W16: Charlas y campañas de difusión.
A17: 2023/08/17 10:54:45 a. m. GMT-4 | B17: Masculino | C17: Fisico- Deportiva | D17: Poca Frecuencia | E17: Poca Frecuencia | F17: Poca Frecuencia | G17: PROBABLE | H17: NO | J17: Las mujeres avanzan más rápido en su carrera docente en la Escuela Naval | K17: CONFERENCIAS O TALLERES REALIZADAS POR EXPERTOS EN EL TEMA | L17: Lugares fuera de la escuela | M17: Clases/Tutorías/Consultorías | N17: Si | P17: Si | R17: No he sufrido ninguna de las situaciones | T17: Investigación con celeridad y sin dilataciones | U17: Poco efectiva | W17: Capacitación con expertos para entender como procede la aplicación y cumplimiento de la ley 21.369
... A20: 2023/08/17 12:18:19 p. m. GMT-4 | B20: Masculino | C20: Fisico- Deportiva | D20: Casi nunca ocurre | E20: Casi nunca ocurre | F20: Casi nunca ocurre | G20: NUNCA | H20: NO | J20: Hombre y Mujeres avanzan a la misma velocidad o de igual forma en su carrera docente | K20: CONFERENCIAS O TALLERES REALIZADAS POR EXPERTOS EN EL TEMA | L20: En ningún lado | M20: Ninguna actividad | N20: Si | P20: Si | R20: No he sufrido ninguna de las situaciones | T20: Prohibición de contacto entre las partes involucradas | U20: Efectiva | W20: No tengo sugerencias
A21: 2023/08/17 12:58:46 p. m. GMT-4 | B21: Femenino | C21: Fisico- Deportiva | D21: Poca Frecuencia | E21: Mucha Frecuencia | F21: Mucha Frecuencia | G21: MUY PROBABLE | H21: NO | I21: En reiteradas ocasiones | J21: Hombre y Mujeres avanzan a la misma velocidad o de igual forma en su carrera docente | K21: Visitas a terreno con las personas que después deben trabajar , Contextualizar , familiarizarse con la realidad entorno demográfico. | L21: Patios | M21: Desplazamientos , tiempos libres | N21: Si | P21: Si | R21: Si | T21: Apoyo psicológico | U21: Poco efectiva | W21: educación constante, plan de fomento con profesionales en el área.
A22: 2023/08/17 2:05:04 p. m. GMT-4 | B22: Femenino | C22: Académica | D22: Casi nunca ocurre | E22: Casi nunca ocurre | F22: Poca Frecuencia | G22: PROBABLE | H22: NO | J22: Hombre y Mujeres avanzan a la misma velocidad o de igual forma en su carrera docente | K22: CONFERENCIAS O TALLERES REALIZADAS POR EXPERTOS EN EL TEMA | L22: Oficina Edificio Administrativo (Ejecutivo) | M22: Clases particulares, estudios. | N22: Si | P22: Si | R22: No he sufrido ninguna de las situaciones | T22: Prohibición de contacto entre las partes involucradas | U22: Poco efectiva | W22: Más información y conversación del tema para visibilizar situaciones cotidianas que para otros es normal
A23: 2023/08/17 2:06:31 p. m. GMT-4 | B23: Femenino | C23: Académica | D23: Casi nunca ocurre | E23: Casi nunca ocurre | F23: Casi nunca ocurre | G23: POCO PROBABLE | H23: NO | J23: Hombre y Mujeres avanzan a la misma velocidad o de igual forma en su carrera docente | K23: CONFERENCIAS O TALLERES REALIZADAS POR EXPERTOS EN EL TEMA | L23: Lugares fuera de la escuela | M23: Rancho | N23: Si | P23: Si | R23: No he sufrido ninguna de las situaciones | T23: Investigación con celeridad y sin dilataciones | U23: Efectiva | W23: Motivar el buen ambiente de trabajo en general
A24: 2023/08/17 2:09:25 p. m. GMT-4 | B24: Masculino | C24: Académica | D24: Casi nunca ocurre | E24: Poca Frecuencia | F24: Poca Frecuencia | G24: POCO PROBABLE | H24: NO | J24: Hombre y Mujeres avanzan a la misma velocidad o de igual forma en su carrera docente | K24: CONFERENCIAS O TALLERES REALIZADAS POR EXPERTOS EN EL TEMA | L24: En ningún lado | M24: Ninguna actividad | N24: Si | P24: Si | R24: No he sufrido ninguna de las situaciones | T24: Reserva del proceso investigativo | U24: Efectiva | W24: .
A25: 2023/08/17 2:15:19 p. m. GMT-4 | B25: Masculino | C25: Fisico- Deportiva | D25: Nunca ocurre | E25: Nunca ocurre | F25: Nunca ocurre | G25: POCO PROBABLE | H25: NO | J25: Hombre y Mujeres avanzan a la misma velocidad o de igual forma en su carrera docente | K25: CONFERENCIAS O TALLERES REALIZADAS POR EXPERTOS EN EL TEMA | L25: En ningún lado | M25: Ninguna actividad | N25: Si | P25: Si | R25: No he sufrido ninguna de las situaciones | T25: Apoyo jurídico | U25: Efectiva | W25: Dar a conocer la ley, hacer talleres con especialistas y que el mando sea claro en su postura frente al tema.
A26: 2023/08/17 2:21:18 p. m. GMT-4 | B26: Masculino | C26: Académica | D26: Nunca ocurre | E26: Casi nunca ocurre | F26: Nunca ocurre | G26: POCO PROBABLE | H26: NO | J26: Hombre y Mujeres avanzan a la misma velocidad o de igual forma en su carrera docente | K26: CONFERENCIAS O TALLERES REALIZADAS POR EXPERTOS EN EL TEMA | L26: En ningún lado | M26: Ninguna actividad | N26: Si | P26: Si | R26: No he sufrido ninguna de las situaciones | T26: Apoyo jurídico | U26: Efectiva | W26: Encuentros para prevenir situaciones
A27: 2023/08/17 2:23:11 p. m. GMT-4 | B27: Femenino | C27: Académica | D27: Casi nunca ocurre | E27: Casi nunca ocurre | F27: Casi nunca ocurre | G27: POCO PROBABLE | H27: NO | J27: Hombre y Mujeres avanzan a la misma velocidad o de igual forma en su carrera docente | K27: CONFERENCIAS O TALLERES REALIZADAS POR EXPERTOS EN EL TEMA | L27: Estacionamiento | M27: Actividades Deportivas | N27: Si | P27: Si | R27: Si | T27: Prohibición de contacto entre las partes involucradas | U27: Muy Efectiva | W27: Charlas y focos group
A28: 2023/08/17 2:25:41 p. m. GMT-4 | B28: Masculino | C28: Académica | D28: Casi nunca ocurre | E28: Poca Frecuencia | F28: Poca Frecuencia | G28: PROBABLE | H28: NO | J28: Hombre y Mujeres avanzan a la misma velocidad o de igual forma en su carrera docente | K28: DIFUSIÓN POR MEDIOS DIGITALES INSTITUCIONALES | L28: Lugares fuera de la escuela | M28: Eventos de camaradería propios de la Escuela | N28: Si | P28: Si | R28: No he sufrido ninguna de las situaciones | T28: Prohibición de contacto entre las partes involucradas | U28: Efectiva | W28: Prevención efectiva
A29: 2023/08/17 2:26:53 p. m. GMT-4 | B29: Masculino | C29: Académica | D29: Casi nunca ocurre | E29: Casi nunca ocurre | F29: Nunca ocurre | G29: POCO PROBABLE | H29: NO | J29: Hombre y Mujeres avanzan a la misma velocidad o de igual forma en su carrera docente | K29: CONFERENCIAS O TALLERES REALIZADAS POR EXPERTOS EN EL TEMA | L29: Lugares fuera de la escuela | M29: Actividades Deportivas | N29: Si | P29: Si | R29: No he sufrido ninguna de las situaciones | T29: Prohibición de contacto entre las partes involucradas | U29: Muy Efectiva | W29: Perseverar con la instrucción. Regularmente, una vez por semestre todos los años.
A30: 2023/08/17 2:28:56 p. m. GMT-4 | B30: Masculino | C30: Académica | D30: Nunca ocurre | E30: Nunca ocurre | F30: Casi nunca ocurre | G30: POCO PROBABLE | H30: NO | J30: Hombre y Mujeres avanzan a la misma velocidad o de igual forma en su carrera docente | K30: CHARLAS DIVISIONALES | L30: Lugares fuera de la escuela | M30: Actividades Deportivas | N30: Si | P30: Si | R30: No he sufrido ninguna de las situaciones | T30: Investigación con celeridad y sin dilataciones | U30: Efectiva | W30: Buena instrucción con ejemplos demostrativos
A31: 2023/08/17 2:42:10 p. m. GMT-4 | B31: Masculino | C31: Académica | D31: Casi nunca ocurre | E31: Casi nunca ocurre | F31: Casi nunca ocurre | G31: POCO PROBABLE | H31: NO | J31: Hombre y Mujeres avanzan a la misma velocidad o de igual forma en su carrera docente | K31: CONFERENCIAS O TALLERES REALIZADAS POR EXPERTOS EN EL TEMA | L31: En ningún lado | M31: Ninguna actividad | N31: Si | P31: Si | R31: No he sufrido ninguna de las situaciones | T31: Reserva del proceso investigativo | U31: Efectiva | W31: Fortalecer la difusión de la información
A32: 2023/08/17 2:42:19 p. m. GMT-4 | B32: Masculino | C32: Académica | D32: Casi nunca ocurre | E32: Casi nunca ocurre | F32: Casi nunca ocurre | G32: POCO PROBABLE | H32: NO | J32: Hombre y Mujeres avanzan a la misma velocidad o de igual forma en su carrera docente | K32: CONFERENCIAS O TALLERES REALIZADAS POR EXPERTOS EN EL TEMA | L32: Baños | M32: Eventos de camaradería propios de la Escuela | N32: Si | P32: Si | R32: No he sufrido ninguna de las situaciones | T32: Prohibición de contacto entre las partes involucradas | U32: Efectiva | W32: Capacitar a los alumnos sobre la materia.
A33: 2023/08/17 2:51:27 p. m. GMT-4 | B33: Femenino | C33: Académica | D33: Casi nunca ocurre | E33: Casi nunca ocurre | F33: Casi nunca ocurre | G33: POCO PROBABLE | H33: NO | J33: Hombre y Mujeres avanzan a la misma velocidad o de igual forma en su carrera docente | K33: CONFERENCIAS O TALLERES REALIZADAS POR EXPERTOS EN EL TEMA | L33: Lugares fuera de la escuela | M33: Ninguna actividad | N33: Si | P33: Si | R33: No he sufrido ninguna de las situaciones | T33: Investigación con celeridad y sin dilataciones | U33: Efectiva | W33: Incitar a que se denuncien los problemas y no quedarse callados
A34: 2023/08/17 2:53:24 p. m. GMT-4 | B34: Femenino | C34: Académica | D34: Poca Frecuencia | E34: Poca Frecuencia | F34: Poca Frecuencia | G34: MUY PROBABLE | H34: NO | J34: Hombre y Mujeres avanzan a la misma velocidad o de igual forma en su carrera docente | K34: DIFUSIÓN POR MEDIOS DIGITALES INSTITUCIONALES | L34: Lugares fuera de la escuela | M34: Ninguna actividad | N34: Si | P34: Si | R34: Si | T34: Investigación con celeridad y sin dilataciones | U34: Poco efectiva | W34: Informar adecuadamente de todas las conductas que involucren algún tipo de delito de esta índole, ya que muchas veces por desconocimiento se producen situaciones inadecuadas o incómodas y el/la agredido/a no tiene claridad de cómo actuar frente a ello
A35: 2023/08/17 2:54:55 p. m. GMT-4 | B35: Femenino | C35: Académica | D35: Poca Frecuencia | E35: Poca Frecuencia | F35: Poca Frecuencia | G35: PROBABLE | H35: SI | I35: Cuando se escogen los cargos por catedra | J35: Los hombres avanzan más rápido en su carrera docente en la Escuela Naval | K35: CONFERENCIAS O TALLERES REALIZADAS POR EXPERTOS EN EL TEMA | L35: Sala de Profesores | M35: Eventos de camaradería propios de la Escuela | N35: Si | P35: Si | R35: Si | T35: Investigación con celeridad y sin dilataciones | U35: Efectiva | W35: Castigar dura y públicamente a los culpables
A36: 2023/08/17 3:03:51 p. m. GMT-4 | B36: Masculino | C36: Académica | D36: Nunca ocurre | E36: Nunca ocurre | F36: Nunca ocurre | G36: NUNCA | H36: NO | J36: Hombre y Mujeres avanzan a la misma velocidad o de igual forma en su carrera docente | K36: DIFUSIÓN POR MEDIOS DIGITALES INSTITUCIONALES | L36: Lugares fuera de la escuela | M36: La preguntas anterior debe ser rectifica, sus alternativas deben ser 1 o más de 1 (igual que la presente pregunta) | N36: Si | P36: Si | R36: No he sufrido ninguna de las situaciones | T36: Investigación con celeridad y sin dilataciones | U36: Muy Efectiva | W36: Políticas claras y formación: Establece políticas claras contra el acoso sexual en el lugar de trabajo o en cualquier entorno. Ofrece formación obligatoria para todos los empleados y miembros de la comunidad para que comprendan qué constituye el acoso y cómo prevenirlo.
A37: 2023/08/17 3:15:55 p. m. GMT-4 | B37: Masculino | C37: Académica | D37: Casi nunca ocurre | E37: Casi nunca ocurre | F37: Nunca ocurre | G37: POCO PROBABLE | H37: NO | J37: Hombre y Mujeres avanzan a la misma velocidad o de igual forma en su carrera docente | K37: CONFERENCIAS O TALLERES REALIZADAS POR EXPERTOS EN EL TEMA | L37: Lugares fuera de la escuela | M37: Eventos de camaradería propios de la Escuela | N37: Si | P37: Si | R37: No he sufrido ninguna de las situaciones | T37: Investigación con celeridad y sin dilataciones | U37: Efectiva | W37: Normas claras
A38: 2023/08/17 4:00:48 p. m. GMT-4 | B38: Masculino | C38: Académica | D38: Casi nunca ocurre | E38: Casi nunca ocurre | F38: Casi nunca ocurre | G38: POCO PROBABLE | H38: NO | J38: Hombre y Mujeres avanzan a la misma velocidad o de igual forma en su carrera docente | K38: CHARLAS DIVISIONALES | L38: Lugares fuera de la escuela | M38: TRATO ENTRE CADETES EN PATIOS DURANTE INSTRUCCION MILITAR | N38: Si | P38: Si | R38: No he sufrido ninguna de las situaciones | T38: Prohibición de contacto entre las partes involucradas | U38: Muy Efectiva | W38: INCLUIR SEMESTRALMENTE UNA REUNION DIVISIONAL, DONDE EL OFICIAL DE DIVISION, DEBIDAMENTE PREPARADO PARA ESTO, EMPLEE LA METODOLOGIA DE ESTUDIO DE CASOS REALES INSTITUCIONALES PARA REAFIRMAR LOS CONCEPTOS Y PROCEDIMIENTOS VIGENTES.
A39: 2023/08/17 4:09:03 p. m. GMT-4 | B39: Masculino | C39: Académica | D39: Poca Frecuencia | E39: Casi nunca ocurre | F39: Poca Frecuencia | G39: POCO PROBABLE | H39: NO | J39: Hombre y Mujeres avanzan a la misma velocidad o de igual forma en su carrera docente | K39: CONFERENCIAS O TALLERES REALIZADAS POR EXPERTOS EN EL TEMA | L39: Complejo deportivo | M39: Eventos de camaradería propios de la Escuela | N39: Si | P39: Si | R39: No he sufrido ninguna de las situaciones | T39: Investigación con celeridad y sin dilataciones | U39: Poco efectiva | W39: Mayor difusión de la reglamentación vigente.
A40: 2023/08/17 4:13:46 p. m. GMT-4 | B40: Masculino | C40: Académica | D40: Nunca ocurre | E40: Nunca ocurre | F40: Nunca ocurre | G40: NUNCA | H40: NO | J40: Hombre y Mujeres avanzan a la misma velocidad o de igual forma en su carrera docente | K40: DIFUSIÓN POR MEDIOS DIGITALES INSTITUCIONALES | L40: En ningún lado | M40: Ninguna actividad | N40: Si | P40: Si | R40: No he sufrido ninguna de las situaciones | T40: Prohibición de contacto entre las partes involucradas | U40: Muy Efectiva | W40: Ninguna
A41: 2023/08/17 4:26:19 p. m. GMT-4 | B41: Masculino | C41: Fisico- Deportiva | D41: Casi nunca ocurre | E41: Casi nunca ocurre | F41: Casi nunca ocurre | G41: POCO PROBABLE | H41: NO | J41: Las mujeres avanzan más rápido en su carrera docente en la Escuela Naval | K41: CONFERENCIAS O TALLERES REALIZADAS POR EXPERTOS EN EL TEMA | L41: Sala de clase y Estudios | M41: Ninguna actividad | N41: Si | P41: Si | R41: No he sufrido ninguna de las situaciones | T41: Apoyo psicológico | U41: Muy Efectiva | W41: Hacer charlas dando a conocer lo que se hace.
A42: 2023/08/17 5:47:38 p. m. GMT-4 | B42: Masculino | C42: Académica | D42: Nunca ocurre | E42: Nunca ocurre | F42: Nunca ocurre | G42: POCO PROBABLE | H42: NO | J42: Hombre y Mujeres avanzan a la misma velocidad o de igual forma en su carrera docente | K42: CHARLAS DIVISIONALES | L42: Lugares fuera de la escuela | M42: Eventos de camaradería propios de la Escuela | N42: Si | P42: Si | R42: No he sufrido ninguna de las situaciones | T42: Investigación con celeridad y sin dilataciones | U42: Muy Efectiva | W42: Mejorar la formación calórica de los cadetes
A43: 2023/08/17 7:05:02 p. m. GMT-4 | B43: Femenino | C43: Académica | D43: Casi nunca ocurre | E43: Casi nunca ocurre | F43: Casi nunca ocurre | G43: POCO PROBABLE | H43: NO | J43: Hombre y Mujeres avanzan a la misma velocidad o de igual forma en su carrera docente | K43: CONFERENCIAS O TALLERES REALIZADAS POR EXPERTOS EN EL TEMA | L43: Baños | M43: Actividades Deportivas | N43: Si | P43: Si | R43: No he sufrido ninguna de las situaciones | T43: Reserva del proceso investigativo | U43: Efectiva | W43: Tener información adecuada y realizar talleres con expertos en el tema.
A44: 2023/08/17 7:20:58 p. m. GMT-4 | B44: Masculino | C44: Fisico- Deportiva | D44: Casi nunca ocurre | E44: Casi nunca ocurre | F44: Poca Frecuencia | G44: POCO PROBABLE | H44: NO | J44: Hombre y Mujeres avanzan a la misma velocidad o de igual forma en su carrera docente | K44: CONFERENCIAS O TALLERES REALIZADAS POR EXPERTOS EN EL TEMA | L44: Lugares fuera de la escuela | M44: Ninguna actividad | N44: Si | P44: Si | R44: No he sufrido ninguna de las situaciones | T44: Investigación con celeridad y sin dilataciones | U44: Efectiva | W44: Información y control
A45: 2023/08/17 7:42:42 p. m. GMT-4 | B45: Masculino | C45: Académica | D45: Nunca ocurre | E45: Nunca ocurre | F45: Nunca ocurre | G45: NUNCA | H45: NO | J45: Hombre y Mujeres avanzan a la misma velocidad o de igual forma en su carrera docente | K45: CONFERENCIAS O TALLERES REALIZADAS POR EXPERTOS EN EL TEMA | L45: En ningún lado | M45: Ninguna actividad | N45: Si | P45: Si | R45: No he sufrido ninguna de las situaciones | T45: Prohibición de contacto entre las partes involucradas | U45: Muy Efectiva | W45: Estos temas deben ser hablados con los alumnos y dejar claro la ley para que tengan el conocimiento de dicha ley , también así el respeto sea mutuo.
A46: 2023/08/17 9:23:10 p. m. GMT-4 | B46: Masculino | C46: Académica | D46: Casi nunca ocurre | E46: Nunca ocurre | F46: Nunca ocurre | G46: POCO PROBABLE | H46: NO | J46: Hombre y Mujeres avanzan a la misma velocidad o de igual forma en su carrera docente | K46: CONFERENCIAS O TALLERES REALIZADAS POR EXPERTOS EN EL TEMA | L46: En ningún lado | M46: Ninguna actividad | N46: Si | P46: Si | R46: No he sufrido ninguna de las situaciones | T46: Investigación con celeridad y sin dilataciones | U46: Muy Efectiva | W46: Conferencias
A47: 2023/08/18 7:56:04 a. m. GMT-4 | B47: Masculino | C47: Académica | D47: Casi nunca ocurre | E47: Casi nunca ocurre | F47: Nunca ocurre | G47: POCO PROBABLE | H47: NO | J47: Hombre y Mujeres avanzan a la misma velocidad o de igual forma en su carrera docente | K47: CONFERENCIAS O TALLERES REALIZADAS POR EXPERTOS EN EL TEMA | L47: Lugares fuera de la escuela | M47: Actividades Deportivas | N47: Si | P47: Si | R47: No he sufrido ninguna de las situaciones | T47: Reserva del proceso investigativo | U47: Efectiva | W47: Efectuar charlas por psicólogos del tema
... A52: 2023/08/18 3:59:15 p. m. GMT-4 | B52: Masculino | C52: Académica | D52: Casi nunca ocurre | E52: Nunca ocurre | F52: Casi nunca ocurre | G52: POCO PROBABLE | H52: NO | J52: Hombre y Mujeres avanzan a la misma velocidad o de igual forma en su carrera docente | K52: CHARLAS DIVISIONALES | L52: En ningún lado | M52: Ninguna actividad | N52: Si | P52: Si | R52: No he sufrido ninguna de las situaciones | T52: Reserva del proceso investigativo | U52: Muy Efectiva | W52: En general no he apreciado conductas como las identificadas en esta encuesta, pero la reunión divisional franca y abierta ayuda a ambos (potencial agresor y/o víctima)
A53: 2023/08/18 4:44:35 p. m. GMT-4 | B53: Femenino | C53: Cultural | D53: Casi nunca ocurre | E53: Mucha Frecuencia | F53: Casi nunca ocurre | G53: PROBABLE | H53: NO | J53: Hombre y Mujeres avanzan a la misma velocidad o de igual forma en su carrera docente | K53: CHARLAS DIVISIONALES | L53: En ningún lado | M53: Eventos de camaradería propios de la Escuela | N53: Si | P53: No | Q53: Para no poner a la persona violentada en una situación que podría ser vulnerable o dañina para su estado emocional o mental. | R53: No he sufrido ninguna de las situaciones | T53: Investigación con celeridad y sin dilataciones | U53: Efectiva | W53: Difusión de información de una manera periódica y paulatina de manera permanente, hecha por estudiosos en la materia y distribuida en los lugares de mayor tránsito de la Escuela en los cuales sea notada.
A54: 2023/08/18 6:06:07 p. m. GMT-4 | B54: Masculino | C54: Académica | D54: Casi nunca ocurre | E54: Casi nunca ocurre | F54: Casi nunca ocurre | G54: POCO PROBABLE | H54: NO | J54: Hombre y Mujeres avanzan a la misma velocidad o de igual forma en su carrera docente | K54: DIFUSIÓN POR MEDIOS DIGITALES INSTITUCIONALES | L54: En ningún lado | M54: Ninguna actividad | N54: Si | P54: Si | R54: No he sufrido ninguna de las situaciones | T54: Reserva del proceso investigativo | U54: Muy Efectiva | W54: ninguna, está muy controlado
A55: 2023/08/19 10:19:38 a. m. GMT-4 | B55: Femenino | C55: Académica | D55: Nunca ocurre | E55: Nunca ocurre | F55: Nunca ocurre | G55: NUNCA | H55: NO | J55: Hombre y Mujeres avanzan a la misma velocidad o de igual forma en su carrera docente | K55: DIFUSIÓN POR MEDIOS DIGITALES INSTITUCIONALES | L55: En ningún lado | M55: Ninguna actividad | N55: Si | P55: Si | R55: No he sufrido ninguna de las situaciones | T55: Investigación con celeridad y sin dilataciones | U55: Muy Efectiva | W55: Pienso que la educación sobre el tema, hace personas más conscientes.
A56: 2023/08/21 6:59:49 a. m. GMT-4 | B56: Masculino | C56: Académica | D56: Casi nunca ocurre | E56: Casi nunca ocurre | F56: Casi nunca ocurre | G56: POCO PROBABLE | H56: NO | J56: Hombre y Mujeres avanzan a la misma velocidad o de igual forma en su carrera docente | K56: CONFERENCIAS O TALLERES REALIZADAS POR EXPERTOS EN EL TEMA | L56: Lugares fuera de la escuela | M56: Ninguna actividad | N56: Si | P56: Si | R56: No he sufrido ninguna de las situaciones | T56: Prohibición de contacto entre las partes involucradas | U56: Efectiva | W56: Ninguna
A57: 2023/08/21 10:01:52 a. m. GMT-4 | B57: Femenino | C57: Cultural | D57: Poca Frecuencia | E57: Poca Frecuencia | F57: Poca Frecuencia | G57: PROBABLE | H57: SI | I57: Hombres diciendo ser más aptos que mujeres para la labor de marinos | J57: Hombre y Mujeres avanzan a la misma velocidad o de igual forma en su carrera docente | K57: CONFERENCIAS O TALLERES REALIZADAS POR EXPERTOS EN EL TEMA | L57: Sala de clase y Estudios | M57: Eventos de camaradería propios de la Escuela | N57: Si | P57: Si | R57: No he sufrido ninguna de las situaciones | T57: Investigación con celeridad y sin dilataciones | U57: Efectiva | W57: Capacitaciones y charlas con expertos en el tema
A58: 2023/08/21 10:04:32 a. m. GMT-4 | B58: Masculino | C58: Académica | D58: Casi nunca ocurre | E58: Casi nunca ocurre | F58: Nunca ocurre | G58: POCO PROBABLE | H58: NO | J58: Hombre y Mujeres avanzan a la misma velocidad o de igual forma en su carrera docente | K58: CHARLAS DIVISIONALES | L58: Lugares fuera de la escuela | M58: Ninguna actividad | N58: Si | P58: Si | R58: No he sufrido ninguna de las situaciones | T58: Apoyo psicológico | U58: Efectiva | W58: Reuniones de oficial de división con sus respectivos cadetes
A59: 2023/08/21 10:14:36 a. m. GMT-4 | B59: Masculino | C59: Académica | D59: Casi nunca ocurre | E59: Poca Frecuencia | F59: Poca Frecuencia | G59: PROBABLE | H59: NO | J59: Hombre y Mujeres avanzan a la misma velocidad o de igual forma en su carrera docente | K59: CONFERENCIAS O TALLERES REALIZADAS POR EXPERTOS EN EL TEMA | L59: Lugares fuera de la escuela | M59: Clases/Tutorías/Consultorías | N59: Si | P59: Si | R59: No he sufrido ninguna de las situaciones | T59: Reserva del proceso investigativo | U59: Efectiva | W59: Hacer charlas, tanto al personal como a los cadetes, que traten sobre el tema y que principalmente desarrollen algún taller práctico.
A60: 2023/08/21 10:20:31 a. m. GMT-4 | B60: Masculino | C60: Académica | D60: Casi nunca ocurre | E60: Poca Frecuencia | F60: Poca Frecuencia | G60: MUY PROBABLE | H60: NO | J60: Hombre y Mujeres avanzan a la misma velocidad o de igual forma en su carrera docente | K60: CHARLAS DIVISIONALES | L60: Lugares fuera de la escuela | M60: Eventos de camaradería propios de la Escuela | N60: Si | P60: Si | R60: No he sufrido ninguna de las situaciones | T60: Prohibición de contacto entre las partes involucradas | U60: Poco efectiva | W60: Educación continua
A61: 2023/08/21 10:26:49 a. m. GMT-4 | B61: Femenino | C61: Académica | D61: Nunca ocurre | E61: Casi nunca ocurre | F61: Casi nunca ocurre | G61: PROBABLE | H61: NO | J61: Hombre y Mujeres avanzan a la misma velocidad o de igual forma en su carrera docente | K61: DIFUSIÓN POR MEDIOS DIGITALES INSTITUCIONALES | L61: En ningún lado | M61: Ninguna actividad | N61: Si | P61: Si | R61: No he sufrido ninguna de las situaciones | T61: Prohibición de contacto entre las partes involucradas | U61: Muy Efectiva | W61: Respeto entre todas las personas de la Escuela
A62: 2023/08/21 11:13:27 a. m. GMT-4 | B62: Femenino | C62: Académica | D62: Poca Frecuencia | E62: Mucha Frecuencia | F62: Mucha Frecuencia | G62: MUY PROBABLE | H62: SI | I62: A las cadetes SAF se les indica permanentemente que hay más mujeres que hombres SAF. | J62: Hombre y Mujeres avanzan a la misma velocidad o de igual forma en su carrera docente | K62: CONFERENCIAS O TALLERES REALIZADAS POR EXPERTOS EN EL TEMA | L62: Sala de clase y Estudios | M62: Clases/Tutorías/Consultorías | N62: Si | P62: Si | R62: Si | T62: Apoyo psicológico | U62: Poco efectiva | W62: Hacer campañas preventivas. Difundir el protocolo. Hacer talleres a profesores, oficiales y cadetes (obligatorio).
A63: 2023/08/21 11:19:42 a. m. GMT-4 | B63: Masculino | C63: Académica | D63: Casi nunca ocurre | E63: Casi nunca ocurre | F63: Casi nunca ocurre | G63: POCO PROBABLE | H63: NO | J63: Hombre y Mujeres avanzan a la misma velocidad o de igual forma en su carrera docente | K63: CONFERENCIAS O TALLERES REALIZADAS POR EXPERTOS EN EL TEMA | L63: En ningún lado | M63: Ninguna actividad | N63: Si | P63: Si | R63: No he sufrido ninguna de las situaciones | T63: Investigación con celeridad y sin dilataciones | U63: Muy Efectiva | W63: Difundir
A64: 2023/08/21 11:21:37 a. m. GMT-4 | B64: Masculino | C64: Académica | D64: Nunca ocurre | E64: Casi nunca ocurre | F64: Casi nunca ocurre | G64: POCO PROBABLE | H64: NO | J64: Hombre y Mujeres avanzan a la misma velocidad o de igual forma en su carrera docente | K64: CHARLAS DIVISIONALES | L64: Baños | M64: Eventos de camaradería propios de la Escuela | N64: Si | P64: Si | R64: No he sufrido ninguna de las situaciones | T64: Reserva del proceso investigativo | U64: Efectiva | W64: Aumentar las conferencias en las cuales se haga enfasis en las sanciones para los responsables.
A65: 2023/08/21 11:23:50 a. m. GMT-4 | B65: Femenino | C65: Académica | D65: Casi nunca ocurre | E65: Casi nunca ocurre | F65: Casi nunca ocurre | G65: POCO PROBABLE | H65: NO | J65: Hombre y Mujeres avanzan a la misma velocidad o de igual forma en su carrera docente | K65: CONFERENCIAS O TALLERES REALIZADAS POR EXPERTOS EN EL TEMA | L65: En ningún lado | M65: Ninguna actividad | N65: No | O65: Porque no es una zona segura para mi | P65: Si | R65: No he sufrido ninguna de las situaciones | T65: Prohibición de contacto entre las partes involucradas | U65: Efectiva | W65: Que los miembros de la escuela naval entiendan realmente los conceptos que implican esta ley y la directiva DGPA V-002 y que la apliquen en su diario vivir
A66: 2023/08/21 11:31:20 a. m. GMT-4 | B66: Masculino | C66: Académica | D66: Casi nunca ocurre | E66: Casi nunca ocurre | F66: Casi nunca ocurre | G66: POCO PROBABLE | H66: NO | J66: Hombre y Mujeres avanzan a la misma velocidad o de igual forma en su carrera docente | K66: CHARLAS DIVISIONALES | L66: En ningún lado | M66: Ninguna actividad | N66: Si | P66: Si | R66: No he sufrido ninguna de las situaciones | T66: Investigación con celeridad y sin dilataciones | U66: Efectiva | W66: Recordar en las reuniones divisionales (cadetes) y con los profesores, la necesidad de dar cumplimiento a esta ley y las sanciones a la cual se expone quien la incumple.
A67: 2023/08/21 11:35:42 a. m. GMT-4 | B67: Femenino | C67: Académica | D67: Casi nunca ocurre | E67: Poca Frecuencia | F67: Poca Frecuencia | G67: MUY PROBABLE | H67: NO | J67: Los hombres avanzan más rápido en su carrera docente en la Escuela Naval | K67: CONFERENCIAS O TALLERES REALIZADAS POR EXPERTOS EN EL TEMA | L67: Lugares fuera de la escuela | M67: Clases/Tutorías/Consultorías | N67: Si | P67: Si | R67: No he sufrido ninguna de las situaciones | T67: Investigación con celeridad y sin dilataciones | U67: Efectiva | W67: Talleres o charlas permanentes para toda la comunidad
A68: 2023/08/21 11:43:41 a. m. GMT-4 | B68: Masculino | C68: Académica | D68: Nunca ocurre | E68: Nunca ocurre | F68: Nunca ocurre | G68: POCO PROBABLE | H68: NO | J68: Hombre y Mujeres avanzan a la misma velocidad o de igual forma en su carrera docente | K68: CHARLAS DIVISIONALES | L68: En ningún lado | M68: Ninguna actividad | N68: Si | P68: Si | R68: No he sufrido ninguna de las situaciones | T68: Prohibición de contacto entre las partes involucradas | U68: Efectiva | W68: No tengo sugerencias
A69: 2023/08/21 11:44:01 a. m. GMT-4 | B69: Masculino | C69: Académica | D69: Casi nunca ocurre | E69: Casi nunca ocurre | F69: Nunca ocurre | G69: NUNCA | H69: NO | J69: Las mujeres avanzan más rápido en su carrera docente en la Escuela Naval | K69: CONFERENCIAS O TALLERES REALIZADAS POR EXPERTOS EN EL TEMA | L69: Lugares fuera de la escuela | M69: En el franco | N69: Si | P69: Si | R69: No he sufrido ninguna de las situaciones | T69: Apoyo espiritual | U69: Muy Efectiva | W69: Educación
A70: 2023/08/21 11:55:08 a. m. GMT-4 | B70: Femenino | C70: Académica | D70: Casi nunca ocurre | E70: Casi nunca ocurre | F70: Casi nunca ocurre | G70: PROBABLE | H70: NO | J70: Hombre y Mujeres avanzan a la misma velocidad o de igual forma en su carrera docente | K70: DIFUSIÓN POR MEDIOS DIGITALES INSTITUCIONALES | L70: Lugares fuera de la escuela | M70: Eventos de camaradería propios de la Escuela | N70: Si | P70: Si | R70: No he sufrido ninguna de las situaciones | T70: Prohibición de contacto entre las partes involucradas | U70: Efectiva | W70: Trasparencia
A71: 2023/08/21 4:15:14 p. m. GMT-4 | B71: Masculino | C71: Académica | D71: Casi nunca ocurre | E71: Casi nunca ocurre | F71: Casi nunca ocurre | G71: POCO PROBABLE | H71: NO | J71: Hombre y Mujeres avanzan a la misma velocidad o de igual forma en su carrera docente | K71: CONFERENCIAS O TALLERES REALIZADAS POR EXPERTOS EN EL TEMA | L71: Lugares fuera de la escuela | M71: Eventos de camaradería propios de la Escuela | N71: Si | P71: Si | R71: No he sufrido ninguna de las situaciones | T71: Investigación con celeridad y sin dilataciones | U71: Muy Efectiva | W71: Un proceso formativo en el que se enfatice la estricta observancia de un actuar basado en principios, valores y patrones de conducta éticos

Sheet Respuestas Planta
A1: Marca temporal | B1: Indique su Género | C1: Indique el Departamento al que pertenece | D1: ¿Con QUÉ FRECUENCIA CREE UD. que ocurren situaciones de ACOSO SEXUAL en la Escuela Naval? | E1: ¿Con qué FRECUENCIA CREE UD. que ocurren situaciones de VIOLENCIA DE GÉNERO en la Escuela Naval? | F1: ¿Con QUÉ FRECUENCIA CREE UD. que ocurren situaciones de DISCRIMINACIÓN DE GÉNERO en la Escuela Naval? | G1: ¿Qué TAN PROBABLE es escuchar comentarios sexistas dentro de su ámbito de desempeño en la Escuela Naval ? | H1: Considera UD. QUE EXISTE discriminación por razones de género en la Escuela Naval | I1: Si su respuesta anterior fue SI, ¿En qué situación? | J1: A su parecer ¿cuál debiera ser el objetivo o foco central del modelo de prevención de acoso sexual, violencia o discriminación de género? | K1: ¿Qué zonas o lugares son a su juicio, PROPICIOS para que se den conductas de acoso laboral o sexual, violencia o discriminación? | L1: ¿Qué actividades que se realizan cotidianamente en la Escuela Naval son, a su juicio, propicias para que se den conductas que puedan producir acoso, violencia o discriminación? | M1: ¿En caso que UD. FUERA VÍCTIMA de acoso sexual, violencia o discriminación de género, haría la denuncia a su mando? | N1: Si su respuesta anterior es NO ¿indique por que? | O1: ¿En caso que UD. FUERA TESTIGO de acoso sexual, violencia o discriminación de género, haría la denuncia a su mando? | P1: Si su respuesta anterior es NO ¿indique por que? | Q1: En caso de HABER SUFRIDO O SIDO TESTIGO de alguna de las situaciones que la Ley reconoce como acoso sexual, violencia y discriminación de género en alguna actividad organizada por la Escuela Naval, o al interior de ella, ¿Hizo usted la denuncia a su mando? | R1: Si su respuesta anterior es NO ¿indique por que? | S1: ¿Cuál de estas medidas de resguardo considera Ud. que otorgan una mejor PROTECCIÓN a la víctima de acoso, violencia o discriminación? | T1: Según su punto vista, ¿Cuál es el grado de efectividad de las medidas que ha adoptado la Escuela Naval como reacción ante los casos de acoso sexual, violencia o discriminación de género? | U1: Si su respuesta fue NADA EFECTIVA (Indique el Motivo) | V1: ¿Qué sugerencias haría Ud. para prevenir conductas no deseadas y el buen cumplimiento de la ley 21.369? (estas sugerencias pueden ayudar a fomentar y fortalecer un buen ambiente laboral y estudiantil en la Escuela Naval)
A2: 2023/08/16 8:55:56 a. m. GMT-4 | B2: Masculino | C2: Abastecimiento | D2: Casi nunca ocurre | E2: Casi nunca ocurre | F2: Casi nunca ocurre | G2: POCO PROBABLE | H2: NO | I2: Nada | J2: Charlas Divisionales | K2: En ningún lado | L2: Evento de Camaradería | M2: Si | O2: Si | Q2: No he sufrido ninguna de las situaciones | S2: Prohibición de contacto entre las partes involucradas | T2: Efectiva | V2: Nada
A3: 2023/08/16 8:55:56 a. m. GMT-4 | B3: Masculino | C3: Mantención y Servicios | D3: Casi nunca ocurre | E3: Casi nunca ocurre | F3: Casi nunca ocurre | G3: POCO PROBABLE | H3: NO | I3: No | J3: Charlas Divisionales | K3: Lugares fuera de la escuela | L3: Ninguna Actividad | M3: Si | O3: Si | Q3: Si | S3: Apoyo espiritual | T3: Efectiva | V3: Charlas divinidades y orientación
A4: 2023/08/16 8:56:05 a. m. GMT-4 | B4: Masculino | C4: Control de Gestión | D4: Casi nunca ocurre | E4: Casi nunca ocurre | F4: Casi nunca ocurre | G4: POCO PROBABLE | H4: NO | I4: No | J4: Conferencias o Talleres efectuadas por Expertos | K4: En ningún lado | L4: Ninguna Actividad | M4: Si | O4: Si | Q4: No he sufrido ninguna de las situaciones | S4: Investigación con celeridad y sin dilataciones | T4: Muy Efectiva | V4: Charlas y talleres de prevención
A5: 2023/08/16 8:56:20 a. m. GMT-4 | B5: Masculino | C5: Sanidad | D5: Nunca ocurre | E5: Nunca ocurre | F5: Nunca ocurre | G5: POCO PROBABLE | H5: NO | I5: No | J5: Difusión por medios digitales Institucionales | K5: Enfermería | L5: Ninguna Actividad | M5: Si | O5: Si | Q5: No he sufrido ninguna de las situaciones | S5: Apoyo espiritual | T5: Efectiva | V5: Fomentar actividades de camaradería, estableciendo buenas relaciones entre trabajadores
A6: 2023/08/16 8:56:26 a. m. GMT-4 | B6: Masculino | C6: Ejecutivo | D6: Casi nunca ocurre | E6: Nunca ocurre | F6: Nunca ocurre | G6: POCO PROBABLE | H6: NO | I6: . | J6: Conferencias o Talleres efectuadas por Expertos | K6: En ningún lado | L6: Evento de Camaradería | M6: Si | O6: Si | Q6: No he sufrido ninguna de las situaciones | S6: Reserva del proceso investigativo | T6: Efectiva | V6: .
A7: 2023/08/16 8:56:33 a. m. GMT-4 | B7: Masculino | C7: Abastecimiento | D7: Poca Frecuencia | E7: Poca Frecuencia | F7: Poca Frecuencia | G7: PROBABLE | H7: NO | I7: No | J7: Difusión por medios digitales Institucionales | K7: Cámaras/Casinos | L7: Evento de Camaradería | M7: Si | O7: Si | Q7: No he sufrido ninguna de las situaciones | S7: Reserva del proceso investigativo | T7: Efectiva | V7: Campaña de difusión por cámaras, aulas y en los pasillos habitualmente transitados
A8: 2023/08/16 8:57:01 a. m. GMT-4 | B8: Femenino | C8: Brigada | D8: Poca Frecuencia | E8: Mucha Frecuencia | F8: Poca Frecuencia | G8: MUY PROBABLE | H8: SI | I8: cuando la persona es de orientación sexual diferente | J8: Conferencias o Talleres efectuadas por Expertos | K8: Sector Talleres | L8: Guardias | M8: Si | O8: No | P8: Quizá ya está informado, o la victima no quiere informar o están de mutuo acuerdo y yo veo que es incorrecto, hablo con la persona | Q8: Si | S8: Apoyo psicológico | T8: Poco efectiva | V8: Nada
A9: 2023/08/16 8:57:25 a. m. GMT-4 | B9: Masculino | C9: Ejecutivo | D9: Poca Frecuencia | E9: Poca Frecuencia | F9: Poca Frecuencia | G9: POCO PROBABLE | H9: NO | I9: No | J9: Conferencias o Talleres efectuadas por Expertos | K9: Enfermería | L9: Evento de Camaradería | M9: Si | O9: Si | Q9: No he sufrido ninguna de las situaciones | S9: Reserva del proceso investigativo | T9: Efectiva | V9: Sanciones ejemplificadoras Presentar casos reales (sin nombre) de situaciones ocurridas en la institución
A10: 2023/08/16 8:57:31 a. m. GMT-4 | B10: Femenino | C10: Abastecimiento | D10: Casi nunca ocurre | E10: Casi nunca ocurre | F10: Casi nunca ocurre | G10: POCO PROBABLE | H10: NO | I10: . | J10: Difusión por medios digitales Institucionales | K10: Lugares fuera de la escuela | L10: Ninguna Actividad | M10: Si | O10: Si | Q10: No he sufrido ninguna de las situaciones | S10: Prohibición de contacto entre las partes involucradas | T10: Efectiva | V10: .
A11: 2023/08/16 8:57:45 a. m. GMT-4 | B11: Masculino | C11: Mantención y Servicios | D11: Casi nunca ocurre | E11: Casi nunca ocurre | F11: Casi nunca ocurre | G11: PROBABLE | H11: NO | I11: . | J11: Conferencias o Talleres efectuadas por Expertos | K11: En ningún lado | L11: Ninguna Actividad | M11: Si | O11: No | P11: Insetivaria al afectado a aféctuar la denuncia, en caso de no acceder la realizaría yo | Q11: No he sufrido ninguna de las situaciones | S11: Investigación con celeridad y sin dilataciones | T11: Efectiva | V11: Instrucciones periódicas a fin de que los afectados estén informados las acciones a denunciar, los procesos que está desencadena y los tiempos.
A12: 2023/08/16 8:57:49 a. m. GMT-4 | B12: Masculino | C12: Educación | D12: Casi nunca ocurre | E12: Nunca ocurre | F12: Casi nunca ocurre | G12: POCO PROBABLE | H12: NO | I12: NO | J12: Difusión por medios digitales Institucionales | K12: En ningún lado | L12: Ninguna Actividad | M12: Si | O12: Si | Q12: No he sufrido ninguna de las situaciones | S12: Investigación con celeridad y sin dilataciones | T12: Muy Efectiva | V12: .
A13: 2023/08/16 8:57:51 a. m. GMT-4 | B13: Femenino | C13: Sanidad | D13: Mucha Frecuencia | E13: Poca Frecuencia | F13: Mucha Frecuencia | G13: MUY PROBABLE | H13: NO | I13: - | J13: Conferencias o Talleres efectuadas por Expertos | K13: Cámaras/Casinos | L13: Evento de Camaradería | M13: No | N13: Represalias por realizar denuncia | O13: Si | Q13: Si | S13: Reserva del proceso investigativo | T13: Poco efectiva | V13: Mantener reserva y acompañamiento no voluntario
A14: 2023/08/16 8:57:53 a. m. GMT-4 | B14: Masculino | C14: Sanidad | D14: Casi nunca ocurre | E14: Casi nunca ocurre | F14: Poca Frecuencia | G14: POCO PROBABLE | H14: NO | I14: . | J14: Conferencias o Talleres efectuadas por Expertos | K14: Entrepuentes de Habitabilidad | L14: Evento de Camaradería | M14: Si | O14: Si | Q14: No he sufrido ninguna de las situaciones | S14: Apoyo psicológico | T14: Efectiva | V14: Constancia en las charlas y talleres que se puedan realizar
A15: 2023/08/16 8:57:58 a. m. GMT-4 | B15: Masculino | C15: Control de Gestión | D15: Casi nunca ocurre | E15: Casi nunca ocurre | F15: Poca Frecuencia | G15: PROBABLE | H15: NO | I15: No | J15: Charlas Divisionales | K15: Lugares fuera de la escuela | L15: Ninguna Actividad | M15: Si | O15: Si | Q15: No he sufrido ninguna de las situaciones | S15: Prohibición de contacto entre las partes involucradas | T15: Efectiva | V15: Reforzar en reuniones divisionales y cada cierto tiempo en las llamadas generales.
A16: 2023/08/16 8:58:13 a. m. GMT-4 | B16: Femenino | C16: Abastecimiento | D16: Mucha Frecuencia | E16: Casi nunca ocurre | F16: Poca Frecuencia | G16: PROBABLE | H16: NO | I16: Ninguna | J16: Conferencias o Talleres efectuadas por Expertos | K16: Otro | L16: Guardias | M16: Si | O16: Si | Q16: No he sufrido ninguna de las situaciones | S16: Otro | T16: Efectiva | V16: Seguir como corresponde
A17: 2023/08/16 8:58:21 a. m. GMT-4 | B17: Masculino | C17: Abastecimiento | D17: Casi nunca ocurre | E17: Casi nunca ocurre | F17: Casi nunca ocurre | G17: POCO PROBABLE | H17: NO | I17: No | J17: Difusión por medios digitales Institucionales | K17: Lugares fuera de la escuela | L17: Evento de Camaradería | M17: Si | O17: Si | Q17: No he sufrido ninguna de las situaciones | S17: Apoyo psicológico | T17: Muy Efectiva | V17: Charlas preventivas
A18: 2023/08/16 8:58:22 a. m. GMT-4 | B18: Femenino | C18: Abastecimiento | D18: Poca Frecuencia | E18: Poca Frecuencia | F18: Casi nunca ocurre | G18: POCO PROBABLE | H18: SI | I18: En cuanto a los cargos | J18: Charlas Divisionales | K18: Sector Talleres | L18: Evento de Camaradería | M18: Si | O18: Si | Q18: Si | S18: Prohibición de contacto entre las partes involucradas | T18: Efectiva | V18: Que se informe cualquier situación de acoso o violencia ya que el silencio no es bueno
A19: 2023/08/16 8:58:23 a. m. GMT-4 | B19: Masculino | C19: Abastecimiento | D19: Casi nunca ocurre | E19: Casi nunca ocurre | F19: Casi nunca ocurre | G19: POCO PROBABLE | H19: NO | I19: No | J19: Conferencias o Talleres efectuadas por Expertos | K19: Oficinas Edificio Administrativo (Ejecutivo) | L19: Guardias | M19: Si | O19: Si | Q19: No he sufrido ninguna de las situaciones | S19: Prohibición de contacto entre las partes involucradas | T19: Efectiva | V19: Mayor charlas de convivencia
A20: 2023/08/16 8:58:32 a. m. GMT-4 | B20: Femenino | C20: Abastecimiento | D20: Poca Frecuencia | E20: Poca Frecuencia | F20: Poca Frecuencia | G20: MUY PROBABLE | H20: NO | I20: No concidero | J20: Conferencias o Talleres efectuadas por Expertos | K20: En ningún lado | L20: Ninguna Actividad | M20: Si | O20: Si | Q20: No he sufrido ninguna de las situaciones | S20: Otro | T20: Poco efectiva | V20: Nada. Por que siempre va a suceder sea hombre el q lo haga o la mujer. Todo viene de la casa todo se aprende ahí. No hay mas.
A21: 2023/08/16 8:58:43 a. m. GMT-4 | B21: Femenino | C21: Abastecimiento | D21: Casi nunca ocurre | E21: Casi nunca ocurre | F21: Casi nunca ocurre | G21: PROBABLE | H21: NO | I21: No | J21: Conferencias o Talleres efectuadas por Expertos | K21: Cámaras/Casinos | L21: Evento de Camaradería | M21: Si | O21: Si | Q21: No he sufrido ninguna de las situaciones | S21: Reserva del proceso investigativo | T21: Efectiva | V21: Mantener charlas constantemente, no basta con sólo una. Quizás talleres por personal experto
A22: 2023/08/16 8:58:59 a. m. GMT-4 | B22: Masculino | C22: Abastecimiento | D22: Casi nunca ocurre | E22: Casi nunca ocurre | F22: Nunca ocurre | G22: POCO PROBABLE | H22: NO | I22: No creo que exista | J22: Conferencias o Talleres efectuadas por Expertos | K22: Lugares fuera de la escuela | L22: Fuera de la escuela | M22: Si | O22: Si | Q22: No he sufrido ninguna de las situaciones | S22: Prohibición de contacto entre las partes involucradas | T22: Efectiva | V22: Charlas educativas
A23: 2023/08/16 8:59:02 a. m. GMT-4 | B23: Femenino | C23: Sanidad | D23: Poca Frecuencia | E23: Poca Frecuencia | F23: Mucha Frecuencia | G23: PROBABLE | H23: SI | I23: Más oportunidades para las mujeres de todas los departamentos | J23: Conferencias o Talleres efectuadas por Expertos | K23: Baños | L23: Ninguna Actividad | M23: Si | O23: Si | Q23: Si | S23: Prohibición de contacto entre las partes involucradas | T23: Efectiva | V23: Más charlas educativas y talleres extra programaticas
A24: 2023/08/16 8:59:06 a. m. GMT-4 | B24: Masculino | C24: Control de Gestión | D24: Casi nunca ocurre | E24: Casi nunca ocurre | F24: Poca Frecuencia | G24: POCO PROBABLE | H24: NO | I24: Nunca | J24: Difusión por medios digitales Institucionales | K24: Entrepuentes de Habitabilidad | L24: Evento de Camaradería | M24: Si | O24: Si | Q24: No he sufrido ninguna de las situaciones | S24: Investigación con celeridad y sin dilataciones | T24: Efectiva | V24: La camaraderia y confianza entre servidor y mando
A25: 2023/08/16 8:59:07 a. m. GMT-4 | B25: Femenino | C25: Sanidad | D25: Casi nunca ocurre | E25: Casi nunca ocurre | F25: Casi nunca ocurre | G25: POCO PROBABLE | H25: NO | I25: Mi respuesta fue no | J25: Charlas Divisionales | K25: Lugares fuera de la escuela | L25: Ninguna Actividad | M25: Si | O25: Si | Q25: No he sufrido ninguna de las situaciones | S25: Reserva del proceso investigativo | T25: Muy Efectiva | V25: La educación respecto a los casos considerados abuso o acoso. Educar al personal.
... A40: 2023/08/16 9:01:06 a. m. GMT-4 | B40: Femenino | C40: Abastecimiento | D40: Casi nunca ocurre | E40: Casi nunca ocurre | F40: Casi nunca ocurre | G40: POCO PROBABLE | H40: NO | I40: No | J40: Conferencias o Talleres efectuadas por Expertos | K40: Lugares fuera de la escuela | L40: Evento de Camaradería | M40: Si | O40: Si | Q40: No he sufrido ninguna de las situaciones | S40: Reserva del proceso investigativo | T40: Efectiva | V40: Charlas divisionales, objeto prevenir dichas conductas, mencionando las consecuencias que pueden ocurrir
A41: 2023/08/16 9:01:06 a. m. GMT-4 | B41: Masculino | C41: Control de Gestión | D41: Poca Frecuencia | E41: Casi nunca ocurre | F41: Casi nunca ocurre | G41: POCO PROBABLE | H41: NO | I41: Xx | K41: Entrepuentes de Habitabilidad | L41: Guardias | M41: Si | O41: Si | Q41: No he sufrido ninguna de las situaciones | S41: Investigación con celeridad y sin dilataciones | T41: Efectiva | V41: Xx
A42: 2023/08/16 9:01:21 a. m. GMT-4 | B42: Masculino | C42: Mantención y Servicios | D42: Casi nunca ocurre | E42: Nunca ocurre | F42: Nunca ocurre | G42: NUNCA | H42: NO | I42: Mi respuesta anterior fue negativa | J42: Conferencias o Talleres efectuadas por Expertos | K42: En ningún lado | L42: Ninguna Actividad | M42: Si | O42: Si | Q42: No he sufrido ninguna de las situaciones | S42: Reserva del proceso investigativo | T42: Muy Efectiva | V42: Información a través de charlas, dando a conocer los procedimientos.
A43: 2023/08/16 9:01:33 a. m. GMT-4 | B43: Masculino | C43: Abastecimiento | D43: Casi nunca ocurre | E43: Nunca ocurre | F43: Nunca ocurre | G43: POCO PROBABLE | H43: NO | I43: . | J43: Charlas Divisionales | K43: En ningún lado | L43: Ninguna Actividad | M43: Si | O43: Si | Q43: No he sufrido ninguna de las situaciones | S43: Apoyo psicológico | T43: Muy Efectiva | V43: .
A44: 2023/08/16 9:01:39 a. m. GMT-4 | B44: Masculino | C44: Abastecimiento | D44: Nunca ocurre | E44: Nunca ocurre | F44: Casi nunca ocurre | G44: POCO PROBABLE | H44: NO | I44: No hay discriminacion | J44: Conferencias o Talleres efectuadas por Expertos | K44: Lugares fuera de la escuela | L44: Ninguna Actividad | M44: Si | O44: Si | Q44: No he sufrido ninguna de las situaciones | S44: Apoyo psicológico | T44: Efectiva | V44: Entregar folletos para mayor conocimiento de la dotacion
A45: 2023/08/16 9:01:44 a. m. GMT-4 | B45: Masculino | C45: Sanidad | D45: Poca Frecuencia | E45: Casi nunca ocurre | F45: Poca Frecuencia | G45: PROBABLE | H45: NO | I45: Que yo tenga al tanto no | J45: Conferencias o Talleres efectuadas por Expertos | K45: Oficinas sector de la Planta | L45: Guardias | M45: No | N45: Hay normalizaciones de estas conductas por años en la Armada | O45: Si | Q45: No he sufrido ninguna de las situaciones | S45: Reserva del proceso investigativo | T45: Poco efectiva | U45: En realidad no lo sé porque no tengo los antecedentes | V45: Educación al respecto
A46: 2023/08/16 9:02:11 a. m. GMT-4 | B46: Masculino | C46: Brigada | D46: Poca Frecuencia | E46: Poca Frecuencia | F46: Poca Frecuencia | G46: POCO PROBABLE | H46: NO | I46: Mi respuesta fue NO | J46: Conferencias o Talleres efectuadas por Expertos | K46: En ningún lado | L46: Ninguna Actividad | M46: Si | O46: Si | Q46: No he sufrido ninguna de las situaciones | S46: Reserva del proceso investigativo | T46: Efectiva | V46: Seguir fomentando la prevencion.
A47: 2023/08/16 9:02:14 a. m. GMT-4 | B47: Femenino | C47: Abastecimiento | D47: Casi nunca ocurre | E47: Casi nunca ocurre | F47: Casi nunca ocurre | G47: POCO PROBABLE | H47: NO | I47: No ocurre esa situación | J47: Charlas Divisionales | K47: En ningún lado | L47: Ninguna Actividad | M47: Si | O47: Si | Q47: No he sufrido ninguna de las situaciones | S47: Reserva del proceso investigativo | T47: Muy Efectiva | V47: Realizar más actividades recreativas para no generar estrés laboral y formen un ambiente de trabajo más bueno y con buena relación entre funcionarios.
A48: 2023/08/16 9:02:14 a. m. GMT-4 | B48: Masculino | C48: Abastecimiento | D48: Poca Frecuencia | E48: Mucha Frecuencia | F48: Mucha Frecuencia | G48: MUY PROBABLE | H48: NO | I48: No | J48: Conferencias o Talleres efectuadas por Expertos | K48: Cámaras/Casinos | L48: Guardias | M48: Si | O48: Si | Q48: Si | S48: Apoyo jurídico | T48: Poco efectiva | V48: Hacer más talleres y charlas para que aquel personal más antiguo sepa diferenciar el no sobrepasar la confianza con el personal femenino con chistes o comentarios lo cual hace que después este personal femenino se sienta pasado a llevar
A49: 2023/08/16 9:02:49 a. m. GMT-4 | B49: Masculino | C49: Apoyo Deportivo | D49: Casi nunca ocurre | E49: Casi nunca ocurre | F49: Nunca ocurre | G49: POCO PROBABLE | H49: NO | I49: No hay | J49: Conferencias o Talleres efectuadas por Expertos | K49: En ningún lado | L49: Ninguna Actividad | M49: Si | O49: Si | Q49: No he sufrido ninguna de las situaciones | S49: Prohibición de contacto entre las partes involucradas | T49: Efectiva | V49: Definir y exponer casos tipo como referencia o ejemplo, indicar medidas preventivas y resolutivas tomadas para orientar y ayudar a un mejor entendimiento a los afectados
A50: 2023/08/16 9:03:15 a. m. GMT-4 | B50: Masculino | C50: Mantención y Servicios | D50: Casi nunca ocurre | E50: Casi nunca ocurre | F50: Casi nunca ocurre | G50: POCO PROBABLE | H50: NO | I50: Respondí que no | J50: Conferencias o Talleres efectuadas por Expertos | K50: Cámaras/Casinos | L50: Guardias | M50: Si | O50: Si | Q50: No | R50: Informe al mando y ellos no hicieron nada, contexto fue hace 10 años atrás | S50: Apoyo psicológico | T50: Efectiva | V50: Mayor cantidad de charlas y cercanía al personal en su diario vivir, muchos viven en su burbuja el día a día sin importar lo que le pase a su compañero
A51: 2023/08/16 9:03:54 a. m. GMT-4 | B51: Femenino | C51: Abastecimiento | D51: Nunca ocurre | E51: Nunca ocurre | F51: Nunca ocurre | G51: POCO PROBABLE | H51: NO | I51: No | J51: Charlas Divisionales | K51: Cámaras/Casinos | L51: Ninguna Actividad | M51: Si | O51: No | P51: Creo que instaría a la persona afectada lo hiciera | Q51: No he sufrido ninguna de las situaciones | S51: Reserva del proceso investigativo | T51: Poco efectiva | V51: Que el mando esté atento y escuche las dos partes de las versiones expuestas.
A52: 2023/08/16 9:04:47 a. m. GMT-4 | B52: Masculino | C52: Control de Gestión | D52: Nunca ocurre | E52: Nunca ocurre | F52: Nunca ocurre | G52: NUNCA | H52: NO | I52: No | J52: Conferencias o Talleres efectuadas por Expertos | K52: En ningún lado | L52: Ninguna Actividad | M52: Si | O52: Si | Q52: No he sufrido ninguna de las situaciones | S52: Prohibición de contacto entre las partes involucradas | T52: Muy Efectiva | V52: Capacitar
A53: 2023/08/16 9:06:09 a. m. GMT-4 | B53: Masculino | C53: Abastecimiento | D53: Nunca ocurre | E53: Nunca ocurre | F53: Nunca ocurre | G53: POCO PROBABLE | H53: NO | I53: . | J53: Charlas Divisionales | K53: En ningún lado | L53: Ninguna Actividad | M53: Si | O53: Si | Q53: No he sufrido ninguna de las situaciones | S53: Prohibición de contacto entre las partes involucradas | T53: Muy Efectiva | V53: .
A54: 2023/08/16 9:08:23 a. m. GMT-4 | B54: Masculino | C54: Ejecutivo | D54: Casi nunca ocurre | E54: Nunca ocurre | F54: Nunca ocurre | G54: NUNCA | H54: NO | I54: . | J54: Conferencias o Talleres efectuadas por Expertos | K54: Lugares fuera de la escuela | L54: Ninguna Actividad | M54: Si | O54: Si | Q54: No he sufrido ninguna de las situaciones | S54: Investigación con celeridad y sin dilataciones | T54: Muy Efectiva | V54: Mayor difusión y charlas
A55: 2023/08/16 9:08:42 a. m. GMT-4 | B55: Masculino | C55: Abastecimiento | D55: Casi nunca ocurre | E55: Casi nunca ocurre | F55: Casi nunca ocurre | G55: POCO PROBABLE | H55: NO | I55: No Tengo informacion | J55: Charlas Divisionales | K55: Otro | L55: En cualquiera momento | M55: Si | O55: Si | Q55: No he sufrido ninguna de las situaciones | S55: Investigación con celeridad y sin dilataciones | T55: Efectiva | V55: Charlas o reuniones divisionales constantes
A56: 2023/08/16 9:08:46 a. m. GMT-4 | B56: Masculino | C56: Apoyo Deportivo | D56: Nunca ocurre | E56: Nunca ocurre | F56: Nunca ocurre | G56: POCO PROBABLE | H56: NO | I56: Ninguna | J56: Conferencias o Talleres efectuadas por Expertos | K56: Lugares fuera de la escuela | L56: Ninguna Actividad | M56: Si | O56: Si | Q56: No he sufrido ninguna de las situaciones | S56: Apoyo psicológico | T56: Efectiva | V56: Está las directivas
A57: 2023/08/16 9:09:09 a. m. GMT-4 | B57: Femenino | C57: Ejecutivo | D57: Casi nunca ocurre | E57: Casi nunca ocurre | F57: Casi nunca ocurre | G57: POCO PROBABLE | H57: NO | I57: . | J57: Difusión por medios digitales Institucionales | K57: Lugares fuera de la escuela | L57: Ninguna Actividad | M57: Si | O57: Si | Q57: No he sufrido ninguna de las situaciones | S57: Investigación con celeridad y sin dilataciones | T57: Efectiva | V57: Que se cumplan las normas establecidas.
A58: 2023/08/16 9:10:27 a. m. GMT-4 | B58: Masculino | C58: Mantención y Servicios | D58: Mucha Frecuencia | E58: Casi nunca ocurre | F58: Casi nunca ocurre | G58: MUY PROBABLE | H58: NO | I58: No ahy discriminacion | J58: Difusión por medios digitales Institucionales | K58: Oficinas Edificio Administrativo (Ejecutivo) | L58: Guardias | M58: Si | O58: Si | Q58: No he sufrido ninguna de las situaciones | S58: Apoyo psicológico | T58: Efectiva | V58: No se
A59: 2023/08/16 9:10:45 a. m. GMT-4 | B59: Masculino | C59: Educación | D59: Poca Frecuencia | E59: Poca Frecuencia | F59: Poca Frecuencia | G59: POCO PROBABLE | H59: NO | I59: Puse no | J59: Difusión por medios digitales Institucionales | K59: Enfermería | L59: Evento de Camaradería | M59: Si | O59: Si | Q59: No he sufrido ninguna de las situaciones | S59: Reserva del proceso investigativo | T59: Poco efectiva | V59: Constante preocupación de los jefes de departamento
A60: 2023/08/16 9:11:46 a. m. GMT-4 | B60: Masculino | C60: Abastecimiento | D60: Casi nunca ocurre | E60: Casi nunca ocurre | F60: Casi nunca ocurre | G60: PROBABLE | H60: NO | I60: . | J60: Conferencias o Talleres efectuadas por Expertos | K60: Lugares fuera de la escuela | L60: Evento de Camaradería | M60: Si | O60: Si | Q60: No he sufrido ninguna de las situaciones | S60: Reserva del proceso investigativo | T60: Efectiva | V60: Charlas sobre el tema
A61: 2023/08/16 9:12:01 a. m. GMT-4 | B61: Masculino | C61: Abastecimiento | D61: Casi nunca ocurre | E61: Casi nunca ocurre | F61: Casi nunca ocurre | G61: POCO PROBABLE | H61: NO | I61: No | J61: Conferencias o Talleres efectuadas por Expertos | K61: Lugares fuera de la escuela | L61: Ninguna Actividad | M61: Si | O61: Si | Q61: No he sufrido ninguna de las situaciones | S61: Investigación con celeridad y sin dilataciones | T61: Efectiva | V61: Comunicación efectiva y directa al personal de los alcances actuales que lleva este comportamiento y sus consecuencias para el que las produce, y también para el que acusa sin tener las pruebas de respaldo.
A62: 2023/08/16 9:12:41 a. m. GMT-4 | B62: Masculino | C62: Educación | D62: Casi nunca ocurre | E62: Casi nunca ocurre | F62: Casi nunca ocurre | G62: POCO PROBABLE | H62: NO | I62: . | J62: Conferencias o Talleres efectuadas por Expertos | K62: Otro | L62: Ninguna Actividad | M62: Si | O62: Si | Q62: No he sufrido ninguna de las situaciones | S62: Investigación con celeridad y sin dilataciones | T62: Muy Efectiva | V62: Más encuestas tipo con aclaraciones de esta materia.
A63: 2023/08/16 9:14:50 a. m. GMT-4 | B63: Masculino | C63: Abastecimiento | D63: Casi nunca ocurre | E63: Casi nunca ocurre | F63: Casi nunca ocurre | G63: NUNCA | H63: NO | I63: No | J63: Charlas Divisionales | K63: Lugares fuera de la escuela | L63: Ninguna Actividad | M63: Si | O63: Si | Q63: No he sufrido ninguna de las situaciones | S63: Apoyo psicológico | T63: Efectiva | V63: Mantener las medidas tomadas y respaldarlas con más profesionales.
... A73: 2023/08/16 9:22:04 a. m. GMT-4 | B73: Masculino | C73: Control de Gestión | D73: Casi nunca ocurre | E73: Casi nunca ocurre | F73: Casi nunca ocurre | G73: POCO PROBABLE | H73: NO | I73: Ninguna | J73: Charlas Divisionales | K73: Patios | L73: Ninguna Actividad | M73: Si | O73: Si | Q73: No he sufrido ninguna de las situaciones | S73: Prohibición de contacto entre las partes involucradas | T73: Efectiva | V73: Más charlas divisionales
A74: 2023/08/16 9:22:24 a. m. GMT-4 | B74: Masculino | C74: Control de Gestión | D74: Poca Frecuencia | E74: Casi nunca ocurre | F74: Casi nunca ocurre | G74: PROBABLE | H74: NO | I74: No hay | J74: Difusión por medios digitales Institucionales | K74: Lugares fuera de la escuela | L74: Ninguna Actividad | M74: Si | O74: Si | Q74: No he sufrido ninguna de las situaciones | S74: Reserva del proceso investigativo | T74: Efectiva
A75: 2023/08/16 9:22:29 a. m. GMT-4 | B75: Masculino | C75: Mantención y Servicios | D75: Poca Frecuencia | E75: Poca Frecuencia | F75: Poca Frecuencia | G75: POCO PROBABLE | H75: NO | I75: Dije que NO | J75: Charlas Divisionales | K75: Lugares fuera de la escuela | L75: Ninguna Actividad | M75: Si | O75: Si | Q75: No he sufrido ninguna de las situaciones | S75: Investigación con celeridad y sin dilataciones | T75: Efectiva | V75: Realizar charlas del tema a toda la dotación
A76: 2023/08/16 9:23:29 a. m. GMT-4 | B76: Masculino | C76: Abastecimiento | D76: Poca Frecuencia | E76: Poca Frecuencia | F76: Poca Frecuencia | G76: POCO PROBABLE | H76: NO | I76: No | J76: Charlas Divisionales | K76: En ningún lado | L76: Ninguna Actividad | M76: Si | O76: Si | Q76: No he sufrido ninguna de las situaciones | S76: Investigación con celeridad y sin dilataciones | T76: Muy Efectiva | V76: Fomentar la instrucción con respecta estos casos.
A77: 2023/08/16 9:25:16 a. m. GMT-4 | B77: Femenino | C77: Educación | D77: Casi nunca ocurre | E77: Casi nunca ocurre | F77: Casi nunca ocurre | G77: POCO PROBABLE | H77: NO | J77: Conferencias o Talleres efectuadas por Expertos | K77: Lugares fuera de la escuela | L77: Estudios | M77: Si | O77: Si | Q77: No he sufrido ninguna de las situaciones | S77: Investigación con celeridad y sin dilataciones | T77: Muy Efectiva | V77: Instruir de posibles sanciones frente a estos hechos
A78: 2023/08/16 9:25:19 a. m. GMT-4 | B78: Masculino | C78: Sanidad | D78: Casi nunca ocurre | E78: Nunca ocurre | F78: Nunca ocurre | G78: POCO PROBABLE | H78: NO | I78: . | J78: Charlas Divisionales | K78: Lugares fuera de la escuela | L78: Ninguna Actividad | M78: Si | O78: Si | Q78: No he sufrido ninguna de las situaciones | S78: Investigación con celeridad y sin dilataciones | T78: Poco efectiva | V78: .
A79: 2023/08/16 9:25:26 a. m. GMT-4 | B79: Femenino | C79: Abastecimiento | D79: Casi nunca ocurre | E79: Poca Frecuencia | F79: Poca Frecuencia | G79: POCO PROBABLE | H79: SI | I79: Dónde estiman que la mujer no es capaz de lograr ciertos objetivos | J79: Conferencias o Talleres efectuadas por Expertos | K79: En ningún lado | L79: Evento de Camaradería | M79: Si | O79: Si | Q79: No he sufrido ninguna de las situaciones | S79: Investigación con celeridad y sin dilataciones | T79: Poco efectiva | V79: Que se comience a indagar más sobre las situaciones que se viven actualmente dentro de la institución ya sean alumnos o personal contratado, no ocultarlas y que todo pase desapercibido
A80: 2023/08/16 9:26:07 a. m. GMT-4 | B80: Masculino | C80: Mantención y Servicios | D80: Poca Frecuencia | E80: Poca Frecuencia | F80: Poca Frecuencia | G80: PROBABLE | H80: NO | I80: . | J80: Conferencias o Talleres efectuadas por Expertos | K80: Cámaras/Casinos | L80: Ninguna Actividad | M80: Si | O80: Si | Q80: No he sufrido ninguna de las situaciones | S80: Investigación con celeridad y sin dilataciones | T80: Efectiva | V80: .
A81: 2023/08/16 9:28:45 a. m. GMT-4 | B81: Femenino | C81: Educación | D81: Casi nunca ocurre | E81: Poca Frecuencia | F81: Casi nunca ocurre | G81: NUNCA | H81: NO | I81: Respondí no en la anterior. | J81: Charlas Divisionales | K81: Entrepuentes de Habitabilidad | L81: Puede ser en diversas actividades. | M81: Si | O81: Si | Q81: No he sufrido ninguna de las situaciones | S81: Investigación con celeridad y sin dilataciones | T81: Efectiva | V81: Que se hable más del tema para poder identificar los factores de acoso, como evitar, si existiera, el aprovechamiento o mal uso de esta ley.
A82: 2023/08/16 9:29:59 a. m. GMT-4 | B82: Masculino | C82: Abastecimiento | D82: Nunca ocurre | E82: Nunca ocurre | F82: Nunca ocurre | G82: NUNCA | H82: NO | I82: No e visto nada ni considero que se de en la escuela. | J82: Difusión por medios digitales Institucionales | K82: Lugares fuera de la escuela | L82: Ninguna Actividad | M82: Si | O82: Si | Q82: No he sufrido ninguna de las situaciones | S82: Investigación con celeridad y sin dilataciones | T82: Muy Efectiva | V82: Educar.. Siempre la base es la educación.
A83: 2023/08/16 9:30:32 a. m. GMT-4 | B83: Femenino | C83: Sanidad | D83: Poca Frecuencia | E83: Poca Frecuencia | F83: Mucha Frecuencia | G83: MUY PROBABLE | H83: SI | I83: Simplemente por ser mujer | J83: Charlas Divisionales | K83: Sector Talleres | L83: Actividades Deportivas | M83: No | N83: Por mi parte no tendria apoyo | O83: Si | Q83: No | R83: Por no tener apoyo | S83: Prohibición de contacto entre las partes involucradas | T83: Poco efectiva | V83: Escuchar ambas partes y dar apoyo
A84: 2023/08/16 9:32:17 a. m. GMT-4 | B84: Femenino | C84: Ejecutivo | D84: Nunca ocurre | E84: Nunca ocurre | F84: Nunca ocurre | G84: NUNCA | H84: NO | I84: No | J84: Difusión por medios digitales Institucionales | K84: En ningún lado | L84: Ninguna Actividad | M84: Si | O84: Si | Q84: No he sufrido ninguna de las situaciones | S84: Prohibición de contacto entre las partes involucradas | T84: Muy Efectiva | V84: Cada persona que se mantenga en su lugsr de trabajo
A85: 2023/08/16 9:35:33 a. m. GMT-4 | B85: Masculino | C85: Control de Gestión | D85: Casi nunca ocurre | E85: Poca Frecuencia | F85: Casi nunca ocurre | G85: PROBABLE | H85: NO | I85: Discriminacion en ámbito deportivo o no poder hacer o rendir como hombre físicamente | J85: Charlas Divisionales | K85: Otro | L85: Ninguna Actividad | M85: Si | N85: Probablemente por recibir alguna amenaza de muerte o a familiares | O85: Si | Q85: No he sufrido ninguna de las situaciones | S85: Prohibición de contacto entre las partes involucradas | T85: Efectiva | V85: Efectuar charlas
A86: 2023/08/16 9:36:03 a. m. GMT-4 | B86: Masculino | C86: Abastecimiento | D86: Poca Frecuencia | E86: Poca Frecuencia | F86: Poca Frecuencia | G86: PROBABLE | H86: NO | I86: Respondí no | J86: Conferencias o Talleres efectuadas por Expertos | K86: Cámaras/Casinos | L86: Evento de Camaradería | M86: Si | O86: Si | Q86: No he sufrido ninguna de las situaciones | S86: Otro | T86: Poco efectiva | V86: En caso de un acoso laboral o sexual la persona que cometió la falta debe ser trasladado o despedido en su efecto de la escuela así dejar en manifiesto el apoyo a la persona afectada una ves que se compruebe los hechos.
A87: 2023/08/16 9:36:53 a. m. GMT-4 | B87: Femenino | C87: Sanidad | D87: Nunca ocurre | E87: Nunca ocurre | F87: Nunca ocurre | G87: NUNCA | H87: NO | I87: no | J87: Charlas Divisionales | K87: Cámaras/Casinos | L87: Ninguna Actividad | M87: Si | O87: Si | Q87: No he sufrido ninguna de las situaciones | S87: Reserva del proceso investigativo | T87: Muy Efectiva | V87: hacer más conciencia en el respeto a las personas
A88: 2023/08/16 9:36:58 a. m. GMT-4 | B88: Masculino | C88: Control de Gestión | D88: Poca Frecuencia | E88: Casi nunca ocurre | F88: Casi nunca ocurre | G88: NUNCA | H88: NO | I88: No | J88: Charlas Divisionales | K88: En ningún lado | L88: Ninguna Actividad | M88: Si | O88: Si | Q88: No he sufrido ninguna de las situaciones | S88: Investigación con celeridad y sin dilataciones | T88: Poco efectiva | V88: Mayor protección a las víctimas, pese a que en ocasiones el hecho de ser un plantel formativo militar, cualquier motivo puede ser considerado como acoso laboral principalmente por los Cadetes, sin embargo igual la protección debe ser total
A89: 2023/08/16 9:45:23 a. m. GMT-4 | B89: Masculino | C89: Abastecimiento | D89: Casi nunca ocurre | E89: Casi nunca ocurre | F89: Casi nunca ocurre | G89: POCO PROBABLE | H89: NO | I89: No | J89: Conferencias o Talleres efectuadas por Expertos | K89: En ningún lado | L89: Ninguna Actividad | M89: Si | O89: Si | Q89: No he sufrido ninguna de las situaciones | S89: Investigación con celeridad y sin dilataciones | T89: Efectiva | V89: Charlas de prevención de acoso
A90: 2023/08/16 9:47:49 a. m. GMT-4 | B90: Masculino | C90: Abastecimiento | D90: Nunca ocurre | E90: Nunca ocurre | F90: Casi nunca ocurre | G90: POCO PROBABLE | H90: NO | I90: Mi respuesta fue no | J90: Charlas Divisionales | K90: En ningún lado | L90: Ninguna Actividad | M90: Si | O90: Si | Q90: No he sufrido ninguna de las situaciones | S90: Prohibición de contacto entre las partes involucradas | T90: Muy Efectiva | V90: Al momento de ser discriminado hacer la denuncia de inmediato y sancionar a quien corresponda
A91: 2023/08/16 9:48:21 a. m. GMT-4 | B91: Masculino | C91: Educación | D91: Poca Frecuencia | E91: Poca Frecuencia | F91: Poca Frecuencia | G91: POCO PROBABLE | H91: NO | I91: No | J91: Oficiales debieran conocer mas al personal | K91: Entrepuentes de Habitabilidad | L91: Evento de Camaradería | M91: Si | O91: Si | Q91: No he sufrido ninguna de las situaciones | S91: Prohibición de contacto entre las partes involucradas | T91: Efectiva | V91: Presencia del mando en todo momento frente al personal. Control de los mandos medios ante el mando.
A92: 2023/08/16 9:49:33 a. m. GMT-4 | B92: Femenino | C92: Ejecutivo | D92: Poca Frecuencia | E92: Poca Frecuencia | F92: Poca Frecuencia | G92: PROBABLE | H92: SI | I92: Cualquier tono de voz alejada del tono del hombre, algún gesto más femenino, algún comentario a favor de diversidad de género, apoyo a la diversidad de género, provoca comentarios de burlas, risas y menoscabo a quien lo diga o haga. | J92: Charlas Divisionales | K92: Otro | L92: Rancho | M92: Si | O92: No | P92: Hasta estar seguro que la víctima seguirá con el procedimiento como corresponde. | Q92: No he sufrido ninguna de las situaciones | S92: Prohibición de contacto entre las partes involucradas | T92: Efectiva | V92: Que cada civil y/o uniformado, cumpla a cabalidad con el respeto al trabajo y cargo del otro, sin importar que fuera de la escuela sean amigos, pareja, carreta, vecinos, familia. El respeto por el otro, su cargo y lugar de trabajo debe ser primordial para lograr un excelente ambiente laboral.
A93: 2023/08/16 9:51:53 a. m. GMT-4 | B93: Masculino | C93: Dirección y Subdirección | D93: Nunca ocurre | E93: Nunca ocurre | F93: Nunca ocurre | G93: POCO PROBABLE | H93: NO | I93: . | J93: Charlas Divisionales | K93: En ningún lado | L93: Ninguna Actividad | M93: Si | O93: Si | Q93: No he sufrido ninguna de las situaciones | S93: Prohibición de contacto entre las partes involucradas | T93: Muy Efectiva | V93: Que el personal tenga pleno conocimiento de la ley ya mencionada y este al tanto de las consecuencias qué podría tener al no cumplir la ley
A94: 2023/08/16 9:56:29 a. m. GMT-4 | B94: Masculino | C94: Abastecimiento | D94: Nunca ocurre | E94: Nunca ocurre | F94: Nunca ocurre | G94: NUNCA | H94: NO | J94: Conferencias o Talleres efectuadas por Expertos | K94: Lugares fuera de la escuela | L94: Ninguna Actividad | M94: Si | O94: Si | Q94: No he sufrido ninguna de las situaciones | S94: Prohibición de contacto entre las partes involucradas | T94: Muy Efectiva | V94: Realizar charlas educativas con prefecionales en el tema relacionado al acoso laboral.
A95: 2023/08/16 9:57:07 a. m. GMT-4 | B95: Masculino | C95: Dirección y Subdirección | D95: Nunca ocurre | E95: Nunca ocurre | F95: Nunca ocurre | G95: POCO PROBABLE | H95: NO | I95: . | J95: Charlas Divisionales | K95: En ningún lado | L95: Ninguna Actividad | M95: Si | O95: Si | Q95: No he sufrido ninguna de las situaciones | S95: Apoyo psicológico | T95: Muy Efectiva | V95: Que el personal tenga el conocimiento de la ley ya mencionada, y tenga el conocimiento de las consecuencias al no cumplir la ley
A96: 2023/08/16 9:57:41 a. m. GMT-4 | B96: Masculino | C96: Mantención y Servicios | D96: Casi nunca ocurre | E96: Nunca ocurre | F96: Nunca ocurre | G96: POCO PROBABLE | H96: NO | J96: Difusión por medios digitales Institucionales | K96: En ningún lado | L96: Ninguna Actividad | M96: Si | O96: Si | Q96: No he sufrido ninguna de las situaciones | S96: Prohibición de contacto entre las partes involucradas | T96: Efectiva | V96: Mantener siempre en contacto con las personas que ya an tenido ese tipo de situaciones
A97: 2023/08/16 9:58:14 a. m. GMT-4 | B97: Femenino | C97: Abastecimiento | D97: Mucha Frecuencia | E97: Poca Frecuencia | F97: Mucha Frecuencia | G97: PROBABLE | H97: SI | I97: En la labor que realiza cada persona | J97: Conferencias o Talleres efectuadas por Expertos | K97: Otro | L97: Puede ocurrir en cualquier lugar de trabajo | M97: Si | O97: Si | Q97: No he sufrido ninguna de las situaciones | S97: Otro | T97: Poco efectiva | V97: Que el mando se preocupe de cada área realizando reuniones con la dotación y así informarse de cada situación que que ocurra dentro de la escuela .
A98: 2023/08/16 9:58:34 a. m. GMT-4 | B98: Masculino | C98: Abastecimiento | D98: Nunca ocurre | E98: Casi nunca ocurre | F98: Casi nunca ocurre | G98: POCO PROBABLE | H98: NO | J98: Difusión por medios digitales Institucionales | K98: Lugares fuera de la escuela | L98: Ninguna Actividad | M98: Si | O98: Si | Q98: No he sufrido ninguna de las situaciones | S98: Apoyo psicológico | T98: Efectiva | V98: Mantener el. Respeto mutuo entre todas las personas que trabajamos en la. Escuela naval
A99: 2023/08/16 9:59:08 a. m. GMT-4 | B99: Masculino | C99: Apoyo Deportivo | D99: Nunca ocurre | E99: Nunca ocurre | F99: Nunca ocurre | G99: NUNCA | H99: NO | I99: Mi respuesta fue NO, no sé por qué hay que responder | J99: Difusión por medios digitales Institucionales | K99: En ningún lado | L99: Ninguna Actividad | M99: Si | O99: Si | Q99: No he sufrido ninguna de las situaciones | S99: Investigación con celeridad y sin dilataciones | T99: Efectiva | V99: Difundir y recordar permanentemente la ley de acoso a todos la dotación la Escuela Naval
A100: 2023/08/16 9:59:50 a. m. GMT-4 | B100: Masculino | C100: Control de Gestión | D100: Casi nunca ocurre | E100: Casi nunca ocurre | F100: Casi nunca ocurre | G100: PROBABLE | H100: NO | J100: Conferencias o Talleres efectuadas por Expertos | K100: Lugares fuera de la escuela | L100: Evento de Camaradería | M100: Si | O100: Si | Q100: No he sufrido ninguna de las situaciones | S100: Reserva del proceso investigativo | T100: Efectiva | V100: Instruir al personal que estamos una institución Armada y se debe acatar el reglamento de lo contrario licenciarse del servicio
A101: 2023/08/16 10:09:18 a. m. GMT-4 | B101: Masculino | C101: Abastecimiento | D101: Casi nunca ocurre | E101: Casi nunca ocurre | F101: Casi nunca ocurre | G101: POCO PROBABLE | H101: NO | J101: Charlas Divisionales | K101: Patios | L101: Evento de Camaradería | M101: Si | O101: Si | Q101: No he sufrido ninguna de las situaciones | S101: Prohibición de contacto entre las partes involucradas | T101: Efectiva | V101: Yo encuentro que cada uno sabe lo bueno y lo malo de cada accionar si alguien está haciendo algo malo está propenso a una sanción y para prevenir este hecho el no contacto físico sería lo ideal solo trato de un más o menos antiguo
A102: 2023/08/16 10:11:54 a. m. GMT-4 | B102: Femenino | C102: Control de Gestión | D102: Casi nunca ocurre | E102: Casi nunca ocurre | F102: Casi nunca ocurre | G102: POCO PROBABLE | H102: NO | I102: Fue la respuesta no | J102: Conferencias o Talleres efectuadas por Expertos | K102: En ningún lado | L102: Ninguna Actividad | M102: Si | O102: Si | Q102: No he sufrido ninguna de las situaciones | S102: Otro | T102: Efectiva | V102: Que no importando el grado se debe de haber un margen de respeto y no permitir que nadie más antiguo pueda utilizar su grado para poder realizar conductas no agradables al menos antiguo
A103: 2023/08/16 10:13:55 a. m. GMT-4 | B103: Masculino | C103: Control de Gestión | D103: Casi nunca ocurre | E103: Casi nunca ocurre | F103: Poca Frecuencia | G103: NUNCA | H103: NO | J103: Difusión por medios digitales Institucionales | K103: Lugares fuera de la escuela | L103: Actividades Deportivas | M103: Si | O103: No | P103: Porque hay la posibilidad que la víctima no indique que esta siendo acosada o abusada por miedo a perder el trabajo o cargo en donde se desempeña | Q103: No he sufrido ninguna de las situaciones | S103: Prohibición de contacto entre las partes involucradas | T103: Efectiva
A104: 2023/08/16 10:19:33 a. m. GMT-4 | B104: Femenino | C104: Sanidad | D104: Casi nunca ocurre | E104: Casi nunca ocurre | F104: Poca Frecuencia | G104: PROBABLE | H104: SI | I104: De trabajo | J104: Conferencias o Talleres efectuadas por Expertos | K104: Oficinas sector de la Planta | L104: Ninguna Actividad | M104: No | N104: Depende de la situación | O104: No | P104: Depende de la situación | Q104: No | R104: Porque la persona era cercana al mando y yo no tenía pruebas concretas (habría tenido que grabar y era arriesgado si me pillaban) | S104: Prohibición de contacto entre las partes involucradas | T104: Poco efectiva | V104: Mayor difusión que sea permanente en el tiempo
A105: 2023/08/16 10:20:23 a. m. GMT-4 | B105: Masculino | C105: Abastecimiento | D105: Nunca ocurre | E105: Nunca ocurre | F105: Casi nunca ocurre | G105: POCO PROBABLE | H105: NO | J105: Charlas Divisionales | K105: En ningún lado | L105: Ninguna Actividad | M105: Si | O105: Si | Q105: No he sufrido ninguna de las situaciones | S105: Prohibición de contacto entre las partes involucradas | T105: Efectiva | V105: No tengo sugerencia
A106: 2023/08/16 10:38:01 a. m. GMT-4 | B106: Masculino | C106: Abastecimiento | D106: Casi nunca ocurre | E106: Casi nunca ocurre | F106: Casi nunca ocurre | G106: POCO PROBABLE | H106: NO | J106: Conferencias o Talleres efectuadas por Expertos | K106: Baños | L106: Ninguna Actividad | M106: Si | O106: Si | Q106: No he sufrido ninguna de las situaciones | S106: Apoyo psicológico | T106: Efectiva | V106: Tener a la dotación informada con charlas con expertos en el caso
A107: 2023/08/16 10:53:40 a. m. GMT-4 | B107: Femenino | C107: Control de Gestión | D107: Poca Frecuencia | E107: Poca Frecuencia | F107: Poca Frecuencia | G107: POCO PROBABLE | H107: NO | I107: No | J107: Charlas Divisionales | K107: Cámaras/Casinos | L107: Evento de Camaradería | M107: No | N107: No se resolvería nada, de hacer algo sería vía judicial. | O107: No | P107: No me involucraría para no ser tratada de la misma forma. | Q107: No he sufrido ninguna de las situaciones | S107: Reserva del proceso investigativo | T107: Poco efectiva | V107: 1. Estando en una escuela de formación militar no debiera existir tanta familiaridad, de los más antiguos con personal menos antiguos, eso no ayuda a mantener el orden gerarquico. 2. No cuestionar a la persona que tiene el valor de hacer una acusación, antes de que se investiguen los hechos. 3. Mantener los lineamientos que tiene la escuela, decirlos y repetirlos al personal diariamente si es necesario para evitar mal entendidos.
A108: 2023/08/16 10:53:41 a. m. GMT-4 | B108: Masculino | C108: Abastecimiento | D108: Poca Frecuencia | E108: Poca Frecuencia | F108: Poca Frecuencia | G108: PROBABLE | H108: NO | J108: Conferencias o Talleres efectuadas por Expertos | K108: Lugares fuera de la escuela | L108: Evento de Camaradería | M108: Si | O108: Si | Q108: No he sufrido ninguna de las situaciones | S108: Prohibición de contacto entre las partes involucradas | T108: Efectiva | V108: Decir la verdad siempre ante una situación
A109: 2023/08/16 10:56:19 a. m. GMT-4 | B109: Masculino | C109: Educación | D109: Casi nunca ocurre | E109: Casi nunca ocurre | F109: Nunca ocurre | G109: POCO PROBABLE | H109: NO | J109: Conferencias o Talleres efectuadas por Expertos | K109: Cámaras/Casinos | L109: Evento de Camaradería | M109: Si | O109: Si | Q109: Si | S109: Prohibición de contacto entre las partes involucradas | T109: Efectiva | V109: Creo qué darle charlas por parte de Profesionales para toda la dotación en especial los más jóvenes.
A110: 2023/08/16 11:10:54 a. m. GMT-4 | B110: Femenino | C110: Abastecimiento | D110: Casi nunca ocurre | E110: Casi nunca ocurre | F110: Casi nunca ocurre | G110: POCO PROBABLE | H110: NO | J110: Charlas Divisionales | K110: Otro | L110: Ninguna Actividad | M110: Si | O110: Si | Q110: No he sufrido ninguna de las situaciones | S110: Otro | T110: Poco efectiva | V110: Hacer reuniones trimestrales Mas charlas informativas
A111: 2023/08/16 11:10:57 a. m. GMT-4 | B111: Femenino | C111: Abastecimiento | D111: Casi nunca ocurre | E111: Casi nunca ocurre | F111: Casi nunca ocurre | G111: POCO PROBABLE | H111: NO | J111: Charlas Divisionales | K111: Otro | L111: Ninguna Actividad | M111: Si | O111: Si | Q111: No he sufrido ninguna de las situaciones | S111: Otro | T111: Poco efectiva | V111: Hacer una reuniones trimestrales y charlas charlas
A112: 2023/08/16 11:11:35 a. m. GMT-4 | B112: Femenino | C112: Abastecimiento | D112: Casi nunca ocurre | E112: Casi nunca ocurre | F112: Casi nunca ocurre | G112: POCO PROBABLE | H112: NO | J112: Charlas Divisionales | K112: Otro | L112: Ninguna Actividad | M112: Si | O112: Si | Q112: No he sufrido ninguna de las situaciones | S112: Otro | T112: Poco efectiva | V112: A ser reuniones trimestrales y más charlas
A113: 2023/08/16 11:16:53 a. m. GMT-4 | B113: Masculino | C113: Abastecimiento | D113: Nunca ocurre | E113: Nunca ocurre | F113: Nunca ocurre | G113: NUNCA | H113: NO | J113: Conferencias o Talleres efectuadas por Expertos | K113: Oficinas Edificio Administrativo (Ejecutivo) | L113: Ninguna Actividad | M113: Si | O113: Si | Q113: No he sufrido ninguna de las situaciones | S113: Apoyo psicológico | T113: Efectiva | V113: Charlas y apoyo al personal
A114: 2023/08/16 11:19:15 a. m. GMT-4 | B114: Masculino | C114: Abastecimiento | D114: Casi nunca ocurre | E114: Poca Frecuencia | F114: Casi nunca ocurre | G114: NUNCA | H114: NO | J114: Conferencias o Talleres efectuadas por Expertos | K114: Oficinas Edificio Administrativo (Ejecutivo) | L114: Guardias | M114: Si | O114: Si | Q114: No he sufrido ninguna de las situaciones | S114: Investigación con celeridad y sin dilataciones | T114: Efectiva | V114: Capacitar más al personal en las consecuencias de estos actos (en todo los ámbitos )
A115: 2023/08/16 11:19:32 a. m. GMT-4 | B115: Masculino | C115: Control de Gestión | D115: Casi nunca ocurre | E115: Poca Frecuencia | F115: Poca Frecuencia | G115: MUY PROBABLE | H115: SI | J115: Charlas Divisionales | K115: Oficinas sector de la Planta | L115: Evento de Camaradería | M115: Si | O115: Si | Q115: No he sufrido ninguna de las situaciones | S115: Investigación con celeridad y sin dilataciones | T115: Efectiva | V115: Fomentar el apoyo hacia la persona acosada y recalcar sanciones para el personal que no cumpla la ley
A116: 2023/08/16 11:21:07 a. m. GMT-4 | B116: Masculino | C116: Abastecimiento | D116: Nunca ocurre | E116: Nunca ocurre | F116: Nunca ocurre | G116: POCO PROBABLE | H116: NO | J116: Difusión por medios digitales Institucionales | K116: Otro | L116: Ninguna Actividad | M116: Si | O116: Si | Q116: No he sufrido ninguna de las situaciones | S116: Otro | T116: Efectiva | V116: Mantener y cumplir normativa vigente
A117: 2023/08/16 11:24:28 a. m. GMT-4 | B117: Femenino | C117: Apoyo Deportivo | D117: Poca Frecuencia | E117: Poca Frecuencia | F117: Casi nunca ocurre | G117: MUY PROBABLE | H117: SI | J117: Conferencias o Talleres efectuadas por Expertos | K117: Otro | L117: Evento de Camaradería | M117: Si | O117: Si | Q117: No he sufrido ninguna de las situaciones | S117: Prohibición de contacto entre las partes involucradas | T117: Efectiva | V117: Regirse por las leyes independiente del rango
A118: 2023/08/16 12:13:18 p. m. GMT-4 | B118: Masculino | C118: Abastecimiento | D118: Nunca ocurre | E118: Nunca ocurre | F118: Nunca ocurre | G118: NUNCA | H118: NO | J118: Charlas Divisionales | K118: En ningún lado | L118: Ninguna Actividad | M118: Si | O118: Si | Q118: No he sufrido ninguna de las situaciones | S118: Apoyo psicológico | T118: Efectiva | V118: Más comunicación con las personas que sean afectadas y un apoyo hacia ellas..
A119: 2023/08/16 12:25:14 p. m. GMT-4 | B119: Masculino | C119: Abastecimiento | D119: Mucha Frecuencia | E119: Mucha Frecuencia | F119: Mucha Frecuencia | G119: MUY PROBABLE | H119: NO | J119: Charlas Divisionales | K119: Baños | L119: Evento de Camaradería | M119: Si | O119: Si | Q119: No he sufrido ninguna de las situaciones | S119: Prohibición de contacto entre las partes involucradas | T119: Muy Efectiva | V119: .
A120: 2023/08/16 12:30:56 p. m. GMT-4 | B120: Masculino | C120: Abastecimiento | D120: Mucha Frecuencia | E120: Mucha Frecuencia | F120: Poca Frecuencia | G120: PROBABLE | H120: SI | I120: El trato no es igual para todos es a conveniencia de género | J120: Charlas Divisionales | K120: Oficinas Edificio Administrativo (Ejecutivo) | L120: Actividades Deportivas | M120: Si | O120: Si | Q120: No he sufrido ninguna de las situaciones | S120: Investigación con celeridad y sin dilataciones | T120: Poco efectiva | V120: La mayor parte de acoso se ve en los grados altos (de mayor edad ) ahí haría el foco de prevención porque esa generación no se preparo para recibir la llegada de personal femenino a la Armada en cambio las generaciones nuevas, nacieron de cuna con personal femenino aún igual se ven casos ocasionales pero también debería hacerse un examen sociológico adecuado para detectar a personas con este comportamiento
A121: 2023/08/16 12:54:18 p. m. GMT-4 | B121: Femenino | C121: Abastecimiento | D121: Nunca ocurre | E121: Nunca ocurre | F121: Nunca ocurre | G121: POCO PROBABLE | H121: NO | J121: Difusión por medios digitales Institucionales | K121: En ningún lado | L121: Ninguna Actividad | M121: Si | O121: Si | Q121: No he sufrido ninguna de las situaciones | S121: Apoyo psicológico | T121: Muy Efectiva | V121: Respeto, disciplina
A122: 2023/08/16 4:04:48 p. m. GMT-4 | B122: Femenino | C122: Apoyo Deportivo | D122: Casi nunca ocurre | E122: Casi nunca ocurre | F122: Casi nunca ocurre | G122: POCO PROBABLE | H122: NO | J122: Difusión por medios digitales Institucionales | K122: En ningún lado | L122: Ninguna Actividad | M122: Si | O122: Si | Q122: No he sufrido ninguna de las situaciones | S122: Reserva del proceso investigativo | T122: Efectiva | V122: Yo creo que la escuela naval está haciendo un buen trabajo con respecto al ambiente laboral
A123: 2023/08/17 8:53:43 a. m. GMT-4 | B123: Masculino | C123: Apoyo Deportivo | D123: Poca Frecuencia | E123: Poca Frecuencia | F123: Poca Frecuencia | G123: NUNCA | H123: NO | J123: Charlas Divisionales | K123: Cámaras/Casinos | L123: Rancho | M123: Si | O123: Si | Q123: No | S123: Prohibición de contacto entre las partes involucradas | T123: Muy Efectiva | V123: No
...

Sheet Resultados respuestas comunes
D1: CADETES | E1: PROFES | F1: PLANTA | G1: TOTAL ESNAVAL
C2: UNIVERSO | D2: 396 | E2: 75 | F2: 255 | G2: =SUM(D2:F2) -> 726
C3: RESPUESTAS | D3: 372 | E3: 70 | F3: 205 | G3: =SUM(D3:F3) -> 647
D4: =D3/D2 -> 0.93939394 | E4: =E3/E2 -> 0.93333333 | F4: =F3/F2 -> 0.80392157 | G4: =G3/G2 -> 0.89118457
B6: ¿Con QUÉ FRECUENCIA CREE UD. que ocurren situaciones de ACOSO SEXUAL en la Escuela Naval?
C8: Nunca Ocurre | E8: Casi nunca ocurre | G8: Poca frecuencia | I8: Mucha frecuencia | K8: Totales
B9: Grupo objetivo | C9: n | D9: % | E9: n | F9: % | G9: n | H9: % | I9: n | J9: %
B10: Cadetes | C10: =COUNTIF('Respuestas cadetes'!D2:D400,"Nunca ocurre") -> 120 | D10: =+C10/K10 -> 0.32258065 | E10: =COUNTIF('Respuestas cadetes'!D2:D400,"Casi nunca ocurre") -> 139 | F10: =+E10/K10 -> 0.37365591 | G10: =COUNTIF('Respuestas cadetes'!D2:D400,"Poca frecuencia") -> 97 | H10: =G10/K10 -> 0.26075269 | I10: =COUNTIF('Respuestas cadetes'!D2:D440,"Mucha frecuencia") -> 16 | J10: =I10/K10 -> 0.043010753 | K10: =SUM(C10,E10,G10,I10) -> 372
B11: Docentes | C11: =COUNTIF('Respuestas profes'!D2:D401,"Nunca ocurre") -> 21 | D11: =+C11/K11 -> 0.3 | E11: =COUNTIF('Respuestas profes'!D2:D400,"Casi nunca ocurre") -> 40 | F11: =+E11/K11 -> 0.57142857 | G11: =COUNTIF('Respuestas profes'!D2:D401,"Poca frecuencia") -> 9 | H11: =G11/K11 -> 0.12857143 | I11: =COUNTIF('Respuestas profes'!D2:D441,"Mucha frecuencia") -> 0 | J11: =I11/K11 -> 0 | K11: =SUM(C11,E11,G11,I11) -> 70
B12: Personal de Planta | C12: =COUNTIF('Respuestas Planta'!D2:D400,"Nunca ocurre") -> 57 | D12: =+C12/K11 -> 0.81428571 | E12: =COUNTIF('Respuestas Planta'!D2:D400,"Casi nunca ocurre") -> 96 | F12: =+E12/K12 -> 0.46829268 | G12: =COUNTIF('Respuestas Planta'!D2:D442,"Poca frecuencia") -> 45 | H12: =G12/K12 -> 0.2195122 | I12: =COUNTIF('Respuestas Planta'!D2:D442,"Mucha frecuencia") -> 7 | J12: =I12/K12 -> 0.034146341 | K12: =SUM(C12,E12,G12,I12) -> 205
B13: Total | C13: =+SUM(C10:C12) -> 198 | D13: =+C13/K13 -> 0.30602782 | E13: =+SUM(E10:E12) -> 275 | F13: =+E13/K13 -> 0.42503864 | G13: =+SUM(G10:G12) -> 151 | H13: =G13/K13 -> 0.23338485 | I13: =SUM(I10:I12) -> 23 | J13: =I13/K13 -> 0.035548686 | K13: =SUM(K10:K12) -> 647
B16: ¿Con QUÉ FRECUENCIA CREE UD. que ocurren situaciones de VIOLENCIA DE GÉNERO en la Escuela Naval?
C18: Nunca Ocurre | E18: Casi nunca ocurre | G18: Poca frecuencia | I18: Mucha frecuencia | K18: Totales
B19: Grupo objetivo | C19: n | D19: % | E19: n | F19: % | G19: n | H19: % | I19: n | J19: %
B20: Cadetes | C20: =COUNTIF('Respuestas cadetes'!E2:E410,"Nunca ocurre") -> 152 | D20: =+C20/K20 -> 0.40860215 | E20: =COUNTIF('Respuestas cadetes'!E2:E410,"Casi nunca ocurre") -> 128 | F20: =+E20/K20 -> 0.34408602 | G20: =COUNTIF('Respuestas cadetes'!E2:E410,"Poca frecuencia") -> 66 | H20: =G20/K20 -> 0.17741935 | I20: =COUNTIF('Respuestas cadetes'!E2:E450,"Mucha frecuencia") -> 26 | J20: =I20/K20 -> 0.069892473 | K20: =SUM(C20,E20,G20,I20) -> 372
B21: Docentes | C21: =COUNTIF('Respuestas profes'!E2:E411,"Nunca ocurre") -> 20 | D21: =+C21/K21 -> 0.28571429 | E21: =COUNTIF('Respuestas profes'!E2:E410,"Casi nunca ocurre") -> 36 | F21: =+E21/K21 -> 0.51428571 | G21: =COUNTIF('Respuestas profes'!E2:E411,"Poca frecuencia") -> 11 | H21: =G21/K21 -> 0.15714286 | I21: =COUNTIF('Respuestas profes'!E2:E451,"Mucha frecuencia") -> 3 | J21: =I21/K21 -> 0.042857143 | K21: =SUM(C21,E21,G21,I21) -> 70
B22: Personal de Planta | C22: =COUNTIF('Respuestas Planta'!E2:E410,"Nunca ocurre") -> 74 | D22: =+C22/K22 -> 0.36097561 | E22: =COUNTIF('Respuestas Planta'!E2:E410,"Casi nunca ocurre") -> 80 | F22: =+E22/K22 -> 0.3902439 | G22: =COUNTIF('Respuestas Planta'!E2:E452,"Poca frecuencia") -> 44 | H22: =G22/K22 -> 0.21463415 | I22: =COUNTIF('Respuestas Planta'!E2:E452,"Mucha frecuencia") -> 7 | J22: =I22/K22 -> 0.034146341 | K22: =SUM(C22,E22,G22,I22) -> 205
B23: Total | C23: =+SUM(C20:C22) -> 246 | D23: =+C23/K23 -> 0.38021638 | E23: =+SUM(E20:E22) -> 244 | F23: =+E23/K23 -> 0.37712519 | G23: =+SUM(G20:G22) -> 121 | H23: =G23/K23 -> 0.187017 | I23: =SUM(I20:I22) -> 36 | J23: =I23/K23 -> 0.055641422 | K23: =SUM(K20:K22) -> 647
B26: ¿Con QUÉ FRECUENCIA CREE UD. que ocurren situaciones de DISCRIMINACIÓN DE GÉNERO en la Escuela Naval?
C28: Nunca Ocurre | E28: Casis nunca ocurre | G28: Poca frecuencia | I28: Mucha frecuencia | K28: Totales
B29: Grupo objetivo | C29: n | D29: % | E29: n | F29: % | G29: n | H29: % | I29: n | J29: %
B30: Cadetes | C30: =COUNTIF('Respuestas cadetes'!F2:F420,"Nunca ocurre") -> 116 | D30: =+C30/K30 -> 0.31182796 | E30: =COUNTIF('Respuestas cadetes'!F2:F420,"Casi nunca ocurre") -> 109 | F30: =+E30/K30 -> 0.29301075 | G30: =COUNTIF('Respuestas cadetes'!F2:F420,"Poca frecuencia") -> 99 | H30: =G30/K30 -> 0.26612903 | I30: =COUNTIF('Respuestas cadetes'!F2:F460,"Mucha frecuencia") -> 48 | J30: =I30/K30 -> 0.12903226 | K30: =SUM(C30,E30,G30,I30) -> 372
B31: Docentes | C31: =COUNTIF('Respuestas profes'!F2:F421,"Nunca ocurre") -> 22 | D31: =+C31/K31 -> 0.31428571 | E31: =COUNTIF('Respuestas profes'!F2:F420,"Casi nunca ocurre") -> 28 | F31: =+E31/K31 -> 0.4 | G31: =COUNTIF('Respuestas profes'!F2:F421,"Poca frecuencia") -> 18 | H31: =G31/K31 -> 0.25714286 | I31: =COUNTIF('Respuestas profes'!F2:F461,"Mucha frecuencia") -> 2 | J31: =I31/K31 -> 0.028571429 | K31: =SUM(C31,E31,G31,I31) -> 70
B32: Personal de Planta | C32: =COUNTIF('Respuestas Planta'!F2:F420,"Nunca ocurre") -> 65 | D32: =+C32/K31 -> 0.92857143 | E32: =COUNTIF('Respuestas Planta'!F2:F420,"Casi nunca ocurre") -> 82 | F32: =+E32/K32 -> 0.4 | G32: =COUNTIF('Respuestas Planta'!F2:F462,"Poca frecuencia") -> 49 | H32: =G32/K32 -> 0.23902439 | I32: =COUNTIF('Respuestas Planta'!F2:F462,"Mucha frecuencia") -> 9 | J32: =I32/K32 -> 0.043902439 | K32: =SUM(C32,E32,G32,I32) -> 205
B33: Total | C33: =+SUM(C30:C32) -> 203 | D33: =+C33/K33 -> 0.3137558 | E33: =+SUM(E30:E32) -> 219 | F33: =+E33/K33 -> 0.33848532 | G33: =+SUM(G30:G32) -> 166 | H33: =G33/K33 -> 0.25656878 | I33: =SUM(I30:I32) -> 59 | J33: =I33/K33 -> 0.091190108 | K33: =SUM(K30:K32) -> 647
B35: ¿Qué tan probable es escuchar comentarios sexistas dentro de su ámbito de desempeño en la Escuela Naval?
C37: Nunca | E37: Poco Probable | G37: Probable | I37: Muy probable | K37: Totales
B38: Grupo objetivo | C38: n | D38: % | E38: n | F38: % | G38: n | H38: % | I38: n | J38: %
B39: Cadetes | C39: =COUNTIF('Respuestas cadetes'!G2:G429,"Nunca") -> 70 | D39: =+C39/K39 -> 0.18817204 | E39: =COUNTIF('Respuestas cadetes'!G2:G429,"Poco probable") -> 127 | F39: =+E39/K39 -> 0.34139785 | G39: =COUNTIF('Respuestas cadetes'!G1:G429,"Probable") -> 105 | H39: =G39/K39 -> 0.28225806 | I39: =COUNTIF('Respuestas cadetes'!G1:G469,"Muy probable") -> 70 | J39: =I39/K39 -> 0.18817204 | K39: =SUM(C39,E39,G39,I39) -> 372
B40: Docentes | C40: =COUNTIF('Respuestas profes'!G2:G430,"Nunca") -> 13 | D40: =+C40/K40 -> 0.18571429 | E40: =COUNTIF('Respuestas profes'!G1:G429,"Poco probable") -> 40 | F40: =+E40/K40 -> 0.57142857 | G40: =COUNTIF('Respuestas profes'!G1:G430,"Probable") -> 12 | H40: =G40/K40 -> 0.17142857 | I40: =COUNTIF('Respuestas profes'!G1:G470,"Muy probable") -> 5 | J40: =I40/K40 -> 0.071428571 | K40: =SUM(C40,E40,G40,I40) -> 70
B41: Personal de Planta | C41: =COUNTIF('Respuestas Planta'!G2:G429,"Nunca") -> 53 | D41: =+C41/K41 -> 0.25853659 | E41: =COUNTIF('Respuestas Planta'!G1:G429,"Poco probable") -> 95 | F41: =+E41/K41 -> 0.46341463 | G41: =COUNTIF('Respuestas Planta'!G1:G471,"Probable") -> 39 | H41: =G41/K41 -> 0.1902439 | I41: =COUNTIF('Respuestas Planta'!G1:G471,"Muy probable") -> 18 | J41: =I41/K41 -> 0.087804878 | K41: =SUM(C41,E41,G41,I41) -> 205
B42: Total | C42: =+SUM(C39:C41) -> 136 | D42: =+C42/K42 -> 0.21020093 | E42: =+SUM(E39:E41) -> 262 | F42: =+E42/K42 -> 0.4049459 | G42: =+SUM(G39:G41) -> 156 | H42: =G42/K42 -> 0.24111283 | I42: =SUM(I39:I41) -> 93 | J42: =I42/K42 -> 0.14374034 | K42: =SUM(K39:K41) -> 647
B44: Considera que existe discriminación por razones de género en la Escuela Naval | N44: 〈〉
C46: Si | E46: No | G46: Totales
B47: Grupo objetivo | C47: n | D47: % | E47: n | F47: %
B48: Cadetes | C48: =COUNTIF('Respuestas cadetes'!H1:H438,"SI") -> 57 | D48: =+C48/G48 -> 0.15322581 | E48: =COUNTIF('Respuestas cadetes'!H1:H438,"NO") -> 315 | F48: =+E48/G48 -> 0.84677419 | G48: =SUM(C48,E48) -> 372
B49: Docentes | C49: =COUNTIF('Respuestas profes'!H1:H439,"SI") -> 4 | D49: =+C49/G49 -> 0.057142857 | E49: =COUNTIF('Respuestas profes'!H2:H438,"NO") -> 66 | F49: =+E49/G49 -> 0.94285714 | G49: =SUM(C49,E49) -> 70
B50: Personal de Planta | C50: =COUNTIF('Respuestas Planta'!H1:H438,"SI") -> 22 | D50: =+C50/G50 -> 0.10731707 | E50: =COUNTIF('Respuestas Planta'!H2:H438,"NO") -> 183 | F50: =+E50/G50 -> 0.89268293 | G50: =SUM(C50,E50) -> 205
B51: Total | C51: =+SUM(C48:C50) -> 83 | D51: =+C51/G51 -> 0.12828439 | E51: =+SUM(E48:E50) -> 564 | F51: =+E51/G51 -> 0.87171561 | G51: =SUM(G48:G50) -> 647
B53: A su parecer ¿ Cuál debiera ser el objetivo o foco central del modelo de prevención de acoso sexual, violencia o discriminación de género?
C55: Charlas divisionales | E55: Conferencias o talleres realizados por expertos | G55: Difusiòn por medio digitales insitucionales | I55: Otro | K55: Totales
B56: Grupo objetivo | C56: n | D56: % | E56: n | F56: % | G56: n | H56: % | I56: n | J56: %
B57: Cadetes | C57: =COUNTIF('Respuestas cadetes'!J2:J447,"CHARLAS DIVISIONALES") -> 170 | D57: =+C57/K57 -> 0.45698925 | E57: =COUNTIF('Respuestas cadetes'!J2:J447,"CONFERENCIAS O TALLERES REALIZADAS POR EXPERTOS EN EL TEMA") -> 130 | F57: =+E57/K57 -> 0.34946237 | G57: =COUNTIF('Respuestas cadetes'!J2:J447,"DIFUSIÓN POR MEDIOS DIGITALES INSTITUCIONALES") -> 61 | H57: =G57/K57 -> 0.16397849 | I57: =COUNTA('Respuestas cadetes'!J2:J486)-(C57+E57+G57) -> 11 | J57: =I57/K57 -> 0.029569892 | K57: =SUM(C57,E57,G57,I57) -> 372
B58: Docentes | C58: =COUNTIF('Respuestas profes'!K2:K448,"CHARLAS DIVISIONALES") -> 12 | D58: =+C58/K58 -> 0.17142857 | E58: =COUNTIF('Respuestas profes'!K2:K448,"CONFERENCIAS O TALLERES REALIZADAS POR EXPERTOS EN EL TEMA") -> 47 | F58: =+E58/K58 -> 0.67142857 | G58: =COUNTIF('Respuestas profes'!K2:K448,"DIFUSIÓN POR MEDIOS DIGITALES INSTITUCIONALES") -> 9 | H58: =G58/K58 -> 0.12857143 | I58: =COUNTA('Respuestas profes'!K2:K487)-C58-E58-G58 -> 2 | J58: =I58/K58 -> 0.028571429 | K58: =SUM(C58,E58,G58,I58) -> 70
B59: Personal de Planta | C59: =COUNTIF('Respuestas Planta'!J2:J449,"Charlas Divisionales") -> 84 | D59: =+C59/K59 -> 0.4097561 | E59: =COUNTIF('Respuestas Planta'!J2:J449,"Conferencias o Talleres efectuadas por Expertos") -> 84 | F59: =+E59/K59 -> 0.4097561 | G59: =COUNTIF('Respuestas Planta'!J2:J449,"Difusión por medios digitales Institucionales") -> 30 | H59: =G59/K59 -> 0.14634146 | I59: =COUNTA('Respuestas Planta'!J2:J207)-C59-E59-G59+3 -> 7 | J59: =I59/K59 -> 0.034146341 | K59: =SUM(C59,E59,G59,I59) -> 205
B60: Total | C60: =+SUM(C57:C59) -> 266 | D60: =+C60/K60 -> 0.41112828 | E60: =+SUM(E57:E59) -> 261 | F60: =+E60/K60 -> 0.40340031 | G60: =+SUM(G57:G59) -> 100 | H60: =G60/K60 -> 0.15455951 | I60: =SUM(I57:I59) -> 20 | J60: =I60/K60 -> 0.030911901 | K60: =SUM(K57:K59) -> 647
B62: ¿Cuál de estas medidas de resguardo considera Ud. que otorgan una mejor PROTECCIÓN a la víctima de acoso, violencia o discriminación?
C64: Prohibición de contacto entre las partes involucradas | E64: Reserva del proceso investigativo | G64: Investigación con celeridad y sin dilataciones | I64: Apoyo psicológico | K64: Apoyo jurídico | M64: Apoyo espiritual | O64: Otro | Q64: Totales
B65: Grupo objetivo | C65: n | D65: % | E65: n | F65: % | G65: n | H65: % | I65: n | J65: % | K65: n | L65: % | M65: n | N65: % | O65: n | P65: %
B66: Cadetes | C66: =COUNTIF('Respuestas cadetes'!W2:W456,"Prohibición de contacto entre las partes involucradas") -> 105 | D66: =+C66/Q66 -> 0.28225806 | E66: =COUNTIF('Respuestas cadetes'!W2:W456,"Reserva del proceso investigativo")+1 -> 63 | F66: =+E66/Q66 -> 0.16935484 | G66: =COUNTIF('Respuestas cadetes'!W2:W456,"Investigación con celeridad y sin dilataciones")+1 -> 91 | H66: =G66/Q66 -> 0.24462366 | I66: =COUNTIF('Respuestas cadetes'!W2:W496,"Apoyo psicológico") -> 62 | J66: =I66/Q66 -> 0.16666667 | K66: =COUNTIF('Respuestas cadetes'!W2:W456,"Apoyo jurídico") -> 34 | L66: =+K66/Q66 -> 0.091397849 | M66: =COUNTIF('Respuestas cadetes'!W2:W456,"Apoyo espiritual") -> 10 | N66: =M66/Q66 -> 0.02688172 | O66: 7 | P66: =O66/Q66 -> 0.018817204 | Q66: =SUM(I66,K66,M66,O66,G66,E66,C66) -> 372
B67: Docentes | C67: =COUNTIF('Respuestas profes'!T2:T457,"Prohibición de contacto entre las partes involucradas") -> 20 | D67: =+C67/Q67 -> 0.28571429 | E67: =COUNTIF('Respuestas profes'!T2:T457,"Reserva del proceso investigativo") -> 10 | F67: =+E67/Q67 -> 0.14285714 | G67: =COUNTIF('Respuestas profes'!T2:T456,"Investigación con celeridad y sin dilataciones") -> 27 | H67: =G67/Q67 -> 0.38571429 | I67: =COUNTIF('Respuestas profes'!T2:T497,"Apoyo psicológico") -> 7 | J67: =I67/Q67 -> 0.1 | K67: =COUNTIF('Respuestas profes'!T2:T457,"Apoyo jurídico") -> 4 | L67: =+K67/Q67 -> 0.057142857 | M67: =COUNTIF('Respuestas profes'!T2:T457,"Apoyo espiritual") -> 2 | N67: =M67/Q67 -> 0.028571429 | O67: 0 | P67: =O67/Q67 -> 0 | Q67: =SUM(I67,K67,M67,O67,G67,E67,C67) -> 70
B68: Personal de Planta | C68: =COUNTIF('Respuestas Planta'!S2:S458,"Prohibición de contacto entre las partes involucradas") -> 62 | D68: =+C68/Q68 -> 0.30243902 | E68: =COUNTIF('Respuestas Planta'!S2:S458,"Reserva del proceso investigativo") -> 41 | F68: =+E68/Q68 -> 0.2 | G68: =COUNTIF('Respuestas Planta'!S2:S457,"Investigación con celeridad y sin dilataciones") -> 49 | H68: =G68/Q68 -> 0.23902439 | I68: =COUNTIF('Respuestas Planta'!S2:S498,"Apoyo psicológico") -> 29 | J68: =I68/Q68 -> 0.14146341 | K68: =COUNTIF('Respuestas Planta'!S2:S458,"Apoyo jurídico") -> 7 | L68: =+K68/Q68 -> 0.034146341 | M68: =COUNTIF('Respuestas Planta'!S2:S458,"Apoyo espiritual") -> 4 | N68: =M68/Q68 -> 0.019512195 | O68: 13 | P68: azz | Q68: =SUM(I68,K68,M68,O68,G68,E68,C68) -> 205
B69: Total | C69: =+SUM(C66:C68) -> 187 | D69: =+C69/Q69 -> 0.28902628 | E69: =+SUM(E66:E68) -> 114 | F69: =+E69/Q69 -> 0.17619784 | G69: =+SUM(G66:G68) -> 167 | H69: =G69/Q69 -> 0.25811437 | I69: =SUM(I66:I68) -> 98 | J69: =I69/Q69 -> 0.15146832 | K69: =+SUM(K66:K68) -> 45 | L69: =+K69/Q69 -> 0.069551777 | M69: =+SUM(M66:M68) -> 16 | N69: =M69/Q69 -> 0.024729521 | O69: =SUM(O66:O68) -> 20 | P69: =O69/Q69 -> 0.030911901 | Q69: =SUM(Q66:Q68) -> 647
B72: Según su punto vista, ¿Cuál es el grado de efectividad de las medidas que ha adoptado la
B73: Escuela Naval ante casos de acoso sexual, violencia o discriminación de género?
C75: Nada efectiva | E75: Poco efectiva | G75: Efectiva | I75: Muy efectiva | K75: Totales
B76: Grupo objetivo | C76: n | D76: % | E76: n | F76: % | G76: n | H76: % | I76: n | J76: %
B77: Cadetes | C77: =COUNTIF('Respuestas cadetes'!U2:U467,"Nada efectiva") -> 23 | D77: =+C77/K77 -> 0.061827957 | E77: =COUNTIF('Respuestas cadetes'!U2:U467,"Poco efectiva") -> 118 | F77: =+E77/K77 -> 0.3172043 | G77: =COUNTIF('Respuestas cadetes'!U2:U467,"Efectiva") -> 164 | H77: =G77/K77 -> 0.44086022 | I77: =COUNTIF('Respuestas cadetes'!U2:U507,"Muy efectiva") -> 67 | J77: =I77/K77 -> 0.18010753 | K77: =SUM(C77,E77,G77,I77) -> 372
B78: Docentes | C78: =COUNTIF('Respuestas profes'!U2:U468,"Nada efectiva") -> 0 | D78: =+C78/K78 -> 0 | E78: =COUNTIF('Respuestas profes'!U2:U468,"Poco efectiva") -> 8 | F78: =+E78/K78 -> 0.11428571 | G78: =COUNTIF('Respuestas profes'!U2:U468,"Efectiva") -> 41 | H78: =G78/K78 -> 0.58571429 | I78: =COUNTIF('Respuestas profes'!U2:U508,"Muy efectiva") -> 21 | J78: =I78/K78 -> 0.3 | K78: =SUM(C78,E78,G78,I78) -> 70
B79: Personal de Planta | C79: =COUNTIF('Respuestas Planta'!T2:T469,"Nada efectiva") -> 2 | D79: =+C79/K78 -> 0.028571429 | E79: =COUNTIF('Respuestas Planta'!T2:T469,"Poco efectiva") -> 35 | F79: =+E79/K79 -> 0.17073171 | G79: =COUNTIF('Respuestas Planta'!T2:T469,"Efectiva") -> 123 | H79: =G79/K79 -> 0.6 | I79: =COUNTIF('Respuestas Planta'!T2:T509,"Muy efectiva") -> 45 | J79: =I79/K79 -> 0.2195122 | K79: =SUM(C79,E79,G79,I79) -> 205
B80: Total | C80: =+SUM(C77:C79) -> 25 | D80: =+C80/K80 -> 0.038639876 | E80: =+SUM(E77:E79) -> 161 | F80: =+E80/K80 -> 0.2488408 | G80: =+SUM(G77:G79) -> 328 | H80: =G80/K80 -> 0.50695518 | I80: =SUM(I77:I79) -> 133 | J80: =I80/K80 -> 0.20556414 | K80: =SUM(K77:K79) -> 647
B83: ¿En caso que FUERA víctima de acoso sexual, violencia o discriminación de género, haría la
B84: denuncia a su mando?
C86: Si | E86: No | G86: Totales
B87: Grupo objetivo | C87: n | D87: % | E87: n | F87: %
B88: Cadetes | C88: =COUNTIF('Respuestas cadetes'!P2:P478,"SI") -> 358 | D88: =+C88/G88 -> 0.96236559 | E88: =COUNTIF('Respuestas cadetes'!P2:P478,"NO") -> 14 | F88: =+E88/G88 -> 0.037634409 | G88: =SUM(C88,E88) -> 372
B89: Docentes | C89: =COUNTIF('Respuestas profes'!N2:N479,"SI") -> 69 | D89: =+C89/G89 -> 0.98571429 | E89: =COUNTIF('Respuestas profes'!N2:N478,"NO") -> 1 | F89: =+E89/G89 -> 0.014285714 | G89: =SUM(C89,E89) -> 70
B90: Personal de Planta | C90: =COUNTIF('Respuestas Planta'!M2:M478,"SI") -> 189 | D90: =+C90/G90 -> 0.92647059 | E90: =COUNTIF('Respuestas Planta'!M2:M478,"NO") -> 15 | F90: =+E90/G90 -> 0.073529412 | G90: =SUM(C90,E90) -> 204
B91: Total | C91: =+SUM(C88:C90) -> 616 | D91: =+C91/G91 -> 0.95356037 | E91: =+SUM(E88:E90) -> 30 | F91: =+E91/G91 -> 0.046439628 | G91: =SUM(G88:G90) -> 646
B93: ¿En caso que FUERA TESTIGO de acoso sexual, violencia o discriminación de género, haría la denuncia a las autoridades de la Escuela Naval?
C95: Si | E95: No | G95: Totales
B96: Grupo objetivo | C96: n | D96: % | E96: n | F96: %
B97: Cadetes | C97: =COUNTIF('Respuestas cadetes'!P2:P487,"SI") -> 358 | D97: =+C97/G97 -> 0.96236559 | E97: =COUNTIF('Respuestas cadetes'!P2:P487,"NO") -> 14 | F97: =+E97/G97 -> 0.037634409 | G97: =SUM(C97,E97) -> 372
B98: Docentes | C98: =COUNTIF('Respuestas profes'!P2:P488,"SI") -> 69 | D98: =+C98/G98 -> 0.98571429 | E98: =COUNTIF('Respuestas profes'!P2:P487,"NO") -> 1 | F98: =+E98/G98 -> 0.014285714 | G98: =SUM(C98,E98) -> 70
B99: Personal de Planta | C99: =COUNTIF('Respuestas Planta'!O2:O487,"SI") -> 192 | D99: =+C99/G99 -> 0.94581281 | E99: =COUNTIF('Respuestas Planta'!O2:O487,"NO") -> 11 | F99: =+E99/G99 -> 0.054187192 | G99: =SUM(C99,E99) -> 203
B100: Total | C100: =+SUM(C97:C99) -> 619 | D100: =+C100/G100 -> 0.95968992 | E100: =+SUM(E97:E99) -> 26 | F100: =+E100/G100 -> 0.040310078 | G100: =SUM(G97:G99) -> 645
B103: ¿En caso de HABER SUFRIDO O SIDO TESTIGO de alguna de las situaciones definidas al inicio de la encuesta y que la Ley reconoce como acoso sexual, violencia o discriminación de género, ¿Hizo usted la denuncia a su mando?
C105: Si | E105: No | G105: No he sufrido ni sido testigo | I105: Totales
B106: Grupo objetivo | C106: n | D106: % | E106: n | F106: % | G106: n | H106: %
B107: Cadetes | C107: =COUNTIF('Respuestas cadetes'!R2:R497,"SI") -> 33 | D107: =+C107/I107 -> 0.088709677 | E107: =COUNTIF('Respuestas cadetes'!R2:R497,"NO") -> 17 | F107: =+E107/I107 -> 0.045698925 | G107: =COUNTIF('Respuestas cadetes'!R2:R497,"No he sufrido ni sido testigo") -> 322 | H107: =G107/I107 -> 0.8655914 | I107: =SUM(C107,E107,G107) -> 372
B108: Docentes | C108: =COUNTIF('Respuestas profes'!R2:R498,"SI") -> 5 | D108: =+C108/I108 -> 0.071428571 | E108: =COUNTIF('Respuestas profes'!R2:R497,"NO") -> 0 | F108: =+E108/I108 -> 0 | G108: =COUNTIF('Respuestas profes'!R2:R498,"No he sufrido ninguna de las situaciones") -> 65 | H108: =G108/I108 -> 0.92857143 | I108: =SUM(C108,E108,G108) -> 70
B109: Personal de Planta | C109: =COUNTIF('Respuestas Planta'!Q2:Q497,"SI") -> 19 | D109: =+C109/I109 -> 0.092682927 | E109: =COUNTIF('Respuestas Planta'!Q2:Q497,"NO") -> 9 | F109: =+E109/I109 -> 0.043902439 | G109: =COUNTIF('Respuestas Planta'!Q2:Q499,"No he sufrido ninguna de las situaciones") -> 177 | H109: =G109/I109 -> 0.86341463 | I109: =SUM(C109,E109,G109) -> 205
B110: Total | C110: =+SUM(C107:C109) -> 57 | D110: =+C110/G110 -> 0.10106383 | E110: =+SUM(E107:E109) -> 26 | F110: =+E110/G110 -> 0.046099291 | G110: =+SUM(G107:G109) -> 564 | H110: =G110/I110 -> 0.87171561 | I110: =SUM(I107:I109) -> 647

Sheet Gráficos
A2: CADETES | B2: ACOSO SEXUAL | C2: VIOLENCIA DE GÉNERO | D2: DISCRIMINACIÓN DE GÉNERO
A3: NUNCA | B3: ='Resultados respuestas comunes'!D10 -> 0.32258065 | C3: ='Resultados respuestas comunes'!D20 -> 0.40860215 | D3: ='Resultados respuestas comunes'!D30 -> 0.31182796
A4: CASI NUNCA | B4: ='Resultados respuestas comunes'!F10 -> 0.37365591 | C4: ='Resultados respuestas comunes'!F20 -> 0.34408602 | D4: ='Resultados respuestas comunes'!F30 -> 0.29301075
A5: POCO FRECUENCIA | B5: ='Resultados respuestas comunes'!H10 -> 0.26075269 | C5: ='Resultados respuestas comunes'!H20 -> 0.17741935 | D5: ='Resultados respuestas comunes'!H30 -> 0.26612903
A6: MUCHA FRECUENCIA | B6: ='Resultados respuestas comunes'!J10 -> 0.043010753 | C6: ='Resultados respuestas comunes'!J20 -> 0.069892473 | D6: ='Resultados respuestas comunes'!J30 -> 0.12903226
A11: DOCENTES | B11: ACOSO SEXUAL | C11: VIOLENCIA DE GÉNERO | D11: DISCRIMINACIÓN DE GÉNERO
A12: NUNCA | B12: ='Resultados respuestas comunes'!D11 -> 0.3 | C12: ='Resultados respuestas comunes'!D20 -> 0.40860215 | D12: ='Resultados respuestas comunes'!D31 -> 0.31428571
A13: CASI NUNCA | B13: ='Resultados respuestas comunes'!F11 -> 0.57142857 | C13: ='Resultados respuestas comunes'!F20 -> 0.34408602 | D13: ='Resultados respuestas comunes'!F31 -> 0.4
A14: POCO FRECUENCIA | B14: ='Resultados respuestas comunes'!H11 -> 0.12857143 | C14: ='Resultados respuestas comunes'!H20 -> 0.17741935 | D14: ='Resultados respuestas comunes'!H31 -> 0.25714286
A15: MUCHA FRECUENCIA | B15: ='Resultados respuestas comunes'!J11 -> 0 | C15: ='Resultados respuestas comunes'!J20 -> 0.069892473 | D15: ='Resultados respuestas comunes'!J31 -> 0.028571429
A20: PERSONAL DE PLANTA | B20: ACOSO SEXUAL | C20: VIOLENCIA DE GÉNERO | D20: DISCRIMINACIÓN DE GÉNERO
A21: NUNCA | B21: ='Resultados respuestas comunes'!D12 -> 0.81428571 | C21: ='Resultados respuestas comunes'!D22 -> 0.36097561 | D21: ='Resultados respuestas comunes'!D32 -> 0.92857143
A22: CASI NUNCA | B22: ='Resultados respuestas comunes'!F12 -> 0.46829268 | C22: ='Resultados respuestas comunes'!F22 -> 0.3902439 | D22: ='Resultados respuestas comunes'!F32 -> 0.4
A23: POCO FRECUENCIA | B23: ='Resultados respuestas comunes'!H12 -> 0.2195122 | C23: ='Resultados respuestas comunes'!H22 -> 0.21463415 | D23: ='Resultados respuestas comunes'!H32 -> 0.23902439
A24: MUCHA FRECUENCIA | B24: ='Resultados respuestas comunes'!J12 -> 0.034146341 | C24: ='Resultados respuestas comunes'!J22 -> 0.034146341 | D24: ='Resultados respuestas comunes'!J32 -> 0.043902439
A41: Según su punto vista, ¿Cuál es el grado de efectividad de las medidas que ha adoptado la
A42: Escuela Naval ante casos de acoso sexual, violencia o discriminación de género?
B43: Nada efectiva | C43: Poco efectiva | D43: Efectiva | E43: Muy efectiva
A44: Cadetes | B44: ='Resultados respuestas comunes'!D77 -> 0.061827957 | C44: ='Resultados respuestas comunes'!F77 -> 0.3172043 | D44: ='Resultados respuestas comunes'!H77 -> 0.44086022 | E44: ='Resultados respuestas comunes'!J77 -> 0.18010753
A45: Docentes | B45: ='Resultados respuestas comunes'!D78 -> 0 | C45: ='Resultados respuestas comunes'!F78 -> 0.11428571 | D45: ='Resultados respuestas comunes'!H78 -> 0.58571429 | E45: ='Resultados respuestas comunes'!J78 -> 0.3
A46: Personal de Planta | B46: ='Resultados respuestas comunes'!D79 -> 0.028571429 | C46: ='Resultados respuestas comunes'!F79 -> 0.17073171 | D46: ='Resultados respuestas comunes'!H79 -> 0.6 | E46: ='Resultados respuestas comunes'!J79 -> 0.2195122
A53: CADETES | B53: FUERA VÍCTIMA | C53: FUERA TESTIGO | D53: HABER SUFRIDO O SIDO TESTIGO
A54: SI | B54: ='Resultados respuestas comunes'!D88 -> 0.96236559 | C54: ='Resultados respuestas comunes'!D97 -> 0.96236559 | D54: ='Resultados respuestas comunes'!D107 -> 0.088709677
A55: NO | B55: ='Resultados respuestas comunes'!F88 -> 0.037634409 | C55: ='Resultados respuestas comunes'!F97 -> 0.037634409 | D55: ='Resultados respuestas comunes'!F107 -> 0.045698925
A56: NO ME HA OCURRIDO | B56: ='Resultados respuestas comunes'!H61 -> 0 | C56: ='Resultados respuestas comunes'!H71 -> 0 | D56: ='Resultados respuestas comunes'!H107 -> 0.8655914
A58: DOCENTES | B58: FUERA VÍCTIMA | C58: FUERA TESTIGO | D58: HABER SUFRIDO O SIDO TESTIGO
A59: SI | B59: ='Resultados respuestas comunes'!D89 -> 0.98571429 | C59: ='Resultados respuestas comunes'!D98 -> 0.98571429 | D59: ='Resultados respuestas comunes'!D108 -> 0.071428571
A60: NO | B60: ='Resultados respuestas comunes'!F89 -> 0.014285714 | C60: ='Resultados respuestas comunes'!F98 -> 0.014285714 | D60: ='Resultados respuestas comunes'!F108 -> 0
A61: NO ME HA OCURRIDO | B61: 0 | C61: 0 | D61: ='Resultados respuestas comunes'!H108 -> 0.92857143
A64: PERSONAL DE PLANTA | B64: FUERA VÍCTIMA | C64: FUERA TESTIGO | D64: HABER SUFRIDO O SIDO TESTIGO
A65: SI | B65: ='Resultados respuestas comunes'!D90 -> 0.92647059 | C65: ='Resultados respuestas comunes'!D99 -> 0.94581281 | D65: ='Resultados respuestas comunes'!D109 -> 0.092682927
A66: NO | B66: ='Resultados respuestas comunes'!F90 -> 0.073529412 | C66: ='Resultados respuestas comunes'!F99 -> 0.054187192 | D66: ='Resultados respuestas comunes'!F109 -> 0.043902439
A67: NO ME HA OCURRIDO | B67: 0 | C67: 0 | D67: ='Resultados respuestas comunes'!H109 -> 0.86341463
A85: Considera que existe discriminación por razones de género en la Escuela Naval
B87: Si | C87: No
A88: Grupo objetivo | B88: % | C88: %
A89: Cadetes | B89: ='Resultados respuestas comunes'!D48 -> 0.15322581 | C89: ='Resultados respuestas comunes'!F48 -> 0.84677419
A90: Docentes | B90: ='Resultados respuestas comunes'!D49 -> 0.057142857 | C90: ='Resultados respuestas comunes'!F49 -> 0.94285714
A91: Personal de Planta | B91: ='Resultados respuestas comunes'!D50 -> 0.10731707 | C91: ='Resultados respuestas comunes'!F50 -> 0.89268293
A99: ¿Qué tan probable es escuchar comentarios sexistas dentro de su ámbito de desempeño en la Escuela Naval?
B101: Nunca | C101: Poco Probable | D101: Probable | E101: Muy probable
A102: Grupo objetivo | B102: % | C102: % | D102: % | E102: %
A103: Cadetes | B103: ='Resultados respuestas comunes'!D39 -> 0.18817204 | C103: ='Resultados respuestas comunes'!F39 -> 0.34139785 | D103: ='Resultados respuestas comunes'!H39 -> 0.28225806 | E103: ='Resultados respuestas comunes'!J39 -> 0.18817204
A104: Docentes | B104: ='Resultados respuestas comunes'!D40 -> 0.18571429 | C104: ='Resultados respuestas comunes'!F40 -> 0.57142857 | D104: ='Resultados respuestas comunes'!H40 -> 0.17142857 | E104: ='Resultados respuestas comunes'!J40 -> 0.071428571
A105: Personal de Planta | B105: ='Resultados respuestas comunes'!D41 -> 0.25853659 | C105: ='Resultados respuestas comunes'!F41 -> 0.46341463 | D105: ='Resultados respuestas comunes'!H41 -> 0.1902439 | E105: ='Resultados respuestas comunes'!J41 -> 0.087804878
