Workbook

Sheet MAYOR A MENOR
D2: Nominados Beca EF - NEW YORK Enero 2027
E5: 2026 | F5: 2024 | I5: 2025 | K5: 2026 al 2 de Junio | O5: Calificacion militar | P5: EFI
E6: 0.3 | F6: 0.1 | G6: 0.05 | H6: 0.1 | I6: 0.125 | J6: 0.125 | K6: 0.1 | L6: 0.1 | M6: 1 | N6: 0.7 | O6: 0.6 | P6: 0.3 | Q6: 0.1 | R6: 0.3 | S6: F A L T A S | W6: BAJAS MÉDICAS
B7: N° | C7: Class | D7: Name | E7: Apreciación Positiva Prof. Inglés | F7: Promedio Inglés 1er Año | G7: NOTA TAE 1er Año | H7: Nota Final Académ. | I7: Promedio Inglés 2do Año | J7: Nota Final Académ. | K7: Promedio General 1° Sem 2026 | L7: Promedio Inglés 1° Sem 2026 | M7: PONDERA. ACADÉMICA INGLES | N7: PONDERACIÓN | O7: NMCA 2do año (2025) | P7: FCF 2025 | Q7: COOPER I SEM 2026 | R7: PONDERA. | S7: 2024 | T7: 2025 | U7: 2026 | V7: TOTAL PUNTOS AL PARTE | W7: 2024 | X7: 2025 | Y7: 2026 | Z7: TOTAL DIAS BAJA MEDICA | AA7: NOTA POSTULACIÓN BECA
A8: 1 | B8: 399 | C8: 3B | D8: DIAZ Barrera Joaquin | E8: 10 | F8: 9.2 | G8: 4.5 | H8: 9.1 | I8: 8.4 | J8: 8.4 | K8: 8.4 | L8: 8.8 | M8: =MIN(10,0.3*E8+0.1*F8+0.05*G8+0.1*H8+0.125*I8+0.125*J8+0.1*K8+0.1*L8) -> 8.875 | N8: =M8*70/100 -> 6.2125 | O8: 8.9 | P8: 8.4 | Q8: 6.5 | R8: =(O8*O6+P8*P6+Q8*Q6)*R6 -> 2.553 | S8: 0 | T8: 20 | U8: 0 | V8: =SUM(S8:U8) -> 20 | W8: 8 | X8: 8 | Y8: 0 | Z8: =SUM(W8:Y8) -> 16 | AA8: =N8+R8-V8*0.005-Z8*0.01 -> 8.5055
A9: =A8+1 -> 2 | B9: ='NOMINADOS BECA NY 2027 (UPDATE)'!B13 -> 147 | C9: ='NOMINADOS BECA NY 2027 (UPDATE)'!C13 -> 3A | D9: ='NOMINADOS BECA NY 2027 (UPDATE)'!D13 -> SANCHEZ Barrera Tomás | E9: ='NOMINADOS BECA NY 2027 (UPDATE)'!E13 -> 10 | F9: ='NOMINADOS BECA NY 2027 (UPDATE)'!F13 -> 8.8 | G9: ='NOMINADOS BECA NY 2027 (UPDATE)'!G13 -> 3.2 | H9: ='NOMINADOS BECA NY 2027 (UPDATE)'!H13 -> 9.3 | I9: ='NOMINADOS BECA NY 2027 (UPDATE)'!I13 -> 8.9 | ... AA9: ='NOMINADOS BECA NY 2027 (UPDATE)'!AA13 -> 8.38375
A10: =A9+1 -> 3 | B10: ='NOMINADOS BECA NY 2027 (UPDATE)'!B20 -> 32 | C10: ='NOMINADOS BECA NY 2027 (UPDATE)'!C20 -> 3C | D10: ='NOMINADOS BECA NY 2027 (UPDATE)'!D20 -> ILLANES Gazmuri Diego | E10: ='NOMINADOS BECA NY 2027 (UPDATE)'!E20 -> 10 | F10: ='NOMINADOS BECA NY 2027 (UPDATE)'!F20 -> 8.2 | G10: ='NOMINADOS BECA NY 2027 (UPDATE)'!G20 -> 4.9 | H10: ='NOMINADOS BECA NY 2027 (UPDATE)'!H20 -> 8.7 | I10: ='NOMINADOS BECA NY 2027 (UPDATE)'!I20 -> 8.6 | ... AA10: ='NOMINADOS BECA NY 2027 (UPDATE)'!AA20 -> 8.11325
A11: =A10+1 -> 4 | B11: ='NOMINADOS BECA NY 2027 (UPDATE)'!B21 -> 300 | C11: ='NOMINADOS BECA NY 2027 (UPDATE)'!C21 -> 3L | D11: ='NOMINADOS BECA NY 2027 (UPDATE)'!D21 -> CARVAJAL Vasquez Benjamín | E11: ='NOMINADOS BECA NY 2027 (UPDATE)'!E21 -> 10 | F11: ='NOMINADOS BECA NY 2027 (UPDATE)'!F21 -> 8.2 | G11: ='NOMINADOS BECA NY 2027 (UPDATE)'!G21 -> 3.2 | H11: ='NOMINADOS BECA NY 2027 (UPDATE)'!H21 -> 8.6 | I11: ='NOMINADOS BECA NY 2027 (UPDATE)'!I21 -> 8.2 | ... AA11: ='NOMINADOS BECA NY 2027 (UPDATE)'!AA21 -> 7.77575
A12: =A11+1 -> 5 | B12: ='NOMINADOS BECA NY 2027 (UPDATE)'!B15 -> 317 | C12: ='NOMINADOS BECA NY 2027 (UPDATE)'!C15 -> 3B | D12: ='NOMINADOS BECA NY 2027 (UPDATE)'!D15 -> VASQUEZ Gomez Sebastián | E12: ='NOMINADOS BECA NY 2027 (UPDATE)'!E15 -> 10 | F12: ='NOMINADOS BECA NY 2027 (UPDATE)'!F15 -> 8.4 | G12: ='NOMINADOS BECA NY 2027 (UPDATE)'!G15 -> 3.7 | H12: ='NOMINADOS BECA NY 2027 (UPDATE)'!H15 -> 8.2 | I12: ='NOMINADOS BECA NY 2027 (UPDATE)'!I15 -> 8 | ... AA12: ='NOMINADOS BECA NY 2027 (UPDATE)'!AA15 -> 7.77675
A13: =A12+1 -> 6 | B13: ='NOMINADOS BECA NY 2027 (UPDATE)'!B19 -> 407 | C13: ='NOMINADOS BECA NY 2027 (UPDATE)'!C19 -> 3A | D13: ='NOMINADOS BECA NY 2027 (UPDATE)'!D19 -> ULLOA Luengo Sebastián | E13: ='NOMINADOS BECA NY 2027 (UPDATE)'!E19 -> 10 | F13: ='NOMINADOS BECA NY 2027 (UPDATE)'!F19 -> 8.2 | G13: ='NOMINADOS BECA NY 2027 (UPDATE)'!G19 -> 2.8 | H13: ='NOMINADOS BECA NY 2027 (UPDATE)'!H19 -> 8.8 | I13: ='NOMINADOS BECA NY 2027 (UPDATE)'!I19 -> 8.5 | ... AA13: ='NOMINADOS BECA NY 2027 (UPDATE)'!AA19 -> 7.41025
A14: =A13+1 -> 7 | B14: ='NOMINADOS BECA NY 2027 (UPDATE)'!B23 -> 59 | C14: ='NOMINADOS BECA NY 2027 (UPDATE)'!C23 -> 3L | D14: ='NOMINADOS BECA NY 2027 (UPDATE)'!D23 -> COLIPI Montero Vicente | E14: ='NOMINADOS BECA NY 2027 (UPDATE)'!E23 -> 10 | F14: ='NOMINADOS BECA NY 2027 (UPDATE)'!F23 -> 8.3 | G14: ='NOMINADOS BECA NY 2027 (UPDATE)'!G23 -> 5.6 | H14: ='NOMINADOS BECA NY 2027 (UPDATE)'!H23 -> 8.2 | I14: ='NOMINADOS BECA NY 2027 (UPDATE)'!I23 -> 8.6 | ... AA14: ='NOMINADOS BECA NY 2027 (UPDATE)'!AA23 -> 7.36875
A15: =A14+1 -> 8 | B15: ='NOMINADOS BECA NY 2027 (UPDATE)'!B17 -> 363 | C15: ='NOMINADOS BECA NY 2027 (UPDATE)'!C17 -> 3C | D15: ='NOMINADOS BECA NY 2027 (UPDATE)'!D17 -> ESPINOZA Saavedra Alejandro | E15: ='NOMINADOS BECA NY 2027 (UPDATE)'!E17 -> 10 | F15: ='NOMINADOS BECA NY 2027 (UPDATE)'!F17 -> 6.5 | G15: ='NOMINADOS BECA NY 2027 (UPDATE)'!G17 -> 2.3 | H15: ='NOMINADOS BECA NY 2027 (UPDATE)'!H17 -> 7.1 | I15: ='NOMINADOS BECA NY 2027 (UPDATE)'!I17 -> 8.1 | ... AA15: ='NOMINADOS BECA NY 2027 (UPDATE)'!AA17 -> 6.634
A16: =A15+1 -> 9 | B16: ='NOMINADOS BECA NY 2027 (UPDATE)'!B9 -> 390 | C16: ='NOMINADOS BECA NY 2027 (UPDATE)'!C9 -> 3A | D16: ='NOMINADOS BECA NY 2027 (UPDATE)'!D9 -> LOPEZ Quezada Camilo | E16: ='NOMINADOS BECA NY 2027 (UPDATE)'!E9 -> 10 | F16: ='NOMINADOS BECA NY 2027 (UPDATE)'!F9 -> 8.1 | G16: ='NOMINADOS BECA NY 2027 (UPDATE)'!G9 -> 6.2 | H16: ='NOMINADOS BECA NY 2027 (UPDATE)'!H9 -> 7.8 | I16: ='NOMINADOS BECA NY 2027 (UPDATE)'!I9 -> 8.2 | ... AA16: ='NOMINADOS BECA NY 2027 (UPDATE)'!AA9 -> 6.56525
A17: =A16+1 -> 10 | B17: ='NOMINADOS BECA NY 2027 (UPDATE)'!B16 -> 336 | C17: ='NOMINADOS BECA NY 2027 (UPDATE)'!C16 -> 3A | D17: ='NOMINADOS BECA NY 2027 (UPDATE)'!D16 -> FIGUEROA Becerra Tomás | E17: ='NOMINADOS BECA NY 2027 (UPDATE)'!E16 -> 10 | F17: ='NOMINADOS BECA NY 2027 (UPDATE)'!F16 -> 6.7 | G17: ='NOMINADOS BECA NY 2027 (UPDATE)'!G16 -> 1.9 | H17: ='NOMINADOS BECA NY 2027 (UPDATE)'!H16 -> 8 | I17: ='NOMINADOS BECA NY 2027 (UPDATE)'!I16 -> 8.4 | ... AA17: ='NOMINADOS BECA NY 2027 (UPDATE)'!AA16 -> 6.3595
A18: =A17+1 -> 11 | B18: ='NOMINADOS BECA NY 2027 (UPDATE)'!B24 -> 381 | C18: ='NOMINADOS BECA NY 2027 (UPDATE)'!C24 -> 3A | D18: ='NOMINADOS BECA NY 2027 (UPDATE)'!D24 -> URQUIZA Casas-Cordero Fabián | E18: ='NOMINADOS BECA NY 2027 (UPDATE)'!E24 -> 10 | F18: ='NOMINADOS BECA NY 2027 (UPDATE)'!F24 -> 8.2 | G18: ='NOMINADOS BECA NY 2027 (UPDATE)'!G24 -> 3.4 | H18: ='NOMINADOS BECA NY 2027 (UPDATE)'!H24 -> 8.8 | I18: ='NOMINADOS BECA NY 2027 (UPDATE)'!I24 -> 8.7 | ... AA18: ='NOMINADOS BECA NY 2027 (UPDATE)'!AA24 -> 6.35375
A19: =A18+1 -> 12 | B19: ='NOMINADOS BECA NY 2027 (UPDATE)'!B11 -> 267 | C19: ='NOMINADOS BECA NY 2027 (UPDATE)'!C11 -> 3L | D19: ='NOMINADOS BECA NY 2027 (UPDATE)'!D11 -> CÁCERES Marambio Benjamin | E19: ='NOMINADOS BECA NY 2027 (UPDATE)'!E11 -> 10 | F19: ='NOMINADOS BECA NY 2027 (UPDATE)'!F11 -> 6.9 | G19: ='NOMINADOS BECA NY 2027 (UPDATE)'!G11 -> 2.4 | H19: ='NOMINADOS BECA NY 2027 (UPDATE)'!H11 -> 8.5 | I19: ='NOMINADOS BECA NY 2027 (UPDATE)'!I11 -> 9 | ... AA19: ='NOMINADOS BECA NY 2027 (UPDATE)'!AA11 -> 5.90475
A20: =A19+1 -> 13 | B20: ='NOMINADOS BECA NY 2027 (UPDATE)'!B12 -> 298 | C20: ='NOMINADOS BECA NY 2027 (UPDATE)'!C12 -> 3B | D20: ='NOMINADOS BECA NY 2027 (UPDATE)'!D12 -> ZARATE Soto Javiera | E20: ='NOMINADOS BECA NY 2027 (UPDATE)'!E12 -> 10 | F20: ='NOMINADOS BECA NY 2027 (UPDATE)'!F12 -> 8.1 | G20: ='NOMINADOS BECA NY 2027 (UPDATE)'!G12 -> 2.2 | H20: ='NOMINADOS BECA NY 2027 (UPDATE)'!H12 -> 7.6 | I20: ='NOMINADOS BECA NY 2027 (UPDATE)'!I12 -> 7.2 | ... AA20: ='NOMINADOS BECA NY 2027 (UPDATE)'!AA12 -> 5.6935 | AB20: 150 GV
A21: =A20+1 -> 14 | B21: ='NOMINADOS BECA NY 2027 (UPDATE)'!B22 -> 52 | C21: ='NOMINADOS BECA NY 2027 (UPDATE)'!C22 -> 3L | D21: ='NOMINADOS BECA NY 2027 (UPDATE)'!D22 -> ANGULO Munita Martín | E21: ='NOMINADOS BECA NY 2027 (UPDATE)'!E22 -> 8 | F21: ='NOMINADOS BECA NY 2027 (UPDATE)'!F22 -> 8 | G21: ='NOMINADOS BECA NY 2027 (UPDATE)'!G22 -> 5.7 | H21: ='NOMINADOS BECA NY 2027 (UPDATE)'!H22 -> 7.8 | I21: ='NOMINADOS BECA NY 2027 (UPDATE)'!I22 -> 7.2 | ... AA21: ='NOMINADOS BECA NY 2027 (UPDATE)'!AA22 -> 5.487 | AB21: 175 GV
A22: =A21+1 -> 15 | B22: ='NOMINADOS BECA NY 2027 (UPDATE)'!B14 -> 159 | C22: ='NOMINADOS BECA NY 2027 (UPDATE)'!C14 -> 3B | D22: ='NOMINADOS BECA NY 2027 (UPDATE)'!D14 -> MELINAO Mansilla Luis | E22: ='NOMINADOS BECA NY 2027 (UPDATE)'!E14 -> 10 | F22: ='NOMINADOS BECA NY 2027 (UPDATE)'!F14 -> 8.2 | G22: ='NOMINADOS BECA NY 2027 (UPDATE)'!G14 -> 3.5 | H22: ='NOMINADOS BECA NY 2027 (UPDATE)'!H14 -> 8 | I22: ='NOMINADOS BECA NY 2027 (UPDATE)'!I14 -> 8 | ... AA22: ='NOMINADOS BECA NY 2027 (UPDATE)'!AA14 -> 5.034 | AB22: 150 GV
A23: =A22+1 -> 16 | B23: ='NOMINADOS BECA NY 2027 (UPDATE)'!B18 -> 186 | C23: ='NOMINADOS BECA NY 2027 (UPDATE)'!C18 -> 3C | D23: ='NOMINADOS BECA NY 2027 (UPDATE)'!D18 -> ROMAN Valenzuela Agustín | E23: ='NOMINADOS BECA NY 2027 (UPDATE)'!E18 -> 10 | F23: ='NOMINADOS BECA NY 2027 (UPDATE)'!F18 -> 6.5 | G23: ='NOMINADOS BECA NY 2027 (UPDATE)'!G18 -> 1.8 | H23: ='NOMINADOS BECA NY 2027 (UPDATE)'!H18 -> 7.4 | I23: ='NOMINADOS BECA NY 2027 (UPDATE)'!I18 -> 7.2 | ... AA23: ='NOMINADOS BECA NY 2027 (UPDATE)'!AA18 -> 4.95675 | AB23: 150 GV
A24: =A23+1 -> 17 | B24: ='NOMINADOS BECA NY 2027 (UPDATE)'!B10 -> 212 | C24: ='NOMINADOS BECA NY 2027 (UPDATE)'!C10 -> 3A | D24: ='NOMINADOS BECA NY 2027 (UPDATE)'!D10 -> LEON Garrido Martina | E24: ='NOMINADOS BECA NY 2027 (UPDATE)'!E10 -> 10 | F24: ='NOMINADOS BECA NY 2027 (UPDATE)'!F10 -> 7.2 | G24: ='NOMINADOS BECA NY 2027 (UPDATE)'!G10 -> 3.1 | H24: ='NOMINADOS BECA NY 2027 (UPDATE)'!H10 -> 8.5 | I24: ='NOMINADOS BECA NY 2027 (UPDATE)'!I10 -> 6.6 | ... AA24: ='NOMINADOS BECA NY 2027 (UPDATE)'!AA10 -> 2.51925 | AB24: 200 GV

Sheet NOMINADOS BECA NY 2027 (UPDATE)
D2: Nominados Beca EF - NEW YORK Enero 2027
E5: 2026 | F5: 2024 | I5: 2025 | K5: 2026 al 2 de Junio | O5: Calificacion militar | P5: EFI
E6: 0.3 | F6: 0.1 | G6: 0.05 | H6: 0.1 | I6: 0.125 | J6: 0.125 | K6: 0.1 | L6: 0.1 | M6: 1 | N6: 0.7 | O6: 0.6 | P6: 0.3 | Q6: 0.1 | R6: 0.3 | S6: F A L T A S | W6: BAJAS MÉDICAS
B7: N° | C7: Class | D7: Name | E7: Apreciación Positiva Prof. Inglés | F7: Promedio Inglés 1er Año | G7: NOTA TAE 1er Año | H7: Nota Final Académ. | I7: Promedio Inglés 2do Año | J7: Nota Final Académ. | K7: Promedio General 1° Sem 2026 | L7: Promedio Inglés 1° Sem 2026 | M7: PONDERA. ACADÉMICA INGLES | N7: PONDERACIÓN | O7: NMCA 2do año (2025) | P7: FCF 2025 | Q7: COOPER I SEM 2026 | R7: PONDERA. | S7: 2024 | T7: 2025 | U7: 2026 | V7: TOTAL PUNTOS AL PARTE | W7: 2024 | X7: 2025 | Y7: 2026 | Z7: TOTAL DIAS BAJA MEDICA | AA7: NOTA POSTULACIÓN BECA
A8: 1 | B8: 399 | C8: 3B | D8: DIAZ Barrera Joaquin | E8: 10 | F8: 9.2 | G8: 4.5 | H8: 9.1 | I8: 8.4 | J8: 8.4 | K8: 8.4 | L8: 8.8 | M8: =MIN(10,0.3*E8+0.1*F8+0.05*G8+0.1*H8+0.125*I8+0.125*J8+0.1*K8+0.1*L8) -> 8.875 | N8: =M8*70/100 -> 6.2125 | O8: 8.9 | P8: 8.4 | Q8: 6.5 | R8: =(O8*O6+P8*P6+Q8*Q6)*R6 -> 2.553 | S8: 0 | T8: 20 | U8: 0 | V8: =SUM(S8:U8) -> 20 | W8: 8 | X8: 8 | Y8: 0 | Z8: =SUM(W8:Y8) -> 16 | AA8: =N8+R8-V8*0.005-Z8*0.01 -> 8.5055 | AB8: *
A9: =A8+1 -> 2 | B9: 390 | C9: 3A | D9: LOPEZ Quezada Camilo | E9: 10 | F9: 8.1 | G9: 6.2 | H9: 7.8 | I9: 8.2 | J9: 8.1 | K9: 7.7 | L9: 8.4 | M9: =MIN(10, 0.3*E9+0.1*F9+0.05*G9+0.1*H9+0.125*I9+0.125*J9+0.1*K9+0.1*L9) -> 8.5475 | N9: =M9*70/100 -> 5.98325 | O9: 8 | P9: 8 | Q9: 5.9 | R9: =(O9*O6+P9*P6+Q9*Q6)*R6 -> 2.337 | S9: 105 | T9: 160 | U9: 50 | V9: =SUM(S9:U9) -> 315 | W9: 7 | X9: 8 | Y9: 3 | Z9: =SUM(W9:Y9) -> 18 | AA9: =N9+R9-V9*0.005-Z9*0.01 -> 6.56525 | AB9: *
A10: =A9+1 -> 3 | B10: 212 | C10: 3A | D10: LEON Garrido Martina | E10: 10 | F10: 7.2 | G10: 3.1 | H10: 8.5 | I10: 6.6 | J10: 7.5 | K10: 8 | L10: 6.9 | M10: =MIN(10, 0.3*E10+0.1*F10+0.05*G10+0.1*H10+0.125*I10+0.125*J10+0.1*K10+0.1*L10) -> 7.9775 | N10: =M10*70/100 -> 5.58425 | O10: 7.7 | P10: 6.1 | Q10: 0 | R10: =(O10*O6+P10*P6+Q10*Q6)*R6 -> 1.935 | S10: 200 | T10: 75 | U10: 25 | V10: =SUM(S10:U10) -> 300 | W10: 280 | X10: 68 | Y10: 2 | Z10: =SUM(W10:Y10) -> 350 | AA10: =N10+R10-V10*0.005-Z10*0.01 -> 2.51925
A11: =A10+1 -> 4 | B11: 267 | C11: 3L | D11: CÁCERES Marambio Benjamin | E11: 10 | F11: 6.9 | G11: 2.4 | H11: 8.5 | I11: 9 | J11: 8.7 | K11: 8.5 | L11: 8.2 | M11: =MIN(10, 0.3*E11+0.1*F11+0.05*G11+0.1*H11+0.125*I11+0.125*J11+0.1*K11+0.1*L11) -> 8.5425 | N11: =M11*70/100 -> 5.97975 | O11: 7.7 | P11: 6.8 | Q11: 2.4 | R11: =(O11*O6+P11*P6+Q11*Q6)*R6 -> 2.07 | S11: 105 | T11: 225 | U11: 45 | V11: =SUM(S11:U11) -> 375 | W11: 27 | X11: 0 | Y11: 0 | Z11: =SUM(W11:Y11) -> 27 | AA11: =N11+R11-V11*0.005-Z11*0.01 -> 5.90475 | AB11: *
A12: =A11+1 -> 5 | B12: 298 | C12: 3B | D12: ZARATE Soto Javiera | E12: 10 | F12: 8.1 | G12: 2.2 | H12: 7.6 | I12: 7.2 | J12: 7 | K12: 7.9 | L12: 7.6 | M12: =MIN(10, 0.3*E12+0.1*F12+0.05*G12+0.1*H12+0.125*I12+0.125*J12+0.1*K12+0.1*L12) -> 8.005 | N12: =M12*70/100 -> 5.6035 | O12: 7.8 | P12: 7.4 | Q12: 3 | R12: =(O12*O6+P12*P6+Q12*Q6)*R6 -> 2.16 | S12: 140 | T12: 160 | U12: 0 | V12: =SUM(S12:U12) -> 300 | W12: 47 | X12: 10 | Y12: 0 | Z12: =SUM(W12:Y12) -> 57 | AA12: =N12+R12-V12*0.005-Z12*0.01 -> 5.6935 | AB12: *
A13: =A12+1 -> 6 | B13: 147 | C13: 3A | D13: SANCHEZ Barrera Tomás | E13: 10 | F13: 8.8 | G13: 3.2 | H13: 9.3 | I13: 8.9 | J13: 9.2 | K13: 8.8 | L13: 8.8 | M13: =MIN(10, 0.3*E13+0.1*F13+0.05*G13+0.1*H13+0.125*I13+0.125*J13+0.1*K13+0.1*L13) -> 8.9925 | N13: =M13*70/100 -> 6.29475 | O13: 9.2 | P13: 9.3 | Q13: 7.7 | R13: =(O13*O6+P13*P6+Q13*Q6)*R6 -> 2.724 | S13: 25 | T13: 30 | U13: 0 | V13: =SUM(S13:U13) -> 55 | W13: 15 | X13: 14 | Y13: 7 | Z13: =SUM(W13:Y13) -> 36 | AA13: =N13+R13-V13*0.005-Z13*0.01 -> 8.38375 | AB13: *
A14: =A13+1 -> 7 | B14: 159 | C14: 3B | D14: MELINAO Mansilla Luis | E14: 10 | F14: 8.2 | G14: 3.5 | H14: 8 | I14: 8 | J14: 8.2 | K14: 8.1 | L14: 7.6 | M14: =MIN(10, 0.3*E14+0.1*F14+0.05*G14+0.1*H14+0.125*I14+0.125*J14+0.1*K14+0.1*L14) -> 8.39 | N14: =M14*70/100 -> 5.873 | O14: 7.7 | P14: 7.7 | Q14: 5.4 | R14: =(O14*O6+P14*P6+Q14*Q6)*R6 -> 2.241 | S14: 15 | T14: 150 | U14: 175 | V14: =SUM(S14:U14) -> 340 | W14: 136 | X14: 2 | Y14: 0 | Z14: =SUM(W14:Y14) -> 138 | AA14: =N14+R14-V14*0.005-Z14*0.01 -> 5.034 | AB14: *
A15: =A14+1 -> 8 | B15: 317 | C15: 3B | D15: VASQUEZ Gomez Sebastián | E15: 10 | F15: 8.4 | G15: 3.7 | H15: 8.2 | I15: 8 | J15: 7.5 | K15: 7.6 | L15: 8.3 | M15: =MIN(10, 0.3*E15+0.1*F15+0.05*G15+0.1*H15+0.125*I15+0.125*J15+0.1*K15+0.1*L15) -> 8.3725 | N15: =M15*70/100 -> 5.86075 | O15: 8.2 | P15: 8.3 | Q15: 6.1 | R15: =(O15*O6+P15*P6+Q15*Q6)*R6 -> 2.406 | S15: 55 | T15: 25 | U15: 0 | V15: =SUM(S15:U15) -> 80 | W15: 0 | X15: 9 | Y15: 0 | Z15: =SUM(W15:Y15) -> 9 | AA15: =N15+R15-V15*0.005-Z15*0.01 -> 7.77675 | AB15: *
A16: =A15+1 -> 9 | B16: 336 | C16: 3A | D16: FIGUEROA Becerra Tomás | E16: 10 | F16: 6.7 | G16: 1.9 | H16: 8 | I16: 8.4 | J16: 7.6 | K16: 7.6 | L16: 6.9 | M16: =MIN(10, 0.3*E16+0.1*F16+0.05*G16+0.1*H16+0.125*I16+0.125*J16+0.1*K16+0.1*L16) -> 8.015 | N16: =M16*70/100 -> 5.6105 | O16: 8.5 | P16: 9.3 | Q16: 6.4 | R16: =(O16*O6+P16*P6+Q16*Q6)*R6 -> 2.559 | S16: 125 | T16: 90 | U16: 35 | V16: =SUM(S16:U16) -> 250 | W16: 49 | X16: 0 | Y16: 7 | Z16: =SUM(W16:Y16) -> 56 | AA16: =N16+R16-V16*0.005-Z16*0.01 -> 6.3595 | AB16: *
A17: =A16+1 -> 10 | B17: 363 | C17: 3C | D17: ESPINOZA Saavedra Alejandro | E17: 10 | F17: 6.5 | G17: 2.3 | H17: 7.1 | I17: 8.1 | J17: 7.3 | K17: 6.8 | L17: 6.6 | M17: =MIN(10, 0.3*E17+0.1*F17+0.05*G17+0.1*H17+0.125*I17+0.125*J17+0.1*K17+0.1*L17) -> 7.74 | N17: =M17*70/100 -> 5.418 | O17: 7.8 | P17: 7.5 | Q17: 8.4 | R17: =(O17*O6+P17*P6+Q17*Q6)*R6 -> 2.331 | S17: 15 | T17: 145 | U17: 45 | V17: =SUM(S17:U17) -> 205 | W17: 5 | X17: 4 | Y17: 0 | Z17: =SUM(W17:Y17) -> 9 | AA17: =N17+R17-V17*0.005-Z17*0.01 -> 6.634 | AB17: *
A18: =A17+1 -> 11 | B18: 186 | C18: 3C | D18: ROMAN Valenzuela Agustín | E18: 10 | F18: 6.5 | G18: 1.8 | H18: 7.4 | I18: 7.2 | J18: 7.3 | K18: 7.4 | L18: 6.6 | M18: =MIN(10, 0.3*E18+0.1*F18+0.05*G18+0.1*H18+0.125*I18+0.125*J18+0.1*K18+0.1*L18) -> 7.6925 | N18: =M18*70/100 -> 5.38475 | O18: 8 | P18: 8.1 | Q18: 6.6 | R18: =(O18*O6+P18*P6+Q18*Q6)*R6 -> 2.367 | S18: 220 | T18: 175 | U18: 0 | V18: =SUM(S18:U18) -> 395 | W18: 57 | X18: 12 | Y18: 13 | Z18: =SUM(W18:Y18) -> 82 | AA18: =N18+R18-V18*0.005-Z18*0.01 -> 4.95675 | AB18: *
A19: =A18+1 -> 12 | B19: 407 | C19: 3A | D19: ULLOA Luengo Sebastián | E19: 10 | F19: 8.2 | G19: 2.8 | H19: 8.8 | I19: 8.5 | J19: 8.6 | K19: 8.4 | L19: 8.1 | M19: =MIN(10, 0.3*E19+0.1*F19+0.05*G19+0.1*H19+0.125*I19+0.125*J19+0.1*K19+0.1*L19) -> 8.6275 | N19: =M19*70/100 -> 6.03925 | O19: 8 | P19: 7.5 | Q19: 6.2 | R19: =(O19*O6+P19*P6+Q19*Q6)*R6 -> 2.301 | S19: 20 | T19: 100 | U19: 0 | V19: =SUM(S19:U19) -> 120 | W19: 6 | X19: 27 | Y19: 0 | Z19: =SUM(W19:Y19) -> 33 | AA19: =N19+R19-V19*0.005-Z19*0.01 -> 7.41025 | AB19: *
A20: =A19+1 -> 13 | B20: 32 | C20: 3C | D20: ILLANES Gazmuri Diego | E20: 10 | F20: 8.2 | G20: 4.9 | H20: 8.7 | I20: 8.6 | J20: 8.7 | K20: 8.3 | L20: 7.9 | M20: =MIN(10, 0.3*E20+0.1*F20+0.05*G20+0.1*H20+0.125*I20+0.125*J20+0.1*K20+0.1*L20) -> 8.7175 | N20: =M20*70/100 -> 6.10225 | O20: 8.9 | P20: 9.1 | Q20: 6.5 | R20: =(O20*O6+P20*P6+Q20*Q6)*R6 -> 2.616 | S20: 20 | T20: 40 | U20: 25 | V20: =SUM(S20:U20) -> 85 | W20: 18 | X20: 0 | Y20: 0 | Z20: =SUM(W20:Y20) -> 18 | AA20: =N20+R20-V20*0.005-Z20*0.01 -> 8.11325 | AB20: *
A21: =A20+1 -> 14 | B21: 300 | C21: 3L | D21: CARVAJAL Vasquez Benjamín | E21: 10 | F21: 8.2 | G21: 3.2 | H21: 8.6 | I21: 8.2 | J21: 8.7 | K21: 8.7 | L21: 7.9 | M21: =MIN(10, 0.3*E21+0.1*F21+0.05*G21+0.1*H21+0.125*I21+0.125*J21+0.1*K21+0.1*L21) -> 8.6125 | N21: =M21*70/100 -> 6.02875 | O21: 8.9 | P21: 8.1 | Q21: 6.2 | R21: =(O21*O6+P21*P6+Q21*Q6)*R6 -> 2.517 | S21: 45 | T21: 70 | U21: 25 | V21: =SUM(S21:U21) -> 140 | W21: 0 | X21: 0 | Y21: 7 | Z21: =SUM(W21:Y21) -> 7 | AA21: =N21+R21-V21*0.005-Z21*0.01 -> 7.77575 | AB21: *
A22: =A21+1 -> 15 | B22: 52 | C22: 3L | D22: ANGULO Munita Martín | E22: 8 | F22: 8 | G22: 5.7 | H22: 7.8 | I22: 7.2 | J22: 7.4 | K22: 8 | L22: 7.6 | M22: =MIN(10, 0.3*E22+0.1*F22+0.05*G22+0.1*H22+0.125*I22+0.125*J22+0.1*K22+0.1*L22) -> 7.65 | N22: =M22*70/100 -> 5.355 | O22: 7.8 | P22: 8.9 | Q22: 6.9 | R22: =(O22*O6+P22*P6+Q22*Q6)*R6 -> 2.412 | S22: 70 | T22: 295 | U22: 75 | V22: =SUM(S22:U22) -> 440 | W22: 8 | X22: 0 | Y22: 0 | Z22: =SUM(W22:Y22) -> 8 | AA22: =N22+R22-V22*0.005-Z22*0.01 -> 5.487 | AB22: *
A23: =A22+1 -> 16 | B23: 59 | C23: 3L | D23: COLIPI Montero Vicente | E23: 10 | F23: 8.3 | G23: 5.6 | H23: 8.2 | I23: 8.6 | J23: 8.3 | K23: 8.8 | L23: 8.6 | M23: =MIN(10, 0.3*E23+0.1*F23+0.05*G23+0.1*H23+0.125*I23+0.125*J23+0.1*K23+0.1*L23) -> 8.7825 | N23: =M23*70/100 -> 6.14775 | O23: 8.9 | P23: 9.3 | Q23: 6.9 | R23: =(O23*O6+P23*P6+Q23*Q6)*R6 -> 2.646 | S23: 40 | T23: 35 | U23: 0 | V23: =SUM(S23:U23) -> 75 | W23: 105 | X23: 0 | Y23: 0 | Z23: =SUM(W23:Y23) -> 105 | AA23: =N23+R23-V23*0.005-Z23*0.01 -> 7.36875 | AB23: *
A24: =A23+1 -> 17 | B24: 381 | C24: 3A | D24: URQUIZA Casas-Cordero Fabián | E24: 10 | F24: 8.2 | G24: 3.4 | H24: 8.8 | I24: 8.7 | J24: 8.6 | K24: 8.4 | L24: 7.9 | M24: =MIN(10, 0.3*E24+0.1*F24+0.05*G24+0.1*H24+0.125*I24+0.125*J24+0.1*K24+0.1*L24) -> 8.6625 | N24: =M24*70/100 -> 6.06375 | O24: 8.8 | P24: 9.2 | Q24: 6.1 | R24: =(O24*O6+P24*P6+Q24*Q6)*R6 -> 2.595 | S24: 25 | T24: 0 | U24: 0 | V24: =SUM(S24:U24) -> 25 | W24: 212 | X24: 3 | Y24: 3 | Z24: =SUM(W24:Y24) -> 218 | AA24: =N24+R24-V24*0.005-Z24*0.01 -> 6.35375 | AB24: *
V25: ** EN GRIS AQUELLOS CON FALTA GV
P28: D
