Workbook

Sheet EJER demo
A1: FECHA | B1: DETALLE | D1: DEBE | E1: HABER
A2: 44317 | B2: 1 | G2: CAJA | J2: CAPITAL
B3: CAJA | D3: 3000000 | G3: 3000000 | H3: 4000000 | K3: 8000000
B4: MERCADERIAS | D4: 5000000 | G4: 2500000 | H4: 3000000 | K4: 8000000
C5: CAPITAL | E5: 8000000 | G5: 2500000 | H5: 1600000 | K5: SA
B6: Glosa: Aportes de Capital | G6: 3000000
A7: 44318 | B7: 2 | G7: 500000
B8: VEHICULOS | D8: 3000000 | G8: =SUM(G3:G7) -> 11500000 | H8: =SUM(H3:H7) -> 8600000
C9: ACREEDORES | E9: 3000000 | G9: =+G8-H8 -> 2900000
B10: Glosa: Compra de Vehiculo | G10: SD
A11: 44322 | B11: 3 | G11: MERCADERIAS | J11: VEHICULOS
B12: CAJA | D12: 2500000 | G12: 5000000 | H12: 2500000 | J12: 3000000
B13: CLIENTES | D13: 2500000 | G13: 4000000 | H13: 2800000
C14: VENTAS | E14: 5000000 | H14: 2500000 | J14: 3000000
B15: COSTO VENTA | D15: 2500000 | G15: =SUM(G12:G14) -> 9000000 | H15: =SUM(H12:H14) -> 7800000 | J15: SD
C16: MERCADERIAS | E16: 2500000 | G16: =+G15-H15 -> 1200000
B17: Glosa: Venta de Mercaderías | G17: SD
A18: 44326 | B18: 4
B19: MERCADERIAS | D19: 4000000
C20: CAJA | E20: 4000000 | G20: ACREEDORES | J20: CLIENTES
B21: Glosa: Compra de Mercaderías | G21: 3000000 | H21: 3000000 | J21: 2500000 | K21: 2500000
A22: 44328 | B22: 5 | H22: 20000000 | J22: 3000000
B23: CLIENTES | D23: 3000000 | G23: =SUM(G21:G22) -> 3000000 | H23: =SUM(H21:H22) -> 23000000 | J23: =SUM(J21:J22) -> 5500000 | K23: =SUM(K21:K22) -> 2500000
C24: VENTAS | E24: 3000000 | H24: 20000000 | J24: =+J23-K23 -> 3000000
B25: COSTO VENTA | D25: 2800000 | H25: SA | J25: SD
C26: MERCADERIAS | E26: 2800000
B27: Glosa: Venta de Mercaderias
A28: 44330 | B28: 6
B29: CAJA | D29: 2500000 | G29: VENTAS | J29: COSTO VENTA
C30: CLIENTES | E30: 2500000 | H30: 5000000 | J30: 2500000
B31: Glosa: Pago de deuda | H31: 3000000 | J31: 2800000
A32: 44331 | B32: 7 | H32: 3000000 | J32: 2500000
B33: BIEN RAIZ | D33: 20000000 | H33: =SUM(H30:H32) -> 11000000 | J33: =SUM(J30:J32) -> 7800000
C34: ACREEDORES | E34: 20000000 | H34: SA | J34: SD
B35: Glosa: compra de BBRR
A36: 44336 | B36: 8
B37: ACREEDORES | D37: 3000000 | G37: BIEN RAIZ | J37: ARRIENDOS PERCIBIDOS
C38: CAJA | E38: 3000000 | G38: 20000000 | K38: 500000
B39: Glosa: pago de acreedores | G39: 20000000 | K39: 500000
A40: 44339 | B40: 9 | G40: SD | K40: SA
...

Sheet Hoja1
B2: BALANCE TABULAR A 8 COLUMNAS
A3: CUENTAS | B3: DEBITOS | C3: CREDITOS | D3: S.DEUDOR | E3: S.ACREEDOR | F3: ACTIVO | G3: PASIVO | H3: PERDIDA | I3: GANANCIA
A4: CAJA | B4: =+'EJER demo'!G8 -> 11500000 | C4: =+'EJER demo'!H8 -> 8600000 | D4: =+'EJER demo'!G9 -> 2900000 | F4: =+D4 -> 2900000
A5: MERCADERIAS | B5: =+'EJER demo'!G15 -> 9000000 | C5: =+'EJER demo'!H15 -> 7800000 | D5: =+'EJER demo'!G16 -> 1200000 | F5: =+D5 -> 1200000
A6: VEHICULOS | B6: =+'EJER demo'!J14 -> 3000000 | C6: 0 | D6: =+'EJER demo'!J14 -> 3000000 | F6: =+D6 -> 3000000
A7: CLIENTES | B7: =+'EJER demo'!J23 -> 5500000 | C7: =+'EJER demo'!K23 -> 2500000 | D7: =+'EJER demo'!J24 -> 3000000 | F7: =+D7 -> 3000000
A8: BIEN RAIZ | B8: =+'EJER demo'!G38 -> 20000000 | C8: =+'EJER demo'!H38 -> 0 | D8: =+'EJER demo'!G39 -> 20000000 | F8: =+D8 -> 20000000
A9: CAPITAL | B9: =+'EJER demo'!J3 -> 0 | C9: =+'EJER demo'!K3 -> 8000000 | E9: =+'EJER demo'!K4 -> 8000000 | G9: =+E9 -> 8000000
A10: ACREEDORES | B10: =+'EJER demo'!G23 -> 3000000 | C10: =+'EJER demo'!H23 -> 23000000 | E10: =+'EJER demo'!H24 -> 20000000 | G10: =+E10 -> 20000000
A11: COSTO VENTA | B11: =+'EJER demo'!J33 -> 7800000 | C11: =+'EJER demo'!K33 -> 0 | D11: =+'EJER demo'!J33 -> 7800000 | H11: =+D11 -> 7800000
A12: REMUNERACIONES | B12: =+'EJER demo'!G47 -> 1600000 | C12: =+'EJER demo'!H47 -> 0 | D12: =+'EJER demo'!G48 -> 1600000 | H12: =+D12 -> 1600000
A13: VENTAS | B13: =+'EJER demo'!G33 -> 0 | C13: =+'EJER demo'!H33 -> 11000000 | E13: =+'EJER demo'!H33 -> 11000000 | I13: =+E13 -> 11000000
A14: ARRIENDOS PERCIBIDOS | B14: =+'EJER demo'!J38 -> 0 | C14: =+'EJER demo'!K38 -> 500000 | E14: =+'EJER demo'!K39 -> 500000 | I14: =+E14 -> 500000
A15: SUB TOTAL | B15: =SUM(B4:B14) -> 61400000 | C15: =SUM(C4:C14) -> 61400000 | D15: =SUM(D4:D14) -> 39500000 | E15: =SUM(E4:E14) -> 39500000 | F15: =SUM(F4:F14) -> 30100000 | G15: =SUM(G4:G14) -> 28000000 | H15: =SUM(H4:H14) -> 9400000 | I15: =SUM(I4:I14) -> 11500000
A16: RESULTADO DEL EJERC | G16: =+F15-G15 -> 2100000 | H16: =+I15-H15 -> 2100000
A17: TOTAL | B17: =+B15+B16 -> 61400000 | C17: =+C15+C16 -> 61400000 | D17: =+D15+D16 -> 39500000 | E17: =+E15+E16 -> 39500000 | F17: =+F15+F16 -> 30100000 | G17: =+G15+G16 -> 30100000 | H17: =+H15+H16 -> 11500000 | I17: =+I15+I16 -> 11500000
