Workbook

Sheet Condiciones
B1: Condiciones previas a la carga:
B2: Calado proa | C2: 2 | D2: mt
B3: Calado popa | C3: 4 | D3: mt
B4: Lastre peak de proa | C4: 20 | D4: Tons
B5: KG inicial | C5: 6 | D5: mts
B6: Cuaderna Maestra (desde proa) | C6: 38 | D6: mt
B7: G longitudinal | C7: 44 | D7: mts
B8: Calado medio | C8: 3 | D8: mts
B9: toneladas por centimetros de inmersión | C9: 14.5 | D9: tn
B10: MANGA | C10: 12 | D10: MTS
B11: Alimentos no pueden ir adyacentes a químicos ni lubricantes
B12: Químicos no pueden ir adyacentes a lubricantes
B13: Químicos y lubricantes deben ir sobre cubierta, posición 4 hacia arriba
B14: Limitaciones
B15: Peso máximo por columna | C15: 150 | D15: Tons
B17: 1er zarpe | C17: carga (Ton) | D17: Calado medio (m) | E17: KB(m) | F17: KG (m) | G17: BM (m) | H17: KM (m) | I17: GM (m) | J17: estabilidad | K17: CG(X) | L17: CG(Y) | M17: CG(Z)
B18: desplazamiento | C18: 4220 | D18: 3 | E18: - | F18: - | G18: - | H18: - | I18: - | J18: - | K18: - | L18: - | M18: -
B19: carga | C19: =SUM(Pesos!C7:C126) -> 3185 | D19: =(C19/C9)/100 -> 2.1965517 | E19: - | F19: - | G19: - | H19: - | I19: - | J19: - | K19: - | L19: - | M19: -
B20: total | C20: =SUM(C18:C19) -> 7405 | D20: =SUM(D18:D19) -> 5.1965517 | E20: 3 | F20: =Pesos!U116 -> 5.1941931 | G20: =(C10*C10)/(D20*12) -> 2.3092236 | H20: =E20+G20 -> 5.3092236 | I20: =F20-H20 -> -0.11503051 | J20: =IF(I20<0,"inestable",IF(AND(I20>0,I20<1),"poco estable","estable")) -> inestable | K20: =Pesos!Q116 -> 20.546793 | L20: =Pesos!U116 -> 5.1941931 | M20: =Pesos!S116 -> 0.045239703
B22: Zarpe Callao | C22: carga (Ton) | D22: Calado medio (m) | E22: KB(m) | F22: KG (m) | G22: BM (m) | H22: KM (m) | I22: GM (m) | J22: estabilidad | K22: CG(X) | L22: CG(Y) | M22: CG(Z)
B23: desplazamiento | C23: 4220 | D23: 3 | E23: - | F23: - | G23: - | H23: - | I23: - | J23: - | K23: - | L23: - | M23: -
B24: carga | C24: =C19-Pesos!O117 -> 2756 | D24: =(C24/$C$9)/100 -> 1.9006897 | E24: - | F24: - | G24: - | H24: - | I24: - | J24: - | K24: - | L24: - | M24: -
B25: total | C25: =SUM(C23:C24) -> 6976 | D25: =SUM(D23:D24) -> 4.9006897 | E25: 2.88 | F25: =L25 -> 4.1890768 | G25: =($C$10*$C$10)/(D25*12) -> 2.448635 | H25: =E25+G25 -> 5.328635 | I25: =F25-H25 -> -1.1395581 | J25: =IF(I25<0,"inestable",IF(AND(I25>0,I25<1),"poco estable","estable")) -> inestable | K25: =Pesos!Q118 -> 26.111239 | L25: =Pesos!U118 -> 4.1890768 | M25: =Pesos!S118 -> 0.05733945
B27: Zarpe Guayaquil | C27: carga (Ton) | D27: Calado medio (m) | E27: KB(m) | F27: KG (m) | G27: BM (m) | H27: KM (m) | I27: GM (m) | J27: estabilidad | K27: CG(X) | L27: CG(Y) | M27: CG(Z)
B28: desplazamiento | C28: 4220 | D28: 3 | E28: - | F28: - | G28: - | H28: - | I28: - | J28: - | K28: - | L28: - | M28: -
B29: carga | C29: =C24-Pesos!O119 -> 2439 | D29: =(C29/$C$9)/100 -> 1.682069 | E29: - | F29: - | G29: - | H29: - | I29: - | J29: - | K29: - | L29: - | M29: -
B30: total | C30: =SUM(C28:C29) -> 6659 | D30: =SUM(D28:D29) -> 4.682069 | E30: 2.63 | F30: =L30 -> 4.0238775 | G30: =($C$10*$C$10)/(D30*12) -> 2.5629695 | H30: =E30+G30 -> 5.1929695 | I30: =F30-H30 -> -1.169092 | J30: =IF(I30<0,"inestable",IF(AND(I30>0,I30<1),"poco estable","estable")) -> inestable | K30: =Pesos!Q120 -> 26.546328 | L30: =Pesos!U120 -> 4.0238775 | M30: =Pesos!S120 -> 0.03393903
B32: Zarpe Panamá | C32: carga (Ton) | D32: Calado medio (m) | E32: KB(m) | F32: KG (m) | G32: BM (m) | H32: KM (m) | I32: GM (m) | J32: estabilidad | K32: CG(X) | L32: CG(Y) | M32: CG(Z)
B33: desplazamiento | C33: 4220 | D33: 3 | E33: - | F33: - | G33: - | H33: - | I33: - | J33: - | K33: - | L33: - | M33: -
B34: carga | C34: =C29-Pesos!O121 -> 1644 | D34: =(C34/$C$9)/100 -> 1.1337931 | E34: - | F34: - | G34: - | H34: - | I34: - | J34: - | K34: - | L34: - | M34: -
B35: total | C35: =SUM(C33:C34) -> 5864 | D35: =SUM(D33:D34) -> 4.1337931 | E35: 2.38 | F35: =L35 -> 4.7266371 | G35: =($C$10*$C$10)/(D35*12) -> 2.9029029 | H35: =E35+G35 -> 5.2829029 | I35: =F35-H35 -> -0.5562658 | J35: =IF(I35<0,"inestable",IF(AND(I35>0,I35<1),"poco estable","estable")) -> inestable | K35: =Pesos!Q122 -> 31.302524 | L35: =Pesos!U122 -> 4.7266371 | M35: =Pesos!S122 -> 0.016712142
B37: Zarpe Cartagena | C37: carga (Ton) | D37: Calado medio (m) | E37: KB(m) | F37: KG (m) | G37: BM (m) | H37: KM (m) | I37: GM (m) | J37: estabilidad | K37: CG(X) | L37: CG(Y) | M37: CG(Z)
B38: desplazamiento | C38: 4220 | D38: 3 | E38: - | F38: - | G38: - | H38: - | I38: - | J38: - | K38: - | L38: - | M38: -
B39: carga | C39: =C34-Pesos!O123 -> 1436 | D39: =(C39/$C$9)/100 -> 0.99034483 | E39: - | F39: - | G39: - | H39: - | I39: - | J39: - | K39: - | L39: - | M39: -
B40: total | C40: =SUM(C38:C39) -> 5656 | D40: =SUM(D38:D39) -> 3.9903448 | E40: 2.3 | F40: =L40 -> 4.7892504 | G40: =($C$10*$C$10)/(D40*12) -> 3.0072589 | H40: =E40+G40 -> 5.3072589 | I40: =F40-H40 -> -0.51800855 | J40: =IF(I40<0,"inestable",IF(AND(I40>0,I40<1),"poco estable","estable")) -> inestable | K40: =Pesos!Q124 -> 32.755304 | L40: =Pesos!U124 -> 4.7892504 | M40: =Pesos!S124 -> 0
B42: Recalada a Houston | C42: carga (Ton) | D42: Calado medio (m) | E42: KB(m) | F42: KG (m) | G42: BM (m) | H42: KM (m) | I42: GM (m) | J42: estabilidad | K42: CG(X) | L42: CG(Y) | M42: CG(Z)
B43: desplazamiento | C43: 4220 | D43: 3 | E43: - | F43: - | G43: - | H43: - | I43: - | J43: - | K43: - | L43: - | M43: -
B44: carga | C44: =C39-Pesos!O125 -> 0 | D44: =(C44/$C$9)/100 -> 0 | E44: - | F44: - | G44: - | H44: - | I44: - | J44: - | K44: - | L44: - | M44: -
B45: total | C45: =SUM(C43:C44) -> 4220 | D45: =SUM(D43:D44) -> 3 | E45: 1.88 | F45: =L45 -> 6.8530806 | G45: =($C$10*$C$10)/(D45*12) -> 4 | H45: =E45+G45 -> 5.88 | I45: =F45-H45 -> 0.97308057 | J45: =IF(I45<0,"inestable",IF(AND(I45>0,I45<1),"poco estable","estable")) -> poco estable | K45: =Pesos!Q126 -> 39.602607 | L45: =Pesos!U126 -> 6.8530806 | M45: =Pesos!S126 -> -0.092180095

Sheet Pesos
P1: longitudinal
M3: 12 | N3: 5 | O3: -2 | P3: -9 | Q3: -16 | R3: -23 | S3: -30 | T3: -37
C4: Peso | D4: Destino | E4: D_Vert | F4: D_Lat | G4: D_Long | H4: M_V | I4: M_Lat | J4: M_Long | N4: TIER 5 | O4: 16 MTS
B5: Buque+LASTRE | C5: 4220 | E5: 6 | F5: 0 | G5: 44 | H5: =C5*E5 -> 25320 | I5: =F5*C5 -> 0 | J5: =G5*C5 -> 185680 | L5: 10
A6: Cont. | M6: Lubricante_17 | N6: Lubricante_21 | O6: Lubricante_5 | U6: -5
A7: 1 | B7: General_1 | C7: 18 | D7: Callao | E7: 7 | F7: 2 | G7: -9 | H7: =C7*E7 -> 126 | I7: =C7*F7 -> 36 | J7: =G7*C7 -> -162 | M7: Lubricante_18 | N7: Lubricante_22 | O7: Lubricante_6 | U7: -2
A8: 2 | B8: General_2 | C8: 23 | D8: Callao | E8: 7 | F8: 2 | G8: -9 | H8: =C8*E8 -> 161 | I8: =C8*F8 -> 46 | J8: =C8*G8 -> -207 | M8: Lubricante_19 | N8: Lubricante_23 | O8: Lubricante_7 | Q8: Químico_3 | R8: Químico_1 | U8: 2
A9: 3 | B9: General_3 | C9: 24 | D9: Callao | E9: 7 | F9: 2 | G9: -30 | H9: =C9*E9 -> 168 | I9: =C9*F9 -> 48 | J9: =C9*G9 -> -720 | M9: Lubricante_20 | N9: Lubricante_24 | O9: Lubricante_8 | Q9: Químico_4 | R9: Químico_2 | U9: 5
A10: 4 | B10: General_4 | C10: 22 | D10: Callao | E10: 7 | F10: 5 | G10: -30 | H10: =C10*E10 -> 154 | I10: =C10*F10 -> 110 | J10: =C10*G10 -> -660
A11: 5 | B11: General_5 | C11: 18 | D11: Guayaquil | E11: 3 | F11: -5 | G11: -30 | H11: =C11*E11 -> 54 | I11: =C11*F11 -> -90 | J11: =C11*G11 -> -540 | K11: vert | V11: lat
A12: 6 | B12: General_6 | C12: 16 | D12: Guayaquil | E12: 3 | F12: -2 | G12: -30 | H12: =C12*E12 -> 48 | I12: =C12*F12 -> -32 | J12: =C12*G12 -> -480 | N12: TIER 4 | O12: 13 MTS
A13: 7 | B13: General_7 | C13: 22 | D13: Guayaquil | E13: 3 | F13: 2 | G13: -30 | H13: =C13*E13 -> 66 | I13: =C13*F13 -> 44 | J13: =C13*G13 -> -660 | L13: 7 | U13: BABOR
A14: 8 | B14: General_8 | C14: 26 | D14: Guayaquil | E14: 3 | F14: 5 | G14: -30 | H14: =C14*E14 -> 78 | I14: =C14*F14 -> 130 | J14: =C14*G14 -> -780 | M14: Lubricante_9 | N14: Lubricante_13 | O14: Lubricante_1 | Q14: Químico_13 | R14: Químico_7 | S14: Químico_5 | U14: -5
A15: 9 | B15: General_9 | C15: 14 | D15: Guayaquil | E15: 3 | F15: -5 | G15: -37 | H15: =C15*E15 -> 42 | I15: =C15*F15 -> -70 | J15: =C15*G15 -> -518 | M15: Lubricante_10 | N15: Lubricante_14 | O15: Lubricante_2 | Q15: Químico_14 | R15: Químico_8 | S15: Químico_6 | U15: -2
A16: 10 | B16: General_10 | C16: 17 | D16: Guayaquil | E16: 3 | F16: -5 | G16: -30 | H16: =C16*E16 -> 51 | I16: =C16*F16 -> -85 | J16: =C16*G16 -> -510 | M16: Lubricante_11 | N16: Lubricante_15 | O16: Lubricante_3 | P16: General_1 | Q16: Químico_15 | R16: Químico_9 | S16: General_3 | T16: Químico_11 | U16: 2
A17: 11 | B17: General_11 | C17: 22 | D17: Guayaquil | E17: 3 | F17: -2 | G17: -23 | H17: =C17*E17 -> 66 | I17: =C17*F17 -> -44 | J17: =C17*G17 -> -506 | M17: Lubricante_12 | N17: Lubricante_16 | O17: Lubricante_4 | P17: General_2 | Q17: Químico_16 | R17: Químico_10 | S17: General_4 | T17: Químico_12 | U17: 5
A18: 12 | B18: General_12 | C18: 12 | D18: Guayaquil | E18: 3 | F18: 5 | G18: -37 | H18: =C18*E18 -> 36 | I18: =C18*F18 -> 60 | J18: =C18*G18 -> -444 | U18: ESTRIBOR
A19: 13 | B19: General_13 | C19: 22 | D19: Guayaquil | E19: 3 | F19: 2 | G19: -23 | H19: =C19*E19 -> 66 | I19: =C19*F19 -> 44 | J19: =C19*G19 -> -506
A20: 14 | B20: General_14 | C20: 17 | D20: Guayaquil | E20: 3 | F20: 5 | G20: -23 | H20: =C20*E20 -> 51 | I20: =C20*F20 -> 85 | J20: =C20*G20 -> -391 | N20: TIER 3 | O20: 9 MTS
A21: 15 | B21: General_15 | C21: 26 | D21: Panamá | E21: 3 | F21: -5 | G21: 5 | H21: =C21*E21 -> 78 | I21: =C21*F21 -> -130 | J21: =C21*G21 -> 130 | L21: 3 | U21: BABOR
A22: 16 | B22: General_16 | C22: 15 | D22: Panamá | E22: 3 | F22: -2 | G22: 5 | H22: =C22*E22 -> 45 | I22: =C22*F22 -> -30 | J22: =C22*G22 -> 75 | N22: General_15 | R22: General_10 | S22: General_5 | T22: General_9 | U22: -5
A23: 17 | B23: General_17 | C23: 18 | D23: Panamá | E23: 3 | F23: 2 | G23: 5 | H23: =C23*E23 -> 54 | I23: =C23*F23 -> 36 | J23: =C23*G23 -> 90 | N23: General_16 | R23: General_11 | S23: General_6 | U23: -2
A24: 18 | B24: General_18 | C24: 19 | D24: Panamá | E24: 3 | F24: 5 | G24: 5 | H24: =C24*E24 -> 57 | I24: =C24*F24 -> 95 | J24: =C24*G24 -> 95 | N24: General_17 | R24: General_13 | S24: General_7 | U24: 2
A25: 19 | B25: General_19 | C25: 24 | D25: Panamá | E25: 0 | F25: 2 | G25: -16 | H25: =C25*E25 -> 0 | I25: =C25*F25 -> 48 | J25: =C25*G25 -> -384 | N25: General_18 | R25: General_14 | S25: General_8 | T25: General_12 | U25: 5
A26: 20 | B26: General_20 | C26: 25 | D26: Panamá | E26: 0 | F26: 5 | G26: -16 | H26: =C26*E26 -> 0 | I26: =C26*F26 -> 125 | J26: =C26*G26 -> -400 | U26: ESTRIBOR
A27: 21 | B27: General_21 | C27: 21 | D27: Houston | E27: 0 | F27: -5 | G27: -30 | H27: =C27*E27 -> 0 | I27: =C27*F27 -> -105 | J27: =C27*G27 -> -630
A28: 22 | B28: General_22 | C28: 18 | D28: Houston | E28: 0 | F28: -2 | G28: -30 | H28: =C28*E28 -> 0 | I28: =C28*F28 -> -36 | J28: =C28*G28 -> -540 | N28: TIER 2 | O28: 6 MTS
A29: 23 | B29: General_23 | C29: 17 | D29: Houston | E29: 0 | F29: 2 | G29: -30 | H29: =C29*E29 -> 0 | I29: =C29*F29 -> 34 | J29: =C29*G29 -> -510 | L29: 0
A30: 24 | B30: General_24 | C30: 24 | D30: Houston | E30: 0 | F30: 5 | G30: -30 | H30: =C30*E30 -> 0 | I30: =C30*F30 -> 120 | J30: =C30*G30 -> -720 | M30: Alimentos_1 | N30: Alimentos_5 | O30: General_27 | P30: Alimentos_13 | Q30: Alimentos_17 | R30: Alimentos_9 | S30: General_21 | T30: General_25 | U30: -5
A31: 25 | B31: General_25 | C31: 15 | D31: Houston | E31: 0 | F31: -5 | G31: -35 | H31: =C31*E31 -> 0 | I31: =C31*F31 -> -75 | J31: =C31*G31 -> -525 | M31: Alimentos_2 | N31: Alimentos_6 | O31: General_28 | P31: Alimentos_14 | Q31: Alimentos_18 | R31: Alimentos_10 | S31: General_22 | T31: General_26 | U31: -2
A32: 26 | B32: General_26 | C32: 19 | D32: Houston | E32: 0 | F32: -2 | G32: -37 | H32: =C32*E32 -> 0 | I32: =C32*F32 -> -38 | J32: =C32*G32 -> -703 | M32: Alimentos_3 | N32: Alimentos_7 | O32: General_29 | P32: Alimentos_15 | Q32: General_19 | R32: Alimentos_11 | S32: General_23 | T32: General_31 | U32: 2
A33: 27 | B33: General_27 | C33: 15 | D33: Houston | E33: 0 | F33: -5 | G33: -2 | H33: =C33*E33 -> 0 | J33: =C33*G33 -> -30 | M33: Alimentos_4 | N33: Alimentos_8 | O33: General_30 | P33: Alimentos_16 | Q33: General_20 | R33: Alimentos_12 | S33: General_24 | T33: General_32 | U33: 5
A34: 28 | B34: General_28 | C34: 23 | D34: Houston | E34: 0 | F34: -2 | G34: -2 | H34: =C34*E34 -> 0 | I34: =C34*F34 -> -46 | J34: =C34*G34 -> -46
A35: 29 | B35: General_29 | C35: 18 | D35: Houston | E35: 0 | F35: 2 | G35: -2 | H35: =C35*E35 -> 0 | I35: =C35*F35 -> 36 | J35: =C35*G35 -> -36
A36: 30 | B36: General_30 | C36: 19 | D36: Houston | E36: 0 | F36: 5 | G36: -2 | H36: =C36*E36 -> 0 | I36: =C36*F36 -> 95 | J36: =C36*G36 -> -38 | N36: TIER 1 | O36: 3 MTS
A37: 31 | B37: General_31 | C37: 22 | D37: Houston | E37: 0 | F37: -2 | G37: -37 | H37: =C37*E37 -> 0 | I37: =C37*F37 -> -44 | J37: =C37*G37 -> -814 | L37: -3
A38: 32 | B38: General_32 | C38: 25 | D38: Houston | E38: 0 | F38: -2 | G38: -37 | H38: =C38*E38 -> 0 | I38: =C38*F38 -> -50 | J38: =C38*G38 -> -925 | M38: Cobre_1 | N38: Cobre_5 | O38: Cobre_9 | P38: Cobre_13 | Q38: Cobre_17 | R38: Cobre_21 | S38: Cobre_25 | T38: Cobre_29 | U38: -5
A39: 33 | B39: Lubricante_1 | C39: 26 | D39: Cartagena | E39: 7 | F39: -5 | G39: -2 | H39: =C39*E39 -> 182 | I39: =C39*F39 -> -130 | J39: =C39*G39 -> -52 | M39: Cobre_2 | N39: Cobre_6 | O39: Cobre_10 | P39: Cobre_14 | Q39: Cobre_18 | R39: Cobre_22 | S39: Cobre_26 | T39: Cobre_30 | U39: -2
A40: 34 | B40: Lubricante_2 | C40: 26 | D40: Cartagena | E40: 7 | F40: -2 | G40: -2 | H40: =C40*E40 -> 182 | I40: =C40*F40 -> -52 | J40: =C40*G40 -> -52 | M40: Cobre_3 | N40: Cobre_7 | O40: Cobre_11 | P40: Cobre_15 | Q40: Cobre_19 | R40: Cobre_23 | S40: Cobre_27 | U40: 2
A41: 35 | B41: Lubricante_3 | C41: 26 | D41: Cartagena | E41: 7 | F41: 2 | G41: -2 | H41: =C41*E41 -> 182 | I41: =C41*F41 -> 52 | J41: =C41*G41 -> -52 | M41: Cobre_4 | N41: Cobre_8 | O41: Cobre_12 | P41: Cobre_16 | Q41: Cobre_20 | R41: Cobre_24 | S41: Cobre_28 | U41: 5
A42: 36 | B42: Lubricante_4 | C42: 26 | D42: Cartagena | E42: 7 | F42: 5 | G42: -2 | H42: =C42*E42 -> 182 | I42: =C42*F42 -> 130 | J42: =C42*G42 -> -52
A43: 37 | B43: Lubricante_5 | C43: 26 | D43: Cartagena | E43: 10 | F43: -5 | G43: -2 | H43: =C43*E43 -> 260 | I43: =C43*F43 -> -130 | J43: =C43*G43 -> -52
A44: 38 | B44: Lubricante_6 | C44: 26 | D44: Cartagena | E44: 10 | F44: -2 | G44: -2 | H44: =C44*E44 -> 260 | I44: =C44*F44 -> -52 | J44: =C44*G44 -> -52
A45: 39 | B45: Lubricante_7 | C45: 26 | D45: Cartagena | E45: 10 | F45: 2 | G45: -2 | H45: =C45*E45 -> 260 | I45: =C45*F45 -> 52 | J45: =C45*G45 -> -52
A46: 40 | B46: Lubricante_8 | C46: 26 | D46: Cartagena | E46: 10 | F46: 5 | G46: -2 | H46: =C46*E46 -> 260 | I46: =C46*F46 -> 130 | J46: =C46*G46 -> -52
A47: 41 | B47: Lubricante_9 | C47: 26 | D47: Panamá | E47: 7 | F47: -5 | G47: 12 | H47: =C47*E47 -> 182 | I47: =C47*F47 -> -130 | J47: =C47*G47 -> 312
A48: 42 | B48: Lubricante_10 | C48: 26 | D48: Panamá | E48: 7 | F48: -2 | G48: 12 | H48: =C48*E48 -> 182 | I48: =C48*F48 -> -52 | J48: =C48*G48 -> 312
A49: 43 | B49: Lubricante_11 | C49: 26 | D49: Panamá | E49: 7 | F49: 2 | G49: 12 | H49: =C49*E49 -> 182 | I49: =C49*F49 -> 52 | J49: =C49*G49 -> 312
A50: 44 | B50: Lubricante_12 | C50: 26 | D50: Panamá | E50: 7 | F50: 5 | G50: 12 | H50: =C50*E50 -> 182 | I50: =C50*F50 -> 130 | J50: =C50*G50 -> 312
A51: 45 | B51: Lubricante_13 | C51: 26 | D51: Panamá | E51: 7 | F51: -5 | G51: 5 | H51: =C51*E51 -> 182 | I51: =C51*F51 -> -130 | J51: =C51*G51 -> 130
A52: 46 | B52: Lubricante_14 | C52: 26 | D52: Panamá | E52: 7 | F52: -2 | G52: 5 | H52: =C52*E52 -> 182 | I52: =C52*F52 -> -52 | J52: =C52*G52 -> 130
A53: 47 | B53: Lubricante_15 | C53: 26 | D53: Panamá | E53: 7 | F53: 2 | G53: 5 | H53: =C53*E53 -> 182 | I53: =C53*F53 -> 52 | J53: =C53*G53 -> 130
... A115: 109 | B115: Alimentos_7 | C115: 23 | D115: Panamá | E115: 0 | F115: 2 | G115: 5 | H115: =C115*E115 -> 0 | I115: =C115*F115 -> 46 | J115: =C115*G115 -> 115
A116: 110 | B116: Alimentos_8 | C116: 29 | D116: Panamá | E116: 0 | F116: 5 | G116: 5 | H116: =C116*E116 -> 0 | I116: =C116*F116 -> 145 | J116: =C116*G116 -> 145 | M116: CONDICION PRIMER ZARPE | O116: =C127 -> 7405 | P116: M_Long | Q116: =J127/C127 -> 20.546793 | R116: M_Lat | S116: =I127/C127 -> 0.045239703 | T116: M_V | U116: =H127/C127 -> 5.1941931
A117: 111 | B117: Alimentos_9 | C117: 10 | D117: Panamá | E117: 0 | F117: -5 | G117: -23 | H117: =C117*E117 -> 0 | I117: =C117*F117 -> -50 | J117: =C117*G117 -> -230 | M117: DESCARGA EN CALLAO | O117: 429
A118: 112 | B118: Alimentos_10 | C118: 15 | D118: Panamá | E118: 0 | F118: -2 | G118: -23 | H118: =C118*E118 -> 0 | I118: =C118*F118 -> -30 | J118: =C118*G118 -> -345 | M118: CONDICION SEGUNDO ZARPE | O118: 6976 | P118: M_Long | Q118: =(SUMIFS($J$7:$J$126,$D$7:$D$126,"Callao")+$J$5)/O118 -> 26.111239 | R118: M_Lat | S118: =(SUMIFS($I$5:$I$126,$D$5:$D$126,"Callao")+$I$5)/O118 -> 0.05733945 | T118: M_V | U118: =(SUMIFS($H$5:$H$126,$D$5:$D$126,"Callao")+$H$5)/O118 -> 4.1890768
A119: 113 | B119: Alimentos_11 | C119: 24 | D119: Panamá | E119: 0 | F119: 2 | G119: -23 | H119: =C119*E119 -> 0 | I119: =C119*F119 -> 48 | J119: =C119*G119 -> -552 | M119: DESCARGA EN GUAYAQUIL | O119: 317
A120: 114 | B120: Alimentos_12 | C120: 20 | D120: Panamá | E120: 0 | F120: 5 | G120: -23 | H120: =C120*E120 -> 0 | I120: =C120*F120 -> 100 | J120: =C120*G120 -> -460 | M120: TERCER ZARPE | O120: 6659 | P120: M_Long | Q120: =(SUMIFS($J$7:$J$126,$D$7:$D$126,"Guayaquil")+J5)/O120 -> 26.546328 | R120: M_Lat | S120: =(SUMIFS($I$5:$I$126,$D$5:$D$126,"Guayaquil")+$I$5)/O120 -> 0.03393903 | T120: M_V | U120: =(SUMIFS($H$5:$H$126,$D$5:$D$126,"Guayaquil")+$H$5)/O120 -> 4.0238775
A121: 115 | B121: Alimentos_13 | C121: 33 | D121: Panamá | E121: 0 | F121: -5 | G121: -9 | H121: =C121*E121 -> 0 | I121: =C121*F121 -> -165 | J121: =C121*G121 -> -297 | M121: DESCARGA PANAMÁ | O121: 795
A122: 116 | B122: Alimentos_14 | C122: 15 | D122: Panamá | E122: 0 | F122: -2 | G122: -9 | H122: =C122*E122 -> 0 | I122: =C122*F122 -> -30 | J122: =C122*G122 -> -135 | M122: CUARTO ZARPE | O122: 5864 | P122: M_Long | Q122: =(SUMIFS($J$7:$J$126,$D$7:$D$126,"Panamá")+J5)/O122 -> 31.302524 | R122: M_Lat | S122: =(SUMIFS($I$5:$I$126,$D$5:$D$126,"Panamá")+$I$5)/O122 -> 0.016712142 | T122: M_V | U122: =(SUMIFS($H$5:$H$126,$D$5:$D$126,"Panamá")+$H$5)/O122 -> 4.7266371
A123: 117 | B123: Alimentos_15 | C123: 27 | D123: Panamá | E123: 0 | F123: 2 | G123: -9 | H123: =C123*E123 -> 0 | I123: =C123*F123 -> 54 | J123: =C123*G123 -> -243 | M123: DESCARGA CARTAGENA | O123: 208
A124: 118 | B124: Alimentos_16 | C124: 20 | D124: Panamá | E124: 0 | F124: 5 | G124: -9 | H124: =C124*E124 -> 0 | I124: =C124*F124 -> 100 | J124: =C124*G124 -> -180 | M124: QUINTO ZARPE | O124: 5656 | P124: M_Long | Q124: =(SUMIFS($J$7:$J$126,$D$7:$D$126,"Cartagena")+J5)/O124 -> 32.755304 | R124: M_Lat | S124: =(SUMIFS($I$5:$I$126,$D$5:$D$126,"Cartagena")+$I$5)/O124 -> 0 | T124: M_V | U124: =(SUMIFS($H$5:$H$126,$D$5:$D$126,"Cartagena")+$H$5)/O124 -> 4.7892504
A125: 119 | B125: Alimentos_17 | C125: 22 | D125: Panamá | E125: 0 | F125: -5 | G125: -16 | H125: =C125*E125 -> 0 | I125: =C125*F125 -> -110 | J125: =C125*G125 -> -352 | M125: DESCARGA HOUSTON | O125: 1436
A126: 120 | B126: Alimentos_18 | C126: 20 | D126: Panamá | E126: 0 | F126: -2 | G126: -16 | H126: =C126*E126 -> 0 | I126: =C126*F126 -> -40 | J126: =C126*G126 -> -320 | M126: ULTIMA CONDICIÓN | O126: 4220 | P126: M_Long | Q126: =(SUMIFS($J$7:$J$126,$D$7:$D$126,"Houston")+J5)/O126 -> 39.602607 | R126: M_Lat | S126: =(SUMIFS($I$5:$I$126,$D$5:$D$126,"Houston")+$I$5)/O126 -> -0.092180095 | T126: M_V | U126: =(SUMIFS($H$5:$H$126,$D$5:$D$126,"Houston")+$H$5)/O126 -> 6.8530806
B127: TOTAL | C127: =SUM(C4:C126) -> 7405 | H127: =SUM(H4:H126) -> 38463 | I127: =SUM(I4:I126) -> 335 | J127: =SUM(J4:J126) -> 152149
H128: M_V | I128: M_Lat | J128: M_Long

Sheet posiciones
F2: PLANTA
D3: POPA | E3: A | F3: B | G3: C | H3: D | I3: E | J3: F | K3: G | L3: H | M3: PROA
M4: BABOR
D5: X | M5: -5
D6: Y | M6: -2
D7: Z | M7: 2
D8: W | M8: 5
M9: ESTRIBOR
E13: PERFIL | F13: Líneas segmentadas muestran la ubicación del centro de los contenedores
N14: Altura
E15: 6 | N15: 19
E16: 5 | N16: 16
E17: 4 | N17: 13
E19: 3 | N19: 9
E20: 2 | N20: 6
E21: 1 | M21: peak de | N21: 3
M22: proa
B23: POPA | E23: 56 | F23: 49 | G23: 42 | H23: 35 | I23: 28 | J23: 21 | K23: 14 | L23: 7 | M23: 4
M24: Mts. desde la proa

Sheet Plan de Estiba
D2: TIER 6 | E2: 19 MTS
B3: POPA | C3: A | D3: B | E3: C | F3: D | G3: E | H3: F | I3: G | J3: H | K3: BABOR
B4: X | K4: -5 | L4: PROA
B5: Y | K5: -2
B6: Z | K6: 2
B7: W | K7: 5
K8: ESTRIBOR
D10: TIER 5 | E10: 16 MTS
B11: POPA | C11: A | D11: B | E11: C | F11: D | G11: E | H11: F | I11: G | J11: H | K11: BABOR | M11: POPA | N11: A | O11: B | P11: C | Q11: D | R11: E | S11: F | T11: G | U11: H | V11: BABOR
B12: X | C12: Lubricante_17 | D12: Lubricante_21 | E12: Lubricante_5 | K12: -5 | L12: PROA | M12: X | N12: 26 | O12: 26 | P12: 26 | V12: -5 | W12: PROA
B13: Y | C13: Lubricante_18 | D13: Lubricante_22 | E13: Lubricante_6 | K13: -2 | M13: Y | N13: 26 | O13: 26 | P13: 26 | V13: -2
B14: Z | C14: Lubricante_19 | D14: Lubricante_23 | E14: Lubricante_7 | G14: Químico_3 | H14: Químico_1 | K14: 2 | M14: Z | N14: 26 | O14: 26 | P14: 26 | R14: 27 | S14: 15 | V14: 2
B15: W | C15: Lubricante_20 | D15: Lubricante_24 | E15: Lubricante_8 | G15: Químico_4 | H15: Químico_2 | K15: 5 | M15: W | N15: 26 | O15: 26 | P15: 26 | R15: 30 | S15: 20 | V15: 5
K16: ESTRIBOR | V16: ESTRIBOR
D18: TIER 4 | E18: 13 MTS
B19: POPA | C19: A | D19: B | E19: C | F19: D | G19: E | H19: F | I19: G | J19: H | K19: BABOR | M19: POPA | N19: A | O19: B | P19: C | Q19: D | R19: E | S19: F | T19: G | U19: H | V19: BABOR
B20: X | C20: Lubricante_9 | D20: Lubricante_13 | E20: Lubricante_1 | G20: Químico_13 | H20: Químico_7 | I20: Químico_5 | K20: -5 | L20: PROA | M20: X | N20: 26 | O20: 26 | P20: 26 | R20: 29 | S20: 17 | T20: 30 | V20: -5 | W20: PROA
B21: Y | C21: Lubricante_10 | D21: Lubricante_14 | E21: Lubricante_2 | G21: Químico_14 | H21: Químico_8 | I21: Químico_6 | K21: -2 | M21: Y | N21: 26 | O21: 26 | P21: 26 | R21: 20 | S21: 25 | T21: 12 | V21: -2
B22: Z | C22: Lubricante_11 | D22: Lubricante_15 | E22: Lubricante_3 | F22: General_1 | G22: Químico_15 | H22: Químico_9 | I22: General_3 | J22: Químico_11 | K22: 2 | M22: Z | N22: 26 | O22: 26 | P22: 26 | Q22: 18 | R22: 30 | S22: 29 | T22: 24 | U22: 13 | V22: 2
B23: W | C23: Lubricante_12 | D23: Lubricante_16 | E23: Lubricante_4 | F23: General_2 | G23: Químico_16 | H23: Químico_10 | I23: General_4 | J23: Químico_12 | K23: 5 | M23: W | N23: 26 | O23: 26 | P23: 26 | Q23: 23 | R23: 22 | S23: 20 | T23: 22 | U23: 27 | V23: 5
K24: ESTRIBOR | V24: ESTRIBOR
D26: TIER 3 | E26: 9 MTS
B27: POPA | C27: A | D27: B | E27: C | F27: D | G27: E | H27: F | I27: G | J27: H | K27: BABOR | M27: POPA | N27: A | O27: B | P27: C | Q27: D | R27: E | S27: F | T27: G | U27: H | V27: BABOR
B28: X | D28: General_15 | H28: General_10 | I28: General_5 | J28: General_9 | K28: -5 | L28: PROA | M28: X | O28: 26 | S28: 17 | T28: 18 | U28: 14 | V28: -5 | W28: PROA
B29: Y | D29: General_16 | H29: General_11 | I29: General_6 | K29: -2 | M29: Y | O29: 15 | S29: 22 | T29: 16 | V29: -2
B30: Z | D30: General_17 | H30: General_13 | I30: General_7 | K30: 2 | M30: Z | O30: 18 | S30: 22 | T30: 22 | V30: 2
B31: W | D31: General_18 | H31: General_14 | I31: General_8 | J31: General_12 | K31: 5 | M31: W | O31: 19 | S31: 17 | T31: 26 | U31: 12 | V31: 5
K32: ESTRIBOR | V32: ESTRIBOR
D34: TIER 2 | E34: 6 MTS
B35: POPA | C35: A | D35: B | E35: C | F35: D | G35: E | H35: F | I35: G | J35: H | K35: BABOR | M35: POPA | N35: A | O35: B | P35: C | Q35: D | R35: E | S35: F | T35: G | U35: H | V35: BABOR
B36: X | C36: Alimentos_1 | D36: Alimentos_5 | E36: General_27 | F36: Alimentos_13 | G36: Alimentos_17 | H36: Alimentos_9 | I36: General_21 | J36: General_25 | K36: -5 | L36: PROA | M36: X | N36: 14 | O36: 16 | P36: 15 | Q36: 33 | R36: 22 | S36: 10 | T36: 21 | U36: 15 | V36: -5 | W36: PROA
B37: Y | C37: Alimentos_2 | D37: Alimentos_6 | E37: General_28 | F37: Alimentos_14 | G37: Alimentos_18 | H37: Alimentos_10 | I37: General_22 | J37: General_26 | K37: -2 | M37: Y | N37: 16 | O37: 18 | P37: 23 | Q37: 15 | R37: 20 | S37: 15 | T37: 18 | U37: 19 | V37: -2
B38: Z | C38: Alimentos_3 | D38: Alimentos_7 | E38: General_29 | F38: Alimentos_15 | G38: General_19 | H38: Alimentos_11 | I38: General_23 | J38: General_31 | K38: 2 | M38: Z | N38: 22 | O38: 23 | P38: 18 | Q38: 27 | R38: 24 | S38: 24 | T38: 17 | U38: 22 | V38: 2
B39: W | C39: Alimentos_4 | D39: Alimentos_8 | E39: General_30 | F39: Alimentos_16 | G39: General_20 | H39: Alimentos_12 | I39: General_24 | J39: General_32 | K39: 5 | M39: W | N39: 15 | O39: 29 | P39: 19 | Q39: 20 | R39: 25 | S39: 20 | T39: 24 | U39: 25 | V39: 5
K40: ESTRIBOR | V40: ESTRIBOR
D42: TIER 1 | E42: 3 MTS
B43: POPA | C43: A | D43: B | E43: C | F43: D | G43: E | H43: F | I43: G | J43: H | K43: BABOR | M43: POPA | N43: A | O43: B | P43: C | Q43: D | R43: E | S43: F | T43: G | U43: H | V43: BABOR
B44: X | C44: Cobre_1 | D44: Cobre_5 | E44: Cobre_9 | F44: Cobre_13 | G44: Cobre_17 | H44: Cobre_21 | I44: Cobre_25 | J44: Cobre_29 | K44: -5 | L44: PROA | M44: X | N44: 40 | O44: 40 | P44: 40 | Q44: 40 | R44: 40 | S44: 40 | T44: 40 | U44: 40 | V44: -5 | W44: PROA | X44: =N44+N36+N28+N20+N12 -> 106 | Y44: =O44+O36+O28+O20+O12 -> 134 | Z44: =P44+P36+P28+P20+P12 -> 107 | AA44: =Q44+Q36+Q28+Q20+Q12 -> 73 | AB44: =R44+R36+R28+R20+R12 -> 91 | AC44: =S44+S36+S28+S20+S12 -> 84 | AD44: =T44+T36+T28+T20+T12 -> 109 | AE44: =U44+U36+U28+U20+U12 -> 69
B45: Y | C45: Cobre_2 | D45: Cobre_6 | E45: Cobre_10 | F45: Cobre_14 | G45: Cobre_18 | H45: Cobre_22 | I45: Cobre_26 | J45: Cobre_30 | K45: -2 | M45: Y | N45: 40 | O45: 40 | P45: 40 | Q45: 40 | R45: 40 | S45: 40 | T45: 40 | U45: 40 | V45: -2 | X45: =N45+N37+N29+N21+N13 -> 108 | Y45: =O45+O37+O29+O21+O13 -> 125 | Z45: =P45+P37+P29+P21+P13 -> 115 | AA45: =Q45+Q37+Q29+Q21+Q13 -> 55 | AB45: =R45+R37+R29+R21+R13 -> 80 | AC45: =S45+S37+S29+S21+S13 -> 102 | AD45: =T45+T37+T29+T21+T13 -> 86 | AE45: =U45+U37+U29+U21+U13 -> 59
B46: Z | C46: Cobre_3 | D46: Cobre_7 | E46: Cobre_11 | F46: Cobre_15 | G46: Cobre_19 | H46: Cobre_23 | I46: Cobre_27 | K46: 2 | M46: Z | N46: 40 | O46: 40 | P46: 40 | Q46: 40 | R46: 40 | S46: 40 | T46: 40 | V46: 2 | X46: =N46+N38+N30+N22+N14 -> 114 | Y46: =O46+O38+O30+O22+O14 -> 133 | Z46: =P46+P38+P30+P22+P14 -> 110 | AA46: =Q46+Q38+Q30+Q22+Q14 -> 85 | AB46: =R46+R38+R30+R22+R14 -> 121 | AC46: =S46+S38+S30+S22+S14 -> 130 | AD46: =T46+T38+T30+T22+T14 -> 103 | AE46: =U46+U38+U30+U22+U14 -> 35
B47: W | C47: Cobre_4 | D47: Cobre_8 | E47: Cobre_12 | F47: Cobre_16 | G47: Cobre_20 | H47: Cobre_24 | I47: Cobre_28 | K47: 5 | M47: W | N47: 40 | O47: 40 | P47: 40 | Q47: 40 | R47: 40 | S47: 40 | T47: 40 | V47: 5 | X47: =N47+N39+N31+N23+N15 -> 107 | Y47: =O47+O39+O31+O23+O15 -> 140 | Z47: =P47+P39+P31+P23+P15 -> 111 | AA47: =Q47+Q39+Q31+Q23+Q15 -> 83 | AB47: =R47+R39+R31+R23+R15 -> 117 | AC47: =S47+S39+S31+S23+S15 -> 117 | AD47: =T47+T39+T31+T23+T15 -> 112 | AE47: =U47+U39+U31+U23+U15 -> 64
K48: ESTRIBOR | V48: ESTRIBOR
X50: =SUM(X44:X47) -> 435 | Y50: =SUM(Y44:Y47) -> 532 | Z50: =SUM(Z44:Z47) -> 443 | AA50: =SUM(AA44:AA47) -> 296 | AB50: =SUM(AB44:AB47) -> 409 | AC50: =SUM(AC44:AC47) -> 433 | AD50: =SUM(AD44:AD47) -> 410 | AE50: =SUM(AE44:AE47) -> 227
X51: 20 | Y51: 40 | Z51: 60 | AA51: 80 | AB51: 100 | AC51: 120 | AD51: 140 | AE51: 160
