Workbook
Name LAB_1: Hoja2!$G$4:$G$156
Name LAB_2: Hoja2!$I$4:$I$156
Name NOMBRES: Hoja2!$E$4:$E$181
Name profes: Hoja2!$E$4:$E$126
Name profesores: Hoja2!$E$4:$E$149
Name SISTEMATICAS1: Hoja2!$F$4:$F$149
Name SISTEMATICAS2: Hoja2!$H$4:$H$149

Sheet COS
A1: Escuela Naval "A. Prat"
A2: Departamento Educación
A3: Unidad de Coordinación Académica
A5: HORAS DE CLASES POR CURSO - PROFESOR
A6: AÑO ACADÉMICO 2025
A7: CÁTEDRA : | D7: C.O.S.
D8: HORAS SEMANALES
A9: CURSO | C9: CÁTEDRA | D9: ASIGNATURAS | E9: 1er SEM. | G9: 2º SEM. | I9: PROFESOR
E10: SIST. | F10: LAB | G10: SIST. | H10: LAB
K11: 0 | L11: 0 | M11: 0 | N11: 0
A12: COS | D12: ÉTICA Y PROBIDAD | E12: 2 | K12: =E12 -> 2 | L12: =F12 -> 0 | M12: =G12 -> 0 | N12: =H12 -> 0
A13: COS | D13: REGLAMENTO | E13: 4 | K13: =E13 -> 4 | L13: =F13 -> 0 | M13: =G13 -> 0 | N13: =H13 -> 0
A14: COS | C14: ED FÍSICA | D14: EDUCACIÓN FÍSICA | E14: 6
A15: COS | D15: CEREMONIAL NAVAL | E15: 2 | K15: =E15 -> 2 | L15: =F15 -> 0 | M15: =G15 -> 0 | N15: =H15 -> 0
A16: COS | C16: MANDO Y LIDERAZGO | D16: MANDO Y LIDERAZGO | E16: 2 | K16: =E16 -> 2 | L16: =F16 -> 0 | M16: =G16 -> 0 | N16: =H16 -> 0
A17: COS | D17: INSTRUCCIÓN MILITAR | E17: 6 | K17: =E17 -> 6 | L17: =F17 -> 0 | M17: =G17 -> 0 | N17: =H17 -> 0
A18: COS | D18: PROCEDIMIENTOS ADMINISTRATIVOS | E18: 3 | K18: =E18 -> 3 | L18: =F18 -> 0 | M18: =G18 -> 0 | N18: =H18 -> 0
A19: COS | D19: SERVICIO NAVAL A BORDO Y EN TIERRA | E19: 6 | K19: =E19 -> 6 | L19: =F19 -> 0 | M19: =G19 -> 0 | N19: =H19 -> 0
A20: COS | C20: FORMACIÓN NAVAL | D20: SEGURIDAD | E20: 3 | K20: =E20 -> 3 | L20: =F20 -> 0 | M20: =G20 -> 0 | N20: =H20 -> 0
A21: COS | D21: GUERRA NAVAL | E21: 4 | K21: =E21 -> 4 | L21: =F21 -> 0 | M21: =G21 -> 0 | N21: =H21 -> 0
A22: COS | D22: ORIENTACIÓN Y ORGANIZACIÓN NAVAL | E22: 4 | K22: =E22 -> 4 | L22: =F22 -> 0 | M22: =G22 -> 0 | N22: =H22 -> 0
E25: =+SUM(E12:E24) -> 42
I26: RESUMEN
K27: =SUMIF($I$13:$N$24,I27,$M$13:$M$24) -> 0
K28: =SUMIF($I$13:$N$24,I28,$M$13:$M$24) -> 0
K29: =SUMIF($I$13:$N$24,I29,$M$13:$M$24) -> 0
K30: =SUMIF($I$13:$N$24,I30,$M$13:$M$24) -> 0
K31: =SUMIF($I$13:$N$24,I31,$M$13:$M$24) -> 0
K32: =SUMIF($I$13:$N$24,I32,$M$13:$M$24) -> 0
K33: =SUMIF($I$13:$N$24,I33,$M$13:$M$24) -> 0
K34: =SUMIF($I$13:$N$24,I34,$M$13:$M$24) -> 0
K35: =SUMIF($I$13:$N$24,I35,$M$13:$M$24) -> 0
K36: =SUMIF($I$13:$N$24,I36,$M$13:$M$24) -> 0
K38: =SUM(K27:K37) -> 0

Sheet OM
A1: Escuela Naval "A. Prat"
A2: Departamento Educación
A3: Unidad de Coordinación Académica
A5: HORAS DE CLASES POR CURSO - PROFESOR
A6: AÑO ACADÉMICO 2025
A7: CÁTEDRA O CURSO: | D7: OFICIAL DE MAR
D8: HORAS SEMANALES
A9: CURSO | C9: CÁTEDRA | D9: ASIGNATURAS | E9: 1er SEM. | G9: 2º SEM. | I9: PROFESOR
E10: SIST. | F10: LAB | G10: SIST. | H10: LAB
A11: OM
A12: OM | C12: LENGUA CASTELLANA | D12: LENGUA CASTELLANA Y COMUNICACIÓN OM .1 | G12: 6 | I12: ARENTSEN CHRISTIANE
A13: OM | C13: LENGUA CASTELLANA | D13: LENGUA CASTELLANA Y COMUNICACIÓN OM .2 | E13: 6 | I13: VALESKA CAMPOS
A14: OM | C14: CS SOCIALES | D14: HISTORIA NAVAL APLICADA | E14: 2 | G14: 0 | I14: QUIROGA
A15: OM | C15: CS SOCIALES | D15: ANÁLISIS REALIDAD NACIONAL E INTERNACIONAL | E15: 0 | G15: 2 | I15: ROMÁN LORENA
A16: OM | C16: PSICOLOGÍA, FILO, ÉTI Y MORAL | D16: FUNDAMENTO ÉTICO DEL MANDO | E16: 2 | G16: 0 | I16: MUÑOZ JAIME
A17: OM | C17: PSICOLOGÍA, FILO, ÉTI Y MORAL | D17: PSICOLOGÍA APLICADA AL MANDO | E17: 0 | G17: 2 | I17: LUCERO ANDRÉS
A18: OM | C18: CS SOCIALES | D18: DERECHO | E18: 4 | G18: 0 | I18: MELLA
A19: OM | C19: CS SOCIALES | D19: EDUCACIÓN CÍVICA | E19: 0 | G19: 2 | I19: ROMÁN LORENA
A20: OM | C20: ADMINISTRACIÓN | D20: ADMINISTRACIÓN NAVAL | E20: 4 | G20: 0 | I20: GUNDLACH HÉCTOR
A21: OM | C21: ADMINISTRACIÓN | D21: ECONOMÍA | E21: 0 | G21: 4 | I21: GUNDLACH HÉCTOR
A22: OM | C22: MANDO Y LIDERAZGO | D22: MANDO Y LIDERAZGO | E22: 4 | G22: 0 | I22: OFICIAL ESNAVAL
A23: OM | C23: MANDO Y LIDERAZGO | D23: REGLAMENTACIÓN | E23: 0 | G23: 4 | I23: VON DER WETH RONALD
A24: OM | C24: FORMACIÓN NAVAL | D24: ÉTICA Y PROBIDAD | E24: 0 | G24: 2
A25: OM | C25: INGLÉS | D25: INGLÉS | E25: 4 | G25: 4
A26: OM | C26: ED. FÍSICA | D26: EDUCACIÓN FÍSICA | E26: 4 | G26: 4
E27: =+SUM(E11:E24) -> 22 | G27: =+SUM(G11:G24) -> 22 | I27: =+SUM(E27:G27) -> 44
I30: RESUMEN | J30: 1°Sem | L30: 2° Sem
J31: =SUMIF($I$12:$I$26,I31,$E$12:$E$26) -> 0 | L31: =SUMIF($I$12:$I$26,I31,$G$12:$G$26) -> 0
J32: =SUMIF($I$12:$I$26,I32,$E$12:$E$26) -> 0 | L32: =SUMIF($I$12:$I$26,I32,$G$12:$G$26) -> 0
J33: =SUMIF($I$12:$I$26,I33,$E$12:$E$26) -> 0 | L33: =SUMIF($I$12:$I$26,I33,$G$12:$G$26) -> 0
J34: =SUMIF($I$12:$I$26,I34,$E$12:$E$26) -> 0 | L34: =SUMIF($I$12:$I$26,I34,$G$12:$G$26) -> 0
J35: =SUMIF($I$12:$I$26,I35,$E$12:$E$26) -> 0 | L35: =SUMIF($I$12:$I$26,I35,$G$12:$G$26) -> 0
J36: =SUMIF($I$12:$I$26,I36,$E$12:$E$26) -> 0 | L36: =SUMIF($I$12:$I$26,I36,$G$12:$G$26) -> 0
J37: =SUMIF($I$12:$I$26,I37,$E$12:$E$26) -> 0 | L37: =SUMIF($I$12:$I$26,I37,$G$12:$G$26) -> 0
J38: =SUMIF($I$12:$I$26,I38,$E$12:$E$26) -> 0 | L38: =SUMIF($I$12:$I$26,I38,$G$12:$G$26) -> 0
J39: =SUMIF($I$12:$I$26,I39,$E$12:$E$26) -> 0 | L39: =SUMIF($I$12:$I$26,I39,$G$12:$G$26) -> 0
J40: =SUMIF($I$12:$I$26,I40,$E$12:$E$26) -> 0 | L40: =SUMIF($I$12:$I$26,I40,$G$12:$G$26) -> 0
J41: =SUMIF($I$12:$I$26,I41,$E$12:$E$26) -> 0 | L41: =SUMIF($I$12:$I$26,I41,$G$12:$G$26) -> 0
J43: =SUM(J31:L41) -> 0

Sheet SIST ARM
A1: Escuela Naval "A. Prat"
A2: Departamento Educación
A3: Unidad de Coordinación Académica
A5: HORAS DE CLASES POR CURSO - PROFESOR
A6: AÑO ACADÉMICO 2026
A7: CÁTEDRA : | D7: SISTEMAS DE ARMAS (JC. CC Teichelmann)
D8: HORAS SEMANALES
A9: CURSO | C9: CÁTEDRA | D9: ASIGNATURAS | E9: 1er SEM. | G9: 2º SEM. | I9: PROFESOR
E10: SIST. | F10: LAB | G10: SIST. | H10: LAB
K11: 0 | L11: 0 | M11: 0 | N11: 0
K12: =E12 -> 0 | L12: =F12 -> 0 | M12: =G12 -> 0 | N12: =H12 -> 0
A13: 3ro EJ | B13: A | C13: SIST DE ARMAS | D13: SISTEMAS DE ARMAS | G13: 4 | I13: SORO, CRISTIAN CC | K13: =E13 -> 0 | L13: =F13 -> 0 | M13: =G13 -> 4 | N13: =H13 -> 0
A14: 3ro EJ | B14: B | C14: SIST DE ARMAS | D14: SISTEMAS DE ARMAS | G14: 4 | I14: JOFRÉ, LEONARDO T1 | K14: =E14 -> 0 | L14: =F14 -> 0 | M14: =G14 -> 4 | N14: =H14 -> 0
A15: 3ro EJ | B15: C | C15: SIST DE ARMAS | D15: SISTEMAS DE ARMAS | G15: 4 | I15: TEICHELMANN CC | K15: =E15 -> 0 | L15: =F15 -> 0 | M15: =G15 -> 4 | N15: =H15 -> 0
D17: CARGA 2026 | E17: =+SUM(E12:E15) -> 0 | G17: =+SUM(G12:G15) -> 12 | I17: =+SUM(E17:G17) -> 12
D18: CARGA 2025 | E18: 4 | G18: 27 | I18: 31
I21: RESUMEN | J21: 1° Sem | L21: 2° Sem
I22: SORO, CRISTIAN CC | J22: =SUMIF($I$11:$N$15,I22,$K$11:$K$15) -> 0 | L22: =SUMIF($I$11:$N$15,I22,$M$11:$M$15) -> 4
I23: JOFRÉ, LEONARDO T1 | J23: =SUMIF($I$11:$N$15,I23,$K$11:$K$15) -> 0 | L23: =SUMIF($I$11:$N$15,I23,$M$11:$M$15) -> 4
I24: TEICHELMANN CC | J24: =SUMIF($I$11:$N$15,I24,$K$11:$K$15) -> 0 | L24: =SUMIF($I$11:$N$15,I24,$M$11:$M$15) -> 4
F25: ,
L26: =SUM(J22:L24) -> 12

Sheet NAVEG
A1: Escuela Naval "A. Prat"
A2: Departamento Educación
A3: Unidad de Coordinación Académica
A5: HORAS DE CLASES POR CURSO - PROFESOR
A6: AÑO ACADÉMICO 2026
A7: CÁTEDRA : | D7: NAVEGACIÓN Y METEOROLOGÍA (JC. PC. M. Coloma)
D8: HORAS SEMANALES
A9: CURSO | C9: CÁTEDRA | D9: ASIGNATURAS | E9: 1er SEM. | G9: 2º SEM. | I9: PROFESOR
E10: SIST. | F10: LAB | G10: SIST. | H10: LAB
A11: 2do EJ | B11: A | C11: NAVEGACIÓN | D11: NAVEGACIÓN COSTERA I .1 | E11: 4 | I11: ZANELLI VICTOR | K11: 4
A12: 2do EJ | B12: A | C12: NAVEGACIÓN | D12: NAVEGACIÓN COSTERA I .2 | G12: 4 | I12: PENDIENTE | M12: 4
A13: 2do EJ | B13: B | C13: NAVEGACIÓN | D13: NAVEGACIÓN COSTERA I .1 | E13: 4 | I13: ZANELLI VICTOR | K13: 4
A14: 2do EJ | B14: B | C14: NAVEGACIÓN | D14: NAVEGACIÓN COSTERA I .2 | G14: 4 | I14: PENDIENTE | M14: 4
A15: 2do EJ | B15: C | C15: NAVEGACIÓN | D15: NAVEGACIÓN COSTERA I .1 | E15: 4 | I15: ZANELLI VICTOR | K15: 4
A16: 2do EJ | B16: C | C16: NAVEGACIÓN | D16: NAVEGACIÓN COSTERA I .2 | G16: 4 | I16: PENDIENTE | M16: 4
A17: 2do EJ | B17: D | C17: NAVEGACIÓN | D17: NAVEGACIÓN COSTERA I .1 | E17: 4 | I17: ZANELLI VICTOR | K17: 4
A18: 2do EJ | B18: D | C18: NAVEGACIÓN | D18: NAVEGACIÓN COSTERA I .2 | G18: 4 | I18: PENDIENTE | M18: 4
A19: 2do AB | B19: J | C19: NAVEGACIÓN | D19: NAVEGACIÓN COSTERA I | E19: 2 | I19: ZANELLI VICTOR | K19: 2
A20: 2do LT | C20: NAVEGACIÓN | D20: NAVEGACIÓN COSTERA I .1 | E20: 4 | I20: ZANELLI VICTOR | K20: 4
A21: 2do LT | C21: NAVEGACIÓN | D21: NAVEGACIÓN COSTERA I .2 | G21: 4 | I21: PENDIENTE | M21: 4
A22: 3ro EJ | B22: A | C22: NAVEGACIÓN | D22: NAVEGACIÓN COSTERA II (CINEMÁTICA) | E22: 4 | I22: ROJAS MARIANO | K22: 4
A23: 3ro EJ | B23: B | C23: NAVEGACIÓN | D23: NAVEGACIÓN COSTERA II (CINEMÁTICA) | E23: 4 | I23: ROJAS MARIANO | K23: 4
A24: 3ro EJ | B24: C | C24: NAVEGACIÓN | D24: NAVEGACIÓN COSTERA II (CINEMÁTICA) | E24: 4 | I24: ROJAS MARIANO | K24: 4
A25: 3ro EJ | B25: A | C25: NAVEGACIÓN | D25: NAVEGACIÓN COSTERA II | G25: 4 | I25: ROJAS MARIANO | M25: 4
A26: 3ro EJ | B26: B | C26: NAVEGACIÓN | D26: NAVEGACIÓN COSTERA II | G26: 4 | I26: ROJAS MARIANO | M26: 4
A27: 3ro EJ | B27: C | C27: NAVEGACIÓN | D27: NAVEGACIÓN COSTERA II | G27: 4 | I27: ROJAS MARIANO | M27: 4
A28: 3ro LT | C28: NAVEGACIÓN | D28: NAVEGACIÓN COSTERA II | E28: 4 | G28: 4 | I28: COLOMA MANUEL | K28: 4 | M28: 4
A29: 4to EJ | B29: A | C29: NAVEGACIÓN | D29: NAVEGACIÓN ASTRONÓMICA | E29: 4 | G29: 2 | I29: COLOMA MANUEL | K29: 4 | M29: 2
A30: 4to EJ | B30: B | C30: NAVEGACIÓN | D30: NAVEGACIÓN ASTRONÓMICA | E30: 4 | G30: 2 | I30: COLOMA MANUEL | K30: 4 | M30: 2
A31: 4to EJ | B31: C | C31: NAVEGACIÓN | D31: NAVEGACIÓN ASTRONÓMICA | E31: 4 | G31: 2 | I31: COLOMA MANUEL | K31: 4 | M31: 2
A32: 4to IM | C32: NAVEGACIÓN | D32: NAVEGACIÓN | E32: 2 | G32: 2 | I32: COLOMA MANUEL | K32: 2 | M32: 2
A33: 4to AB | C33: NAVEGACIÓN | D33: NAVEGACIÓN | E33: 2 | G33: 2 | I33: COLOMA MANUEL | K33: 2 | M33: 2
A34: 4to LT | C34: NAVEGACIÓN | D34: NAVEGACIÓN ASTRONÓMICA | E34: 4 | G34: 2 | I34: COLOMA MANUEL | K34: 4 | M34: 2
D36: CARGA 2026 | E36: =+SUM(E11:F34) -> 58 | G36: =+SUM(G11:H34) -> 48 | I36: =+SUM(E36:G36) -> 106
D37: CARGA 2025 | E37: 46 | G37: 62 | I37: =E37+G37 -> 108
J38: 1 Sem | L38: 2 Sem
I39: COLOMA MANUEL | J39: =SUMIF($I$11:$N$34,I39,$K$11:$K$34) -> 24 | L39: =SUMIF($I$11:$N$34,I39,$M$11:$M$34) -> 16
I40: PENDIENTE | J40: =SUMIF($I$11:$N$34,I40,$K$11:$K$34) -> 0 | L40: =SUMIF($I$11:$N$33,I40,$M$11:$M$33) -> 20
I41: ROJAS MARIANO | J41: =SUMIF($I$11:$N$34,I41,$K$11:$K$33) -> 12 | L41: =SUMIF($I$11:$N$34,I41,$M$11:$M$34) -> 12
I42: ZANELLI VICTOR | J42: =SUMIF($I$11:$N$34,I42,$K$11:$K$34) -> 22 | L42: =SUMIF($I$11:$N$34,I42,$M$11:$M$34) -> 0
J43: =SUMIF($I$11:$N$33,I44,$K$11:$K$33) -> 0 | L43: =SUMIF($I$11:$N$33,I44,$M$11:$M$33) -> 0
L44: =SUM(J39:M43) -> 106

Sheet OP NAV
A1: Escuela Naval "A. Prat"
A2: Departamento Educación
A3: Unidad de Coordinación Académica
A5: HORAS DE CLASES POR CURSO - PROFESOR
A6: AÑO ACADÉMICO 2026
A7: CÁTEDRA : | D7: PLANIFICACIÓN Y OPERACIONES NAVALES (JC. PC. M. Coloma)
D8: HORAS SEMANALES
A9: CURSO | C9: CÁTEDRA | D9: ASIGNATURAS | E9: 1er SEM. | G9: 2º SEM. | I9: PROFESOR
E10: SIST. | F10: LAB | G10: SIST. | H10: LAB
K11: 0 | L11: 0 | M11: 0 | N11: 0
A12: 4to Ej | B12: A | C12: NAVEG Y OPS NAVALES | D12: PLANIFICACIÓN Y OPERACIONES NAVALES | E12: 4 | G12: 4 | I12: ROJAS MARIANO | K12: =E12 -> 4 | L12: =F12 -> 0 | M12: =G12 -> 4 | N12: =H12 -> 0
A13: 4to Ej | B13: B | C13: NAVEG Y OPS NAVALES | D13: PLANIFICACIÓN Y OPERACIONES NAVALES | E13: 4 | G13: 4 | I13: ROJAS MARIANO | K13: =E13 -> 4 | L13: =F13 -> 0 | M13: =G13 -> 4 | N13: =H13 -> 0
A14: 4to Ej | B14: C | C14: NAVEG Y OPS NAVALES | D14: PLANIFICACIÓN Y OPERACIONES NAVALES | E14: 4 | G14: 4 | I14: ROJAS MARIANO | K14: =E14 -> 4 | L14: =F14 -> 0 | M14: =G14 -> 4 | N14: =H14 -> 0
D16: CARGA 2026 | E16: =SUM(E12:E14) -> 12 | G16: =SUM(G12:G14) -> 12 | I16: =+SUM(E16:G16) -> 24
D17: CARGA 2025 | E17: 12 | G17: 12 | I17: =E17+G17 -> 24
I19: RESUMEN | J19: 1 Sem | L19: 2 Sem
I20: ROJAS MARIANO | J20: =SUMIF($I$11:$N$14,$I20,K$11:K$14) -> 12 | L20: =SUMIF($I$11:$N$14,$I20,M$11:M$14) -> 12
L23: =SUM(J20:L21) -> 24

Sheet SIST ING
A1: Escuela Naval "A. Prat"
A2: Departamento Educación
A3: Unidad de Coordinación Académica
A5: HORAS DE CLASES POR CURSO - PROFESOR
A6: AÑO ACADÉMICO 2026
A7: CÁTEDRA : | D7: SISTEMAS DE INGENIERÍA | I7: PC ALBERTO GARCÍA
D8: HORAS SEMANALES
A9: CURSO | C9: CÁTEDRA | D9: ASIGNATURAS | E9: 1er SEM. | G9: 2º SEM. | I9: PROFESOR
E10: SIST. | F10: LAB | G10: SIST. | H10: LAB
A11: 3ro LT | C11: SIST DE INGENIERÍA | D11: FUNDAM. DE ESTABILIDAD Y ESTIBA | E11: 2 | I11: GARCÍA ALBERTO | L11: =E11 -> 2 | M11: =F11 -> 0 | N11: =G11 -> 0 | O11: =H11 -> 0
A12: 3ro LT | C12: SIST DE INGENIERÍA | D12: SISTEMAS DE INGENIERÍA LT. | G12: 2 | I12: GARCÍA ALBERTO | L12: 0 | M12: 0 | N12: 2 | O12: 0
A13: 3ro EJ | B13: A | C13: SIST DE INGENIERÍA | D13: FUNDAMENTOS DE ESTABILIDAD | E13: 2 | I13: GARCÍA ALBERTO | L13: =E13 -> 2 | M13: =F13 -> 0 | N13: =G13 -> 0 | O13: =H13 -> 0
A14: 3ro EJ | B14: B | C14: SIST DE INGENIERÍA | D14: FUNDAMENTOS DE ESTABILIDAD | E14: 2 | I14: GARCÍA ALBERTO | L14: =E14 -> 2 | M14: =F14 -> 0 | N14: =G14 -> 0 | O14: =H14 -> 0
A15: 3ro EJ | B15: C | C15: SIST DE INGENIERÍA | D15: FUNDAMENTOS DE ESTABILIDAD | E15: 2 | I15: FISCHER MATIAS | L15: =E15 -> 2 | M15: =F15 -> 0 | N15: =G15 -> 0 | O15: =H15 -> 0
A16: 4to EJ | B16: A | C16: SIST DE INGENIERÍA | D16: SISTEMAS DE INGENIERÍA | E16: 4 | I16: GARCÍA ALBERTO | L16: =E16 -> 4 | M16: =F16 -> 0 | N16: =G16 -> 0 | O16: =H16 -> 0
A17: 4to EJ | B17: B | C17: SIST DE INGENIERÍA | D17: SISTEMAS DE INGENIERÍA | E17: 4 | I17: ULLOA VÍCTOR | L17: =E17 -> 4 | M17: =F17 -> 0 | N17: =G17 -> 0 | O17: =H17 -> 0
A18: 4to EJ | B18: C | C18: SIST DE INGENIERÍA | D18: SISTEMAS DE INGENIERÍA | E18: 4 | I18: QUEZADA IGNACIO T1 | L18: =E18 -> 4 | M18: =F18 -> 0 | N18: =G18 -> 0 | O18: =H18 -> 0
A19: 4to AB | C19: SIST DE INGENIERÍA | D19: SISTEMAS NAVALES (ARMAS / ING.) | G19: 2 | I19: GARCÍA ALBERTO | L19: 0 | M19: 0 | N19: 2 | O19: 0
D20: CARGA 2026 | E20: =+SUM(E11:E18) -> 20 | G20: =+SUM(G11:G18) -> 2 | I20: =+SUM(E20:G20) -> 22
D21: CARGA 2025 | E21: 26 | G21: 7 | I21: 39
I23: RESUMEN | J23: 1° Sem | L23: 2° Sem
I24: FISCHER MATIAS | J24: =SUMIF($I$11:$O$18,$I24,L$11:L$18) -> 2 | L24: =SUMIF($I$11:$O$18,$I24,N$11:N$18) -> 0
I25: GARCÍA ALBERTO | J25: =SUMIF($I$11:$O$18,$I25,L$11:L$18) -> 10 | L25: =SUMIF($I$11:$O$19,$I25,N$11:N$19) -> 4
I26: QUEZADA IGNACIO T1 | J26: =SUMIF($I$11:$O$18,$I26,L$11:L$18) -> 4 | L26: =SUMIF($I$11:$O$18,$I26,N$11:N$18) -> 0
I27: ULLOA VÍCTOR | J27: =SUMIF($I$11:$O$18,$I27,L$11:L$18) -> 4 | L27: =SUMIF($I$11:$O$18,$I27,N$11:N$18) -> 0
L29: =SUM(J24:L27) -> 24

Sheet ADMINIST
A1: Escuela Naval "A. Prat"
A2: Departamento Educación
A3: Unidad de Coordinación Académica
A5: HORAS DE CLASES POR CURSO - PROFESOR
A6: AÑO ACADÉMICO 2026
A7: CÁTEDRA : | D7: ADMINISTRACIÓN | I7: PC HECTOR GUNDLACH
D8: HORAS SEMANALES
A9: CURSO | C9: CÁTEDRA | D9: ASIGNATURAS | E9: 1er SEM. | G9: 2º SEM. | I9: PROFESOR
E10: SIST. | F10: LAB | G10: SIST. | H10: LAB
A11: 2do AB | C11: ADMINISTRACIÓN | D11: ADMINISTRACIÓN | E11: 2 | G11: 2 | I11: GUNDLACH HÉCTOR | K11: =+E11 -> 2 | L11: =+F11 -> 0 | M11: =+G11 -> 2 | N11: =+H11 -> 0
A12: 4do EJ | B12: A | C12: ADMINISTRACIÓN | D12: ADMINISTRACIÓN NAVAL | E12: 2 | I12: GUNDLACH HÉCTOR | K12: 2
A13: 4ro EJ | B13: B | C13: ADMINISTRACIÓN | D13: ADMINISTRACIÓN NAVAL | E13: 2 | I13: GUNDLACH HÉCTOR | K13: 2
A14: 4to EJ | B14: C | C14: ADMINISTRACIÓN | D14: ADMINISTRACIÓN NAVAL | E14: 2 | I14: GUNDLACH HÉCTOR | K14: =+E14 -> 2 | L14: =+F14 -> 0 | M14: =+G14 -> 0
A15: 4to LT | C15: ADMINISTRACIÓN | D15: ADMINISTRACIÓN NAVAL | G15: 2 | I15: GUNDLACH HÉCTOR | K15: =+E15 -> 0 | L15: =+F15 -> 0 | M15: =+G15 -> 2
A16: OM | C16: ADMINISTRACIÓN | D16: ADMINISTRACIÓN | E16: 4 | I16: GUNDLACH HÉCTOR | K16: 4
A17: OM | C17: ADMINISTRACIÓN | D17: ECONOMÍA | G17: 4 | I17: GUNDLACH HÉCTOR | M17: 4
D20: CARGA 2026 | E20: =SUM(E11:E18) -> 12 | G20: =+SUM(G11:G18) -> 8 | I20: =+E20+G20 -> 20
D21: CARGA 2025 | E21: 10 | G21: 14 | I21: =E21+G21 -> 24
I23: RESUMEN | J23: 1° Sem | L23: 2° Sem
I24: GUNDLACH HÉCTOR | J24: =SUMIF($I$11:$N$18,$I24,K$11:K$18) -> 12 | L24: =SUMIF($I$11:$N$18,$I24,M$11:M$18) -> 8
L27: =SUM(J24:L25) -> 20

Sheet ESP IM
A1: Escuela Naval "A. Prat"
A2: Departamento Educación
A3: Unidad de Coordinación Académica
A5: HORAS DE CLASES POR CURSO - PROFESOR
A6: AÑO ACADÉMICO 2026
A7: CÁTEDRA : | D7: ESP INF MARINA | I7: PC JUAN SIELFELD
D8: HORAS SEMANALES
A9: CURSO | C9: CÁTEDRA | D9: ASIGNATURAS | E9: 1er SEM. | G9: 2º SEM. | I9: PROFESOR
E10: SIST. | F10: LAB | G10: SIST. | H10: LAB
A11: 2do IM Mod | C11: ESP IM | D11: TÁCTICA I | E11: 4 | G11: 4 | I11: SIELFELD JUAN | K11: =E11 -> 4 | L11: =F11 -> 0 | M11: =G11 -> 4 | N11: =H11 -> 0
A12: 3ro IM | C12: ESP IM | D12: FUNCIONES DE COMBATE | E12: 4 | G12: 4 | I12: PIZARRO T1 | K12: =E12 -> 4 | L12: =G13:G13 -> 6 | M12: =G12 -> 4 | N12: =H12 -> 0
A13: 3ro IM | C13: ESP IM | D13: TÁCTICA II | E13: 6 | G13: 6 | I13: VON DER WETH FIEDRICH | K13: =E13 -> 6 | L13: =F13 -> 0 | M13: =G13 -> 6 | N13: =H13 -> 0
A14: 3ro IM | C14: ESP IM | D14: CCC I | E14: 2 | G14: 2 | I14: PC CAMPOS | K14: =E14 -> 2 | L14: =F14 -> 0 | M14: =G14 -> 2 | N14: =H14 -> 0
A15: 4to IM | C15: ESP IM | D15: FUNDAM. OPERAC. DE ESTABILIZACIÓN | E15: 2 | I15: ROSENKRANZ CN IM | K15: =E15 -> 2 | L15: =F15 -> 0 | M15: =G15 -> 0 | N15: =H15 -> 0
A16: 4to IM | C16: ESP IM | D16: HIST. MILITAR Y TEORÍA DE LA GUERRA | E16: 4 | G16: 2 | I16: VON DER WETH FIEDRICH | K16: =E16 -> 4 | L16: =F16 -> 0 | M16: =G16 -> 2 | N16: =H16 -> 0
A17: 4to IM | C17: ESP IM | D17: CCC I (T) | E17: 2 | G17: 2 | I17: PC JARA | K17: =E17 -> 2 | L17: =F17 -> 0 | M17: =G17 -> 2 | N17: =H17 -> 0
A18: 4to IM | C18: ESP IM | D18: TÁCTICA ANFIBIA | E18: 4 | G18: 4 | I18: V D WETH Y SIELFELD JUAN | J18: SIELFELD OK | K18: =E18 -> 4 | L18: =F18 -> 0 | M18: =G18 -> 4 | N18: =H18 -> 0
D20: CARGA 2026 | E20: =+SUM(E11:E18) -> 28 | G20: =+SUM(G11:G18) -> 24 | I20: =+G20+E20 -> 52
D21: CARGA 2025 | E21: 33 | G21: 32 | I21: =E21+G21 -> 65
I23: RESUMEN | J23: 1 Sem | L23: 2 Sem
I24: PIZARRO T1 | J24: =SUMIF($I$11:$N$18,$I24,K$11:K$18) -> 4 | L24: =SUMIF($I$11:$N$18,$I24,M$11:M$18) -> 4
I25: SIELFELD JUAN | J25: =SUMIF($I$11:$N$18,$I25,K$11:K$18) -> 4 | L25: =SUMIF($I$11:$N$18,$I25,M$11:M$18) -> 4
I26: VON DER WETH FIEDRICH | J26: =SUMIF($I$11:$N$18,$I26,K$11:K$18) -> 10 | L26: =SUMIF($I$11:$N$18,$I26,M$11:M$18) -> 8
I27: V D WETH Y SIELFELD JUAN | J27: =SUMIF($I$11:$N$18,$I27,K$11:K$18) -> 4 | L27: =SUMIF($I$11:$N$18,$I27,M$11:M$18) -> 4
I28: PC CAMPOS | J28: =SUMIF($I$11:$N$18,$I28,K$11:K$18) -> 2 | L28: =SUMIF($I$11:$N$18,$I28,M$11:M$18) -> 2
I29: PC JARA | J29: =SUMIF($I$11:$N$18,$I29,K$11:K$18) -> 2 | L29: =SUMIF($I$11:$N$18,$I29,M$11:M$18) -> 2
L31: =SUM(J24:L29) -> 50

Sheet ESP AB
A1: Escuela Naval "A. Prat"
A2: Departamento Educación
A3: Unidad de Coordinación Académica
A5: HORAS DE CLASES POR CURSO - PROFESOR
A6: AÑO ACADÉMICO 2026
A7: CÁTEDRA : | D7: ESPECIALIDAD ABASTECIMIENTO | I7: JC. PC. CARLOS VIDAL
D8: HORAS SEMANALES
A9: CURSO | C9: CÁTEDRA | D9: ASIGNATURAS | E9: 1er SEM. | G9: 2º SEM. | I9: PROFESOR
E10: SIST. | F10: LAB | G10: SIST. | H10: LAB
A11: 2do AB | C11: ESP AB | D11: ADM. LOGÍSTICA DEL MATERIAL | E11: 4 | I11: GARCÍA QUIROGA CARLOS | K11: =E11 -> 4 | L11: 4
A12: 2do AB | C12: ESP AB | D12: ABASTECIMIENTO | G12: 4 | I12: VILLABLANCA T1 AB | K12: =E12 -> 0 | L12: =F12 -> 0 | M12: =G12 -> 4
A13: 2do AB | C13: ESP AB | D13: CONTABILIDAD | E13: 6 | G13: 6 | I13: RODRÍGUEZ NORMAN | K13: =E13 -> 6 | L13: =E13 -> 6 | M13: =G13 -> 6
A14: 3ro AB | C14: ESP AB | D14: ADM. LOGÍSTICA DEL MATERIAL | E14: 4 | G14: 4 | I14: GARCÍA QUIROGA CARLOS | K14: =E14 -> 4 | L14: =E14 -> 4 | M14: =G14 -> 4
A15: 3ro AB | C15: ESP AB | D15: INVESTIGACIÓN DE OPERACIONES | G15: 2 | I15: BASTIDAS CC CENTARM | K15: =E15 -> 0 | L15: =F15 -> 0 | M15: =G15 -> 2
A16: 3ro AB | C16: ESP AB | D16: TEORÍA DE LA ORGANIZACIÓN | E16: 2 | I16: VIDAL CARLOS | K16: =E16 -> 2 | L16: =E16 -> 2 | M16: =G16 -> 0
A17: 3ro AB | C17: ESP AB | D17: FUNDAMENTOS DE ECONOMÍA | G17: 2 | I17: VIDAL CARLOS | K17: =E17 -> 0 | L17: =F17 -> 0 | M17: =G17 -> 2
A18: 3ro AB | C18: ESP AB | D18: COSTOS | E18: 4 | I18: RODRÍGUEZ NORMAN | K18: =E18 -> 4 | L18: =E18 -> 4 | M18: =G18 -> 0
A19: 4to AB | C19: ESP AB | D19: SEGURIDAD SANITARIA DE ALIMENTACIÓN Y NUTRICIÓN | E19: 4 | I19: OBERMOLLER HILDE | K19: =E19 -> 4 | L19: =E19 -> 4 | M19: =G19 -> 0
A20: 4to AB | C20: ESP AB | D20: FINANZAS | E20: 3 | I20: GARCÍA QUIROGA CARLOS | K20: =E20 -> 3 | L20: =E20 -> 3 | M20: =G20 -> 0
A21: 4to AB | C21: ESP AB | D21: INVESTIGACIÓN DE OPERACIONES (T) | E21: 2 | G21: 2 | I21: BASTIDAS CC CENTARM | K21: =E21 -> 2 | L21: =E21 -> 2 | M21: =G21 -> 2
A22: 4to AB | C22: ESP AB | D22: SISTEMAS DE INFORMACIÓN LOGÍSTICA .1 | E22: 3 | I22: MELKONIAN CC AB | K22: =E22 -> 3 | L22: =E22 -> 3 | M22: =G22 -> 0
A23: 4to AB | C23: ESP AB | D23: SISTEMAS DE INFORMACIÓN LOGÍSTICA .2 | G23: 4 | I23: MELKONIAN CC AB | K23: =E23 -> 0 | L23: =F23 -> 0 | M23: =G23 -> 4
A24: 4to AB | C24: ESP AB | D24: FINANZAS PÚBLICAS | G24: 4 | I24: GARCÍA QUIROGA CARLOS | K24: =E24 -> 0 | L24: =F24 -> 0 | M24: =G24 -> 4
D26: CARGA 2026 | E26: =+SUM(E11:E24) -> 32 | G26: =+SUM(G12:G24) -> 28 | I26: =+G26+E26 -> 60
D27: CARGA 2025 | E27: 40 | G27: 34 | I27: =E27+G27 -> 74
I29: RESUMEN | J29: 1 Sem | L29: 2 Sem
I30: VILLABLANCA T1 AB | J30: =SUMIF($I$11:$N$24,$I30,K$11:K$24) -> 0 | L30: =SUMIF($I$11:$N$24,$I30,M$11:M$24) -> 4
I31: VIDAL CARLOS | J31: =SUMIF($I$11:$N$24,$I31,K$11:K$24) -> 2 | L31: =SUMIF($I$11:$N$24,$I31,M$11:M$24) -> 2
I32: RODRÍGUEZ NORMAN | J32: =SUMIF($I$11:$N$24,$I32,K$11:K$24) -> 10 | L32: =SUMIF($I$11:$N$24,$I32,M$11:M$24) -> 6
I33: OBERMOLLER HILDE | J33: =SUMIF($I$11:$N$24,$I33,K$11:K$24) -> 4 | L33: =SUMIF($I$11:$N$24,$I33,M$11:M$24) -> 0
I34: BASTIDAS CC CENTARM | J34: =SUMIF($I$11:$N$24,$I34,K$11:K$24) -> 2 | L34: =SUMIF($I$11:$N$24,$I34,M$11:M$24) -> 4
I35: MELKONIAN CC AB | J35: =SUMIF($I$11:$N$24,$I35,K$11:K$24) -> 3 | L35: =SUMIF($I$11:$N$24,$I35,M$11:M$24) -> 4
I36: GARCÍA QUIROGA CARLOS | J36: =SUMIF($I$11:$N$24,$I36,K$11:K$24) -> 11 | L36: =SUMIF($I$11:$N$24,$I36,M$11:M$24) -> 8
L39: =SUM(J30:L36) -> 60

Sheet ESP LT
A1: Escuela Naval "A. Prat"
A2: Departamento Educación
A3: Unidad de Coordinación Académica
A5: HORAS DE CLASES POR CURSO - PROFESOR
A6: AÑO ACADÉMICO 2026
A7: CÁTEDRA : | D7: ESPECIALIDAD LITORAL | I7: PC MUNITA
D8: HORAS SEMANALES
A9: CURSO | C9: CÁTEDRA | D9: ASIGNATURAS | E9: 1er SEM. | G9: 2º SEM. | I9: PROFESOR
E10: SIST. | F10: LAB | G10: SIST. | H10: LAB
A11: 2do LT | C11: ESP LT | D11: LEGISLACIÓN MARÍTIMA | E11: 4 | G11: 4 | I11: MUNITA JUAN CARLOS | K11: =E11 -> 4 | L11: =F11 -> 0 | M11: =G11 -> 4 | N11: =H11 -> 0
A12: 3ro LT | C12: ESP LT | D12: POLICIA MARÍTIMA I | E12: 4 | G12: 6 | I12: OF DIRSOMAR 1 | K12: 4 | M12: 6
A13: 3ro LT | C13: ESP LT | D13: INT. MARÍTIMOS Y DESARROLLO SUSTENTABLE | E13: 4 | I13: OF DGTM | K13: 4
A14: 3ro LT | C14: ESP LT | D14: OPERACIONES MARÍTIMAS | E14: 4 | G14: 4 | I14: RUIZ T1 LT | K14: =E14 -> 4 | L14: =F14 -> 0 | M14: =G14 -> 4 | N14: =H14 -> 0
A15: 4to LT | C15: ESP LT | D15: COMUNICACIÓN Y RR.PP. | E15: 2 | I15: BUCAREY FRANCIS | K15: =E15 -> 2 | L15: =F15 -> 0 | M15: =G15 -> 0 | N15: =H15 -> 0
A16: 4to LT | C16: ESP LT | D16: ARMAMENTO POLICIAL | E16: 0 | G16: 4 | I16: INSTRUCTOR GRI | K16: ='[1]ESP LT'!L23 -> 0 | L16: Era BAROS=F17 | M16: =G16 -> 4 | N16: =H16 -> 0
A17: 4to LT | C17: ESP LT | D17: INT MARÍTIMOS Y DESARROLLO SUSTENTABLE (T) | E17: 4 | I17: OF DGTM | K17: =E17 -> 4 | L17: =F17 -> 0 | M17: =G17 -> 0 | N17: =H17 -> 0
A18: 4to LT | C18: ESP LT | D18: DEFENSA PERSONAL | E18: 2 | G18: 2 | I18: PC CAMPOS | K18: 2 | M18: =G18 -> 2
A19: 4to LT | C19: ESP LT | D19: OPERACIONES MARÍTIMAS (T) | G19: 6 | I19: RUIZ T1 LT | M19: =G19 -> 6
A20: 4to LT | C20: ESP LT | D20: POLICÍA MARÍTIMA (T) | E20: 4 | I20: OF DIRSOMAR 1 | K20: =E20 -> 4 | L20: =F20 -> 0 | M20: =G20 -> 0 | N20: =H20 -> 0
D22: CARGA 2026 | E22: =+SUM(E11:E20) -> 28 | G22: =+SUM(G11:G20) -> 26 | I22: =+G22+E22 -> 54
D23: CARGA 2025 | E23: 20 | G23: 28 | I23: =E23+G23 -> 48
I25: RESUMEN | J25: 1 Sem | L25: 2 Sem
I26: PC CAMPOS | J26: =SUMIF($I$11:$N$20,$I26,K$11:K$20) -> 2 | L26: =SUMIF($I$11:$N$20,$I26,M$11:M$20) -> 2
I27: OF DGTM | J27: =SUMIF($I$11:$N$20,$I27,K$11:K$20) -> 8 | L27: =SUMIF($I$11:$N$20,$I27,M$11:M$20) -> 0
I28: MUNITA JUAN CARLOS | J28: =SUMIF($I$11:$N$20,$I28,K$11:K$20) -> 4 | L28: =SUMIF($I$11:$N$20,$I28,M$11:M$20) -> 4
I29: BUCAREY FRANCIS | J29: =SUMIF($I$11:$N$20,$I29,K$11:K$20) -> 2 | L29: =SUMIF($I$11:$N$20,$I29,M$11:M$20) -> 0
I30: OF DIRSOMAR 1 | J30: =SUMIF($I$11:$N$20,$I30,K$11:K$20) -> 8 | L30: =SUMIF($I$11:$N$20,$I30,M$11:M$20) -> 6
I31: RUIZ T1 LT | J31: =SUMIF($I$11:$N$20,$I31,K$11:K$20) -> 4 | L31: =SUMIF($I$11:$N$20,$I31,M$11:M$20) -> 10
I32: BAROS | J32: =SUMIF($I$11:$N$20,$I32,K$11:K$20) -> 0 | L32: =SUMIF($I$11:$N$20,$I32,M$11:M$20) -> 0
L34: =SUM(J26:L32) -> 50

Sheet METOD INV
A1: Escuela Naval "A. Prat"
A2: Departamento Educación
A3: Unidad de Coordinación Académica
A5: HORAS DE CLASES POR CURSO - PROFESOR
A6: AÑO ACADÉMICO 2024
A7: CÁTEDRA : | D7: METODOLOGÍA DE LA INVESTIGACIÓN
D8: HORAS SEMANALES
A9: CURSO | C9: CÁTEDRA | D9: ASIGNATURAS | E9: 1er SEM. | G9: 2º SEM. | I9: PROFESOR
E10: SIST. | F10: LAB | G10: SIST. | H10: LAB
K11: 0 | L11: 0 | M11: 0 | N11: 0
A12: 4to EJ | B12: A | C12: MET DE LA INVESTIGACIÓN | D12: METODOLOGÍA DE LA INVESTIGACIÓN I | E12: 2 | I12: RÍOS JORGE | J12: NO VA | K12: =E12 -> 2 | L12: =F12 -> 0 | M12: =G12 -> 0 | N12: =H12 -> 0
A13: 4to EJ | B13: B | C13: MET DE LA INVESTIGACIÓN | D13: METODOLOGÍA DE LA INVESTIGACIÓN I | E13: 2 | I13: RÍOS JORGE | J13: NO VA | K13: =E13 -> 2 | L13: =F13 -> 0 | M13: =G13 -> 0 | N13: =H13 -> 0
A14: 4to EJ | B14: C | C14: MET DE LA INVESTIGACIÓN | D14: METODOLOGÍA DE LA INVESTIGACIÓN I | E14: 2 | I14: RÍOS JORGE | J14: NO VA | K14: =E14 -> 2 | L14: =F14 -> 0 | M14: =G14 -> 0 | N14: =H14 -> 0
A15: 4to EJ | B15: D | C15: MET DE LA INVESTIGACIÓN | D15: METODOLOGÍA DE LA INVESTIGACIÓN I | E15: 2 | I15: RÍOS JORGE | J15: NO VA | K15: =E15 -> 2 | L15: =F15 -> 0 | M15: =G15 -> 0 | N15: =H15 -> 0
A16: 4to AB | C16: MET DE LA INVESTIGACIÓN | D16: METODOLOGÍA DE LA INVESTIGACIÓN I | G16: 2 | I16: RÍOS JORGE | J16: NO VA | K16: =E16 -> 0 | L16: =F16 -> 0 | M16: =G16 -> 2 | N16: =H16 -> 0
A17: 4to IM | C17: MET DE LA INVESTIGACIÓN | D17: METODOLOGÍA DE LA INVESTIGACIÓN I | G17: 2 | I17: RÍOS JORGE | J17: NO VA | K17: =E17 -> 0 | L17: =F17 -> 0 | M17: =G17 -> 2 | N17: =H17 -> 0
A18: 4to LT | C18: MET DE LA INVESTIGACIÓN | D18: METODOLOGÍA DE LA INVESTIGACIÓN I | G18: 2 | I18: RAMÍREZ BLANCA | J18: NO VA | K18: =E18 -> 0 | L18: =F18 -> 0 | M18: =G18 -> 2 | N18: =H18 -> 0
D20: CARGA 2024 | E20: =SUM(E12:E18) -> 0 | G20: =SUM(G12:G18) -> 0 | I20: =+E20+G20 -> 0
D21: CARGA 2023 | E21: 8 | G21: 6 | I21: =E21+G21 -> 14
I22: =I20-I21 -> -14
I24: RESUMEN | J24: 1 Sem | L24: 2 Sem
I25: RÍOS JORGE | J25: =SUMIF($I$11:$N$18,$I25,K$11:K$18) -> 0 | L25: =SUMIF($I$11:$N$18,$I25,M$11:M$18) -> 0
I26: RAMÍREZ BLANCA | J26: =SUMIF($I$11:$N$18,$I26,K$11:K$18) -> 0 | L26: =SUMIF($I$11:$N$18,$I26,M$11:M$18) -> 0
J27: =SUMIF($I$11:$N$18,$I27,K$11:K$18) -> 0 | L27: =SUMIF($I$11:$N$18,$I27,M$11:M$18) -> 0

Sheet NAUTICA
A1: Escuela Naval "A. Prat"
A2: Departamento Educación
A3: Unidad de Coordinación Académica
A5: HORAS DE CLASES POR CURSO - PROFESOR
A6: AÑO ACADÉMICO 2026
A7: CÁTEDRA : | D7: NÁUTICA | I7: JC. CA GONZALO MALDONADO
D8: HORAS SEMANALES
A9: CURSO | C9: CÁTEDRA | D9: ASIGNATURAS | E9: 1er SEM. | G9: 2º SEM. | I9: PROFESOR
E10: SIST. | F10: LAB | G10: SIST. | H10: LAB
A11: 1ro | B11: A | C11: NÁUTICA | D11: NÁUTICA .1 | E11: 2 | I11: SEPÚLVEDA RODRIGO | K11: =E11 -> 2 | L11: =F11 -> 0 | M11: =G11 -> 0 | N11: =H11 -> 0
A12: 1ro | B12: A | C12: NÁUTICA | D12: NÁUTICA .2 | G12: 2 | I12: SEPÚLVEDA RODRIGO | K12: =E12 -> 0 | L12: =F12 -> 0 | M12: =G12 -> 2 | N12: =H12 -> 0
A13: 1ro | B13: B | C13: NÁUTICA | D13: NÁUTICA .1 | E13: 2 | I13: SEPÚLVEDA RODRIGO | K13: =E13 -> 2 | L13: =F13 -> 0 | M13: =G13 -> 0 | N13: =H13 -> 0
A14: 1ro | B14: B | C14: NÁUTICA | D14: NÁUTICA .2 | G14: 2 | I14: SEPÚLVEDA RODRIGO | K14: =E14 -> 0 | L14: =F14 -> 0 | M14: =G14 -> 2 | N14: =H14 -> 0
A15: 1ro | B15: C | C15: NÁUTICA | D15: NÁUTICA .1 | E15: 2 | I15: SEPÚLVEDA RODRIGO | K15: =E15 -> 2 | L15: =F15 -> 0 | M15: =G15 -> 0 | N15: =H15 -> 0
A16: 1ro | B16: C | C16: NÁUTICA | D16: NÁUTICA .2 | G16: 2 | I16: SEPÚLVEDA RODRIGO | K16: =E16 -> 0 | L16: =F16 -> 0 | M16: =G16 -> 2 | N16: =H16 -> 0
A17: 1ro | B17: D | C17: NÁUTICA | D17: NÁUTICA .1 | E17: 2 | I17: SEPÚLVEDA RODRIGO | K17: =E17 -> 2 | L17: =F17 -> 0 | M17: =G17 -> 0 | N17: =H17 -> 0
A18: 1ro | B18: D | C18: NÁUTICA | D18: NÁUTICA .2 | G18: 2 | I18: SEPÚLVEDA RODRIGO | K18: =E18 -> 0 | L18: =F18 -> 0 | M18: =G18 -> 2 | N18: =H18 -> 0
A19: 1ro | B19: E | C19: NÁUTICA | D19: NÁUTICA .1 | E19: 2 | I19: SEPÚLVEDA RODRIGO | K19: =E19 -> 2 | L19: =F19 -> 0 | M19: =G19 -> 0 | N19: =H19 -> 0
A20: 1ro | B20: E | C20: NÁUTICA | D20: NÁUTICA .2 | G20: 2 | I20: SEPÚLVEDA RODRIGO | K20: =E20 -> 0 | L20: =F20 -> 0 | M20: =G20 -> 2 | N20: =H20 -> 0
A21: 1ro | B21: H | C21: NÁUTICA | D21: NÁUTICA .1 | E21: 2 | I21: HENRÍQUEZ MILAN PAC | K21: =E21 -> 2 | L21: =F21 -> 0 | M21: =G21 -> 0 | N21: =H21 -> 0
A22: 1ro | B22: H | C22: NÁUTICA | D22: NÁUTICA .2 | G22: 2 | I22: HENRÍQUEZ MILAN PAC | K22: =E22 -> 0 | L22: =F22 -> 0 | M22: =G22 -> 2 | N22: =H22 -> 0
A23: 1ro | B23: K | C23: NÁUTICA | D23: NÁUTICA .1 | E23: 2 | I23: HENRÍQUEZ MILAN PAC | K23: =E23 -> 2 | L23: =F23 -> 0 | M23: =G23 -> 0 | N23: =H23 -> 0
A24: 1ro | B24: K | C24: NÁUTICA | D24: NÁUTICA .2 | G24: 2 | I24: HENRÍQUEZ MILAN PAC | K24: =E24 -> 0 | L24: =F24 -> 0 | M24: =G24 -> 2 | N24: =H24 -> 0
D26: CARGA 2026 | E26: =+SUM(E11:E24) -> 14 | G26: =+SUM(G11:G24) -> 14 | I26: =+G26+E26 -> 28
D27: CARGA 2025 | E27: 14 | G27: 14 | I27: =E27+G27 -> 28
I29: RESUMEN | J29: 1 Sem | L29: 2 Sem
I31: SEPÚLVEDA RODRIGO | J31: =SUMIF($I$11:$N$24,$I31,K$11:K$24) -> 10 | L31: =SUMIF($I$11:$N$24,$I31,M$11:M$24) -> 10
I32: HENRÍQUEZ MILAN PAC | J32: =SUMIF($I$11:$N$24,$I32,K$11:K$24) -> 4 | L32: =SUMIF($I$11:$N$24,$I32,M$11:M$24) -> 4
I33: Curso Nuevo | J33: =SUMIF($I$11:$N$24,$I33,K$11:K$24) -> 0 | L33: =SUMIF($I$11:$N$24,$I33,M$11:M$24) -> 0
L35: =SUM(J31:L33) -> 28

Sheet FOR NAVAL
B1: HORAS DE CLASES POR CURSO - PROFESOR
B2: AÑO ACADÉMICO 2025
B3: CÁTEDRA :
E4: 1er SEM. | G4: 2º SEM.
B5: CURSO | D5: CÁTEDRA | E5: SIST. | F5: LAB | G5: SIST. | H5: LAB | I5: PROFESOR | J5: Unidad Temática
A6: 1 | B6: 4to EJ | C6: B | D6: FORMACIÓN NAVAL | E6: 2 | I6: PAC SO SEPULVEDA | J6: BUCEO | L6: =E6 -> 2 | M6: =F6 -> 0 | N6: =G6 -> 0 | O6: =H6 -> 0
A7: 1 | B7: 4to EJ | C7: C | D7: FORMACIÓN NAVAL | G7: 2 | I7: PAC SO SEPULVEDA | J7: BUCEO | L7: =E7 -> 0 | M7: =F7 -> 0 | N7: =G7 -> 2 | O7: =H7 -> 0
A8: 1 | D8: FORMACIÓN NAVAL | F8: 4 | I8: PAC SO SEPULVEDA | J8: BUCEO | L8: =E8 -> 0 | M8: =F8 -> 4 | N8: =G8 -> 0 | O8: =H8 -> 0
A9: 1 | D9: FORMACIÓN NAVAL | H9: 4 | I9: PAC SO SEPULVEDA | J9: BUCEO | L9: =E9 -> 0 | M9: =F9 -> 0 | N9: =G9 -> 0 | O9: =H9 -> 4
A10: 1 | B10: 2do EJ | C10: B | D10: FORMACIÓN NAVAL | E10: 2 | I10: BELLO DANIEL | J10: TIRO | L10: =E10 -> 2 | M10: =F10 -> 0 | N10: =G10 -> 0 | O10: =H10 -> 0
A11: 1 | B11: 2do EJ | C11: B | D11: FORMACIÓN NAVAL | G11: 2 | I11: BELLO DANIEL | J11: TIRO | L11: =E11 -> 0 | M11: =F11 -> 0 | N11: =G11 -> 2 | O11: =H11 -> 0
A12: 1 | D12: FORMACIÓN NAVAL | F12: 8 | I12: BIERWIRTH | J12: Patrón Deportivo Bahía | L12: =E12 -> 0 | M12: =F12 -> 8 | N12: =G12 -> 0 | O12: =H12 -> 0
A13: 1 | D13: FORMACIÓN NAVAL | H13: 8 | I13: BIERWIRTH | J13: Patrón Deportivo Bahía | L13: =E13 -> 0 | M13: =F13 -> 0 | N13: =G13 -> 0 | O13: =H13 -> 8
A14: 1 | B14: 2do EJ | C14: C | D14: FORMACIÓN NAVAL | E14: 2 | I14: PC F GONZALEZ | J14: METEOROLOGÍA | K14: ASIGNAR OTRO PROFESOR | L14: =E14 -> 2 | M14: =F14 -> 0 | N14: =G14 -> 0 | O14: =H14 -> 0
A15: 2 | B15: 2do EJ | C15: C | D15: FORMACIÓN NAVAL | G15: 2 | I15: PC F GONZALEZ | J15: METEOROLOGÍA | L15: =E15 -> 0 | M15: =F15 -> 0 | N15: =G15 -> 2 | O15: =H15 -> 0
A16: 2 | B16: 4to AB | D16: FORMACIÓN NAVAL | E16: 2 | I16: CAMPOS MANUEL | J16: Defensa personal | L16: =E16 -> 2 | M16: =F16 -> 0 | N16: =G16 -> 0 | O16: =H16 -> 0
A17: 3 | B17: 4to AB | D17: FORMACIÓN NAVAL | G17: 2 | I17: CAMPOS MANUEL | J17: Defensa personal | L17: =E17 -> 0 | M17: =F17 -> 0 | N17: =G17 -> 2 | O17: =H17 -> 0
A18: 3 | B18: 3ro EJ | C18: B | D18: FORMACIÓN NAVAL | E18: 2 | I18: INSTRUCTOR DEF PERS (1) | J18: Defensa personal | L18: =E18 -> 2 | M18: =F18 -> 0 | N18: =G18 -> 0 | O18: =H18 -> 0
A19: 4 | B19: 3ro EJ | C19: B | D19: FORMACIÓN NAVAL | G19: 2 | I19: INSTRUCTOR DEF PERS (1) | J19: Defensa personal | L19: =E19 -> 0 | M19: =F19 -> 0 | N19: =G19 -> 2 | O19: =H19 -> 0
A20: 6 | B20: 3ro AB | D20: FORMACIÓN NAVAL | E20: 2 | I20: OF. ESCUELA | J20: REGLAMENTACION | L20: =E20 -> 2 | M20: =F20 -> 0 | N20: =G20 -> 0 | O20: =H20 -> 0
A21: 6 | B21: 3ro AB | D21: FORMACIÓN NAVAL | G21: 2 | I21: OF. ESCUELA | J21: REGLAMENTACION | L21: =E21 -> 0 | M21: =F21 -> 0 | N21: =G21 -> 2 | O21: =H21 -> 0
A22: 7 | D22: FORMACIÓN NAVAL | E22: 2 | I22: MALDONADO VALDES GONZALO | J22: BUCEO | L22: =E22 -> 2 | M22: =F22 -> 0 | N22: =G22 -> 0 | O22: =H22 -> 0
A23: 7 | D23: FORMACIÓN NAVAL | G23: 2 | I23: MALDONADO VALDES GONZALO | J23: BUCEO | L23: =E23 -> 0 | M23: =F23 -> 0 | N23: =G23 -> 2 | O23: =H23 -> 0
A24: 8 | B24: 2do AB | D24: FORMACIÓN NAVAL | E24: 2 | I24: T1 HERRERA | J24: BUCEO | L24: =E24 -> 2 | M24: =F24 -> 0 | N24: =G24 -> 0 | O24: =H24 -> 0
A25: 8 | B25: 2do AB | D25: FORMACIÓN NAVAL | H25: 2 | I25: T1 HERRERA | J25: BUCEO | L25: =E25 -> 0 | M25: =F25 -> 0 | N25: =G25 -> 0 | O25: =H25 -> 2
A26: 9 | B26: 3ro IM | D26: FORMACIÓN NAVAL | E26: 2 | I26: T1 HERRERA | J26: BUCEO | L26: =E26 -> 2 | M26: =F26 -> 0 | N26: =G26 -> 0 | O26: =H26 -> 0
A27: 9 | B27: 3ro IM | D27: FORMACIÓN NAVAL | H27: 2 | I27: T1 HERRERA | J27: BUCEO | L27: =E27 -> 0 | M27: =F27 -> 0 | N27: =G27 -> 0 | O27: =H27 -> 2
A28: 9 | D28: FORMACIÓN NAVAL | F28: 2 | I28: T1 HERRERA | J28: BUCEO | L28: =E28 -> 0 | M28: =F28 -> 2 | N28: =G28 -> 0 | O28: =H28 -> 0
A29: 9 | D29: FORMACIÓN NAVAL | H29: 2 | I29: T1 HERRERA | J29: BUCEO | L29: =E29 -> 0 | M29: =F29 -> 0 | N29: =G29 -> 0 | O29: =H29 -> 2
A30: 9 | B30: 4to EJ | C30: A | D30: FORMACIÓN NAVAL | E30: 2 | I30: INSTRUCTOR DEF PERS (2) | J30: Defensa personal | L30: =E30 -> 2 | M30: =F30 -> 0 | N30: =G30 -> 0 | O30: =H30 -> 0
A31: 9 | B31: 4to EJ | C31: A | D31: FORMACIÓN NAVAL | G31: 2 | I31: INSTRUCTOR DEF PERS (2) | J31: Defensa personal | L31: =E31 -> 0 | M31: =F31 -> 0 | N31: =G31 -> 2 | O31: =H31 -> 0
D32: FORMACIÓN NAVAL | F32: 2 | I32: PAC SO DONOSO | J32: BUCEO | L32: =E32 -> 0 | M32: =F32 -> 2 | N32: =G32 -> 0 | O32: =H32 -> 0
D33: FORMACIÓN NAVAL | G33: 2 | I33: PAC SO DONOSO | J33: BUCEO | L33: =E33 -> 0 | M33: =F33 -> 0 | N33: =G33 -> 2 | O33: =H33 -> 0
D34: FORMACIÓN NAVAL | F34: 4 | I34: PAC SO DONOSO | J34: BUCEO | L34: =E34 -> 0 | M34: =F34 -> 4 | N34: =G34 -> 0 | O34: =H34 -> 0
D35: FORMACIÓN NAVAL | H35: 4 | I35: PAC SO DONOSO | J35: BUCEO | L35: =E35 -> 0 | M35: =F35 -> 0 | N35: =G35 -> 0 | O35: =H35 -> 4
A36: A | B36: 3ro LT | D36: FORMACIÓN NAVAL | E36: 2 | I36: PÉREZ SO IM | J36: BUCEO | L36: =E36 -> 2 | M36: =F36 -> 0 | N36: =G36 -> 0 | O36: =H36 -> 0
A37: A | B37: 3ro LT | D37: FORMACIÓN NAVAL | G37: 2 | I37: PÉREZ SO IM | J37: BUCEO | L37: =E37 -> 0 | M37: =F37 -> 0 | N37: =G37 -> 2 | O37: =H37 -> 0
D38: FORMACIÓN NAVAL | E38: 2 | I38: ZANELLI VICTOR | J38: LIDERAZGO | L38: =E38 -> 2 | M38: =F38 -> 0 | N38: =G38 -> 0 | O38: =H38 -> 0
D39: FORMACIÓN NAVAL | G39: 2 | I39: OF DIV 4 | J39: LIDERAZGO | L39: =E39 -> 0 | M39: =F39 -> 0 | N39: =G39 -> 2 | O39: =H39 -> 0
D40: FORMACIÓN NAVAL | E40: 2 | I40: ROJAS MARIANO | J40: LIDERAZGO | L40: =E40 -> 2 | M40: =F40 -> 0 | N40: =G40 -> 0 | O40: =H40 -> 0
D41: FORMACIÓN NAVAL | G41: 2 | I41: ROJAS MARIANO | J41: LIDERAZGO | L41: =E41 -> 0 | M41: =F41 -> 0 | N41: =G41 -> 2 | O41: =H41 -> 0
D42: FORMACIÓN NAVAL | E42: 2 | I42: SIELFELD JUAN | J42: LIDERAZGO | L42: =E42 -> 2 | M42: =F42 -> 0 | N42: =G42 -> 0 | O42: =H42 -> 0
D43: FORMACIÓN NAVAL | G43: 2 | I43: SIELFELD JUAN | J43: LIDERAZGO | L43: =E43 -> 0 | M43: =F43 -> 0 | N43: =G43 -> 2 | O43: =H43 -> 0
D44: FORMACIÓN NAVAL | E44: 2 | I44: OF DIV 1 | J44: LIDERAZGO | L44: =E44 -> 2 | M44: =F44 -> 0 | N44: =G44 -> 0 | O44: =H44 -> 0
D45: FORMACIÓN NAVAL | G45: 2 | I45: OF DIV 1 | J45: LIDERAZGO | L45: =E45 -> 0 | M45: =F45 -> 0 | N45: =G45 -> 2 | O45: =H45 -> 0
A46: C | D46: FORMACIÓN NAVAL | E46: 2 | I46: OF DIV 2 | J46: LIDERAZGO | L46: =E46 -> 2 | M46: =F46 -> 0 | N46: =G46 -> 0 | O46: =H46 -> 0
A47: C | D47: FORMACIÓN NAVAL | G47: 2 | I47: OF DIV 2 | J47: LIDERAZGO | L47: =E47 -> 0 | M47: =F47 -> 0 | N47: =G47 -> 2 | O47: =H47 -> 0
D48: FORMACIÓN NAVAL | E48: 2 | I48: OF DIV 3 | J48: LIDERAZGO | L48: =E48 -> 2 | M48: =F48 -> 0 | N48: =G48 -> 0 | O48: =H48 -> 0
D49: FORMACIÓN NAVAL | G49: 2 | I49: OF DIV 3 | J49: LIDERAZGO | L49: =E49 -> 0 | M49: =F49 -> 0 | N49: =G49 -> 2 | O49: =H49 -> 0
D50: FORMACIÓN NAVAL | F50: 8 | I50: SEPÚLVEDA RODRIGO | J50: Patrón Deportivo Bahía | L50: =E50 -> 0 | M50: =F50 -> 8 | N50: =G50 -> 0 | O50: =H50 -> 0
D51: FORMACIÓN NAVAL | H51: 8 | I51: SEPÚLVEDA RODRIGO | J51: Patrón Deportivo Bahía | L51: =E51 -> 0 | M51: =F51 -> 0 | N51: =G51 -> 0 | O51: =H51 -> 8
B52: 4to IM | D52: FORMACIÓN NAVAL | F52: 2 | I52: VALDIVIA S1° | J52: BUCEO | L52: =E52 -> 0 | M52: =F52 -> 2 | N52: =G52 -> 0 | O52: =H52 -> 0
B53: 4to LT | D53: FORMACIÓN NAVAL | H53: 2 | I53: VALDIVIA S1° | J53: BUCEO | L53: =E53 -> 0 | M53: =F53 -> 0 | N53: =G53 -> 0 | O53: =H53 -> 2
D54: FORMACIÓN NAVAL | F54: 2 | I54: VALDIVIA S1° | J54: BUCEO | L54: =E54 -> 0 | M54: =F54 -> 2 | N54: =G54 -> 0 | O54: =H54 -> 0
D55: FORMACIÓN NAVAL | H55: 2 | I55: VALDIVIA S1° | J55: BUCEO | L55: =E55 -> 0 | M55: =F55 -> 0 | N55: =G55 -> 0 | O55: =H55 -> 2
D56: FORMACIÓN NAVAL | F56: 2 | I56: VALDIVIA S1° | J56: BUCEO | L56: =E56 -> 0 | M56: =F56 -> 2 | N56: =G56 -> 0 | O56: =H56 -> 0
D57: FORMACIÓN NAVAL | H57: 2 | I57: VALDIVIA S1° | J57: BUCEO | L57: =E57 -> 0 | M57: =F57 -> 0 | N57: =G57 -> 0 | O57: =H57 -> 2
E58: =SUM(E6:E57) -> 34 | F58: =SUM(F6:F57) -> 34 | G58: =SUM(G6:G57) -> 32 | H58: =SUM(H6:H57) -> 36
D60: CARGA 2026 | E60: =+SUM(E6:E57) -> 34 | F60: =+SUM(F6:F57) -> 34 | G60: =+SUM(G6:G57) -> 32 | H60: =+SUM(H6:H57) -> 36 | I60: =+E60+F60+G60+H60 -> 136
D63: RESUMEN | E63: 1 Sem | F63: LAB | G63: 2 Sem | H63: LAB
D64: PAC SO SEPULVEDA | E64: =SUMIF($I$6:$O$54,$D64,L$6:L$54) -> 2 | F64: =SUMIF($I$6:$O$54,$D64,M$6:M$54) -> 4 | G64: =SUMIF($I$6:$O$54,$D64,N$6:N$54) -> 2 | H64: =SUMIF($I$6:$O$54,$D64,O$6:O$54) -> 4
D65: BELLO DANIEL | E65: =SUMIF($I$6:$O$54,$D65,L$6:L$54) -> 2 | F65: =SUMIF($I$6:$O$54,$D65,M$6:M$54) -> 0 | G65: =SUMIF($I$6:$O$54,$D65,N$6:N$54) -> 2 | H65: =SUMIF($I$6:$O$54,$D65,O$6:O$54) -> 0
D66: BIERWIRTH | E66: =SUMIF($I$6:$O$54,$D66,L$6:L$54) -> 0 | F66: =SUMIF($I$6:$O$54,$D66,M$6:M$54) -> 8 | G66: =SUMIF($I$6:$O$54,$D66,N$6:N$54) -> 0 | H66: =SUMIF($I$6:$O$54,$D66,O$6:O$54) -> 8
D67: PC F GONZALEZ | E67: =SUMIF($I$6:$O$54,$D67,L$6:L$54) -> 2 | F67: =SUMIF($I$6:$O$54,$D67,M$6:M$54) -> 0 | G67: =SUMIF($I$6:$O$54,$D67,N$6:N$54) -> 2 | H67: =SUMIF($I$6:$O$54,$D67,O$6:O$54) -> 0
D68: CAMPOS MANUEL | E68: =SUMIF($I$6:$O$54,$D68,L$6:L$54) -> 2 | F68: =SUMIF($I$6:$O$54,$D68,M$6:M$54) -> 0 | G68: =SUMIF($I$6:$O$54,$D68,N$6:N$54) -> 2 | H68: =SUMIF($I$6:$O$54,$D68,O$6:O$54) -> 0
D69: INSTRUCTOR DEF PERS (1) | E69: =SUMIF($I$6:$O$54,$D69,L$6:L$54) -> 2 | F69: =SUMIF($I$6:$O$54,$D69,M$6:M$54) -> 0 | G69: =SUMIF($I$6:$O$54,$D69,N$6:N$54) -> 2 | H69: =SUMIF($I$6:$O$54,$D69,O$6:O$54) -> 0
D70: MALDONADO VALDES GONZALO | E70: =SUMIF($I$6:$O$54,$D70,L$6:L$54) -> 2 | F70: =SUMIF($I$6:$O$54,$D70,M$6:M$54) -> 0 | G70: =SUMIF($I$6:$O$54,$D70,N$6:N$54) -> 2 | H70: =SUMIF($I$6:$O$54,$D70,O$6:O$54) -> 0
D71: T1 HERRERA | E71: =SUMIF($I$6:$O$54,$D71,L$6:L$54) -> 4 | F71: =SUMIF($I$6:$O$54,$D71,M$6:M$54) -> 2 | G71: =SUMIF($I$6:$O$54,$D71,N$6:N$54) -> 0 | H71: =SUMIF($I$6:$O$54,$D71,O$6:O$54) -> 6
D72: PÉREZ SO IM | E72: =SUMIF($I$6:$O$54,$D72,L$6:L$54) -> 2 | F72: =SUMIF($I$6:$O$54,$D72,M$6:M$54) -> 0 | G72: =SUMIF($I$6:$O$54,$D72,N$6:N$54) -> 2 | H72: =SUMIF($I$6:$O$54,$D72,O$6:O$54) -> 0
D73: OF. ESCUELA | E73: =SUMIF($I$6:$O$54,$D73,L$6:L$54) -> 2 | F73: =SUMIF($I$6:$O$54,$D73,M$6:M$54) -> 0 | G73: =SUMIF($I$6:$O$54,$D73,N$6:N$54) -> 2 | H73: =SUMIF($I$6:$O$54,$D73,O$6:O$54) -> 0
D74: SEPÚLVEDA RODRIGO | E74: =SUMIF($I$6:$O$54,$D74,L$6:L$54) -> 0 | F74: =SUMIF($I$6:$O$54,$D74,M$6:M$54) -> 8 | G74: =SUMIF($I$6:$O$54,$D74,N$6:N$54) -> 0 | H74: =SUMIF($I$6:$O$54,$D74,O$6:O$54) -> 8
D75: VALDIVIA S1° | E75: =SUMIF($I$6:$O$54,$D75,L$6:L$54) -> 0 | F75: =SUMIF($I$6:$O$57,$D75,M$6:M$54) -> 6 | G75: =SUMIF($I$6:$O$54,$D75,N$6:N$54) -> 0 | H75: =SUMIF($I$6:$O$57,$D75,O$6:O$54) -> 6
D76: ZANELLI VICTOR | E76: =SUMIF($I$6:$O$54,$D76,L$6:L$54) -> 2 | F76: =SUMIF($I$6:$O$54,$D76,M$6:M$54) -> 0 | G76: =SUMIF($I$6:$O$54,$D76,N$6:N$54) -> 0 | H76: =SUMIF($I$6:$O$54,$D76,O$6:O$54) -> 0
D77: ROJAS MARIANO | E77: =SUMIF($I$6:$O$54,$D77,L$6:L$54) -> 2 | F77: =SUMIF($I$6:$O$54,$D77,M$6:M$54) -> 0 | G77: =SUMIF($I$6:$O$54,$D77,N$6:N$54) -> 2 | H77: =SUMIF($I$6:$O$54,$D77,O$6:O$54) -> 0
D78: SIELFELD JUAN | E78: =SUMIF($I$6:$O$54,$D78,L$6:L$54) -> 2 | F78: =SUMIF($I$6:$O$54,$D78,M$6:M$54) -> 0 | G78: =SUMIF($I$6:$O$54,$D78,N$6:N$54) -> 2 | H78: =SUMIF($I$6:$O$54,$D78,O$6:O$54) -> 0
D79: OF DIV 1 | E79: =SUMIF($I$6:$O$54,$D79,L$6:L$54) -> 2 | F79: =SUMIF($I$6:$O$54,$D79,M$6:M$54) -> 0 | G79: =SUMIF($I$6:$O$54,$D79,N$6:N$54) -> 2 | H79: =SUMIF($I$6:$O$54,$D79,O$6:O$54) -> 0
D80: OF DIV 2 | E80: =SUMIF($I$6:$O$54,$D80,L$6:L$54) -> 2 | F80: =SUMIF($I$6:$O$54,$D80,M$6:M$54) -> 0 | G80: =SUMIF($I$6:$O$54,$D80,N$6:N$54) -> 2 | H80: =SUMIF($I$6:$O$54,$D80,O$6:O$54) -> 0
D81: OF DIV 3 | E81: =SUMIF($I$6:$O$54,$D81,L$6:L$54) -> 2 | F81: =SUMIF($I$6:$O$54,$D81,M$6:M$54) -> 0 | G81: =SUMIF($I$6:$O$54,$D81,N$6:N$54) -> 2 | H81: =SUMIF($I$6:$O$54,$D81,O$6:O$54) -> 0
D82: OF DIV 4 | E82: =SUMIF($I$6:$O$54,$D82,L$6:L$54) -> 0 | F82: =SUMIF($I$6:$O$54,$D82,M$6:M$54) -> 0 | G82: =SUMIF($I$6:$O$54,$D82,N$6:N$54) -> 2 | H82: =SUMIF($I$6:$O$54,$D82,O$6:O$54) -> 0
D83: PAC SO DONOSO | E83: =SUMIF($I$6:$O$54,$D83,L$6:L$54) -> 0 | F83: =SUMIF($I$6:$O$54,$D83,M$6:M$54) -> 6 | G83: =SUMIF($I$6:$O$54,$D83,N$6:N$54) -> 2 | H83: =SUMIF($I$6:$O$54,$D83,O$6:O$54) -> 4
D84: INSTRUCTOR DEF PERS (2) | E84: =SUMIF($I$6:$O$54,$D84,L$6:L$54) -> 2 | F84: =SUMIF($I$6:$O$54,$D84,M$6:M$54) -> 0 | G84: =SUMIF($I$6:$O$54,$D84,N$6:N$54) -> 2 | H84: =SUMIF($I$6:$O$54,$D84,O$6:O$54) -> 0
E85: =SUM(E64:E84) -> 34 | F85: =SUM(F64:F84) -> 34 | G85: =SUM(G64:G84) -> 32 | H85: =SUM(H64:H84) -> 36

Sheet LENGUAJE
A1: Escuela Naval "A. Prat"
A2: Departamento Educación
A3: Unidad de Coordinación Académica
A5: HORAS DE CLASES POR CURSO - PROFESOR
A6: AÑO ACADÉMICO 2026
A7: CÁTEDRA : | D7: LENGUA CASTELLANA
D8: HORAS SEMANALES
A9: CURSO | C9: CÁTEDRA | D9: ASIGNATURAS | E9: 1er SEM. | G9: 2º SEM. | I9: PROFESOR
E10: SIST. | F10: LAB | G10: SIST. | H10: LAB
A11: 1ro | B11: A | C11: LENGUAJE | D11: ESCRITURA, ORALIDAD Y ARGUMENTACIÓN | E11: 6 | I11: CAMPOS VALESKA | K11: =E11 -> 6
A12: 1ro | B12: A | C12: LENGUAJE | D12: ESCRITURA, ORALIDAD Y ARGUMENTACIÓN | G12: 6 | I12: CAMPOS VALESKA | K12: =E12 -> 0
A13: 1ro | B13: B | C13: LENGUAJE | D13: ESCRITURA, ORALIDAD Y ARGUMENTACIÓN | E13: 6 | I13: ARENTSEN CHRISTIANE | K13: =E13 -> 6
A14: 1ro | B14: B | C14: LENGUAJE | D14: ESCRITURA, ORALIDAD Y ARGUMENTACIÓN | G14: 6 | I14: ARENTSEN CHRISTIANE | K14: =E14 -> 0
A15: 1ro | B15: C | C15: LENGUAJE | D15: ESCRITURA, ORALIDAD Y ARGUMENTACIÓN | E15: 6 | I15: CAMPOS VALESKA | K15: =E15 -> 6
A16: 1ro | B16: C | C16: LENGUAJE | D16: ESCRITURA, ORALIDAD Y ARGUMENTACIÓN | G16: 6 | I16: CAMPOS VALESKA | K16: =E16 -> 0
A17: 1ro | B17: D | C17: LENGUAJE | D17: ESCRITURA, ORALIDAD Y ARGUMENTACIÓN | E17: 6 | I17: ARENTSEN CHRISTIANE | K17: =E17 -> 6
A18: 1ro | B18: D | C18: LENGUAJE | D18: ESCRITURA, ORALIDAD Y ARGUMENTACIÓN | G18: 6 | I18: ARENTSEN CHRISTIANE | K18: =E18 -> 0
A19: 1ro | B19: E | C19: LENGUAJE | D19: ESCRITURA, ORALIDAD Y ARGUMENTACIÓN | E19: 6 | I19: CAMPOS VALESKA | K19: =E19 -> 6
A20: 1ro | B20: E | C20: LENGUAJE | D20: ESCRITURA, ORALIDAD Y ARGUMENTACIÓN | G20: 6 | I20: CAMPOS VALESKA | K20: =E20 -> 0
A21: 1ro | B21: H | C21: LENGUAJE | D21: ESCRITURA, ORALIDAD Y ARGUMENTACIÓN | E21: 6 | I21: ARENTSEN CHRISTIANE | K21: =E21 -> 6
A22: 1ro | B22: H | C22: LENGUAJE | D22: ESCRITURA, ORALIDAD Y ARGUMENTACIÓN | G22: 6 | I22: ARENTSEN CHRISTIANE | K22: =E22 -> 0
A23: 1ro | B23: K | C23: LENGUAJE | D23: ESCRITURA, ORALIDAD Y ARGUMENTACIÓN | E23: 6 | I23: ARENTSEN CHRISTIANE | K23: =E23 -> 6
A24: 1ro | B24: K | C24: LENGUAJE | D24: ESCRITURA, ORALIDAD Y ARGUMENTACIÓN | G24: 6 | I24: CAMPOS VALESKA | K24: =E24 -> 0
A25: 2do EJ | B25: A | C25: LENGUAJE | D25: HABILIDADES LINGÜÍSTICAS | E25: 2 | I25: MIGUEL NUÑEZ | K25: =E25 -> 2
A26: 2do EJ | B26: B | C26: LENGUAJE | D26: HABILIDADES LINGÜÍSTICAS | E26: 2 | I26: MIGUEL NUÑEZ | K26: =E26 -> 2
A27: 2do EJ | B27: C | C27: LENGUAJE | D27: HABILIDADES LINGÜÍSTICAS | E27: 2 | I27: MIGUEL NUÑEZ | K27: =E27 -> 2
A28: 2do EJ | B28: D | C28: LENGUAJE | D28: HABILIDADES LINGÜÍSTICAS | E28: 2 | I28: ARENTSEN CHRISTIANE | K28: =E28 -> 2
A29: 2do IM | C29: LENGUAJE | D29: HABILIDADES LINGÜÍSTICAS | G29: 2 | I29: MIGUEL NUÑEZ | K29: =E29 -> 0
A30: 2do AB | C30: LENGUAJE | D30: HABILIDADES LINGÜÍSTICAS | G30: 2 | I30: MIGUEL NUÑEZ | K30: =E30 -> 0
A31: 2do LT | C31: LENGUAJE | D31: HABILIDADES LINGÜÍSTICAS | G31: 2 | I31: MIGUEL NUÑEZ | K31: =E31 -> 0
A32: 1ro | B32: A | C32: LENGUAJE | D32: ESTRATEGIAS DE APRENDIZAJE | E32: 2 | I32: LUCERO ANDRÉS | K32: =E32 -> 2
A33: 1ro | B33: B | C33: LENGUAJE | D33: ESTRATEGIAS DE APRENDIZAJE | E33: 2 | I33: LUCERO ANDRÉS | K33: =E33 -> 2
A34: 1ro | B34: C | C34: LENGUAJE | D34: ESTRATEGIAS DE APRENDIZAJE | E34: 2 | I34: LUCERO ANDRÉS | K34: =E34 -> 2
A35: 1ro | B35: D | C35: LENGUAJE | D35: ESTRATEGIAS DE APRENDIZAJE | E35: 2 | I35: PUENTES MÓNICA | K35: =E35 -> 2
A36: 1ro | B36: E | C36: LENGUAJE | D36: ESTRATEGIAS DE APRENDIZAJE | E36: 2 | I36: PUENTES MÓNICA | K36: =E36 -> 2
A37: 1ro | B37: H | C37: LENGUAJE | D37: ESTRATEGIAS DE APRENDIZAJE | E37: 2 | I37: PUENTES MÓNICA | K37: =E37 -> 2
A38: 1ro | B38: K | C38: LENGUAJE | D38: ESTRATEGIAS DE APRENDIZAJE | E38: 2 | I38: PUENTES MÓNICA | K38: =E38 -> 2
A39: 4to OM | C39: LENGUAJE | D39: LENGUA CASTELLANA | G39: 6 | I39: ARENTSEN CHRISTIANE
A40: 4to OM | C40: LENGUAJE | D40: LENGUA CASTELLANA | E40: 6 | I40: CAMPOS VALESKA | K40: =E40 -> 6
E43: 1 SEM | G43: 2 SEM
D44: ARENTSEN CHRISTIANE | E44: =SUMIF($I$11:$N$40,$D44,K$11:K$40) -> 26 | G44: =SUMIF($I$11:$N$40,$D44,G$11:G$24) -> 24
D45: CAMPOS VALESKA | E45: =SUMIF($I$11:$M$40,$D45,K$11:K$24) -> 24 | G45: =SUMIF($I$11:$N$40,$D45,G$11:G$24) -> 24
D46: MIGUEL NUÑEZ | E46: =SUMIF($I$11:$M$40,$D46,K$11:K$24) -> 6 | G46: =SUMIF($I$11:$N$40,$D46,G$11:G$24) -> 6
D47: LUCERO ANDRÉS | E47: =SUMIF($I$11:$M$40,$D47,K$11:K$24) -> 6 | G47: =SUMIF($I$11:$M$40,$D47,G$11:G$40) -> 0
D48: PUENTES MÓNICA | E48: =SUMIF($I$11:$M$40,$D48,K$11:K$24) -> 8 | G48: =SUMIF($I$11:$M$40,$D48,G$11:G$40) -> 0
E50: =SUM(E44:E49) -> 70 | G50: =SUM(G44:G49) -> 54

Sheet HISTORIA
A1: Escuela Naval "A. Prat"
A2: Departamento Educación
A3: Unidad de Coordinación Académica
A5: HORAS DE CLASES POR CURSO - PROFESOR
A6: AÑO ACADÉMICO 2026
A7: CÁTEDRA : | D7: CIENCIAS SOCIALES
D8: HORAS SEMANALES
A9: CURSO | C9: CÁTEDRA | D9: ASIGNATURAS | E9: 1er SEM. | G9: 2º SEM. | I9: PROFESOR
E10: SIST. | F10: LAB | G10: SIST. | H10: LAB
A11: 1ro | B11: A | C11: HISTORIA | D11: GEOGRAFÍA MARÍTIMA E HISTORIA DE LA CULTURA .1 | E11: 2 | I11: RÍOS JORGE | K11: =E11 -> 2 | L11: =F11 -> 0 | M11: =G11 -> 0 | N11: =H11 -> 0
A12: 1ro | B12: A | C12: HISTORIA | D12: GEOGRAFÍA MARÍTIMA E HISTORIA DE LA CULTURA .1 | G12: 2 | I12: RÍOS JORGE | K12: =E12 -> 0 | L12: =F12 -> 0 | M12: =G12 -> 2 | N12: =H12 -> 0
A13: 1ro | B13: B | C13: HISTORIA | D13: GEOGRAFÍA MARÍTIMA E HISTORIA DE LA CULTURA .1 | E13: 2 | I13: RÍOS JORGE | K13: =E13 -> 2 | L13: =F13 -> 0 | M13: =G13 -> 0 | N13: =H13 -> 0
A14: 1ro | B14: B | C14: HISTORIA | D14: GEOGRAFÍA MARÍTIMA E HISTORIA DE LA CULTURA .1 | G14: 2 | I14: RÍOS JORGE | K14: =E14 -> 0 | L14: =F14 -> 0 | M14: =G14 -> 2 | N14: =H14 -> 0
A15: 1ro | B15: C | C15: HISTORIA | D15: GEOGRAFÍA MARÍTIMA E HISTORIA DE LA CULTURA .1 | E15: 2 | I15: RÍOS JORGE | K15: =E15 -> 2 | L15: =F15 -> 0 | M15: =G15 -> 0 | N15: =H15 -> 0
A16: 1ro | B16: C | C16: HISTORIA | D16: GEOGRAFÍA MARÍTIMA E HISTORIA DE LA CULTURA .2 | G16: 2 | I16: RÍOS JORGE | K16: =E16 -> 0 | L16: =F16 -> 0 | M16: =G16 -> 2 | N16: =H16 -> 0
A17: 1ro | B17: D | C17: HISTORIA | D17: GEOGRAFÍA MARÍTIMA E HISTORIA DE LA CULTURA .1 | E17: 2 | I17: RÍOS JORGE | K17: =E17 -> 2 | L17: =F17 -> 0 | M17: =G17 -> 0 | N17: =H17 -> 0
A18: 1ro | B18: D | C18: HISTORIA | D18: GEOGRAFÍA MARÍTIMA E HISTORIA DE LA CULTURA .2 | G18: 2 | I18: RÍOS JORGE | K18: =E18 -> 0 | L18: =F18 -> 0 | M18: =G18 -> 2 | N18: =H18 -> 0
A19: 1ro | B19: E | C19: HISTORIA | D19: GEOGRAFÍA MARÍTIMA E HISTORIA DE LA CULTURA .1 | E19: 2 | I19: ROMÁN LORENA | K19: =E19 -> 2 | L19: =F19 -> 0 | M19: =G19 -> 0 | N19: =H19 -> 0
A20: 1ro | B20: E | C20: HISTORIA | D20: GEOGRAFÍA MARÍTIMA E HISTORIA DE LA CULTURA .2 | G20: 2 | I20: ROMÁN LORENA | K20: =E20 -> 0 | L20: =F20 -> 0 | M20: =G20 -> 2 | N20: =H20 -> 0
A21: 1ro | B21: H | C21: HISTORIA | D21: GEOGRAFÍA MARÍTIMA E HISTORIA DE LA CULTURA .1 | E21: 2 | I21: ROMÁN LORENA | K21: =E21 -> 2 | L21: =F21 -> 0 | M21: =G21 -> 0 | N21: =H21 -> 0
A22: 1ro | B22: H | C22: HISTORIA | D22: GEOGRAFÍA MARÍTIMA E HISTORIA DE LA CULTURA .2 | G22: 2 | I22: ROMÁN LORENA | K22: =E22 -> 0 | L22: =F22 -> 0 | M22: =G22 -> 2 | N22: =H22 -> 0
A23: 1ro | B23: K | C23: HISTORIA | D23: GEOGRAFÍA MARÍTIMA E HISTORIA DE LA CULTURA .1 | E23: 2 | I23: ROMÁN LORENA | K23: =E23 -> 2 | L23: =F23 -> 0 | M23: =G23 -> 0 | N23: =H23 -> 0
A24: 1ro | B24: K | C24: HISTORIA | D24: GEOGRAFÍA MARÍTIMA E HISTORIA DE LA CULTURA .2 | G24: 2 | I24: ROMÁN LORENA | K24: =E24 -> 0 | L24: =F24 -> 0 | M24: =G24 -> 2 | N24: =H24 -> 0
A25: 2do AB | B25: J | C25: HISTORIA | D25: CHILE: HISTORIA Y SOBERANÍA | E25: 2 | I25: ROMÁN LORENA | K25: =E25 -> 2 | L25: =F25 -> 0 | M25: =G25 -> 0 | N25: =H25 -> 0
A26: 2do AB | B26: J | C26: HISTORIA | D26: CHILE: HISTORIA Y SOBERANÍA | G26: 2 | I26: ROMÁN LORENA | J26: ASIGNATURA CON 4 HRS SOLO EN PRIMER SEMESTRE | K26: =E26 -> 0 | L26: =F26 -> 0 | M26: =G26 -> 2 | N26: =H26 -> 0
A27: 2do IM | B27: I | C27: HISTORIA | D27: CHILE: HISTORIA Y SOBERANÍA | E27: 2 | I27: RÍOS JORGE | K27: =E27 -> 2 | L27: =F27 -> 0 | M27: =G27 -> 0 | N27: =H27 -> 0
A28: 2do IM | B28: I | C28: HISTORIA | D28: CHILE: HISTORIA Y SOBERANÍA | G28: 2 | I28: RÍOS JORGE | K28: =E28 -> 0 | L28: =F28 -> 0 | M28: =G28 -> 2 | N28: =H28 -> 0
A29: 2do LT | C29: HISTORIA | D29: CHILE: HISTORIA Y SOBERANÍA | G29: 4 | I29: RÍOS JORGE | K29: =E29 -> 0 | L29: =F29 -> 0 | M29: =G29 -> 4 | N29: =H29 -> 0
A30: 3ro EJ | B30: A | C30: CIENCIAS SOCIALES | D30: CHILE: HISTORIA Y SOBERANÍA | E30: 2 | I30: RÍOS JORGE | K30: =E30 -> 2 | L30: =F30 -> 0 | M30: =G30 -> 0 | N30: =H30 -> 0
A31: 3ro EJ | B31: A | C31: CIENCIAS SOCIALES | D31: CHILE: HISTORIA Y SOBERANÍA | G31: 2 | I31: RÍOS JORGE | K31: =E31 -> 0 | L31: =F31 -> 0 | M31: =G31 -> 2 | N31: =H31 -> 0
A32: 3ro EJ | B32: B | C32: CIENCIAS SOCIALES | D32: CHILE: HISTORIA Y SOBERANÍA | E32: 2 | I32: RÍOS JORGE | K32: =E32 -> 2 | L32: =F32 -> 0 | M32: =G32 -> 0 | N32: =H32 -> 0
A33: 3ro EJ | B33: B | C33: CIENCIAS SOCIALES | D33: CHILE: HISTORIA Y SOBERANÍA | G33: 2 | I33: RÍOS JORGE | K33: =E33 -> 0 | L33: =F33 -> 0 | M33: =G33 -> 2 | N33: =H33 -> 0
A34: 3ro EJ | B34: C | C34: CIENCIAS SOCIALES | D34: CHILE: HISTORIA Y SOBERANÍA | E34: 2 | I34: ROMÁN LORENA | K34: =E34 -> 2 | L34: =F34 -> 0 | M34: =G34 -> 0 | N34: =H34 -> 0
A35: 3ro EJ | B35: C | C35: CIENCIAS SOCIALES | D35: CHILE: HISTORIA Y SOBERANÍA | G35: 2 | I35: ROMÁN LORENA | K35: =E35 -> 0 | L35: =F35 -> 0 | M35: =G35 -> 2 | N35: =H35 -> 0
A36: 4to EJ | B36: A | C36: CIENCIAS SOCIALES | D36: ANÁLISIS DE LA REALIDAD NACIONAL E INTERNACIONAL | E36: 2 | I36: RAMÍREZ BLANCA | K36: =E36 -> 2 | L36: =F36 -> 0 | M36: =G36 -> 0 | N36: =H36 -> 0
A37: 4to EJ | B37: B | C37: CIENCIAS SOCIALES | D37: ANÁLISIS DE LA REALIDAD NACIONAL E INTERNACIONAL | E37: 2 | I37: RÍOS JORGE | K37: =E37 -> 2 | L37: =F37 -> 0 | M37: =G37 -> 0 | N37: =H37 -> 0
A38: 4to EJ | B38: C | C38: CIENCIAS SOCIALES | D38: ANÁLISIS DE LA REALIDAD NACIONAL E INTERNACIONAL | E38: 2 | I38: ROMÁN LORENA | K38: =E38 -> 2 | L38: =F38 -> 0 | M38: =G38 -> 0 | N38: =H38 -> 0
A39: 4to IM | B39: I | C39: CIENCIAS SOCIALES | D39: CHILE: HISTORIA Y SOBERANÍA | E39: 4 | I39: RAMÍREZ BLANCA | K39: =E39 -> 4 | L39: =F39 -> 0 | M39: =G39 -> 0 | N39: =H39 -> 0
A40: 4to IM | B40: I | C40: CIENCIAS SOCIALES | D40: ANÁLISIS DE LA REALIDAD NACIONAL E INTERNACIONAL | G40: 2 | I40: RAMÍREZ BLANCA | K40: =E40 -> 0 | L40: =F40 -> 0 | M40: =G40 -> 2 | N40: =H40 -> 0
A41: 4to AB | B41: J | C41: CIENCIAS SOCIALES | D41: ANÁLISIS DE LA REALIDAD NACIONAL E INTERNACIONAL | G41: 2 | I41: RÍOS JORGE | K41: =E41 -> 0 | L41: =F41 -> 0 | M41: =G41 -> 2 | N41: =H41 -> 0
A42: 4to LT | B42: L | C42: CIENCIAS SOCIALES | D42: ANÁLISIS DE LA REALIDAD NACIONAL E INTERNACIONAL | G42: 2 | I42: RÍOS JORGE | K42: =E42 -> 0 | L42: =F42 -> 0 | M42: =G42 -> 2 | N42: =H42 -> 0
A43: 4to OM | C43: HISTORIA | D43: ANÁLISIS DE LA REALIDAD NACIONAL E INTERNACIONAL | G43: 2 | I43: ROMÁN LORENA | J43: NO PUEDO OTORGARLA FIGURA COMO TOMADA PERO ESTA DISPONIBLE | K43: =E43 -> 0 | L43: =F43 -> 0 | M43: =G43 -> 2 | N43: =H43 -> 0
K44: =E44 -> 0 | L44: =F44 -> 0 | M44: =G44 -> 0 | N44: =H44 -> 0
D46: RESUMEN | E46: 1 Sem | G46: 2 Sem
D48: RAMÍREZ BLANCA | E48: =SUMIF($I$11:$N$43,$D48,K$11:K$43) -> 6 | G48: =SUMIF($I$11:$N$43,$D48,M$11:M$43) -> 2
D49: RÍOS JORGE | E49: =SUMIF($I$11:$N$43,$D49,K$11:K$43) -> 16 | G49: =SUMIF($I$11:$N$43,$D49,M$11:M$43) -> 22
D50: ROMÁN LORENA | E50: =SUMIF($I$11:$N$43,$D50,K$11:K$43) -> 12 | G50: =SUMIF($I$11:$N$43,$D50,M$11:M$43) -> 12
E51: =SUM(E48:E50) -> 34 | G51: =SUM(G48:G50) -> 36

Sheet HIST NAV 
A1: Escuela Naval "A. Prat"
A2: Departamento Educación
A3: Unidad de Coordinación Académica
A5: HORAS DE CLASES POR CURSO - PROFESOR
A6: AÑO ACADÉMICO 2026
A7: CÁTEDRA : | D7: CIENCIAS SOCIALES
D8: HORAS SEMANALES
A9: CURSO | C9: CÁTEDRA | D9: ASIGNATURAS | E9: 1er SEM. | G9: 2º SEM. | I9: PROFESOR
E10: SIST. | F10: LAB | G10: SIST. | H10: LAB
A11: 3ro Ej | B11: A | C11: HISTORIA | D11: HISTORIA NAVAL APLICADA .1 | E11: 4 | I11: QUIROGA CESAR | K11: =E11 -> 4 | L11: =F11 -> 0 | M11: =G11 -> 0 | N11: =H11 -> 0
A12: 3ro Ej | B12: A | C12: HISTORIA | D12: HISTORIA NAVAL APLICADA .2 | G12: 2 | I12: QUIROGA CESAR | K12: =E12 -> 0 | L12: =F12 -> 0 | M12: =G12 -> 2 | N12: =H12 -> 0
A13: 3ro Ej | B13: B | C13: HISTORIA | D13: HISTORIA NAVAL APLICADA .1 | E13: 4 | I13: QUIROGA CESAR | K13: =E13 -> 4 | L13: =F13 -> 0 | M13: =G13 -> 0 | N13: =H13 -> 0
A14: 3ro Ej | B14: B | C14: HISTORIA | D14: HISTORIA NAVAL APLICADA .2 | G14: 2 | I14: QUIROGA CESAR | K14: =E14 -> 0 | L14: =F14 -> 0 | M14: =G14 -> 2 | N14: =H14 -> 0
A15: 3ro Ej | B15: C | C15: HISTORIA | D15: HISTORIA NAVAL APLICADA .1 | E15: 4 | I15: RAMOS CARLOS | K15: =E15 -> 4 | L15: =F15 -> 0 | M15: =G15 -> 0 | N15: =H15 -> 0
A16: 3ro Ej | B16: C | C16: HISTORIA | D16: HISTORIA NAVAL APLICADA .2 | G16: 2 | I16: RAMOS CARLOS | K16: =E16 -> 0 | L16: =F16 -> 0 | M16: =G16 -> 2 | N16: =H16 -> 0
A17: 3ro IM | C17: HISTORIA | D17: HISTORIA NAVAL APLICADA IM .1 | E17: 2 | I17: RAMOS CARLOS | K17: =E17 -> 2 | L17: =F17 -> 0 | M17: =G17 -> 0 | N17: =H17 -> 0
A18: 3ro IM | C18: HISTORIA | D18: HISTORIA NAVAL APLICADA IM .2 | G18: 4 | I18: RAMOS CARLOS | K18: =E18 -> 0 | L18: =F18 -> 0 | M18: =G18 -> 4 | N18: =H18 -> 0
A19: 3ro AB | C19: HISTORIA | D19: HISTORIA NAVAL APLICADA .1 | E19: 2 | I19: QUIROGA CESAR | K19: =E19 -> 2 | L19: =F19 -> 0 | M19: =G19 -> 0 | N19: =H19 -> 0
A20: 3ro AB | C20: HISTORIA | D20: HISTORIA NAVAL APLICADA .2 | G20: 4 | I20: QUIROGA CESAR | K20: =E20 -> 0 | L20: =F20 -> 0 | M20: =G20 -> 4 | N20: =H20 -> 0
A21: 3ro LT | C21: HISTORIA | D21: HISTORIA NAVAL APLICADA .1 | E21: 4 | I21: QUIROGA CESAR | J21: EN SIGA FIGURAN 2 Y 4 | K21: =E21 -> 4 | L21: =F21 -> 0 | M21: =G21 -> 0 | N21: =H21 -> 0
A22: 3ro LT | C22: HISTORIA | D22: HISTORIA NAVAL APLICADA .2 | G22: 2 | I22: QUIROGA CESAR | K22: =E22 -> 0 | L22: =F22 -> 0 | M22: =G22 -> 2 | N22: =H22 -> 0
A23: 4to OM | C23: HISTORIA | D23: HISTORIA NAVAL APLICADA .2 | E23: 2 | I23: QUIROGA CESAR | K23: =E23 -> 2 | L23: =F23 -> 0 | M23: =G23 -> 0 | N23: =H23 -> 0
D26: RESUMEN | E26: 1° Sem | G26: 2° Sem
D27: QUIROGA CESAR | E27: =SUMIF($I$11:$N$23,$D27,K$11:K$22) -> 16 | G27: =SUMIF($I$11:$N$22,$D27,M$11:M$22) -> 10
D28: RAMOS CARLOS | E28: =SUMIF($I$11:$N$23,$D28,K$11:K$22) -> 6 | G28: =SUMIF($I$11:$N$22,$D28,M$11:M$22) -> 6
E29: =SUM(E27:E28) -> 22 | G29: =SUM(G27:G28) -> 16 | M29: =SUM(E29:L29) -> 38

Sheet DEREC
A1: Escuela Naval "A. Prat"
A2: Departamento Educación
A3: Unidad de Coordinación Académica
A5: HORAS DE CLASES POR CURSO - PROFESOR
A6: AÑO ACADÉMICO 2026
A7: CÁTEDRA : | D7: CIENCIAS SOCIALES
D8: HORAS SEMANALES
A9: CURSO | C9: CÁTEDRA | D9: ASIGNATURAS | E9: 1er SEM. | G9: 2º SEM. | I9: PROFESOR
E10: SIST. | F10: LAB | G10: SIST. | H10: LAB
A11: 4to EJ | B11: A | C11: CIENCIAS SOCIALES | D11: DERECHO | G11: 4 | I11: SILVA DIEGO | K11: =E11 -> 0 | L11: =F11 -> 0 | M11: =G11 -> 4 | N11: =H11 -> 0
A12: 4to EJ | B12: B | C12: CIENCIAS SOCIALES | D12: DERECHO | G12: 4 | I12: SILVA DIEGO | K12: =E12 -> 0 | L12: =F12 -> 0 | M12: =G12 -> 4 | N12: =H12 -> 0
A13: 4to EJ | B13: C | C13: CIENCIAS SOCIALES | D13: DERECHO | G13: 4 | I13: MELLA HERNÁN | K13: =E13 -> 0 | L13: =F13 -> 0 | M13: =G13 -> 4 | N13: =H13 -> 0
A14: 4to IM | B14: I | C14: CIENCIAS SOCIALES | D14: DERECHO | G14: 4 | I14: MELLA HERNÁN | K14: =E14 -> 0 | L14: =F14 -> 0 | M14: =G14 -> 4 | N14: =H14 -> 0
A15: 4to AB | B15: J | C15: CIENCIAS SOCIALES | D15: DERECHO | E15: 4 | I15: MELLA HERNÁN | K15: =E15 -> 4 | L15: =F15 -> 0 | M15: =G15 -> 0 | N15: =H15 -> 0
A16: 4to LT | B16: L | C16: CIENCIAS SOCIALES | D16: DERECHO | E16: 4 | I16: SILVA DIEGO | K16: =E16 -> 4 | L16: =F16 -> 0 | M16: =G16 -> 0 | N16: =H16 -> 0
A17: 3er AB | B17: J | C17: CIENCIAS SOCIALES | D17: DERECHO | E17: 2 | I17: SILVA DIEGO | K17: =E17 -> 2 | L17: =F17 -> 0 | M17: =G17 -> 0 | N17: =H17 -> 0
A18: 3er AB | B18: J | C18: CIENCIAS SOCIALES | D18: DERECHO | G18: 2 | I18: SILVA DIEGO | K18: =E18 -> 0 | L18: =F18 -> 0 | M18: =G18 -> 2 | N18: =H18 -> 0
A19: 4to EJ | B19: A | C19: CIENCIAS SOCIALES | D19: ED CÍVICA | G19: 2 | I19: ROMÁN LORENA | K19: =E19 -> 0 | L19: =F19 -> 0 | M19: =G19 -> 2 | N19: =H19 -> 0
A20: 4to EJ | B20: B | C20: CIENCIAS SOCIALES | D20: ED CÍVICA | G20: 2 | I20: ROMÁN LORENA | K20: =E20 -> 0 | L20: =F20 -> 0 | M20: =G20 -> 2 | N20: =H20 -> 0
A21: 4to EJ | B21: C | C21: CIENCIAS SOCIALES | D21: ED CÍVICA | G21: 2 | I21: ROMÁN LORENA | K21: =E21 -> 0 | L21: =F21 -> 0 | M21: =G21 -> 2 | N21: =H21 -> 0
A22: 4to AB | B22: J | C22: CIENCIAS SOCIALES | D22: ED CÍVICA | G22: 2 | I22: ROMÁN LORENA | J22: NO LA PUEDO ASIGNAR PERO APARECE LIBRE EN SIGA | K22: =E22 -> 0 | L22: =F22 -> 0 | M22: =G22 -> 2 | N22: =H22 -> 0
A23: 4to IM | B23: I | C23: CIENCIAS SOCIALES | D23: ED CÍVICA | G23: 2 | I23: RAMÍREZ BLANCA | K23: =E23 -> 0 | L23: =F23 -> 0 | M23: =G23 -> 2 | N23: =H23 -> 0
A24: 4to LT | B24: L | C24: CIENCIAS SOCIALES | D24: ED CÍVICA | G24: 2 | I24: RAMÍREZ BLANCA | J24: HORAS ASIGNADAS PC RIOS | K24: =E24 -> 0 | L24: =F24 -> 0 | M24: =G24 -> 2 | N24: =H24 -> 0
A25: 4to OM | C25: DERECHO | D25: DERECHO | E25: 4 | I25: MELLA HERNÁN | K25: =E25 -> 4 | L25: =F25 -> 0 | M25: =G25 -> 0 | N25: =H25 -> 0
A26: 4to OM | C26: CIENCIAS SOCIALES | D26: ED CÍVICA | G26: 2 | I26: ROMÁN LORENA | J26: NO LA PUEDO ASIGNAR PERO APARECE LIBRE EN SIGA | K26: =E26 -> 0 | L26: =F26 -> 0 | M26: =G26 -> 2 | N26: =H26 -> 0
D28: RESUMEN | E28: 1° Sem | G28: 2° Sem
D29: CELIS ALEJANDRO | E29: =SUMIF($I$11:$N$25,$D29,K$11:K$25) -> 0 | G29: =SUMIF($I$11:$N$24,$D29,M$11:M$24) -> 0
D30: MELLA HERNÁN | E30: 8 | G30: 8
D31: RAMÍREZ BLANCA | E31: =SUMIF($I$11:$N$24,$D31,K$11:K$24) -> 0 | G31: =SUMIF($I$11:$N$24,$D31,M$11:M$24) -> 4
D32: ROMÁN LORENA | E32: =SUMIF($I$11:$N$24,$D32,K$11:K$24) -> 0 | G32: =SUMIF($I$11:$N$26,$D32,M$11:M$24) -> 10
D33: SILVA DIEGO | E33: =SUMIF($I$11:$N$24,$D33,K$11:K$24) -> 6 | G33: =SUMIF($I$11:$N$24,$D33,M$11:M$24) -> 10
E34: =SUM(E29:E33) -> 14 | G34: =SUM(G29:G33) -> 32

Sheet FILOSOF
A1: Escuela Naval "A. Prat"
A2: Departamento Educación
A3: Unidad de Coordinación Académica
A5: HORAS DE CLASES POR CURSO - PROFESOR
A6: AÑO ACADÉMICO 2023
A7: CÁTEDRA : | D7: FILOSOFÍA, ÉTICA Y MORAL
D8: HORAS SEMANALES
A9: CURSO | C9: CÁTEDRA | D9: ASIGNATURAS | E9: 1er SEM. | G9: 2º SEM. | I9: PROFESOR
E10: SIST. | F10: LAB | G10: SIST. | H10: LAB
A11: 1ro | B11: A | C11: =+$D$7 -> FILOSOFÍA, ÉTICA Y MORAL | D11: FILOSOFÍA, ÉTICA Y MORAL .1 | E11: 4 | I11: MAYNE-NICHOLLS MICHAEL | K11: =E11 -> 4 | L11: =F11 -> 0 | M11: =G11 -> 0 | N11: =H11 -> 0
A12: 1ro | B12: A | C12: =+$D$7 -> FILOSOFÍA, ÉTICA Y MORAL | D12: FILOSOFÍA, ÉTICA Y MORAL .2 | G12: 4 | I12: MAYNE-NICHOLLS MICHAEL | K12: =E12 -> 0 | L12: =F12 -> 0 | M12: =G12 -> 4 | N12: =H12 -> 0
A13: 1ro | B13: B | C13: =+$D$7 -> FILOSOFÍA, ÉTICA Y MORAL | D13: FILOSOFÍA, ÉTICA Y MORAL .1 | E13: 4 | I13: MAYNE-NICHOLLS MICHAEL | K13: =E13 -> 4 | L13: =F13 -> 0 | M13: =G13 -> 0 | N13: =H13 -> 0
A14: 1ro | B14: B | C14: =+$D$7 -> FILOSOFÍA, ÉTICA Y MORAL | D14: FILOSOFÍA, ÉTICA Y MORAL .2 | G14: 4 | I14: MAYNE-NICHOLLS MICHAEL | K14: =E14 -> 0 | L14: =F14 -> 0 | M14: =G14 -> 4 | N14: =H14 -> 0
A15: 1ro | B15: C | C15: =+$D$7 -> FILOSOFÍA, ÉTICA Y MORAL | D15: FILOSOFÍA, ÉTICA Y MORAL .1 | E15: 4 | I15: MAYNE-NICHOLLS MICHAEL | K15: =E15 -> 4 | L15: =F15 -> 0 | M15: =G15 -> 0 | N15: =H15 -> 0
A16: 1ro | B16: C | C16: =+$D$7 -> FILOSOFÍA, ÉTICA Y MORAL | D16: FILOSOFÍA, ÉTICA Y MORAL .2 | G16: 4 | I16: MAYNE-NICHOLLS MICHAEL | K16: =E16 -> 0 | L16: =F16 -> 0 | M16: =G16 -> 4 | N16: =H16 -> 0
A17: 1ro | B17: D | C17: =+$D$7 -> FILOSOFÍA, ÉTICA Y MORAL | D17: FILOSOFÍA, ÉTICA Y MORAL .1 | E17: 4 | I17: MAYNE-NICHOLLS MICHAEL | K17: =E17 -> 4 | L17: =F17 -> 0 | M17: =G17 -> 0 | N17: =H17 -> 0
A18: 1ro | B18: D | C18: =+$D$7 -> FILOSOFÍA, ÉTICA Y MORAL | D18: FILOSOFÍA, ÉTICA Y MORAL .2 | G18: 4 | I18: MAYNE-NICHOLLS MICHAEL | K18: =E18 -> 0 | L18: =F18 -> 0 | M18: =G18 -> 4 | N18: =H18 -> 0
A19: 1ro | B19: E | C19: =+$D$7 -> FILOSOFÍA, ÉTICA Y MORAL | D19: FILOSOFÍA, ÉTICA Y MORAL .1 | E19: 4 | I19: MAYNE-NICHOLLS MICHAEL | K19: =E19 -> 4 | L19: =F19 -> 0 | M19: =G19 -> 0 | N19: =H19 -> 0
A20: 1ro | B20: E | C20: =+$D$7 -> FILOSOFÍA, ÉTICA Y MORAL | D20: FILOSOFÍA, ÉTICA Y MORAL .2 | G20: 4 | I20: MAYNE-NICHOLLS MICHAEL | K20: =E20 -> 0 | L20: =F20 -> 0 | M20: =G20 -> 4 | N20: =H20 -> 0
A21: 1ro | B21: H | C21: =+$D$7 -> FILOSOFÍA, ÉTICA Y MORAL | D21: FILOSOFÍA, ÉTICA Y MORAL .1 | E21: 4 | I21: MAYNE-NICHOLLS MICHAEL | K21: =E21 -> 4 | L21: =F21 -> 0 | M21: =G21 -> 0 | N21: =H21 -> 0
A22: 1ro | B22: H | C22: =+$D$7 -> FILOSOFÍA, ÉTICA Y MORAL | D22: FILOSOFÍA, ÉTICA Y MORAL .2 | G22: 4 | I22: MAYNE-NICHOLLS MICHAEL | K22: =E22 -> 0 | L22: =F22 -> 0 | M22: =G22 -> 4 | N22: =H22 -> 0
A23: 1ro | B23: K | C23: =+$D$7 -> FILOSOFÍA, ÉTICA Y MORAL | D23: FILOSOFÍA, ÉTICA Y MORAL .1 | E23: 4 | I23: MAYNE-NICHOLLS MICHAEL | K23: =E23 -> 4 | L23: =F23 -> 0 | M23: =G23 -> 0 | N23: =H23 -> 0
A24: 1ro | B24: K | C24: =+$D$7 -> FILOSOFÍA, ÉTICA Y MORAL | D24: FILOSOFÍA, ÉTICA Y MORAL .2 | G24: 4 | I24: MAYNE-NICHOLLS MICHAEL | K24: =E24 -> 0 | L24: =F24 -> 0 | M24: =G24 -> 4 | N24: =H24 -> 0
A25: 2do | B25: A | C25: =+$D$7 -> FILOSOFÍA, ÉTICA Y MORAL | D25: FILOSOFÍA, ÉTICA Y MORAL .2 | E25: 2 | I25: MAYNE-NICHOLLS MICHAEL | K25: =E25 -> 2 | L25: =F25 -> 0 | M25: =G25 -> 0 | N25: =H25 -> 0
A26: 2do | B26: B | C26: =+$D$7 -> FILOSOFÍA, ÉTICA Y MORAL | D26: FILOSOFÍA, ÉTICA Y MORAL .1 | E26: 2 | I26: MAYNE-NICHOLLS MICHAEL | K26: =E26 -> 2 | L26: =F26 -> 0 | M26: =G26 -> 0 | N26: =H26 -> 0
A27: 2do | B27: C | C27: =+$D$7 -> FILOSOFÍA, ÉTICA Y MORAL | D27: FILOSOFÍA, ÉTICA Y MORAL .2 | E27: 2 | I27: HUIDOBRO JAVIER | K27: =E27 -> 2 | L27: =F27 -> 0 | M27: =G27 -> 0 | N27: =H27 -> 0
A28: 2do | B28: D | C28: =+$D$7 -> FILOSOFÍA, ÉTICA Y MORAL | D28: FILOSOFÍA, ÉTICA Y MORAL .1 | E28: 2 | I28: HUIDOBRO JAVIER | K28: =E28 -> 2 | L28: =F28 -> 0 | M28: =G28 -> 0 | N28: =H28 -> 0
A29: 2do | B29: I | C29: =+$D$7 -> FILOSOFÍA, ÉTICA Y MORAL | D29: FILOSOFÍA, ÉTICA Y MORAL .2 | G29: 2 | I29: MAYNE-NICHOLLS MICHAEL | K29: =E29 -> 0 | L29: =F29 -> 0 | M29: =G29 -> 2 | N29: =H29 -> 0
A30: 2do | B30: J | C30: =+$D$7 -> FILOSOFÍA, ÉTICA Y MORAL | D30: FILOSOFÍA, ÉTICA Y MORAL .1 | G30: 2 | I30: MAYNE-NICHOLLS MICHAEL | K30: =E30 -> 0 | L30: =F30 -> 0 | M30: =G30 -> 2 | N30: =H30 -> 0
A31: 2do | B31: L | C31: =+$D$7 -> FILOSOFÍA, ÉTICA Y MORAL | D31: FILOSOFÍA, ÉTICA Y MORAL .1 | E31: 2 | I31: VON DER BETH RONALD | K31: =E31 -> 2 | M31: =G31 -> 0
A32: 4to OM | C32: =+$D$7 -> FILOSOFÍA, ÉTICA Y MORAL | D32: FUNDAMENTOS ÉTICOS DEL MANDO | E32: 2 | I32: P. MUÑOZ JAIME | K32: =E32 -> 2 | L32: =F32 -> 0 | M32: =G32 -> 0 | N32: =H32 -> 0
D34: RESUMEN | E34: 1° Sem | G34: 2° Sem
D35: MAYNE-NICHOLLS MICHAEL | E35: =SUMIF($I$11:$N$32,$D35,K$11:K$32) -> 32 | G35: =SUMIF($I$11:$N$32,$D35,M$11:M$32) -> 32
D36: VON DER BETH RONALD | E36: =SUMIF($I$11:$N$32,$D36,K$11:K$32) -> 2 | G36: =SUMIF($I$11:$N$32,$D36,M$11:M$32) -> 0
D37: P. MUÑOZ JAIME | E37: =SUMIF($I$11:$N$32,$D37,K$11:K$32) -> 2 | G37: =SUMIF($I$11:$N$32,$D37,M$11:M$32) -> 0
D38: HUIDOBRO JAVIER | E38: =SUMIF($I$11:$N$32,$D38,K$11:K$32) -> 4 | G38: =SUMIF($I$11:$N$32,$D38,M$11:M$32) -> 0
E40: =SUM(E35:E39) -> 40 | G40: =SUM(G35:G39) -> 32 | L40: =SUM(E40:K40) -> 72

Sheet ETICA
A1: Escuela Naval "A. Prat"
A2: Departamento Educación
A3: Unidad de Coordinación Académica
A5: HORAS DE CLASES POR CURSO - PROFESOR
A6: AÑO ACADÉMICO 2026
A7: CÁTEDRA : | D7: ÉTICA Y PROBUDAD
D8: HORAS SEMANALES
A9: CURSO | C9: CÁTEDRA | D9: ASIGNATURAS | E9: 1er SEM. | G9: 2º SEM. | I9: PROFESOR
E10: SIST. | F10: LAB | G10: SIST. | H10: LAB
A11: 3ro | B11: A | C11: FILOSOFIA, ETICA Y PROBIDAD | D11: ÉTICA Y PROBIDAD | G11: 2 | I11: QUIROGA CESAR | K11: =E11 -> 0 | L11: =F11 -> 0 | M11: =G11 -> 2 | N11: =H11 -> 0
A12: 3ro | B12: B | C12: FILOSOFIA, ETICA Y PROBIDAD | D12: ÉTICA Y PROBIDAD | G12: 2 | I12: QUIROGA CESAR | K12: =E12 -> 0 | L12: =F12 -> 0 | M12: =G12 -> 2 | N12: =H12 -> 0
A13: 3ro | B13: C | C13: FILOSOFIA, ETICA Y PROBIDAD | D13: ÉTICA Y PROBIDAD | G13: 2 | I13: QUIROGA CESAR | K13: =E13 -> 0 | L13: =F13 -> 0 | M13: =G13 -> 2 | N13: =H13 -> 0
A14: 3ro | B14: I | C14: FILOSOFIA, ETICA Y PROBIDAD | D14: ÉTICA Y PROBIDAD | G14: 2 | I14: P. MUÑOZ JAIME | K14: =E14 -> 0 | L14: =F14 -> 0 | M14: =G14 -> 2 | N14: =H14 -> 0
A15: 3ro | B15: J | C15: FILOSOFIA, ETICA Y PROBIDAD | D15: ÉTICA Y PROBIDAD | G15: 2 | I15: P. MUÑOZ JAIME | K15: =E15 -> 0 | L15: =F15 -> 0 | M15: =G15 -> 2 | N15: =H15 -> 0
A16: 3ro | B16: L | C16: FILOSOFIA, ETICA Y PROBIDAD | D16: ÉTICA Y PROBIDAD | G16: 2 | I16: P. MUÑOZ JAIME | K16: =E16 -> 0 | L16: =F16 -> 0 | M16: =G16 -> 2 | N16: =H16 -> 0
D18: RESUMEN | E18: 1° Sem | G18: 2° Sem
D19: QUIROGA CESAR | E19: =SUMIF($I$11:$N$16,$D19,K$11:K$16) -> 0 | G19: =SUMIF($I$11:$N$16,$D19,M$11:M$16) -> 6
D20: P. MUÑOZ JAIME | E20: =SUMIF($I$11:$N$16,$D20,K$11:K$16) -> 0 | G20: =SUMIF($I$11:$N$16,$D20,M$11:M$16) -> 6
G22: =SUM(G19:G21) -> 12

Sheet PSICOL 
A1: Escuela Naval "A. Prat"
A2: Departamento Educación
A3: Unidad de Coordinación Académica
A5: HORAS DE CLASES POR CURSO - PROFESOR
A6: AÑO ACADÉMICO 2023
A7: CÁTEDRA : | D7: PSICOLOGÍA
D8: HORAS SEMANALES
A9: CURSO | C9: CÁTEDRA | D9: ASIGNATURAS | E9: 1er SEM. | G9: 2º SEM. | I9: PROFESOR
E10: SIST. | F10: LAB | G10: SIST. | H10: LAB
A11: 2do EJ | B11: A | C11: PSICOLOGÍA | D11: PSICOLOGÍA APLICADA AL MANDO A | E11: 2 | G11: 2 | I11: LUCERO ANDRÉS | K11: =E11 -> 2 | L11: =F11 -> 0 | M11: =G11 -> 2 | N11: =H11 -> 0
A12: 2do EJ | B12: B | C12: PSICOLOGÍA | D12: PSICOLOGÍA APLICADA AL MANDO | E12: 2 | G12: 2 | I12: LUCERO ANDRÉS | K12: =E12 -> 2 | L12: =F12 -> 0 | M12: =G12 -> 2 | N12: =H12 -> 0
A13: 2do EJ | B13: C | C13: PSICOLOGÍA | D13: PSICOLOGÍA APLICADA AL MANDO | E13: 2 | G13: 2 | I13: LUCERO ANDRÉS | K13: =E13 -> 2 | L13: =F13 -> 0 | M13: =G13 -> 2 | N13: =H13 -> 0
A14: 2do EJ | B14: D | C14: PSICOLOGÍA | D14: PSICOLOGÍA APLICADA AL MANDO | E14: 2 | G14: 2 | I14: LUCERO ANDRÉS | K14: =E14 -> 2 | L14: =F14 -> 0 | M14: =G14 -> 2 | N14: =H14 -> 0
A15: 2do IM | C15: PSICOLOGÍA | D15: PSICOLOGÍA APLICADA AL MANDO IM | E15: 6 | I15: LUCERO ANDRÉS | K15: =E15 -> 6 | L15: =F15 -> 0 | M15: =G15 -> 0 | N15: =H15 -> 0
A16: 2do AB | C16: PSICOLOGÍA | D16: PSICOLOGÍA APLICADA AL MANDO | E16: 2 | G16: 2 | I16: LUCERO ANDRÉS | K16: =E16 -> 2 | L16: =F16 -> 0 | M16: =G16 -> 2 | N16: =H16 -> 0
A17: 2do LT | C17: PSICOLOGÍA | D17: PSICOLOGÍA APLICADA AL MANDO | E17: 2 | G17: 2 | I17: LUCERO ANDRÉS | K17: =E17 -> 2 | L17: =F17 -> 0 | M17: =G17 -> 2 | N17: =H17 -> 0
A18: 4to OM | C18: PSICOLOGÍA | D18: PSICOLOGÍA APLICADA AL MANDO | G18: 2 | I18: LUCERO ANDRÉS | K18: =E18 -> 0 | L18: =F18 -> 0 | M18: =G18 -> 2 | N18: =H18 -> 0
E20: =+SUM(E11:E18) -> 18 | G20: =+SUM(G11:G18) -> 14
D22: RESUMEN | E22: 1° Sem | F22: 2° Sem
D23: LUCERO ANDRÉS | E23: =SUMIF($I$11:$N$18,$D23,K$11:K$18) -> 18 | F23: =SUMIF($I$11:$N$18,$D23,M$11:M$18) -> 14 | N23: =SUM(E23:M23) -> 32

Sheet MANDO
A1: Escuela Naval "A. Prat"
A2: Departamento Educación
A3: Unidad de Coordinación Académica
A5: HORAS DE CLASES POR CURSO - PROFESOR
A6: AÑO ACADÉMICO 2026
A7: CÁTEDRA : | D7: MANDO Y LIDERAZGO
D8: HORAS SEMANALES
A9: CURSO | C9: CÁTEDRA | D9: ASIGNATURAS | E9: 1er SEM. | G9: 2º SEM. | I9: PROFESOR
E10: SIST. | F10: LAB | G10: SIST. | H10: LAB
A11: 2do Ej | B11: A | C11: MANDO Y LIDERAZGO | D11: MANDO Y LIDERAZGO I | G11: 2 | I11: QUIROGA CESAR | K11: =E11 -> 0 | L11: =F11 -> 0 | M11: =G11 -> 2 | N11: =H11 -> 0
A12: 2do Ej | B12: B | C12: MANDO Y LIDERAZGO | D12: MANDO Y LIDERAZGO I | G12: 2 | I12: QUIROGA CESAR | K12: =E12 -> 0 | L12: =F12 -> 0 | M12: =G12 -> 2 | N12: =H12 -> 0
A13: 2do Ej | B13: C | C13: MANDO Y LIDERAZGO | D13: MANDO Y LIDERAZGO I | G13: 2 | I13: HUIDOBRO JAVIER | K13: =E13 -> 0 | L13: =F13 -> 0 | M13: =G13 -> 2 | N13: =H13 -> 0
A14: 2do Ej | B14: D | C14: MANDO Y LIDERAZGO | D14: MANDO Y LIDERAZGO I | G14: 2 | I14: HUIDOBRO JAVIER | K14: =E14 -> 0 | L14: =F14 -> 0 | M14: =G14 -> 2 | N14: =H14 -> 0
A15: 2do Ej | B15: I | C15: MANDO Y LIDERAZGO | D15: MANDO Y LIDERAZGO I | G15: 2 | I15: HUIDOBRO JAVIER | K15: =E15 -> 0 | L15: =F15 -> 0 | M15: =G15 -> 2 | N15: =H15 -> 0
A16: 2do Ej | B16: J | C16: MANDO Y LIDERAZGO | D16: MANDO Y LIDERAZGO I | G16: 2 | I16: VON DER WETH RONALD | K16: =E16 -> 0 | L16: =F16 -> 0 | M16: =G16 -> 2 | N16: =H16 -> 0
A17: 2do Ej | B17: L | C17: MANDO Y LIDERAZGO | D17: MANDO Y LIDERAZGO I | G17: 2 | I17: VON DER WETH RONALD | K17: =E17 -> 0 | L17: =F17 -> 0 | M17: =G17 -> 2 | N17: =H17 -> 0
A18: 3ro Ej | B18: A | C18: MANDO Y LIDERAZGO | D18: MANDO Y LIDERAZGO I .2 | E18: 4 | I18: VON DER WETH RONALD | K18: =E18 -> 4 | L18: =F18 -> 0 | M18: =G18 -> 0 | N18: =H18 -> 0
A19: 3ro Ej | B19: A | C19: MANDO Y LIDERAZGO | D19: MANDO Y LIDERAZGO I .1 | G19: 2 | I19: VON DER WETH RONALD | K19: =E19 -> 0 | L19: =F19 -> 0 | M19: =G19 -> 2 | N19: =H19 -> 0
A20: 3ro Ej | B20: B | C20: MANDO Y LIDERAZGO | D20: MANDO Y LIDERAZGO I .1 | E20: 4 | I20: HUIDOBRO JAVIER | K20: =E20 -> 4 | L20: =F20 -> 0 | M20: =G20 -> 0 | N20: =H20 -> 0
A21: 3ro Ej | B21: B | C21: MANDO Y LIDERAZGO | D21: MANDO Y LIDERAZGO I .2 | G21: 2 | I21: HUIDOBRO JAVIER | K21: =E21 -> 0 | L21: =F21 -> 0 | M21: =G21 -> 2 | N21: =H21 -> 0
A22: 3ro Ej | B22: C | C22: MANDO Y LIDERAZGO | D22: MANDO Y LIDERAZGO I .1 | E22: 4 | I22: QUIROGA CESAR | K22: =E22 -> 4 | L22: =F22 -> 0 | M22: =G22 -> 0 | N22: =H22 -> 0
A23: 3ro Ej | B23: C | C23: MANDO Y LIDERAZGO | D23: MANDO Y LIDERAZGO I .2 | G23: 2 | I23: QUIROGA CESAR | K23: =E23 -> 0 | L23: =F23 -> 0 | M23: =G23 -> 2 | N23: =H23 -> 0
A24: 3ro AB | C24: MANDO Y LIDERAZGO | D24: MANDO Y LIDERAZGO I .1 | E24: 4 | I24: VON DER WETH RONALD | K24: =E24 -> 4 | L24: =F24 -> 0 | M24: =G24 -> 0 | N24: =H24 -> 0
A25: 3ro AB | C25: MANDO Y LIDERAZGO | D25: MANDO Y LIDERAZGO I .1 | G25: 2 | I25: VON DER WETH RONALD | K25: =E25 -> 0 | L25: =F25 -> 0 | M25: =G25 -> 2 | N25: =H25 -> 0
A26: 3ro LT | C26: MANDO Y LIDERAZGO | D26: MANDO Y LIDERAZGO I .2 | E26: 4 | I26: VON DER WETH RONALD | K26: =E26 -> 4 | L26: =F26 -> 0 | M26: =G26 -> 0 | N26: =H26 -> 0
A27: 3ro LT | C27: MANDO Y LIDERAZGO | D27: MANDO Y LIDERAZGO I .2 | G27: 2 | I27: VON DER WETH RONALD | K27: =E27 -> 0 | L27: =F27 -> 0 | M27: =G27 -> 2 | N27: =H27 -> 0
A28: 3ro IM | C28: MANDO Y LIDERAZGO | D28: MANDO Y LIDERAZGO I .1 | E28: 4 | I28: QUIROGA CESAR | K28: =E28 -> 4 | L28: =F28 -> 0 | M28: =G28 -> 0 | N28: =H28 -> 0
A29: 3ro IM | C29: MANDO Y LIDERAZGO | D29: MANDO Y LIDERAZGO I .2 | G29: 2 | I29: QUIROGA CESAR | K29: =E29 -> 0 | L29: =F29 -> 0 | M29: =G29 -> 2 | N29: =H29 -> 0
A30: 4to Ej | B30: A | C30: MANDO Y LIDERAZGO | D30: MANDO Y LIDERAZGO II | E30: 2 | I30: MALDONADO GONZALO | K30: =E30 -> 2 | L30: =F30 -> 0 | M30: =G30 -> 0 | N30: =H30 -> 0
A31: 4to Ej | B31: A | C31: MANDO Y LIDERAZGO | D31: MANDO Y LIDERAZGO II | G31: 2 | I31: MALDONADO GONZALO | K31: =E31 -> 0 | L31: =F31 -> 0 | M31: =G31 -> 2 | N31: =H31 -> 0
A32: 4to Ej | B32: B | C32: MANDO Y LIDERAZGO | D32: MANDO Y LIDERAZGO II | E32: 2 | I32: VON DER WETH RONALD | K32: =E32 -> 2 | L32: =F32 -> 0 | M32: =G32 -> 0 | N32: =H32 -> 0
A33: 4to Ej | B33: B | C33: MANDO Y LIDERAZGO | D33: MANDO Y LIDERAZGO II | G33: 2 | I33: VON DER WETH RONALD | K33: =E33 -> 0 | L33: =F33 -> 0 | M33: =G33 -> 2 | N33: =H33 -> 0
A34: 4to Ej | B34: C | C34: MANDO Y LIDERAZGO | D34: MANDO Y LIDERAZGO II | E34: 2 | I34: QUIROGA CESAR | K34: =E34 -> 2 | L34: =F34 -> 0 | M34: =G34 -> 0 | N34: =H34 -> 0
A35: 4to Ej | B35: C | C35: MANDO Y LIDERAZGO | D35: MANDO Y LIDERAZGO II | G35: 2 | I35: QUIROGA CESAR | K35: =E35 -> 0 | L35: =F35 -> 0 | M35: =G35 -> 2 | N35: =H35 -> 0
A36: 4to IM | C36: MANDO Y LIDERAZGO | D36: MANDO Y LIDERAZGO II | E36: 2 | I36: HUIDOBRO JAVIER | K36: =E36 -> 2 | L36: =F36 -> 0 | M36: =G36 -> 0 | N36: =H36 -> 0
A37: 4to IM | C37: MANDO Y LIDERAZGO | D37: MANDO Y LIDERAZGO II | G37: 2 | I37: HUIDOBRO JAVIER | K37: =E37 -> 0 | L37: =F37 -> 0 | M37: =G37 -> 2 | N37: =H37 -> 0
A38: 4to AB | C38: MANDO Y LIDERAZGO | D38: MANDO Y LIDERAZGO II | E38: 2 | I38: VON DER WETH RONALD | K38: =E38 -> 2 | L38: =F38 -> 0 | M38: =G38 -> 0 | N38: =H38 -> 0
A39: 4to AB | C39: MANDO Y LIDERAZGO | D39: MANDO Y LIDERAZGO II | G39: 2 | I39: VON DER WETH RONALD | K39: =E39 -> 0 | L39: =F39 -> 0 | M39: =G39 -> 2 | N39: =H39 -> 0
A40: 4to LT | C40: MANDO Y LIDERAZGO | D40: MANDO Y LIDERAZGO II | E40: 2 | I40: HUIDOBRO JAVIER | K40: =E40 -> 2 | L40: =F40 -> 0 | M40: =G40 -> 0 | N40: =H40 -> 0
A41: 4to LT | C41: MANDO Y LIDERAZGO | D41: MANDO Y LIDERAZGO II | G41: 2 | I41: HUIDOBRO JAVIER | K41: =E41 -> 0 | L41: =F41 -> 0 | M41: =G41 -> 2 | N41: =H41 -> 0
A42: 4to OM | C42: MANDO Y LIDERAZGO | D42: MANDO Y LIDERAZGO II | E42: 4 | I42: OFICIAL ESCUELA MANDO | K42: =E42 -> 4 | L42: =F42 -> 0 | M42: =G42 -> 0
A43: 4to OM | C43: MANDO Y LIDERAZGO | D43: MANDO Y LIDERAZGO II | G43: 4 | I43: VON DER WETH RONALD | J43: asignatura figura en primer semestre | K43: =E43 -> 0 | L43: =F43 -> 0 | M43: =G43 -> 4 | N43: =H43 -> 0
E45: =SUBTOTAL(9,E11:E44) -> 2 | G45: =SUBTOTAL(9,G11:G44) -> 2
D47: RESUMEN | E47: 1 Sem | F47: 2 Sem
D48: QUIROGA CESAR | E48: =SUMIF($I$11:$N$43,$D48,K$11:K$43) -> 10 | F48: =SUMIF($I$11:$N$43,$D48,M$11:M$43) -> 10
D49: HUIDOBRO JAVIER | E49: =SUMIF($I$11:$N$43,$D49,K$11:K$43) -> 8 | F49: =SUMIF($I$11:$N$43,$D49,M$11:M$43) -> 12
D50: OFICIAL ESCUELA MANDO | E50: =SUMIF($I$11:$N$43,$D50,K$11:K$43) -> 4 | F50: =SUMIF($I$11:$N$44,$D50,M$11:M$43) -> 0
D51: VON DER WETH RONALD | E51: =SUMIF($I$11:$N$43,$D51,K$11:K$43) -> 16 | F51: =SUMIF($I$11:$N$44,$D51,M$11:M$43) -> 18
D52: MALDONADO GONZALO | E52: =SUMIF($I$11:$N$43,$D52,K$11:K$43) -> 2 | F52: =SUMIF($I$11:$N$44,$D52,M$11:M$43) -> 2
E53: =SUM(E48:E52) -> 40 | F53: =SUM(F48:F52) -> 42

Sheet FUND. NAVALES
A1: Escuela Naval "A. Prat"
A2: Departamento Educación
A3: Unidad de Coordinación Académica
A5: HORAS DE CLASES POR CURSO - PROFESOR
A6: AÑO ACADÉMICO 2026
A7: CÁTEDRA : | D7: MANDO Y LIDERAZGO
D8: HORAS SEMANALES
A9: CURSO | C9: CÁTEDRA | D9: ASIGNATURAS | E9: 1er SEM. | G9: 2º SEM. | I9: PROFESOR
E10: SIST. | F10: LAB | G10: SIST. | H10: LAB
A11: 1ro | B11: A | C11: MANDO Y LIDERAZGO | D11: FUNDAMENTOS NAVALES | E11: 2 | I11: MALDONADO GONZALO | K11: =E11 -> 2 | L11: =F11 -> 0 | M11: =G11 -> 0 | N11: =H11 -> 0
A12: 1ro | B12: A | C12: MANDO Y LIDERAZGO | D12: FUNDAMENTOS NAVALES | G12: 2 | I12: OF. ESCUELA FUND NAV | K12: =E12 -> 0 | L12: =F12 -> 0 | M12: =G12 -> 2 | N12: =H12 -> 0
A13: 1ro | B13: B | C13: MANDO Y LIDERAZGO | D13: FUNDAMENTOS NAVALES | E13: 2 | I13: OF. ESCUELA FUND NAV | K13: =E13 -> 2 | L13: =F13 -> 0 | M13: =G13 -> 0 | N13: =H13 -> 0
A14: 1ro | B14: B | C14: MANDO Y LIDERAZGO | D14: FUNDAMENTOS NAVALES | G14: 2 | I14: OF. ESCUELA FUND NAV | K14: =E14 -> 0 | L14: =F14 -> 0 | M14: =G14 -> 2 | N14: =H14 -> 0
A15: 1ro | B15: C | C15: MANDO Y LIDERAZGO | D15: FUNDAMENTOS NAVALES | E15: 2 | I15: OF. ESCUELA FUND NAV | K15: =E15 -> 2 | L15: =F15 -> 0 | M15: =G15 -> 0 | N15: =H15 -> 0
A16: 1ro | B16: C | C16: MANDO Y LIDERAZGO | D16: FUNDAMENTOS NAVALES | G16: 2 | I16: MALDONADO GONZALO | K16: =E16 -> 0 | L16: =F16 -> 0 | M16: =G16 -> 2 | N16: =H16 -> 0
A17: 1ro | B17: D | C17: MANDO Y LIDERAZGO | D17: FUNDAMENTOS NAVALES | E17: 2 | I17: MALDONADO GONZALO | K17: =E17 -> 2 | L17: =F17 -> 0 | M17: =G17 -> 0 | N17: =H17 -> 0
A18: 1ro | B18: D | C18: MANDO Y LIDERAZGO | D18: FUNDAMENTOS NAVALES | G18: 2 | I18: OF. ESCUELA FUND NAV | K18: =E18 -> 0 | L18: =F18 -> 0 | M18: =G18 -> 2 | N18: =H18 -> 0
A19: 1ro | B19: E | C19: MANDO Y LIDERAZGO | D19: FUNDAMENTOS NAVALES | E19: 2 | I19: OF. ESCUELA FUND NAV | K19: =E19 -> 2 | L19: =F19 -> 0 | M19: =G19 -> 0 | N19: =H19 -> 0
A20: 1ro | B20: E | C20: MANDO Y LIDERAZGO | D20: FUNDAMENTOS NAVALES | G20: 2 | I20: MALDONADO GONZALO | K20: =E20 -> 0 | L20: =F20 -> 0 | M20: =G20 -> 2 | N20: =H20 -> 0
A21: 1ro | B21: H | C21: MANDO Y LIDERAZGO | D21: FUNDAMENTOS NAVALES | E21: 2 | I21: MALDONADO GONZALO | K21: =E21 -> 2 | L21: =F21 -> 0 | M21: =G21 -> 0 | N21: =H21 -> 0
A22: 1ro | B22: H | C22: MANDO Y LIDERAZGO | D22: FUNDAMENTOS NAVALES | G22: 2 | I22: OF. ESCUELA FUND NAV | K22: =E22 -> 0 | L22: =F22 -> 0 | M22: =G22 -> 2 | N22: =H22 -> 0
A23: 1ro | B23: K | C23: MANDO Y LIDERAZGO | D23: FUNDAMENTOS NAVALES | E23: 2 | I23: OF. ESCUELA FUND NAV | K23: =E23 -> 2 | L23: =F23 -> 0 | M23: =G23 -> 0 | N23: =H23 -> 0
A24: 1ro | B24: K | C24: MANDO Y LIDERAZGO | D24: FUNDAMENTOS NAVALES | G24: 2 | I24: MALDONADO GONZALO | K24: =E24 -> 0 | L24: =F24 -> 0 | M24: =G24 -> 2 | N24: =H24 -> 0
D26: RESUMEN | E26: 1 Sem | F26: 2 Sem
D27: OF. ESCUELA FUND NAV | E27: =SUMIF($I$11:$N$24,$D27,K$11:K$24) -> 8 | F27: =SUMIF($I$11:$N$25,$D27,M$11:M$24) -> 8
D28: MALDONADO GONZALO | E28: =SUMIF($I$11:$N$24,$D28,K$11:K$24) -> 6 | F28: =SUMIF($I$11:$N$25,$D28,M$11:M$24) -> 6 | K28: =SUM(E28:J28) -> 12
E29: =SUM(E27:E28) -> 14 | F29: =SUM(F27:F28) -> 14

Sheet MATEM 
A1: Escuela Naval "A. Prat"
A2: Departamento Educación
A3: Unidad de Coordinación Académica
A5: HORAS DE CLASES POR CURSO - PROFESOR
A6: AÑO ACADÉMICO 2026
A7: CÁTEDRA : | D7: MATEMÁTICAS
D8: HORAS SEMANALES
A9: CURSO | C9: CÁTEDRA | D9: ASIGNATURAS | E9: 1er SEM. | G9: 2º SEM. | I9: PROFESOR
E10: SIST. | F10: LAB | G10: SIST. | H10: LAB
A11: 1ro | B11: A | C11: MATEMÁTICAS | D11: FUNDAMENTOS DE CÁLCULO .1 | E11: 6 | I11: HARDY CATHERINE | K11: =E11 -> 6 | L11: =F11 -> 0 | M11: =G11 -> 0 | N11: =H11 -> 0
A12: 1ro | B12: A | C12: MATEMÁTICAS | D12: FUNDAMENTOS DE CÁLCULO .2 | G12: 6 | I12: HARDY CATHERINE | K12: =E12 -> 0 | L12: =F12 -> 0 | M12: =G12 -> 6 | N12: =H12 -> 0
A13: 1ro | B13: B | C13: MATEMÁTICAS | D13: FUNDAMENTOS DE CÁLCULO .1 | E13: 6 | I13: RAUCH ALFRED | K13: =E13 -> 6 | L13: =F13 -> 0 | M13: =G13 -> 0 | N13: =H13 -> 0
A14: 1ro | B14: B | C14: MATEMÁTICAS | D14: FUNDAMENTOS DE CÁLCULO .2 | G14: 6 | I14: RAUCH ALFRED | K14: =E14 -> 0 | L14: =F14 -> 0 | M14: =G14 -> 6 | N14: =H14 -> 0
A15: 1ro | B15: C | C15: MATEMÁTICAS | D15: FUNDAMENTOS DE CÁLCULO .1 | E15: 6 | I15: BARRERA CLAUDIA | K15: =E15 -> 6 | L15: =F15 -> 0 | M15: =G15 -> 0 | N15: =H15 -> 0
A16: 1ro | B16: C | C16: MATEMÁTICAS | D16: FUNDAMENTOS DE CÁLCULO .2 | G16: 6 | I16: BARRERA CLAUDIA | K16: =E16 -> 0 | L16: =F16 -> 0 | M16: =G16 -> 6 | N16: =H16 -> 0
A17: 1ro | B17: D | C17: MATEMÁTICAS | D17: FUNDAMENTOS DE CÁLCULO .1 | E17: 6 | I17: BAQUEDANO SOLEDAD | K17: =E17 -> 6 | L17: =F17 -> 0 | M17: =G17 -> 0 | N17: =H17 -> 0
A18: 1ro | B18: D | C18: MATEMÁTICAS | D18: FUNDAMENTOS DE CÁLCULO .2 | G18: 6 | I18: BAQUEDANO SOLEDAD | K18: =E18 -> 0 | L18: =F18 -> 0 | M18: =G18 -> 6 | N18: =H18 -> 0
A19: 1ro | B19: E | C19: MATEMÁTICAS | D19: FUNDAMENTOS DE CÁLCULO .1 | E19: 6 | I19: RAUCH ALFRED | K19: =E19 -> 6 | L19: =F19 -> 0 | M19: =G19 -> 0 | N19: =H19 -> 0
A20: 1ro | B20: E | C20: MATEMÁTICAS | D20: FUNDAMENTOS DE CÁLCULO .2 | G20: 6 | I20: RAUCH ALFRED | K20: =E20 -> 0 | L20: =F20 -> 0 | M20: =G20 -> 6 | N20: =H20 -> 0
A21: 1ro | B21: H | C21: MATEMÁTICAS | D21: FUNDAMENTOS DE CÁLCULO .1 | E21: 6 | I21: HARDY CATHERINE | K21: =E21 -> 6 | L21: =F21 -> 0 | M21: =G21 -> 0 | N21: =H21 -> 0
A22: 1ro | B22: H | C22: MATEMÁTICAS | D22: FUNDAMENTOS DE CÁLCULO .2 | G22: 6 | I22: HARDY CATHERINE | K22: =E22 -> 0 | L22: =F22 -> 0 | M22: =G22 -> 6 | N22: =H22 -> 0
A23: 1ro | B23: K | C23: MATEMÁTICAS | D23: FUNDAMENTOS DE CÁLCULO .1 | E23: 6 | I23: LEIVA YANINA | K23: =E23 -> 6 | L23: =F23 -> 0 | M23: =G23 -> 0 | N23: =H23 -> 0
A24: 1ro | B24: K | C24: MATEMÁTICAS | D24: FUNDAMENTOS DE CÁLCULO .2 | G24: 6 | I24: LEIVA YANINA | K24: =E24 -> 0 | L24: =F24 -> 0 | M24: =G24 -> 6 | N24: =H24 -> 0
A25: 2do EJ | B25: A | C25: MATEMÁTICAS | D25: MATEMÁTICAS II .1 | E25: 6 | I25: BAQUEDANO SOLEDAD | K25: =E25 -> 6 | L25: =F25 -> 0 | M25: =G25 -> 0 | N25: =H25 -> 0
A26: 2do EJ | B26: A | C26: MATEMÁTICAS | D26: MATEMÁTICAS II .2 | G26: 6 | I26: BAQUEDANO SOLEDAD | K26: =E26 -> 0 | L26: =F26 -> 0 | M26: =G26 -> 6 | N26: =H26 -> 0
A27: 2do EJ | B27: B | C27: MATEMÁTICAS | D27: MATEMÁTICAS II .1 | E27: 6 | I27: BARRERA CLAUDIA | K27: =E27 -> 6 | L27: =F27 -> 0 | M27: =G27 -> 0 | N27: =H27 -> 0
A28: 2do EJ | B28: B | C28: MATEMÁTICAS | D28: MATEMÁTICAS II .2 | G28: 6 | I28: BARRERA CLAUDIA | K28: =E28 -> 0 | L28: =F28 -> 0 | M28: =G28 -> 6 | N28: =H28 -> 0
A29: 2do EJ | B29: C | C29: MATEMÁTICAS | D29: MATEMÁTICAS II .1 | E29: 6 | I29: BAQUEDANO SOLEDAD | K29: =E29 -> 6 | L29: =F29 -> 0 | M29: =G29 -> 0 | N29: =H29 -> 0
A30: 2do EJ | B30: C | C30: MATEMÁTICAS | D30: MATEMÁTICAS II .2 | G30: 6 | I30: BAQUEDANO SOLEDAD | K30: =E30 -> 0 | L30: =F30 -> 0 | M30: =G30 -> 6 | N30: =H30 -> 0
A31: 2do EJ | B31: D | C31: MATEMÁTICAS | D31: MATEMÁTICAS II .1 | E31: 6 | I31: BAQUEDANO SOLEDAD | K31: =E31 -> 6 | L31: =F31 -> 0 | M31: =G31 -> 0 | N31: =H31 -> 0
A32: 2do EJ | B32: D | C32: MATEMÁTICAS | D32: MATEMÁTICAS II .2 | G32: 6 | I32: BAQUEDANO SOLEDAD | K32: =E32 -> 0 | L32: =F32 -> 0 | M32: =G32 -> 6 | N32: =H32 -> 0
A33: 2do AB | C33: MATEMÁTICAS | D33: MATEMÁTICAS II AB .1 | E33: 6 | I33: LEIVA YANINA | K33: =E33 -> 6 | L33: =F33 -> 0 | M33: =G33 -> 0 | N33: =H33 -> 0
A34: 2do AB | C34: MATEMÁTICAS | D34: MATEMÁTICAS II AB .2 | G34: 4 | I34: LEIVA YANINA | K34: =E34 -> 0 | L34: =F34 -> 0 | M34: =G34 -> 4 | N34: =H34 -> 0
A35: 2do IM Mod | C35: MATEMÁTICAS | D35: MATEMÁTICAS II IM .1 Mod | E35: 4 | I35: RAUCH ALFRED | K35: =E35 -> 4 | L35: =F35 -> 0 | M35: =G35 -> 0 | N35: =H35 -> 0
A36: 2do IM | C36: MATEMÁTICAS | D36: MATEMÁTICAS II IM .2 | G36: 6 | I36: RAUCH ALFRED | K36: =E36 -> 0 | L36: =F36 -> 0 | M36: =G36 -> 6 | N36: =H36 -> 0
A37: 2do LT | C37: MATEMÁTICAS | D37: MATEMÁTICAS II .1 | E37: 6 | I37: BARRERA CLAUDIA | K37: =E37 -> 6 | L37: =F37 -> 0 | M37: =G37 -> 0 | N37: =H37 -> 0
A38: 2do LT | C38: MATEMÁTICAS | D38: MATEMÁTICAS II .2 | G38: 6 | I38: BARRERA CLAUDIA | K38: =E38 -> 0 | L38: =F38 -> 0 | M38: =G38 -> 6 | N38: =H38 -> 0
A39: 3ro EJ | B39: A | C39: MATEMÁTICAS | D39: MATEMÁTICAS III .1 | E39: 4 | I39: RAUCH ALFRED | K39: =E39 -> 4 | L39: =F39 -> 0 | M39: =G39 -> 0 | N39: =H39 -> 0
A40: 3ro EJ | B40: A | C40: MATEMÁTICAS | D40: MATEMÁTICAS III .2 | G40: 4 | I40: RAUCH ALFRED | K40: =E40 -> 0 | L40: =F40 -> 0 | M40: =G40 -> 4 | N40: =H40 -> 0
A41: 3ro EJ | B41: B | C41: MATEMÁTICAS | D41: MATEMÁTICAS III .1 | E41: 4 | I41: HARDY CATHERINE | K41: =E41 -> 4 | L41: =F41 -> 0 | M41: =G41 -> 0 | N41: =H41 -> 0
A42: 3ro EJ | B42: B | C42: MATEMÁTICAS | D42: MATEMÁTICAS III .2 | G42: 4 | I42: HARDY CATHERINE | K42: =E42 -> 0 | L42: =F42 -> 0 | M42: =G42 -> 4 | N42: =H42 -> 0
A43: 3ro EJ | B43: C | C43: MATEMÁTICAS | D43: MATEMÁTICAS III .1 | E43: 4 | I43: BARRERA CLAUDIA | K43: =E43 -> 4 | L43: =F43 -> 0 | M43: =G43 -> 0 | N43: =H43 -> 0
A44: 3ro EJ | B44: C | C44: MATEMÁTICAS | D44: MATEMÁTICAS III .2 | G44: 4 | I44: BARRERA CLAUDIA | K44: =E44 -> 0 | L44: =F44 -> 0 | M44: =G44 -> 4 | N44: =H44 -> 0
A45: 3ro AB | C45: MATEMÁTICAS | D45: MATEMÁTICAS III AB .1 | E45: 6 | I45: LEIVA YANINA | K45: =E45 -> 6 | L45: =F45 -> 0 | M45: =G45 -> 0 | N45: =H45 -> 0
A46: 3ro AB | C46: MATEMÁTICAS | D46: MATEMÁTICAS III AB .2 | G46: 4 | I46: LEIVA YANINA | K46: =E46 -> 0 | L46: =F46 -> 0 | M46: =G46 -> 4 | N46: =H46 -> 0
A47: 4to EJ | B47: A | C47: MATEMÁTICAS | D47: MATEMÁTICAS IV 1. | E47: 2 | I47: HARDY CATHERINE | K47: =E47 -> 2 | L47: =F47 -> 0 | M47: =G47 -> 0 | N47: =H47 -> 0
A48: 4to EJ | B48: A | C48: MATEMÁTICAS | D48: MATEMÁTICAS IV 2. | G48: 2 | I48: HARDY CATHERINE | K48: =E48 -> 0 | L48: =F48 -> 0 | M48: =G48 -> 2 | N48: =H48 -> 0
A49: 4to EJ | B49: B | C49: MATEMÁTICAS | D49: MATEMÁTICAS IV 1. | E49: 2 | I49: HARDY CATHERINE | K49: =E49 -> 2 | L49: =F49 -> 0 | M49: =G49 -> 0 | N49: =H49 -> 0
A50: 4to EJ | B50: B | C50: MATEMÁTICAS | D50: MATEMÁTICAS IV 2. | G50: 2 | I50: HARDY CATHERINE | K50: =E50 -> 0 | L50: =F50 -> 0 | M50: =G50 -> 2 | N50: =H50 -> 0
A51: 4to EJ | B51: C | C51: MATEMÁTICAS | D51: MATEMÁTICAS IV 1. | E51: 2 | I51: RAUCH ALFRED | K51: =E51 -> 2 | L51: =F51 -> 0 | M51: =G51 -> 0 | N51: =H51 -> 0
A52: 4to EJ | B52: C | C52: MATEMÁTICAS | D52: MATEMÁTICAS IV 2. | G52: 2 | I52: HARDY CATHERINE | J52: queda con menos hr | K52: =E52 -> 0 | L52: =F52 -> 0 | M52: =G52 -> 2 | N52: =H52 -> 0
D54: CARGA 2026 | E54: =+SUM(E11:E52) -> 106 | G54: =+SUM(G11:G52) -> 104 | I54: =+G54+E54 -> 210
I56: RESUMEN | J56: 1 Sem | L56: 2 Sem | N56: PROMEDIO 2026 | P56: 2025
I58: BAQUEDANO SOLEDAD | J58: =SUMIF($I$11:$N$52,$I58,K$11:K$52) -> 24 | L58: =SUMIF($I$11:$N$52,$I58,M$11:M$52) -> 24 | N58: =AVERAGE(J58:L58) -> 24 | P58: 25
I59: BARRERA CLAUDIA | J59: =SUMIF($I$11:$N$52,$I59,K$11:K$52) -> 22 | L59: =SUMIF($I$11:$N$52,$I59,M$11:M$52) -> 22 | N59: =AVERAGE(J59:L59) -> 22 | P59: 21
I60: HARDY CATHERINE | J60: =SUMIF($I$11:$N$52,$I60,K$11:K$52) -> 20 | L60: =SUMIF($I$11:$N$52,$I60,M$11:M$52) -> 22 | N60: =AVERAGE(J60:L60) -> 21 | P60: 23
I61: LEIVA YANINA | J61: =SUMIF($I$11:$N$52,$I61,K$11:K$52) -> 18 | L61: =SUMIF($I$11:$N$52,$I61,M$11:M$52) -> 14 | N61: =AVERAGE(J61:L61) -> 16 | P61: 17
I62: RAUCH ALFRED | J62: =SUMIF($I$11:$N$52,$I62,K$11:K$52) -> 22 | L62: =SUMIF($I$11:$N$52,$I62,M$11:M$52) -> 22 | N62: =AVERAGE(J62:L62) -> 22 | P62: 23
L65: =SUM(J57:L63) -> 210

Sheet FISICA
A1: Escuela Naval "A. Prat"
A2: Departamento Educación
A3: Unidad de Coordinación Académica
A5: HORAS DE CLASES POR CURSO - PROFESOR
A6: AÑO ACADÉMICO 2026
A7: CÁTEDRA : | D7: FÍSICA Y ELECTROTECNIA
D8: HORAS SEMANALES
A9: CURSO | C9: CÁTEDRA | D9: ASIGNATURAS | E9: 1er SEM. | G9: 2º SEM. | I9: PROFESOR
E10: SIST. | F10: LAB | G10: SIST. | H10: LAB
A11: 1ro | B11: A | C11: FÍSICA | D11: FÍSICA I | G11: 4 | I11: RÍOS PACHECO, NELSON | K11: 0 | L11: 0 | M11: 4 | N11: 0
A12: 1ro | B12: A | C12: FÍSICA | D12: LABORATORIO FÍSICA I | H12: 2 | I12: GALLARDO, FELIPE | K12: 0 | L12: 0 | M12: 0 | N12: 2
A13: 1ro | B13: B | C13: FÍSICA | D13: FÍSICA I | G13: 4 | I13: JAIME FUENZALIDA, HECTOR | K13: 0 | L13: 0 | M13: 4 | N13: 0
A14: 1ro | B14: B | C14: FÍSICA | D14: LABORATORIO FÍSICA I | H14: 2 | I14: GALLARDO, FELIPE | K14: 0 | L14: 0 | M14: 0 | N14: 2
A15: 1ro | B15: C | C15: FÍSICA | D15: FÍSICA I | G15: 4 | I15: RÍOS PACHECO, NELSON | K15: 0 | L15: 0 | M15: 4 | N15: 0
A16: 1ro | B16: C | C16: FÍSICA | D16: LABORATORIO FÍSICA I | H16: 2 | I16: GALLARDO, FELIPE | K16: 0 | L16: 0 | M16: 0 | N16: 2
A17: 1ro | B17: D | C17: FÍSICA | D17: FÍSICA I | G17: 4 | I17: ARANCIBIA BACELLI DAMARIS | K17: 0 | L17: 0 | M17: 4 | N17: 0
A18: 1ro | B18: D | C18: FÍSICA | D18: LABORATORIO FÍSICA I | H18: 2 | I18: RÍOS PACHECO, NELSON | K18: 0 | L18: 0 | M18: 0 | N18: 2
A19: 1ro | B19: E | C19: FÍSICA | D19: FÍSICA I | G19: 4 | I19: RÍOS PACHECO, NELSON | K19: 0 | L19: 0 | M19: 4 | N19: 0
A20: 1ro | B20: E | C20: FÍSICA | D20: LABORATORIO FÍSICA I | H20: 2 | I20: GALLARDO, FELIPE | K20: 0 | L20: 0 | M20: 0 | N20: 2
A21: 1ro | B21: H | C21: FÍSICA | D21: FÍSICA I | G21: 4 | I21: RÍOS PACHECO, NELSON | K21: 0 | L21: 0 | M21: 4 | N21: 0
A22: 1ro | B22: H | C22: FÍSICA | D22: LABORATORIO FÍSICA I | H22: 2 | I22: GALLARDO, FELIPE | K22: 0 | L22: 0 | M22: 0 | N22: 2
A23: 1ro | B23: K | C23: FÍSICA | D23: FÍSICA I | G23: 4 | I23: ARANCIBIA BACELLI DAMARIS | K23: 0 | L23: 0 | M23: 4 | N23: 0
A24: 1ro | B24: K | C24: FÍSICA | D24: LABORATORIO FÍSICA I | H24: 2 | I24: RÍOS PACHECO, NELSON | K24: 0 | L24: 0 | M24: 0 | N24: 2
A25: 2do EJ | B25: A | C25: FÍSICA | D25: FÍSICA II .1 | E25: 6 | I25: RÍOS PACHECO, NELSON | K25: 6 | L25: 0 | M25: 0 | N25: 0
A26: 2do EJ | B26: A | C26: FÍSICA | D26: LABORATORIO FÍSICA II .1 | F26: 2 | I26: JAIME FUENZALIDA, HECTOR | K26: 0 | L26: 2 | M26: 0 | N26: 0
A27: 2do EJ | B27: A | C27: FÍSICA | D27: FÍSICA II .2 | G27: 6 | I27: RÍOS PACHECO, NELSON | K27: 0 | L27: 0 | M27: 6 | N27: 0
A28: 2do EJ | B28: A | C28: FÍSICA | D28: LABORATORIO FÍSICA II .2 | H28: 2 | I28: ARANCIBIA BACELLI DAMARIS | K28: 0 | L28: 0 | M28: 0 | N28: 2
A29: 2do EJ | B29: B | C29: FÍSICA | D29: FÍSICA II .1 | E29: 6 | I29: JAIME FUENZALIDA, HECTOR | K29: 6 | L29: 0 | M29: 0 | N29: 0
A30: 2do EJ | B30: B | C30: FÍSICA | D30: LABORATORIO FÍSICA II .1 | F30: 2 | I30: ARANCIBIA BACELLI DAMARIS | K30: 0 | L30: 2 | M30: 0 | N30: 0
A31: 2do EJ | B31: B | C31: FÍSICA | D31: FÍSICA II .2 | G31: 6 | I31: JAIME FUENZALIDA, HECTOR | K31: 0 | L31: 0 | M31: 6 | N31: 0
A32: 2do EJ | B32: B | C32: FÍSICA | D32: LABORATORIO FÍSICA II .2 | H32: 2 | I32: ARANCIBIA BACELLI DAMARIS | K32: 0 | L32: 0 | M32: 0 | N32: 2
A33: 2do EJ | B33: C | C33: FÍSICA | D33: FÍSICA II .1 | E33: 6 | I33: ARANCIBIA BACELLI DAMARIS | K33: 6 | L33: 0 | M33: 0 | N33: 0
A34: 2do EJ | B34: C | C34: FÍSICA | D34: LABORATORIO FÍSICA II .1 | F34: 2 | I34: JAIME FUENZALIDA, HECTOR | K34: 0 | L34: 2 | M34: 0 | N34: 0
A35: 2do EJ | B35: C | C35: FÍSICA | D35: FÍSICA II .2 | G35: 6 | I35: ARANCIBIA BACELLI DAMARIS | K35: 0 | L35: 0 | M35: 6 | N35: 0
A36: 2do EJ | B36: C | C36: FÍSICA | D36: LABORATORIO FÍSICA II .2 | H36: 2 | I36: JAIME FUENZALIDA, HECTOR | K36: 0 | L36: 0 | M36: 0 | N36: 2
A37: 2do EJ | B37: D | C37: FÍSICA | D37: FÍSICA II .1 | E37: 6 | I37: PLAZA BOMBAL MANUEL | K37: 6 | L37: 0 | M37: 0 | N37: 0
A38: 2do EJ | B38: D | C38: FÍSICA | D38: LABORATORIO FÍSICA II .1 | F38: 2 | I38: JAIME FUENZALIDA, HECTOR | K38: 0 | L38: 2 | M38: 0 | N38: 0
A39: 2do EJ | B39: D | C39: FÍSICA | D39: FÍSICA II .2 | G39: 6 | I39: PLAZA BOMBAL MANUEL | K39: 0 | L39: 0 | M39: 6 | N39: 0
A40: 2do EJ | B40: D | C40: FÍSICA | D40: LABORATORIO FÍSICA II .2 | H40: 2 | I40: RÍOS PACHECO, NELSON | K40: 0 | L40: 0 | M40: 0 | N40: 2
A41: 2do IM Mod | C41: FÍSICA | D41: FÍSICA II IM .1 Mod | E41: 4 | I41: ARANCIBIA BACELLI DAMARIS | K41: 4 | L41: 0 | M41: 0 | N41: 0
A42: 2do IM Mod | C42: FÍSICA | D42: LABORATORIO FÍSICA II IM .1 Mod | F42: 2 | I42: JAIME FUENZALIDA, HECTOR | K42: 0 | L42: 2 | M42: 0 | N42: 0
A43: 2do IM | C43: FÍSICA | D43: FÍSICA II IM .2 | G43: 4 | I43: ARANCIBIA BACELLI DAMARIS | K43: 0 | L43: 0 | M43: 4 | N43: 0
A44: 2do IM | C44: FÍSICA | D44: LABORATORIO FÍSICA II IM .2 | H44: 2 | I44: JAIME FUENZALIDA, HECTOR | K44: 0 | L44: 0 | M44: 0 | N44: 2
A45: 2do LT | C45: FÍSICA | D45: FÍSICA II LT | E45: 4 | I45: RÍOS PACHECO, NELSON | K45: 4 | L45: 0 | M45: 0 | N45: 0
A46: 2do LT | C46: FÍSICA | D46: LABORATORIO FÍSICA II LT | F46: 2 | I46: ARANCIBIA BACELLI DAMARIS | K46: 0 | L46: 2 | M46: 0 | N46: 0
A47: 3ro EJ | B47: A | C47: FÍSICA | D47: FÍSICA III .1 | E47: 4 | I47: JAIME FUENZALIDA, HECTOR | K47: 4 | L47: 0 | M47: 0 | N47: 0
A48: 3ro EJ | B48: A | C48: FÍSICA | D48: LABORATORIO FÍSICA III .1 | F48: 2 | I48: ARANCIBIA BACELLI DAMARIS | K48: 0 | L48: 2 | M48: 0 | N48: 0
A49: 3ro EJ | B49: A | C49: FÍSICA | D49: FÍSICA III .2 | G49: 4 | I49: JAIME FUENZALIDA, HECTOR | K49: 0 | L49: 0 | M49: 4 | N49: 0
A50: 3ro EJ | B50: A | C50: FÍSICA | D50: LABORATORIO FÍSICA III .2 | H50: 2 | I50: RÍOS PACHECO, NELSON | K50: 0 | L50: 0 | M50: 0 | N50: 2
A51: 3ro EJ | B51: B | C51: FÍSICA | D51: FÍSICA III | E51: 4 | I51: JAIME FUENZALIDA, HECTOR | K51: 4 | L51: 0 | M51: 0 | N51: 0
A52: 3ro EJ | B52: B | C52: FÍSICA | D52: LABORATORIO FÍSICA III | F52: 2 | I52: RÍOS PACHECO, NELSON | K52: 0 | L52: 2 | M52: 0 | N52: 0
A53: 3ro EJ | B53: B | C53: FÍSICA | D53: FÍSICA III | G53: 4 | I53: JAIME FUENZALIDA, HECTOR | K53: 0 | L53: 0 | M53: 4 | N53: 0
A54: 3ro EJ | B54: B | C54: FÍSICA | D54: LABORATORIO FÍSICA III | H54: 2 | I54: ARANCIBIA BACELLI DAMARIS | K54: 0 | L54: 0 | M54: 0 | N54: 2
A55: 3ro EJ | B55: C | C55: FÍSICA | D55: FÍSICA III .1 | E55: 4 | I55: JAIME FUENZALIDA, HECTOR | K55: 4 | L55: 0 | M55: 0 | N55: 0
A56: 3ro EJ | B56: C | C56: FÍSICA | D56: LABORATORIO FÍSICA III .1 | F56: 2 | I56: RÍOS PACHECO, NELSON | K56: 0 | L56: 2 | M56: 0 | N56: 0
A57: 3ro EJ | B57: C | C57: FÍSICA | D57: FÍSICA III .2 | G57: 4 | I57: JAIME FUENZALIDA, HECTOR | K57: 0 | L57: 0 | M57: 4 | N57: 0
A58: 3ro EJ | B58: C | C58: FÍSICA | D58: LABORATORIO FÍSICA III .2 | H58: 2 | I58: ARANCIBIA BACELLI DAMARIS | K58: 0 | L58: 0 | M58: 0 | N58: 2
E59: 0 | F59: 0 | G59: 0 | H59: 0 | K59: 0 | L59: 0 | M59: 0 | N59: 0
D61: CARGA 2025 | E61: 44 | F61: 18 | G61: 68 | H61: 30 | I61: 160
I63: RESUMEN | J63: 1 Sem | K63: LAB | L63: 2 Sem | M63: LAB
I64: ARANCIBIA BACELLI DAMARIS | J64: 10 | K64: 6 | L64: 18 | M64: 8
I65: JAIME FUENZALIDA, HECTOR | J65: 18 | K65: 8 | L65: 22 | M65: 4
I66: PLAZA BOMBAL MANUEL | J66: 6 | K66: 0 | L66: 6 | M66: 0
I67: RÍOS PACHECO, NELSON | J67: 10 | K67: 4 | L67: 22 | M67: 8
I68: GALLARDO, FELIPE | J68: 0 | K68: 0 | L68: 0 | M68: 10
J70: 160

Sheet ELECTR 
A1: Escuela Naval "A. Prat"
A2: Departamento Educación
A3: Unidad de Coordinación Académica
A5: HORAS DE CLASES POR CURSO - PROFESOR
A6: AÑO ACADÉMICO 2026
A7: CÁTEDRA : | D7: ELECTROTECNIA
D8: HORAS SEMANALES
A9: CURSO | C9: CÁTEDRA | D9: ASIGNATURAS | E9: 1er SEM. | G9: 2º SEM. | I9: PROFESOR
E10: SIST. | F10: LAB | G10: SIST. | H10: LAB
A11: 3ro IM | C11: ELECTROTECNIA | D11: ELECTROTECNIA IM | E11: 4 | I11: DE LA FUENTE VÍCTOR | K11: =E11 -> 4 | L11: =F11 -> 0 | M11: =G11 -> 0 | N11: =H11 -> 0
A12: 3ro IM | C12: ELECTROTECNIA | D12: LABORATORIO ELECTROTECNIA IM | F12: 2 | I12: ARANCIBIA DAMARIS | K12: =E12 -> 0 | L12: =F12 -> 2 | M12: =G12 -> 0 | N12: =H12 -> 0
A13: 4to A | C13: ELECTROTECNIA | D13: ELECTROTECNIA | E13: 2 | G13: 4 | I13: DE LA FUENTE VÍCTOR | K13: =E13 -> 2 | L13: =F13 -> 0 | M13: =G13 -> 4 | N13: =H13 -> 0
A14: 4to A | C14: ELECTROTECNIA | D14: LABORATORIO ELECTROTECNIA | F14: 1 | H14: 2 | I14: ARANCIBIA DAMARIS | K14: =E14 -> 0 | L14: =F14 -> 1 | M14: =G14 -> 0 | N14: =H14 -> 2
A15: 4to B | C15: ELECTROTECNIA | D15: ELECTROTECNIA | E15: 2 | G15: 4 | I15: DE LA FUENTE VÍCTOR | K15: =E15 -> 2 | L15: =F15 -> 0 | M15: =G15 -> 4 | N15: =H15 -> 0
A16: 4to B | C16: ELECTROTECNIA | D16: LABORATORIO ELECTROTECNIA | F16: 1 | H16: 2 | I16: ARANCIBIA DAMARIS | K16: =E16 -> 0 | L16: =F16 -> 1 | M16: =G16 -> 0 | N16: =H16 -> 2
A17: 4to C | C17: ELECTROTECNIA | D17: ELECTROTECNIA | E17: 2 | G17: 4 | I17: DE LA FUENTE VÍCTOR | K17: =E17 -> 2 | L17: =F17 -> 0 | M17: =G17 -> 4 | N17: =H17 -> 0
A18: 4to C | C18: ELECTROTECNIA | D18: LABORATORIO ELECTROTECNIA | F18: 1 | H18: 2 | I18: ARANCIBIA DAMARIS | K18: =E18 -> 0 | L18: =F18 -> 1 | M18: =G18 -> 0 | N18: =H18 -> 2
K19: =E11 -> 4 | L19: =F11 -> 0 | M19: =G11 -> 0 | N19: =H11 -> 0
K20: =E12 -> 0 | L20: =F12 -> 2 | M20: =G12 -> 0 | N20: =H12 -> 0
D22: CARGA 2026 | E22: =+SUM(E11:E18) -> 10 | F22: =+SUM(F11:F18) -> 5 | G22: =+SUM(G11:G18) -> 12 | H22: =+SUM(H11:H18) -> 6 | I22: =SUM(E22:H22) -> 33
I24: RESUMEN | J24: 1 Sem | K24: LAB | L24: 2 Sem | M24: LAB
I25: DE LA FUENTE VÍCTOR | J25: =SUMIF($I$11:$N$20,$I25,K$11:K$20) -> 10 | K25: =SUMIF($I$11:$N$20,$I25,L$11:L$20) -> 0 | L25: =SUMIF($I$11:$N$20,$I25,M$11:M$20) -> 12 | M25: =SUMIF($I$11:$N$20,$I25,N$11:N$20) -> 0
I26: ARANCIBIA DAMARIS | J26: =SUMIF($I$11:$N$20,$I26,K$11:K$20) -> 0 | K26: =SUMIF($I$11:$N$20,$I26,L$11:L$20) -> 5 | L26: =SUMIF($I$11:$N$20,$I26,M$11:M$20) -> 0 | M26: =SUMIF($I$11:$N$20,$I26,N$11:N$20) -> 6
J29: =SUM(J25:M27) -> 33

Sheet QUÍM
A1: Escuela Naval "A. Prat"
A2: Departamento Educación
A3: Unidad de Coordinación Académica
A5: HORAS DE CLASES POR CURSO - PROFESOR
A6: AÑO ACADÉMICO 2026
A7: CÁTEDRA : | D7: QUÍMICA
D8: HORAS SEMANALES
A9: CURSO | C9: CÁTEDRA | D9: ASIGNATURAS | E9: 1er SEM. | G9: 2º SEM. | I9: PROFESOR
E10: SIST. | F10: LAB | G10: SIST. | H10: LAB
A11: 2do EJ | B11: A | C11: QUÍMICA | D11: QUÍMICA APLICADA .1 | E11: 2 | I11: GALLARDO FELIPE | K11: =E11 -> 2 | L11: =F11 -> 0 | M11: =G11 -> 0 | N11: =H11 -> 0
A12: 2do EJ | B12: A | C12: QUÍMICA | D12: LABORATORIO QUÍMICA APLICADA .1 | F12: 1 | I12: PIZARRO LORENA | K12: =E12 -> 0 | L12: =F12 -> 1 | M12: =G12 -> 0 | N12: =H12 -> 0
A13: 2do EJ | B13: A | C13: QUÍMICA | D13: QUÍMICA APLICADA .2 | G13: 4 | I13: GALLARDO FELIPE | K13: =E13 -> 0 | L13: =F13 -> 0 | M13: =G13 -> 4 | N13: =H13 -> 0
A14: 2do EJ | B14: A | C14: QUÍMICA | D14: LABORATORIO QUÍMICA APLICADA .2 | H14: 2 | I14: PUENTES MÓNICA | K14: =E14 -> 0 | L14: =F14 -> 0 | M14: =G14 -> 0 | N14: =H14 -> 2
A15: 2do EJ | B15: B | C15: QUÍMICA | D15: QUÍMICA APLICADA .1 | E15: 2 | I15: PUENTES MÓNICA | K15: =E15 -> 2 | L15: =F15 -> 0 | M15: =G15 -> 0 | N15: =H15 -> 0
A16: 2do EJ | B16: B | C16: QUÍMICA | D16: LABORATORIO QUÍMICA APLICADA .1 | F16: 1 | I16: PIZARRO LORENA | K16: =E16 -> 0 | L16: =F16 -> 1 | M16: =G16 -> 0 | N16: =H16 -> 0
A17: 2do EJ | B17: B | C17: QUÍMICA | D17: QUÍMICA APLICADA .2 | G17: 4 | I17: PUENTES MÓNICA | K17: =E17 -> 0 | L17: =F17 -> 0 | M17: =G17 -> 4 | N17: =H17 -> 0
A18: 2do EJ | B18: B | C18: QUÍMICA | D18: LABORATORIO QUÍMICA APLICADA .2 | H18: 2 | I18: GALLARDO FELIPE | K18: =E18 -> 0 | L18: =F18 -> 0 | M18: =G18 -> 0 | N18: =H18 -> 2
A19: 2do EJ | B19: C | C19: QUÍMICA | D19: QUÍMICA APLICADA .1 | E19: 2 | I19: GALLARDO FELIPE | K19: =E19 -> 2 | L19: =F19 -> 0 | M19: =G19 -> 0 | N19: =H19 -> 0
A20: 2do EJ | B20: C | C20: QUÍMICA | D20: LABORATORIO QUÍMICA APLICADA .1 | F20: 1 | I20: PIZARRO LORENA | K20: =E20 -> 0 | L20: =F20 -> 1 | M20: =G20 -> 0 | N20: =H20 -> 0
A21: 2do EJ | B21: C | C21: QUÍMICA | D21: QUÍMICA APLICADA .2 | G21: 4 | I21: GALLARDO FELIPE | K21: =E21 -> 0 | L21: =F21 -> 0 | M21: =G21 -> 4 | N21: =H21 -> 0
A22: 2do EJ | B22: C | C22: QUÍMICA | D22: LABORATORIO QUÍMICA APLICADA .2 | H22: 2 | I22: PUENTES MÓNICA | K22: =E22 -> 0 | L22: =F22 -> 0 | M22: =G22 -> 0 | N22: =H22 -> 2
A23: 2do EJ | B23: D | C23: QUÍMICA | D23: QUÍMICA APLICADA .1 | E23: 2 | I23: PIZARRO LORENA | K23: =E23 -> 2 | L23: =F23 -> 0 | M23: =G23 -> 0 | N23: =H23 -> 0
A24: 2do EJ | B24: D | C24: QUÍMICA | D24: LABORATORIO QUÍMICA APLICADA .1 | F24: 1 | I24: GALLARDO FELIPE | K24: =E24 -> 0 | L24: =F24 -> 1 | M24: =G24 -> 0 | N24: =H24 -> 0
A25: 2do EJ | B25: D | C25: QUÍMICA | D25: QUÍMICA APLICADA .2 | G25: 4 | I25: PIZARRO LORENA | K25: =E25 -> 0 | L25: =F25 -> 0 | M25: =G25 -> 4 | N25: =H25 -> 0
A26: 2do EJ | B26: D | C26: QUÍMICA | D26: LABORATORIO QUÍMICA APLICADA .2 | H26: 2 | I26: PUENTES MÓNICA | K26: =E26 -> 0 | L26: =F26 -> 0 | M26: =G26 -> 0 | N26: =H26 -> 2
A27: 2do IM Mod | C27: QUÍMICA | D27: QUÍMICA APLICADA IM .1 | E27: 4 | I27: PIZARRO LORENA | K27: =E27 -> 4 | L27: =F27 -> 0 | M27: =G27 -> 0 | N27: =H27 -> 0
A28: 2do IM Mod | C28: QUÍMICA | D28: LABORATORIO QUÍMICA APLICADA IM .1 | F28: 2 | I28: PUENTES MÓNICA | K28: =E28 -> 0 | L28: =F28 -> 2 | M28: =G28 -> 0 | N28: =H28 -> 0
A29: 2do IM | C29: QUÍMICA | D29: QUÍMICA APLICADA IM .2 | G29: 4 | I29: PIZARRO LORENA | K29: =E29 -> 0 | L29: =F29 -> 0 | M29: =G29 -> 4 | N29: =H29 -> 0
A30: 2do IM | C30: QUÍMICA | D30: LABORATORIO QUÍMICA APLICADA IM .2 | H30: 2 | I30: PUENTES MÓNICA | K30: =E30 -> 0 | L30: =F30 -> 0 | M30: =G30 -> 0 | N30: =H30 -> 2
A31: 2do LT | C31: QUÍMICA | D31: QUÍMICA Y MERCANCÍA PELIGROSA LT | E31: 4 | I31: PIZARRO LORENA | K31: =E31 -> 4 | L31: =F31 -> 0 | M31: =G31 -> 0 | N31: =H31 -> 0
A32: 2do LT | C32: QUÍMICA | D32: LABORATORIO QUÍMICA APLICADA LT | F32: 2 | I32: PUENTES MÓNICA | K32: =E32 -> 0 | L32: =F32 -> 2 | M32: =G32 -> 0 | N32: =H32 -> 0
D34: CARGA 2026 | E34: =+SUM(E11:E32) -> 16 | F34: =+SUM(F11:F32) -> 8 | G34: =+SUM(G11:G32) -> 20 | H34: =+SUM(H11:H32) -> 10 | I34: =+H34+G34+F34+E34 -> 54
J35: 2026 | O35: 2025
I36: RESUMEN | J36: 1 Sem | K36: LAB | L36: 2 Sem | M36: LAB | O36: RESUMEN | P36: 1 Sem | Q36: LAB | R36: 2 Sem | S36: LAB
I37: GALLARDO FELIPE | J37: =SUMIF($I$11:$N$32,$I37,K$11:K$32) -> 4 | K37: =SUMIF($I$11:$N$32,$I37,L$11:L$32) -> 1 | L37: =SUMIF($I$11:$N$32,$I37,M$11:M$32) -> 8 | M37: =SUMIF($I$11:$N$32,$I37,N$11:N$32) -> 2 | O37: GALLARDO FELIPE | P37: 10 | Q37: 6 | R37: 4 | S37: 3
I38: PIZARRO LORENA | J38: =SUMIF($I$11:$N$32,$I38,K$11:K$32)-2 -> 8 | K38: =SUMIF($I$11:$N$32,$I38,L$11:L$32) -> 3 | L38: =SUMIF($I$11:$N$32,$I38,M$11:M$32) -> 8 | M38: =SUMIF($I$11:$N$32,$I38,N$11:N$32) -> 0 | O38: PIZARRO LORENA | P38: 14 | Q38: 2 | R38: 8 | S38: 3
I39: PUENTES MÓNICA | J39: =SUMIF($I$11:$N$32,$I39,K$11:K$32) -> 2 | K39: =SUMIF($I$11:$N$32,$I39,L$11:L$32) -> 4 | L39: =SUMIF($I$11:$N$32,$I39,M$11:M$32) -> 4 | M39: =SUMIF($I$11:$N$32,$I39,N$11:N$32) -> 8 | O39: PUENTES MÓNICA | P39: 4 | Q39: 4 | R39: 4 | S39: 2
J41: =SUM(J37:J40) -> 14 | K41: =SUM(K37:K40) -> 8 | L41: =SUM(L37:L40) -> 20 | M41: =SUM(M37:M40) -> 10 | P41: =SUM(P37:P40) -> 28 | Q41: =SUM(Q37:Q40) -> 12 | R41: =SUM(R37:R40) -> 16 | S41: =SUM(S37:S40) -> 8
J43: =SUM(J37:M39) -> 52 | P43: =SUM(P37:S39) -> 64

Sheet CÍRCULOS
A1: Escuela Naval "A. Prat"
A2: Departamento Educación
A3: Unidad de Coordinación Académica
A5: HORAS DE CLASES POR CURSO - PROFESOR
A6: AÑO ACADÉMICO 2026
A7: CÁTEDRA : | D7: CIRCULOS
D8: HORAS SEMANALES
A9: CURSO | C9: CIRCULO | D9: ASIGNATURAS | E9: 1er SEM. | G9: 2º SEM. | I9: PROFESOR
E10: SIST. | F10: LAB | G10: SIST. | H10: LAB
C11: CÍRCULO CULTURAL | D11: PINTURA | F11: 3 | H11: 3 | I11: TURENNE | K11: =E11 -> 0 | L11: =F11 -> 3 | M11: =G11 -> 0 | N11: =H11 -> 3
C12: CÍRCULO CULTURAL | D12: FOLCLORE | F12: 3 | H12: 3 | I12: CARVACHO | K12: =E12 -> 0 | L12: =F12 -> 3 | M12: =G12 -> 0 | N12: =H12 -> 3
C13: CÍRCULO CULTURAL | D13: DEBATE | F13: 3 | H13: 3 | I13: CARRASCO
C14: CÍRCULO CULTURAL | D14: MUSICA | F14: 3 | H14: 3 | I14: ORDOÑEZ
C15: CÍRCULO CULTURAL | D15: FOTOGRAFIA | F15: 2 | H15: 2 | I15: JOFRE
C16: CÍRCULO CULTURAL | D16: PERIODISMO | F16: 2 | H16: 2 | I16: BUCCAREY
C17: CÍRCULO CULTURAL | D17: TECNOLOGIA | F17: 2 | H17: 2 | I17: DE LA FUENTE
C18: CÍRCULO CULTURAL | D18: HISTORIA NAVAL | F18: 2 | H18: 2 | I18: RIOS JORGE
C19: CÍRCULO CULTURAL | D19: ASESOR CULTURAL | F19: 16 | H19: 16 | I19: DIETERT
C20: CÍRCULO CULTURAL | D20: TEATRO | F20: 3 | H20: 3 | I20: MENDEZ | K20: =E20 -> 0 | L20: =F20 -> 3 | M20: =G20 -> 0 | N20: =H20 -> 3
D22: CARGA 2026 | E22: =SUM(E11:E20) -> 0 | G22: =SUM(G11:G20) -> 0 | I22: =+SUM(E22:G22) -> 0
D23: CARGA 2025 | E23: 12 | G23: 12 | I23: =E23+G23 -> 24
I25: RESUMEN | J25: 1 Sem | L25: 2 Sem
I26: TURENNE | J26: 3 | L26: 3
I27: CARVACHO | J27: 3 | L27: 3
I28: CARRASCO | J28: 3 | L28: 3
I29: ORDOÑEZ | J29: 3 | L29: 3
I30: JOFRE | J30: 2 | L30: 2
I31: BUCCAREY | J31: 2 | L31: 2
I32: DE LA FUENTE | J32: 2 | L32: 2
I33: RIOS JORGE | J33: 2 | L33: 2
I34: DIETERT | J34: 16 | L34: 16
I35: MENDEZ | J35: 3 | L35: 3
J36: =SUM(J26:J35) -> 39 | L36: =SUM(L26:L35) -> 39

Sheet CONSULTORÍAS
B4: ASIGNATURA | C4: HORAS | D4: TUTORIAS | E4: CONSULTORIAS | F4: DOCENTE
B5: MATEMATICAS | C5: 5 | D5: 2 | E5: 3 | F5: LEIVA YANINA
C6: 2 | D6: 0 | E6: 2 | F6: BAQUEDANO SOLEDAD
C7: 2 | D7: 0 | E7: 2 | F7: BARRERA CLAUDIA
C8: 5 | D8: 2 | E8: 3 | F8: HARDY CATHERINE
B10: ELECTROTECNIA | C10: 4 | D10: 0 | E10: 4 | F10: DE LA FUENTE VICTOR
B12: NAVEGACION | C12: 5 | D12: 0 | E12: 5 | F12: COLOMA ENRIQUE
C13: 1 | D13: 0 | E13: 1 | F13: ROJAS MARIANO
B15: HISTORIA | C15: 2 | D15: 0 | E15: 2 | F15: RIOS JORGE
C16: 2 | D16: 0 | E16: 2 | F16: ROMAN LORENA
B18: QUIMICA | C18: 4 | D18: 0 | E18: 4 | F18: GALLARDO FELIPE
C19: 2 | D19: 0 | E19: 2 | F19: PIZARRO LORENA
B21: FISICA | C21: 8 | D21: 6 | E21: 2 | F21: RIOS NELSON
B23: LENGUAJE | C23: 2 | D23: 0 | E23: 2 | F23: CAMPOS VALESKA
B25: INGLES | C25: 6 | D25: 0 | E25: 6 | F25: PINO MACARENA
C27: =SUM(C5:C26) -> 50 | D27: =SUM(D5:D26) -> 10 | E27: =SUM(E5:E26) -> 40

Sheet ED FÍSICA 1ER AÑO
A1: Escuela Naval "A. Prat"
A2: Departamento Educación
A3: Unidad de Coordinación Académica
A5: HORAS DE CLASES POR CURSO - PROFESOR
A6: AÑO ACADÉMICO 2019
A7: CÁTEDRA : | D7: EDUCACIÓN FÍSICA
D8: HORAS SEMANALES
A9: CURSO | C9: CÁTEDRA | D9: ASIGNATURAS | E9: 1er SEM. | G9: 2º SEM. | I9: PROFESOR
E10: SIST. | F10: LAB | G10: SIST. | H10: LAB
A11: 1ro | B11: A | C11: EDUCACIÓN FÍSICA | D11: NATACIÓN I.1
A12: 1ro | B12: A | C12: EDUCACIÓN FÍSICA | D12: NATACIÓN I.2
A13: 1ro | B13: A | C13: EDUCACIÓN FÍSICA | D13: FORMACIÓN FÍSICA BASE
A14: 1ro | B14: A | C14: EDUCACIÓN FÍSICA | D14: ATLETISMO I
A15: 1ro | B15: B | C15: EDUCACIÓN FÍSICA | D15: NATACIÓN I.1
A16: 1ro | B16: B | C16: EDUCACIÓN FÍSICA | D16: NATACIÓN I.2
A17: 1ro | B17: B | C17: EDUCACIÓN FÍSICA | D17: FORMACIÓN FÍSICA BASE
A18: 1ro | B18: B | C18: EDUCACIÓN FÍSICA | D18: ATLETISMO I
A19: 1ro | B19: C | C19: EDUCACIÓN FÍSICA | D19: NATACIÓN I.1
A20: 1ro | B20: C | C20: EDUCACIÓN FÍSICA | D20: NATACIÓN I.2
A21: 1ro | B21: C | C21: EDUCACIÓN FÍSICA | D21: FORMACIÓN FÍSICA BASE
A22: 1ro | B22: C | C22: EDUCACIÓN FÍSICA | D22: ATLETISMO I
... A50: 1ro | B50: E | C50: EDUCACIÓN FÍSICA | D50: ATLETISMO I
E53: =+SUM(E11:E28) -> 0 | F53: =+SUM(F11:F28) -> 0 | I53: =+E53+F53 -> 0
J55: 1 Sem | K55: 2 Sem | L55: HORAS SISTEMÁTICAS | M55: HORAS SISTEMÁTICAS | N55: LABORATORIO | O55: LABORATORIO ANUALIZADO
I56: HARDY CATHERINE | J56: 4 | K56: 0 | L56: =+AVERAGE(J56:K56) -> 2 | M56: =+ROUND(L56,0) -> 2 | N56: 4 | O56: =ROUND(+N56/2,0) -> 2
I57: DE LA BARRERA FRANCISCO | J57: 4 | K57: 0 | L57: =+AVERAGE(J57:K57) -> 2 | M57: =+ROUND(L57,0) -> 2 | N57: 6 | O57: =ROUND(+N57/2,0) -> 3
I58: LEIVA YANINA | J58: 2 | K58: 0 | L58: =+AVERAGE(J58:K58) -> 1 | M58: =+ROUND(L58,0) -> 1 | N58: 0 | O58: =ROUND(+N58/2,0) -> 0

Sheet ED FÍSICA 2DO AÑO
A1: Escuela Naval "A. Prat"
A2: Departamento Educación
A3: Unidad de Coordinación Académica
A5: HORAS DE CLASES POR CURSO - PROFESOR
A6: AÑO ACADÉMICO 2019
A7: CÁTEDRA : | D7: EDUCACIÓN FÍSICA
D8: HORAS SEMANALES
A9: CURSO | C9: CÁTEDRA | D9: ASIGNATURAS | E9: 1er SEM. | G9: 2º SEM. | I9: PROFESOR
E10: SIST. | F10: LAB | G10: SIST. | H10: LAB
A11: 2do | B11: A | C11: EDUCACIÓN FÍSICA | D11: BÁSQUETBOL I
A12: 2do | B12: A | C12: EDUCACIÓN FÍSICA | D12: ACONDICIONAMIENTO FÍSICO
A13: 2do | B13: A | C13: EDUCACIÓN FÍSICA | D13: GIMNASIA I
A14: 2do | B14: A | C14: EDUCACIÓN FÍSICA | D14: NATACIÓN II
A15: 2do | B15: B | C15: EDUCACIÓN FÍSICA | D15: BÁSQUETBOL I
A16: 2do | B16: B | C16: EDUCACIÓN FÍSICA | D16: ACONDICIONAMIENTO FÍSICO
A17: 2do | B17: B | C17: EDUCACIÓN FÍSICA | D17: GIMNASIA I
A18: 2do | B18: B | C18: EDUCACIÓN FÍSICA | D18: NATACIÓN II
A19: 2do | B19: C | C19: EDUCACIÓN FÍSICA | D19: BÁSQUETBOL I
A20: 2do | B20: C | C20: EDUCACIÓN FÍSICA | D20: ACONDICIONAMIENTO FÍSICO
A21: 2do | B21: C | C21: EDUCACIÓN FÍSICA | D21: GIMNASIA I
A22: 2do | B22: C | C22: EDUCACIÓN FÍSICA | D22: NATACIÓN II
... A50: 2do | B50: E | C50: EDUCACIÓN FÍSICA | D50: NATACIÓN II
E53: =+SUM(E11:E28) -> 0 | F53: =+SUM(F11:F28) -> 0 | I53: =+E53+F53 -> 0
J55: 1 Sem | K55: 2 Sem | L55: HORAS SISTEMÁTICAS | M55: HORAS SISTEMÁTICAS | N55: LABORATORIO | O55: LABORATORIO ANUALIZADO
I56: HARDY CATHERINE | J56: 4 | K56: 0 | L56: =+AVERAGE(J56:K56) -> 2 | M56: =+ROUND(L56,0) -> 2 | N56: 4 | O56: =ROUND(+N56/2,0) -> 2
I57: DE LA BARRERA FRANCISCO | J57: 4 | K57: 0 | L57: =+AVERAGE(J57:K57) -> 2 | M57: =+ROUND(L57,0) -> 2 | N57: 6 | O57: =ROUND(+N57/2,0) -> 3
I58: LEIVA YANINA | J58: 2 | K58: 0 | L58: =+AVERAGE(J58:K58) -> 1 | M58: =+ROUND(L58,0) -> 1 | N58: 0 | O58: =ROUND(+N58/2,0) -> 0

Sheet ED FISICA
B5: HORAS ED. FÍSICA Y SELECCIONADOS
E7: 2019 | I7: IDEAL 2020
G8: HORAS SEMANALES asignadas | J8: HORAS SEMANALES Necesarias | L8: OBSERVACIONES | M8: PLAN DE ESTUDIO Propuesto | N8: Cambio a PROPUESTA PLAN DE ESTUDIO para 2020
B9: SELECCIONADO OLÍMPICO | C9: 10 hr semanales cada Seleccionado | E9: 14 PROFESORES 1 POR C/SELECCIONADO | F9: 14 Seleccionados | G9: =14*10 -> 140 | I9: 16 | J9: =16*10 -> 160 | L9: Se aumenta en 2 horas porque hay 2 seleccionados en donde es necesario dos profesores, por la cantidad de alumnos. | M9: 180 | N9: 160
B10: SELECCIONADO AFICIONADO | C10: 8hr semanales cada Seleccionado | E10: 9 PROFESORES 5 SELECCIONADOS NO CUBIERTOS para AFICIONADOS | F10: 14 Seleccionados | G10: 62 | I10: 14 | J10: =14*8 -> 112 | L10: En 5 seleccionados se trabajo Olímpico y Aficionado juntos | M10: 90 | N10: 112
B11: NIVELACIÓN | C11: 15 Atletismo 15 Natación 15 Gimnasia 7 Cooper, semanal | G11: 51 | J11: 52 | M11: 62 | N11: 52
B12: Competencia y Entrenamiento Especial | G12: 47 | J12: 75 | L12: Con las 75 horas se compensa en algo las horas fuera de la Escuela, en horas nocturnas, o los sábados y domingos. | M12: 60 | N12: 64
B13: REFORZAMIENTO FÍSICO | E13: Los profesores de Nivelación acogen a los de reforzamiento Físico a comienzo de año | G13: 0 | J13: 9 | L13: Solo por los meses de Marzo Abril y Mayo. 27 horas en total , equivalen a 2,25 anual | M13: 0
F14: TOTAL | G14: =+G12+G11+G10+G9 -> 300 | J14: =+J13/12+J12+J11+J10+J9 -> 399.75 | M14: =+M13+M12+M11+M10+M9+L7 -> 392 | N14: =+N13+N12+N11+N10+N9 -> 388

Sheet PROF ED. FISC.
A1: PROFESORES ED. FÍSICA
A3: NOMBRE | B3: VALOR HR. | C3: CANT HR. | D3: DURACION | E3: VALOR TOTAL
A4: NN ATLETISMO 3 (PC CARMONA) | B4: 23313 | C4: 8 | D4: 10 | E4: =D4*C4*B4 -> 1865040
A5: NN ATLETISMO NIVEL (PC ORTIZ) | B5: 23313 | C5: 10 | D5: 10 | E5: =D5*C5*B5 -> 2331300
A6: NN REMO 2 | B6: 37301 | C6: 8 | D6: 10 | E6: =D6*C6*B6 -> 2984080

Sheet CONSOLIDADO
AL1: mov | AM1: mov+rancho | AN1: sdo imp
H2: HORAS SISTEMÁTICAS | L2: HORAS LABORATORIO | AL2: 7127 | AM2: 21110 | AN2: 0.035
B3: NOMBRE | C3: VALOR HORA | D3: PC: CIVIL PM:MILIT | E3: CA:CAPRE | F3: CB FP FH CI EF | G3: A:ANUAL S:SEME | H3: 1 Sem | I3: 2 Sem | J3: HORAS SISTEMÁTICAS | K3: HORAS SISTEMÁTICAS | L3: 1 Sem | M3: 2 Sem | N3: HORAS LABORATORIO | O3: MANTENCIÓN LABORATORIO | P3: ACT. CULTURALES | Q3: ACTIVIDAD DOCENTE | R3: SELECCIONADO OLÍMPICO | S3: SELECCIONADO AFICIONADO | T3: COMPETENCIA Y ENTREN. ESPECIAL | U3: NIVELACIÓN | V3: TUTORÍA O CONSULTORÍA | W3: COORDINADOR ACTIVIDADES PROFESIONALES | X3: ACT. PATRÓN DEP. BAHIA | Y3: ACT. PRÁCTICAS SIMULADOR | Z3: ACTIVIDADES PROFESIONALES | AA3: ACT. PROF. FORMACIÓN NAVAL | AB3: MOODLE | AC3: ASESOR DE CURSO ACADÉMICO | AD3: ASESOR DE CURSO ED. FÍSICA | AE3: JEFE DE CÁTEDRA | AF3: JEFE DE CÁTEDRA ED. FÍSICA | AG3: JEFE DE FACULTAD | AH3: ASESOR DOCENTE AC | AI3: ASESOR DOCENTE ED. FÍSICA | AJ3: TOTAL HORAS 2025 | AL3: ASIGNACIÓN LOCOMOCIÓN | AM3: ASIGNACIÓN DE RANCHO | AN3: BONIFICACIÓN COMPESATORIA DE SALUD | AO3: MESES | AP3: ÁREA ACADÉMICA | AQ3: =+AL3 -> ASIGNACIÓN LOCOMOCIÓN | AR3: =+AM3 -> ASIGNACIÓN DE RANCHO | AS3: =+AN3 -> BONIFICACIÓN COMPESATORIA DE SALUD | AT3: SUELDO BRUTO MENSUAL 2025 | AU3: Merma Mensual
A4: 4 | B4: A | N4: =TRUNC(SUM(L4:M4)/2,0) -> 0
B5: ALTAMIRANO MARTA | C5: 49600 | D5: PC | F5: UAC | G5: A | V5: 3 | AH5: 36 | AJ5: =SUM(N5:AI5)+K5 -> 39 | AL5: 1 | AM5: 1 | AN5: 0 | AO5: 12 | AP5: =+C5*AO5*AJ5 -> 23212800 | AQ5: 115008 | AR5: 340620 | AT5: =SUM(AP5:AS5)/AO5 -> 1972369
A6: 7 | B6: ARANCIBIA DAMARIS | C6: 68800 | D6: PC | F6: CB | G6: A | H6: 10 | I6: 18 | J6: =IF(G6="A",(H6+I6)/2,H6+I6) -> 14 | K6: =TRUNC(J6,0) -> 14 | L6: 11 | M6: 14 | N6: =TRUNC(SUM(L6:M6)/2,0) -> 12 | O6: 1 | Q6: 4 | AJ6: =SUM(N6:AI6)+K6 -> 31 | AL6: =+IF(D6="PC",1,0) -> 1 | AM6: =IF(D6="PC", +IF(AJ6>17,1,0),0) -> 1 | AN6: =IF(I6="CA",1,0) -> 0 | AO6: =+IF(G6="S",5,+IF(D6="PM",10,12)) -> 12 | AP6: =+C6*AO6*AJ6 -> 25593600 | AQ6: 115008 | AR6: 340620 | AS6: =AP6*$AN$2*AN6 -> 0 | AT6: =SUM(AP6:AS6)/AO6 -> 2170769 | AU6: =AT6*5/44 -> 246678.3
A7: 9 | B7: ARELLANO IGNACIO | C7: 51200 | D7: PC | F7: EF | G7: A | H7: 2 | I7: 2 | J7: =IF(G7="A",(H7+I7)/2,H7+I7) -> 2 | K7: =TRUNC(J7,0) -> 2 | N7: =TRUNC(SUM(L7:M7)/2,0) -> 0 | Q7: =TRUNC(IF(D7="PM",0,IF(E7="CA",(K7)/6,(K7)/3)),0) -> 0 | R7: 8 | T7: 2 | AJ7: =SUM(N7:AI7)+K7 -> 12 | AL7: =+IF(D7="PC",1,0) -> 1 | AM7: =IF(D7="PC", +IF(AJ7>17,1,0),0) -> 0 | AN7: =IF(E7="CA",1,0) -> 0 | AO7: =+IF(G7="S",5,+IF(D7="PM",10,12)) -> 12 | AP7: =+C7*AO7*AJ7 -> 7372800 | AQ7: 115008 | AR7: =AM7*$AM$2*AO7 -> 0 | AS7: =AP7*$AN$2*AN7 -> 0 | AT7: =SUM(AP7:AS7)/AO7 -> 623984 | AU7: =AT7*5/44 -> 70907.273
A8: 10 | B8: ARENTSEN CHRISTIANE | C8: 65600 | D8: PC | F8: FH | G8: A | H8: 26 | I8: 24 | J8: =IF(G8="A",(H8+I8)/2,H8+I8) -> 25 | K8: =TRUNC(J8,0) -> 25 | L8: 0 | M8: 0 | N8: =TRUNC(SUM(L8:M8)/2,0) -> 0 | Q8: =TRUNC(IF(D8="PM",0,IF(E8="CA",(K8)/6,(K8)/3)),0) -> 8 | AE8: 2 | AJ8: =SUM(N8:AI8)+K8 -> 35 | AL8: =+IF(D8="PC",1,0) -> 1 | AM8: =IF(D8="PC", +IF(AJ8>17,1,0),0) -> 1 | AN8: =IF(I8="CA",1,0) -> 0 | AO8: =+IF(G8="S",5,+IF(D8="PM",10,12)) -> 12 | AP8: =+C8*AO8*AJ8 -> 27552000 | AQ8: 115008 | AR8: 340620 | AS8: =AP8*$AN$2*AN8 -> 0 | AT8: =SUM(AP8:AS8)/AO8 -> 2333969 | AU8: =AT8*5/44 -> 265223.75
A9: 11 | B9: B | N9: =TRUNC(SUM(L9:M9)/2,0) -> 0 | Q9: =TRUNC(IF(D9="PM",0,IF(E9="CA",(K9)/6,(K9)/3)),0) -> 0
A10: 13 | B10: BAQUEDANO SOLEDAD | C10: 75200 | D10: PC | F10: CB | G10: A | H10: 24 | I10: 24 | J10: =IF(G10="A",(H10+I10)/2,H10+I10) -> 24 | K10: =TRUNC(J10,0) -> 24 | N10: =TRUNC(SUM(L10:M10)/2,0) -> 0 | Q10: =TRUNC(IF(D10="PM",0,IF(E10="CA",(K10)/6,(K10)/3)),0) -> 8 | V10: 2 | AJ10: =SUM(N10:AI10)+K10 -> 34 | AL10: =+IF(D10="PC",1,0) -> 1 | AM10: =IF(D10="PC", +IF(AJ10>17,1,0),0) -> 1 | AN10: =IF(E10="CA",1,0) -> 0 | AO10: =+IF(G10="S",5,+IF(D10="PM",10,12)) -> 12 | AP10: =+C10*AO10*AJ10 -> 30681600 | AQ10: 115008 | AR10: 340620 | AS10: =AP10*$AN$2*AN10 -> 0 | AT10: =SUM(AP10:AS10)/AO10 -> 2594769 | AU10: =AT10*5/44 -> 294860.11
A11: 0 | B11: BARRERA CLAUDIA | C11: 72000 | D11: PC | F11: CB | G11: A | H11: 22 | I11: 22 | J11: =IF(G11="A",(H11+I11)/2,H11+I11) -> 22 | K11: =TRUNC(J11,0) -> 22 | N11: =TRUNC(SUM(L11:M11)/2,0) -> 0 | Q11: =TRUNC(IF(D11="PM",0,IF(E11="CA",(K11)/6,(K11)/3)),0) -> 7 | V11: 4 | AJ11: =SUM(N11:AI11)+K11 -> 33 | AL11: =+IF(D11="PC",1,0) -> 1 | AM11: =IF(D11="PC", +IF(AJ11>17,1,0),0) -> 1 | AN11: =IF(E11="CA",1,0) -> 0 | AO11: =+IF(G11="S",5,+IF(D11="PM",10,12)) -> 12 | AP11: =+C11*AO11*AJ11 -> 28512000 | AQ11: 115008 | AR11: 340620 | AS11: =AP11*$AN$2*AN11 -> 0 | AT11: =SUM(AP11:AS11)/AO11 -> 2413969 | AU11: =AT11*5/44 -> 274314.66
A12: 16 | B12: BASELLI GIULIO | C12: 62400 | D12: PC | F12: EF | G12: A | J12: =IF(G12="A",(H12+I12)/2,H12+I12) -> 0 | K12: =TRUNC(J12,0) -> 0 | N12: =TRUNC(SUM(L12:M12)/2,0) -> 0 | Q12: =TRUNC(IF(D12="PM",0,IF(E12="CA",(K12)/6,(K12)/3)),0) -> 0 | S12: 8 | AJ12: =SUM(N12:AI12)+K12 -> 8 | AL12: =+IF(D12="PC",1,0) -> 1 | AM12: =IF(D12="PC", +IF(AJ12>17,1,0),0) -> 0 | AN12: =IF(E12="CA",1,0) -> 0 | AO12: =+IF(G12="S",5,+IF(D12="PM",10,12)) -> 12 | AP12: =+C12*AO12*AJ12 -> 5990400 | AQ12: 115008 | AR12: =AM12*$AM$2*AO12 -> 0 | AS12: =AP12*$AN$2*AN12 -> 0 | AT12: =SUM(AP12:AS12)/AO12 -> 508784 | AU12: =AT12*5/44 -> 57816.364
A13: 17 | B13: BASTIDAS CC DIRISNAV | C13: 25631 | D13: PM | F13: FP | G13: A | H13: 2 | I13: 4 | J13: =IF(G13="A",(H13+I13)/2,H13+I13) -> 3 | K13: =TRUNC(J13,0) -> 3 | N13: =TRUNC(SUM(L13:M13)/2,0) -> 0 | Q13: =TRUNC(IF(D13="PM",0,IF(E13="CA",(K13)/6,(K13)/3)),0) -> 0 | AJ13: =SUM(N13:AI13)+K13 -> 3 | AL13: =+IF(D13="PC",1,0) -> 0 | AO13: 10 | AP13: =+C13*AO13*AJ13 -> 768930 | AQ13: =+AL13*AO13*$AL$2 -> 0
A14: 18 | B14: BELLO DANIEL | C14: 73600 | D14: PC | E14: CA | F14: EF | G14: A | H14: 2 | I14: 2 | J14: =IF(G14="A",(H14+I14)/2,H14+I14) -> 2 | K14: =TRUNC(J14,0) -> 2 | N14: =TRUNC(SUM(L14:M14)/2,0) -> 0 | Q14: =TRUNC(IF(D14="PM",0,IF(E14="CA",(K14)/6,(K14)/3)),0) -> 0 | R14: 7 | T14: 1 | Z14: 20 | AJ14: =SUM(N14:AI14)+K14 -> 30 | AL14: =+IF(D14="PC",1,0) -> 1 | AM14: =IF(D14="PC", +IF(AJ14>17,1,0),0) -> 1 | AN14: =IF(E14="CA",1,0) -> 1 | AO14: =+IF(G14="S",5,+IF(D14="PM",10,12)) -> 12 | AP14: =+C14*AO14*AJ14 -> 26496000 | AQ14: 115008 | AR14: 340620 | AS14: =AP14*$AN$2*AN14 -> 927360 | AT14: =SUM(AP14:AS14)/AO14 -> 2323249 | AU14: =AT14*5/44 -> 264005.57
A15: 20 | B15: BIERWIRTH PATRON BAHÍA (ForNaval) | C15: 48000 | D15: PC | F15: FP | G15: S | J15: =IF(G15="A",(H15+I15)/2,H15+I15) -> 0 | K15: =TRUNC(J15,0) -> 0 | N15: =TRUNC(SUM(L15:M15)/2,0) -> 0 | Q15: =TRUNC(IF(D15="PM",0,IF(E15="CA",(K15)/6,(K15)/3)),0) -> 0 | S15: 7 | T15: 2 | X15: 8 | AJ15: =SUM(N15:AI15)+K15 -> 17 | AL15: =+IF(D15="PC",1,0) -> 1 | AO15: =+IF(G15="S",5,+IF(D15="PM",10,12)) -> 5 | AP15: =+C15*AO15*AJ15 -> 4080000 | AQ15: 115008
A16: 19 | B16: BUCCAREY FRANCIS | C16: 29732 | D16: PM | F16: CI | G16: A | H16: 2 | I16: 0 | J16: 0 | K16: =TRUNC(J16,0) -> 0 | N16: =TRUNC(SUM(L16:M16)/2,0) -> 0 | P16: 2 | Q16: =TRUNC(IF(D16="PM",0,IF(E16="CA",(K16)/6,(K16)/3)),0) -> 0 | AJ16: =SUM(N16:AI16)+K16 -> 2 | AL16: =+IF(D16="PC",1,0) -> 0 | AM16: =IF(D16="PC", +IF(AJ16>17,1,0),0) -> 0 | AN16: =IF(E16="CA",1,0) -> 0 | AO16: =+IF(G16="S",5,+IF(D16="PM",10,12)) -> 10 | AP16: =+C16*AO16*AJ16 -> 594640 | AQ16: =+AL16*AO16*$AL$2 -> 0 | AR16: =AM16*$AM$2*AO16 -> 0 | AS16: =AP16*$AN$2*AN16 -> 0 | AT16: =SUM(AP16:AS16)/AO16 -> 59464 | AU16: =AT16*5/44 -> 6757.2727
B17: C
A18: 22 | B18: CAMPOS GARRIDO MANUEL | C18: 73600 | D18: PC | E18: CA | F18: FP | G18: A | H18: 6 | I18: 6 | J18: =IF(G18="A",(H18+I18)/2,H18+I18) -> 6 | K18: =TRUNC(J18,0) -> 6 | N18: =TRUNC(SUM(L18:M18)/2,0) -> 0 | Q18: =TRUNC(IF(D18="PM",0,IF(E18="CA",(K18)/6,(K18)/3)),0) -> 1 | R18: 8 | T18: 1 | AJ18: =SUM(N18:AI18)+K18 -> 16 | AL18: =+IF(D18="PC",1,0) -> 1 | AM18: =IF(D18="PC", +IF(AJ18>17,1,0),0) -> 0 | AN18: =IF(E18="CA",1,0) -> 1 | AO18: =+IF(G18="S",5,+IF(D18="PM",10,12)) -> 12 | AP18: =+C18*AO18*AJ18 -> 14131200 | AQ18: 115008 | AR18: =AM18*$AM$2*AO18 -> 0 | AS18: =AP18*$AN$2*AN18 -> 494592 | AT18: =SUM(AP18:AS18)/AO18 -> 1228400 | AU18: =AT18*5/44 -> 139590.91
A19: 26 | B19: CAMPOS VALESKA | C19: 59200 | D19: PC | F19: FH | G19: A | H19: 24 | I19: 24 | J19: =IF(G19="A",(H19+I19)/2,H19+I19) -> 24 | K19: =TRUNC(J19,0) -> 24 | N19: =TRUNC(SUM(L19:M19)/2,0) -> 0 | Q19: =TRUNC(IF(D19="PM",0,IF(E19="CA",(K19)/6,(K19)/3)),0) -> 8 | V19: 2 | AJ19: =SUM(N19:AI19)+K19 -> 34 | AL19: =+IF(D19="PC",1,0) -> 1 | AM19: =IF(D19="PC", +IF(AJ19>17,1,0),0) -> 1 | AN19: =IF(E19="CA",1,0) -> 0 | AO19: =+IF(G19="S",5,+IF(D19="PM",10,12)) -> 12 | AP19: =+C19*AO19*AJ19 -> 24153600 | AQ19: 115008 | AR19: 340620 | AS19: =AP19*$AN$2*AN19 -> 0 | AT19: =SUM(AP19:AS19)/AO19 -> 2050769 | AU19: =AT19*5/44 -> 233041.93
A20: 25 | B20: CARRASCO GONZALO | C20: 48000 | D20: PC | F20: FP | G20: A | J20: =IF(G20="A",(H20+I20)/2,H20+I20) -> 0 | K20: =TRUNC(J20,0) -> 0 | N20: =TRUNC(SUM(L20:M20)/2,0) -> 0 | P20: 3 | Q20: =TRUNC(IF(D20="PM",0,IF(E20="CA",(K20)/6,(K20)/3)),0) -> 0 | AJ20: =SUM(N20:AI20)+K20 -> 3 | AL20: =+IF(D20="PC",1,0) -> 1 | AM20: =IF(D20="PC", +IF(AJ20>17,1,0),0) -> 0 | AN20: =IF(E20="CA",1,0) -> 0 | AO20: =+IF(G20="S",5,+IF(D20="PM",10,12)) -> 12 | AP20: =+C20*AO20*AJ20 -> 1728000 | AQ20: 115008 | AR20: =AM20*$AM$2*AO20 -> 0 | AS20: =AP20*$AN$2*AN20 -> 0 | AT20: =SUM(AP20:AS20)/AO20 -> 153584 | AU20: =AT20*5/44 -> 17452.727
A21: 24 | B21: CARVACHO KISSY (FOLKLORE) | C21: 41600 | D21: PC | F21: CI | G21: A | J21: =IF(G21="A",(H21+I21)/2,H21+I21) -> 0 | K21: =TRUNC(J21,0) -> 0 | N21: =TRUNC(SUM(L21:M21)/2,0) -> 0 | P21: 3 | Q21: =TRUNC(IF(D21="PM",0,IF(E21="CA",(K21)/6,(K21)/3)),0) -> 0 | AJ21: =SUM(N21:AI21)+K21 -> 3 | AO21: 12 | AP21: =+C21*AO21*AJ21 -> 1497600 | AQ21: 115008
B22: CASTRO JUAN PABLO CN | D22: PM | F22: FP | G22: S | I22: 2 | J22: =IF(G22="A",(H22+I22)/2,H22+I22) -> 2 | K22: =TRUNC(J22,0) -> 2 | Q22: =TRUNC(IF(D22="PM",0,IF(E22="CA",(K22)/6,(K22)/3)),0) -> 0 | AJ22: =SUM(N22:AI22)+K22 -> 2
A23: 28 | B23: CHAGAY DRAGO | C23: 81600 | D23: PC | F23: EF | G23: A | J23: 6 | K23: 6 | N23: =TRUNC(SUM(L23:M23)/2,0) -> 0 | Q23: =TRUNC(IF(D23="PM",0,IF(E23="CA",(K23)/6,(K23)/3)),0) -> 2 | U23: 10 | AI23: 26 | AJ23: =SUM(N23:AI23)+K23 -> 44 | AL23: =+IF(D23="PC",1,0) -> 1 | AM23: =IF(D23="PC", +IF(AJ23>17,1,0),0) -> 1 | AN23: =IF(E23="CA",1,0) -> 0 | AO23: =+IF(G23="S",5,+IF(D23="PM",10,12)) -> 12 | AP23: =+C23*AO23*AJ23 -> 43084800 | AQ23: 115008 | AR23: 340620 | AS23: =AP23*$AN$2*AN23 -> 0 | AT23: =SUM(AP23:AS23)/AO23 -> 3628369 | AU23: =AT23*5/44 -> 412314.66
A24: 29 | B24: CHASSIN-TRUBERT CORREA JEAN PAUL | C24: 81600 | D24: PC | E24: CA | G24: A | J24: =IF(G24="A",(H24+I24)/2,H24+I24) -> 0 | K24: =TRUNC(J24,0) -> 0 | N24: =TRUNC(SUM(L24:M24)/2,0) -> 0 | Q24: =TRUNC(IF(D24="PM",0,IF(E24="CA",(K24)/6,(K24)/3)),0) -> 0 | Y24: 8 | Z24: 26 | AJ24: =SUM(N24:AI24)+K24 -> 34 | AL24: =+IF(D24="PC",1,0) -> 1 | AM24: 1 | AN24: =IF(E24="CA",1,0) -> 1 | AO24: =+IF(G24="S",5,+IF(D24="PM",10,12)) -> 12 | AP24: =+C24*AO24*AJ24 -> 33292800 | AQ24: 115008 | AR24: 340620 | AS24: =AP24*$AN$2*AN24 -> 1165248 | AT24: =SUM(AP24:AS24)/AO24 -> 2909473 | AU24: =AT24*5/44 -> 330621.93
B25: COFRÉ WILLIAMS | C25: 25631 | D25: PM | F25: CI | G25: A | J25: =IF(G25="A",(H25+I25)/2,H25+I25) -> 0 | K25: =TRUNC(J25,0) -> 0 | P25: 2 | AJ25: =SUM(N25:AI25)+K25 -> 2 | AL25: =+IF(D25="PC",1,0) -> 0 | AO25: 10 | AP25: =+C25*AO25*AJ25 -> 512620
A26: 32 | B26: COLOMA ENRIQUE | C26: 81600 | D26: PC | E26: CA | F26: FP | G26: A | H26: 24 | I26: 16 | J26: =IF(G26="A",(H26+I26)/2,H26+I26) -> 20 | K26: =TRUNC(J26,0) -> 20 | N26: =TRUNC(SUM(L26:M26)/2,0) -> 0 | Q26: =TRUNC(IF(D26="PM",0,IF(E26="CA",(K26)/6,(K26)/3)),0) -> 3 | V26: 5 | AE26: 4 | AJ26: =SUM(N26:AI26)+K26 -> 32 | AL26: =+IF(D26="PC",1,0) -> 1 | AM26: =IF(D26="PC", +IF(AJ26>17,1,0),0) -> 1 | AN26: =IF(E26="CA",1,0) -> 1 | AO26: =+IF(G26="S",5,+IF(D26="PM",10,12)) -> 12 | AP26: =+C26*AO26*AJ26 -> 31334400 | AQ26: 115008 | AR26: 340620 | AS26: =AP26*$AN$2*AN26 -> 1096704 | AT26: =SUM(AP26:AS26)/AO26 -> 2740561 | AU26: =AT26*5/44 -> 311427.39
A27: 33 | B27: CONCHA CLAUDIO ZAPATA (Aplic Comp) | C27: 28707 | D27: PM | F27: FP | G27: S | I27: 4 | J27: =IF(G27="A",(H27+I27)/2,H27+I27) -> 4 | K27: =TRUNC(J27,0) -> 4 | N27: =TRUNC(SUM(L27:M27)/2,0) -> 0 | Q27: =TRUNC(IF(D27="PM",0,IF(E27="CA",(K27)/6,(K27)/3)),0) -> 0 | AJ27: =SUM(N27:AI27)+K27 -> 4 | AL27: =+IF(D27="PC",1,0) -> 0 | AM27: =IF(D27="PC", +IF(AJ27>17,1,0),0) -> 0 | AN27: =IF(E27="CA",1,0) -> 0 | AO27: =+IF(G27="S",5,+IF(D27="PM",10,12)) -> 5 | AP27: =+C27*AO27*AJ27 -> 574140 | AQ27: =+AL27*AO27*$AL$2 -> 0 | AR27: =AM27*$AM$2*AO27 -> 0 | AS27: =AP27*$AN$2*AN27 -> 0 | AT27: =SUM(AP27:AS27)/AO27 -> 114828 | AU27: =AT27*5/44 -> 13048.636
A28: 34 | B28: CORDOVEZ RICARDO | C28: 67200 | D28: PC | F28: EF | G28: A | H28: 6 | I28: 6 | J28: =IF(G28="A",(H28+I28)/2,H28+I28) -> 6 | K28: =TRUNC(J28,0) -> 6 | N28: =TRUNC(SUM(L28:M28)/2,0) -> 0 | Q28: =TRUNC(IF(D28="PM",0,IF(E28="CA",(K28)/6,(K28)/3)),0) -> 2 | R28: 7 | T28: 3 | AJ28: =SUM(N28:AI28)+K28 -> 18 | AL28: =+IF(D28="PC",1,0) -> 1 | AM28: =IF(D28="PC", +IF(AJ28>17,1,0),0) -> 1 | AN28: =IF(E28="CA",1,0) -> 0 | AO28: =+IF(G28="S",5,+IF(D28="PM",10,12)) -> 12 | AP28: =+C28*AO28*AJ28 -> 14515200 | AQ28: 115008 | AR28: 340620 | AS28: =AP28*$AN$2*AN28 -> 0 | AT28: =SUM(AP28:AS28)/AO28 -> 1247569 | AU28: =AT28*5/44 -> 141769.2
A29: 35 | B29: CORONADO WALTER | C29: 59200 | D29: PC | F29: EF | G29: A | N29: =TRUNC(SUM(L29:M29)/2,0) -> 0 | Q29: =TRUNC(IF(D29="PM",0,IF(E29="CA",(K29)/6,(K29)/3)),0) -> 0 | R29: 7 | T29: 5 | U29: 2 | AJ29: =SUM(N29:AI29)+K29 -> 14 | AL29: =+IF(D29="PC",1,0) -> 1 | AM29: =IF(D29="PC", +IF(AJ29>17,1,0),0) -> 0 | AN29: =IF(E29="CA",1,0) -> 0 | AO29: =+IF(G29="S",5,+IF(D29="PM",10,12)) -> 12 | AP29: =+C29*AO29*AJ29 -> 9945600 | AQ29: 115008 | AR29: =AM29*$AM$2*AO29 -> 0 | AS29: =AP29*$AN$2*AN29 -> 0 | AT29: =SUM(AP29:AS29)/AO29 -> 838384 | AU29: =AT29*5/44 -> 95270.909
A30: 37 | B30: D | N30: =TRUNC(SUM(L30:M30)/2,0) -> 0 | Q30: =TRUNC(IF(D30="PM",0,IF(E30="CA",(K30)/6,(K30)/3)),0) -> 0
A31: 39 | B31: DE LA FUENTE VÍCTOR | C31: 57600 | D31: PC | F31: CB | G31: A | H31: 10 | I31: 12 | J31: =IF(G31="A",(H31+I31)/2,H31+I31) -> 11 | K31: =TRUNC(J31,0) -> 11 | N31: =TRUNC(SUM(L31:M31)/2,0) -> 0 | P31: 2 | Q31: =TRUNC(IF(D31="PM",0,IF(E31="CA",(K31)/6,(K31)/3)),0) -> 3 | V31: 4 | AE31: 1 | AJ31: =SUM(N31:AI31)+K31 -> 21 | AL31: =+IF(D31="PC",1,0) -> 1 | AM31: =IF(D31="PC", +IF(AJ31>17,1,0),0) -> 1 | AN31: =IF(E31="CA",1,0) -> 0 | AO31: =+IF(G31="S",5,+IF(D31="PM",10,12)) -> 12 | AP31: =+C31*AO31*AJ31 -> 14515200 | AQ31: 115008 | AR31: 340620 | AS31: =AP31*$AN$2*AN31 -> 0 | AT31: =SUM(AP31:AS31)/AO31 -> 1247569 | AU31: =AT31*5/44 -> 141769.2
A32: 41 | B32: DIETERT CARLOS | C32: 81600 | D32: PC | E32: CA | F32: CI | G32: A | J32: =IF(G32="A",(H32+I32)/2,H32+I32) -> 0 | K32: =TRUNC(J32,0) -> 0 | N32: =TRUNC(SUM(L32:M32)/2,0) -> 0 | P32: 16 | Q32: =TRUNC(IF(D32="PM",0,IF(E32="CA",(K32)/6,(K32)/3)),0) -> 0 | AJ32: =SUM(N32:AI32)+K32 -> 16 | AL32: =+IF(D32="PC",1,0) -> 1 | AM32: 1 | AN32: 1 | AO32: 12 | AP32: =+C32*AO32*AJ32 -> 15667200 | AQ32: 115008 | AR32: 340620
A33: 42 | B33: DONOSO RODRIGO | C33: 1600000 | D33: PC | E33: CA | F33: FH | G33: A | J33: =IF(G33="A",(H33+I33)/2,H33+I33) -> 0 | K33: =TRUNC(J33,0) -> 0 | N33: =TRUNC(SUM(L33:M33)/2,0) -> 0 | Q33: =TRUNC(IF(D33="PM",0,IF(E33="CA",(K33)/6,(K33)/3)),0) -> 0 | AA33: 6 | AJ33: 42 | AL33: =+IF(D33="PC",1,0) -> 1 | AM33: =IF(D33="PC", +IF(AJ33>17,1,0),0) -> 1 | AN33: =IF(E33="CA",1,0) -> 1 | AO33: =+IF(G33="S",5,+IF(D33="PM",10,12)) -> 12 | AP33: =C33*AO33 -> 19200000 | AQ33: 115008 | AR33: =AM33*$AM$2*AO33 -> 253320 | AS33: =AP33*$AN$2*AN33 -> 672000 | AT33: =SUM(AP33:AS33)/AO33 -> 1686694 | AU33: =AT33*5/44 -> 191669.77
A34: 43 | B34: DUFEY SERGIO | C34: 29732 | D34: PM | F34: EF | G34: A | N34: =TRUNC(SUM(L34:M34)/2,0) -> 0 | Q34: =TRUNC(IF(D34="PM",0,IF(E34="CA",(K34)/6,(K34)/3)),0) -> 0 | R34: 6 | S34: 2 | AJ34: =SUM(N34:AI34)+K34 -> 8 | AL34: =+IF(D34="PC",1,0) -> 0 | AM34: =IF(D34="PC", +IF(AJ34>17,1,0),0) -> 0 | AN34: =IF(E34="CA",1,0) -> 0 | AO34: 10 | AP34: =+C34*AO34*AJ34 -> 2378560 | AQ34: =+AL34*AO34*$AL$2 -> 0 | AR34: =AM34*$AM$2*AO34 -> 0 | AS34: =AP34*$AN$2*AN34 -> 0 | AT34: =SUM(AP34:AS34)/AO34 -> 237856 | AU34: =AT34*5/44 -> 27029.091
A35: 44 | B35: E | N35: =TRUNC(SUM(L35:M35)/2,0) -> 0 | Q35: =TRUNC(IF(D35="PM",0,IF(E35="CA",(K35)/6,(K35)/3)),0) -> 0
B36: F | N36: =TRUNC(SUM(L36:M36)/2,0) -> 0
B37: FISCHER MATIAS | C37: 25631 | D37: PM | F37: FP | G37: S | H37: 2 | J37: =IF(G37="A",(H37+I37)/2,H37+I37) -> 2 | K37: =TRUNC(J37,0) -> 2 | N37: =TRUNC(SUM(L37:M37)/2,0) -> 0 | AJ37: =SUM(N37:AI37)+K37 -> 2 | AO37: 5 | AP37: =C37*AJ37*AO37 -> 256310
A38: 47 | B38: G | N38: =TRUNC(SUM(L38:M38)/2,0) -> 0 | Q38: =TRUNC(IF(D38="PM",0,IF(E38="CA",(K38)/6,(K38)/3)),0) -> 0
A39: 48 | B39: GALDAMES SERGIO ATLET 3 | C39: 62400 | D39: PC | F39: EF | G39: A | N39: =TRUNC(SUM(L39:M39)/2,0) -> 0 | Q39: =TRUNC(IF(D39="PM",0,IF(E39="CA",(K39)/6,(K39)/3)),0) -> 0 | R39: 7 | T39: 3 | AJ39: =SUM(N39:AI39)+K39 -> 10 | AL39: =+IF(D39="PC",1,0) -> 1 | AM39: =IF(D39="PC", +IF(AJ39>17,1,0),0) -> 0 | AN39: =IF(E39="CA",1,0) -> 0 | AO39: 10 | AP39: =+C39*AO39*AJ39 -> 6240000 | AQ39: 115008 | AR39: =AM39*$AM$2*AO39 -> 0 | AS39: =AP39*$AN$2*AN39 -> 0 | AT39: =SUM(AP39:AS39)/AO39 -> 635500.8 | AU39: =AT39*5/44 -> 72216
A40: 49 | B40: GALLARDO FELIPE | C40: 59200 | D40: PC | F40: CB | G40: A | H40: 4 | I40: 8 | J40: =IF(G40="A",(H40+I40)/2,H40+I40) -> 6 | K40: =TRUNC(J40,0) -> 6 | L40: 1 | M40: 12 | N40: =TRUNC(SUM(L40:M40)/2,0) -> 6 | O40: 1 | Q40: =TRUNC(IF(D40="PM",0,IF(E40="CA",(K40)/6,(K40)/3)),0) -> 2 | V40: 2 | AJ40: =SUM(N40:AI40)+K40 -> 17 | AL40: =+IF(D40="PC",1,0) -> 1 | AM40: =IF(D40="PC", +IF(AJ40>17,1,0),0) -> 0 | AN40: =IF(E40="CA",1,0) -> 0 | AO40: =+IF(G40="S",5,+IF(D40="PM",10,12)) -> 12 | AP40: =+C40*AO40*AJ40 -> 12076800 | AQ40: 115008 | AR40: 340620 | AS40: =AP40*$AN$2*AN40 -> 0 | AT40: =SUM(AP40:AS40)/AO40 -> 1044369 | AU40: =AT40*5/44 -> 118678.3
A41: 50 | B41: GALLARDO JOSÉ | C41: 48000 | D41: PC | F41: EF | G41: A | N41: =TRUNC(SUM(L41:M41)/2,0) -> 0 | Q41: =TRUNC(IF(D41="PM",0,IF(E41="CA",(K41)/6,(K41)/3)),0) -> 0 | R41: 7 | T41: 2 | AJ41: =SUM(N41:AI41)+K41 -> 9 | AL41: =+IF(D41="PC",1,0) -> 1 | AM41: =IF(D41="PC", +IF(AJ45>17,1,0),0) -> 1 | AN41: =IF(E41="CA",1,0) -> 0 | AO41: =+IF(G41="S",5,+IF(D41="PM",10,12)) -> 12 | AP41: =+C41*AO41*AJ41 -> 5184000 | AQ41: 115008 | AS41: =AP41*$AN$2*AN41 -> 0
A42: 52 | B42: GARCÍA ALBERTO | C42: 81600 | D42: PC | E42: CA | F42: FP | G42: A | H42: 10 | I42: 4 | J42: =IF(G42="A",(H42+I42)/2,H42+I42) -> 7 | K42: =TRUNC(J42,0) -> 7 | N42: =TRUNC(SUM(L42:M42)/2,0) -> 0 | Q42: =TRUNC(IF(D42="PM",0,IF(E42="CA",(K42)/6,(K42)/3)),0) -> 1 | AE42: 1 | AJ42: =SUM(N42:AI42)+K42 -> 9 | AL42: =+IF(D42="PC",1,0) -> 1 | AM42: =IF(D42="PC", +IF(AJ42>17,1,0),0) -> 0 | AN42: =IF(E42="CA",1,0) -> 1 | AO42: =+IF(G42="S",5,+IF(D42="PM",10,12)) -> 12 | AP42: =+C42*AO42*AJ42 -> 8812800 | AQ42: 115008 | AR42: =AM42*$AM$2*AO42 -> 0 | AS42: =AP42*$AN$2*AN42 -> 308448 | AT42: =SUM(AP42:AS42)/AO42 -> 769688 | AU42: =AT42*5/44 -> 87464.545
A43: 53 | B43: GARCÍA ORLANDO | C43: 73600 | D43: PC | F43: EF | G43: A | H43: 12 | I43: 12 | J43: =IF(G43="A",(H43+I43)/2,H43+I43) -> 12 | K43: =TRUNC(J43,0) -> 12 | N43: =TRUNC(SUM(L43:M43)/2,0) -> 0 | Q43: =TRUNC(IF(D43="PM",0,IF(E43="CA",(K43)/6,(K43)/3)),0) -> 4 | R43: 8 | T43: 4 | AJ43: =SUM(N43:AI43)+K43 -> 28 | AL43: =+IF(D43="PC",1,0) -> 1 | AM43: =IF(D43="PC", +IF(AJ43>17,1,0),0) -> 1 | AN43: =IF(E43="CA",1,0) -> 0 | AO43: =+IF(G43="S",5,+IF(D43="PM",10,12)) -> 12 | AP43: =+C43*AO43*AJ43 -> 24729600 | AQ43: 115008 | AR43: 340620 | AS43: =AP43*$AN$2*AN43 -> 0 | AT43: =SUM(AP43:AS43)/AO43 -> 2098769 | AU43: =AT43*5/44 -> 238496.48
A44: 54 | B44: GARCÍA QUIROGA CARLOS | C44: 81600 | D44: PC | E44: CA | F44: FP | G44: A | H44: 11 | I44: 8 | J44: =IF(G44="A",(H44+I44)/2,H44+I44) -> 9.5 | K44: =TRUNC(J44,0) -> 9 | N44: =TRUNC(SUM(L44:M44)/2,0) -> 0 | Q44: =TRUNC(IF(D44="PM",0,IF(E44="CA",(K44)/6,(K44)/3)),0) -> 1 | AJ44: =SUM(N44:AI44)+K44 -> 10 | AL44: =+IF(D44="PC",1,0) -> 1 | AO44: =+IF(G44="S",5,+IF(D44="PM",10,12)) -> 12 | AP44: =+C44*AO44*AJ44 -> 9792000 | AQ44: 115008
B45: GARRIDO MATÍAS | C45: 41600 | D45: PC | F45: CB | G45: A | H45: 4 | I45: 12 | J45: =IF(G45="A",(H45+I45)/2,H45+I45) -> 8 | K45: =TRUNC(J45,0) -> 8 | L45: 4 | M45: 6 | N45: =TRUNC(SUM(L45:M45)/2,0) -> 5 | O45: 1 | Q45: =TRUNC(IF(D45="PM",0,IF(E45="CA",(K45)/6,(K45)/3)),0) -> 2 | V45: 8 | AJ45: =SUM(N45:AI45)+K45 -> 24 | AO45: 12 | AP45: =C45*AJ45*AO45 -> 11980800
A46: 56 | B46: GONZÁLEZ FABIÁN | C46: 76800 | D46: PC | E46: CA | F46: FP | G46: A | H46: 2 | I46: 2 | J46: =IF(G46="A",(H46+I46)/2,H46+I46) -> 2 | K46: =TRUNC(J46,0) -> 2 | N46: =TRUNC(SUM(L46:M46)/2,0) -> 0 | Q46: =TRUNC(IF(D46="PM",0,IF(E46="CA",(K46)/6,(K46)/3)),0) -> 0 | AJ46: =SUM(N46:AI46)+K46 -> 2 | AL46: =+IF(D46="PC",1,0) -> 1 | AM46: =IF(D46="PC", +IF(AJ46>17,1,0),0) -> 0 | AN46: =IF(E46="CA",1,0) -> 1 | AO46: =+IF(G46="S",5,+IF(D46="PM",10,12)) -> 12 | AP46: =+C46*AO46*AJ46 -> 1843200 | AQ46: 115008 | AR46: =AM46*$AM$2*AO46 -> 0 | AS46: =AP46*$AN$2*AN46 -> 64512 | AT46: =SUM(AP46:AS46)/AO46 -> 168560 | AU46: =AT46*5/44 -> 19154.545
A47: 58 | B47: GONZÁLEZ V. MIGUEL | C47: 78400 | D47: PC | F47: EF | G47: A | H47: 8 | I47: 10 | J47: =IF(G47="A",(H47+I47)/2,H47+I47) -> 9 | K47: =TRUNC(J47,0) -> 9 | N47: =TRUNC(SUM(L47:M47)/2,0) -> 0 | Q47: =TRUNC(IF(D47="PM",0,IF(E47="CA",(K47)/6,(K47)/3)),0) -> 3 | R47: 7 | T47: 4 | U47: 1 | AG47: 12 | AJ47: =SUM(N47:AI47)+K47 -> 36 | AL47: =+IF(D47="PC",1,0) -> 1 | AM47: =IF(D47="PC", +IF(AJ47>17,1,0),0) -> 1 | AN47: =IF(E47="CA",1,0) -> 0 | AO47: =+IF(G47="S",5,+IF(D47="PM",10,12)) -> 12 | AP47: =+C47*AO47*AJ47 -> 33868800 | AQ47: 115008 | AR47: 340620 | AS47: =AP47*$AN$2*AN47 -> 0 | AT47: =SUM(AP47:AS47)/AO47 -> 2860369 | AU47: =AT47*5/44 -> 325041.93
A48: 81 | B48: GUNDLACH HÉCTOR | C48: 62400 | D48: PC | F48: FP | G48: A | H48: 12 | I48: 8 | J48: =IF(G48="A",(H48+I48)/2,H48+I48) -> 10 | K48: =TRUNC(J48,0) -> 10 | N48: =TRUNC(SUM(L48:M48)/2,0) -> 0 | Q48: =TRUNC(IF(D48="PM",0,IF(E48="CA",(K48)/6,(K48)/3)),0) -> 3 | AE48: 1 | AJ48: =SUM(N48:AI48)+K48 -> 14 | AL48: =+IF(D48="PC",1,0) -> 1 | AM48: =IF(D48="PC", +IF(AJ48>17,1,0),0) -> 0 | AN48: =IF(E48="CA",1,0) -> 0 | AO48: =+IF(G48="S",5,+IF(D48="PM",10,12)) -> 12 | AP48: =+C48*AO48*AJ48 -> 10483200 | AQ48: 115008 | AR48: 340620 | AS48: =AP48*$AN$2*AN48 -> 0 | AT48: =SUM(AP48:AS48)/AO48 -> 911569 | AU48: =AT48*5/44 -> 103587.39
A49: 60 | B49: GUZMÁN MARCELA | C49: 65600 | D49: PC | F49: EF | G49: A | J49: 6 | K49: 6 | N49: =TRUNC(SUM(L49:M49)/2,0) -> 0 | Q49: =TRUNC(IF(D49="PM",0,IF(E49="CA",(K49)/6,(K49)/3)),0) -> 2 | R49: 7 | T49: 3 | U49: 3 | AI49: 23 | AJ49: =SUM(N49:AI49)+K49 -> 44 | AL49: =+IF(D49="PC",1,0) -> 1 | AM49: =IF(D49="PC", +IF(AJ49>17,1,0),0) -> 1 | AN49: =IF(E49="CA",1,0) -> 0 | AO49: 10 | AP49: =+C49*AO49*AJ49 -> 28864000 | AQ49: 115008 | AR49: 340620 | AS49: =AP49*$AN$2*AN49 -> 0 | AT49: =SUM(AP49:AS49)/AO49 -> 2931962.8 | AU49: =AT49*5/44 -> 333177.59
A50: 61 | B50: H | N50: =TRUNC(SUM(L50:M50)/2,0) -> 0 | Q50: =TRUNC(IF(D50="PM",0,IF(E50="CA",(K50)/6,(K50)/3)),0) -> 0 | AJ50: =SUM(N50:AI50)+K50 -> 0
A51: 62 | B51: HARDY CATHERINE | C51: 72000 | D51: PC | F51: CB | G51: A | H51: 20 | I51: 22 | J51: =IF(G51="A",(H51+I51)/2,H51+I51) -> 21 | K51: =TRUNC(J51,0) -> 21 | N51: =TRUNC(SUM(L51:M51)/2,0) -> 0 | Q51: =TRUNC(IF(D51="PM",0,IF(E51="CA",(K51)/6,(K51)/3)),0) -> 7 | V51: 5 | AE51: 4 | AJ51: =SUM(N51:AI51)+K51 -> 37 | AL51: =+IF(D51="PC",1,0) -> 1 | AM51: =IF(D51="PC", +IF(AJ51>17,1,0),0) -> 1 | AN51: =IF(E51="CA",1,0) -> 0 | AO51: =+IF(G51="S",5,+IF(D51="PM",10,12)) -> 12 | AP51: =+C51*AO51*AJ51 -> 31968000 | AQ51: 115008 | AR51: 340620 | AS51: =AP51*$AN$2*AN51 -> 0 | AT51: =SUM(AP51:AS51)/AO51 -> 2701969 | AU51: =AT51*5/44 -> 307041.93
B52: HENRIQUEZ MILAN PAC | C52: 25631 | D52: PM | F52: FP | G52: A | H52: 4 | I52: 4 | J52: =IF(G52="A",(H52+I52)/2,H52+I52) -> 4 | K52: =TRUNC(J52,0) -> 4 | AJ52: =SUM(N52:AI52)+K52 -> 4 | AL52: =+IF(D52="PC",1,0) -> 0 | AO52: 10 | AP52: =+C52*AO52*AJ52 -> 1025240
B53: HERRERA T1 (PARTIDA SALVATAJE) | C53: 25631 | D53: PM | F53: FP | G53: A | H53: 4 | I53: 4 | J53: =IF(G53="A",(H53+I53)/2,H53+I53) -> 4 | K53: =TRUNC(J53,0) -> 4 | AA53: 2 | AJ53: =SUM(N53:AI53)+K53 -> 6 | AL53: =+IF(D53="PC",1,0) -> 0 | AO53: 10 | AP53: =+C53*AO53*AJ53 -> 1537860
B54: HUIDOBRO JAVIER | C54: 25631 | D54: PM | F54: FP | G54: A | H54: 12 | I54: 12 | J54: =IF(G54="A",(H54+I54)/2,H54+I54) -> 12 | K54: =TRUNC(J54,0) -> 12 | AJ54: =SUM(N54:AI54)+K54 -> 12 | AL54: =+IF(D54="PC",1,0) -> 0 | AO54: 10 | AP54: =+C54*AO54*AJ54 -> 3075720
A55: 65 | B55: J | N55: =TRUNC(SUM(L55:M55)/2,0) -> 0 | Q55: =TRUNC(IF(D55="PM",0,IF(E55="CA",(K55)/6,(K55)/3)),0) -> 0
A56: 66 | B56: JAIME HÉCTOR | C56: 62400 | D56: PC | F56: CB | G56: A | H56: 18 | I56: 22 | J56: 20 | K56: =TRUNC(J56,0) -> 20 | L56: 6 | M56: 4 | N56: =TRUNC(SUM(L56:M56)/2,0) -> 5 | O56: 1 | Q56: =TRUNC(IF(D56="PM",0,IF(E56="CA",(K56)/6,(K56)/3)),0) -> 6 | V56: 2 | AE56: 4 | AJ56: =SUM(N56:AI56)+K56 -> 38 | AL56: =+IF(D56="PC",1,0) -> 1 | AM56: =IF(D56="PC", +IF(AJ56>17,1,0),0) -> 1 | AN56: =IF(E56="CA",1,0) -> 0 | AO56: =+IF(G56="S",5,+IF(D56="PM",10,12)) -> 12 | AP56: =+C56*AO56*AJ56 -> 28454400 | AQ56: 115008 | AR56: 340620 | AS56: =AP56*$AN$2*AN56 -> 0 | AT56: =SUM(AP56:AS56)/AO56 -> 2409169 | AU56: =AT56*5/44 -> 273769.2
A57: 67 | B57: JARA MANUEL | C57: 76800 | D57: PC | E57: CA | F57: EF | G57: A | H57: 9 | I57: 5 | J57: 7 | K57: 7 | N57: =TRUNC(SUM(L57:M57)/2,0) -> 0 | Q57: =TRUNC(IF(D57="PM",0,IF(E57="CA",(K57)/6,(K57)/3)),0) -> 1 | R57: 8 | T57: 4 | AJ57: =SUM(N57:AI57)+K57 -> 20 | AL57: =+IF(D57="PC",1,0) -> 1 | AM57: =IF(D57="PC", +IF(AJ57>17,1,0),0) -> 1 | AN57: =IF(E57="CA",1,0) -> 1 | AO57: =+IF(G57="S",5,+IF(D57="PM",10,12)) -> 12 | AP57: =+C57*AO57*AJ57 -> 18432000 | AQ57: 115008 | AR57: 340620 | AS57: =AP57*$AN$2*AN57 -> 645120 | AT57: =SUM(AP57:AS57)/AO57 -> 1627729 | AU57: =AT57*5/44 -> 184969.2
B58: JOFRE LEONARDO (T1) | C58: 25631 | D58: PM | F58: FP | G58: S | H58: 0 | I58: 4 | J58: 0 | K58: 4 | Q58: 0 | AJ58: =SUM(N58:AI58)+K58 -> 4 | AO58: 5 | AP58: =C58*AJ58*AO58 -> 512620
B59: K | J59: =IF(G59="A",(H59+I59)/2,H59+I59) -> 0 | K59: =TRUNC(J59,0) -> 0 | Q59: =TRUNC(IF(D59="PM",0,IF(E59="CA",(K59)/6,(K59)/3)),0) -> 0
A60: 69 | B60: L | N60: =TRUNC(SUM(L60:M60)/2,0) -> 0 | Q60: =TRUNC(IF(D60="PM",0,IF(E60="CA",(K60)/6,(K60)/3)),0) -> 0
A61: 70 | B61: LEIVA YANINA | C61: 81600 | D61: PC | F61: CB | G61: A | H61: 18 | I61: 14 | J61: =IF(G61="A",(H61+I61)/2,H61+I61) -> 16 | K61: =TRUNC(J61,0) -> 16 | N61: =TRUNC(SUM(L61:M61)/2,0) -> 0 | Q61: =TRUNC(IF(D61="PM",0,IF(E61="CA",(K61)/6,(K61)/3)),0) -> 5 | V61: 5 | AG61: 12 | AJ61: =SUM(N61:AI61)+K61 -> 38 | AL61: =+IF(D61="PC",1,0) -> 1 | AM61: =IF(D61="PC", +IF(AJ61>17,1,0),0) -> 1 | AN61: =IF(E61="CA",1,0) -> 0 | AO61: =+IF(G61="S",5,+IF(D61="PM",10,12)) -> 12 | AP61: =+C61*AO61*AJ61 -> 37209600 | AQ61: 115008 | AR61: 340620 | AS61: =AP61*$AN$2*AN61 -> 0 | AT61: =SUM(AP61:AS61)/AO61 -> 3138769 | AU61: =AT61*5/44 -> 356678.3
A62: 71 | B62: LUCERO ANDRÉS | C62: 72000 | D62: PC | F62: FH | G62: A | H62: 24 | I62: 14 | J62: =IF(G62="A",(H62+I62)/2,H62+I62) -> 19 | K62: =TRUNC(J62,0) -> 19 | N62: =TRUNC(SUM(L62:M62)/2,0) -> 0 | Q62: 5 | AB62: 3 | AJ62: =SUM(N62:AI62)+K62 -> 27 | AL62: =+IF(D62="PC",1,0) -> 1 | AM62: =IF(D62="PC", +IF(AJ62>17,1,0),0) -> 1 | AN62: =IF(E62="CA",1,0) -> 0 | AO62: =+IF(G62="S",5,+IF(D62="PM",10,12)) -> 12 | AP62: =+C62*AO62*AJ62 -> 23328000 | AQ62: 115008 | AR62: 340620 | AS62: =AP62*$AN$2*AN62 -> 0 | AT62: =SUM(AP62:AS62)/AO62 -> 1981969 | AU62: =AT62*5/44 -> 225223.75
A63: 72 | B63: M | N63: =TRUNC(SUM(L63:M63)/2,0) -> 0 | Q63: =TRUNC(IF(D63="PM",0,IF(E63="CA",(K63)/6,(K63)/3)),0) -> 0
A64: 73 | B64: MALDONADO GONZALO | C64: 81600 | D64: PC | E64: CA | F64: FH | G64: A | H64: 10 | I64: 10 | J64: =IF(G64="A",(H64+I64)/2,H64+I64) -> 10 | K64: =TRUNC(J64,0) -> 10 | N64: =TRUNC(SUM(L64:M64)/2,0) -> 0 | Q64: =TRUNC(IF(D64="PM",0,IF(E64="CA",(K64)/6,(K64)/3)),0) -> 1 | Z64: 28 | AE64: 4 | AJ64: =SUM(N64:AI64)+K64 -> 43 | AL64: =+IF(D64="PC",1,0) -> 1 | AM64: =IF(D64="PC", +IF(AJ64>17,1,0),0) -> 1 | AN64: =IF(E64="CA",1,0) -> 1 | AO64: =+IF(G64="S",5,+IF(D64="PM",10,12)) -> 12 | AP64: =+C64*AO64*AJ64 -> 42105600 | AQ64: 115008 | AR64: 340620 | AS64: =AP64*$AN$2*AN64 -> 1473696 | AT64: =SUM(AP64:AS64)/AO64 -> 3669577 | AU64: =AT64*5/44 -> 416997.39
A65: 75 | B65: MAYNE-NICHOLLS MICHAEL | C65: 73600 | D65: PC | F65: FH | G65: A | H65: 32 | I65: 32 | J65: =IF(G65="A",(H65+I65)/2,H65+I65) -> 32 | K65: =TRUNC(J65,0) -> 32 | N65: =TRUNC(SUM(L65:M65)/2,0) -> 0 | Q65: =TRUNC(IF(D65="PM",0,IF(E65="CA",(K65)/6,(K65)/3)),0) -> 10 | AE65: 2 | AJ65: =SUM(N65:AI65)+K65 -> 44 | AL65: =+IF(D65="PC",1,0) -> 1 | AM65: =IF(D65="PC", +IF(AJ65>17,1,0),0) -> 1 | AN65: =IF(E65="CA",1,0) -> 0 | AO65: =+IF(G65="S",5,+IF(D65="PM",10,12)) -> 12 | AP65: =+C65*AO65*AJ65 -> 38860800 | AQ65: 115008 | AR65: 340620 | AS65: =AP65*$AN$2*AN65 -> 0 | AT65: =SUM(AP65:AS65)/AO65 -> 3276369 | AU65: =AT65*5/44 -> 372314.66
B66: MELKONIAN CRISTOBAL | C66: 25631 | D66: PM | F66: FP | G66: A | H66: 3 | I66: 4 | J66: =IF(G66="A",(H66+I66)/2,H66+I66) -> 3.5 | K66: =TRUNC(J66,0) -> 3 | Q66: =TRUNC(IF(D66="PM",0,IF(E66="CA",(K66)/6,(K66)/3)),0) -> 0 | AJ66: =SUM(N66:AI66)+K66 -> 3 | AL66: =+IF(D66="PC",1,0) -> 0 | AO66: =+IF(G66="S",5,+IF(D66="PM",10,12)) -> 10 | AP66: =+C66*AO66*AJ66 -> 768930
B67: MELLA HERNÁN | C67: 25631 | D67: PM | F67: FH | G67: A | H67: 8 | I67: 8 | J67: =IF(G67="A",(H67+I67)/2,H67+I67) -> 8 | K67: =TRUNC(J67,0) -> 8 | Q67: =TRUNC(IF(D67="PM",0,IF(E67="CA",(K67)/6,(K67)/3)),0) -> 0 | AJ67: =SUM(N67:AI67)+K67 -> 8 | AL67: =+IF(D67="PC",1,0) -> 0 | AO67: =+IF(G67="S",5,+IF(D67="PM",10,12)) -> 10 | AP67: =+C67*AO67*AJ67 -> 2050480
A68: 76 | B68: MENDEZ CONSTANZA | C68: 48000 | D68: PC | F68: CI | G68: A | J68: =IF(G68="A",(H68+I68)/2,H68+I68) -> 0 | K68: =TRUNC(J68,0) -> 0 | N68: =TRUNC(SUM(L68:M68)/2,0) -> 0 | P68: 3 | Q68: =TRUNC(IF(D68="PM",0,IF(E68="CA",(K68)/6,(K68)/3)),0) -> 0 | AJ68: =SUM(N68:AI68)+K68 -> 3 | AL68: =+IF(D68="PC",1,0) -> 1 | AM68: =IF(D68="PC", +IF(AJ68>17,1,0),0) -> 0 | AN68: =IF(E68="CA",1,0) -> 0 | AO68: =+IF(G68="S",5,+IF(D68="PM",10,12)) -> 12 | AP68: =+C68*AO68*AJ68 -> 1728000 | AQ68: 115008 | AR68: =AM68*$AM$2*AO68 -> 0 | AS68: =AP68*$AN$2*AN68 -> 0 | AT68: =SUM(AP68:AS68)/AO68 -> 153584 | AU68: =AT68*5/44 -> 17452.727
B69: MONTECINO ULE MARCO | C69: 1346407 | D69: PC | E69: CA | G69: A | J69: =IF(G69="A",(H69+I69)/2,H69+I69) -> 0 | K69: =TRUNC(J69,0) -> 0 | Q69: =TRUNC(IF(D69="PM",0,IF(E69="CA",(K69)/6,(K69)/3)),0) -> 0 | AJ69: 44 | AL69: =+IF(D69="PC",1,0) -> 1 | AM69: 1 | AN69: 1 | AO69: =+IF(G69="S",5,+IF(D69="PM",10,12)) -> 12 | AP69: =C69*AO69 -> 16156884 | AQ69: 115008 | AR69: 340620
A70: 78 | B70: MUNITA JUAN CARLOS | C70: 73600 | D70: PC | E70: CA | F70: FP | G70: A | H70: 4 | I70: 4 | J70: =IF(G70="A",(H70+I70)/2,H70+I70) -> 4 | K70: =TRUNC(J70,0) -> 4 | N70: =TRUNC(SUM(L70:M70)/2,0) -> 0 | Q70: =TRUNC(IF(D70="PM",0,IF(E70="CA",(K70)/6,(K70)/3)),0) -> 0 | AE70: 2 | AJ70: =SUM(N70:AI70)+K70 -> 6 | AL70: =+IF(D70="PC",1,0) -> 1 | AM70: =IF(D70="PC", +IF(AJ70>17,1,0),0) -> 0 | AN70: =IF(E70="CA",1,0) -> 1 | AO70: =+IF(G70="S",5,+IF(D70="PM",10,12)) -> 12 | AP70: =+C70*AO70*AJ70 -> 5299200 | AQ70: 115008 | AR70: =AM70*$AM$2*AO70 -> 0 | AS70: =AP70*$AN$2*AN70 -> 185472 | AT70: =SUM(AP70:AS70)/AO70 -> 466640 | AU70: =AT70*5/44 -> 53027.273
B71: MUÑOZ JAIME | C71: 25631 | D71: PM | F71: FH | G71: A | H71: 2 | I71: 6 | J71: =IF(G71="A",(H71+I71)/2,H71+I71) -> 4 | K71: =TRUNC(J71,0) -> 4 | Q71: =TRUNC(IF(D71="PM",0,IF(E71="CA",(K71)/6,(K71)/3)),0) -> 0 | AJ71: =SUM(N71:AI71)+K71 -> 4 | AL71: =+IF(D71="PC",1,0) -> 0 | AO71: 10 | AP71: =+C71*AO71*AJ71 -> 1025240 | AQ71: =+AL71*AO71*$AL$2 -> 0
A72: 79 | B72: N | J72: =IF(G72="A",(H72+I72)/2,H72+I72) -> 0 | K72: =TRUNC(J72,0) -> 0 | N72: =TRUNC(SUM(L72:M72)/2,0) -> 0 | Q72: =TRUNC(IF(D72="PM",0,IF(E72="CA",(K72)/6,(K72)/3)),0) -> 0
A73: 82 | B73: NUÑEZ MIGUEL | C73: 49600 | D73: PC | F73: FH | G73: A | H73: 6 | I73: 6 | J73: =IF(G73="A",(H73+I73)/2,H73+I73) -> 6 | K73: =TRUNC(J73,0) -> 6 | N73: =TRUNC(SUM(L73:M73)/2,0) -> 0 | Q73: =TRUNC(IF(D73="PM",0,IF(E73="CA",(K73)/6,(K73)/3)),0) -> 2 | AH73: 36 | AJ73: =SUM(N73:AI73)+K73 -> 44 | AL73: =+IF(D73="PC",1,0) -> 1 | AO73: =+IF(G73="S",5,+IF(D73="PM",10,12)) -> 12 | AP73: =+C73*AO73*AJ73 -> 26188800 | AQ73: 115008 | AR73: 340620
A74: 83 | B74: O | N74: =TRUNC(SUM(L74:M74)/2,0) -> 0 | Q74: =TRUNC(IF(D74="PM",0,IF(E74="CA",(K74)/6,(K74)/3)),0) -> 0
A75: 84 | B75: OBERMOLLER HILDE | C75: 59200 | D75: PC | F75: FP | G75: S | H75: 4 | J75: =IF(G75="A",(H75+I75)/2,H75+I75) -> 4 | K75: =TRUNC(J75,0) -> 4 | N75: =TRUNC(SUM(L75:M75)/2,0) -> 0 | Q75: =TRUNC(IF(D75="PM",0,IF(E75="CA",(K75)/6,(K75)/3)),0) -> 1 | AJ75: =SUM(N75:AI75)+K75 -> 5 | AL75: =+IF(D75="PC",1,0) -> 1 | AM75: =IF(D75="PC", +IF(AJ75>17,1,0),0) -> 0 | AN75: =IF(E75="CA",1,0) -> 0 | AO75: =+IF(G75="S",5,+IF(D75="PM",10,12)) -> 5 | AP75: =+C75*AO75*AJ75 -> 1480000 | AQ75: 115008 | AR75: =AM75*$AM$2*AO75 -> 0 | AS75: =AP75*$AN$2*AN75 -> 0 | AT75: =SUM(AP75:AS75)/AO75 -> 319001.6 | AU75: =AT75*5/44 -> 36250.182
B76: OLGUIN MERCADO ANIBAL | C76: 41600 | D76: PC | F76: EF | G76: A | R76: 8 | AJ76: =SUM(N76:AI76)+K76 -> 8 | AO76: 12 | AP76: =+C76*AO76*AJ76 -> 3993600
A77: 85 | B77: ORDOÑEZ VERÓNICO | C77: 73600 | D77: PC | F77: CI | G77: A | J77: =IF(G77="A",(H77+I77)/2,H77+I77) -> 0 | K77: =TRUNC(J77,0) -> 0 | N77: =TRUNC(SUM(L77:M77)/2,0) -> 0 | P77: 3 | Q77: =TRUNC(IF(D77="PM",0,IF(E77="CA",(K77)/6,(K77)/3)),0) -> 0 | AJ77: =SUM(N77:AI77)+K77 -> 3 | AL77: =+IF(D77="PC",1,0) -> 1 | AM77: =IF(D77="PC", +IF(AJ77>17,1,0),0) -> 0 | AN77: =IF(E77="CA",1,0) -> 0 | AO77: =+IF(G77="S",5,+IF(D77="PM",10,12)) -> 12 | AP77: =+C77*AO77*AJ77 -> 2649600 | AQ77: 115008 | AR77: =AM77*$AM$2*AO77 -> 0 | AS77: =AP77*$AN$2*AN77 -> 0 | AT77: =SUM(AP77:AS77)/AO77 -> 230384 | AU77: =AT77*5/44 -> 26180
A78: 86 | B78: ORELLANA RIVERA MANUEL | C78: 59200 | D78: PC | F78: EF | G78: A | H78: 4 | I78: 4 | J78: =IF(G78="A",(H78+I78)/2,H78+I78) -> 4 | K78: =TRUNC(J78,0) -> 4 | N78: =TRUNC(SUM(L78:M78)/2,0) -> 0 | Q78: =TRUNC(IF(D78="PM",0,IF(E78="CA",(K78)/6,(K78)/3)),0) -> 1 | S78: 8 | T78: 1 | AJ78: =SUM(N78:AI78)+K78 -> 14 | AL78: =+IF(D78="PC",1,0) -> 1 | AM78: =IF(D78="PC", +IF(AJ78>17,1,0),0) -> 0 | AN78: =IF(E78="CA",1,0) -> 0 | AO78: =+IF(G78="S",5,+IF(D78="PM",10,12)) -> 12 | AP78: =+C78*AO78*AJ78 -> 9945600 | AQ78: 115008 | AR78: =AM78*$AM$2*AO78 -> 0 | AS78: =AP78*$AN$2*AN78 -> 0 | AT78: =SUM(AP78:AS78)/AO78 -> 838384 | AU78: =AT78*5/44 -> 95270.909
A79: 87 | B79: OTSU YASUJI | C79: 70400 | D79: PC | F79: EF | G79: A | H79: 12 | I79: 10 | J79: =IF(G79="A",(H79+I79)/2,H79+I79) -> 11 | K79: =TRUNC(J79,0) -> 11 | N79: =TRUNC(SUM(L79:M79)/2,0) -> 0 | Q79: =TRUNC(IF(D79="PM",0,IF(E79="CA",(K79)/6,(K79)/3)),0) -> 3 | R79: 6 | U79: 4 | AJ79: =SUM(N79:AI79)+K79 -> 24 | AL79: =+IF(D79="PC",1,0) -> 1 | AM79: =IF(D79="PC", +IF(AJ79>17,1,0),0) -> 1 | AN79: =IF(E79="CA",1,0) -> 0 | AO79: =+IF(G79="S",5,+IF(D79="PM",10,12)) -> 12 | AP79: =+C79*AO79*AJ79 -> 20275200 | AQ79: 115008 | AR79: 340620 | AS79: =AP79*$AN$2*AN79 -> 0 | AT79: =SUM(AP79:AS79)/AO79 -> 1727569 | AU79: =AT79*5/44 -> 196314.66
A80: 89 | B80: P | J80: =IF(G80="A",(H80+I80)/2,H80+I80) -> 0 | K80: =TRUNC(J80,0) -> 0 | N80: =TRUNC(SUM(L80:M80)/2,0) -> 0 | Q80: =TRUNC(IF(D80="PM",0,IF(E80="CA",(K80)/6,(K80)/3)),0) -> 0
A81: 91 | B81: PÉREZ PATRICIO SO | C81: 25631 | D81: PM | F81: FP | G81: A | H81: 2 | I81: 2 | J81: =IF(G81="A",(H81+I81)/2,H81+I81) -> 2 | K81: =TRUNC(J81,0) -> 2 | N81: =TRUNC(SUM(L81:M81)/2,0) -> 0 | Q81: =TRUNC(IF(D81="PM",0,IF(E81="CA",(K81)/6,(K81)/3)),0) -> 0 | S81: 8 | AJ81: =SUM(N81:AI81)+K81 -> 10 | AL81: =+IF(D81="PC",1,0) -> 0 | AO81: =+IF(G81="S",5,+IF(D81="PM",10,12)) -> 10 | AP81: =C81*AJ81*AO81 -> 2563100 | AQ81: =+AL81*AO81*$AL$2 -> 0
A82: 92 | B82: PERUCCI CASTRO FRANCISCA | C82: 48000 | D82: PC | F82: EF | G82: A | H82: 4 | I82: 4 | J82: =IF(G82="A",(H82+I82)/2,H82+I82) -> 4 | K82: =TRUNC(J82,0) -> 4 | N82: =TRUNC(SUM(L82:M82)/2,0) -> 0 | Q82: =TRUNC(IF(D82="PM",0,IF(E82="CA",(K82)/6,(K82)/3)),0) -> 1 | U82: 9 | AF82: 4 | AJ82: =SUM(N82:AI82)+K82 -> 18 | AL82: =+IF(D82="PC",1,0) -> 1 | AM82: 1 | AN82: =IF(E82="CA",1,0) -> 0 | AO82: 12 | AP82: =+C82*AO82*AJ82 -> 10368000 | AQ82: 115008 | AS82: =AP82*$AN$2*AN82 -> 0
B83: PINO MAKARENA | C83: 41600 | D83: PC | F83: FH | G83: A | J83: =IF(G83="A",(H83+I83)/2,H83+I83) -> 0 | K83: =TRUNC(J83,0) -> 0 | V83: 3 | AH83: 36 | AJ83: =SUM(N83:AI83)+K83 -> 39 | AL83: =+IF(D83="PC",1,0) -> 1 | AO83: 12 | AP83: =+C83*AO83*AJ83 -> 19468800
A84: 93 | B84: PINTO BORIS | C84: 62400 | D84: PC | F84: EF | G84: A | H84: 9 | I84: 11 | J84: =IF(G84="A",(H84+I84)/2,H84+I84) -> 10 | K84: =TRUNC(J84,0) -> 10 | N84: =TRUNC(SUM(L84:M84)/2,0) -> 0 | Q84: =TRUNC(IF(D84="PM",0,IF(E84="CA",(K84)/6,(K84)/3)),0) -> 3 | S84: 8 | T84: 1 | U84: 3 | AF84: 4 | AJ84: =SUM(N84:AI84)+K84 -> 29 | AL84: =+IF(D84="PC",1,0) -> 1 | AM84: =IF(D84="PC", +IF(AJ84>17,1,0),0) -> 1 | AN84: =IF(E84="CA",1,0) -> 0 | AO84: =+IF(G84="S",5,+IF(D84="PM",10,12)) -> 12 | AP84: =+C84*AO84*AJ84 -> 21715200 | AQ84: 115008 | AR84: 340620 | AS84: =AP84*$AN$2*AN84 -> 0 | AT84: =SUM(AP84:AS84)/AO84 -> 1847569 | AU84: =AT84*5/44 -> 209951.02
A85: 95 | B85: PIZARRO LORENA | C85: 59200 | D85: PC | F85: CB | G85: A | H85: 9 | I85: 8 | J85: =IF(G85="A",(H85+I85)/2,H85+I85) -> 8.5 | K85: =TRUNC(J85,0) -> 8 | L85: 3 | M85: 0 | N85: =TRUNC(SUM(L85:M85)/2,0) -> 1 | O85: 1 | Q85: =TRUNC(IF(D85="PM",0,IF(E85="CA",(K85)/6,(K85)/3)),0) -> 2 | V85: 3 | AE85: 2 | AJ85: =SUM(N85:AI85)+K85 -> 17 | AL85: =+IF(D85="PC",1,0) -> 1 | AM85: =IF(D85="PC", +IF(AJ85>17,1,0),0) -> 0 | AN85: =IF(E85="CA",1,0) -> 0 | AO85: =+IF(G85="S",5,+IF(D85="PM",10,12)) -> 12 | AP85: =+C85*AO85*AJ85 -> 12076800 | AQ85: 115008 | AR85: 340620 | AS85: =AP85*$AN$2*AN85 -> 0 | AT85: =SUM(AP85:AS85)/AO85 -> 1044369 | AU85: =AT85*5/44 -> 118678.3
B86: PIZARRO (T1) | C86: 25631 | D86: PM | F86: FP | G86: A | H86: 4 | I86: 4 | J86: =IF(G86="A",(H86+I86)/2,H86+I86) -> 4 | K86: =TRUNC(J86,0) -> 4 | Q86: =TRUNC(IF(D86="PM",0,IF(E86="CA",(K86)/6,(K86)/3)),0) -> 0 | AJ86: =SUM(N86:AI86)+K86 -> 4 | AL86: =+IF(D86="PC",1,0) -> 0 | AO86: 10 | AP86: =C86*AJ86*AO86 -> 1025240
A87: 96 | B87: PLAZA MANUEL | C87: 83200 | D87: PC | F87: CB | G87: A | H87: 6 | I87: 6 | J87: =IF(G87="A",(H87+I87)/2,H87+I87) -> 6 | K87: =TRUNC(J87,0) -> 6 | N87: =TRUNC(SUM(L87:M87)/2,0) -> 0 | Q87: =TRUNC(IF(D87="PM",0,IF(E87="CA",(K87)/6,(K87)/3)),0) -> 2 | AH87: 36 | AJ87: =SUM(N87:AI87)+K87 -> 44 | AL87: =+IF(D87="PC",1,0) -> 1 | AM87: =IF(D87="PC", +IF(AJ87>17,1,0),0) -> 1 | AN87: =IF(E87="CA",1,0) -> 0 | AO87: =+IF(G87="S",5,+IF(D87="PM",10,12)) -> 12 | AP87: =+C87*AO87*AJ87 -> 43929600 | AQ87: 115008 | AR87: 340620 | AS87: =AP87*$AN$2*AN87 -> 0 | AT87: =SUM(AP87:AS87)/AO87 -> 3698769 | AU87: =AT87*5/44 -> 420314.66
A88: 97 | B88: PUENTES MÓNICA | C88: 51200 | D88: PC | F88: CB | G88: A | H88: 10 | I88: 4 | J88: =IF(G88="A",(H88+I88)/2,H88+I88) -> 7 | K88: =TRUNC(J88,0) -> 7 | L88: 4 | M88: 8 | N88: =TRUNC(SUM(L88:M88)/2,0) -> 6 | O88: 1 | Q88: =TRUNC(IF(D88="PM",0,IF(E88="CA",(K88)/6,(K88)/3)),0) -> 2 | AJ88: =SUM(N88:AI88)+K88 -> 16 | AO88: 12 | AP88: =+C88*AO88*AJ88 -> 9830400 | AQ88: 115008 | AR88: 340620
A89: 98 | B89: Q | N89: =TRUNC(SUM(L89:M89)/2,0) -> 0 | Q89: =TRUNC(IF(D89="PM",0,IF(E89="CA",(K89)/6,(K89)/3)),0) -> 0 | AJ89: =SUM(N89:AI89)+K89 -> 0
B90: QUEZADA (T1) | C90: 25631 | D90: PM | F90: FP | G90: S | H90: 4 | I90: 0 | J90: 4 | K90: 0 | Q90: 0 | AJ90: 4 | AO90: 5 | AP90: =C90*AJ90*AO90 -> 512620
A91: 99 | B91: QUIROGA TORRES CESAR | C91: 81600 | D91: PC | E91: ca | F91: FH | G91: A | H91: 26 | I91: 26 | J91: =IF(G91="A",(H91+I91)/2,H91+I91) -> 26 | K91: =TRUNC(J91,0) -> 26 | N91: =TRUNC(SUM(L91:M91)/2,0) -> 0 | Q91: =TRUNC(IF(D91="PM",0,IF(E91="CA",(K91)/6,(K91)/3)),0) -> 4 | AG91: 12 | AJ91: =SUM(N91:AI91)+K91 -> 42 | AL91: =+IF(D91="PC",1,0) -> 1 | AM91: =IF(D91="PC", +IF(AJ91>17,1,0),0) -> 1 | AN91: =IF(E91="CA",1,0) -> 1 | AO91: =+IF(G91="S",5,+IF(D91="PM",10,12)) -> 12 | AP91: =+C91*AO91*AJ91 -> 41126400 | AR91: =AM91*$AM$2*AO91 -> 253320 | AS91: =AP91*$AN$2*AN91 -> 1439424 | AT91: =SUM(AP91:AS91)/AO91 -> 3568262 | AU91: =AT91*5/44 -> 405484.32
A92: 100 | B92: R | N92: =TRUNC(SUM(L92:M92)/2,0) -> 0 | Q92: =TRUNC(IF(D92="PM",0,IF(E92="CA",(K92)/6,(K92)/3)),0) -> 0
A93: 101 | B93: RAMÍREZ BLANCA | C93: 81600 | D93: PC | F93: FH | G93: A | H93: 6 | I93: 6 | J93: =IF(G93="A",(H93+I93)/2,H93+I93) -> 6 | K93: =TRUNC(J93,0) -> 6 | N93: =TRUNC(SUM(L93:M93)/2,0) -> 0 | Q93: =TRUNC(IF(D93="PM",0,IF(E93="CA",(K93)/6,(K93)/3)),0) -> 2 | AH93: 36 | AJ93: =SUM(N93:AI93)+K93 -> 44 | AL93: =+IF(D93="PC",1,0) -> 1 | AM93: =IF(D93="PC", +IF(AJ93>17,1,0),0) -> 1 | AN93: =IF(E93="CA",1,0) -> 0 | AO93: =+IF(G93="S",5,+IF(D93="PM",10,12)) -> 12 | AP93: =+C93*AO93*AJ93 -> 43084800 | AQ93: 115008 | AR93: 340620 | AS93: =AP93*$AN$2*AN93 -> 0 | AT93: =SUM(AP93:AS93)/AO93 -> 3628369 | AU93: =AT93*5/44 -> 412314.66
B94: RAMOS CHANDIA (CF CAPSVALPO) | C94: 25631 | D94: PM | F94: FP | G94: A | H94: 6 | I94: 6 | Q94: 0 | AJ94: 6 | AO94: 10 | AP94: =+C94*AO94*AJ94 -> 1537860 | AT94: =SUM(AP94:AS94)/AO94 -> 153786
A95: 103 | B95: RAUCH ALFRED | C95: 81600 | D95: PC | F95: CB | G95: A | H95: 20 | I95: 22 | J95: =IF(G95="A",(H95+I95)/2,H95+I95) -> 21 | K95: =TRUNC(J95,0) -> 21 | N95: =TRUNC(SUM(L95:M95)/2,0) -> 0 | Q95: =TRUNC(IF(D95="PM",0,IF(E95="CA",(K95)/6,(K95)/3)),0) -> 7 | AJ95: =SUM(N95:AI95)+K95 -> 28 | AL95: =+IF(D95="PC",1,0) -> 1 | AM95: =IF(D95="PC", +IF(AJ95>17,1,0),0) -> 1 | AN95: =IF(E95="CA",1,0) -> 0 | AO95: =+IF(G95="S",5,+IF(D95="PM",10,12)) -> 12 | AP95: =+C95*AO95*AJ95 -> 27417600 | AQ95: 115008 | AR95: 340620 | AS95: =AP95*$AN$2*AN95 -> 0 | AT95: =SUM(AP95:AS95)/AO95 -> 2322769 | AU95: =AT95*5/44 -> 263951.02
A96: 105 | B96: REINOSO MARTINEZ JUAN | C96: 56000 | D96: PC | F96: EF | G96: A | H96: 6 | I96: 8 | J96: =IF(G96="A",(H96+I96)/2,H96+I96) -> 7 | K96: =TRUNC(J96,0) -> 7 | N96: =TRUNC(SUM(L96:M96)/2,0) -> 0 | Q96: =TRUNC(IF(D96="PM",0,IF(E96="CA",(K96)/6,(K96)/3)),0) -> 2 | S96: 7 | T96: 3 | U96: 2 | AJ96: =SUM(N96:AI96)+K96 -> 21 | AL96: =+IF(D96="PC",1,0) -> 1 | AM96: =IF(D96="PC", +IF(AJ96>17,1,0),0) -> 1 | AN96: =IF(E96="CA",1,0) -> 0 | AO96: 10 | AP96: =+C96*AO96*AJ96 -> 11760000 | AQ96: 115008 | AR96: 340620 | AS96: =AP96*$AN$2*AN96 -> 0 | AT96: =SUM(AP96:AS96)/AO96 -> 1221562.8 | AU96: =AT96*5/44 -> 138813.95
A97: 106 | B97: RÍOS JORGE | C97: 65600 | D97: PC | F97: FH | G97: A | H97: 16 | I97: 22 | J97: =IF(G97="A",(H97+I97)/2,H97+I97) -> 19 | K97: =TRUNC(J97,0) -> 19 | N97: =TRUNC(SUM(L97:M97)/2,0) -> 0 | P97: 2 | Q97: =TRUNC(IF(D97="PM",0,IF(E97="CA",(K97)/6,(K97)/3)),0) -> 6 | V97: 4 | AE97: 4 | AJ97: =SUM(N97:AI97)+K97 -> 35 | AL97: =+IF(D97="PC",1,0) -> 1 | AM97: =IF(D97="PC", +IF(AJ97>17,1,0),0) -> 1 | AN97: =IF(E97="CA",1,0) -> 0 | AO97: =+IF(G97="S",5,+IF(D97="PM",10,12)) -> 12 | AP97: =+C97*AO97*AJ97 -> 27552000 | AQ97: 115008 | AR97: 340620 | AS97: =AP97*$AN$2*AN97 -> 0 | AT97: =SUM(AP97:AS97)/AO97 -> 2333969 | AU97: =AT97*5/44 -> 265223.75
A98: 107 | B98: RÍOS NELSON | C98: 48000 | D98: PC | F98: CB | G98: A | H98: 6 | I98: 18 | J98: =IF(G98="A",(H98+I98)/2,H98+I98) -> 12 | K98: =TRUNC(J98,0) -> 12 | L98: 4 | M98: 8 | N98: =TRUNC(SUM(L98:M98)/2,0) -> 6 | O98: 1 | Q98: =TRUNC(IF(D98="PM",0,IF(E98="CA",(K98)/6,(K98)/3)),0) -> 4 | V98: 6 | AJ98: =SUM(N98:AI98)+K98 -> 29 | AL98: =+IF(D98="PC",1,0) -> 1 | AO98: =+IF(G98="S",5,+IF(D98="PM",10,12)) -> 12 | AP98: =+C98*AO98*AJ98 -> 16704000 | AQ98: 115008
A99: 110 | B99: RODRÍGUEZ NORMAN | C99: 81600 | D99: PC | E99: CA | F99: FP | G99: A | H99: 10 | I99: 6 | J99: =IF(G99="A",(H99+I99)/2,H99+I99) -> 8 | K99: =TRUNC(J99,0) -> 8 | N99: =TRUNC(SUM(L99:M99)/2,0) -> 0 | Q99: =TRUNC(IF(D99="PM",0,IF(E99="CA",(K99)/6,(K99)/3)),0) -> 1 | AJ99: =SUM(N99:AI99)+K99 -> 9 | AL99: =+IF(D99="PC",1,0) -> 1 | AM99: =IF(D99="PC", +IF(AJ99>17,1,0),0) -> 0 | AN99: =IF(E99="CA",1,0) -> 1 | AO99: =+IF(G99="S",5,+IF(D99="PM",10,12)) -> 12 | AP99: =+C99*AO99*AJ99 -> 8812800 | AQ99: =+AL99*AO99*$AL$2 -> 85524 | AR99: =AM99*$AM$2*AO99 -> 0 | AS99: =AP99*$AN$2*AN99 -> 308448 | AT99: =SUM(AP99:AS99)/AO99 -> 767231 | AU99: =AT99*5/44 -> 87185.341
A100: 111 | B100: ROJAS MARIANO | C100: 81600 | D100: PC | E100: CA | F100: FP | G100: A | H100: 26 | I100: 26 | J100: =IF(G100="A",(H100+I100)/2,H100+I100) -> 26 | K100: =TRUNC(J100,0) -> 26 | N100: =TRUNC(SUM(L100:M100)/2,0) -> 0 | Q100: =TRUNC(IF(D100="PM",0,IF(E100="CA",(K100)/6,(K100)/3)),0) -> 4 | AJ100: =SUM(N100:AI100)+K100 -> 30 | AL100: =+IF(D100="PC",1,0) -> 1 | AM100: =IF(D100="PC", +IF(AJ100>17,1,0),0) -> 1 | AN100: =IF(E100="CA",1,0) -> 1 | AO100: =+IF(G100="S",5,+IF(D100="PM",10,12)) -> 12 | AP100: =+C100*AO100*AJ100 -> 29376000 | AQ100: 115008 | AR100: 340620 | AS100: =AP100*$AN$2*AN100 -> 1028160 | AT100: =SUM(AP100:AS100)/AO100 -> 2571649 | AU100: =AT100*5/44 -> 292232.84
...

Sheet JEFE CATEDRA
C2: 2026
B4: JEFE FH | C4: FACULTAD HUMÍSTICA | D4: 12 | E4: QUIROGA
B5: FH | C5: LENGUA CASTELLANA | D5: 2 | E5: ARENTSEN CHRISTIANE
C6: CS SOCIALES | D6: 4 | E6: RÍOS JORGE
C7: PSICOLOGÍA, FILO, ÉTICA Y MORAL | D7: 2 | E7: MAYNE_NICOLLS MICHAEL
C8: MANDO Y LIDERAZGO | D8: 4
C9: INGLÉS | D9: 0 | E9: GONZÁLEZ DORIS
B11: JEFE CB | C11: FACULTAD CIENCIAS BÁSICAS Y APLICADAS | D11: 12 | E11: LEIVA YANINA
B12: CB | C12: MATEMÁTICAS Y HERR TEC | D12: 4 | E12: HARDY CATHERINE
C13: FÍSICA | D13: 4 | E13: JAIME HÉCTOR
C14: ELECTROTECNIA | D14: 1 | E14: DE LA FUENTE VÍCTOR
C15: QUÍMICA | D15: 2 | E15: PIZARRO LORENA
B17: JEFE FP | C17: FACULTAD FORMACIÓN PROFESIONAL | D17: 12 | E17: SIELFELD JUAN
B18: FP | C18: FORMACIÓN NAVAL, NÁUTICA Y SEGURIDAD | D18: 4 | E18: MALDONADO GONZALO
C19: OP NAVALES, NAVEGACIÓN, METEO | D19: 4 | E19: COLOMA MANUEL
C20: SISTEMAS DE ARMAS | D20: 1 | E20: NN
C21: SISTEMAS DE INGENIERÍA | D21: 1 | E21: GARCÍA ALBERTO
C22: ADMINISTRACIÓN | D22: 1 | E22: GUNDLACH HÉCTOR
C23: ESPECIALIDAD IM | D23: 0 | E23: SIELFELD JUAN
C24: ESPECIALIDAD AB | D24: 3 | E24: VIDAL CARLOS
C25: ESPECIALIDAD LT | D25: 2 | E25: MUNITA JUAN CARLOS

Sheet ASESOR DE CURSO

Sheet Hoja3
C3: PROFESOR | D3: SEM1 | E3: SEM 2 | F3: LAB1 | G3: LAB2 | H3: CIRCULO | I3: CONSULTORIAS
C4: ACUÑA PAC SO | D4: =SUMIF(Hoja2!$E$4:$E$176,Hoja3!$C4,Hoja2!$F$4:$F$176) -> #REF! | E4: =SUMIF(Hoja2!$E$4:$E$176,Hoja3!$C4,Hoja2!$H$4:$H$176) -> #REF! | F4: =SUMIF(Hoja2!$E$4:$E$176,Hoja3!$C4,Hoja2!$G$4:$G$176) -> #REF! | G4: =SUMIF(Hoja2!$E$4:$E$176,Hoja3!$C4,Hoja2!$I$4:$I$176) -> #REF! | H4: =SUMIF(Hoja2!$E$4:$E$176,Hoja3!$C4,Hoja2!$J$4:$J$176) -> 0 | I4: =SUMIF(Hoja2!$E$4:$E$176,Hoja3!$C4,Hoja2!$K$4:$K$176) -> 0
C5: ARANCIBIA DAMARIS | D5: =SUMIF(Hoja2!$E$4:$E$176,Hoja3!$C5,Hoja2!$F$4:$F$176) -> #REF! | E5: =SUMIF(Hoja2!$E$4:$E$176,Hoja3!$C5,Hoja2!$H$4:$H$176) -> #REF! | F5: =SUMIF(Hoja2!$E$4:$E$176,Hoja3!$C5,Hoja2!$G$4:$G$176) -> #REF! | G5: =SUMIF(Hoja2!$E$4:$E$176,Hoja3!$C5,Hoja2!$I$4:$I$176) -> #REF! | H5: =SUMIF(Hoja2!$E$4:$E$176,Hoja3!$C5,Hoja2!$J$4:$J$176) -> 0 | I5: =SUMIF(Hoja2!$E$4:$E$176,Hoja3!$C5,Hoja2!$K$4:$K$176) -> 0
C6: ARENTSEN CHRISTIANE | D6: =SUMIF(Hoja2!$E$4:$E$176,Hoja3!$C6,Hoja2!$F$4:$F$176) -> #REF! | E6: =SUMIF(Hoja2!$E$4:$E$176,Hoja3!$C6,Hoja2!$H$4:$H$176) -> #REF! | F6: =SUMIF(Hoja2!$E$4:$E$176,Hoja3!$C6,Hoja2!$G$4:$G$176) -> #REF! | G6: =SUMIF(Hoja2!$E$4:$E$176,Hoja3!$C6,Hoja2!$I$4:$I$176) -> #REF! | H6: =SUMIF(Hoja2!$E$4:$E$176,Hoja3!$C6,Hoja2!$J$4:$J$176) -> 0 | I6: =SUMIF(Hoja2!$E$4:$E$176,Hoja3!$C6,Hoja2!$K$4:$K$176) -> 0
C7: BAQUEDANO SOLEDAD | D7: =SUMIF(Hoja2!$E$4:$E$176,Hoja3!$C7,Hoja2!$F$4:$F$176) -> #REF! | E7: =SUMIF(Hoja2!$E$4:$E$176,Hoja3!$C7,Hoja2!$H$4:$H$176) -> #REF! | F7: =SUMIF(Hoja2!$E$4:$E$176,Hoja3!$C7,Hoja2!$G$4:$G$176) -> #REF! | G7: =SUMIF(Hoja2!$E$4:$E$176,Hoja3!$C7,Hoja2!$I$4:$I$176) -> #REF! | H7: =SUMIF(Hoja2!$E$4:$E$176,Hoja3!$C7,Hoja2!$J$4:$J$176) -> 0 | I7: =SUMIF(Hoja2!$E$4:$E$176,Hoja3!$C7,Hoja2!$K$4:$K$176) -> 0
C8: BAROS ANTONIO | D8: =SUMIF(Hoja2!$E$4:$E$176,Hoja3!$C8,Hoja2!$F$4:$F$176) -> #REF! | E8: =SUMIF(Hoja2!$E$4:$E$176,Hoja3!$C8,Hoja2!$H$4:$H$176) -> #REF! | F8: =SUMIF(Hoja2!$E$4:$E$176,Hoja3!$C8,Hoja2!$G$4:$G$176) -> #REF! | G8: =SUMIF(Hoja2!$E$4:$E$176,Hoja3!$C8,Hoja2!$I$4:$I$176) -> #REF! | H8: =SUMIF(Hoja2!$E$4:$E$176,Hoja3!$C8,Hoja2!$J$4:$J$176) -> 0 | I8: =SUMIF(Hoja2!$E$4:$E$176,Hoja3!$C8,Hoja2!$K$4:$K$176) -> 0
C9: BARRERA CLAUDIA | D9: =SUMIF(Hoja2!$E$4:$E$176,Hoja3!$C9,Hoja2!$F$4:$F$176) -> #REF! | E9: =SUMIF(Hoja2!$E$4:$E$176,Hoja3!$C9,Hoja2!$H$4:$H$176) -> #REF! | F9: =SUMIF(Hoja2!$E$4:$E$176,Hoja3!$C9,Hoja2!$G$4:$G$176) -> #REF! | G9: =SUMIF(Hoja2!$E$4:$E$176,Hoja3!$C9,Hoja2!$I$4:$I$176) -> #REF! | H9: =SUMIF(Hoja2!$E$4:$E$176,Hoja3!$C9,Hoja2!$J$4:$J$176) -> 0 | I9: =SUMIF(Hoja2!$E$4:$E$176,Hoja3!$C9,Hoja2!$K$4:$K$176) -> 0
C10: BASTIDAS CC DIRISNAV | D10: =SUMIF(Hoja2!$E$4:$E$176,Hoja3!$C10,Hoja2!$F$4:$F$176) -> #REF! | E10: =SUMIF(Hoja2!$E$4:$E$176,Hoja3!$C10,Hoja2!$H$4:$H$176) -> #REF! | F10: =SUMIF(Hoja2!$E$4:$E$176,Hoja3!$C10,Hoja2!$G$4:$G$176) -> #REF! | G10: =SUMIF(Hoja2!$E$4:$E$176,Hoja3!$C10,Hoja2!$I$4:$I$176) -> #REF! | H10: =SUMIF(Hoja2!$E$4:$E$176,Hoja3!$C10,Hoja2!$J$4:$J$176) -> 0 | I10: =SUMIF(Hoja2!$E$4:$E$176,Hoja3!$C10,Hoja2!$K$4:$K$176) -> 0
C11: BELLO DANIEL | D11: =SUMIF(Hoja2!$E$4:$E$176,Hoja3!$C11,Hoja2!$F$4:$F$176) -> #REF! | E11: =SUMIF(Hoja2!$E$4:$E$176,Hoja3!$C11,Hoja2!$H$4:$H$176) -> #REF! | F11: =SUMIF(Hoja2!$E$4:$E$176,Hoja3!$C11,Hoja2!$G$4:$G$176) -> #REF! | G11: =SUMIF(Hoja2!$E$4:$E$176,Hoja3!$C11,Hoja2!$I$4:$I$176) -> #REF! | H11: =SUMIF(Hoja2!$E$4:$E$176,Hoja3!$C11,Hoja2!$J$4:$J$176) -> 0 | I11: =SUMIF(Hoja2!$E$4:$E$176,Hoja3!$C11,Hoja2!$K$4:$K$176) -> 0
C12: BIERWIRTH | D12: =SUMIF(Hoja2!$E$4:$E$176,Hoja3!$C12,Hoja2!$F$4:$F$176) -> #REF! | E12: =SUMIF(Hoja2!$E$4:$E$176,Hoja3!$C12,Hoja2!$H$4:$H$176) -> #REF! | F12: =SUMIF(Hoja2!$E$4:$E$176,Hoja3!$C12,Hoja2!$G$4:$G$176) -> #REF! | G12: =SUMIF(Hoja2!$E$4:$E$176,Hoja3!$C12,Hoja2!$I$4:$I$176) -> #REF! | H12: =SUMIF(Hoja2!$E$4:$E$176,Hoja3!$C12,Hoja2!$J$4:$J$176) -> 0 | I12: =SUMIF(Hoja2!$E$4:$E$176,Hoja3!$C12,Hoja2!$K$4:$K$176) -> 0
C13: BUCCAREY FRANCIS | D13: =SUMIF(Hoja2!$E$4:$E$176,Hoja3!$C13,Hoja2!$F$4:$F$176) -> #REF! | E13: =SUMIF(Hoja2!$E$4:$E$176,Hoja3!$C13,Hoja2!$H$4:$H$176) -> #REF! | F13: =SUMIF(Hoja2!$E$4:$E$176,Hoja3!$C13,Hoja2!$G$4:$G$176) -> #REF! | G13: =SUMIF(Hoja2!$E$4:$E$176,Hoja3!$C13,Hoja2!$I$4:$I$176) -> #REF! | H13: =SUMIF(Hoja2!$E$4:$E$176,Hoja3!$C13,Hoja2!$J$4:$J$176) -> #REF! | I13: =SUMIF(Hoja2!$E$4:$E$176,Hoja3!$C13,Hoja2!$K$4:$K$176) -> 0
C14: CAMPOS MANUEL | D14: =SUMIF(Hoja2!$E$4:$E$176,Hoja3!$C14,Hoja2!$F$4:$F$176) -> #REF! | E14: =SUMIF(Hoja2!$E$4:$E$176,Hoja3!$C14,Hoja2!$H$4:$H$176) -> #REF! | F14: =SUMIF(Hoja2!$E$4:$E$176,Hoja3!$C14,Hoja2!$G$4:$G$176) -> #REF! | G14: =SUMIF(Hoja2!$E$4:$E$176,Hoja3!$C14,Hoja2!$I$4:$I$176) -> #REF! | H14: =SUMIF(Hoja2!$E$4:$E$176,Hoja3!$C14,Hoja2!$J$4:$J$176) -> 0 | I14: =SUMIF(Hoja2!$E$4:$E$176,Hoja3!$C14,Hoja2!$K$4:$K$176) -> 0
C15: CAMPOS VALESKA | D15: =SUMIF(Hoja2!$E$4:$E$176,Hoja3!$C15,Hoja2!$F$4:$F$176) -> #REF! | E15: =SUMIF(Hoja2!$E$4:$E$176,Hoja3!$C15,Hoja2!$H$4:$H$176) -> #REF! | F15: =SUMIF(Hoja2!$E$4:$E$176,Hoja3!$C15,Hoja2!$G$4:$G$176) -> #REF! | G15: =SUMIF(Hoja2!$E$4:$E$176,Hoja3!$C15,Hoja2!$I$4:$I$176) -> #REF! | H15: =SUMIF(Hoja2!$E$4:$E$176,Hoja3!$C15,Hoja2!$J$4:$J$176) -> 0 | I15: =SUMIF(Hoja2!$E$4:$E$176,Hoja3!$C15,Hoja2!$K$4:$K$176) -> #REF!
... C95: ZANELLI VÍCTOR | D95: =SUMIF(Hoja2!$E$4:$E$176,Hoja3!$C95,Hoja2!$F$4:$F$176) -> #REF! | E95: =SUMIF(Hoja2!$E$4:$E$176,Hoja3!$C95,Hoja2!$H$4:$H$176) -> #REF! | F95: =SUMIF(Hoja2!$E$4:$E$176,Hoja3!$C95,Hoja2!$G$4:$G$176) -> #REF! | G95: =SUMIF(Hoja2!$E$4:$E$176,Hoja3!$C95,Hoja2!$I$4:$I$176) -> #REF! | H95: =SUMIF(Hoja2!$E$4:$E$176,Hoja3!$C95,Hoja2!$J$4:$J$176) -> 0 | I95: =SUMIF(Hoja2!$E$4:$E$176,Hoja3!$C95,Hoja2!$K$4:$K$176) -> 0
D96: =SUMIF(Hoja2!$E$4:$E$176,Hoja3!$C110,Hoja2!$F$4:$F$176) -> 0 | E96: =SUMIF(Hoja2!$E$4:$E$176,Hoja3!$C110,Hoja2!$H$4:$H$176) -> 0 | F96: =SUMIF(Hoja2!$E$4:$E$176,Hoja3!$C110,Hoja2!$G$4:$G$176) -> 0 | G96: =SUMIF(Hoja2!$E$4:$E$176,Hoja3!$C110,Hoja2!$I$4:$I$176) -> 0 | H96: =SUMIF(Hoja2!$E$4:$E$176,Hoja3!$C110,Hoja2!$J$4:$J$176) -> 0 | I96: =SUMIF(Hoja2!$E$4:$E$176,Hoja3!$C110,Hoja2!$K$4:$K$176) -> 0
I97: =SUM(D4:J95) -> #REF!

Sheet Hoja2
B3: ORDEN | C3: CÁTEDRA | D3: PROFESOR | E3: PROFESOR | F3: 1 SEM | G3: LAB 1 | H3: 2 SEM | I3: LAB 2
B4: 1 | C4: OM | D4: =OM!#REF! -> #REF! | E4: ARENTSEN CHRISTIANE | F4: =OM!#REF! -> #REF! | G4: =OM!#REF! -> #REF! | H4: =OM!#REF! -> #REF! | I4: =OM!#REF! -> #REF! | J4: 0 | K4: 0
B5: 2 | C5: OM | D5: =OM!#REF! -> #REF! | E5: NUÑEZ MIGUEL | F5: =OM!#REF! -> #REF! | G5: =OM!#REF! -> #REF! | H5: =OM!#REF! -> #REF! | I5: =OM!#REF! -> #REF! | J5: 0 | K5: 0
B6: 3 | C6: OM | D6: =OM!#REF! -> #REF! | E6: LUCERO ANDRÉS | F6: =OM!#REF! -> #REF! | G6: =OM!#REF! -> #REF! | H6: =OM!#REF! -> #REF! | I6: =OM!#REF! -> #REF! | J6: 0 | K6: 0
B7: 4 | C7: OM | D7: =OM!#REF! -> #REF! | E7: CELIS ALEJANDRO | F7: =OM!#REF! -> #REF! | G7: =OM!#REF! -> #REF! | H7: =OM!#REF! -> #REF! | I7: =OM!#REF! -> #REF! | J7: 0 | K7: 0
B8: 5 | C8: OM | D8: =OM!#REF! -> #REF! | E8: MUÑOZ JAIME | F8: =OM!#REF! -> #REF! | G8: =OM!#REF! -> #REF! | H8: =OM!#REF! -> #REF! | I8: =OM!#REF! -> #REF! | J8: 0 | K8: 0
B9: 6 | C9: OM | D9: =OM!#REF! -> #REF! | E9: GUNDLACH HÉCTOR | F9: =OM!#REF! -> #REF! | G9: =OM!#REF! -> #REF! | H9: =OM!#REF! -> #REF! | I9: =OM!#REF! -> #REF! | J9: 0 | K9: 0
B10: 7 | C10: OM | D10: =OM!#REF! -> #REF! | E10: QUIROGA CÉSAR | F10: =OM!#REF! -> #REF! | G10: =OM!#REF! -> #REF! | H10: =OM!#REF! -> #REF! | I10: =OM!#REF! -> #REF! | J10: 0 | K10: 0
B11: 8 | C11: OM | D11: =OM!#REF! -> #REF! | E11: ROMÁN LORENA | F11: =OM!#REF! -> #REF! | G11: =OM!#REF! -> #REF! | H11: =OM!#REF! -> #REF! | I11: =OM!#REF! -> #REF! | J11: 0 | K11: 0
B12: 9 | C12: OM | D12: =OM!#REF! -> #REF! | E12: SORIA-GALVARRO RODOLFO | F12: =OM!#REF! -> #REF! | G12: =OM!#REF! -> #REF! | H12: =OM!#REF! -> #REF! | I12: =OM!#REF! -> #REF! | J12: 0 | K12: 0 | M12: =SUM(F4:I14) -> #REF!
B13: 10 | C13: OM | D13: =OM!#REF! -> #REF! | E13: SIMS EDUARDO | F13: =OM!#REF! -> #REF! | G13: =OM!#REF! -> #REF! | H13: =OM!#REF! -> #REF! | I13: =OM!#REF! -> #REF! | J13: 0 | K13: 0
B14: 11 | D14: =OM!#REF! -> #REF! | E14: KEITEL JORGE | F14: =OM!#REF! -> #REF! | G14: =OM!#REF! -> #REF! | H14: =OM!#REF! -> #REF! | I14: =OM!#REF! -> #REF! | J14: 0 | K14: 0
B15: 12 | J15: 0 | K15: 0
B16: 13 | C16: SIST ARMAS | D16: =#REF! -> #REF! | E16: OFDIV 1 Sist Armas | F16: =#REF! -> #REF! | G16: =#REF! -> #REF! | H16: =#REF! -> #REF! | I16: =#REF! -> #REF! | J16: 0 | K16: 0
B17: 14 | C17: SIST ARMAS | D17: =#REF! -> #REF! | E17: NN SIST DE ARMAS | F17: =#REF! -> #REF! | G17: =#REF! -> #REF! | H17: =#REF! -> #REF! | I17: =#REF! -> #REF! | J17: 0 | K17: 0
B18: 15 | C18: SIST ARMAS | D18: =#REF! -> #REF! | E18: OFDIV 2 Siste Armas | F18: =#REF! -> #REF! | G18: =#REF! -> #REF! | H18: =#REF! -> #REF! | I18: =#REF! -> #REF! | J18: 0 | K18: 0 | M18: =SUM(F16:I19) -> #REF!
B19: 16 | C19: SIST ARMAS | D19: =#REF! -> #REF! | E19: POBLETE EDUARDO CC | F19: =#REF! -> #REF! | G19: =#REF! -> #REF! | H19: =#REF! -> #REF! | I19: =#REF! -> #REF! | J19: 0 | K19: 0
B20: 17 | J20: 0 | K20: 0
B21: 18 | C21: NAVEGACIÓN | D21: =#REF! -> #REF! | E21: COLOMA MANUEL | F21: =#REF! -> #REF! | G21: =#REF! -> #REF! | H21: =#REF! -> #REF! | I21: =#REF! -> #REF! | J21: 0 | K21: 0
B22: 19 | C22: NAVEGACIÓN | D22: =#REF! -> #REF! | E22: GONZÁLEZ FABIÁN | F22: =#REF! -> #REF! | G22: =#REF! -> #REF! | H22: =#REF! -> #REF! | I22: =#REF! -> #REF! | J22: 0 | K22: 0
B23: 20 | C23: NAVEGACIÓN | D23: =#REF! -> #REF! | E23: ROCA PEDRO | F23: =#REF! -> #REF! | G23: =#REF! -> #REF! | H23: =#REF! -> #REF! | I23: =#REF! -> #REF! | J23: 0 | K23: 0
B24: 21 | C24: NAVEGACIÓN | D24: =#REF! -> #REF! | E24: ROJAS MARIANO | F24: =#REF! -> #REF! | G24: =#REF! -> #REF! | H24: =#REF! -> #REF! | I24: =#REF! -> #REF! | J24: 0 | K24: 0 | M24: =SUM(F21:I25) -> #REF!
B25: 22 | C25: NAVEGACIÓN | D25: =#REF! -> #REF! | E25: ZANELLI VÍCTOR | F25: =#REF! -> #REF! | G25: =#REF! -> #REF! | H25: =#REF! -> #REF! | I25: =#REF! -> #REF! | J25: 0 | K25: 0
B26: 23 | J26: 0 | K26: 0
B27: 24 | C27: PLAN OP NAVALES | D27: =#REF! -> #REF! | E27: ROJAS MARIANO | F27: =#REF! -> #REF! | G27: =#REF! -> #REF! | H27: =#REF! -> #REF! | I27: =#REF! -> #REF! | J27: 0 | K27: 0 | M27: =SUM(F27:I27) -> #REF!
B28: 25 | I28: =SUM(F26:I26) -> 0 | J28: 0 | K28: 0
B29: 26 | C29: SISTEMAS DE ING | D29: =#REF! -> #REF! | E29: FISCHER MATIAS | F29: =#REF! -> #REF! | G29: =#REF! -> #REF! | H29: =#REF! -> #REF! | I29: =#REF! -> #REF! | J29: 0 | K29: 0
B30: 27 | C30: SISTEMAS DE ING | D30: =#REF! -> #REF! | E30: GARCÍA ALBERTO | F30: =#REF! -> #REF! | G30: =#REF! -> #REF! | H30: =#REF! -> #REF! | I30: =#REF! -> #REF! | J30: 0 | K30: 0
B31: 28 | C31: SISTEMAS DE ING | D31: =#REF! -> #REF! | E31: ROBERT VERGARA JOHN | F31: =#REF! -> #REF! | G31: =#REF! -> #REF! | H31: =#REF! -> #REF! | I31: =#REF! -> #REF! | J31: 0 | K31: 0 | M31: =SUM(F29:I32) -> #REF!
B32: 29 | C32: SISTEMAS DE ING | D32: =#REF! -> #REF! | E32: ULLOA VÍCTOR | F32: =#REF! -> #REF! | G32: =#REF! -> #REF! | H32: =#REF! -> #REF! | I32: =#REF! -> #REF! | J32: 0 | K32: 0
B33: 30 | J33: 0 | K33: 0
B34: 31 | C34: ADMINISTRACIÓN | D34: =#REF! -> #REF! | E34: GUNDLACH HÉCTOR | F34: =#REF! -> #REF! | G34: =#REF! -> #REF! | H34: =#REF! -> #REF! | I34: =#REF! -> #REF! | J34: 0 | K34: 0 | M34: =SUM(F34:I34) -> #REF!
B35: 32 | J35: 0 | K35: 0
B36: 33 | C36: ESP IM | D36: =#REF! -> #REF! | E36: OSORIO MATIAS T1 | F36: =#REF! -> #REF! | G36: =#REF! -> #REF! | H36: =#REF! -> #REF! | I36: =#REF! -> #REF! | J36: 0 | K36: 0
B37: 34 | C37: ESP IM | D37: =#REF! -> #REF! | E37: SIELFELD JUAN | F37: =#REF! -> #REF! | G37: =#REF! -> #REF! | H37: =#REF! -> #REF! | I37: =#REF! -> #REF! | J37: 0 | K37: 0
B38: 35 | C38: ESP IM | D38: =#REF! -> #REF! | E38: VON DER WETH FIEDRICH | F38: =#REF! -> #REF! | G38: =#REF! -> #REF! | H38: =#REF! -> #REF! | I38: =#REF! -> #REF! | J38: 0 | K38: 0
B39: 36 | C39: ESP IM | D39: =#REF! -> #REF! | E39: SOLIS GONZALO T1 IM | F39: =#REF! -> #REF! | G39: =#REF! -> #REF! | H39: =#REF! -> #REF! | I39: =#REF! -> #REF! | J39: 0 | K39: 0
B40: 37 | C40: ESP IM | D40: =#REF! -> #REF! | E40: LAGOS ALFREDO T1 IM TC | F40: =#REF! -> #REF! | G40: =#REF! -> #REF! | H40: =#REF! -> #REF! | I40: =#REF! -> #REF! | J40: 0 | K40: 0 | M40: =SUM(F36:I42) -> #REF!
B41: 38 | C41: ESP IM | D41: =#REF! -> #REF! | E41: ORTEGA CC IM | F41: =#REF! -> #REF! | G41: =#REF! -> #REF! | H41: =#REF! -> #REF! | I41: =#REF! -> #REF! | J41: 0 | K41: 0
B42: 39 | C42: ESP IM | D42: =#REF! -> #REF! | E42: KEITEL JORGE | F42: =#REF! -> #REF! | G42: =#REF! -> #REF! | H42: =#REF! -> #REF! | I42: =#REF! -> #REF! | J42: 0 | K42: 0
B43: 40 | J43: 0 | K43: 0
B44: 41 | C44: ESP AB | D44: =#REF! -> #REF! | E44: VALENZUELA CONSTANZA T1 AB | F44: =#REF! -> #REF! | G44: =#REF! -> #REF! | H44: =#REF! -> #REF! | I44: =#REF! -> #REF! | J44: 0 | K44: 0
B45: 42 | C45: ESP AB | D45: =#REF! -> #REF! | E45: VIDAL CARLOS | F45: =#REF! -> #REF! | G45: =#REF! -> #REF! | H45: =#REF! -> #REF! | I45: =#REF! -> #REF! | J45: 0 | K45: 0
B46: 43 | C46: ESP AB | D46: =#REF! -> #REF! | E46: RODRÍGUEZ NORMAN | F46: =#REF! -> #REF! | G46: =#REF! -> #REF! | H46: =#REF! -> #REF! | I46: =#REF! -> #REF! | J46: 0 | K46: 0
B47: 44 | C47: ESP AB | D47: =#REF! -> #REF! | E47: OBERMOLLER HILDE | F47: =#REF! -> #REF! | G47: =#REF! -> #REF! | H47: =#REF! -> #REF! | I47: =#REF! -> #REF! | J47: 0 | K47: 0
B48: 45 | C48: ESP AB | D48: =#REF! -> #REF! | E48: BASTIDAS CC DIRISNAV | F48: =#REF! -> #REF! | G48: =#REF! -> #REF! | H48: =#REF! -> #REF! | I48: =#REF! -> #REF! | J48: 0 | K48: 0
B49: 46 | C49: ESP AB | D49: =#REF! -> #REF! | E49: CC AB CRUZ ANDÍA, CARLOS | F49: =#REF! -> #REF! | G49: =#REF! -> #REF! | H49: =#REF! -> #REF! | I49: =#REF! -> #REF! | J49: 0 | K49: 0
B50: 47 | C50: ESP AB | D50: =#REF! -> #REF! | E50: GARCÍA QUIROGA CARLOS | F50: =#REF! -> #REF! | G50: =#REF! -> #REF! | H50: =#REF! -> #REF! | I50: =#REF! -> #REF! | J50: 0 | K50: 0 | M50: =SUM(F44:I50) -> #REF!
B51: 48 | J51: 0 | K51: 0
B52: 49 | C52: ESP LT | D52: =#REF! -> #REF! | E52: GARCÍA ALBERTO | F52: =#REF! -> #REF! | G52: =#REF! -> #REF! | H52: =#REF! -> #REF! | I52: =#REF! -> #REF! | J52: 0 | K52: 0
B53: 50 | C53: ESP LT | D53: =#REF! -> #REF! | E53: CONCHA CLAUDIO | F53: =#REF! -> #REF! | G53: =#REF! -> #REF! | H53: =#REF! -> #REF! | I53: =#REF! -> #REF! | J53: 0 | K53: 0
B54: 51 | C54: ESP LT | D54: =#REF! -> #REF! | E54: MUNITA JUAN CARLOS | F54: =#REF! -> #REF! | G54: =#REF! -> #REF! | H54: =#REF! -> #REF! | I54: =#REF! -> #REF! | J54: 0 | K54: 0
B55: 52 | C55: ESP LT | D55: =#REF! -> #REF! | E55: BUCCAREY FRANCIS | F55: =#REF! -> #REF! | G55: =#REF! -> #REF! | H55: =#REF! -> #REF! | I55: =#REF! -> #REF! | J55: 0 | K55: 0
B56: 53 | C56: ESP LT | D56: =#REF! -> #REF! | E56: BAROS ANTONIO | F56: =#REF! -> #REF! | G56: =#REF! -> #REF! | H56: =#REF! -> #REF! | I56: =#REF! -> #REF! | J56: 0 | K56: 0
B57: 54 | C57: ESP LT | D57: =#REF! -> #REF! | E57: CERDA PABLO CC LT | F57: =#REF! -> #REF! | G57: =#REF! -> #REF! | H57: =#REF! -> #REF! | I57: =#REF! -> #REF! | J57: 0 | K57: 0
B58: 55 | C58: ESP LT | D58: =#REF! -> #REF! | E58: RUIZ T1 LT | F58: =#REF! -> #REF! | G58: =#REF! -> #REF! | H58: =#REF! -> #REF! | I58: =#REF! -> #REF! | J58: 0 | K58: 0 | M58: =SUM(F52:I58) -> #REF!
B59: 56 | J59: 0 | K59: 0
B60: 57 | C60: NÁUTICA | D60: =#REF! -> #REF! | E60: ROJAS MARIANO | F60: =#REF! -> #REF! | G60: =#REF! -> #REF! | H60: =#REF! -> #REF! | I60: =#REF! -> #REF! | J60: 0 | K60: 0
B61: 58 | C61: NÁUTICA | D61: =#REF! -> #REF! | E61: SEPÚLVEDA RODRIGO | F61: =#REF! -> #REF! | G61: =#REF! -> #REF! | H61: =#REF! -> #REF! | I61: =#REF! -> #REF! | J61: 0 | K61: 0
B62: 59 | C62: NÁUTICA | D62: =#REF! -> #REF! | E62: SIMS EDUARDO | F62: =#REF! -> #REF! | G62: =#REF! -> #REF! | H62: =#REF! -> #REF! | I62: =#REF! -> #REF! | J62: 0 | K62: 0 | M62: =SUM(F60:I62) -> #REF!
B63: 60 | J63: 0 | K63: 0
B64: 61 | C64: FORM NAVAL | D64: =#REF! -> #REF! | E64: ACUÑA PAC SO | F64: =#REF! -> #REF! | G64: =#REF! -> #REF! | H64: =#REF! -> #REF! | I64: =#REF! -> #REF! | J64: 0 | K64: 0
B65: 62 | C65: FORM NAVAL | D65: =#REF! -> #REF! | E65: BELLO DANIEL | F65: =#REF! -> #REF! | G65: =#REF! -> #REF! | H65: =#REF! -> #REF! | I65: =#REF! -> #REF! | J65: 0 | K65: 0
B66: 63 | C66: FORM NAVAL | D66: =#REF! -> #REF! | E66: BIERWIRTH | F66: =#REF! -> #REF! | G66: =#REF! -> #REF! | H66: =#REF! -> #REF! | I66: =#REF! -> #REF! | J66: 0 | K66: 0
B67: 64 | C67: FORM NAVAL | D67: =#REF! -> #REF! | E67: BUCCAREY FRANCIS | F67: =#REF! -> #REF! | G67: =#REF! -> #REF! | H67: =#REF! -> #REF! | I67: =#REF! -> #REF! | J67: 0 | K67: 0
B68: 65 | C68: FORM NAVAL | D68: =#REF! -> #REF! | E68: CAMPOS MANUEL | F68: =#REF! -> #REF! | G68: =#REF! -> #REF! | H68: =#REF! -> #REF! | I68: =#REF! -> #REF! | J68: 0 | K68: 0
B69: 66 | C69: FORM NAVAL | D69: =#REF! -> #REF! | E69: LUCERO ANDRÉS | F69: =#REF! -> #REF! | G69: =#REF! -> #REF! | H69: =#REF! -> #REF! | I69: =#REF! -> #REF! | J69: 0 | K69: 0
B70: 67 | C70: FORM NAVAL | D70: =#REF! -> #REF! | E70: MALDONADO GONZALO | F70: =#REF! -> #REF! | G70: =#REF! -> #REF! | H70: =#REF! -> #REF! | I70: =#REF! -> #REF! | J70: 0 | K70: 0
B71: 68 | C71: FORM NAVAL | D71: =#REF! -> #REF! | E71: MALHUEN T1 | F71: =#REF! -> #REF! | G71: =#REF! -> #REF! | H71: =#REF! -> #REF! | I71: =#REF! -> #REF! | J71: 0 | K71: 0
B72: 69 | C72: FORM NAVAL | D72: =#REF! -> #REF! | E72: OF DIV 1 | F72: =#REF! -> #REF! | G72: =#REF! -> #REF! | H72: =#REF! -> #REF! | I72: =#REF! -> #REF! | J72: 0 | K72: 0
B73: 70 | C73: FORM NAVAL | D73: =#REF! -> #REF! | E73: PÉREZ SO IM | F73: =#REF! -> #REF! | G73: =#REF! -> #REF! | H73: =#REF! -> #REF! | I73: =#REF! -> #REF! | J73: 0 | K73: 0
B74: 71 | C74: FORM NAVAL | D74: =#REF! -> #REF! | E74: QUIROGA CÉSAR | F74: =#REF! -> #REF! | G74: =#REF! -> #REF! | H74: =#REF! -> #REF! | I74: =#REF! -> #REF! | J74: 0 | K74: 0
B75: 72 | C75: FORM NAVAL | D75: =#REF! -> #REF! | E75: RÍOS JORGE | F75: =#REF! -> #REF! | G75: =#REF! -> #REF! | H75: =#REF! -> #REF! | I75: =#REF! -> #REF! | J75: 0 | K75: 0
... B83: 80 | C83: FORM NAVAL | D83: =#REF! -> #REF! | E83: WELDT JORGE | F83: =#REF! -> #REF! | G83: =#REF! -> #REF! | H83: =#REF! -> #REF! | I83: =#REF! -> #REF! | J83: 0 | K83: 0
B84: 81 | C84: FORM NAVAL | D84: =#REF! -> #REF! | E84: ZANELLI VÍCTOR | F84: =#REF! -> #REF! | G84: =#REF! -> #REF! | H84: =#REF! -> #REF! | I84: =#REF! -> #REF! | J84: 0 | K84: 0 | M84: =SUM(F64:I84) -> #REF!
B85: 82 | J85: 0 | K85: 0
B86: 83 | C86: SEGURIDAD | D86: =#REF! -> #REF! | E86: NN 2 SEGURIDAD | F86: =#REF! -> #REF! | G86: =#REF! -> #REF! | H86: =#REF! -> #REF! | I86: =#REF! -> #REF! | J86: 0 | K86: 0
B87: 84 | C87: SEGURIDAD | D87: =#REF! -> #REF! | E87: PIZARRO T1 | F87: =#REF! -> #REF! | G87: =#REF! -> #REF! | H87: =#REF! -> #REF! | I87: =#REF! -> #REF! | J87: 0 | K87: 0
B88: 85 | C88: SEGURIDAD | D88: =#REF! -> #REF! | E88: NN 1 SEGURIDAD | F88: =#REF! -> #REF! | G88: =#REF! -> #REF! | H88: =#REF! -> #REF! | I88: =#REF! -> #REF! | J88: 0 | K88: 0 | M88: =SUM(F86:I88) -> #REF!
B89: 86 | J89: 0 | K89: 0
B90: 87 | C90: LENGUAJE | D90: =#REF! -> #REF! | E90: ARENTSEN CHRISTIANE | F90: =#REF! -> #REF! | G90: =#REF! -> #REF! | H90: =#REF! -> #REF! | I90: =#REF! -> #REF! | J90: 0 | K90: 0
B91: 88 | C91: LENGUAJE | D91: =#REF! -> #REF! | E91: CAMPOS VALESKA | F91: =#REF! -> #REF! | G91: =#REF! -> #REF! | H91: =#REF! -> #REF! | I91: =#REF! -> #REF! | J91: 0 | K91: 0
B92: 89 | C92: LENGUAJE | D92: =#REF! -> #REF! | E92: NUÑEZ MIGUEL | F92: =#REF! -> #REF! | G92: =#REF! -> #REF! | H92: =#REF! -> #REF! | I92: =#REF! -> #REF! | J92: 0 | K92: 0 | M92: =SUM(F90:I92) -> #REF!
B93: 90 | J93: 0 | K93: 0
B94: 91 | C94: HISTORIA | D94: =HISTORIA!#REF! -> #REF! | E94: RAMÍREZ BLANCA | F94: =HISTORIA!#REF! -> #REF! | G94: =HISTORIA!#REF! -> #REF! | H94: =HISTORIA!#REF! -> #REF! | I94: =HISTORIA!#REF! -> #REF! | J94: 0 | K94: 0
B95: 92 | C95: HISTORIA | D95: =HISTORIA!#REF! -> #REF! | E95: RÍOS JORGE | F95: =HISTORIA!#REF! -> #REF! | G95: =HISTORIA!#REF! -> #REF! | H95: =HISTORIA!#REF! -> #REF! | I95: =HISTORIA!#REF! -> #REF! | J95: 0 | K95: 0
B96: 93 | C96: HISTORIA | D96: =HISTORIA!#REF! -> #REF! | E96: ROMÁN LORENA | F96: =HISTORIA!#REF! -> #REF! | G96: =HISTORIA!#REF! -> #REF! | H96: =HISTORIA!#REF! -> #REF! | I96: =HISTORIA!#REF! -> #REF! | J96: 0 | K96: 0 | M96: =SUM(F94:I96) -> #REF!
B97: 94 | J97: 0 | K97: 0
B98: 95 | C98: HISTORIA NAVAL | D98: ='HIST NAV '!#REF! -> #REF! | E98: SORIA-GALVARRO RODOLFO | F98: ='HIST NAV '!#REF! -> #REF! | G98: ='HIST NAV '!#REF! -> #REF! | H98: ='HIST NAV '!#REF! -> #REF! | I98: ='HIST NAV '!#REF! -> #REF! | J98: 0 | K98: 0
B99: 96 | C99: HISTORIA NAVAL | D99: ='HIST NAV '!#REF! -> #REF! | E99: QUIROGA CÉSAR | F99: ='HIST NAV '!#REF! -> #REF! | G99: ='HIST NAV '!#REF! -> #REF! | H99: ='HIST NAV '!#REF! -> #REF! | I99: ='HIST NAV '!#REF! -> #REF! | J99: 0 | K99: 0 | M99: =SUM(F98:I99) -> #REF!
B100: 97 | J100: 0 | K100: 0
B101: 98 | C101: DERECHO | D101: =DEREC!#REF! -> #REF! | E101: CELIS ALEJANDRO | F101: =DEREC!#REF! -> #REF! | G101: =DEREC!#REF! -> #REF! | H101: =DEREC!#REF! -> #REF! | I101: =DEREC!#REF! -> #REF! | J101: 0 | K101: 0
B102: 99 | C102: DERECHO | D102: =DEREC!#REF! -> #REF! | E102: MELLA HERNÁN | F102: =DEREC!#REF! -> #REF! | G102: =DEREC!#REF! -> #REF! | H102: =DEREC!#REF! -> #REF! | I102: =DEREC!#REF! -> #REF! | J102: 0 | K102: 0
B103: 100 | C103: DERECHO | D103: =DEREC!#REF! -> #REF! | E103: RAMÍREZ BLANCA | F103: =DEREC!#REF! -> #REF! | G103: =DEREC!#REF! -> #REF! | H103: =DEREC!#REF! -> #REF! | I103: =DEREC!#REF! -> #REF! | J103: 0 | K103: 0
B104: 101 | C104: DERECHO | D104: =DEREC!#REF! -> #REF! | E104: ROMÁN LORENA | F104: =DEREC!#REF! -> #REF! | G104: =DEREC!#REF! -> #REF! | H104: =DEREC!#REF! -> #REF! | I104: =DEREC!#REF! -> #REF! | J104: 0 | K104: 0
B105: 102 | C105: DERECHO | D105: =DEREC!#REF! -> #REF! | E105: SILVA DIEGO | F105: =DEREC!#REF! -> #REF! | G105: =DEREC!#REF! -> #REF! | H105: =DEREC!#REF! -> #REF! | I105: =DEREC!#REF! -> #REF! | J105: 0 | K105: 0
B106: 103 | C106: DERECHO | D106: =DEREC!#REF! -> #REF! | E106: SIMS EDUARDO | F106: =DEREC!#REF! -> #REF! | G106: =DEREC!#REF! -> #REF! | H106: =DEREC!#REF! -> #REF! | I106: =DEREC!#REF! -> #REF! | J106: 0 | K106: 0 | M106: =SUM(F101:I106) -> #REF!
B107: 104 | J107: 0 | K107: 0
B108: 105 | C108: FILOSOFÍA | D108: =FILOSOF!#REF! -> #REF! | E108: MAYNE-NICHOLLS MICHAEL | F108: =FILOSOF!#REF! -> #REF! | G108: =FILOSOF!#REF! -> #REF! | H108: =FILOSOF!#REF! -> #REF! | I108: =FILOSOF!#REF! -> #REF! | J108: 0 | K108: 0 | M108: =SUM(F108:I109) -> #REF!
B109: 106 | J109: 0 | K109: 0
...
