Workbook
Name LAB_1: Hoja2!$G$4:$G$156
Name LAB_2: Hoja2!$I$4:$I$156
Name NOMBRES: Hoja2!$E$4:$E$181
Name profes: Hoja2!$E$4:$E$126
Name profesores: Hoja2!$E$4:$E$149
Name SISTEMATICAS1: Hoja2!$F$4:$F$149
Name SISTEMATICAS2: Hoja2!$H$4:$H$149

Sheet COS
A1: Escuela Naval "A. Prat"
A2: Departamento Educación
A3: Unidad de Coordinación Académica
A5: HORAS DE CLASES POR CURSO - PROFESOR
A6: AÑO ACADÉMICO 2025
A7: CÁTEDRA : | D7: C.O.S.
D8: HORAS SEMANALES
A9: CURSO | C9: CÁTEDRA | D9: ASIGNATURAS | E9: 1er SEM. | G9: 2º SEM. | I9: PROFESOR
E10: SIST. | F10: LAB | G10: SIST. | H10: LAB
K11: 0 | L11: 0 | M11: 0 | N11: 0
A12: COS | D12: ÉTICA Y PROBIDAD | E12: 2 | K12: =E12 -> 2 | L12: =F12 -> 0 | M12: =G12 -> 0 | N12: =H12 -> 0
A13: COS | D13: REGLAMENTO | E13: 4 | K13: =E13 -> 4 | L13: =F13 -> 0 | M13: =G13 -> 0 | N13: =H13 -> 0
A14: COS | C14: ED FÍSICA | D14: EDUCACIÓN FÍSICA | E14: 6
A15: COS | D15: CEREMONIAL NAVAL | E15: 2 | K15: =E15 -> 2 | L15: =F15 -> 0 | M15: =G15 -> 0 | N15: =H15 -> 0
A16: COS | C16: MANDO Y LIDERAZGO | D16: MANDO Y LIDERAZGO | E16: 2 | K16: =E16 -> 2 | L16: =F16 -> 0 | M16: =G16 -> 0 | N16: =H16 -> 0
A17: COS | D17: INSTRUCCIÓN MILITAR | E17: 6 | K17: =E17 -> 6 | L17: =F17 -> 0 | M17: =G17 -> 0 | N17: =H17 -> 0
A18: COS | D18: PROCEDIMIENTOS ADMINISTRATIVOS | E18: 3 | K18: =E18 -> 3 | L18: =F18 -> 0 | M18: =G18 -> 0 | N18: =H18 -> 0
A19: COS | D19: SERVICIO NAVAL A BORDO Y EN TIERRA | E19: 6 | K19: =E19 -> 6 | L19: =F19 -> 0 | M19: =G19 -> 0 | N19: =H19 -> 0
A20: COS | C20: FORMACIÓN NAVAL | D20: SEGURIDAD | E20: 3 | K20: =E20 -> 3 | L20: =F20 -> 0 | M20: =G20 -> 0 | N20: =H20 -> 0
A21: COS | D21: GUERRA NAVAL | E21: 4 | K21: =E21 -> 4 | L21: =F21 -> 0 | M21: =G21 -> 0 | N21: =H21 -> 0
A22: COS | D22: ORIENTACIÓN Y ORGANIZACIÓN NAVAL | E22: 4 | K22: =E22 -> 4 | L22: =F22 -> 0 | M22: =G22 -> 0 | N22: =H22 -> 0
E25: =+SUM(E12:E24) -> 42
I26: RESUMEN
K27: =SUMIF($I$13:$N$24,I27,$M$13:$M$24) -> 0
K28: =SUMIF($I$13:$N$24,I28,$M$13:$M$24) -> 0
K29: =SUMIF($I$13:$N$24,I29,$M$13:$M$24) -> 0
K30: =SUMIF($I$13:$N$24,I30,$M$13:$M$24) -> 0
K31: =SUMIF($I$13:$N$24,I31,$M$13:$M$24) -> 0
K32: =SUMIF($I$13:$N$24,I32,$M$13:$M$24) -> 0
K33: =SUMIF($I$13:$N$24,I33,$M$13:$M$24) -> 0
K34: =SUMIF($I$13:$N$24,I34,$M$13:$M$24) -> 0
K35: =SUMIF($I$13:$N$24,I35,$M$13:$M$24) -> 0
K36: =SUMIF($I$13:$N$24,I36,$M$13:$M$24) -> 0
K38: =SUM(K27:K37) -> 0

Sheet OM
A1: Escuela Naval "A. Prat"
A2: Departamento Educación
A3: Unidad de Coordinación Académica
A5: HORAS DE CLASES POR CURSO - PROFESOR
A6: AÑO ACADÉMICO 2025
A7: CÁTEDRA O CURSO: | D7: OFICIAL DE MAR
D8: HORAS SEMANALES
A9: CURSO | C9: CÁTEDRA | D9: ASIGNATURAS | E9: 1er SEM. | G9: 2º SEM. | I9: PROFESOR
E10: SIST. | F10: LAB | G10: SIST. | H10: LAB
A11: OM
A12: OM | C12: LENGUA CASTELLANA | D12: LENGUA CASTELLANA Y COMUNICACIÓN OM .1 | G12: 6 | I12: ARENTSEN CHRISTIANE
A13: OM | C13: LENGUA CASTELLANA | D13: LENGUA CASTELLANA Y COMUNICACIÓN OM .2 | E13: 6 | I13: VALESKA CAMPOS
A14: OM | C14: CS SOCIALES | D14: HISTORIA NAVAL APLICADA | E14: 2 | G14: 0 | I14: QUIROGA
A15: OM | C15: CS SOCIALES | D15: ANÁLISIS REALIDAD NACIONAL E INTERNACIONAL | E15: 0 | G15: 2 | I15: ROMÁN LORENA
A16: OM | C16: PSICOLOGÍA, FILO, ÉTI Y MORAL | D16: FUNDAMENTO ÉTICO DEL MANDO | E16: 2 | G16: 0 | I16: MUÑOZ JAIME
A17: OM | C17: PSICOLOGÍA, FILO, ÉTI Y MORAL | D17: PSICOLOGÍA APLICADA AL MANDO | E17: 0 | G17: 2 | I17: LUCERO ANDRÉS
A18: OM | C18: CS SOCIALES | D18: DERECHO | E18: 4 | G18: 0 | I18: MELLA
A19: OM | C19: CS SOCIALES | D19: EDUCACIÓN CÍVICA | E19: 0 | G19: 2 | I19: ROMÁN LORENA
A20: OM | C20: ADMINISTRACIÓN | D20: ADMINISTRACIÓN NAVAL | E20: 4 | G20: 0 | I20: GUNDLACH HÉCTOR
A21: OM | C21: ADMINISTRACIÓN | D21: ECONOMÍA | E21: 0 | G21: 4 | I21: GUNDLACH HÉCTOR
A22: OM | C22: MANDO Y LIDERAZGO | D22: MANDO Y LIDERAZGO | E22: 4 | G22: 0 | I22: OFICIAL ESNAVAL
A23: OM | C23: MANDO Y LIDERAZGO | D23: REGLAMENTACIÓN | E23: 0 | G23: 4 | I23: VON DER WETH RONALD
A24: OM | C24: FORMACIÓN NAVAL | D24: ÉTICA Y PROBIDAD | E24: 0 | G24: 2
A25: OM | C25: INGLÉS | D25: INGLÉS | E25: 4 | G25: 4
A26: OM | C26: ED. FÍSICA | D26: EDUCACIÓN FÍSICA | E26: 4 | G26: 4
E27: =+SUM(E11:E24) -> 22 | G27: =+SUM(G11:G24) -> 22 | I27: =+SUM(E27:G27) -> 44
I30: RESUMEN | J30: 1°Sem | L30: 2° Sem
J31: =SUMIF($I$12:$I$26,I31,$E$12:$E$26) -> 0 | L31: =SUMIF($I$12:$I$26,I31,$G$12:$G$26) -> 0
J32: =SUMIF($I$12:$I$26,I32,$E$12:$E$26) -> 0 | L32: =SUMIF($I$12:$I$26,I32,$G$12:$G$26) -> 0
J33: =SUMIF($I$12:$I$26,I33,$E$12:$E$26) -> 0 | L33: =SUMIF($I$12:$I$26,I33,$G$12:$G$26) -> 0
J34: =SUMIF($I$12:$I$26,I34,$E$12:$E$26) -> 0 | L34: =SUMIF($I$12:$I$26,I34,$G$12:$G$26) -> 0
J35: =SUMIF($I$12:$I$26,I35,$E$12:$E$26) -> 0 | L35: =SUMIF($I$12:$I$26,I35,$G$12:$G$26) -> 0
J36: =SUMIF($I$12:$I$26,I36,$E$12:$E$26) -> 0 | L36: =SUMIF($I$12:$I$26,I36,$G$12:$G$26) -> 0
J37: =SUMIF($I$12:$I$26,I37,$E$12:$E$26) -> 0 | L37: =SUMIF($I$12:$I$26,I37,$G$12:$G$26) -> 0
J38: =SUMIF($I$12:$I$26,I38,$E$12:$E$26) -> 0 | L38: =SUMIF($I$12:$I$26,I38,$G$12:$G$26) -> 0
J39: =SUMIF($I$12:$I$26,I39,$E$12:$E$26) -> 0 | L39: =SUMIF($I$12:$I$26,I39,$G$12:$G$26) -> 0
J40: =SUMIF($I$12:$I$26,I40,$E$12:$E$26) -> 0 | L40: =SUMIF($I$12:$I$26,I40,$G$12:$G$26) -> 0
J41: =SUMIF($I$12:$I$26,I41,$E$12:$E$26) -> 0 | L41: =SUMIF($I$12:$I$26,I41,$G$12:$G$26) -> 0
J43: =SUM(J31:L41) -> 0

Sheet SIST ARM
A1: Escuela Naval "A. Prat"
A2: Departamento Educación
A3: Unidad de Coordinación Académica
A5: HORAS DE CLASES POR CURSO - PROFESOR
A6: AÑO ACADÉMICO 2026
A7: CÁTEDRA : | D7: SISTEMAS DE ARMAS (JC. CC Teichelmann)
D8: HORAS SEMANALES
A9: CURSO | C9: CÁTEDRA | D9: ASIGNATURAS | E9: 1er SEM. | G9: 2º SEM. | I9: PROFESOR
E10: SIST. | F10: LAB | G10: SIST. | H10: LAB
K11: 0 | L11: 0 | M11: 0 | N11: 0
K12: =E12 -> 0 | L12: =F12 -> 0 | M12: =G12 -> 0 | N12: =H12 -> 0
A13: 3ro EJ | B13: A | C13: SIST DE ARMAS | D13: SISTEMAS DE ARMAS | G13: 4 | I13: SORO, CRISTIAN CC | K13: =E13 -> 0 | L13: =F13 -> 0 | M13: =G13 -> 4 | N13: =H13 -> 0
A14: 3ro EJ | B14: B | C14: SIST DE ARMAS | D14: SISTEMAS DE ARMAS | G14: 4 | I14: JOFRÉ, LEONARDO T1 | K14: =E14 -> 0 | L14: =F14 -> 0 | M14: =G14 -> 4 | N14: =H14 -> 0
A15: 3ro EJ | B15: C | C15: SIST DE ARMAS | D15: SISTEMAS DE ARMAS | G15: 4 | I15: TEICHELMANN CC | K15: =E15 -> 0 | L15: =F15 -> 0 | M15: =G15 -> 4 | N15: =H15 -> 0
D17: CARGA 2026 | E17: =+SUM(E12:E15) -> 0 | G17: =+SUM(G12:G15) -> 12 | I17: =+SUM(E17:G17) -> 12
D18: CARGA 2025 | E18: 4 | G18: 27 | I18: 31
I21: RESUMEN | J21: 1° Sem | L21: 2° Sem
I22: SORO, CRISTIAN CC | J22: =SUMIF($I$11:$N$15,I22,$K$11:$K$15) -> 0 | L22: =SUMIF($I$11:$N$15,I22,$M$11:$M$15) -> 4
I23: JOFRÉ, LEONARDO T1 | J23: =SUMIF($I$11:$N$15,I23,$K$11:$K$15) -> 0 | L23: =SUMIF($I$11:$N$15,I23,$M$11:$M$15) -> 4
I24: TEICHELMANN CC | J24: =SUMIF($I$11:$N$15,I24,$K$11:$K$15) -> 0 | L24: =SUMIF($I$11:$N$15,I24,$M$11:$M$15) -> 4
F25: ,
L26: =SUM(J22:L24) -> 12

Sheet NAVEG
A1: Escuela Naval "A. Prat"
A2: Departamento Educación
A3: Unidad de Coordinación Académica
A5: HORAS DE CLASES POR CURSO - PROFESOR
A6: AÑO ACADÉMICO 2026
A7: CÁTEDRA : | D7: NAVEGACIÓN Y METEOROLOGÍA (JC. PC. M. Coloma)
D8: HORAS SEMANALES
A9: CURSO | C9: CÁTEDRA | D9: ASIGNATURAS | E9: 1er SEM. | G9: 2º SEM. | I9: PROFESOR
E10: SIST. | F10: LAB | G10: SIST. | H10: LAB
A11: 2do EJ | B11: A | C11: NAVEGACIÓN | D11: NAVEGACIÓN COSTERA I .1 | E11: 4 | I11: ZANELLI VICTOR | K11: 4
A12: 2do EJ | B12: A | C12: NAVEGACIÓN | D12: NAVEGACIÓN COSTERA I .2 | G12: 4 | I12: PENDIENTE | M12: 4
A13: 2do EJ | B13: B | C13: NAVEGACIÓN | D13: NAVEGACIÓN COSTERA I .1 | E13: 4 | I13: ZANELLI VICTOR | K13: 4
A14: 2do EJ | B14: B | C14: NAVEGACIÓN | D14: NAVEGACIÓN COSTERA I .2 | G14: 4 | I14: PENDIENTE | M14: 4
A15: 2do EJ | B15: C | C15: NAVEGACIÓN | D15: NAVEGACIÓN COSTERA I .1 | E15: 4 | I15: ZANELLI VICTOR | K15: 4
A16: 2do EJ | B16: C | C16: NAVEGACIÓN | D16: NAVEGACIÓN COSTERA I .2 | G16: 4 | I16: PENDIENTE | M16: 4
A17: 2do EJ | B17: D | C17: NAVEGACIÓN | D17: NAVEGACIÓN COSTERA I .1 | E17: 4 | I17: ZANELLI VICTOR | K17: 4
A18: 2do EJ | B18: D | C18: NAVEGACIÓN | D18: NAVEGACIÓN COSTERA I .2 | G18: 4 | I18: PENDIENTE | M18: 4
A19: 2do AB | B19: J | C19: NAVEGACIÓN | D19: NAVEGACIÓN COSTERA I | E19: 2 | I19: ZANELLI VICTOR | K19: 2
A20: 2do LT | C20: NAVEGACIÓN | D20: NAVEGACIÓN COSTERA I .1 | E20: 4 | I20: ZANELLI VICTOR | K20: 4
A21: 2do LT | C21: NAVEGACIÓN | D21: NAVEGACIÓN COSTERA I .2 | G21: 4 | I21: PENDIENTE | M21: 4
A22: 3ro EJ | B22: A | C22: NAVEGACIÓN | D22: NAVEGACIÓN COSTERA II (CINEMÁTICA) | E22: 4 | I22: ROJAS MARIANO | K22: 4
A23: 3ro EJ | B23: B | C23: NAVEGACIÓN | D23: NAVEGACIÓN COSTERA II (CINEMÁTICA) | E23: 4 | I23: ROJAS MARIANO | K23: 4
A24: 3ro EJ | B24: C | C24: NAVEGACIÓN | D24: NAVEGACIÓN COSTERA II (CINEMÁTICA) | E24: 4 | I24: ROJAS MARIANO | K24: 4
A25: 3ro EJ | B25: A | C25: NAVEGACIÓN | D25: NAVEGACIÓN COSTERA II | G25: 4 | I25: ROJAS MARIANO | M25: 4
A26: 3ro EJ | B26: B | C26: NAVEGACIÓN | D26: NAVEGACIÓN COSTERA II | G26: 4 | I26: ROJAS MARIANO | M26: 4
A27: 3ro EJ | B27: C | C27: NAVEGACIÓN | D27: NAVEGACIÓN COSTERA II | G27: 4 | I27: ROJAS MARIANO | M27: 4
A28: 3ro LT | C28: NAVEGACIÓN | D28: NAVEGACIÓN COSTERA II | E28: 4 | G28: 4 | I28: COLOMA MANUEL | K28: 4 | M28: 4
A29: 4to EJ | B29: A | C29: NAVEGACIÓN | D29: NAVEGACIÓN ASTRONÓMICA | E29: 4 | G29: 2 | I29: COLOMA MANUEL | K29: 4 | M29: 2
A30: 4to EJ | B30: B | C30: NAVEGACIÓN | D30: NAVEGACIÓN ASTRONÓMICA | E30: 4 | G30: 2 | I30: COLOMA MANUEL | K30: 4 | M30: 2
A31: 4to EJ | B31: C | C31: NAVEGACIÓN | D31: NAVEGACIÓN ASTRONÓMICA | E31: 4 | G31: 2 | I31: COLOMA MANUEL | K31: 4 | M31: 2
A32: 4to IM | C32: NAVEGACIÓN | D32: NAVEGACIÓN | E32: 2 | G32: 2 | I32: COLOMA MANUEL | K32: 2 | M32: 2
A33: 4to AB | C33: NAVEGACIÓN | D33: NAVEGACIÓN | E33: 2 | G33: 2 | I33: COLOMA MANUEL | K33: 2 | M33: 2
A34: 4to LT | C34: NAVEGACIÓN | D34: NAVEGACIÓN ASTRONÓMICA | E34: 4 | G34: 2 | I34: COLOMA MANUEL | K34: 4 | M34: 2
D36: CARGA 2026 | E36: =+SUM(E11:F34) -> 58 | G36: =+SUM(G11:H34) -> 48 | I36: =+SUM(E36:G36) -> 106
D37: CARGA 2025 | E37: 46 | G37: 62 | I37: =E37+G37 -> 108
J38: 1 Sem | L38: 2 Sem
I39: COLOMA MANUEL | J39: =SUMIF($I$11:$N$34,I39,$K$11:$K$34) -> 24 | L39: =SUMIF($I$11:$N$34,I39,$M$11:$M$34) -> 16
I40: PENDIENTE | J40: =SUMIF($I$11:$N$34,I40,$K$11:$K$34) -> 0 | L40: =SUMIF($I$11:$N$33,I40,$M$11:$M$33) -> 20
I41: ROJAS MARIANO | J41: =SUMIF($I$11:$N$34,I41,$K$11:$K$33) -> 12 | L41: =SUMIF($I$11:$N$34,I41,$M$11:$M$34) -> 12
I42: ZANELLI VICTOR | J42: =SUMIF($I$11:$N$34,I42,$K$11:$K$34) -> 22 | L42: =SUMIF($I$11:$N$34,I42,$M$11:$M$34) -> 0
...

Sheet OP NAV
A1: Escuela Naval "A. Prat"
A2: Departamento Educación
A3: Unidad de Coordinación Académica
A5: HORAS DE CLASES POR CURSO - PROFESOR
A6: AÑO ACADÉMICO 2026
A7: CÁTEDRA : | D7: PLANIFICACIÓN Y OPERACIONES NAVALES (JC. PC. M. Coloma)
D8: HORAS SEMANALES
A9: CURSO | C9: CÁTEDRA | D9: ASIGNATURAS | E9: 1er SEM. | G9: 2º SEM. | I9: PROFESOR
E10: SIST. | F10: LAB | G10: SIST. | H10: LAB
K11: 0 | L11: 0 | M11: 0 | N11: 0
A12: 4to Ej | B12: A | C12: NAVEG Y OPS NAVALES | D12: PLANIFICACIÓN Y OPERACIONES NAVALES | E12: 4 | G12: 4 | I12: ROJAS MARIANO | K12: =E12 -> 4 | L12: =F12 -> 0 | M12: =G12 -> 4 | N12: =H12 -> 0
A13: 4to Ej | B13: B | C13: NAVEG Y OPS NAVALES | D13: PLANIFICACIÓN Y OPERACIONES NAVALES | E13: 4 | G13: 4 | I13: ROJAS MARIANO | K13: =E13 -> 4 | L13: =F13 -> 0 | M13: =G13 -> 4 | N13: =H13 -> 0
A14: 4to Ej | B14: C | C14: NAVEG Y OPS NAVALES | D14: PLANIFICACIÓN Y OPERACIONES NAVALES | E14: 4 | G14: 4 | I14: ROJAS MARIANO | K14: =E14 -> 4 | L14: =F14 -> 0 | M14: =G14 -> 4 | N14: =H14 -> 0
D16: CARGA 2026 | E16: =SUM(E12:E14) -> 12 | G16: =SUM(G12:G14) -> 12 | I16: =+SUM(E16:G16) -> 24
D17: CARGA 2025 | E17: 12 | G17: 12 | I17: =E17+G17 -> 24
I19: RESUMEN | J19: 1 Sem | L19: 2 Sem
I20: ROJAS MARIANO | J20: =SUMIF($I$11:$N$14,$I20,K$11:K$14) -> 12 | L20: =SUMIF($I$11:$N$14,$I20,M$11:M$14) -> 12
L23: =SUM(J20:L21) -> 24

Sheet SIST ING
A1: Escuela Naval "A. Prat"
A2: Departamento Educación
A3: Unidad de Coordinación Académica
A5: HORAS DE CLASES POR CURSO - PROFESOR
A6: AÑO ACADÉMICO 2026
A7: CÁTEDRA : | D7: SISTEMAS DE INGENIERÍA | I7: PC ALBERTO GARCÍA
D8: HORAS SEMANALES
A9: CURSO | C9: CÁTEDRA | D9: ASIGNATURAS | E9: 1er SEM. | G9: 2º SEM. | I9: PROFESOR
E10: SIST. | F10: LAB | G10: SIST. | H10: LAB
A11: 3ro LT | C11: SIST DE INGENIERÍA | D11: FUNDAM. DE ESTABILIDAD Y ESTIBA | E11: 2 | I11: GARCÍA ALBERTO | L11: =E11 -> 2 | M11: =F11 -> 0 | N11: =G11 -> 0 | O11: =H11 -> 0
A12: 3ro LT | C12: SIST DE INGENIERÍA | D12: SISTEMAS DE INGENIERÍA LT. | G12: 2 | I12: GARCÍA ALBERTO | L12: 0 | M12: 0 | N12: 2 | O12: 0
A13: 3ro EJ | B13: A | C13: SIST DE INGENIERÍA | D13: FUNDAMENTOS DE ESTABILIDAD | E13: 2 | I13: GARCÍA ALBERTO | L13: =E13 -> 2 | M13: =F13 -> 0 | N13: =G13 -> 0 | O13: =H13 -> 0
A14: 3ro EJ | B14: B | C14: SIST DE INGENIERÍA | D14: FUNDAMENTOS DE ESTABILIDAD | E14: 2 | I14: GARCÍA ALBERTO | L14: =E14 -> 2 | M14: =F14 -> 0 | N14: =G14 -> 0 | O14: =H14 -> 0
A15: 3ro EJ | B15: C | C15: SIST DE INGENIERÍA | D15: FUNDAMENTOS DE ESTABILIDAD | E15: 2 | I15: FISCHER MATIAS | L15: =E15 -> 2 | M15: =F15 -> 0 | N15: =G15 -> 0 | O15: =H15 -> 0
A16: 4to EJ | B16: A | C16: SIST DE INGENIERÍA | D16: SISTEMAS DE INGENIERÍA | E16: 4 | I16: GARCÍA ALBERTO | L16: =E16 -> 4 | M16: =F16 -> 0 | N16: =G16 -> 0 | O16: =H16 -> 0
A17: 4to EJ | B17: B | C17: SIST DE INGENIERÍA | D17: SISTEMAS DE INGENIERÍA | E17: 4 | I17: ULLOA VÍCTOR | L17: =E17 -> 4 | M17: =F17 -> 0 | N17: =G17 -> 0 | O17: =H17 -> 0
A18: 4to EJ | B18: C | C18: SIST DE INGENIERÍA | D18: SISTEMAS DE INGENIERÍA | E18: 4 | I18: QUEZADA IGNACIO T1 | L18: =E18 -> 4 | M18: =F18 -> 0 | N18: =G18 -> 0 | O18: =H18 -> 0
A19: 4to AB | C19: SIST DE INGENIERÍA | D19: SISTEMAS NAVALES (ARMAS / ING.) | G19: 2 | I19: GARCÍA ALBERTO | L19: 0 | M19: 0 | N19: 2 | O19: 0
D20: CARGA 2026 | E20: =+SUM(E11:E18) -> 20 | G20: =+SUM(G11:G18) -> 2 | I20: =+SUM(E20:G20) -> 22
D21: CARGA 2025 | E21: 26 | G21: 7 | I21: 39
I23: RESUMEN | J23: 1° Sem | L23: 2° Sem
I24: FISCHER MATIAS | J24: =SUMIF($I$11:$O$18,$I24,L$11:L$18) -> 2 | L24: =SUMIF($I$11:$O$18,$I24,N$11:N$18) -> 0
I25: GARCÍA ALBERTO | J25: =SUMIF($I$11:$O$18,$I25,L$11:L$18) -> 10 | L25: =SUMIF($I$11:$O$19,$I25,N$11:N$19) -> 4
I26: QUEZADA IGNACIO T1 | J26: =SUMIF($I$11:$O$18,$I26,L$11:L$18) -> 4 | L26: =SUMIF($I$11:$O$18,$I26,N$11:N$18) -> 0
I27: ULLOA VÍCTOR | J27: =SUMIF($I$11:$O$18,$I27,L$11:L$18) -> 4 | L27: =SUMIF($I$11:$O$18,$I27,N$11:N$18) -> 0
L29: =SUM(J24:L27) -> 24

Sheet ADMINIST
A1: Escuela Naval "A. Prat"
A2: Departamento Educación
A3: Unidad de Coordinación Académica
A5: HORAS DE CLASES POR CURSO - PROFESOR
A6: AÑO ACADÉMICO 2026
A7: CÁTEDRA : | D7: ADMINISTRACIÓN | I7: PC HECTOR GUNDLACH
D8: HORAS SEMANALES
A9: CURSO | C9: CÁTEDRA | D9: ASIGNATURAS | E9: 1er SEM. | G9: 2º SEM. | I9: PROFESOR
E10: SIST. | F10: LAB | G10: SIST. | H10: LAB
A11: 2do AB | C11: ADMINISTRACIÓN | D11: ADMINISTRACIÓN | E11: 2 | G11: 2 | I11: GUNDLACH HÉCTOR | K11: =+E11 -> 2 | L11: =+F11 -> 0 | M11: =+G11 -> 2 | N11: =+H11 -> 0
A12: 4do EJ | B12: A | C12: ADMINISTRACIÓN | D12: ADMINISTRACIÓN NAVAL | E12: 2 | I12: GUNDLACH HÉCTOR | K12: 2
A13: 4ro EJ | B13: B | C13: ADMINISTRACIÓN | D13: ADMINISTRACIÓN NAVAL | E13: 2 | I13: GUNDLACH HÉCTOR | K13: 2
A14: 4to EJ | B14: C | C14: ADMINISTRACIÓN | D14: ADMINISTRACIÓN NAVAL | E14: 2 | I14: GUNDLACH HÉCTOR | K14: =+E14 -> 2 | L14: =+F14 -> 0 | M14: =+G14 -> 0
A15: 4to LT | C15: ADMINISTRACIÓN | D15: ADMINISTRACIÓN NAVAL | G15: 2 | I15: GUNDLACH HÉCTOR | K15: =+E15 -> 0 | L15: =+F15 -> 0 | M15: =+G15 -> 2
A16: OM | C16: ADMINISTRACIÓN | D16: ADMINISTRACIÓN | E16: 4 | I16: GUNDLACH HÉCTOR | K16: 4
A17: OM | C17: ADMINISTRACIÓN | D17: ECONOMÍA | G17: 4 | I17: GUNDLACH HÉCTOR | M17: 4
D20: CARGA 2026 | E20: =SUM(E11:E18) -> 12 | G20: =+SUM(G11:G18) -> 8 | I20: =+E20+G20 -> 20
D21: CARGA 2025 | E21: 10 | G21: 14 | I21: =E21+G21 -> 24
I23: RESUMEN | J23: 1° Sem | L23: 2° Sem
I24: GUNDLACH HÉCTOR | J24: =SUMIF($I$11:$N$18,$I24,K$11:K$18) -> 12 | L24: =SUMIF($I$11:$N$18,$I24,M$11:M$18) -> 8
L27: =SUM(J24:L25) -> 20

Sheet ESP IM
A1: Escuela Naval "A. Prat"
A2: Departamento Educación
A3: Unidad de Coordinación Académica
A5: HORAS DE CLASES POR CURSO - PROFESOR
A6: AÑO ACADÉMICO 2026
A7: CÁTEDRA : | D7: ESP INF MARINA | I7: PC JUAN SIELFELD
D8: HORAS SEMANALES
A9: CURSO | C9: CÁTEDRA | D9: ASIGNATURAS | E9: 1er SEM. | G9: 2º SEM. | I9: PROFESOR
E10: SIST. | F10: LAB | G10: SIST. | H10: LAB
A11: 2do IM Mod | C11: ESP IM | D11: TÁCTICA I | E11: 4 | G11: 4 | I11: SIELFELD JUAN | K11: =E11 -> 4 | L11: =F11 -> 0 | M11: =G11 -> 4 | N11: =H11 -> 0
A12: 3ro IM | C12: ESP IM | D12: FUNCIONES DE COMBATE | E12: 4 | G12: 4 | I12: PIZARRO T1 | K12: =E12 -> 4 | L12: =G13:G13 -> 6 | M12: =G12 -> 4 | N12: =H12 -> 0
A13: 3ro IM | C13: ESP IM | D13: TÁCTICA II | E13: 6 | G13: 6 | I13: VON DER WETH FIEDRICH | K13: =E13 -> 6 | L13: =F13 -> 0 | M13: =G13 -> 6 | N13: =H13 -> 0
A14: 3ro IM | C14: ESP IM | D14: CCC I | E14: 2 | G14: 2 | I14: PC CAMPOS | K14: =E14 -> 2 | L14: =F14 -> 0 | M14: =G14 -> 2 | N14: =H14 -> 0
A15: 4to IM | C15: ESP IM | D15: FUNDAM. OPERAC. DE ESTABILIZACIÓN | E15: 2 | I15: ROSENKRANZ CN IM | K15: =E15 -> 2 | L15: =F15 -> 0 | M15: =G15 -> 0 | N15: =H15 -> 0
A16: 4to IM | C16: ESP IM | D16: HIST. MILITAR Y TEORÍA DE LA GUERRA | E16: 4 | G16: 2 | I16: VON DER WETH FIEDRICH | K16: =E16 -> 4 | L16: =F16 -> 0 | M16: =G16 -> 2 | N16: =H16 -> 0
A17: 4to IM | C17: ESP IM | D17: CCC I (T) | E17: 2 | G17: 2 | I17: PC JARA | K17: =E17 -> 2 | L17: =F17 -> 0 | M17: =G17 -> 2 | N17: =H17 -> 0
A18: 4to IM | C18: ESP IM | D18: TÁCTICA ANFIBIA | E18: 4 | G18: 4 | I18: V D WETH Y SIELFELD JUAN | J18: SIELFELD OK | K18: =E18 -> 4 | L18: =F18 -> 0 | M18: =G18 -> 4 | N18: =H18 -> 0
D20: CARGA 2026 | E20: =+SUM(E11:E18) -> 28 | G20: =+SUM(G11:G18) -> 24 | I20: =+G20+E20 -> 52
D21: CARGA 2025 | E21: 33 | G21: 32 | I21: =E21+G21 -> 65
I23: RESUMEN | J23: 1 Sem | L23: 2 Sem
I24: PIZARRO T1 | J24: =SUMIF($I$11:$N$18,$I24,K$11:K$18) -> 4 | L24: =SUMIF($I$11:$N$18,$I24,M$11:M$18) -> 4
I25: SIELFELD JUAN | J25: =SUMIF($I$11:$N$18,$I25,K$11:K$18) -> 4 | L25: =SUMIF($I$11:$N$18,$I25,M$11:M$18) -> 4
I26: VON DER WETH FIEDRICH | J26: =SUMIF($I$11:$N$18,$I26,K$11:K$18) -> 10 | L26: =SUMIF($I$11:$N$18,$I26,M$11:M$18) -> 8
I27: V D WETH Y SIELFELD JUAN | J27: =SUMIF($I$11:$N$18,$I27,K$11:K$18) -> 4 | L27: =SUMIF($I$11:$N$18,$I27,M$11:M$18) -> 4
I28: PC CAMPOS | J28: =SUMIF($I$11:$N$18,$I28,K$11:K$18) -> 2 | L28: =SUMIF($I$11:$N$18,$I28,M$11:M$18) -> 2
I29: PC JARA | J29: =SUMIF($I$11:$N$18,$I29,K$11:K$18) -> 2 | L29: =SUMIF($I$11:$N$18,$I29,M$11:M$18) -> 2
L31: =SUM(J24:L29) -> 50

Sheet ESP AB
A1: Escuela Naval "A. Prat"
A2: Departamento Educación
A3: Unidad de Coordinación Académica
A5: HORAS DE CLASES POR CURSO - PROFESOR
A6: AÑO ACADÉMICO 2026
A7: CÁTEDRA : | D7: ESPECIALIDAD ABASTECIMIENTO | I7: JC. PC. CARLOS VIDAL
D8: HORAS SEMANALES
A9: CURSO | C9: CÁTEDRA | D9: ASIGNATURAS | E9: 1er SEM. | G9: 2º SEM. | I9: PROFESOR
E10: SIST. | F10: LAB | G10: SIST. | H10: LAB
A11: 2do AB | C11: ESP AB | D11: ADM. LOGÍSTICA DEL MATERIAL | E11: 4 | I11: GARCÍA QUIROGA CARLOS | K11: =E11 -> 4 | L11: 4
A12: 2do AB | C12: ESP AB | D12: ABASTECIMIENTO | G12: 4 | I12: VILLABLANCA T1 AB | K12: =E12 -> 0 | L12: =F12 -> 0 | M12: =G12 -> 4
A13: 2do AB | C13: ESP AB | D13: CONTABILIDAD | E13: 6 | G13: 6 | I13: RODRÍGUEZ NORMAN | K13: =E13 -> 6 | L13: =E13 -> 6 | M13: =G13 -> 6
A14: 3ro AB | C14: ESP AB | D14: ADM. LOGÍSTICA DEL MATERIAL | E14: 4 | G14: 4 | I14: GARCÍA QUIROGA CARLOS | K14: =E14 -> 4 | L14: =E14 -> 4 | M14: =G14 -> 4
A15: 3ro AB | C15: ESP AB | D15: INVESTIGACIÓN DE OPERACIONES | G15: 2 | I15: BASTIDAS CC CENTARM | K15: =E15 -> 0 | L15: =F15 -> 0 | M15: =G15 -> 2
A16: 3ro AB | C16: ESP AB | D16: TEORÍA DE LA ORGANIZACIÓN | E16: 2 | I16: VIDAL CARLOS | K16: =E16 -> 2 | L16: =E16 -> 2 | M16: =G16 -> 0
A17: 3ro AB | C17: ESP AB | D17: FUNDAMENTOS DE ECONOMÍA | G17: 2 | I17: VIDAL CARLOS | K17: =E17 -> 0 | L17: =F17 -> 0 | M17: =G17 -> 2
A18: 3ro AB | C18: ESP AB | D18: COSTOS | E18: 4 | I18: RODRÍGUEZ NORMAN | K18: =E18 -> 4 | L18: =E18 -> 4 | M18: =G18 -> 0
A19: 4to AB | C19: ESP AB | D19: SEGURIDAD SANITARIA DE ALIMENTACIÓN Y NUTRICIÓN | E19: 4 | I19: OBERMOLLER HILDE | K19: =E19 -> 4 | L19: =E19 -> 4 | M19: =G19 -> 0
A20: 4to AB | C20: ESP AB | D20: FINANZAS | E20: 3 | I20: GARCÍA QUIROGA CARLOS | K20: =E20 -> 3 | L20: =E20 -> 3 | M20: =G20 -> 0
A21: 4to AB | C21: ESP AB | D21: INVESTIGACIÓN DE OPERACIONES (T) | E21: 2 | G21: 2 | I21: BASTIDAS CC CENTARM | K21: =E21 -> 2 | L21: =E21 -> 2 | M21: =G21 -> 2
A22: 4to AB | C22: ESP AB | D22: SISTEMAS DE INFORMACIÓN LOGÍSTICA .1 | E22: 3 | I22: MELKONIAN CC AB | K22: =E22 -> 3 | L22: =E22 -> 3 | M22: =G22 -> 0
A23: 4to AB | C23: ESP AB | D23: SISTEMAS DE INFORMACIÓN LOGÍSTICA .2 | G23: 4 | I23: MELKONIAN CC AB | K23: =E23 -> 0 | L23: =F23 -> 0 | M23: =G23 -> 4
A24: 4to AB | C24: ESP AB | D24: FINANZAS PÚBLICAS | G24: 4 | I24: GARCÍA QUIROGA CARLOS | K24: =E24 -> 0 | L24: =F24 -> 0 | M24: =G24 -> 4
D26: CARGA 2026 | E26: =+SUM(E11:E24) -> 32 | G26: =+SUM(G12:G24) -> 28 | I26: =+G26+E26 -> 60
D27: CARGA 2025 | E27: 40 | G27: 34 | I27: =E27+G27 -> 74
I29: RESUMEN | J29: 1 Sem | L29: 2 Sem
I30: VILLABLANCA T1 AB | J30: =SUMIF($I$11:$N$24,$I30,K$11:K$24) -> 0 | L30: =SUMIF($I$11:$N$24,$I30,M$11:M$24) -> 4
I31: VIDAL CARLOS | J31: =SUMIF($I$11:$N$24,$I31,K$11:K$24) -> 2 | L31: =SUMIF($I$11:$N$24,$I31,M$11:M$24) -> 2
I32: RODRÍGUEZ NORMAN | J32: =SUMIF($I$11:$N$24,$I32,K$11:K$24) -> 10 | L32: =SUMIF($I$11:$N$24,$I32,M$11:M$24) -> 6
I33: OBERMOLLER HILDE | J33: =SUMIF($I$11:$N$24,$I33,K$11:K$24) -> 4 | L33: =SUMIF($I$11:$N$24,$I33,M$11:M$24) -> 0
I34: BASTIDAS CC CENTARM | J34: =SUMIF($I$11:$N$24,$I34,K$11:K$24) -> 2 | L34: =SUMIF($I$11:$N$24,$I34,M$11:M$24) -> 4
I35: MELKONIAN CC AB | J35: =SUMIF($I$11:$N$24,$I35,K$11:K$24) -> 3 | L35: =SUMIF($I$11:$N$24,$I35,M$11:M$24) -> 4
I36: GARCÍA QUIROGA CARLOS | J36: =SUMIF($I$11:$N$24,$I36,K$11:K$24) -> 11 | L36: =SUMIF($I$11:$N$24,$I36,M$11:M$24) -> 8
L39: =SUM(J30:L36) -> 60

Sheet ESP LT
A1: Escuela Naval "A. Prat"
A2: Departamento Educación
A3: Unidad de Coordinación Académica
A5: HORAS DE CLASES POR CURSO - PROFESOR
A6: AÑO ACADÉMICO 2026
A7: CÁTEDRA : | D7: ESPECIALIDAD LITORAL | I7: PC MUNITA
D8: HORAS SEMANALES
A9: CURSO | C9: CÁTEDRA | D9: ASIGNATURAS | E9: 1er SEM. | G9: 2º SEM. | I9: PROFESOR
E10: SIST. | F10: LAB | G10: SIST. | H10: LAB
A11: 2do LT | C11: ESP LT | D11: LEGISLACIÓN MARÍTIMA | E11: 4 | G11: 4 | I11: MUNITA JUAN CARLOS | K11: =E11 -> 4 | L11: =F11 -> 0 | M11: =G11 -> 4 | N11: =H11 -> 0
A12: 3ro LT | C12: ESP LT | D12: POLICIA MARÍTIMA I | E12: 4 | G12: 6 | I12: OF DIRSOMAR 1 | K12: 4 | M12: 6
A13: 3ro LT | C13: ESP LT | D13: INT. MARÍTIMOS Y DESARROLLO SUSTENTABLE | E13: 4 | I13: OF DGTM | K13: 4
A14: 3ro LT | C14: ESP LT | D14: OPERACIONES MARÍTIMAS | E14: 4 | G14: 4 | I14: RUIZ T1 LT | K14: =E14 -> 4 | L14: =F14 -> 0 | M14: =G14 -> 4 | N14: =H14 -> 0
A15: 4to LT | C15: ESP LT | D15: COMUNICACIÓN Y RR.PP. | E15: 2 | I15: BUCAREY FRANCIS | K15: =E15 -> 2 | L15: =F15 -> 0 | M15: =G15 -> 0 | N15: =H15 -> 0
A16: 4to LT | C16: ESP LT | D16: ARMAMENTO POLICIAL | E16: 0 | G16: 4 | I16: INSTRUCTOR GRI | K16: ='[1]ESP LT'!L23 -> 0 | L16: Era BAROS=F17 | M16: =G16 -> 4 | N16: =H16 -> 0
A17: 4to LT | C17: ESP LT | D17: INT MARÍTIMOS Y DESARROLLO SUSTENTABLE (T) | E17: 4 | I17: OF DGTM | K17: =E17 -> 4 | L17: =F17 -> 0 | M17: =G17 -> 0 | N17: =H17 -> 0
A18: 4to LT | C18: ESP LT | D18: DEFENSA PERSONAL | E18: 2 | G18: 2 | I18: PC CAMPOS | K18: 2 | M18: =G18 -> 2
A19: 4to LT | C19: ESP LT | D19: OPERACIONES MARÍTIMAS (T) | G19: 6 | I19: RUIZ T1 LT | M19: =G19 -> 6
A20: 4to LT | C20: ESP LT | D20: POLICÍA MARÍTIMA (T) | E20: 4 | I20: OF DIRSOMAR 1 | K20: =E20 -> 4 | L20: =F20 -> 0 | M20: =G20 -> 0 | N20: =H20 -> 0
D22: CARGA 2026 | E22: =+SUM(E11:E20) -> 28 | G22: =+SUM(G11:G20) -> 26 | I22: =+G22+E22 -> 54
D23: CARGA 2025 | E23: 20 | G23: 28 | I23: =E23+G23 -> 48
I25: RESUMEN | J25: 1 Sem | L25: 2 Sem
I26: PC CAMPOS | J26: =SUMIF($I$11:$N$20,$I26,K$11:K$20) -> 2 | L26: =SUMIF($I$11:$N$20,$I26,M$11:M$20) -> 2
I27: OF DGTM | J27: =SUMIF($I$11:$N$20,$I27,K$11:K$20) -> 8 | L27: =SUMIF($I$11:$N$20,$I27,M$11:M$20) -> 0
I28: MUNITA JUAN CARLOS | J28: =SUMIF($I$11:$N$20,$I28,K$11:K$20) -> 4 | L28: =SUMIF($I$11:$N$20,$I28,M$11:M$20) -> 4
I29: BUCAREY FRANCIS | J29: =SUMIF($I$11:$N$20,$I29,K$11:K$20) -> 2 | L29: =SUMIF($I$11:$N$20,$I29,M$11:M$20) -> 0
I30: OF DIRSOMAR 1 | J30: =SUMIF($I$11:$N$20,$I30,K$11:K$20) -> 8 | L30: =SUMIF($I$11:$N$20,$I30,M$11:M$20) -> 6
I31: RUIZ T1 LT | J31: =SUMIF($I$11:$N$20,$I31,K$11:K$20) -> 4 | L31: =SUMIF($I$11:$N$20,$I31,M$11:M$20) -> 10
I32: BAROS | J32: =SUMIF($I$11:$N$20,$I32,K$11:K$20) -> 0 | L32: =SUMIF($I$11:$N$20,$I32,M$11:M$20) -> 0
L34: =SUM(J26:L32) -> 50

Sheet METOD INV
A1: Escuela Naval "A. Prat"
A2: Departamento Educación
A3: Unidad de Coordinación Académica
A5: HORAS DE CLASES POR CURSO - PROFESOR
A6: AÑO ACADÉMICO 2024
A7: CÁTEDRA : | D7: METODOLOGÍA DE LA INVESTIGACIÓN
D8: HORAS SEMANALES
A9: CURSO | C9: CÁTEDRA | D9: ASIGNATURAS | E9: 1er SEM. | G9: 2º SEM. | I9: PROFESOR
E10: SIST. | F10: LAB | G10: SIST. | H10: LAB
K11: 0 | L11: 0 | M11: 0 | N11: 0
A12: 4to EJ | B12: A | C12: MET DE LA INVESTIGACIÓN | D12: METODOLOGÍA DE LA INVESTIGACIÓN I | E12: 2 | I12: RÍOS JORGE | J12: NO VA | K12: =E12 -> 2 | L12: =F12 -> 0 | M12: =G12 -> 0 | N12: =H12 -> 0
A13: 4to EJ | B13: B | C13: MET DE LA INVESTIGACIÓN | D13: METODOLOGÍA DE LA INVESTIGACIÓN I | E13: 2 | I13: RÍOS JORGE | J13: NO VA | K13: =E13 -> 2 | L13: =F13 -> 0 | M13: =G13 -> 0 | N13: =H13 -> 0
A14: 4to EJ | B14: C | C14: MET DE LA INVESTIGACIÓN | D14: METODOLOGÍA DE LA INVESTIGACIÓN I | E14: 2 | I14: RÍOS JORGE | J14: NO VA | K14: =E14 -> 2 | L14: =F14 -> 0 | M14: =G14 -> 0 | N14: =H14 -> 0
A15: 4to EJ | B15: D | C15: MET DE LA INVESTIGACIÓN | D15: METODOLOGÍA DE LA INVESTIGACIÓN I | E15: 2 | I15: RÍOS JORGE | J15: NO VA | K15: =E15 -> 2 | L15: =F15 -> 0 | M15: =G15 -> 0 | N15: =H15 -> 0
A16: 4to AB | C16: MET DE LA INVESTIGACIÓN | D16: METODOLOGÍA DE LA INVESTIGACIÓN I | G16: 2 | I16: RÍOS JORGE | J16: NO VA | K16: =E16 -> 0 | L16: =F16 -> 0 | M16: =G16 -> 2 | N16: =H16 -> 0
A17: 4to IM | C17: MET DE LA INVESTIGACIÓN | D17: METODOLOGÍA DE LA INVESTIGACIÓN I | G17: 2 | I17: RÍOS JORGE | J17: NO VA | K17: =E17 -> 0 | L17: =F17 -> 0 | M17: =G17 -> 2 | N17: =H17 -> 0
A18: 4to LT | C18: MET DE LA INVESTIGACIÓN | D18: METODOLOGÍA DE LA INVESTIGACIÓN I | G18: 2 | I18: RAMÍREZ BLANCA | J18: NO VA | K18: =E18 -> 0 | L18: =F18 -> 0 | M18: =G18 -> 2 | N18: =H18 -> 0
D20: CARGA 2024 | E20: =SUM(E12:E18) -> 0 | G20: =SUM(G12:G18) -> 0 | I20: =+E20+G20 -> 0
D21: CARGA 2023 | E21: 8 | G21: 6 | I21: =E21+G21 -> 14
I22: =I20-I21 -> -14
I24: RESUMEN | J24: 1 Sem | L24: 2 Sem
I25: RÍOS JORGE | J25: =SUMIF($I$11:$N$18,$I25,K$11:K$18) -> 0 | L25: =SUMIF($I$11:$N$18,$I25,M$11:M$18) -> 0
I26: RAMÍREZ BLANCA | J26: =SUMIF($I$11:$N$18,$I26,K$11:K$18) -> 0 | L26: =SUMIF($I$11:$N$18,$I26,M$11:M$18) -> 0
J27: =SUMIF($I$11:$N$18,$I27,K$11:K$18) -> 0 | L27: =SUMIF($I$11:$N$18,$I27,M$11:M$18) -> 0

Sheet NAUTICA
A1: Escuela Naval "A. Prat"
A2: Departamento Educación
A3: Unidad de Coordinación Académica
A5: HORAS DE CLASES POR CURSO - PROFESOR
A6: AÑO ACADÉMICO 2026
A7: CÁTEDRA : | D7: NÁUTICA | I7: JC. CA GONZALO MALDONADO
D8: HORAS SEMANALES
A9: CURSO | C9: CÁTEDRA | D9: ASIGNATURAS | E9: 1er SEM. | G9: 2º SEM. | I9: PROFESOR
E10: SIST. | F10: LAB | G10: SIST. | H10: LAB
A11: 1ro | B11: A | C11: NÁUTICA | D11: NÁUTICA .1 | E11: 2 | I11: SEPÚLVEDA RODRIGO | K11: =E11 -> 2 | L11: =F11 -> 0 | M11: =G11 -> 0 | N11: =H11 -> 0
A12: 1ro | B12: A | C12: NÁUTICA | D12: NÁUTICA .2 | G12: 2 | I12: SEPÚLVEDA RODRIGO | K12: =E12 -> 0 | L12: =F12 -> 0 | M12: =G12 -> 2 | N12: =H12 -> 0
A13: 1ro | B13: B | C13: NÁUTICA | D13: NÁUTICA .1 | E13: 2 | I13: SEPÚLVEDA RODRIGO | K13: =E13 -> 2 | L13: =F13 -> 0 | M13: =G13 -> 0 | N13: =H13 -> 0
A14: 1ro | B14: B | C14: NÁUTICA | D14: NÁUTICA .2 | G14: 2 | I14: SEPÚLVEDA RODRIGO | K14: =E14 -> 0 | L14: =F14 -> 0 | M14: =G14 -> 2 | N14: =H14 -> 0
A15: 1ro | B15: C | C15: NÁUTICA | D15: NÁUTICA .1 | E15: 2 | I15: SEPÚLVEDA RODRIGO | K15: =E15 -> 2 | L15: =F15 -> 0 | M15: =G15 -> 0 | N15: =H15 -> 0
A16: 1ro | B16: C | C16: NÁUTICA | D16: NÁUTICA .2 | G16: 2 | I16: SEPÚLVEDA RODRIGO | K16: =E16 -> 0 | L16: =F16 -> 0 | M16: =G16 -> 2 | N16: =H16 -> 0
A17: 1ro | B17: D | C17: NÁUTICA | D17: NÁUTICA .1 | E17: 2 | I17: SEPÚLVEDA RODRIGO | K17: =E17 -> 2 | L17: =F17 -> 0 | M17: =G17 -> 0 | N17: =H17 -> 0
A18: 1ro | B18: D | C18: NÁUTICA | D18: NÁUTICA .2 | G18: 2 | I18: SEPÚLVEDA RODRIGO | K18: =E18 -> 0 | L18: =F18 -> 0 | M18: =G18 -> 2 | N18: =H18 -> 0
A19: 1ro | B19: E | C19: NÁUTICA | D19: NÁUTICA .1 | E19: 2 | I19: SEPÚLVEDA RODRIGO | K19: =E19 -> 2 | L19: =F19 -> 0 | M19: =G19 -> 0 | N19: =H19 -> 0
A20: 1ro | B20: E | C20: NÁUTICA | D20: NÁUTICA .2 | G20: 2 | I20: SEPÚLVEDA RODRIGO | K20: =E20 -> 0 | L20: =F20 -> 0 | M20: =G20 -> 2 | N20: =H20 -> 0
A21: 1ro | B21: H | C21: NÁUTICA | D21: NÁUTICA .1 | E21: 2 | I21: HENRÍQUEZ MILAN PAC | K21: =E21 -> 2 | L21: =F21 -> 0 | M21: =G21 -> 0 | N21: =H21 -> 0
A22: 1ro | B22: H | C22: NÁUTICA | D22: NÁUTICA .2 | G22: 2 | I22: HENRÍQUEZ MILAN PAC | K22: =E22 -> 0 | L22: =F22 -> 0 | M22: =G22 -> 2 | N22: =H22 -> 0
A23: 1ro | B23: K | C23: NÁUTICA | D23: NÁUTICA .1 | E23: 2 | I23: HENRÍQUEZ MILAN PAC | K23: =E23 -> 2 | L23: =F23 -> 0 | M23: =G23 -> 0 | N23: =H23 -> 0
A24: 1ro | B24: K | C24: NÁUTICA | D24: NÁUTICA .2 | G24: 2 | I24: HENRÍQUEZ MILAN PAC | K24: =E24 -> 0 | L24: =F24 -> 0 | M24: =G24 -> 2 | N24: =H24 -> 0
D26: CARGA 2026 | E26: =+SUM(E11:E24) -> 14 | G26: =+SUM(G11:G24) -> 14 | I26: =+G26+E26 -> 28
D27: CARGA 2025 | E27: 14 | G27: 14 | I27: =E27+G27 -> 28
I29: RESUMEN | J29: 1 Sem | L29: 2 Sem
I31: SEPÚLVEDA RODRIGO | J31: =SUMIF($I$11:$N$24,$I31,K$11:K$24) -> 10 | L31: =SUMIF($I$11:$N$24,$I31,M$11:M$24) -> 10
I32: HENRÍQUEZ MILAN PAC | J32: =SUMIF($I$11:$N$24,$I32,K$11:K$24) -> 4 | L32: =SUMIF($I$11:$N$24,$I32,M$11:M$24) -> 4
I33: Curso Nuevo | J33: =SUMIF($I$11:$N$24,$I33,K$11:K$24) -> 0 | L33: =SUMIF($I$11:$N$24,$I33,M$11:M$24) -> 0
L35: =SUM(J31:L33) -> 28

Sheet FOR NAVAL
B1: HORAS DE CLASES POR CURSO - PROFESOR
B2: AÑO ACADÉMICO 2025
B3: CÁTEDRA :
E4: 1er SEM. | G4: 2º SEM.
B5: CURSO | D5: CÁTEDRA | E5: SIST. | F5: LAB | G5: SIST. | H5: LAB | I5: PROFESOR | J5: Unidad Temática
A6: 1 | B6: 4to EJ | C6: B | D6: FORMACIÓN NAVAL | E6: 2 | I6: PAC SO SEPULVEDA | J6: BUCEO | L6: =E6 -> 2 | M6: =F6 -> 0 | N6: =G6 -> 0 | O6: =H6 -> 0
A7: 1 | B7: 4to EJ | C7: C | D7: FORMACIÓN NAVAL | G7: 2 | I7: PAC SO SEPULVEDA | J7: BUCEO | L7: =E7 -> 0 | M7: =F7 -> 0 | N7: =G7 -> 2 | O7: =H7 -> 0
A8: 1 | D8: FORMACIÓN NAVAL | F8: 4 | I8: PAC SO SEPULVEDA | J8: BUCEO | L8: =E8 -> 0 | M8: =F8 -> 4 | N8: =G8 -> 0 | O8: =H8 -> 0
A9: 1 | D9: FORMACIÓN NAVAL | H9: 4 | I9: PAC SO SEPULVEDA | J9: BUCEO | L9: =E9 -> 0 | M9: =F9 -> 0 | N9: =G9 -> 0 | O9: =H9 -> 4
A10: 1 | B10: 2do EJ | C10: B | D10: FORMACIÓN NAVAL | E10: 2 | I10: BELLO DANIEL | J10: TIRO | L10: =E10 -> 2 | M10: =F10 -> 0 | N10: =G10 -> 0 | O10: =H10 -> 0
A11: 1 | B11: 2do EJ | C11: B | D11: FORMACIÓN NAVAL | G11: 2 | I11: BELLO DANIEL | J11: TIRO | L11: =E11 -> 0 | M11: =F11 -> 0 | N11: =G11 -> 2 | O11: =H11 -> 0
A12: 1 | D12: FORMACIÓN NAVAL | F12: 8 | I12: BIERWIRTH | J12: Patrón Deportivo Bahía | L12: =E12 -> 0 | M12: =F12 -> 8 | N12: =G12 -> 0 | O12: =H12 -> 0
A13: 1 | D13: FORMACIÓN NAVAL | H13: 8 | I13: BIERWIRTH | J13: Patrón Deportivo Bahía | L13: =E13 -> 0 | M13: =F13 -> 0 | N13: =G13 -> 0 | O13: =H13 -> 8
A14: 1 | B14: 2do EJ | C14: C | D14: FORMACIÓN NAVAL | E14: 2 | I14: PC F GONZALEZ | J14: METEOROLOGÍA | K14: ASIGNAR OTRO PROFESOR | L14: =E14 -> 2 | M14: =F14 -> 0 | N14: =G14 -> 0 | O14: =H14 -> 0
A15: 2 | B15: 2do EJ | C15: C | D15: FORMACIÓN NAVAL | G15: 2 | I15: PC F GONZALEZ | J15: METEOROLOGÍA | L15: =E15 -> 0 | M15: =F15 -> 0 | N15: =G15 -> 2 | O15: =H15 -> 0
A16: 2 | B16: 4to AB | D16: FORMACIÓN NAVAL | E16: 2 | I16: CAMPOS MANUEL | J16: Defensa personal | L16: =E16 -> 2 | M16: =F16 -> 0 | N16: =G16 -> 0 | O16: =H16 -> 0
A17: 3 | B17: 4to AB | D17: FORMACIÓN NAVAL | G17: 2 | I17: CAMPOS MANUEL | J17: Defensa personal | L17: =E17 -> 0 | M17: =F17 -> 0 | N17: =G17 -> 2 | O17: =H17 -> 0
A18: 3 | B18: 3ro EJ | C18: B | D18: FORMACIÓN NAVAL | E18: 2 | I18: INSTRUCTOR DEF PERS (1) | J18: Defensa personal | L18: =E18 -> 2 | M18: =F18 -> 0 | N18: =G18 -> 0 | O18: =H18 -> 0
A19: 4 | B19: 3ro EJ | C19: B | D19: FORMACIÓN NAVAL | G19: 2 | I19: INSTRUCTOR DEF PERS (1) | J19: Defensa personal | L19: =E19 -> 0 | M19: =F19 -> 0 | N19: =G19 -> 2 | O19: =H19 -> 0
A20: 6 | B20: 3ro AB | D20: FORMACIÓN NAVAL | E20: 2 | I20: OF. ESCUELA | J20: REGLAMENTACION | L20: =E20 -> 2 | M20: =F20 -> 0 | N20: =G20 -> 0 | O20: =H20 -> 0
A21: 6 | B21: 3ro AB | D21: FORMACIÓN NAVAL | G21: 2 | I21: OF. ESCUELA | J21: REGLAMENTACION | L21: =E21 -> 0 | M21: =F21 -> 0 | N21: =G21 -> 2 | O21: =H21 -> 0
A22: 7 | D22: FORMACIÓN NAVAL | E22: 2 | I22: MALDONADO VALDES GONZALO | J22: BUCEO | L22: =E22 -> 2 | M22: =F22 -> 0 | N22: =G22 -> 0 | O22: =H22 -> 0
A23: 7 | D23: FORMACIÓN NAVAL | G23: 2 | I23: MALDONADO VALDES GONZALO | J23: BUCEO | L23: =E23 -> 0 | M23: =F23 -> 0 | N23: =G23 -> 2 | O23: =H23 -> 0
A24: 8 | B24: 2do AB | D24: FORMACIÓN NAVAL | E24: 2 | I24: T1 HERRERA | J24: BUCEO | L24: =E24 -> 2 | M24: =F24 -> 0 | N24: =G24 -> 0 | O24: =H24 -> 0
A25: 8 | B25: 2do AB | D25: FORMACIÓN NAVAL | H25: 2 | I25: T1 HERRERA | J25: BUCEO | L25: =E25 -> 0 | M25: =F25 -> 0 | N25: =G25 -> 0 | O25: =H25 -> 2
A26: 9 | B26: 3ro IM | D26: FORMACIÓN NAVAL | E26: 2 | I26: T1 HERRERA | J26: BUCEO | L26: =E26 -> 2 | M26: =F26 -> 0 | N26: =G26 -> 0 | O26: =H26 -> 0
A27: 9 | B27: 3ro IM | D27: FORMACIÓN NAVAL | H27: 2 | I27: T1 HERRERA | J27: BUCEO | L27: =E27 -> 0 | M27: =F27 -> 0 | N27: =G27 -> 0 | O27: =H27 -> 2
A28: 9 | D28: FORMACIÓN NAVAL | F28: 2 | I28: T1 HERRERA | J28: BUCEO | L28: =E28 -> 0 | M28: =F28 -> 2 | N28: =G28 -> 0 | O28: =H28 -> 0
A29: 9 | D29: FORMACIÓN NAVAL | H29: 2 | I29: T1 HERRERA | J29: BUCEO | L29: =E29 -> 0 | M29: =F29 -> 0 | N29: =G29 -> 0 | O29: =H29 -> 2
A30: 9 | B30: 4to EJ | C30: A | D30: FORMACIÓN NAVAL | E30: 2 | I30: INSTRUCTOR DEF PERS (2) | J30: Defensa personal | L30: =E30 -> 2 | M30: =F30 -> 0 | N30: =G30 -> 0 | O30: =H30 -> 0
A31: 9 | B31: 4to EJ | C31: A | D31: FORMACIÓN NAVAL | G31: 2 | I31: INSTRUCTOR DEF PERS (2) | J31: Defensa personal | L31: =E31 -> 0 | M31: =F31 -> 0 | N31: =G31 -> 2 | O31: =H31 -> 0
D32: FORMACIÓN NAVAL | F32: 2 | I32: PAC SO DONOSO | J32: BUCEO | L32: =E32 -> 0 | M32: =F32 -> 2 | N32: =G32 -> 0 | O32: =H32 -> 0
D33: FORMACIÓN NAVAL | G33: 2 | I33: PAC SO DONOSO | J33: BUCEO | L33: =E33 -> 0 | M33: =F33 -> 0 | N33: =G33 -> 2 | O33: =H33 -> 0
D34: FORMACIÓN NAVAL | F34: 4 | I34: PAC SO DONOSO | J34: BUCEO | L34: =E34 -> 0 | M34: =F34 -> 4 | N34: =G34 -> 0 | O34: =H34 -> 0
D35: FORMACIÓN NAVAL | H35: 4 | I35: PAC SO DONOSO | J35: BUCEO | L35: =E35 -> 0 | M35: =F35 -> 0 | N35: =G35 -> 0 | O35: =H35 -> 4
A36: A | B36: 3ro LT | D36: FORMACIÓN NAVAL | E36: 2 | I36: PÉREZ SO IM | J36: BUCEO | L36: =E36 -> 2 | M36: =F36 -> 0 | N36: =G36 -> 0 | O36: =H36 -> 0
A37: A | B37: 3ro LT | D37: FORMACIÓN NAVAL | G37: 2 | I37: PÉREZ SO IM | J37: BUCEO | L37: =E37 -> 0 | M37: =F37 -> 0 | N37: =G37 -> 2 | O37: =H37 -> 0
D38: FORMACIÓN NAVAL | E38: 2 | I38: ZANELLI VICTOR | J38: LIDERAZGO | L38: =E38 -> 2 | M38: =F38 -> 0 | N38: =G38 -> 0 | O38: =H38 -> 0
D39: FORMACIÓN NAVAL | G39: 2 | I39: OF DIV 4 | J39: LIDERAZGO | L39: =E39 -> 0 | M39: =F39 -> 0 | N39: =G39 -> 2 | O39: =H39 -> 0
D40: FORMACIÓN NAVAL | E40: 2 | I40: ROJAS MARIANO | J40: LIDERAZGO | L40: =E40 -> 2 | M40: =F40 -> 0 | N40: =G40 -> 0 | O40: =H40 -> 0
...

Sheet LENGUAJE
A1: Escuela Naval "A. Prat"
A2: Departamento Educación
A3: Unidad de Coordinación Académica
A5: HORAS DE CLASES POR CURSO - PROFESOR
A6: AÑO ACADÉMICO 2026
A7: CÁTEDRA : | D7: LENGUA CASTELLANA
D8: HORAS SEMANALES
A9: CURSO | C9: CÁTEDRA | D9: ASIGNATURAS | E9: 1er SEM. | G9: 2º SEM. | I9: PROFESOR
E10: SIST. | F10: LAB | G10: SIST. | H10: LAB
A11: 1ro | B11: A | C11: LENGUAJE | D11: ESCRITURA, ORALIDAD Y ARGUMENTACIÓN | E11: 6 | I11: CAMPOS VALESKA | K11: =E11 -> 6
A12: 1ro | B12: A | C12: LENGUAJE | D12: ESCRITURA, ORALIDAD Y ARGUMENTACIÓN | G12: 6 | I12: CAMPOS VALESKA | K12: =E12 -> 0
A13: 1ro | B13: B | C13: LENGUAJE | D13: ESCRITURA, ORALIDAD Y ARGUMENTACIÓN | E13: 6 | I13: ARENTSEN CHRISTIANE | K13: =E13 -> 6
A14: 1ro | B14: B | C14: LENGUAJE | D14: ESCRITURA, ORALIDAD Y ARGUMENTACIÓN | G14: 6 | I14: ARENTSEN CHRISTIANE | K14: =E14 -> 0
A15: 1ro | B15: C | C15: LENGUAJE | D15: ESCRITURA, ORALIDAD Y ARGUMENTACIÓN | E15: 6 | I15: CAMPOS VALESKA | K15: =E15 -> 6
A16: 1ro | B16: C | C16: LENGUAJE | D16: ESCRITURA, ORALIDAD Y ARGUMENTACIÓN | G16: 6 | I16: CAMPOS VALESKA | K16: =E16 -> 0
A17: 1ro | B17: D | C17: LENGUAJE | D17: ESCRITURA, ORALIDAD Y ARGUMENTACIÓN | E17: 6 | I17: ARENTSEN CHRISTIANE | K17: =E17 -> 6
A18: 1ro | B18: D | C18: LENGUAJE | D18: ESCRITURA, ORALIDAD Y ARGUMENTACIÓN | G18: 6 | I18: ARENTSEN CHRISTIANE | K18: =E18 -> 0
A19: 1ro | B19: E | C19: LENGUAJE | D19: ESCRITURA, ORALIDAD Y ARGUMENTACIÓN | E19: 6 | I19: CAMPOS VALESKA | K19: =E19 -> 6
A20: 1ro | B20: E | C20: LENGUAJE | D20: ESCRITURA, ORALIDAD Y ARGUMENTACIÓN | G20: 6 | I20: CAMPOS VALESKA | K20: =E20 -> 0
A21: 1ro | B21: H | C21: LENGUAJE | D21: ESCRITURA, ORALIDAD Y ARGUMENTACIÓN | E21: 6 | I21: ARENTSEN CHRISTIANE | K21: =E21 -> 6
A22: 1ro | B22: H | C22: LENGUAJE | D22: ESCRITURA, ORALIDAD Y ARGUMENTACIÓN | G22: 6 | I22: ARENTSEN CHRISTIANE | K22: =E22 -> 0
A23: 1ro | B23: K | C23: LENGUAJE | D23: ESCRITURA, ORALIDAD Y ARGUMENTACIÓN | E23: 6 | I23: ARENTSEN CHRISTIANE | K23: =E23 -> 6
A24: 1ro | B24: K | C24: LENGUAJE | D24: ESCRITURA, ORALIDAD Y ARGUMENTACIÓN | G24: 6 | I24: CAMPOS VALESKA | K24: =E24 -> 0
A25: 2do EJ | B25: A | C25: LENGUAJE | D25: HABILIDADES LINGÜÍSTICAS | E25: 2 | I25: MIGUEL NUÑEZ | K25: =E25 -> 2
A26: 2do EJ | B26: B | C26: LENGUAJE | D26: HABILIDADES LINGÜÍSTICAS | E26: 2 | I26: MIGUEL NUÑEZ | K26: =E26 -> 2
A27: 2do EJ | B27: C | C27: LENGUAJE | D27: HABILIDADES LINGÜÍSTICAS | E27: 2 | I27: MIGUEL NUÑEZ | K27: =E27 -> 2
A28: 2do EJ | B28: D | C28: LENGUAJE | D28: HABILIDADES LINGÜÍSTICAS | E28: 2 | I28: ARENTSEN CHRISTIANE | K28: =E28 -> 2
A29: 2do IM | C29: LENGUAJE | D29: HABILIDADES LINGÜÍSTICAS | G29: 2 | I29: MIGUEL NUÑEZ | K29: =E29 -> 0
A30: 2do AB | C30: LENGUAJE | D30: HABILIDADES LINGÜÍSTICAS | G30: 2 | I30: MIGUEL NUÑEZ | K30: =E30 -> 0
A31: 2do LT | C31: LENGUAJE | D31: HABILIDADES LINGÜÍSTICAS | G31: 2 | I31: MIGUEL NUÑEZ | K31: =E31 -> 0
A32: 1ro | B32: A | C32: LENGUAJE | D32: ESTRATEGIAS DE APRENDIZAJE | E32: 2 | I32: LUCERO ANDRÉS | K32: =E32 -> 2
A33: 1ro | B33: B | C33: LENGUAJE | D33: ESTRATEGIAS DE APRENDIZAJE | E33: 2 | I33: LUCERO ANDRÉS | K33: =E33 -> 2
A34: 1ro | B34: C | C34: LENGUAJE | D34: ESTRATEGIAS DE APRENDIZAJE | E34: 2 | I34: LUCERO ANDRÉS | K34: =E34 -> 2
A35: 1ro | B35: D | C35: LENGUAJE | D35: ESTRATEGIAS DE APRENDIZAJE | E35: 2 | I35: PUENTES MÓNICA | K35: =E35 -> 2
A36: 1ro | B36: E | C36: LENGUAJE | D36: ESTRATEGIAS DE APRENDIZAJE | E36: 2 | I36: PUENTES MÓNICA | K36: =E36 -> 2
A37: 1ro | B37: H | C37: LENGUAJE | D37: ESTRATEGIAS DE APRENDIZAJE | E37: 2 | I37: PUENTES MÓNICA | K37: =E37 -> 2
A38: 1ro | B38: K | C38: LENGUAJE | D38: ESTRATEGIAS DE APRENDIZAJE | E38: 2 | I38: PUENTES MÓNICA | K38: =E38 -> 2
A39: 4to OM | C39: LENGUAJE | D39: LENGUA CASTELLANA | G39: 6 | I39: ARENTSEN CHRISTIANE
A40: 4to OM | C40: LENGUAJE | D40: LENGUA CASTELLANA | E40: 6 | I40: CAMPOS VALESKA | K40: =E40 -> 6
E43: 1 SEM | G43: 2 SEM
...

Sheet HISTORIA
A1: Escuela Naval "A. Prat"
A2: Departamento Educación
A3: Unidad de Coordinación Académica
A5: HORAS DE CLASES POR CURSO - PROFESOR
A6: AÑO ACADÉMICO 2026
A7: CÁTEDRA : | D7: CIENCIAS SOCIALES
D8: HORAS SEMANALES
A9: CURSO | C9: CÁTEDRA | D9: ASIGNATURAS | E9: 1er SEM. | G9: 2º SEM. | I9: PROFESOR
E10: SIST. | F10: LAB | G10: SIST. | H10: LAB
A11: 1ro | B11: A | C11: HISTORIA | D11: GEOGRAFÍA MARÍTIMA E HISTORIA DE LA CULTURA .1 | E11: 2 | I11: RÍOS JORGE | K11: =E11 -> 2 | L11: =F11 -> 0 | M11: =G11 -> 0 | N11: =H11 -> 0
A12: 1ro | B12: A | C12: HISTORIA | D12: GEOGRAFÍA MARÍTIMA E HISTORIA DE LA CULTURA .1 | G12: 2 | I12: RÍOS JORGE | K12: =E12 -> 0 | L12: =F12 -> 0 | M12: =G12 -> 2 | N12: =H12 -> 0
A13: 1ro | B13: B | C13: HISTORIA | D13: GEOGRAFÍA MARÍTIMA E HISTORIA DE LA CULTURA .1 | E13: 2 | I13: RÍOS JORGE | K13: =E13 -> 2 | L13: =F13 -> 0 | M13: =G13 -> 0 | N13: =H13 -> 0
A14: 1ro | B14: B | C14: HISTORIA | D14: GEOGRAFÍA MARÍTIMA E HISTORIA DE LA CULTURA .1 | G14: 2 | I14: RÍOS JORGE | K14: =E14 -> 0 | L14: =F14 -> 0 | M14: =G14 -> 2 | N14: =H14 -> 0
A15: 1ro | B15: C | C15: HISTORIA | D15: GEOGRAFÍA MARÍTIMA E HISTORIA DE LA CULTURA .1 | E15: 2 | I15: RÍOS JORGE | K15: =E15 -> 2 | L15: =F15 -> 0 | M15: =G15 -> 0 | N15: =H15 -> 0
A16: 1ro | B16: C | C16: HISTORIA | D16: GEOGRAFÍA MARÍTIMA E HISTORIA DE LA CULTURA .2 | G16: 2 | I16: RÍOS JORGE | K16: =E16 -> 0 | L16: =F16 -> 0 | M16: =G16 -> 2 | N16: =H16 -> 0
A17: 1ro | B17: D | C17: HISTORIA | D17: GEOGRAFÍA MARÍTIMA E HISTORIA DE LA CULTURA .1 | E17: 2 | I17: RÍOS JORGE | K17: =E17 -> 2 | L17: =F17 -> 0 | M17: =G17 -> 0 | N17: =H17 -> 0
A18: 1ro | B18: D | C18: HISTORIA | D18: GEOGRAFÍA MARÍTIMA E HISTORIA DE LA CULTURA .2 | G18: 2 | I18: RÍOS JORGE | K18: =E18 -> 0 | L18: =F18 -> 0 | M18: =G18 -> 2 | N18: =H18 -> 0
A19: 1ro | B19: E | C19: HISTORIA | D19: GEOGRAFÍA MARÍTIMA E HISTORIA DE LA CULTURA .1 | E19: 2 | I19: ROMÁN LORENA | K19: =E19 -> 2 | L19: =F19 -> 0 | M19: =G19 -> 0 | N19: =H19 -> 0
A20: 1ro | B20: E | C20: HISTORIA | D20: GEOGRAFÍA MARÍTIMA E HISTORIA DE LA CULTURA .2 | G20: 2 | I20: ROMÁN LORENA | K20: =E20 -> 0 | L20: =F20 -> 0 | M20: =G20 -> 2 | N20: =H20 -> 0
A21: 1ro | B21: H | C21: HISTORIA | D21: GEOGRAFÍA MARÍTIMA E HISTORIA DE LA CULTURA .1 | E21: 2 | I21: ROMÁN LORENA | K21: =E21 -> 2 | L21: =F21 -> 0 | M21: =G21 -> 0 | N21: =H21 -> 0
A22: 1ro | B22: H | C22: HISTORIA | D22: GEOGRAFÍA MARÍTIMA E HISTORIA DE LA CULTURA .2 | G22: 2 | I22: ROMÁN LORENA | K22: =E22 -> 0 | L22: =F22 -> 0 | M22: =G22 -> 2 | N22: =H22 -> 0
A23: 1ro | B23: K | C23: HISTORIA | D23: GEOGRAFÍA MARÍTIMA E HISTORIA DE LA CULTURA .1 | E23: 2 | I23: ROMÁN LORENA | K23: =E23 -> 2 | L23: =F23 -> 0 | M23: =G23 -> 0 | N23: =H23 -> 0
A24: 1ro | B24: K | C24: HISTORIA | D24: GEOGRAFÍA MARÍTIMA E HISTORIA DE LA CULTURA .2 | G24: 2 | I24: ROMÁN LORENA | K24: =E24 -> 0 | L24: =F24 -> 0 | M24: =G24 -> 2 | N24: =H24 -> 0
A25: 2do AB | B25: J | C25: HISTORIA | D25: CHILE: HISTORIA Y SOBERANÍA | E25: 2 | I25: ROMÁN LORENA | K25: =E25 -> 2 | L25: =F25 -> 0 | M25: =G25 -> 0 | N25: =H25 -> 0
A26: 2do AB | B26: J | C26: HISTORIA | D26: CHILE: HISTORIA Y SOBERANÍA | G26: 2 | I26: ROMÁN LORENA | J26: ASIGNATURA CON 4 HRS SOLO EN PRIMER SEMESTRE | K26: =E26 -> 0 | L26: =F26 -> 0 | M26: =G26 -> 2 | N26: =H26 -> 0
A27: 2do IM | B27: I | C27: HISTORIA | D27: CHILE: HISTORIA Y SOBERANÍA | E27: 2 | I27: RÍOS JORGE | K27: =E27 -> 2 | L27: =F27 -> 0 | M27: =G27 -> 0 | N27: =H27 -> 0
A28: 2do IM | B28: I | C28: HISTORIA | D28: CHILE: HISTORIA Y SOBERANÍA | G28: 2 | I28: RÍOS JORGE | K28: =E28 -> 0 | L28: =F28 -> 0 | M28: =G28 -> 2 | N28: =H28 -> 0
A29: 2do LT | C29: HISTORIA | D29: CHILE: HISTORIA Y SOBERANÍA | G29: 4 | I29: RÍOS JORGE | K29: =E29 -> 0 | L29: =F29 -> 0 | M29: =G29 -> 4 | N29: =H29 -> 0
A30: 3ro EJ | B30: A | C30: CIENCIAS SOCIALES | D30: CHILE: HISTORIA Y SOBERANÍA | E30: 2 | I30: RÍOS JORGE | K30: =E30 -> 2 | L30: =F30 -> 0 | M30: =G30 -> 0 | N30: =H30 -> 0
A31: 3ro EJ | B31: A | C31: CIENCIAS SOCIALES | D31: CHILE: HISTORIA Y SOBERANÍA | G31: 2 | I31: RÍOS JORGE | K31: =E31 -> 0 | L31: =F31 -> 0 | M31: =G31 -> 2 | N31: =H31 -> 0
A32: 3ro EJ | B32: B | C32: CIENCIAS SOCIALES | D32: CHILE: HISTORIA Y SOBERANÍA | E32: 2 | I32: RÍOS JORGE | K32: =E32 -> 2 | L32: =F32 -> 0 | M32: =G32 -> 0 | N32: =H32 -> 0
A33: 3ro EJ | B33: B | C33: CIENCIAS SOCIALES | D33: CHILE: HISTORIA Y SOBERANÍA | G33: 2 | I33: RÍOS JORGE | K33: =E33 -> 0 | L33: =F33 -> 0 | M33: =G33 -> 2 | N33: =H33 -> 0
A34: 3ro EJ | B34: C | C34: CIENCIAS SOCIALES | D34: CHILE: HISTORIA Y SOBERANÍA | E34: 2 | I34: ROMÁN LORENA | K34: =E34 -> 2 | L34: =F34 -> 0 | M34: =G34 -> 0 | N34: =H34 -> 0
A35: 3ro EJ | B35: C | C35: CIENCIAS SOCIALES | D35: CHILE: HISTORIA Y SOBERANÍA | G35: 2 | I35: ROMÁN LORENA | K35: =E35 -> 0 | L35: =F35 -> 0 | M35: =G35 -> 2 | N35: =H35 -> 0
A36: 4to EJ | B36: A | C36: CIENCIAS SOCIALES | D36: ANÁLISIS DE LA REALIDAD NACIONAL E INTERNACIONAL | E36: 2 | I36: RAMÍREZ BLANCA | K36: =E36 -> 2 | L36: =F36 -> 0 | M36: =G36 -> 0 | N36: =H36 -> 0
A37: 4to EJ | B37: B | C37: CIENCIAS SOCIALES | D37: ANÁLISIS DE LA REALIDAD NACIONAL E INTERNACIONAL | E37: 2 | I37: RÍOS JORGE | K37: =E37 -> 2 | L37: =F37 -> 0 | M37: =G37 -> 0 | N37: =H37 -> 0
A38: 4to EJ | B38: C | C38: CIENCIAS SOCIALES | D38: ANÁLISIS DE LA REALIDAD NACIONAL E INTERNACIONAL | E38: 2 | I38: ROMÁN LORENA | K38: =E38 -> 2 | L38: =F38 -> 0 | M38: =G38 -> 0 | N38: =H38 -> 0
A39: 4to IM | B39: I | C39: CIENCIAS SOCIALES | D39: CHILE: HISTORIA Y SOBERANÍA | E39: 4 | I39: RAMÍREZ BLANCA | K39: =E39 -> 4 | L39: =F39 -> 0 | M39: =G39 -> 0 | N39: =H39 -> 0
A40: 4to IM | B40: I | C40: CIENCIAS SOCIALES | D40: ANÁLISIS DE LA REALIDAD NACIONAL E INTERNACIONAL | G40: 2 | I40: RAMÍREZ BLANCA | K40: =E40 -> 0 | L40: =F40 -> 0 | M40: =G40 -> 2 | N40: =H40 -> 0
A41: 4to AB | B41: J | C41: CIENCIAS SOCIALES | D41: ANÁLISIS DE LA REALIDAD NACIONAL E INTERNACIONAL | G41: 2 | I41: RÍOS JORGE | K41: =E41 -> 0 | L41: =F41 -> 0 | M41: =G41 -> 2 | N41: =H41 -> 0
...

Sheet HIST NAV 
A1: Escuela Naval "A. Prat"
A2: Departamento Educación
A3: Unidad de Coordinación Académica
A5: HORAS DE CLASES POR CURSO - PROFESOR
A6: AÑO ACADÉMICO 2026
A7: CÁTEDRA : | D7: CIENCIAS SOCIALES
D8: HORAS SEMANALES
A9: CURSO | C9: CÁTEDRA | D9: ASIGNATURAS | E9: 1er SEM. | G9: 2º SEM. | I9: PROFESOR
E10: SIST. | F10: LAB | G10: SIST. | H10: LAB
A11: 3ro Ej | B11: A | C11: HISTORIA | D11: HISTORIA NAVAL APLICADA .1 | E11: 4 | I11: QUIROGA CESAR | K11: =E11 -> 4 | L11: =F11 -> 0 | M11: =G11 -> 0 | N11: =H11 -> 0
A12: 3ro Ej | B12: A | C12: HISTORIA | D12: HISTORIA NAVAL APLICADA .2 | G12: 2 | I12: QUIROGA CESAR | K12: =E12 -> 0 | L12: =F12 -> 0 | M12: =G12 -> 2 | N12: =H12 -> 0
A13: 3ro Ej | B13: B | C13: HISTORIA | D13: HISTORIA NAVAL APLICADA .1 | E13: 4 | I13: QUIROGA CESAR | K13: =E13 -> 4 | L13: =F13 -> 0 | M13: =G13 -> 0 | N13: =H13 -> 0
A14: 3ro Ej | B14: B | C14: HISTORIA | D14: HISTORIA NAVAL APLICADA .2 | G14: 2 | I14: QUIROGA CESAR | K14: =E14 -> 0 | L14: =F14 -> 0 | M14: =G14 -> 2 | N14: =H14 -> 0
A15: 3ro Ej | B15: C | C15: HISTORIA | D15: HISTORIA NAVAL APLICADA .1 | E15: 4 | I15: RAMOS CARLOS | K15: =E15 -> 4 | L15: =F15 -> 0 | M15: =G15 -> 0 | N15: =H15 -> 0
A16: 3ro Ej | B16: C | C16: HISTORIA | D16: HISTORIA NAVAL APLICADA .2 | G16: 2 | I16: RAMOS CARLOS | K16: =E16 -> 0 | L16: =F16 -> 0 | M16: =G16 -> 2 | N16: =H16 -> 0
A17: 3ro IM | C17: HISTORIA | D17: HISTORIA NAVAL APLICADA IM .1 | E17: 2 | I17: RAMOS CARLOS | K17: =E17 -> 2 | L17: =F17 -> 0 | M17: =G17 -> 0 | N17: =H17 -> 0
A18: 3ro IM | C18: HISTORIA | D18: HISTORIA NAVAL APLICADA IM .2 | G18: 4 | I18: RAMOS CARLOS | K18: =E18 -> 0 | L18: =F18 -> 0 | M18: =G18 -> 4 | N18: =H18 -> 0
A19: 3ro AB | C19: HISTORIA | D19: HISTORIA NAVAL APLICADA .1 | E19: 2 | I19: QUIROGA CESAR | K19: =E19 -> 2 | L19: =F19 -> 0 | M19: =G19 -> 0 | N19: =H19 -> 0
A20: 3ro AB | C20: HISTORIA | D20: HISTORIA NAVAL APLICADA .2 | G20: 4 | I20: QUIROGA CESAR | K20: =E20 -> 0 | L20: =F20 -> 0 | M20: =G20 -> 4 | N20: =H20 -> 0
A21: 3ro LT | C21: HISTORIA | D21: HISTORIA NAVAL APLICADA .1 | E21: 4 | I21: QUIROGA CESAR | J21: EN SIGA FIGURAN 2 Y 4 | K21: =E21 -> 4 | L21: =F21 -> 0 | M21: =G21 -> 0 | N21: =H21 -> 0
A22: 3ro LT | C22: HISTORIA | D22: HISTORIA NAVAL APLICADA .2 | G22: 2 | I22: QUIROGA CESAR | K22: =E22 -> 0 | L22: =F22 -> 0 | M22: =G22 -> 2 | N22: =H22 -> 0
A23: 4to OM | C23: HISTORIA | D23: HISTORIA NAVAL APLICADA .2 | E23: 2 | I23: QUIROGA CESAR | K23: =E23 -> 2 | L23: =F23 -> 0 | M23: =G23 -> 0 | N23: =H23 -> 0
D26: RESUMEN | E26: 1° Sem | G26: 2° Sem
D27: QUIROGA CESAR | E27: =SUMIF($I$11:$N$23,$D27,K$11:K$22) -> 16 | G27: =SUMIF($I$11:$N$22,$D27,M$11:M$22) -> 10
D28: RAMOS CARLOS | E28: =SUMIF($I$11:$N$23,$D28,K$11:K$22) -> 6 | G28: =SUMIF($I$11:$N$22,$D28,M$11:M$22) -> 6
E29: =SUM(E27:E28) -> 22 | G29: =SUM(G27:G28) -> 16 | M29: =SUM(E29:L29) -> 38

Sheet DEREC
A1: Escuela Naval "A. Prat"
A2: Departamento Educación
A3: Unidad de Coordinación Académica
A5: HORAS DE CLASES POR CURSO - PROFESOR
A6: AÑO ACADÉMICO 2026
A7: CÁTEDRA : | D7: CIENCIAS SOCIALES
D8: HORAS SEMANALES
A9: CURSO | C9: CÁTEDRA | D9: ASIGNATURAS | E9: 1er SEM. | G9: 2º SEM. | I9: PROFESOR
E10: SIST. | F10: LAB | G10: SIST. | H10: LAB
A11: 4to EJ | B11: A | C11: CIENCIAS SOCIALES | D11: DERECHO | G11: 4 | I11: SILVA DIEGO | K11: =E11 -> 0 | L11: =F11 -> 0 | M11: =G11 -> 4 | N11: =H11 -> 0
A12: 4to EJ | B12: B | C12: CIENCIAS SOCIALES | D12: DERECHO | G12: 4 | I12: SILVA DIEGO | K12: =E12 -> 0 | L12: =F12 -> 0 | M12: =G12 -> 4 | N12: =H12 -> 0
A13: 4to EJ | B13: C | C13: CIENCIAS SOCIALES | D13: DERECHO | G13: 4 | I13: MELLA HERNÁN | K13: =E13 -> 0 | L13: =F13 -> 0 | M13: =G13 -> 4 | N13: =H13 -> 0
A14: 4to IM | B14: I | C14: CIENCIAS SOCIALES | D14: DERECHO | G14: 4 | I14: MELLA HERNÁN | K14: =E14 -> 0 | L14: =F14 -> 0 | M14: =G14 -> 4 | N14: =H14 -> 0
A15: 4to AB | B15: J | C15: CIENCIAS SOCIALES | D15: DERECHO | E15: 4 | I15: MELLA HERNÁN | K15: =E15 -> 4 | L15: =F15 -> 0 | M15: =G15 -> 0 | N15: =H15 -> 0
A16: 4to LT | B16: L | C16: CIENCIAS SOCIALES | D16: DERECHO | E16: 4 | I16: SILVA DIEGO | K16: =E16 -> 4 | L16: =F16 -> 0 | M16: =G16 -> 0 | N16: =H16 -> 0
A17: 3er AB | B17: J | C17: CIENCIAS SOCIALES | D17: DERECHO | E17: 2 | I17: SILVA DIEGO | K17: =E17 -> 2 | L17: =F17 -> 0 | M17: =G17 -> 0 | N17: =H17 -> 0
A18: 3er AB | B18: J | C18: CIENCIAS SOCIALES | D18: DERECHO | G18: 2 | I18: SILVA DIEGO | K18: =E18 -> 0 | L18: =F18 -> 0 | M18: =G18 -> 2 | N18: =H18 -> 0
A19: 4to EJ | B19: A | C19: CIENCIAS SOCIALES | D19: ED CÍVICA | G19: 2 | I19: ROMÁN LORENA | K19: =E19 -> 0 | L19: =F19 -> 0 | M19: =G19 -> 2 | N19: =H19 -> 0
A20: 4to EJ | B20: B | C20: CIENCIAS SOCIALES | D20: ED CÍVICA | G20: 2 | I20: ROMÁN LORENA | K20: =E20 -> 0 | L20: =F20 -> 0 | M20: =G20 -> 2 | N20: =H20 -> 0
A21: 4to EJ | B21: C | C21: CIENCIAS SOCIALES | D21: ED CÍVICA | G21: 2 | I21: ROMÁN LORENA | K21: =E21 -> 0 | L21: =F21 -> 0 | M21: =G21 -> 2 | N21: =H21 -> 0
A22: 4to AB | B22: J | C22: CIENCIAS SOCIALES | D22: ED CÍVICA | G22: 2 | I22: ROMÁN LORENA | J22: NO LA PUEDO ASIGNAR PERO APARECE LIBRE EN SIGA | K22: =E22 -> 0 | L22: =F22 -> 0 | M22: =G22 -> 2 | N22: =H22 -> 0
A23: 4to IM | B23: I | C23: CIENCIAS SOCIALES | D23: ED CÍVICA | G23: 2 | I23: RAMÍREZ BLANCA | K23: =E23 -> 0 | L23: =F23 -> 0 | M23: =G23 -> 2 | N23: =H23 -> 0
A24: 4to LT | B24: L | C24: CIENCIAS SOCIALES | D24: ED CÍVICA | G24: 2 | I24: RAMÍREZ BLANCA | J24: HORAS ASIGNADAS PC RIOS | K24: =E24 -> 0 | L24: =F24 -> 0 | M24: =G24 -> 2 | N24: =H24 -> 0
A25: 4to OM | C25: DERECHO | D25: DERECHO | E25: 4 | I25: MELLA HERNÁN | K25: =E25 -> 4 | L25: =F25 -> 0 | M25: =G25 -> 0 | N25: =H25 -> 0
A26: 4to OM | C26: CIENCIAS SOCIALES | D26: ED CÍVICA | G26: 2 | I26: ROMÁN LORENA | J26: NO LA PUEDO ASIGNAR PERO APARECE LIBRE EN SIGA | K26: =E26 -> 0 | L26: =F26 -> 0 | M26: =G26 -> 2 | N26: =H26 -> 0
D28: RESUMEN | E28: 1° Sem | G28: 2° Sem
D29: CELIS ALEJANDRO | E29: =SUMIF($I$11:$N$25,$D29,K$11:K$25) -> 0 | G29: =SUMIF($I$11:$N$24,$D29,M$11:M$24) -> 0
D30: MELLA HERNÁN | E30: 8 | G30: 8
D31: RAMÍREZ BLANCA | E31: =SUMIF($I$11:$N$24,$D31,K$11:K$24) -> 0 | G31: =SUMIF($I$11:$N$24,$D31,M$11:M$24) -> 4
D32: ROMÁN LORENA | E32: =SUMIF($I$11:$N$24,$D32,K$11:K$24) -> 0 | G32: =SUMIF($I$11:$N$26,$D32,M$11:M$24) -> 10
D33: SILVA DIEGO | E33: =SUMIF($I$11:$N$24,$D33,K$11:K$24) -> 6 | G33: =SUMIF($I$11:$N$24,$D33,M$11:M$24) -> 10
E34: =SUM(E29:E33) -> 14 | G34: =SUM(G29:G33) -> 32

Sheet FILOSOF
A1: Escuela Naval "A. Prat"
A2: Departamento Educación
A3: Unidad de Coordinación Académica
A5: HORAS DE CLASES POR CURSO - PROFESOR
A6: AÑO ACADÉMICO 2023
A7: CÁTEDRA : | D7: FILOSOFÍA, ÉTICA Y MORAL
D8: HORAS SEMANALES
A9: CURSO | C9: CÁTEDRA | D9: ASIGNATURAS | E9: 1er SEM. | G9: 2º SEM. | I9: PROFESOR
E10: SIST. | F10: LAB | G10: SIST. | H10: LAB
A11: 1ro | B11: A | C11: =+$D$7 -> FILOSOFÍA, ÉTICA Y MORAL | D11: FILOSOFÍA, ÉTICA Y MORAL .1 | E11: 4 | I11: MAYNE-NICHOLLS MICHAEL | K11: =E11 -> 4 | L11: =F11 -> 0 | M11: =G11 -> 0 | N11: =H11 -> 0
A12: 1ro | B12: A | C12: =+$D$7 -> FILOSOFÍA, ÉTICA Y MORAL | D12: FILOSOFÍA, ÉTICA Y MORAL .2 | G12: 4 | I12: MAYNE-NICHOLLS MICHAEL | K12: =E12 -> 0 | L12: =F12 -> 0 | M12: =G12 -> 4 | N12: =H12 -> 0
A13: 1ro | B13: B | C13: =+$D$7 -> FILOSOFÍA, ÉTICA Y MORAL | D13: FILOSOFÍA, ÉTICA Y MORAL .1 | E13: 4 | I13: MAYNE-NICHOLLS MICHAEL | K13: =E13 -> 4 | L13: =F13 -> 0 | M13: =G13 -> 0 | N13: =H13 -> 0
A14: 1ro | B14: B | C14: =+$D$7 -> FILOSOFÍA, ÉTICA Y MORAL | D14: FILOSOFÍA, ÉTICA Y MORAL .2 | G14: 4 | I14: MAYNE-NICHOLLS MICHAEL | K14: =E14 -> 0 | L14: =F14 -> 0 | M14: =G14 -> 4 | N14: =H14 -> 0
A15: 1ro | B15: C | C15: =+$D$7 -> FILOSOFÍA, ÉTICA Y MORAL | D15: FILOSOFÍA, ÉTICA Y MORAL .1 | E15: 4 | I15: MAYNE-NICHOLLS MICHAEL | K15: =E15 -> 4 | L15: =F15 -> 0 | M15: =G15 -> 0 | N15: =H15 -> 0
A16: 1ro | B16: C | C16: =+$D$7 -> FILOSOFÍA, ÉTICA Y MORAL | D16: FILOSOFÍA, ÉTICA Y MORAL .2 | G16: 4 | I16: MAYNE-NICHOLLS MICHAEL | K16: =E16 -> 0 | L16: =F16 -> 0 | M16: =G16 -> 4 | N16: =H16 -> 0
A17: 1ro | B17: D | C17: =+$D$7 -> FILOSOFÍA, ÉTICA Y MORAL | D17: FILOSOFÍA, ÉTICA Y MORAL .1 | E17: 4 | I17: MAYNE-NICHOLLS MICHAEL | K17: =E17 -> 4 | L17: =F17 -> 0 | M17: =G17 -> 0 | N17: =H17 -> 0
A18: 1ro | B18: D | C18: =+$D$7 -> FILOSOFÍA, ÉTICA Y MORAL | D18: FILOSOFÍA, ÉTICA Y MORAL .2 | G18: 4 | I18: MAYNE-NICHOLLS MICHAEL | K18: =E18 -> 0 | L18: =F18 -> 0 | M18: =G18 -> 4 | N18: =H18 -> 0
A19: 1ro | B19: E | C19: =+$D$7 -> FILOSOFÍA, ÉTICA Y MORAL | D19: FILOSOFÍA, ÉTICA Y MORAL .1 | E19: 4 | I19: MAYNE-NICHOLLS MICHAEL | K19: =E19 -> 4 | L19: =F19 -> 0 | M19: =G19 -> 0 | N19: =H19 -> 0
A20: 1ro | B20: E | C20: =+$D$7 -> FILOSOFÍA, ÉTICA Y MORAL | D20: FILOSOFÍA, ÉTICA Y MORAL .2 | G20: 4 | I20: MAYNE-NICHOLLS MICHAEL | K20: =E20 -> 0 | L20: =F20 -> 0 | M20: =G20 -> 4 | N20: =H20 -> 0
A21: 1ro | B21: H | C21: =+$D$7 -> FILOSOFÍA, ÉTICA Y MORAL | D21: FILOSOFÍA, ÉTICA Y MORAL .1 | E21: 4 | I21: MAYNE-NICHOLLS MICHAEL | K21: =E21 -> 4 | L21: =F21 -> 0 | M21: =G21 -> 0 | N21: =H21 -> 0
A22: 1ro | B22: H | C22: =+$D$7 -> FILOSOFÍA, ÉTICA Y MORAL | D22: FILOSOFÍA, ÉTICA Y MORAL .2 | G22: 4 | I22: MAYNE-NICHOLLS MICHAEL | K22: =E22 -> 0 | L22: =F22 -> 0 | M22: =G22 -> 4 | N22: =H22 -> 0
A23: 1ro | B23: K | C23: =+$D$7 -> FILOSOFÍA, ÉTICA Y MORAL | D23: FILOSOFÍA, ÉTICA Y MORAL .1 | E23: 4 | I23: MAYNE-NICHOLLS MICHAEL | K23: =E23 -> 4 | L23: =F23 -> 0 | M23: =G23 -> 0 | N23: =H23 -> 0
A24: 1ro | B24: K | C24: =+$D$7 -> FILOSOFÍA, ÉTICA Y MORAL | D24: FILOSOFÍA, ÉTICA Y MORAL .2 | G24: 4 | I24: MAYNE-NICHOLLS MICHAEL | K24: =E24 -> 0 | L24: =F24 -> 0 | M24: =G24 -> 4 | N24: =H24 -> 0
A25: 2do | B25: A | C25: =+$D$7 -> FILOSOFÍA, ÉTICA Y MORAL | D25: FILOSOFÍA, ÉTICA Y MORAL .2 | E25: 2 | I25: MAYNE-NICHOLLS MICHAEL | K25: =E25 -> 2 | L25: =F25 -> 0 | M25: =G25 -> 0 | N25: =H25 -> 0
A26: 2do | B26: B | C26: =+$D$7 -> FILOSOFÍA, ÉTICA Y MORAL | D26: FILOSOFÍA, ÉTICA Y MORAL .1 | E26: 2 | I26: MAYNE-NICHOLLS MICHAEL | K26: =E26 -> 2 | L26: =F26 -> 0 | M26: =G26 -> 0 | N26: =H26 -> 0
A27: 2do | B27: C | C27: =+$D$7 -> FILOSOFÍA, ÉTICA Y MORAL | D27: FILOSOFÍA, ÉTICA Y MORAL .2 | E27: 2 | I27: HUIDOBRO JAVIER | K27: =E27 -> 2 | L27: =F27 -> 0 | M27: =G27 -> 0 | N27: =H27 -> 0
A28: 2do | B28: D | C28: =+$D$7 -> FILOSOFÍA, ÉTICA Y MORAL | D28: FILOSOFÍA, ÉTICA Y MORAL .1 | E28: 2 | I28: HUIDOBRO JAVIER | K28: =E28 -> 2 | L28: =F28 -> 0 | M28: =G28 -> 0 | N28: =H28 -> 0
A29: 2do | B29: I | C29: =+$D$7 -> FILOSOFÍA, ÉTICA Y MORAL | D29: FILOSOFÍA, ÉTICA Y MORAL .2 | G29: 2 | I29: MAYNE-NICHOLLS MICHAEL | K29: =E29 -> 0 | L29: =F29 -> 0 | M29: =G29 -> 2 | N29: =H29 -> 0
A30: 2do | B30: J | C30: =+$D$7 -> FILOSOFÍA, ÉTICA Y MORAL | D30: FILOSOFÍA, ÉTICA Y MORAL .1 | G30: 2 | I30: MAYNE-NICHOLLS MICHAEL | K30: =E30 -> 0 | L30: =F30 -> 0 | M30: =G30 -> 2 | N30: =H30 -> 0
A31: 2do | B31: L | C31: =+$D$7 -> FILOSOFÍA, ÉTICA Y MORAL | D31: FILOSOFÍA, ÉTICA Y MORAL .1 | E31: 2 | I31: VON DER BETH RONALD | K31: =E31 -> 2 | M31: =G31 -> 0
A32: 4to OM | C32: =+$D$7 -> FILOSOFÍA, ÉTICA Y MORAL | D32: FUNDAMENTOS ÉTICOS DEL MANDO | E32: 2 | I32: P. MUÑOZ JAIME | K32: =E32 -> 2 | L32: =F32 -> 0 | M32: =G32 -> 0 | N32: =H32 -> 0
D34: RESUMEN | E34: 1° Sem | G34: 2° Sem
D35: MAYNE-NICHOLLS MICHAEL | E35: =SUMIF($I$11:$N$32,$D35,K$11:K$32) -> 32 | G35: =SUMIF($I$11:$N$32,$D35,M$11:M$32) -> 32
D36: VON DER BETH RONALD | E36: =SUMIF($I$11:$N$32,$D36,K$11:K$32) -> 2 | G36: =SUMIF($I$11:$N$32,$D36,M$11:M$32) -> 0
D37: P. MUÑOZ JAIME | E37: =SUMIF($I$11:$N$32,$D37,K$11:K$32) -> 2 | G37: =SUMIF($I$11:$N$32,$D37,M$11:M$32) -> 0
D38: HUIDOBRO JAVIER | E38: =SUMIF($I$11:$N$32,$D38,K$11:K$32) -> 4 | G38: =SUMIF($I$11:$N$32,$D38,M$11:M$32) -> 0
E40: =SUM(E35:E39) -> 40 | G40: =SUM(G35:G39) -> 32 | L40: =SUM(E40:K40) -> 72

Sheet ETICA
A1: Escuela Naval "A. Prat"
A2: Departamento Educación
A3: Unidad de Coordinación Académica
A5: HORAS DE CLASES POR CURSO - PROFESOR
A6: AÑO ACADÉMICO 2026
A7: CÁTEDRA : | D7: ÉTICA Y PROBUDAD
D8: HORAS SEMANALES
A9: CURSO | C9: CÁTEDRA | D9: ASIGNATURAS | E9: 1er SEM. | G9: 2º SEM. | I9: PROFESOR
E10: SIST. | F10: LAB | G10: SIST. | H10: LAB
A11: 3ro | B11: A | C11: FILOSOFIA, ETICA Y PROBIDAD | D11: ÉTICA Y PROBIDAD | G11: 2 | I11: QUIROGA CESAR | K11: =E11 -> 0 | L11: =F11 -> 0 | M11: =G11 -> 2 | N11: =H11 -> 0
A12: 3ro | B12: B | C12: FILOSOFIA, ETICA Y PROBIDAD | D12: ÉTICA Y PROBIDAD | G12: 2 | I12: QUIROGA CESAR | K12: =E12 -> 0 | L12: =F12 -> 0 | M12: =G12 -> 2 | N12: =H12 -> 0
A13: 3ro | B13: C | C13: FILOSOFIA, ETICA Y PROBIDAD | D13: ÉTICA Y PROBIDAD | G13: 2 | I13: QUIROGA CESAR | K13: =E13 -> 0 | L13: =F13 -> 0 | M13: =G13 -> 2 | N13: =H13 -> 0
A14: 3ro | B14: I | C14: FILOSOFIA, ETICA Y PROBIDAD | D14: ÉTICA Y PROBIDAD | G14: 2 | I14: P. MUÑOZ JAIME | K14: =E14 -> 0 | L14: =F14 -> 0 | M14: =G14 -> 2 | N14: =H14 -> 0
A15: 3ro | B15: J | C15: FILOSOFIA, ETICA Y PROBIDAD | D15: ÉTICA Y PROBIDAD | G15: 2 | I15: P. MUÑOZ JAIME | K15: =E15 -> 0 | L15: =F15 -> 0 | M15: =G15 -> 2 | N15: =H15 -> 0
A16: 3ro | B16: L | C16: FILOSOFIA, ETICA Y PROBIDAD | D16: ÉTICA Y PROBIDAD | G16: 2 | I16: P. MUÑOZ JAIME | K16: =E16 -> 0 | L16: =F16 -> 0 | M16: =G16 -> 2 | N16: =H16 -> 0
D18: RESUMEN | E18: 1° Sem | G18: 2° Sem
D19: QUIROGA CESAR | E19: =SUMIF($I$11:$N$16,$D19,K$11:K$16) -> 0 | G19: =SUMIF($I$11:$N$16,$D19,M$11:M$16) -> 6
D20: P. MUÑOZ JAIME | E20: =SUMIF($I$11:$N$16,$D20,K$11:K$16) -> 0 | G20: =SUMIF($I$11:$N$16,$D20,M$11:M$16) -> 6
G22: =SUM(G19:G21) -> 12

Sheet PSICOL 
A1: Escuela Naval "A. Prat"
A2: Departamento Educación
A3: Unidad de Coordinación Académica
A5: HORAS DE CLASES POR CURSO - PROFESOR
A6: AÑO ACADÉMICO 2023
A7: CÁTEDRA : | D7: PSICOLOGÍA
D8: HORAS SEMANALES
A9: CURSO | C9: CÁTEDRA | D9: ASIGNATURAS | E9: 1er SEM. | G9: 2º SEM. | I9: PROFESOR
E10: SIST. | F10: LAB | G10: SIST. | H10: LAB
