Workbook
Name Representantes: =OFFSET(LISTADO!$A$1,0,0,COUNTA(LISTADO!$A:$A),1)

Sheet INSTRUCCIONES
A1: USO DEL ARCHIVO AUTOMATIZADO
A2: 1. Ingrese nuevas invitaciones en la primera fila vacia de la tabla MAYO.
A3: 2. Use la columna FECHA ACTIVIDAD para registrar la fecha real de la actividad.
A4: 3. En ALTO MANDO / REPRESENTA seleccione desde la lista desplegable.
A5: 4. Si el representante no existe en la lista, escribalo en la columna OTRO.
A6: 5. Agregue nuevos representantes en LISTADO, columna A.
A7: 6. CONTROL, CALENDARIO e HISTORIAL se actualizan al abrir/recalcular el archivo en Excel.

Sheet CONTROL
A1: CONTROL GENERAL AUTOMATICO - MAYO
A2: Indicador | B2: Formula / Resultado | C2: Observacion
A3: Total actividades | B3: =COUNTA(MAYO!$B$3:$B$1000) | C3: Registros con detalle
A4: Pendientes | B4: =COUNTIF(MAYO!$O$3:$O$1000,"PENDIENTE") | C4: Control actual pendiente
A5: Cerradas | B5: =COUNTIF(MAYO!$O$3:$O$1000,"CERRADA") | C5: Control actual cerrado
A6: Vencidas | B6: =COUNTIF(MAYO!$R$3:$R$1000,"VENCIDO") | C6: Fecha actividad vencida
A7: Proximas 15 dias | B7: =COUNTIF(MAYO!$R$3:$R$1000,"PROXIMO") | C7: Dentro de 15 dias
A8: Futuras | B8: =COUNTIF(MAYO!$R$3:$R$1000,"FUTURO") | C8: Mas de 15 dias
A9: Con representante | B9: =COUNTIF(MAYO!$J$3:$J$1000,"<>") | C9: Alto mando / representa
A10: Con otro manual | B10: =COUNTIF(MAYO!$K$3:$K$1000,"<>") | C10: Representante escrito manualmente

Sheet CALENDARIO
A1: FECHA ACTIVIDAD | B1: DETALLE | C1: PAIS/IDENTIDAD | D1: REPRESENTA | E1: OTRO | F1: ESTADO FECHA | G1: DIAS | I1: Vista automatica. Si Excel no muestra la formula dinamica, usar filtro en MAYO por Fecha Actividad.
A2: =SORT(FILTER(MAYO!H3:N1000,MAYO!B3:B1000<>""),1,1)

Sheet HISTORIAL_REPRESENTACIONES
A1: REPRESENTANTE | B1: CANTIDAD | C1: OBSERVACION
A2: =IF(LISTADO!A1="","",LISTADO!A1) | B2: =IF(A2="","",COUNTIF(MAYO!$J$3:$J$1000,A2)+COUNTIF(MAYO!$K$3:$K$1000,A2)) | C2: Cuenta ALTO MANDO / REPRESENTA y OTRO
A3: =IF(LISTADO!A2="","",LISTADO!A2) | B3: =IF(A3="","",COUNTIF(MAYO!$J$3:$J$1000,A3)+COUNTIF(MAYO!$K$3:$K$1000,A3)) | C3: Cuenta ALTO MANDO / REPRESENTA y OTRO
A4: =IF(LISTADO!A3="","",LISTADO!A3) | B4: =IF(A4="","",COUNTIF(MAYO!$J$3:$J$1000,A4)+COUNTIF(MAYO!$K$3:$K$1000,A4)) | C4: Cuenta ALTO MANDO / REPRESENTA y OTRO
A5: =IF(LISTADO!A4="","",LISTADO!A4) | B5: =IF(A5="","",COUNTIF(MAYO!$J$3:$J$1000,A5)+COUNTIF(MAYO!$K$3:$K$1000,A5)) | C5: Cuenta ALTO MANDO / REPRESENTA y OTRO
A6: =IF(LISTADO!A5="","",LISTADO!A5) | B6: =IF(A6="","",COUNTIF(MAYO!$J$3:$J$1000,A6)+COUNTIF(MAYO!$K$3:$K$1000,A6)) | C6: Cuenta ALTO MANDO / REPRESENTA y OTRO
A7: =IF(LISTADO!A6="","",LISTADO!A6) | B7: =IF(A7="","",COUNTIF(MAYO!$J$3:$J$1000,A7)+COUNTIF(MAYO!$K$3:$K$1000,A7)) | C7: Cuenta ALTO MANDO / REPRESENTA y OTRO
A8: =IF(LISTADO!A7="","",LISTADO!A7) | B8: =IF(A8="","",COUNTIF(MAYO!$J$3:$J$1000,A8)+COUNTIF(MAYO!$K$3:$K$1000,A8)) | C8: Cuenta ALTO MANDO / REPRESENTA y OTRO
A9: =IF(LISTADO!A8="","",LISTADO!A8) | B9: =IF(A9="","",COUNTIF(MAYO!$J$3:$J$1000,A9)+COUNTIF(MAYO!$K$3:$K$1000,A9)) | C9: Cuenta ALTO MANDO / REPRESENTA y OTRO
A10: =IF(LISTADO!A9="","",LISTADO!A9) | B10: =IF(A10="","",COUNTIF(MAYO!$J$3:$J$1000,A10)+COUNTIF(MAYO!$K$3:$K$1000,A10)) | C10: Cuenta ALTO MANDO / REPRESENTA y OTRO
A11: =IF(LISTADO!A10="","",LISTADO!A10) | B11: =IF(A11="","",COUNTIF(MAYO!$J$3:$J$1000,A11)+COUNTIF(MAYO!$K$3:$K$1000,A11)) | C11: Cuenta ALTO MANDO / REPRESENTA y OTRO
A12: =IF(LISTADO!A11="","",LISTADO!A11) | B12: =IF(A12="","",COUNTIF(MAYO!$J$3:$J$1000,A12)+COUNTIF(MAYO!$K$3:$K$1000,A12)) | C12: Cuenta ALTO MANDO / REPRESENTA y OTRO
A13: =IF(LISTADO!A12="","",LISTADO!A12) | B13: =IF(A13="","",COUNTIF(MAYO!$J$3:$J$1000,A13)+COUNTIF(MAYO!$K$3:$K$1000,A13)) | C13: Cuenta ALTO MANDO / REPRESENTA y OTRO
... A200: =IF(LISTADO!A199="","",LISTADO!A199) | B200: =IF(A200="","",COUNTIF(MAYO!$J$3:$J$1000,A200)+COUNTIF(MAYO!$K$3:$K$1000,A200)) | C200: Cuenta ALTO MANDO / REPRESENTA y OTRO

Sheet LISTADO
A1: Almirante | C1: INSTRUCCION
A2: Jefmayor | C2: Agregar nuevos representantes bajo la columna A. La lista desplegable de MAYO se actualiza al abrir Excel.
A3: Direcpers
A4: Direcserv
A5: DIRECTEMAR
A6: Subjemco
A7: Comoper
A8: Auditgen
A9: Submayor
A10: ASMAR
A11: Druarm
A12: Escuadra
A13: Dirinta
A14: Prizona
... A34: Direcabas

Sheet MAYO
E1: CONTROL RX | J1: REPRESENTA | L1: CONTROL TX
A2: N° | B2: DETALLE | C2: PAIS/IDENTIDAD | D2: RESPONSABLE | E2: KARDEX | F2: INGRESO X | G2: FECHA | H2: FECHA ACTIVIDAD | I2: NOTA CJA | J2: ALTO MANDO / REPRESENTA | K2: OTRO | L2: EGRESO X | M2: FECHA | N2: CONTROL ACTUAL | O2: ESTADO | P2: NOTA | Q2: ANTECEDENTES | R2: ESTADO FECHA | S2: DIAS | T2: LISTA REPRESENTANTES | U2: OBSERVACION
A3: =IF($B3="","",SUBTOTAL(103,$B$3:B3)) | B3: Almuerzo Clásico Sporting | C3: Ítalo | D3: OPA | E3: Mayo-014 | F3: EMAIL | G3: 46126 | H3: 46148 | I3: Ingresada No Asiste | J3: Almirante | L3: EMAIL | M3: 46141 | N3: OPA | O3: Cerrada | R3: =IF($H3="","",IF($H3<TODAY(),"VENCIDO",IF($H3<=TODAY()+15,"PROXIMO","FUTURO"))) | S3: =IF($H3="","",$H3-TODAY()) | T3: =IF(LISTADO!$A1="","",LISTADO!$A1) | U3: Usar ALTO MANDO / REPRESENTA para seleccionar desde la lista. Si no existe, escribir manualmente en OTRO.
A4: =IF($B4="","",SUBTOTAL(103,$B$3:B4)) | B4: Clásico Armada de Chile | C4: Club Hípico | D4: OPA | E4: Mayo-001 | F4: EMAIL | G4: 46087 | H4: 46150 | I4: Voluntario Alto Mando | J4: Almirante | L4: EMAIL | M4: 46147 | N4: OPA | O4: Cerrada | R4: =IF($H4="","",IF($H4<TODAY(),"VENCIDO",IF($H4<=TODAY()+15,"PROXIMO","FUTURO"))) | S4: =IF($H4="","",$H4-TODAY()) | T4: =IF(LISTADO!$A2="","",LISTADO!$A2)
A5: =IF($B5="","",SUBTOTAL(103,$B$3:B5)) | B5: Regata Glorias Navales | C5: Presidente | D5: OPA | E5: Mayo-015 | F5: EMAIL | G5: 46126 | H5: 46151 | I5: DIRECTEMAR | J5: Almirante | L5: EMAIL | M5: 46129 | N5: OPA | O5: Cerrada | P5: Responder | R5: =IF($H5="","",IF($H5<TODAY(),"VENCIDO",IF($H5<=TODAY()+15,"PROXIMO","FUTURO"))) | S5: =IF($H5="","",$H5-TODAY()) | T5: =IF(LISTADO!$A3="","",LISTADO!$A3)
A6: =IF($B6="","",SUBTOTAL(103,$B$3:B6)) | B6: Homenaje Asofar | C6: Asofar | D6: OPA | E6: Mayo-026 | F6: EMAIL | G6: 46142 | H6: 46153 | I6: DIRISNAV | J6: Almirante | L6: EMAIL | M6: 46149 | N6: OPA | O6: Cerrada | R6: =IF($H6="","",IF($H6<TODAY(),"VENCIDO",IF($H6<=TODAY()+15,"PROXIMO","FUTURO"))) | S6: =IF($H6="","",$H6-TODAY()) | T6: =IF(LISTADO!$A4="","",LISTADO!$A4)
A7: =IF($B7="","",SUBTOTAL(103,$B$3:B7)) | B7: Reunion Rotary Quilpué | C7: Presidente | D7: OPA | E7: Mayo-018 | F7: EMAIL | G7: 46133 | H7: 46155 | I7: De Acuerdo a Cronograma | J7: Almirante | L7: EMAIL | M7: 46149 | N7: OPA | O7: Cerrada | R7: =IF($H7="","",IF($H7<TODAY(),"VENCIDO",IF($H7<=TODAY()+15,"PROXIMO","FUTURO"))) | S7: =IF($H7="","",$H7-TODAY()) | T7: =IF(LISTADO!$A5="","",LISTADO!$A5)
A8: =IF($B8="","",SUBTOTAL(103,$B$3:B8)) | B8: Homenaje Rotary | C8: Rodrigo Tagle | D8: OPA | E8: Mayo-013 | F8: EMAIL | G8: 46856 | H8: 46155 | J8: Almirante | N8: OPA | O8: Cerrada | P8: Responder | Q8: Actividad para Un Capítan de Fragata | R8: =IF($H8="","",IF($H8<TODAY(),"VENCIDO",IF($H8<=TODAY()+15,"PROXIMO","FUTURO"))) | S8: =IF($H8="","",$H8-TODAY()) | T8: =IF(LISTADO!$A6="","",LISTADO!$A6)
A9: =IF($B9="","",SUBTOTAL(103,$B$3:B9)) | B9: Desfile en Homenaje a las Glorias Navales | C9: Alcaldesa de Lo Barnechea | D9: OPA | E9: Mayo-006 | F9: EMAIL | G9: 46078 | H9: 46155.417 | I9: No Asiste | J9: Almirante | L9: EMAIL | M9: 46149 | N9: OPA | O9: Cerrada | R9: =IF($H9="","",IF($H9<TODAY(),"VENCIDO",IF($H9<=TODAY()+15,"PROXIMO","FUTURO"))) | S9: =IF($H9="","",$H9-TODAY()) | T9: =IF(LISTADO!$A7="","",LISTADO!$A7)
A10: =IF($B10="","",SUBTOTAL(103,$B$3:B10)) | B10: Desile en Homenaje a las Glorias Navales | C10: Alcaldesa de las Condes | D10: OPA | E10: Mayo-005 | F10: EMAIL | G10: 46078 | H10: 46155.521 | J10: Almirante | L10: EMAIL | M10: 46149 | N10: OPA | O10: Cerrada | P10: Cambio de Fecha | R10: =IF($H10="","",IF($H10<TODAY(),"VENCIDO",IF($H10<=TODAY()+15,"PROXIMO","FUTURO"))) | S10: =IF($H10="","",$H10-TODAY()) | T10: =IF(LISTADO!$A8="","",LISTADO!$A8)
A11: =IF($B11="","",SUBTOTAL(103,$B$3:B11)) | B11: Ceremonia Homenaje Mesmar Providencia | C11: Alcalde Providencia | D11: OPA | E11: Mayo-012 Secrt.adm. | F11: Prizona | G11: 46119 | H11: 46156 | J11: Almirante | L11: EMAIL | M11: 46149 | N11: Secret.adm. | O11: Cerrada | R11: =IF($H11="","",IF($H11<TODAY(),"VENCIDO",IF($H11<=TODAY()+15,"PROXIMO","FUTURO"))) | S11: =IF($H11="","",$H11-TODAY()) | T11: =IF(LISTADO!$A9="","",LISTADO!$A9)
A12: =IF($B12="","",SUBTOTAL(103,$B$3:B12)) | B12: Almuerzo Banco Estado | C12: Banco Etado | D12: OPA | E12: Mayo-019 | F12: EMAIL | G12: 46134 | H12: 46156 | I12: De Acuerdo a Cronograma | J12: Almirante | L12: EMAIL | M12: 46149 | N12: OPA | O12: Cerrada | R12: =IF($H12="","",IF($H12<TODAY(),"VENCIDO",IF($H12<=TODAY()+15,"PROXIMO","FUTURO"))) | S12: =IF($H12="","",$H12-TODAY()) | T12: =IF(LISTADO!$A10="","",LISTADO!$A10)
A13: =IF($B13="","",SUBTOTAL(103,$B$3:B13)) | B13: Desfile de Vitacura y Distincion Vecino Ilustre | C13: Alcalde | D13: OPA | E13: Mayo-008 | F13: EMAIL | G13: 46101 | H13: 46156 | J13: Almirante | N13: OPA | O13: Cerrada | P13: Conocimiento CJA | R13: =IF($H13="","",IF($H13<TODAY(),"VENCIDO",IF($H13<=TODAY()+15,"PROXIMO","FUTURO"))) | S13: =IF($H13="","",$H13-TODAY()) | T13: =IF(LISTADO!$A11="","",LISTADO!$A11)
A14: =IF($B14="","",SUBTOTAL(103,$B$3:B14)) | B14: Desfile en Homenaje a las Glorias Navales | C14: Alcaldesa de Vitacura | D14: OPA | E14: Mayo-004 | F14: EMAIL | G14: 38657 | H14: 46156.458 | J14: Almirante | L14: EMAIL | M14: 46154 | N14: OPA | O14: Cerrada | P14: Cambio de Fecha | R14: =IF($H14="","",IF($H14<TODAY(),"VENCIDO",IF($H14<=TODAY()+15,"PROXIMO","FUTURO"))) | S14: =IF($H14="","",$H14-TODAY()) | T14: =IF(LISTADO!$A12="","",LISTADO!$A12)
A15: =IF($B15="","",SUBTOTAL(103,$B$3:B15)) | B15: Homenaje del Club la Union de Santiago | C15: Presidente | D15: OPA | E15: Mayo-009 | F15: EMAIL | G15: 46106 | H15: 46157.542 | I15: Agendado | J15: Almirante | L15: EMAIL | M15: 46140 | N15: OPA | O15: Cerrada | R15: =IF($H15="","",IF($H15<TODAY(),"VENCIDO",IF($H15<=TODAY()+15,"PROXIMO","FUTURO"))) | S15: =IF($H15="","",$H15-TODAY()) | T15: =IF(LISTADO!$A13="","",LISTADO!$A13)
A16: =IF($B16="","",SUBTOTAL(103,$B$3:B16)) | B16: Homenaje Hermandad Hermanda de la Costa | C16: Hermandad de la Costa | D16: OPA | E16: Mayo-032 | F16: EMAIL | H16: 46158 | I16: DIRECTEMAR | J16: Almirante | L16: EMAIL | M16: 46154 | N16: OPA | O16: Cerrada | Q16: Verificar | R16: =IF($H16="","",IF($H16<TODAY(),"VENCIDO",IF($H16<=TODAY()+15,"PROXIMO","FUTURO"))) | S16: =IF($H16="","",$H16-TODAY()) | T16: =IF(LISTADO!$A14="","",LISTADO!$A14)
A17: =IF($B17="","",SUBTOTAL(103,$B$3:B17)) | B17: Homenaje Banco Bci | C17: Bci | D17: OPA | E17: Mayo | F17: EMAIL | H17: 46160 | J17: Almirante | L17: EMAIL | M17: 46140 | N17: OPA | O17: Cerrada | R17: =IF($H17="","",IF($H17<TODAY(),"VENCIDO",IF($H17<=TODAY()+15,"PROXIMO","FUTURO"))) | S17: =IF($H17="","",$H17-TODAY()) | T17: =IF(LISTADO!$A15="","",LISTADO!$A15)
A18: =IF($B18="","",SUBTOTAL(103,$B$3:B18)) | B18: Homenaje Ex Estudiantes Escuela de Teatro Arte Usach | C18: Usach | D18: OPA | E18: Mayo-030 | F18: EMAIL | G18: 46147 | H18: 46161 | I18: Subdea | J18: Almirante | L18: EMAIL | M18: 46154 | N18: OPA | O18: Cerrada | R18: =IF($H18="","",IF($H18<TODAY(),"VENCIDO",IF($H18<=TODAY()+15,"PROXIMO","FUTURO"))) | S18: =IF($H18="","",$H18-TODAY()) | T18: =IF(LISTADO!$A16="","",LISTADO!$A16)
A19: =IF($B19="","",SUBTOTAL(103,$B$3:B19)) | B19: Desfile y Posterior Coctel Couna la Curz | C19: Comuna la Cruz | D19: OPA | E19: Mayo-028 | F19: EMAIL | G19: 46142 | H19: 46162 | I19: T1 Ferreti | J19: Almirante | N19: Collao Conguarnavalp | O19: Cerrada | R19: =IF($H19="","",IF($H19<TODAY(),"VENCIDO",IF($H19<=TODAY()+15,"PROXIMO","FUTURO"))) | S19: =IF($H19="","",$H19-TODAY()) | T19: =IF(LISTADO!$A17="","",LISTADO!$A17)
A20: =IF($B20="","",SUBTOTAL(103,$B$3:B20)) | B20: Colocacion D Eplaca Inaguracion | C20: Francia | D20: OPA | E20: Mayo-035 | F20: EMAIL | G20: 46156 | H20: 46162 | I20: Comoper Direcabas | J20: Almirante | L20: EMAIL | M20: 46156 | N20: OPA | O20: Cerrada | R20: =IF($H20="","",IF($H20<TODAY(),"VENCIDO",IF($H20<=TODAY()+15,"PROXIMO","FUTURO"))) | S20: =IF($H20="","",$H20-TODAY()) | T20: =IF(LISTADO!$A18="","",LISTADO!$A18)
A21: =IF($B21="","",SUBTOTAL(103,$B$3:B21)) | B21: Cena con Comandante en Jefe de Argentina | C21: Argentina | D21: OPA | E21: En Agenda | F21: Agenda | H21: 46162.833 | I21: Agendado | J21: Almirante | O21: Cerrada | P21: Verificar Requerimiento a Ayudor - Protocolo | R21: =IF($H21="","",IF($H21<TODAY(),"VENCIDO",IF($H21<=TODAY()+15,"PROXIMO","FUTURO"))) | S21: =IF($H21="","",$H21-TODAY()) | T21: =IF(LISTADO!$A19="","",LISTADO!$A19)
A22: =IF($B22="","",SUBTOTAL(103,$B$3:B22)) | B22: Bogatun Santiago | C22: Presidente | D22: OPA | E22: Mayo-022 | F22: Carta | G22: 46135 | H22: 46163 | I22: Subjemco Venia Jemco | J22: Almirante | L22: EMAIL | M22: 46154 | N22: Collao | O22: Cerrada | R22: =IF($H22="","",IF($H22<TODAY(),"VENCIDO",IF($H22<=TODAY()+15,"PROXIMO","FUTURO"))) | S22: =IF($H22="","",$H22-TODAY()) | T22: =IF(LISTADO!$A20="","",LISTADO!$A20)
A23: =IF($B23="","",SUBTOTAL(103,$B$3:B23)) | B23: Homenaje Caleuche | C23: Caleuche | D23: OPA | E23: Mayo-037 | F23: EMAIL | G23: 46161 | H23: 46163 | J23: Almirante | N23: Secertalm | O23: Cerrada | R23: =IF($H23="","",IF($H23<TODAY(),"VENCIDO",IF($H23<=TODAY()+15,"PROXIMO","FUTURO"))) | S23: =IF($H23="","",$H23-TODAY()) | T23: =IF(LISTADO!$A21="","",LISTADO!$A21)
A24: =IF($B24="","",SUBTOTAL(103,$B$3:B24)) | B24: Presidir la Recepcionb Homanej Glorias Navales | C24: Prizona | D24: OPA | E24: Mayo-025 | F24: Emaiil | G24: 46140 | H24: 46164 | I24: En Agenda | J24: Almirante | L24: EMAIL | M24: 46147 | N24: OPA | O24: Cerrada | R24: =IF($H24="","",IF($H24<TODAY(),"VENCIDO",IF($H24<=TODAY()+15,"PROXIMO","FUTURO"))) | S24: =IF($H24="","",$H24-TODAY()) | T24: =IF(LISTADO!$A22="","",LISTADO!$A22)
A25: =IF($B25="","",SUBTOTAL(103,$B$3:B25)) | B25: Presidir Torne Senior Glorias Navales 2026 | C25: Oldnavy | D25: OPA | E25: Mayo-033 | F25: EMAIL | G25: 46153 | H25: 46165 | I25: Prizona | J25: Almirante | N25: OPA | O25: Cerrada | R25: =IF($H25="","",IF($H25<TODAY(),"VENCIDO",IF($H25<=TODAY()+15,"PROXIMO","FUTURO"))) | S25: =IF($H25="","",$H25-TODAY()) | T25: =IF(LISTADO!$A23="","",LISTADO!$A23)
A26: =IF($B26="","",SUBTOTAL(103,$B$3:B26)) | B26: Serv. de Accion de Gracias Maipu | C26: Maipu | D26: OPA | E26: Mayo-029 | F26: EMAIL | G26: 46142 | H26: 46166 | I26: Estanavmet | J26: Almirante | L26: EMAIL | M26: 46154 | N26: OPA | O26: Cerrada | R26: =IF($H26="","",IF($H26<TODAY(),"VENCIDO",IF($H26<=TODAY()+15,"PROXIMO","FUTURO"))) | S26: =IF($H26="","",$H26-TODAY()) | T26: =IF(LISTADO!$A24="","",LISTADO!$A24)
A27: =IF($B27="","",SUBTOTAL(103,$B$3:B27)) | B27: Realizacion de la Tradicional y Solemne Oficio Religioso Evangelico en Conmemoracion de las Glorias Navales | C27: Capellan Nacional Evangelico | D27: OPA | E27: Mayo-002 | F27: EMAIL | G27: 46097 | H27: 46167.646 | I27: Por. Confirmar Comoper Escuadr Marinfa Dirinta | J27: Almirante | L27: EMAIL | M27: 46134 | N27: OPA | O27: Cerrada | P27: Pendiente Asistencia CJA | R27: =IF($H27="","",IF($H27<TODAY(),"VENCIDO",IF($H27<=TODAY()+15,"PROXIMO","FUTURO"))) | S27: =IF($H27="","",$H27-TODAY()) | T27: =IF(LISTADO!$A25="","",LISTADO!$A25)
A28: =IF($B28="","",SUBTOTAL(103,$B$3:B28)) | B28: Homenaje Cupero de Lamirantes y Generales en Retiro | C28: Sarabia | D28: OPA | E28: Mayo-024 | F28: EMAIL | G28: 46140 | H28: 46168 | I28: En Agenda | J28: Almirante | L28: EMAIL | M28: 46147 | N28: OPA | O28: Cerrada | R28: =IF($H28="","",IF($H28<TODAY(),"VENCIDO",IF($H28<=TODAY()+15,"PROXIMO","FUTURO"))) | S28: =IF($H28="","",$H28-TODAY()) | T28: =IF(LISTADO!$A26="","",LISTADO!$A26)
A29: =IF($B29="","",SUBTOTAL(103,$B$3:B29)) | B29: Banco Santander | C29: Santander | D29: OPA | E29: Mayo-032 | F29: EMAIL | G29: 46153 | H29: 46168 | I29: CJA Comoper Contralor Direcfin Secretgen DIRISNAV Submayor | J29: Almirante | N29: Secretalm | O29: Cerrada | Q29: Agregar | R29: =IF($H29="","",IF($H29<TODAY(),"VENCIDO",IF($H29<=TODAY()+15,"PROXIMO","FUTURO"))) | S29: =IF($H29="","",$H29-TODAY()) | T29: =IF(LISTADO!$A27="","",LISTADO!$A27)
A30: =IF($B30="","",SUBTOTAL(103,$B$3:B30)) | B30: Sunset Corida Mes del Mar | C30: Apolinav | D30: OPA | E30: Mayo-034 | F30: EMAIL | G30: 46153 | H30: 46169 | I30: Auditgen Contralor Direcsan | J30: Almirante | L30: EMAIL | M30: 46161 | N30: OPA | O30: Cerrada | R30: =IF($H30="","",IF($H30<TODAY(),"VENCIDO",IF($H30<=TODAY()+15,"PROXIMO","FUTURO"))) | S30: =IF($H30="","",$H30-TODAY()) | T30: =IF(LISTADO!$A28="","",LISTADO!$A28)
A31: =IF($B31="","",SUBTOTAL(103,$B$3:B31)) | B31: Homenaje del Circulo de Oficiales en Retiro de las Ffa | C31: Brigadier de Ejercito | D31: OPA | E31: Mayo-039 | F31: EMAIL | G31: 46167 | H31: 46169 | I31: Comavnav | J31: Almirante | L31: EMAIL | M31: 46168 | N31: OPA | O31: Cerrada | R31: =IF($H31="","",IF($H31<TODAY(),"VENCIDO",IF($H31<=TODAY()+15,"PROXIMO","FUTURO"))) | S31: =IF($H31="","",$H31-TODAY()) | T31: =IF(LISTADO!$A29="","",LISTADO!$A29)
A32: =IF($B32="","",SUBTOTAL(103,$B$3:B32)) | B32: Clásico Armada de Chile | C32: Hipodromo de Santiago | D32: OPA | E32: Mayo-011 | F32: EMAIL | G32: 46114 | H32: 46170 | I32: Representante 1va 1ca a Cn | J32: Almirante | L32: EMAIL | M32: 46181 | N32: OPA | O32: Cerrada | R32: =IF($H32="","",IF($H32<TODAY(),"VENCIDO",IF($H32<=TODAY()+15,"PROXIMO","FUTURO"))) | S32: =IF($H32="","",$H32-TODAY()) | T32: =IF(LISTADO!$A30="","",LISTADO!$A30)
A33: =IF($B33="","",SUBTOTAL(103,$B$3:B33)) | B33: Homenaje Glorias Navales Liga Maritima | C33: Presidente | D33: OPA | E33: Mayo-010 | F33: EMAIL | G33: 46114 | H33: 46170 | I33: Agendado | J33: Almirante | L33: EMAIL | M33: 46120 | N33: OPA | O33: Cerrada | R33: =IF($H33="","",IF($H33<TODAY(),"VENCIDO",IF($H33<=TODAY()+15,"PROXIMO","FUTURO"))) | S33: =IF($H33="","",$H33-TODAY()) | T33: =IF(LISTADO!$A31="","",LISTADO!$A31)
A34: =IF($B34="","",SUBTOTAL(103,$B$3:B34)) | B34: Almuerzo Homenaje Rotar Club San Bernardo | C34: Presidenta | D34: OPA | E34: Mayo-017 | F34: EMAIL | G34: 46132 | H34: 46170 | I34: Dinsomar | J34: Almirante | N34: Collao | O34: Cerrada | R34: =IF($H34="","",IF($H34<TODAY(),"VENCIDO",IF($H34<=TODAY()+15,"PROXIMO","FUTURO"))) | S34: =IF($H34="","",$H34-TODAY()) | T34: =IF(LISTADO!$A32="","",LISTADO!$A32)
A35: =IF($B35="","",SUBTOTAL(103,$B$3:B35)) | B35: Homenaje Corchos | C35: Corchos | D35: OPA | E35: Mayo-036 | F35: EMAIL | G35: 46156 | H35: 46170 | I35: Cf Palma | J35: Almirante | L35: EMAIL | M35: 46168 | N35: OPA | O35: Cerrada | R35: =IF($H35="","",IF($H35<TODAY(),"VENCIDO",IF($H35<=TODAY()+15,"PROXIMO","FUTURO"))) | S35: =IF($H35="","",$H35-TODAY()) | T35: =IF(LISTADO!$A33="","",LISTADO!$A33)
A36: =IF($B36="","",SUBTOTAL(103,$B$3:B36)) | B36: Concierto en Homenaje a las Glorias Navales | C36: Ucv | D36: OPA | E36: Mayo-040 | F36: EMAIL | G36: 46164 | H36: 46170 | I36: Dea | J36: Almirante | L36: EMAIL | M36: 46168 | N36: OPA | O36: Cerrada | R36: =IF($H36="","",IF($H36<TODAY(),"VENCIDO",IF($H36<=TODAY()+15,"PROXIMO","FUTURO"))) | S36: =IF($H36="","",$H36-TODAY()) | T36: =IF(LISTADO!$A34="","",LISTADO!$A34)
A37: =IF($B37="","",SUBTOTAL(103,$B$3:B37)) | B37: Practico de Canales | C37: Presidente | D37: OPA | E37: Mayo-020 | F37: EMAIL | G37: 46135 | H37: 46171 | I37: Voy por Ahora - Tbc | J37: Almirante | L37: EMAIL | M37: 46168 | N37: OPA | O37: Cerrada | R37: =IF($H37="","",IF($H37<TODAY(),"VENCIDO",IF($H37<=TODAY()+15,"PROXIMO","FUTURO"))) | S37: =IF($H37="","",$H37-TODAY()) | T37: =IF(LISTADO!$A35="","",LISTADO!$A35)
A38: =IF($B38="","",SUBTOTAL(103,$B$3:B38)) | B38: Homenaje Vecinos Jdm Codar Reñaca | D38: OPA | E38: Mayo-038 | F38: EMAIL | G38: 46161 | H38: 46171 | I38: Prizona | J38: Almirante | L38: EMAIL | M38: 46168 | N38: OPA | O38: Cerrada | R38: =IF($H38="","",IF($H38<TODAY(),"VENCIDO",IF($H38<=TODAY()+15,"PROXIMO","FUTURO"))) | S38: =IF($H38="","",$H38-TODAY()) | T38: =IF(LISTADO!$A36="","",LISTADO!$A36)
A39: =IF($B39="","",SUBTOTAL(103,$B$3:B39)) | B39: Festival de Rugby para Menors Oldnavy por Glorias Navales | C39: Director | D39: OPA | E39: Mayo-041 | F39: EMAIL | G39: 46167 | H39: 46172 | I39: Cn Matus de la Parra | J39: Almirante | L39: EMAIL | M39: 46171 | N39: OPA | O39: Cerrada | R39: =IF($H39="","",IF($H39<TODAY(),"VENCIDO",IF($H39<=TODAY()+15,"PROXIMO","FUTURO"))) | S39: =IF($H39="","",$H39-TODAY()) | T39: =IF(LISTADO!$A37="","",LISTADO!$A37)
A40: =IF($B40="","",SUBTOTAL(103,$B$3:B40)) | B40: Homenaje Armada de Chile Cosur | C40: Coronel de Ejercito | D40: OPA | E40: Mayo-023 | F40: EMAIL | G40: 46140 | H40: 46177 | I40: 03 Almirantes | J40: Almirante | L40: EMAIL | M40: 46169 | N40: OPA | O40: Cerrada | R40: =IF($H40="","",IF($H40<TODAY(),"VENCIDO",IF($H40<=TODAY()+15,"PROXIMO","FUTURO"))) | S40: =IF($H40="","",$H40-TODAY()) | T40: =IF(LISTADO!$A38="","",LISTADO!$A38)
...

Sheet INVITACIONES
D1: FECHA INGRESO | K1: RESPUESTA
A2: N° | B2: MOTIVO | C2: REMITENTE | D2: KARDEX | E2: CONTROL | F2: MEDIO | G2: FECHA DE ACTIVIDAD | H2: AGENDA | I2: NOTA CJA | J2: QUIEN REPRESENTA | K2: CONTROL | L2: FECHA | M2: CONTROL ACTUAL | N2: ESTADO | O2: SECRETGEN | P2: TAREA PENDIENTE | Q2: NOTA | R2: ANTECEDENTES
B3: ACCION DE GRACIAS Y ORACION POR EL GOBIERNO | C3: CAPILLERIA EVANGELICA | D3: NO LLEGO FORMAL | E3: OPA | F3: WP | G3: 46093 | H3: TALCAHUANO | I3: ASISTE | J3: CJA | K3: OPA | L3: EMAIL 11-03-2026 | M3: OPA | N3: CERRADA | O3: N/C | Q3: INVITACION NUNCA LLEGO POR MEDIO OFICIAL
B4: SANTIAGO DE MUSCIA | C4: MUNICIPALIDAD DE SANTIAGO | D4: NO LLEGO FORMAL | E4: OPA | F4: WP | G4: 46096 | H4: TALCAHUANO | I4: NO ASISTE | J4: SIN REPRESENTANTE | K4: OPA | L4: EMAIL | M4: OPA | N4: CERRADA
B5: SESION N°06 DEL CONSEJO ASESOR ESTRATEGICO EN LA INSTALACIONES DE UNA FRAGATA TIPO 23 | C5: CORFO | D5: NS | E5: OPA | F5: EMAIL10-03-2026 | G5: 46098 | H5: SALUDOS PROTOCOLARES MINDEF - SANTIAGO | I5: ENTIENDON QUE ES AHORA A BORDO DE UN BUQUE DE LA ESCUADRA YA DESIGNADO - CONDELL | J5: *DIPRIDA | K5: OPA | L5: 46092 | M5: OPA | N5: CERRADA | O5: OK
B6: CEREMONIA DE INAGURACION DE LA FERIA FORMACION CIUDADANA VALPARAISO | C6: SERVICIO ELECTORAL | D6: NS | E6: OPA | F6: EMAIL06-03-2026 | G6: 46098 | H6: AGENDA SANTIAGO | I6: AUDITGEN | J6: *AUDITGEN | K6: OPA | L6: 46091 | M6: OPA | N6: CERRADA | O6: OK
B7: ALMUERZO DE HOMENAJE ANIVERSARIO DE LA FUERZA AEREA | C7: ROTARY SANTIAGO | D7: INV-001 | E7: OPA | F7: EMAIL 12-03-2026 | G7: 46099 | H7: 15:00 REUNION SEPRE | I7: REPRESENTANTE | J7: *ESTANAVMET | K7: OPA | L7: 46099 | M7: OPA | N7: CERRADA | O7: N/C
B8: AVANCE DE COOPERACION EN MATERIAS DE SEGURIDAD Y DEFENSA ENTRE LA REPUBLICA DE CHILE Y COREA | C8: EMBAJADA DE COREA | D8: INV-005 | E8: OPA | F8: EMAIL 09-03-2026 | G8: 46100 | H8: CONSEJO NAVAL | I8: NO ASISTE ALTO MANDO POR CONSEJO NAVAL | J8: SIN REPRESENTACIÓN | K8: OPA | L8: EMAIL 11-03-2026 | M8: OPA | N8: CERRADA | O8: N/C | Q8: SE GENERO NUEVA INVITACION - A ESPERA DE FEHCA LO MAS POSIBLE SEA PARA LA FIDAE
B9: ALMUERZO A BORDO DEL BUQUE OCEANOGRAFICO DEL PERU | C9: EMBAJADOR DE PERU | D9: INV-004 | E9: OPA | F9: EMAIL 16-03-2026 | G9: 46100 | H9: CONSEJO NAVAL | I9: REPRESENTA CN IBARRA | J9: *CN IBARRA (PRIZONA) | K9: OPA | L9: EMAIL 17-03-2026 | M9: OPA | N9: CERRADA | O9: OK | Q9: SE EFECTUO ENTREGA DE PRESENTE "LIBRO ANTARTICA"
B10: CEREMONIA DEL CENTESIMO TERCER ANIVERSARIO DE LA ESPECIALIDAD DE AVIACION NAVAL | C10: CIRCULO DE AVIACION NAVAL | D10: INV-012 | E10: OPA | F10: EMAIL 09-03-2026 | G10: 46102 | H10: ANIVERSARIO FUERZA AEREA | I10: NO ASISITE, NOTIFICAR REPRESENTANTE | J10: *CN ROMAN | K10: OPA | L10: EMAIL 11-03-2026 | M10: OPA | N10: CERRADA | O10: OK
B11: NONAGESIMO SEXTO ANIVERSARIO DE LA CREACIONDE LA FUERZA AEREA CHILE | C11: GENERAL DEL AIRE | D11: INV-013 | E11: OPA | F11: EMAIL 16-01-2026 | G11: 46102 | H11: EN AGENDA | I11: ASISTE | J11: CJA | K11: OPA | L11: EMAIL 19-01-2026 | M11: OPA | N11: CERRADA | O11: N/C
B12: CEREMONIA INAGURAL | C12: AQUASUR | D12: INV-021 | E12: OPA | F12: EMAIL 29-01-2026 | G12: 46105 | H12: REVISTA TERZONA | I12: REPRESENTNTE | J12: *DIRECTEMAR QUINZONA | K12: OPA | L12: EMAIL 04-03-2026 | M12: OPA | N12: CERRADA | O12: OK
B13: HOMENAJE EN HONOR A SU EMINENCIA REVERENCIA CARDENAL FERNANDO CHOMALI GARIB | C13: BERNARDINO BRAVO | D13: INV-010 | E13: OPA | F13: EMAIL 17-03-2026 | G13: 46106 | H13: REVISTA TERZONA | I13: NO PODRE IR EXCUSAR | J13: SIN REPRESENTACIÓN | K13: OPA | L13: EMAIL 23-03-2026 | M13: OPA | N13: CERRADA | O13: N/C
B14: RECEPCION EN HONOR A LA LEGADA DE LA EXPEDICION CIENTIFICA CANADIENSE QUE VIAJO A LA ANTARTICA CHILENA A BORDO DEL BUQUE ALMIRANTE VIEL | C14: EMBAJADA CANADAS | D14: INV-023 | E14: OPA | F14: EMAIL 19-03-2026 | G14: 46106 | H14: REVISTA TERZONA | J14: TERZONA | K14: OPA | L14: EMAIL 24-03-2026 | M14: OPA | N14: CERRADA | Q14: SOLICITO TRAMITAR A PLANES
B15: ANIVERSARIO DE EMPERADOR DEL JAPON | C15: EMBAJADA DE JAPON | D15: INV-003 | E15: OPA | F15: EMAIL 02-03-2026 | G15: 46107 | H15: REVISTA TERZONA | I15: REPRESENTA JEFE MAYOR O UN VA | J15: *DIRECPERS DIRECTEMAR SUBJEMCO PRIZONA DIRINTA | K15: OPA | L15: 46097 | M15: OPA | N15: CERRADA | O15: OK | P15: AGENDAR CENA EN CALETA TRIDENTE CON ENBAJADOR / POSIBLE 14 DE ABRIL
B16: CEREMONIA CUENTA PUBLICA TRIBUNAL CONSITUCIONAL | C16: TRIBUNAL CONSTITUCIONAL | D16: INV-015 | E16: OPA | F16: EMAIL 21-01-2026 | G16: 46108 | H16: REVISTA TERZONA | I16: QUE UN VA VAYA | J16: *DIRECPERS | K16: OPA | L16: EMAIL 04-06-2026 | M16: OPA | N16: CERRADA | O16: OK
B17: CONCIERTO INAGURAL 86 TEMPORADA ARTISTICA USM REQUIEM DE FAURE | C17: RECTOR DE LA UNIVERSIDAD TECNICA FEDERICO SANTA MARIA | D17: INV-014 | E17: OPA | F17: EMAIL 18-03-2026 | G17: 46109 | H17: DISPONIBLE | I17: PREGUNTAR A ROX SI QUIERE IR, SI NO REPRESENTAR | J17: *CN POUVIF (EMGA) | K17: OPA | L17: EMAIL 26-03-2026 | M17: OPA | N17: CERRADA | O17: OK
B18: CUENTA PUBLICA 2026 | C18: CGR | D18: INV-016 | E18: OPA | F18: EMAIL 25-02-2026 | G18: 46111 | H18: EN AGENDA CAMBIA A REPRESENTANTE POR AGEDA | I18: ASISTE | J18: CJA CONTRALOR | K18: OPA | L18: EMAIL 04-03-2026 | M18: OPA | N18: CERRADA | O18: OK
B19: CUENTA PUBLICA | C19: CONSEJO DE DEFENSA DEL ESTADO | D19: INV-017 | E19: OPA | F19: EMAIL26-01-2026 | G19: 46112 | H19: EN AGENDA | I19: ASISTE | J19: CJA *AUDITGEN | K19: OPA | L19: EMAIL 04-03-2026 | M19: OPA | N19: CERRADA | O19: OK
B20: SESION CON EL MINISTRO DE RELACIONES EXTERIORES DE CHILE | C20: MINISTRO DE RELACIONES EXTERIORES | D20: INV-024 | E20: OPA | F20: EMAIL 19-03-2026 | G20: 46112 | H20: EN ESE HORARIO DISPONIBLE | I20: ACOMPAÑA SUBYAMOR | J20: CJA SUBMAYOR | K20: OPA | L20: EMAIL 26-03-2026 | M20: OPA | N20: CERRADA | O20: OK
B21: CEREMONIA DE 134 ANIVERSARIO DE LA CORTE DE APELACIONES DE VALPARAISO | C21: PRESIDENTA DE LA CORTE SUPREMA | D21: INV-008 | E21: OPA | F21: EMAIL 16-03-2026 | G21: 46113 | H21: LIBRE | I21: NO ASISTE - REPRESENTA AUDITGEN | J21: *AUDITGEN (NO ASISITE) CN JT HAWARD | K21: OPA | L21: EMAIL 23-03-2026 | M21: OPA | N21: CERRADA | O21: OK
B22: ALMUERZO DE CAMARADERIA | C22: CA HERNANDEZ | D22: INV-009 | E22: OPA | F22: MANO 17-03-2026 | G22: 46113 | H22: LIBRE | I22: AGENDER | J22: CJA | K22: OPA | L22: EMAIL 23-03-2026 | M22: OPA | N22: CERRADA | O22: N/C
B23: SEMINARIO DE SUBOFICIALES MAYORES DEPENDIENTES DE RIZONA | C23: CONDESTABLE MAYOR | D23: INV-007 | E23: OPA | F23: EMAIL 17-03-2026 | G23: 46114 | H23: EN AGENDA | I23: ESTA AGENDADO? | J23: CJA COMAVNAV SECRETGEN | K23: OPA | L23: EMAIL 23-03-2026 | M23: OPA | N23: CERRADA | O23: OK
B24: CERMONIA DE ROLL OUT DE LA AERONAVE T 40 - NEWEN | C24: ENAER | D24: INV-026 | E24: OPA | F24: EMAIL 23-03-2026 | G24: 46118 | H24: PREAGENDADO | I24: ASISTE | J24: CJA SECRETGEN DIRECSER COMAVNAV DIRECFIN ASMAR DIPLENGA | K24: OPA | L24: EMAIL 24-03-2026 | M24: OPA | N24: CERRADA | O24: OK
B25: CEREMONIA DE INAGURACION SALA HISTORICA COMANDANTE ARTURO PRAT | C25: CLUB SOCIAL SAN CARLOS | D25: INV-029 | E25: OPA | F25: EMAIL 30-03-2026 | G25: 46118 | H25: CEREMONIA ROLL OUT | I25: EXCUSAR, MARINFA | J25: *JEFE ESTADO MAYOR SEZONA | K25: OPA | L25: EMIL 31-03-2026 | M25: OPA | N25: CERRADA | O25: OK | P25: OFICIO ENVIADO
B26: ENCUENTRO DE CAMARADERIA Y NETWORKING | C26: EMBAJADA DE COREA | D26: INV-005 | E26: OPA | F26: EMAIL 16-03-2026 | G26: 46119 | H26: NO ASISTE | I26: NO ASISTE | J26: NO ASISTE | K26: OPA | L26: EMAIL 01-04-2026 | M26: OPA | N26: CERRADA | O26: NC | P26: INVITACION LLEGO Y NO ASISTE
B27: ALMUERZO ROTARY CLUB - ANIVERSARIO DE CARABINEROS | C27: PRESIDENTE ROTARY SANTIAGO | D27: INV-032 | E27: OPA | F27: EMAIL 01-04-2026 | G27: 46120 | I27: REPRESENTANTE | J27: CN PASTRIAN | K27: OPA | L27: EMAIL 08-04-2026 | M27: OPA | N27: CERRADA | O27: OK
B28: CENA POR VISISTA AGREGADOMILITAR DE MARRUECOS | C28: EMBAJADOR DE MARRUECOS | D28: INV-038 | E28: OPA | F28: EMAIL 07-04-2026 | G28: 46122 | H28: RAPANUI | I28: ESXUCSAR POR ESCRITO | J28: NO ASISTE | K28: OPA | L28: EMAIL 08-04-2026 | M28: OPA | N28: CERRADA | O28: NC
B29: VINO DE HONOR MOTIVO DESE DE ÉXITO NUEVO GOBIERNO | C29: 40787 | D29: INV-033 | E29: OPA | F29: EMAIL 01-04-2026 | G29: 46123 | H29: COMISION RAPA NUI | I29: EXCUSARME | J29: NO ASISTE | K29: OPA | L29: EMAIL 07-04-2026 | M29: OPA | N29: CERRADA | O29: N/C
B30: LANZAMIENTO LIBRO UTFSM | C30: UTFSM | D30: INV-042 | E30: OPA | F30: EMAIL 08-04-2026 | G30: 46126 | H30: SIN DISPONIBILIDAD | I30: REPRESENTA | J30: SIN REPRESENTACION | M30: OPA | N30: CERRADA | P30: LLEGO TARDE
B31: PRESENTACION DE LIBRO GUERREROS EXPERTOS DEL MAR… | C31: APOLINAV | D31: INV-025 | E31: OPA | F31: EMAIL 19-03-2026 | G31: 46128 | H31: PREAGENDADO | I31: ASISTE | J31: CJA | K31: OPA | L31: EMAIL 24-03-2026 | M31: OPA | N31: CERRADA | O31: OK | P31: RESPONDER
B32: VUELO A BORDO DE AERONAVE C-2 HACIA EL PORTAAVIONES | C32: EMBAJADORA USA | D32: INV-031 SECRET.ADM. | E32: OPA | F32: EMAIL 31-03-2026 | G32: 46128 | H32: ASISTE | I32: ASISTE | J32: CJA DIRECPERS ESCUADRA COMOPER | K32: OPA | L32: EMAIL 10-04-2026 | M32: SECRET.ADM. | N32: CERRADA | O32: OK
B33: INAGURACION AÑO ACADEMICO UFSAM | C33: UFSM | D33: INV-049 | E33: OPA | F33: EMAIL 07-04-2026 | G33: 46128 | H33: REPRESENTA | I33: REPRESENTA | J33: *DIREDUCARM | K33: OPA | L33: EMAIL 08-04-2026 | M33: OPA | N33: CERRADA
B34: ANIVERSARIO | C34: BOTE SALVAVIDAS | D34: INV-002 | E34: OPA | F34: EMAIL 09-03-2026 | G34: 46129 | H34: ALMUERZO A BORDO ESMERALDA COYAHUASI | I34: REPRESENTA DIRECTEMAR | J34: *DINSOMAR | K34: OPA | M34: OPA | N34: CERRADA | O34: OK
B35: RECPECION FORMAL A BORDO DEL PORTRAAVIONES USS NIMITZ | C35: EMBAJADOR USA | D35: INV-034 SECRT.ADM., | E35: OPA | F35: EMAIL 01-04-2026 | G35: 46130 | J35: JEFMAYOR DIRECPERS COMOPER SUBMAYIR ESCUADRA DIRINTA DIRECABAS DIREBIEN DIMPLEMGA DOPEMGA PRIZONA | K35: OPA | L35: EMAIL 13-04-2026 | M35: SECRET-ADM | N35: CERRADA | O35: OK
B36: INAGURACION AÑO ACADEMICO UT METROPOLITANA | C36: RECTOR | D36: INV-057 | E36: OPA | F36: EMAIL 20-04-2026 | G36: 46133 | H36: AGENDA BLOQUEADA | J36: NO ASISTE | K36: OPA | L36: EMAIL 20-04-2026 | M36: COLLAO | N36: CERRADA
B37: CUENTA PUBLICA PROVIDENCIA | C37: MUNICIPALIDAD DE PROVIDENCIA | D37: INV-050 | E37: OPA | F37: EMAIL 13-04-2026 | G37: 46134 | H37: AGENDA BLOQUEADA | I37: EXCUSAR | J37: SIN REPRESENTACION | K37: OPA | L37: EMAIL 15-04-2026 | M37: OPA | N37: CERRADA | O37: N/C
B38: CUARTA SESION MESA DE CIBERSEGURIDAD | C38: CONTRALORIA GENERAL | D38: INV-052 | E38: OPA | F38: EMAIL 13-04-2026 | G38: 46134 | H38: AGENDA BLOQUEADA | I38: QUE REPRESENTE DIRINTA | J38: *DIRINTA | K38: OPA | L38: EMAIL 20-04-2026 | M38: OPA | N38: CERRADA | O38: OK
B39: CERMONIA POR ANIVERSARIO ASOFAR | C39: PRESIDENTE ASOFAR | D39: INV-030 SECRT.ADM. | E39: OPA | F39: EMAIL 30-03-2026 | G39: 46135 | H39: SALUDOS PROTOCOLARES - SALUDOS PROTOCOLARES REINO UINIDO | I39: NO PODRE ASISTOR QUE REPRESENTE JEFMAYOR - ALTERNATIVO SUBMAYOR U OTRO ALMIRANTE | J39: JEFEMAYOR | K39: OPA | L39: EMAIL 15-04-2026 | M39: COLLAO SECRET. ADM. | N39: CERRADA | O39: OK | Q39: SE INFORMO ADEMAS QUE ACOMPAÑAN CON 20 OFICIALES DE ACUERDO A INSTRUCCIONES CF SANDINO
B40: CONCIERTO DE OTOÑO 2026 | C40: FUNDACION CLARO VIAL | D40: INV-043 | E40: OPA | F40: FISICA | G40: 46135 | H40: SIN DISPONIBILIDAD | I40: NO PUEDE IR | J40: NO ASISTE | K40: OPA | L40: EMAIL 15-04-2026 | M40: OPA | N40: CERRADA | O40: N/C
...

Sheet ANIVERSARIO-OTROS
A1: N° | B1: FECHA | D1: MOTIVO | E1: REMITENTE | F1: MEDIO | G1: KARDEX - CONTROL | H1: NOTA | I1: CONTROL ACTUAL | J1: ESTADO | K1: NOTA
B2: 46089 | C2: ANIVERSARIO | D2: DIA DE LA MUJER | E2: GENERAL ARMADA | F2: MSG | G2: ALMIRANTE 061240 MAR 2026 | I2: OPA | J2: CERRADA
B3: 46092 | C3: ASUNCION | D3: SUB SECRETARIA DEFENSA | E3: SUB SECRETARIA | F3: EMAIL | G3: EMAIL 17-03-2026 | I3: OPA | J3: CERRADA
B4: 46092 | C4: ANIVERSARIO | D4: SUB SECRETARIA DEFENSA | E4: SUB SECRETARIA | F4: EMAIL | G4: EMAIL 17-03-2026 | I4: OPA | J4: CERRADA
B5: 46092 | C5: ASUNCION | D5: SUB SECRETARIA FF.AA. | E5: SUB SECRETARIA | F5: EMAIL | G5: 46093 | H5: CARTA ENTREGADA - SALUDOS EFECTUADOS | I5: OPA | J5: CERRADA
B6: 46092 | C6: ANIVERSARIO | D6: SUB SECRETARIA FF.AA. | E6: SUB SECRETARIA | F6: EMAIL | G6: 46093 | H6: CARTA ENTREGADA - SALUDOS EFECTUADOS | I6: OPA | J6: CERRADA
B7: 46093 | C7: ANIVERSARIO | D7: ANEPE | E7: ANEPE | F7: EMAIL | G7: 46093 | I7: OPA | J7: CERRADA
B8: 46093 | C8: ASUNCION | D8: MINISTERIO DE DEFENSA | E8: MINISTERIO | F8: CARTA / SALUDOS PROTOCOLARES | G8: 46093 | H8: CARTA ENTREGADA - SALUDOS EFECTUADOS | I8: OPA | J8: CERRADA
B9: 46094 | C9: ANIVERSARIO | D9: OFICIAL DE MAR | E9: GENERAL ARMADA | F9: MSG | G9: ALMIRANTE 130745 MAR 2026 | I9: OPA | J9: CERRADA
B10: 46097 | C10: ANIVERSARIO | D10: AVIACION NAVAL | E10: GENERAL ARMADA | F10: MSG | G10: ALMIRANTE 131310 MAR 2026 | I10: OPA | J10: CERRADA
B11: 46098 | C11: ANIVERSARIO | D11: MINISTERIO DE DEFENSA | E11: MINISTERIO | F11: CARTA / SALUDOS PROTOCOLARES | G11: 46098 | H11: CARTA ENTREGADA - SALUDOS EFECTUADOS | I11: OPA | J11: CERRADA
B12: 46098 | C12: ASUNCION | D12: ANIVERSARIO BALLET CULTURAL KARI KARI DE RAPA NUI | E12: KARIKARI | F12: VIDEO - CARTA | G12: EMAIL | H12: CARTA ENTREGADA - PREPARANDO VIDEO | I12: OPA | J12: CERRADA | K12: CARTA TRAMITADA
B13: 46102 | C13: ANIVERSARIO | D13: FUERZA AEREA | E13: FUERZA AEREA | F13: CARTA / SALUDOS PROTOCOLARES | G13: 46093 | H13: CARTA ENTREGADA - SALUDOS EFECTUADOS | I13: OPA | J13: CERRADA
B14: 46103 | C14: ANIVERSARIO | D14: ARTES GRAFICAS | E14: GENERAL ARMADA | F14: MSG | G14: ALMIRANTE 201240 MARZ 2026 | I14: OPA | J14: CERRADA
B15: 46112 | C15: ANIVERSARIO | D15: METEOROLOGIA | E15: METEOROLOGIA | F15: MSG | G15: ALMIRANTE 310745 MAR 2026 | I15: OPA | J15: CERRADA
B16: 46113 | C16: ANIVERSARIO | D16: ARMADA DE SUDAFRICA | E16: COMANDANTE EN JEFE DE SUDAFRICA | F16: CARTA | G16: EMAIL 31-03-2026 | H16: RNVIADA POR CORREO EMGA | I16: OPA | J16: CERRADA | K16: ENVIADA A EMGA
B17: 46116 | C17: ANIVERSARIO | D17: HERMANDAD DE LA COSTA | E17: DON CARLOS ESPARTANO GOMEZ NIADA | F17: CARTA | G17: EMAIL 02-04-2026 | H17: ENVIADA POR CORREO | I17: OPA | J17: CERRADA | K17: TRAMITADA
B18: 46118 | C18: ANIVERSARIO | D18: JEFE DE GUARDIA | E18: GENERAL ARMADA | F18: MSG | G18: ALMIRANTE 060750 ABR 2026 | J18: CERRADA
B19: PENDIENE | C19: ASUNCION | D19: PRECIDENCIA DE LA COMISION DE LA DEFENSA NACIONAL | E19: DIPUTADO CARTER | F19: CARTA | G19: EMAIL 24-03-2026 | H19: ENVIADA POR CORREo | I19: OPA | J19: CERRADA
B20: PENDIENTE | C20: FELICITACIONES | D20: CIERRE ANTARTICA | E20: GENERAL ARMADA | F20: MSG | G20: ALMIRANTE 131230 ABR 2026 | I20: OPA | J20: CERRADA
B21: PENDIENTE | C21: ASUNCION | D21: PRESIDENTE DE LA CAMARA DE DIPUTADOS | E21: DIPUTADOS | F21: CARTA | G21: EMAIL 24-03-2026 | H21: ENVIADA POR CORREO | I21: OPA | J21: CERRADA | K21: PENDIENTE DE ENTREGA
B22: PENDIENTE | C22: ASUNCION | D22: PRESIDENTE DEL SENADO | E22: SENADO | F22: CARTA | G22: EMAIL 24-03-2026 | H22: ENVIADA POR CORREO | I22: OPA | J22: CERRADA | K22: PENDIENTE DE ENTREGA
B23: 46105 | C23: ASUNCION | D23: ANI | E23: VICEALMIRANTE MCINTYRE | F23: CARTA | G23: EMAIL 24-03-2026 | H23: ENVIADA POR CORREO | I23: OPA | J23: CERRADA | K23: CARTA TRAMITADA
B24: 46113 | C24: ASUNCION | D24: COMISION DE DEFENSA DEL SENADO | E24: HUENCHUMILLA | F24: CARTA | G24: EMAIL 01-04-2026 | H24: ENVIADA POR CORREo | I24: OPA | J24: CERRADA | K24: CRATA TRAMITADA
B25: 46115 | C25: ANIVERSARIO | D25: SANIDAD NAVAL | E25: GENERAL ARMADA | F25: MSG | G25: ALMIRANTE 021235 ABR 2026 | I25: OPA | J25: CERRADA
B26: 46117 | C26: ANIVERSARIO | D26: RADARSITA CIC | E26: GENERAL ARMADA | F26: MSG | G26: ALMIRANTE 021240 ABR 2026 | I26: OPA | J26: CERRADA
B27: 46124 | C27: ANIVERSARIO | D27: SEÑALERO | E27: GENERAL ARMADA | F27: MSG | I27: OPA | J27: CERRADA | K27: NO ENVIADA - NO EXIXTSEN
B28: 46120 | C28: ASUNCION | D28: BANCO ESTADO | E28: MARIO CARRER | F28: CARTA | G28: EMAIL 089-04-2026 | H28: ENVIADA POR CORREO | I28: OPA | J28: CERRADA
B29: 46137 | C29: ANIVERSARIO | D29: JUSTICIA NAVAL | E29: GENERAL ARMADA | F29: MSG | G29: ALMIRANTE 241000 ABR 2026 | I29: OPA | J29: CERRADA
B30: 46120 | C30: ASUNCION | D30: MUCEO MARITIMO NACIONAL | E30: CA RODRIGO | F30: CARTA | G30: EMAIL 08-04-2026 | H30: ENVIADA POR CORREO | I30: OPA | J30: CERRADA
B31: 46120 | C31: ANIVERSARIO | D31: OFICIALES EN RETIRO | E31: PRESIDENTE | F31: CARTA | G31: EMAIL 08-04-2026 | H31: ENVIADA POR CORREO | I31: OPA | J31: CERRADA
B32: 46126 | C32: ASUNCION | D32: JEFE DE LA REAL ARMADA DE AUSTRALIA | E32: MARK DAVID HAMMOND | F32: CARTA | G32: EMAIL 15-04-2026 | H32: ENVIADA POR CORREO | I32: OPA | J32: CERRADA
C33: ANIVERSARIO | D33: CEDESTRA | E33: VA FERNANDEZ | F33: CARTA | I33: PEREZ | J33: PENDIENTE
C34: ANIVERSARIO | D34: CARABINEROS | E34: GENERAL DIRECTOR | F34: CARTA | I34: PEREZ | J34: PENDIENTE
C35: ANIVERSARIO | D35: BLANCA ESTELA | E35: ROXANA MERY | F35: CARTA | I35: PEREZ | J35: PENDIENTE
B36: 46116 | C36: ANIVERSARIO | D36: OBISPADO CASTRENCE | E36: GENERAL DE BRIGADA | F36: CARTA | I36: PEREZ | J36: PENDIENTE
B37: 46127 | C37: ANIVERSARIO | D37: BOTE SALVAVIDAS | E37: PRESIDENTE | F37: CARTA | G37: EMAIL 15-04-2026 | H37: ENVIADA POR CORREO | I37: OPA | J37: CERRADA | K37: ,
B38: 46132 | C38: DESIGNACION | D38: IGLESIA EVABGELICA | E38: OBISPO EVANGELICO | F38: CARTA | G38: EMAIL 20-04-2026 | H38: ENVIADA POR CORREO | I38: OPA | J38: CERRADA
B39: 46135 | C39: ASUNCION | D39: COSEJO DE DEFENSA DEL ESTADO | E39: PRESIDENTA | F39: CARTA | G39: EMAIL 23-04-2026 | H39: ENVIADA POR CORREO | I39: OPA | J39: CERRADA
B40: 46136 | C40: ANIVERSARIO | D40: RADIO BIOBIO | E40: RADIO BIOBIO | F40: CARTA | G40: EMAIL 23-04-2026 | H40: ENVIADA POR CORREO | I40: OPA | J40: CERRADA
...

Sheet INVITACIONES NACIONLES DEL CJA
E1: CONTROL | L1: FECHA | N1: AGENDA
A2: N° | B2: MOTIVO | D2: IDENTIDAD | E2: KARDEX | F2: REQUIERE | G2: DEPTO. | H2: FECHA | I2: NOTA | J2: FECHA DE INVITACIÓN | K2: ESTADO | L2: RESPUESTA | M2: CONTROL | N2: NOTA | O2: CONTROL ACTUAL | P2: ESTADO | Q2: NOTA
A3: 1 | B3: NACIONAL | C3: ALMUERZO DE TRABAJO | D3: COTRAPORCHI | F3: SECRET. AYUDOR | G3: SECRETARIA AYUDOR | H3: 46111 | I3: PREPARAR INVITACIONES | J3: 46111 | K3: ENVIADAS | O3: SANDRA CAMACHO | P3: PENDIENTE RESPUESTA | Q3: VERIFICAR RESPUESTA
A4: 2 | B4: NACIONAL | C4: ALMUERZO DE TRABAJO | D4: COYAHUASI | F4: SECRET. AYUDOR | G4: SECRETARIA AYUDOR | H4: 46129 | I4: PREPARAR INVITACIONES | O4: SECRETARIA AYUDOR | P4: PENDIENTE | Q4: VERIFICAR PERSONAS A INVITAR C1 SILVA
A5: 3 | B5: NACIONAL | C5: ALMUERZO DE TRABAJO | D5: EMBAJADA JAPON | F5: SECRET. AYUDOR | G5: SECRETARIA AYUDOR | H5: POR DEFINIR | I5: VERIFICAR AGENDA - NOTA INGRESADA EN INVITACION POR EL ANIVERSARIO DEL EMPERADOR DE JAPON | O5: SECRETARIA AYUDOR | P5: PENDIENTE | Q5: AGENDAR FECHA
A6: 4 | B6: NACIONAL | C6: AUDIECIA POR ENTREGA DE OBSEQUIO DE PARTE DEL ALMIRANTE SAITO AKIRA JEFE DEL ESTADO MAYOR GENERAL DE LA FUERZA MARITIMA DE AUTODEFENSA DE JAPO | D6: EMBAJADA JAPON | E6: CONT-002 | F6: EMBAJADA DE JAPON | G6: SECRETARIA AYUDOR | H6: 46092 | I6: VERIFICAR FECHA Y PREPARAR RESPUESTA | J6: 46114 | K6: CONFECCIONAR | O6: SECRETARIA AYUDOR | P6: PENDIENTE | Q6: VERIFICANDO CONFIRMACION DE FECHA / SE EFECTUARA UN REGALO UN MOAI
A7: 5 | B7: NACIONAL | C7: AUDIENCIA PROTOCOLAR | D7: BOTE SALVAVIDAS | E7: CONT-001 | F7: BOTE SALVAVIDAS | G7: SECRETARIA AYUDOR | H7: 46091 | I7: VERIFICAR FECHA Y PREPARAR RESPUESTA | J7: DEFINIR FECHA DE AUDIENCIA | O7: SECRETARIA AYUDOR | P7: PENDIENTE | Q7: AGENDAR FECHA PREPARAR CARTA DE RESPUESTA
A8: 6 | B8: EXTRANJERO | C8: VERIFICAR INVITACION A BRASIL PARA QUE ASISTA A UNA VISITA OFICIAL YA QUE NO PUEDE ASISTIR AL 21 DE MAYO 2026 | D8: COMANDANTE EN JEFE DE BRASIL | F8: ALMIRANTE | G8: SECRETARIA AYUDOR | H8: POR DEFINIR | O8: SECRETARIA AYUDOR | P8: PENDIENTE | Q8: AGENDAR FECHA
A9: 7 | B9: NACIONAL | C9: ALMUERZO DE TRABAJO | D9: CONSEJO PARA LA TRASPARECIA | F9: ALMIRANTE | G9: SECRETARIA AYUDOR AUDITGEN CN AGUILERA | H9: 46188 | O9: SECRETARIA AYUDOR | P9: PENDIENTE | Q9: A LA ESPERA DE FECHA DIFINITIVA INVITADOS Y LUGAR
A10: 8 | B10: NACIONAL | C10: ZARPE DEL BUQUE ESCUELA ESMERALDA | D10: SEPRE MINDEF MINREL SUBSECRET. DEFENSA SUBSECRETARIO FFAA | E10: PENDIENTE | F10: SECRET. AYUDOR | G10: OPA | H10: 46098 | I10: PREPARAR INVITACIONES PARA DESPEDIDA DE BUQUE ESCUELA ESMERLADA | J10: 46127 | K10: EMAIL 18-03-2026 | O10: SANDRA CAMACHO | P10: PENDIENTE | Q10: VERIFICAR RESPUESTA
A11: 9
A12: 10
A13: 11
A14: 12
A15: 13
A16: 14
A17: 15
A18: 16
A19: 17
A20: 18
A21: 19
A22: 20
... A27: 25

Sheet INVITACION RX - EXTRANJERA
E1: FECHA | J1: FECHA
A2: N° | B2: MOTIVO | C2: PAIS | D2: KARDEX | E2: INGRESO | F2: CONTROL | G2: NOTA | H2: FECHAS DE INVITACIÓN | I2: NOTA CJA | J2: RESPUESTA | K2: CONTROL | L2: NOTA | M2: NOTA CJA | N2: CONTROL ACTUAL | O2: ESTADO | P2: NOTA
A3: 1 | B3: VISITA OFICIAL | C3: PERU | D3: NC | F3: SECRETALM | G3: ASISTE | J3: OK | K3: OPA | L3: ENVIADA POR EMGA | N3: EMGA | O3: CERRADA | P3: TRAMITADA
A4: 2 | B4: VISITA OFICIAL | C4: ESPAÑA | D4: NC | F4: SECRETALM | G4: ASISTE | J4: OK | K4: OPA | L4: ENVIADA POR EMGA | N4: EMGA | O4: CERRADA | P4: TRAMITADA
A5: 6 | B5: REVISTA NAVAL INTERNACIONAL | C5: USA | D5: SECRETALM-001 | E5: 46045 | F5: SECRETALM-001 | G5: ASISTE | H5: 03-07-2026/09-07-2026 | I5: ASISTE CON SEÑORA Y AYUDOR | J5: OK | K5: OPA | L5: ENVIADA POR EMGA | N5: EMGA | O5: CERRADA | P5: PREPARA NUEVA CARTA INFORMANDO CAMBIO DE AYUDOR
A6: 3 | B6: VISITA OFICIAL | C6: PANAMA | D6: EXTR-002 | F6: SECRETALM | G6: PENDIENTE | I6: ESPERANDO MODIFICACION DE CARTA DE INVITACION | J6: OK | K6: OPA | N6: EMGA | O6: PENDIENTE | P6: VERIFICAR RESPUESTA Y CAMBIO DE CARTA
A7: 4 | B7: ANIVERSARIO DE LA ARMADA DE COLOMBIA | C7: COLOMBIA | D7: NC | E7: 46086 | F7: SECRETALM | G7: PENDIENTE | H7: 23-07-2026/26-07-2026 | I7: ESPERANDO MODIFICACION DE CARTA DE INVITACION | J7: OK | K7: EMAIL 19-03-2026 | L7: ENVIADA POR EMDA | N7: EMGA | O7: CERRADA | P7: TRAMITADA
A8: 5 | B8: VISITA OFICIAL | C8: TURKIA | D8: NC | E8: 06-03-206 | F8: SECRETALM | G8: NO ASISTE POR FECHA | H8: 13-04-2026/17-04-2026 | I8: RESPONDER INFORMANDO NUEVA INVITACION 2027-2028 | J8: OK | K8: OPA | L8: ENVIADA POR EMGA | N8: EMGA | O8: CERRADA | P8: TRAMITADA
A9: 7 | B9: EJERCICIO EFES-2026 | C9: TURKIA | D9: SECRETALM-002 | E9: GESTOR 13-03-226 | F9: OFICINA DE PARTE | G9: NO ASISTE POR FECHA | H9: 20-05-2026/21/05/2026 | I9: PROPUESTA EMGA | K9: EMGA | N9: EMGA | O9: PENDIENTE
A10: 8 | C10: TAHITI | H10: NOVIEMBRE | N10: EMGA | P10: VERIFICAR
A11: 9 | B11: INDEX | C11: ASIA | D11: SECRTEALM-003 | E11: EMAIL 04-05-2026 | F11: OFICINA DE PARTE | H11: 5 Y 8 MAYO 2027 | K11: SECRET.ADM.
A12: 10
A13: 11

Sheet INVITACION TX - EXTRANJERA
E1: CONTROL TX | I1: FECHA
A2: N° | B2: MOTIVO | C2: IDENTIDAD | D2: RESPONSABLE | E2: FECHA | F2: CONTROL | G2: NOTA | H2: NOTA CJA | I2: RESPUESTA | J2: NOTA CJA | K2: CONTROL ACTUAL | L2: ESTADO | M2: NOTA
A3: 1 | B3: INVITACION 21 MAYO -2026 | C3: ARGENTINA | D3: OPA | E3: TRAMITADA | F3: EMGA | I3: ASISTE | K3: EMGA | L3: CERRADA
A4: 2 | B4: INVITACION 21 MAYO -2026 | C4: BRASIL | D4: OPA | E4: TRAMITADA | F4: EMGA | I4: NO ASISTE | J4: VERIFICAR FECHA PARA INVITAR NUEVAMENTE | K4: EMGA | L4: CERRADA
A5: 3 | B5: INVITACION 21 MAYO -2026 | C5: JAPON | D5: OPA | E5: TRAMITADA | F5: EMGA | I5: NO ASISTE | K5: EMGA | L5: CERRADA
A6: 4 | B6: INVITACION 21 MAYO -2027 | C6: TURKIA | D6: OPA | E6: TRAMITADA | F6: EMGA | I6: PENDIENTE | K6: EMGA | L6: PENDIENTE
A7: 5 | B7: INVITACION 21 MAYO -2026 | C7: COLOMBIA | D7: OPA | E7: TRAMITADA | F7: EMGA | I7: PENDIENTE | K7: EMGA | L7: PENDIENTE
A8: 6 | B8: BOTADURA - ASMAR | C8: AUSTRALIA | D8: OPA | F8: OPA | K8: SECRETALM | L8: PENDIENTE | M8: EN ESPERA DE HORA PARA MANIOBRA
A9: 7 | B9: BOTADURA - ASMAR | C9: CANADA | D9: OPA | F9: OPA | K9: SECRETALM | L9: PENDIENTE | M9: EN ESPERA DE HORA PARA MANIOBRA
A10: 8 | B10: INVITACION VISITA OFICIAL | C10: BRASIL | D10: OPA | F10: OPA | H10: VERIFICAR FECHA DE DISPONIBILIDAD POR AGENDA | K10: SECRET. AYUDOR | L10: PENDIENTE | M10: EN ESPERA DE FECHA C1 SILVA
B11: CARTA PERU | C11: PERU | D11: OPA | E11: TRAMITADA 08-04-2026 | F11: OPA | H11: APOYO DE VELERO PERUANO | I11: APOYO | K11: SECRET-ADM | L11: CERRADA

Sheet COMISIONES DEL EXTRANJERO
A1: N° | B1: PAIS | C1: MOTIVO VISITA | D1: SPONSOR PROPUESTO | E1: SPONSOR
A2: 1 | B2: NUEVA ZELANDA | C2: VISITA OFICIAL | D2: - | E2: DGSA
A3: 2 | B3: ARGENTINA | C3: 21 DE MAYO | D3: DEA ASMAR
A4: 3
A5: 4
A6: 5
A7: 6
A8: 7
A9: 8
A10: 9
A11: 10
A12: 11
A13: 12
A14: 13
A15: 14
... A17: 16

Sheet REQUERIMIENTO
A1: N° | B1: SOLICITANTE | C1: REQUERIMIENTO | D1: ACTIVIDAD | E1: FECHA | F1: RESOLUCIÓN
A2: 1 | B2: DIRECABAS | C2: PARTICIPACIÓN | D2: CEREMONIA NINHUE
A3: 2
A4: 3
A5: 4
A6: 5
A7: 6
A8: 7
A9: 8
A10: 9
A11: 10
A12: 11
A13: 12
A14: 13
... A17: 16

Sheet FIDAE
E1: CONTROL RX | J1: CONTROL TX
A2: N° | B2: DETALLE | C2: PAIS/IDENTIDAD | D2: RESPONSABLE | E2: KARDEX | F2: INGRESO X | G2: FECHA | H2: FECHA ACTIVIDAD | I2: NOTA CJA | J2: EGRESO X | K2: FECHA | L2: NOTA | M2: CONTROL ACTUAL | N2: ESTADO | O2: NOTA
A3: 1 | B3: ALMUERZO MARCO FIDAE | C3: ENAER | D3: OPA | E3: FIDAE-001 | F3: CORREO | G3: 46093 | H3: 07-04-2026/1400 | I3: NO ASISTE | J3: EMAIL | K3: 46111 | L3: TX DGSA | M3: EMGA | N3: CERRADA
A4: 2 | B4: RECEPCION EMBAJADA DE FINLADIA EN CHILE | C4: EMBAJADA FINLADIA | D4: OPA | E4: FIDAE-002 | F4: CORREO | G4: 46091 | H4: 06-04-2026/18:00 | I4: NO PODRE ASISTIR | J4: EMAIL | K4: 46105 | L4: TX DGSA POR WP | M4: EMGA | N4: CERRADA
A5: 3 | B5: INVITACION DE AIRBUS | C5: AIRBUS | D5: OPA | E5: FIDAE-003 | F5: CORREO | G5: 46094 | H5: COORDINAR | I5: DGSA PROPONER MINUTA ASISTE | J5: EMAIL | K5: 46106 | L5: TX DGSA POR WP | M5: EMGA | N5: CERRADA
A6: 4 | B6: VISITA Y ALMUERZO | C6: MBDA | D6: OPA | E6: FIDAE-004 | F6: OFICINA DE PARTE | G6: 46093 | H6: 07-12 ABR | I6: ASISTE | J6: EMAIL | K6: 46105 | L6: TX DGSA | M6: EMGA | N6: CERRADA
A7: 5 | B7: VISITA Y REUNION | C7: AIRBUS | D7: OPA | E7: FIDAE-005 | F7: CORREO | G7: 46079 | H7: 07-12 ABR | I7: ASISTE | J7: EMAIL | K7: 46106 | L7: TX DGSA | M7: EMGA | N7: CERRADA
A8: 6 | B8: VISITA Y REUNION | C8: AEROCARDAL | D8: OPA | E8: FIDAE-006 | F8: CORREO | H8: 07-12 ABR | I8: NO ASISTE | J8: EMAIL | K8: 46106 | L8: TX DGSA | M8: EMGA | N8: CERRADA
A9: 7 | B9: CELEBRACION 25 AÑOS | C9: AIRBUS | D9: OPA | E9: FIDAE-008 | I9: NO ASISTE | J9: EMAIL | K9: 46106 | L9: TX DGSA POR WP | M9: EMGA | N9: CERRADA
A10: 8 | B10: KOREA DEFENSEE DAY 2026 | C10: COREA | D10: OPA | E10: FIDAE-013 | F10: CORREO | G10: 46107 | H10: 46119 | I10: NO ASISTE DRUA - ASISTE | L10: TX DGSA | M10: COLLAO | N10: PENDIENTE | O10: TRAMITAR A DGSA
A11: 9 | B11: SOLICITUD DE AUDIENCIA DELEGACION INTEGRADA POR JEFA DE DEPTO DE INTEGRACION DE DEFENSA DE TURQUIA | C11: TURKIA | D11: OPA | E11: FIDAE-007 | F11: CORREO | G11: 46099 | H11: 07-10 ABR | I11: AGENDAR AUDIENCIA CON DIPRIDA / DGSA / O ALGUNO DE AREA | J11: EMAIL | K11: 46113 | L11: TX DGSA POR WP | M11: EMGA | N11: CERRADA | O11: ENVIADO CORREO DE AUDIENCIA
A12: 10 | B12: CONOCER EL CHALET A1-B2 EMPRESA EMBRAER | C12: EMBRAER | D12: OPA | E12: FIDAE-010 | F12: CORREO | G12: 46100 | H12: 07 AL 12 ABRIL | I12: NO ASISTE | J12: EMAIL | K12: 46105 | L12: TX DGSA POR WP | M12: EMGA | N12: CERRADA
A13: 11 | B13: RECEPCION EN MARCO DE LA FIDAE | C13: EMBAJADA BRITANICA | D13: OPA | E13: FIDAE-009 | F13: CORREO | G13: 46100 | H13: 46118 | I13: NO ASISTE | J13: EMAIL | K13: 46105 | L13: TX DGSA POR WP | M13: EMGA | N13: CERRADA
A14: 12 | B14: INVITACION A SATND | C14: LEONARDO | D14: OPA | E14: FIDAE-011 | F14: CARTA | G14: 46105 | H14: 07 AL 12 ABRIL | I14: ASISTE | J14: EMAIL | K14: 46105 | M14: EMGA | N14: CERRADA
A15: 13 | B15: ACTO INAGURAL | C15: FIDAE | D15: OPA | E15: FIDAE-020 | F15: CARTA | G15: 46113 | H15: 07 DE ABRIL | I15: ASISTE | J15: EMAIL | K15: 46119 | M15: OPA | N15: CERRADA
A16: 14 | B16: ALMUERZO CAMARADERIA VIGESIMA CUARTA FIDAE 2026 | C16: CJ FACH | D16: OPA | E16: FIDAE-012 | F16: CORREO | G16: 46106 | H16: 07 DE ABRIL | I16: ASISTE | J16: EMAIL | K16: 46111 | L16: TX DGSA | M16: EMGA | N16: CERRADA
A17: 15 | B17: INVITACION VISISTA STAND HALLB BOOTH B110 | C17: INDRA | D17: OPA | E17: FIDAE-013 | F17: CORREO | G17: 46107 | H17: 07 AL 12 DE ABRIL | I17: EXCUSAR | J17: EMAIL | K17: 46119 | L17: TX DGSA | M17: EMGA | N17: CERRADA
A18: 16 | B18: INVITACION AMBASSADE DE FRANCE AU CHILI | C18: FRANCE | D18: OPA | E18: FIDAE-014 | F18: CORREO | G18: 46107 | H18: 07 AL 12 DE ABRIL | I18: RECIBE DIRECSERV | J18: EMAIL | K18: 46118 | L18: TX DGSA | M18: EMGA | N18: CERRADA | O18: DIRECSERV
A19: 17 | B19: COCTEL DE CELEBRACION PARTICIPACION BRASIL | C19: BRASIL | D19: OPA | E19: FIDAE-015 | F19: CORREO | G19: 46108 | H19: 07 DE ABRIL | J19: EMAIL | K19: 46120 | L19: TX DGSA | M19: OPA | N19: CERRADA
A20: 18 | B20: INVITACION STAND | C20: CHINA - NORINCO | D20: OPA | E20: FIDAE-016 | F20: CORREO | G20: 46108 | H20: 07 AL 12 DE ABRIL | I20: NO VOY | J20: EMAIL | K20: 46112 | L20: TX DGSA | M20: EMGA | N20: CERRADA
A21: 19 | B21: INVITACION A LA US AND CANDA VIP RECEPCTION | C21: KALLMAN | D21: OPA | E21: FIDAE-017 | F21: CORREO | G21: 46111 | H21: 07 DE ABRIL | I21: NO VOY | J21: EMAIL | K21: 46112 | L21: TX DGSA | M21: EMGA | N21: CERRADA | O21: RESPONDER QUE NO ASISTE
A22: 20 | B22: COCTEL DE CAMARADERIA CEO RAM | C22: RAM | D22: OPA | E22: FIDAE-018 | F22: CORREO | G22: 46111 | H22: 09 DE ABRIL | I22: NO VOY | M22: COLLAO | N22: PENDIENTE
A23: 21 | B23: RECEPCION CON MOTIVO ESPAÑA EN FIDAE 2026 | C23: EMBAJADORA ESPAÑA | D23: OPA | E23: FIDAE-019 | F23: CORREO | G23: 46112 | H23: 09 DE ABRIL | I23: NO VOY | J23: EMAIL | K23: 46119 | L23: TX DGSA | M23: OPA | N23: CERRADA
A24: 22 | B24: EXHIBICION DE SAAB, SISTEMA DE DEFEBSA Y SEGURIDAD | C24: SAAB | D24: OPA | E24: FIDAE-021 | F24: CORREO | G24: 46113 | H24: 7 AL 10 DE ABRIL | I24: EXCUSAR | J24: EMAIL | K24: 46119 | M24: OPA | N24: CERRADA
A25: 23 | B25: TOUR DE AERONAVE ESTADOS UNIDOS | C25: EMBAJADA USA | D25: OPA | E25: FIDAE -022 | F25: CORREO | G25: 46119 | H25: 46120 | I25: EXCUSAR | J25: EMAIL | K25: 46120 | M25: OPA | N25: CERRADA
A26: 24 | B26: ENBAJADORA RUPUBLICA CHECA COCKTEL | C26: EMBAJADORA REPUBLICA CHECKA | D26: OPA | E26: FIDAE -023 | F26: CORREO | G26: 46119 | H26: 46121 | I26: EXCUSAR | J26: EMAIL | K26: 46119 | M26: OPA | N26: CERRADA
A27: 25 | B27: RECEPCION INAGURAL FIDAE | C27: FECH | D27: OPA | E27: FIDAE-024 | F27: CORREO | G27: 46119 | H27: 46120 | I27: EXUCSAR / REPRESENTA VA VA MARIN | J27: EMAIL | K27: 46119 | M27: OPA | N27: CERRADA
