Workbook

Sheet MAESTRO
A1: N° | B1: PRECEDENCIA | C1: FUENTE | D1: TRATAMIENTO | E1: TRIBUNA | F1: NOMBRE COMPLETO | G1: NOMBRE | H1: APE. P. | I1: APE. M. | J1: AST. | K1: CARGO | L1: OBSERVACIONES | M1: TRIBUNA BASE | N1: DISTRIBUYE | O1: SEMAFORO | P1: ASIENTO
A2: =IF(COUNTA(C2:K2)=0,"",ROW()-1) | B2: =IF($F2<>"",$A2,"") | C2: OPA | D2: Su Excelencia | E2: =IF(UPPER($J2)="NO","",$M2) | F2: Kast Rist, José Antonio | G2: José Antonio | H2: Kast | I2: Rist | J2: SI | K2: * Presidente de la República | M2: VIP | N2: =IF(AND(UPPER($M2)="VIP",UPPER($J2)<>"NO",$F2<>""),"SI","NO") | O2: =IF(UPPER($J2)="SI","🟢",IF(UPPER($J2)="NO","🔴","🟡")) | P2: A23
A3: =IF(COUNTA(C3:K3)=0,"",ROW()-1) | B3: =IF($F3<>"",$A3,"") | C3: OPA | D3: Primera Dama | E3: =IF(UPPER($J3)="NO","",$M3) | F3: Adriasola Barroihet, María Pía | G3: María Pía | H3: Adriasola | I3: Barroihet | J3: SI | K3: Esposa del Presidente de la República | M3: VIP | N3: =IF(AND(UPPER($M3)="VIP",UPPER($J3)<>"NO",$F3<>""),"SI","NO") | O3: =IF(UPPER($J3)="SI","🟢",IF(UPPER($J3)="NO","🔴","🟡")) | P3: A22
A4: =IF(COUNTA(C4:K4)=0,"",ROW()-1) | B4: =IF($F4<>"",$A4,"") | C4: OPA | D4: Ministro | E4: =IF(UPPER($J4)="NO","",$M4) | F4: Barros Tocornal, Fernando | G4: Fernando | H4: Barros | I4: Tocornal | J4: SI | K4: *Ministro de Defensa Nacional | M4: VIP | N4: =IF(AND(UPPER($M4)="VIP",UPPER($J4)<>"NO",$F4<>""),"SI","NO") | O4: =IF(UPPER($J4)="SI","🟢",IF(UPPER($J4)="NO","🔴","🟡")) | P4: A24
A5: =IF(COUNTA(C5:K5)=0,"",ROW()-1) | B5: =IF($F5<>"",$A5,"") | C5: OPA | D5: Almirante | E5: =IF(UPPER($J5)="NO","",$M5) | F5: Cabrera Salazar, Fernando | G5: Fernando | H5: Cabrera | I5: Salazar | J5: SI | K5: *Comandante en Jefe de la Armada | M5: VIP | N5: =IF(AND(UPPER($M5)="VIP",UPPER($J5)<>"NO",$F5<>""),"SI","NO") | O5: =IF(UPPER($J5)="SI","🟢",IF(UPPER($J5)="NO","🔴","🟡")) | P5: A21
A6: =IF(COUNTA(C6:K6)=0,"",ROW()-1) | B6: =IF($F6<>"",$A6,"") | C6: OPA | D6: Señora | E6: =IF(UPPER($J6)="NO","",$M6) | F6: Mery, Roxana | G6: Roxana | H6: Mery | I6: Casella | J6: SI | K6: Esposa del Comandante en Jefe de la Armada | M6: VIP | N6: =IF(AND(UPPER($M6)="VIP",UPPER($J6)<>"NO",$F6<>""),"SI","NO") | O6: =IF(UPPER($J6)="SI","🟢",IF(UPPER($J6)="NO","🔴","🟡")) | P6: A25
A7: =IF(COUNTA(C7:K7)=0,"",ROW()-1) | B7: =IF($F7<>"",$A7,"") | C7: OPA | D7: Señora | E7: =IF(UPPER($J7)="NO","",$M7) | F7: Morel Montes, María Cecilia | G7: María Cecilia | H7: Morel | I7: Montes | J7: PENDIENTE | K7: Ex - Primera Dama | M7: VIP | N7: =IF(AND(UPPER($M7)="VIP",UPPER($J7)<>"NO",$F7<>""),"SI","NO") | O7: =IF(UPPER($J7)="SI","🟢",IF(UPPER($J7)="NO","🔴","🟡")) | P7: A20
A8: =IF(COUNTA(C8:K8)=0,"",ROW()-1) | B8: =IF($F8<>"",$A8,"") | C8: OPA | D8: Honorable Senador | E8: =IF(UPPER($J8)="NO","",$M8) | F8: Núñez Urrutia, Paulina | G8: Iván | H8: Moreira | I8: Barros | J8: SI | K8: *Presidenta del Senado (Representante). | M8: VIP | N8: =IF(AND(UPPER($M8)="VIP",UPPER($J8)<>"NO",$F8<>""),"SI","NO") | O8: =IF(UPPER($J8)="SI","🟢",IF(UPPER($J8)="NO","🔴","🟡")) | P8: A26
A9: =IF(COUNTA(C9:K9)=0,"",ROW()-1) | B9: =IF($F9<>"",$A9,"") | C9: OPA | D9: Honorable Diputado | E9: =IF(UPPER($J9)="NO","",$M9) | F9: Alessandri Vergara, Jorge | G9: Jorge | H9: Alessandri | I9: Vergara | J9: NO | K9: Presidente de la Cámara de Diputados | M9: VIP | N9: =IF(AND(UPPER($M9)="VIP",UPPER($J9)<>"NO",$F9<>""),"SI","NO") | O9: =IF(UPPER($J9)="SI","🟢",IF(UPPER($J9)="NO","🔴","🟡"))
A10: =IF(COUNTA(C10:K10)=0,"",ROW()-1) | B10: =IF($F10<>"",$A10,"") | C10: OPA | D10: Su Excelencia | E10: =IF(UPPER($J10)="NO","",$M10) | F10: Boric Font, Gabriel | G10: Gabriel | H10: Boric | I10: Font | J10: PENDIENTE | K10: Ex Presidente de la República | M10: VIP | N10: =IF(AND(UPPER($M10)="VIP",UPPER($J10)<>"NO",$F10<>""),"SI","NO") | O10: =IF(UPPER($J10)="SI","🟢",IF(UPPER($J10)="NO","🔴","🟡")) | P10: A19
A11: =IF(COUNTA(C11:K11)=0,"",ROW()-1) | B11: =IF($F11<>"",$A11,"") | C11: OPA | E11: =IF(UPPER($J11)="NO","",$M11) | F11: Bachelet Jeria, Michelle | G11: Michelle | H11: Bachelet | I11: Jeria | J11: PENDIENTE | K11: Ex Presidenta de la República | M11: VIP | N11: =IF(AND(UPPER($M11)="VIP",UPPER($J11)<>"NO",$F11<>""),"SI","NO") | O11: =IF(UPPER($J11)="SI","🟢",IF(UPPER($J11)="NO","🔴","🟡")) | P11: A27
A12: =IF(COUNTA(C12:K12)=0,"",ROW()-1) | B12: =IF($F12<>"",$A12,"") | C12: OPA | D12: Su Excelencia | E12: =IF(UPPER($J12)="NO","",$M12) | F12: Lagos Escobar, Ricardo | G12: Ricardo | H12: Lagos | I12: Escobar | J12: PENDIENTE | K12: Ex Presidente de la República | M12: VIP | N12: =IF(AND(UPPER($M12)="VIP",UPPER($J12)<>"NO",$F12<>""),"SI","NO") | O12: =IF(UPPER($J12)="SI","🟢",IF(UPPER($J12)="NO","🔴","🟡")) | P12: A18
A13: =IF(COUNTA(C13:K13)=0,"",ROW()-1) | B13: =IF($F13<>"",$A13,"") | C13: OPA | D13: Su Excelencia | E13: =IF(UPPER($J13)="NO","",$M13) | F13: Frei Ruiz-tagle, Eduardo | G13: Eduardo | H13: Frei | I13: Ruiz-tagle | J13: PENDIENTE | K13: Ex Presidente de la República | M13: VIP | N13: =IF(AND(UPPER($M13)="VIP",UPPER($J13)<>"NO",$F13<>""),"SI","NO") | O13: =IF(UPPER($J13)="SI","🟢",IF(UPPER($J13)="NO","🔴","🟡")) | P13: A28
A14: =IF(COUNTA(C14:K14)=0,"",ROW()-1) | B14: =IF($F14<>"",$A14,"") | C14: OPA | D14: Presidente | E14: =IF(UPPER($J14)="NO","",$M14) | F14: Marzi Muñoz, Daniela | G14: Daniela | H14: Marzi | I14: Muñoz | J14: NO | K14: Presidente del Tribunal Constitucional | M14: VIP | N14: =IF(AND(UPPER($M14)="VIP",UPPER($J14)<>"NO",$F14<>""),"SI","NO") | O14: =IF(UPPER($J14)="SI","🟢",IF(UPPER($J14)="NO","🔴","🟡"))
A15: =IF(COUNTA(C15:K15)=0,"",ROW()-1) | B15: =IF($F15<>"",$A15,"") | C15: OPA | D15: Contralora | E15: =IF(UPPER($J15)="NO","",$M15) | F15: Pérez Gutiérrez, Dorothy | G15: Dorothy | H15: Pérez | I15: Gutiérrez | J15: NO | K15: Contralora General de la República | M15: VIP | N15: =IF(AND(UPPER($M15)="VIP",UPPER($J15)<>"NO",$F15<>""),"SI","NO") | O15: =IF(UPPER($J15)="SI","🟢",IF(UPPER($J15)="NO","🔴","🟡"))
A16: =IF(COUNTA(C16:K16)=0,"",ROW()-1) | B16: =IF($F16<>"",$A16,"") | C16: OPA | D16: Fiscal | E16: =IF(UPPER($J16)="NO","",$M16) | F16: Valencia Vásquez, Ángel | G16: Ángel | H16: Valencia | I16: Vásquez | J16: NO | K16: Fiscal Nacional del Ministerio Público | M16: VIP | N16: =IF(AND(UPPER($M16)="VIP",UPPER($J16)<>"NO",$F16<>""),"SI","NO") | O16: =IF(UPPER($J16)="SI","🟢",IF(UPPER($J16)="NO","🔴","🟡"))
A17: =IF(COUNTA(C17:K17)=0,"",ROW()-1) | B17: =IF($F17<>"",$A17,"") | C17: OPA | D17: Ministro | E17: =IF(UPPER($J17)="NO","",$M17) | F17: Alvarado Andrade, Claudio | G17: Claudio | H17: Alvarado | I17: Andrade | J17: PENDIENTE | K17: Biministro del Interior y Secretario General de Gobierno | M17: VIP | N17: =IF(AND(UPPER($M17)="VIP",UPPER($J17)<>"NO",$F17<>""),"SI","NO") | O17: =IF(UPPER($J17)="SI","🟢",IF(UPPER($J17)="NO","🔴","🟡")) | P17: A17
A18: =IF(COUNTA(C18:K18)=0,"",ROW()-1) | B18: =IF($F18<>"",$A18,"") | C18: OPA | D18: Ministro | E18: =IF(UPPER($J18)="NO","",$M18) | F18: Pérez Mackenna, Francisco | G18: Francisco | H18: Pérez | I18: Mackenna | J18: NO | K18: Ministro de Relaciones Exteriores | M18: VIP | N18: =IF(AND(UPPER($M18)="VIP",UPPER($J18)<>"NO",$F18<>""),"SI","NO") | O18: =IF(UPPER($J18)="SI","🟢",IF(UPPER($J18)="NO","🔴","🟡"))
A19: =IF(COUNTA(C19:K19)=0,"",ROW()-1) | B19: =IF($F19<>"",$A19,"") | C19: OPA | D19: Ministro | E19: =IF(UPPER($J19)="NO","",$M19) | F19: Quiroz Castro, Jorge | G19: Jorge | H19: Quiroz | I19: Castro | J19: NO | K19: Ministro de Hacienda | M19: VIP | N19: =IF(AND(UPPER($M19)="VIP",UPPER($J19)<>"NO",$F19<>""),"SI","NO") | O19: =IF(UPPER($J19)="SI","🟢",IF(UPPER($J19)="NO","🔴","🟡"))
A20: =IF(COUNTA(C20:K20)=0,"",ROW()-1) | B20: =IF($F20<>"",$A20,"") | C20: OPA | D20: Ministro | E20: =IF(UPPER($J20)="NO","",$M20) | F20: Mas Valdés, Daniel | G20: Daniel | H20: Mas | I20: Valdés | J20: NO | K20: Biministro de Minería, Economía y Turismo | M20: VIP | N20: =IF(AND(UPPER($M20)="VIP",UPPER($J20)<>"NO",$F20<>""),"SI","NO") | O20: =IF(UPPER($J20)="SI","🟢",IF(UPPER($J20)="NO","🔴","🟡"))
A21: =IF(COUNTA(C21:K21)=0,"",ROW()-1) | B21: =IF($F21<>"",$A21,"") | C21: OPA | D21: Ministro | E21: =IF(UPPER($J21)="NO","",$M21) | F21: Arzola González, María Paz | G21: María Paz | H21: Arzola | I21: González | J21: NO | K21: Ministra de Educación | M21: VIP | N21: =IF(AND(UPPER($M21)="VIP",UPPER($J21)<>"NO",$F21<>""),"SI","NO") | O21: =IF(UPPER($J21)="SI","🟢",IF(UPPER($J21)="NO","🔴","🟡"))
A22: =IF(COUNTA(C22:K22)=0,"",ROW()-1) | B22: =IF($F22<>"",$A22,"") | C22: OPA | D22: Ministro | E22: =IF(UPPER($J22)="NO","",$M22) | F22: De Grange Concha, Louis | G22: Louis | H22: De Grange | I22: Concha | J22: NO | K22: Biministro de Obras Publicas, Transporte y Telecomunicaciones | M22: VIP | N22: =IF(AND(UPPER($M22)="VIP",UPPER($J22)<>"NO",$F22<>""),"SI","NO") | O22: =IF(UPPER($J22)="SI","🟢",IF(UPPER($J22)="NO","🔴","🟡"))
A23: =IF(COUNTA(C23:K23)=0,"",ROW()-1) | B23: =IF($F23<>"",$A23,"") | C23: OPA | D23: Ministro | E23: =IF(UPPER($J23)="NO","",$M23) | F23: Parot Donoso, Catalina | G23: Catalina | H23: Parot | I23: Donoso | J23: PENDIENTE | K23: Ministra de Bienes Nacionales | M23: VIP | N23: =IF(AND(UPPER($M23)="VIP",UPPER($J23)<>"NO",$F23<>""),"SI","NO") | O23: =IF(UPPER($J23)="SI","🟢",IF(UPPER($J23)="NO","🔴","🟡")) | P23: A29
A24: =IF(COUNTA(C24:K24)=0,"",ROW()-1) | B24: =IF($F24<>"",$A24,"") | C24: OPA | D24: Ministro | E24: =IF(UPPER($J24)="NO","",$M24) | F24: Rincón González, Ximena | G24: Ximena | H24: Rincón | I24: González | J24: NO | K24: Ministra de Energía | M24: VIP | N24: =IF(AND(UPPER($M24)="VIP",UPPER($J24)<>"NO",$F24<>""),"SI","NO") | O24: =IF(UPPER($J24)="SI","🟢",IF(UPPER($J24)="NO","🔴","🟡"))
A25: =IF(COUNTA(C25:K25)=0,"",ROW()-1) | B25: =IF($F25<>"",$A25,"") | C25: OPA | D25: Ministro | E25: =IF(UPPER($J25)="NO","",$M25) | F25: Toledo Echegaray, Francisca | G25: Francisca | H25: Toledo | I25: Echegaray | J25: NO | K25: Ministra del Medio Ambiente | M25: VIP | N25: =IF(AND(UPPER($M25)="VIP",UPPER($J25)<>"NO",$F25<>""),"SI","NO") | O25: =IF(UPPER($J25)="SI","🟢",IF(UPPER($J25)="NO","🔴","🟡"))
A26: =IF(COUNTA(C26:K26)=0,"",ROW()-1) | B26: =IF($F26<>"",$A26,"") | C26: OPA | D26: Ministro | E26: =IF(UPPER($J26)="NO","",$M26) | F26: Undurruga Gazitúa, Francisco | G26: Francisco | H26: Undurruga | I26: Gazitúa | J26: PENDIENTE | K26: Ministro de las Culturas, las Artes y el Patrimonio | M26: VIP | N26: =IF(AND(UPPER($M26)="VIP",UPPER($J26)<>"NO",$F26<>""),"SI","NO") | O26: =IF(UPPER($J26)="SI","🟢",IF(UPPER($J26)="NO","🔴","🟡")) | P26: A16
A27: =IF(COUNTA(C27:K27)=0,"",ROW()-1) | B27: =IF($F27<>"",$A27,"") | C27: OPA | D27: Ministro | E27: =IF(UPPER($J27)="NO","",$M27) | F27: Lincolao Gates, Ximena | G27: Ximena | H27: Lincolao | I27: Gates | J27: NO | K27: Ministra de Ciencia, Tecnología, Conocimiento e Innovación | M27: VIP | N27: =IF(AND(UPPER($M27)="VIP",UPPER($J27)<>"NO",$F27<>""),"SI","NO") | O27: =IF(UPPER($J27)="SI","🟢",IF(UPPER($J27)="NO","🔴","🟡"))
A28: =IF(COUNTA(C28:K28)=0,"",ROW()-1) | B28: =IF($F28<>"",$A28,"") | C28: OPA | D28: Ministro | E28: =IF(UPPER($J28)="NO","",$M28) | F28: Burgos Varela, Jorge | G28: Jorge | H28: Burgos | I28: Varela | J28: NO | K28: Ex Ministro de Defensa Nacional | M28: VIP | N28: =IF(AND(UPPER($M28)="VIP",UPPER($J28)<>"NO",$F28<>""),"SI","NO") | O28: =IF(UPPER($J28)="SI","🟢",IF(UPPER($J28)="NO","🔴","🟡"))
A29: =IF(COUNTA(C29:K29)=0,"",ROW()-1) | B29: =IF($F29<>"",$A29,"") | C29: OPA | D29: Ministro | E29: =IF(UPPER($J29)="NO","",$M29) | F29: Fernández Allende, Maya | G29: Maya | H29: Fernández | I29: Allende | J29: PENDIENTE | K29: Ex Ministra de Defensa Nacional | M29: VIP | N29: =IF(AND(UPPER($M29)="VIP",UPPER($J29)<>"NO",$F29<>""),"SI","NO") | O29: =IF(UPPER($J29)="SI","🟢",IF(UPPER($J29)="NO","🔴","🟡")) | P29: A30
A30: =IF(COUNTA(C30:K30)=0,"",ROW()-1) | B30: =IF($F30<>"",$A30,"") | C30: OPA | D30: Ministro | E30: =IF(UPPER($J30)="NO","",$M30) | F30: Delpiano Puelma, Adriana | G30: Adriana | H30: Delpiano | I30: Puelma | J30: PENDIENTE | K30: Ex Ministra de Defensa Nacional | M30: VIP | N30: =IF(AND(UPPER($M30)="VIP",UPPER($J30)<>"NO",$F30<>""),"SI","NO") | O30: =IF(UPPER($J30)="SI","🟢",IF(UPPER($J30)="NO","🔴","🟡")) | P30: A15
A31: =IF(COUNTA(C31:K31)=0,"",ROW()-1) | B31: =IF($F31<>"",$A31,"") | C31: OPA | D31: Excelentísima | E31: =IF(UPPER($J31)="NO","",$M31) | F31: El Ghali, Kenza | G31: Kenza | H31: El Ghali | J31: NO | K31: Embajador de Marruecos | M31: VIP | N31: =IF(AND(UPPER($M31)="VIP",UPPER($J31)<>"NO",$F31<>""),"SI","NO") | O31: =IF(UPPER($J31)="SI","🟢",IF(UPPER($J31)="NO","🔴","🟡"))
A32: =IF(COUNTA(C32:K32)=0,"",ROW()-1) | B32: =IF($F32<>"",$A32,"") | C32: OPA | D32: Excelentísima | E32: =IF(UPPER($J32)="NO","",$M32) | F32: Soares Pacheco, Paulo | G32: Paulo | H32: Soares | I32: Pacheco | J32: NO | K32: Embajador de Brasil en Chile | M32: VIP | N32: =IF(AND(UPPER($M32)="VIP",UPPER($J32)<>"NO",$F32<>""),"SI","NO") | O32: =IF(UPPER($J32)="SI","🟢",IF(UPPER($J32)="NO","🔴","🟡"))
A33: =IF(COUNTA(C33:K33)=0,"",ROW()-1) | B33: =IF($F33<>"",$A33,"") | C33: OPA | D33: Excelentísima | E33: =IF(UPPER($J33)="NO","",$M33) | F33: Qingbao, Niu | G33: Niu | H33: Qingbao | J33: PENDIENTE | K33: Embajador de la República Popular China en Chile | M33: VIP | N33: =IF(AND(UPPER($M33)="VIP",UPPER($J33)<>"NO",$F33<>""),"SI","NO") | O33: =IF(UPPER($J33)="SI","🟢",IF(UPPER($J33)="NO","🔴","🟡")) | P33: A31
A34: =IF(COUNTA(C34:K34)=0,"",ROW()-1) | B34: =IF($F34<>"",$A34,"") | C34: OPA | D34: Excelentísima | E34: =IF(UPPER($J34)="NO","",$M34) | F34: Kotkajarvi, Johanna | G34: Johanna | H34: Kotkajarvi | J34: PENDIENTE | K34: Embajadora de Finlandia en Chile | M34: VIP | N34: =IF(AND(UPPER($M34)="VIP",UPPER($J34)<>"NO",$F34<>""),"SI","NO") | O34: =IF(UPPER($J34)="SI","🟢",IF(UPPER($J34)="NO","🔴","🟡")) | P34: A14
A35: =IF(COUNTA(C35:K35)=0,"",ROW()-1) | B35: =IF($F35<>"",$A35,"") | C35: OPA | D35: Excelentísima | E35: =IF(UPPER($J35)="NO","",$M35) | F35: Biagiotti, Valeria | G35: Valeria | H35: Biagiotti | J35: PENDIENTE | K35: Embajadora de Italia en Chile | M35: VIP | N35: =IF(AND(UPPER($M35)="VIP",UPPER($J35)<>"NO",$F35<>""),"SI","NO") | O35: =IF(UPPER($J35)="SI","🟢",IF(UPPER($J35)="NO","🔴","🟡")) | P35: A32
A36: =IF(COUNTA(C36:K36)=0,"",ROW()-1) | B36: =IF($F36<>"",$A36,"") | C36: OPA | D36: Excelentísima | E36: =IF(UPPER($J36)="NO","",$M36) | F36: Jae Kim, Hak | G36: Hak | H36: Jae Kim | J36: NO | K36: Embajadora de Corea en Chile | M36: VIP | N36: =IF(AND(UPPER($M36)="VIP",UPPER($J36)<>"NO",$F36<>""),"SI","NO") | O36: =IF(UPPER($J36)="SI","🟢",IF(UPPER($J36)="NO","🔴","🟡"))
A37: =IF(COUNTA(C37:K37)=0,"",ROW()-1) | B37: =IF($F37<>"",$A37,"") | C37: OPA | D37: Excelentísima | E37: =IF(UPPER($J37)="NO","",$M37) | F37: Moreno Rodriguez, Laura | G37: Laura | H37: Moreno | I37: Rodriguez | J37: NO | K37: Embajadora de Mexico en Chile | M37: VIP | N37: =IF(AND(UPPER($M37)="VIP",UPPER($J37)<>"NO",$F37<>""),"SI","NO") | O37: =IF(UPPER($J37)="SI","🟢",IF(UPPER($J37)="NO","🔴","🟡"))
A38: =IF(COUNTA(C38:K38)=0,"",ROW()-1) | B38: =IF($F38<>"",$A38,"") | C38: OPA | D38: Excelentísima | E38: =IF(UPPER($J38)="NO","",$M38) | F38: Faurie, Jorge | G38: Jorge | H38: Faurie | J38: NO | K38: Embajador de Argentina en Chile | M38: VIP | N38: =IF(AND(UPPER($M38)="VIP",UPPER($J38)<>"NO",$F38<>""),"SI","NO") | O38: =IF(UPPER($J38)="SI","🟢",IF(UPPER($J38)="NO","🔴","🟡"))
A39: =IF(COUNTA(C39:K39)=0,"",ROW()-1) | B39: =IF($F39<>"",$A39,"") | C39: OPA | D39: Excelentísima | E39: =IF(UPPER($J39)="NO","",$M39) | F39: Barrit Martin, Andrew James | G39: Andrew James | H39: Barrit | I39: Martin | J39: PENDIENTE | K39: Embajador de Australia en Chile | M39: VIP | N39: =IF(AND(UPPER($M39)="VIP",UPPER($J39)<>"NO",$F39<>""),"SI","NO") | O39: =IF(UPPER($J39)="SI","🟢",IF(UPPER($J39)="NO","🔴","🟡")) | P39: A13
A40: =IF(COUNTA(C40:K40)=0,"",ROW()-1) | B40: =IF($F40<>"",$A40,"") | C40: OPA | D40: Excelentísima | E40: =IF(UPPER($J40)="NO","",$M40) | F40: Rogeau, Cyrille | G40: Cyrille | H40: Rogeau | J40: NO | K40: Embajador de Francia en Chile | M40: VIP | N40: =IF(AND(UPPER($M40)="VIP",UPPER($J40)<>"NO",$F40<>""),"SI","NO") | O40: =IF(UPPER($J40)="SI","🟢",IF(UPPER($J40)="NO","🔴","🟡"))
...

Sheet CONTROL ASISTENCIA
A1: CONTROL ASISTENCIA - GENERAL / VIP / 3 TRIBUNAS | L1: RESUMEN DISTRIBUCIÓN VIP
L2: VIP a distribuir | M2: 239
A3: Indicador | B3: Cantidad | C3: Referencia | E3: TRIBUNA | F3: TOTAL BASE | G3: SI | H3: NO | I3: PENDIENTE | J3: DISTRIBUYE | L3: Capacidad VIP | M3: 155
A4: Total invitados | B4: =COUNTA(MAESTRO!$F$2:$F$1200) | C4: NOMBRE COMPLETO | E4: VIP | F4: =COUNTIFS(MAESTRO!$F$2:$F$1200,"<>",MAESTRO!$M$2:$M$1200,E4) | G4: =COUNTIFS(MAESTRO!$F$2:$F$1200,"<>",MAESTRO!$M$2:$M$1200,E4,MAESTRO!$J$2:$J$1200,"SI") | H4: =COUNTIFS(MAESTRO!$F$2:$F$1200,"<>",MAESTRO!$M$2:$M$1200,E4,MAESTRO!$J$2:$J$1200,"NO") | I4: =F4-G4-H4 | J4: =COUNTIFS(MAESTRO!$F$2:$F$1200,"<>",MAESTRO!$E$2:$E$1200,E4,MAESTRO!$N$2:$N$1200,"SI") | L4: Asignados | M4: 155
A5: Confirmados SI | B5: =COUNTIFS(MAESTRO!$F$2:$F$1200,"<>",MAESTRO!$J$2:$J$1200,"SI") | C5: AST. | E5: LATERAL VIP | F5: =COUNTIFS(MAESTRO!$F$2:$F$1200,"<>",MAESTRO!$M$2:$M$1200,E5) | G5: =COUNTIFS(MAESTRO!$F$2:$F$1200,"<>",MAESTRO!$M$2:$M$1200,E5,MAESTRO!$J$2:$J$1200,"SI") | H5: =COUNTIFS(MAESTRO!$F$2:$F$1200,"<>",MAESTRO!$M$2:$M$1200,E5,MAESTRO!$J$2:$J$1200,"NO") | I5: =F5-G5-H5 | J5: =COUNTIFS(MAESTRO!$F$2:$F$1200,"<>",MAESTRO!$E$2:$E$1200,E5,MAESTRO!$N$2:$N$1200,"SI") | L5: Pendiente | M5: 84
A6: No asisten | B6: =COUNTIFS(MAESTRO!$F$2:$F$1200,"<>",MAESTRO!$J$2:$J$1200,"NO") | C6: AST. | E6: LATERAL | F6: =COUNTIFS(MAESTRO!$F$2:$F$1200,"<>",MAESTRO!$M$2:$M$1200,E6) | G6: =COUNTIFS(MAESTRO!$F$2:$F$1200,"<>",MAESTRO!$M$2:$M$1200,E6,MAESTRO!$J$2:$J$1200,"SI") | H6: =COUNTIFS(MAESTRO!$F$2:$F$1200,"<>",MAESTRO!$M$2:$M$1200,E6,MAESTRO!$J$2:$J$1200,"NO") | I6: =F6-G6-H6 | J6: =COUNTIFS(MAESTRO!$F$2:$F$1200,"<>",MAESTRO!$E$2:$E$1200,E6,MAESTRO!$N$2:$N$1200,"SI")
A7: Pendientes | B7: =B4-B5-B6 | C7: AST.
A8: Distribuye | B8: =COUNTIFS(MAESTRO!$F$2:$F$1200,"<>",MAESTRO!$N$2:$N$1200,"SI") | C8: AST. distinto de NO
A9: VIP distribuye | B9: =COUNTIFS(MAESTRO!$F$2:$F$1200,"<>",MAESTRO!$E$2:$E$1200,"VIP",MAESTRO!$N$2:$N$1200,"SI") | C9: Solo TRIBUNA = VIP
A10: Capacidad VIP | B10: =149 | C10: Plano 149 asientos
A11: VIP sin asignar | B11: =MAX(0,B9-B10) | C11: Exceso sobre 149
A14: RESUMEN POR FUENTE
A15: FUENTE | B15: TOTAL | C15: SI | D15: NO | E15: PENDIENTE | F15: VIP | G15: LATERAL VIP | H15: LATERAL | I15: DISTRIBUYE
A16: ACADÉMICOS | B16: =IF($A16="","",COUNTIFS(MAESTRO!$C$2:$C$1200,$A16,MAESTRO!$F$2:$F$1200,"<>")) | C16: =IF($A16="","",COUNTIFS(MAESTRO!$C$2:$C$1200,$A16,MAESTRO!$J$2:$J$1200,"SI",MAESTRO!$F$2:$F$1200,"<>")) | D16: =IF($A16="","",COUNTIFS(MAESTRO!$C$2:$C$1200,$A16,MAESTRO!$J$2:$J$1200,"NO",MAESTRO!$F$2:$F$1200,"<>")) | E16: =IF($A16="","",B16-C16-D16) | F16: =IF($A16="","",COUNTIFS(MAESTRO!$C$2:$C$1200,$A16,MAESTRO!$M$2:$M$1200,"VIP",MAESTRO!$F$2:$F$1200,"<>")) | G16: =IF($A16="","",COUNTIFS(MAESTRO!$C$2:$C$1200,$A16,MAESTRO!$M$2:$M$1200,"LATERAL VIP",MAESTRO!$F$2:$F$1200,"<>")) | H16: =IF($A16="","",COUNTIFS(MAESTRO!$C$2:$C$1200,$A16,MAESTRO!$M$2:$M$1200,"LATERAL",MAESTRO!$F$2:$F$1200,"<>")) | I16: =IF($A16="","",COUNTIFS(MAESTRO!$C$2:$C$1200,$A16,MAESTRO!$N$2:$N$1200,"SI",MAESTRO!$F$2:$F$1200,"<>"))
A17: ASMAR | B17: =IF($A17="","",COUNTIFS(MAESTRO!$C$2:$C$1200,$A17,MAESTRO!$F$2:$F$1200,"<>")) | C17: =IF($A17="","",COUNTIFS(MAESTRO!$C$2:$C$1200,$A17,MAESTRO!$J$2:$J$1200,"SI",MAESTRO!$F$2:$F$1200,"<>")) | D17: =IF($A17="","",COUNTIFS(MAESTRO!$C$2:$C$1200,$A17,MAESTRO!$J$2:$J$1200,"NO",MAESTRO!$F$2:$F$1200,"<>")) | E17: =IF($A17="","",B17-C17-D17) | F17: =IF($A17="","",COUNTIFS(MAESTRO!$C$2:$C$1200,$A17,MAESTRO!$M$2:$M$1200,"VIP",MAESTRO!$F$2:$F$1200,"<>")) | G17: =IF($A17="","",COUNTIFS(MAESTRO!$C$2:$C$1200,$A17,MAESTRO!$M$2:$M$1200,"LATERAL VIP",MAESTRO!$F$2:$F$1200,"<>")) | H17: =IF($A17="","",COUNTIFS(MAESTRO!$C$2:$C$1200,$A17,MAESTRO!$M$2:$M$1200,"LATERAL",MAESTRO!$F$2:$F$1200,"<>")) | I17: =IF($A17="","",COUNTIFS(MAESTRO!$C$2:$C$1200,$A17,MAESTRO!$N$2:$N$1200,"SI",MAESTRO!$F$2:$F$1200,"<>"))
A18: ASMAR DIRECCIÓN | B18: =IF($A18="","",COUNTIFS(MAESTRO!$C$2:$C$1200,$A18,MAESTRO!$F$2:$F$1200,"<>")) | C18: =IF($A18="","",COUNTIFS(MAESTRO!$C$2:$C$1200,$A18,MAESTRO!$J$2:$J$1200,"SI",MAESTRO!$F$2:$F$1200,"<>")) | D18: =IF($A18="","",COUNTIFS(MAESTRO!$C$2:$C$1200,$A18,MAESTRO!$J$2:$J$1200,"NO",MAESTRO!$F$2:$F$1200,"<>")) | E18: =IF($A18="","",B18-C18-D18) | F18: =IF($A18="","",COUNTIFS(MAESTRO!$C$2:$C$1200,$A18,MAESTRO!$M$2:$M$1200,"VIP",MAESTRO!$F$2:$F$1200,"<>")) | G18: =IF($A18="","",COUNTIFS(MAESTRO!$C$2:$C$1200,$A18,MAESTRO!$M$2:$M$1200,"LATERAL VIP",MAESTRO!$F$2:$F$1200,"<>")) | H18: =IF($A18="","",COUNTIFS(MAESTRO!$C$2:$C$1200,$A18,MAESTRO!$M$2:$M$1200,"LATERAL",MAESTRO!$F$2:$F$1200,"<>")) | I18: =IF($A18="","",COUNTIFS(MAESTRO!$C$2:$C$1200,$A18,MAESTRO!$N$2:$N$1200,"SI",MAESTRO!$F$2:$F$1200,"<>"))
A19: ASMARMAG | B19: =IF($A19="","",COUNTIFS(MAESTRO!$C$2:$C$1200,$A19,MAESTRO!$F$2:$F$1200,"<>")) | C19: =IF($A19="","",COUNTIFS(MAESTRO!$C$2:$C$1200,$A19,MAESTRO!$J$2:$J$1200,"SI",MAESTRO!$F$2:$F$1200,"<>")) | D19: =IF($A19="","",COUNTIFS(MAESTRO!$C$2:$C$1200,$A19,MAESTRO!$J$2:$J$1200,"NO",MAESTRO!$F$2:$F$1200,"<>")) | E19: =IF($A19="","",B19-C19-D19) | F19: =IF($A19="","",COUNTIFS(MAESTRO!$C$2:$C$1200,$A19,MAESTRO!$M$2:$M$1200,"VIP",MAESTRO!$F$2:$F$1200,"<>")) | G19: =IF($A19="","",COUNTIFS(MAESTRO!$C$2:$C$1200,$A19,MAESTRO!$M$2:$M$1200,"LATERAL VIP",MAESTRO!$F$2:$F$1200,"<>")) | H19: =IF($A19="","",COUNTIFS(MAESTRO!$C$2:$C$1200,$A19,MAESTRO!$M$2:$M$1200,"LATERAL",MAESTRO!$F$2:$F$1200,"<>")) | I19: =IF($A19="","",COUNTIFS(MAESTRO!$C$2:$C$1200,$A19,MAESTRO!$N$2:$N$1200,"SI",MAESTRO!$F$2:$F$1200,"<>"))
A20: ASMARTALC | B20: =IF($A20="","",COUNTIFS(MAESTRO!$C$2:$C$1200,$A20,MAESTRO!$F$2:$F$1200,"<>")) | C20: =IF($A20="","",COUNTIFS(MAESTRO!$C$2:$C$1200,$A20,MAESTRO!$J$2:$J$1200,"SI",MAESTRO!$F$2:$F$1200,"<>")) | D20: =IF($A20="","",COUNTIFS(MAESTRO!$C$2:$C$1200,$A20,MAESTRO!$J$2:$J$1200,"NO",MAESTRO!$F$2:$F$1200,"<>")) | E20: =IF($A20="","",B20-C20-D20) | F20: =IF($A20="","",COUNTIFS(MAESTRO!$C$2:$C$1200,$A20,MAESTRO!$M$2:$M$1200,"VIP",MAESTRO!$F$2:$F$1200,"<>")) | G20: =IF($A20="","",COUNTIFS(MAESTRO!$C$2:$C$1200,$A20,MAESTRO!$M$2:$M$1200,"LATERAL VIP",MAESTRO!$F$2:$F$1200,"<>")) | H20: =IF($A20="","",COUNTIFS(MAESTRO!$C$2:$C$1200,$A20,MAESTRO!$M$2:$M$1200,"LATERAL",MAESTRO!$F$2:$F$1200,"<>")) | I20: =IF($A20="","",COUNTIFS(MAESTRO!$C$2:$C$1200,$A20,MAESTRO!$N$2:$N$1200,"SI",MAESTRO!$F$2:$F$1200,"<>"))
A21: ASMARVALP | B21: =IF($A21="","",COUNTIFS(MAESTRO!$C$2:$C$1200,$A21,MAESTRO!$F$2:$F$1200,"<>")) | C21: =IF($A21="","",COUNTIFS(MAESTRO!$C$2:$C$1200,$A21,MAESTRO!$J$2:$J$1200,"SI",MAESTRO!$F$2:$F$1200,"<>")) | D21: =IF($A21="","",COUNTIFS(MAESTRO!$C$2:$C$1200,$A21,MAESTRO!$J$2:$J$1200,"NO",MAESTRO!$F$2:$F$1200,"<>")) | E21: =IF($A21="","",B21-C21-D21) | F21: =IF($A21="","",COUNTIFS(MAESTRO!$C$2:$C$1200,$A21,MAESTRO!$M$2:$M$1200,"VIP",MAESTRO!$F$2:$F$1200,"<>")) | G21: =IF($A21="","",COUNTIFS(MAESTRO!$C$2:$C$1200,$A21,MAESTRO!$M$2:$M$1200,"LATERAL VIP",MAESTRO!$F$2:$F$1200,"<>")) | H21: =IF($A21="","",COUNTIFS(MAESTRO!$C$2:$C$1200,$A21,MAESTRO!$M$2:$M$1200,"LATERAL",MAESTRO!$F$2:$F$1200,"<>")) | I21: =IF($A21="","",COUNTIFS(MAESTRO!$C$2:$C$1200,$A21,MAESTRO!$N$2:$N$1200,"SI",MAESTRO!$F$2:$F$1200,"<>"))
A22: CIVILES | B22: =IF($A22="","",COUNTIFS(MAESTRO!$C$2:$C$1200,$A22,MAESTRO!$F$2:$F$1200,"<>")) | C22: =IF($A22="","",COUNTIFS(MAESTRO!$C$2:$C$1200,$A22,MAESTRO!$J$2:$J$1200,"SI",MAESTRO!$F$2:$F$1200,"<>")) | D22: =IF($A22="","",COUNTIFS(MAESTRO!$C$2:$C$1200,$A22,MAESTRO!$J$2:$J$1200,"NO",MAESTRO!$F$2:$F$1200,"<>")) | E22: =IF($A22="","",B22-C22-D22) | F22: =IF($A22="","",COUNTIFS(MAESTRO!$C$2:$C$1200,$A22,MAESTRO!$M$2:$M$1200,"VIP",MAESTRO!$F$2:$F$1200,"<>")) | G22: =IF($A22="","",COUNTIFS(MAESTRO!$C$2:$C$1200,$A22,MAESTRO!$M$2:$M$1200,"LATERAL VIP",MAESTRO!$F$2:$F$1200,"<>")) | H22: =IF($A22="","",COUNTIFS(MAESTRO!$C$2:$C$1200,$A22,MAESTRO!$M$2:$M$1200,"LATERAL",MAESTRO!$F$2:$F$1200,"<>")) | I22: =IF($A22="","",COUNTIFS(MAESTRO!$C$2:$C$1200,$A22,MAESTRO!$N$2:$N$1200,"SI",MAESTRO!$F$2:$F$1200,"<>"))
A23: INVITADOS ASMAR | B23: =IF($A23="","",COUNTIFS(MAESTRO!$C$2:$C$1200,$A23,MAESTRO!$F$2:$F$1200,"<>")) | C23: =IF($A23="","",COUNTIFS(MAESTRO!$C$2:$C$1200,$A23,MAESTRO!$J$2:$J$1200,"SI",MAESTRO!$F$2:$F$1200,"<>")) | D23: =IF($A23="","",COUNTIFS(MAESTRO!$C$2:$C$1200,$A23,MAESTRO!$J$2:$J$1200,"NO",MAESTRO!$F$2:$F$1200,"<>")) | E23: =IF($A23="","",B23-C23-D23) | F23: =IF($A23="","",COUNTIFS(MAESTRO!$C$2:$C$1200,$A23,MAESTRO!$M$2:$M$1200,"VIP",MAESTRO!$F$2:$F$1200,"<>")) | G23: =IF($A23="","",COUNTIFS(MAESTRO!$C$2:$C$1200,$A23,MAESTRO!$M$2:$M$1200,"LATERAL VIP",MAESTRO!$F$2:$F$1200,"<>")) | H23: =IF($A23="","",COUNTIFS(MAESTRO!$C$2:$C$1200,$A23,MAESTRO!$M$2:$M$1200,"LATERAL",MAESTRO!$F$2:$F$1200,"<>")) | I23: =IF($A23="","",COUNTIFS(MAESTRO!$C$2:$C$1200,$A23,MAESTRO!$N$2:$N$1200,"SI",MAESTRO!$F$2:$F$1200,"<>"))
A24: INVITADOS DGSA | B24: =IF($A24="","",COUNTIFS(MAESTRO!$C$2:$C$1200,$A24,MAESTRO!$F$2:$F$1200,"<>")) | C24: =IF($A24="","",COUNTIFS(MAESTRO!$C$2:$C$1200,$A24,MAESTRO!$J$2:$J$1200,"SI",MAESTRO!$F$2:$F$1200,"<>")) | D24: =IF($A24="","",COUNTIFS(MAESTRO!$C$2:$C$1200,$A24,MAESTRO!$J$2:$J$1200,"NO",MAESTRO!$F$2:$F$1200,"<>")) | E24: =IF($A24="","",B24-C24-D24) | F24: =IF($A24="","",COUNTIFS(MAESTRO!$C$2:$C$1200,$A24,MAESTRO!$M$2:$M$1200,"VIP",MAESTRO!$F$2:$F$1200,"<>")) | G24: =IF($A24="","",COUNTIFS(MAESTRO!$C$2:$C$1200,$A24,MAESTRO!$M$2:$M$1200,"LATERAL VIP",MAESTRO!$F$2:$F$1200,"<>")) | H24: =IF($A24="","",COUNTIFS(MAESTRO!$C$2:$C$1200,$A24,MAESTRO!$M$2:$M$1200,"LATERAL",MAESTRO!$F$2:$F$1200,"<>")) | I24: =IF($A24="","",COUNTIFS(MAESTRO!$C$2:$C$1200,$A24,MAESTRO!$N$2:$N$1200,"SI",MAESTRO!$F$2:$F$1200,"<>"))
A25: MADRINA | B25: =IF($A25="","",COUNTIFS(MAESTRO!$C$2:$C$1200,$A25,MAESTRO!$F$2:$F$1200,"<>")) | C25: =IF($A25="","",COUNTIFS(MAESTRO!$C$2:$C$1200,$A25,MAESTRO!$J$2:$J$1200,"SI",MAESTRO!$F$2:$F$1200,"<>")) | D25: =IF($A25="","",COUNTIFS(MAESTRO!$C$2:$C$1200,$A25,MAESTRO!$J$2:$J$1200,"NO",MAESTRO!$F$2:$F$1200,"<>")) | E25: =IF($A25="","",B25-C25-D25) | F25: =IF($A25="","",COUNTIFS(MAESTRO!$C$2:$C$1200,$A25,MAESTRO!$M$2:$M$1200,"VIP",MAESTRO!$F$2:$F$1200,"<>")) | G25: =IF($A25="","",COUNTIFS(MAESTRO!$C$2:$C$1200,$A25,MAESTRO!$M$2:$M$1200,"LATERAL VIP",MAESTRO!$F$2:$F$1200,"<>")) | H25: =IF($A25="","",COUNTIFS(MAESTRO!$C$2:$C$1200,$A25,MAESTRO!$M$2:$M$1200,"LATERAL",MAESTRO!$F$2:$F$1200,"<>")) | I25: =IF($A25="","",COUNTIFS(MAESTRO!$C$2:$C$1200,$A25,MAESTRO!$N$2:$N$1200,"SI",MAESTRO!$F$2:$F$1200,"<>"))
A26: MANDOS SEZONA | B26: =IF($A26="","",COUNTIFS(MAESTRO!$C$2:$C$1200,$A26,MAESTRO!$F$2:$F$1200,"<>")) | C26: =IF($A26="","",COUNTIFS(MAESTRO!$C$2:$C$1200,$A26,MAESTRO!$J$2:$J$1200,"SI",MAESTRO!$F$2:$F$1200,"<>")) | D26: =IF($A26="","",COUNTIFS(MAESTRO!$C$2:$C$1200,$A26,MAESTRO!$J$2:$J$1200,"NO",MAESTRO!$F$2:$F$1200,"<>")) | E26: =IF($A26="","",B26-C26-D26) | F26: =IF($A26="","",COUNTIFS(MAESTRO!$C$2:$C$1200,$A26,MAESTRO!$M$2:$M$1200,"VIP",MAESTRO!$F$2:$F$1200,"<>")) | G26: =IF($A26="","",COUNTIFS(MAESTRO!$C$2:$C$1200,$A26,MAESTRO!$M$2:$M$1200,"LATERAL VIP",MAESTRO!$F$2:$F$1200,"<>")) | H26: =IF($A26="","",COUNTIFS(MAESTRO!$C$2:$C$1200,$A26,MAESTRO!$M$2:$M$1200,"LATERAL",MAESTRO!$F$2:$F$1200,"<>")) | I26: =IF($A26="","",COUNTIFS(MAESTRO!$C$2:$C$1200,$A26,MAESTRO!$N$2:$N$1200,"SI",MAESTRO!$F$2:$F$1200,"<>"))
A27: MILITARES | B27: =IF($A27="","",COUNTIFS(MAESTRO!$C$2:$C$1200,$A27,MAESTRO!$F$2:$F$1200,"<>")) | C27: =IF($A27="","",COUNTIFS(MAESTRO!$C$2:$C$1200,$A27,MAESTRO!$J$2:$J$1200,"SI",MAESTRO!$F$2:$F$1200,"<>")) | D27: =IF($A27="","",COUNTIFS(MAESTRO!$C$2:$C$1200,$A27,MAESTRO!$J$2:$J$1200,"NO",MAESTRO!$F$2:$F$1200,"<>")) | E27: =IF($A27="","",B27-C27-D27) | F27: =IF($A27="","",COUNTIFS(MAESTRO!$C$2:$C$1200,$A27,MAESTRO!$M$2:$M$1200,"VIP",MAESTRO!$F$2:$F$1200,"<>")) | G27: =IF($A27="","",COUNTIFS(MAESTRO!$C$2:$C$1200,$A27,MAESTRO!$M$2:$M$1200,"LATERAL VIP",MAESTRO!$F$2:$F$1200,"<>")) | H27: =IF($A27="","",COUNTIFS(MAESTRO!$C$2:$C$1200,$A27,MAESTRO!$M$2:$M$1200,"LATERAL",MAESTRO!$F$2:$F$1200,"<>")) | I27: =IF($A27="","",COUNTIFS(MAESTRO!$C$2:$C$1200,$A27,MAESTRO!$N$2:$N$1200,"SI",MAESTRO!$F$2:$F$1200,"<>"))
... A34: PROVEEDORES | B34: =IF($A34="","",COUNTIFS(MAESTRO!$C$2:$C$1200,$A34,MAESTRO!$F$2:$F$1200,"<>")) | C34: =IF($A34="","",COUNTIFS(MAESTRO!$C$2:$C$1200,$A34,MAESTRO!$J$2:$J$1200,"SI",MAESTRO!$F$2:$F$1200,"<>")) | D34: =IF($A34="","",COUNTIFS(MAESTRO!$C$2:$C$1200,$A34,MAESTRO!$J$2:$J$1200,"NO",MAESTRO!$F$2:$F$1200,"<>")) | E34: =IF($A34="","",B34-C34-D34) | F34: =IF($A34="","",COUNTIFS(MAESTRO!$C$2:$C$1200,$A34,MAESTRO!$M$2:$M$1200,"VIP",MAESTRO!$F$2:$F$1200,"<>")) | G34: =IF($A34="","",COUNTIFS(MAESTRO!$C$2:$C$1200,$A34,MAESTRO!$M$2:$M$1200,"LATERAL VIP",MAESTRO!$F$2:$F$1200,"<>")) | H34: =IF($A34="","",COUNTIFS(MAESTRO!$C$2:$C$1200,$A34,MAESTRO!$M$2:$M$1200,"LATERAL",MAESTRO!$F$2:$F$1200,"<>")) | I34: =IF($A34="","",COUNTIFS(MAESTRO!$C$2:$C$1200,$A34,MAESTRO!$N$2:$N$1200,"SI",MAESTRO!$F$2:$F$1200,"<>"))
B35: =IF($A35="","",COUNTIFS(MAESTRO!$C$2:$C$1200,$A35,MAESTRO!$F$2:$F$1200,"<>")) | C35: =IF($A35="","",COUNTIFS(MAESTRO!$C$2:$C$1200,$A35,MAESTRO!$J$2:$J$1200,"SI",MAESTRO!$F$2:$F$1200,"<>")) | D35: =IF($A35="","",COUNTIFS(MAESTRO!$C$2:$C$1200,$A35,MAESTRO!$J$2:$J$1200,"NO",MAESTRO!$F$2:$F$1200,"<>")) | E35: =IF($A35="","",B35-C35-D35) | F35: =IF($A35="","",COUNTIFS(MAESTRO!$C$2:$C$1200,$A35,MAESTRO!$M$2:$M$1200,"VIP",MAESTRO!$F$2:$F$1200,"<>")) | G35: =IF($A35="","",COUNTIFS(MAESTRO!$C$2:$C$1200,$A35,MAESTRO!$M$2:$M$1200,"LATERAL VIP",MAESTRO!$F$2:$F$1200,"<>")) | H35: =IF($A35="","",COUNTIFS(MAESTRO!$C$2:$C$1200,$A35,MAESTRO!$M$2:$M$1200,"LATERAL",MAESTRO!$F$2:$F$1200,"<>")) | I35: =IF($A35="","",COUNTIFS(MAESTRO!$C$2:$C$1200,$A35,MAESTRO!$N$2:$N$1200,"SI",MAESTRO!$F$2:$F$1200,"<>"))
B36: =IF($A36="","",COUNTIFS(MAESTRO!$C$2:$C$1200,$A36,MAESTRO!$F$2:$F$1200,"<>")) | C36: =IF($A36="","",COUNTIFS(MAESTRO!$C$2:$C$1200,$A36,MAESTRO!$J$2:$J$1200,"SI",MAESTRO!$F$2:$F$1200,"<>")) | D36: =IF($A36="","",COUNTIFS(MAESTRO!$C$2:$C$1200,$A36,MAESTRO!$J$2:$J$1200,"NO",MAESTRO!$F$2:$F$1200,"<>")) | E36: =IF($A36="","",B36-C36-D36) | F36: =IF($A36="","",COUNTIFS(MAESTRO!$C$2:$C$1200,$A36,MAESTRO!$M$2:$M$1200,"VIP",MAESTRO!$F$2:$F$1200,"<>")) | G36: =IF($A36="","",COUNTIFS(MAESTRO!$C$2:$C$1200,$A36,MAESTRO!$M$2:$M$1200,"LATERAL VIP",MAESTRO!$F$2:$F$1200,"<>")) | H36: =IF($A36="","",COUNTIFS(MAESTRO!$C$2:$C$1200,$A36,MAESTRO!$M$2:$M$1200,"LATERAL",MAESTRO!$F$2:$F$1200,"<>")) | I36: =IF($A36="","",COUNTIFS(MAESTRO!$C$2:$C$1200,$A36,MAESTRO!$N$2:$N$1200,"SI",MAESTRO!$F$2:$F$1200,"<>"))
B37: =IF($A37="","",COUNTIFS(MAESTRO!$C$2:$C$1200,$A37,MAESTRO!$F$2:$F$1200,"<>")) | C37: =IF($A37="","",COUNTIFS(MAESTRO!$C$2:$C$1200,$A37,MAESTRO!$J$2:$J$1200,"SI",MAESTRO!$F$2:$F$1200,"<>")) | D37: =IF($A37="","",COUNTIFS(MAESTRO!$C$2:$C$1200,$A37,MAESTRO!$J$2:$J$1200,"NO",MAESTRO!$F$2:$F$1200,"<>")) | E37: =IF($A37="","",B37-C37-D37) | F37: =IF($A37="","",COUNTIFS(MAESTRO!$C$2:$C$1200,$A37,MAESTRO!$M$2:$M$1200,"VIP",MAESTRO!$F$2:$F$1200,"<>")) | G37: =IF($A37="","",COUNTIFS(MAESTRO!$C$2:$C$1200,$A37,MAESTRO!$M$2:$M$1200,"LATERAL VIP",MAESTRO!$F$2:$F$1200,"<>")) | H37: =IF($A37="","",COUNTIFS(MAESTRO!$C$2:$C$1200,$A37,MAESTRO!$M$2:$M$1200,"LATERAL",MAESTRO!$F$2:$F$1200,"<>")) | I37: =IF($A37="","",COUNTIFS(MAESTRO!$C$2:$C$1200,$A37,MAESTRO!$N$2:$N$1200,"SI",MAESTRO!$F$2:$F$1200,"<>"))
B38: =IF($A38="","",COUNTIFS(MAESTRO!$C$2:$C$1200,$A38,MAESTRO!$F$2:$F$1200,"<>")) | C38: =IF($A38="","",COUNTIFS(MAESTRO!$C$2:$C$1200,$A38,MAESTRO!$J$2:$J$1200,"SI",MAESTRO!$F$2:$F$1200,"<>")) | D38: =IF($A38="","",COUNTIFS(MAESTRO!$C$2:$C$1200,$A38,MAESTRO!$J$2:$J$1200,"NO",MAESTRO!$F$2:$F$1200,"<>")) | E38: =IF($A38="","",B38-C38-D38) | F38: =IF($A38="","",COUNTIFS(MAESTRO!$C$2:$C$1200,$A38,MAESTRO!$M$2:$M$1200,"VIP",MAESTRO!$F$2:$F$1200,"<>")) | G38: =IF($A38="","",COUNTIFS(MAESTRO!$C$2:$C$1200,$A38,MAESTRO!$M$2:$M$1200,"LATERAL VIP",MAESTRO!$F$2:$F$1200,"<>")) | H38: =IF($A38="","",COUNTIFS(MAESTRO!$C$2:$C$1200,$A38,MAESTRO!$M$2:$M$1200,"LATERAL",MAESTRO!$F$2:$F$1200,"<>")) | I38: =IF($A38="","",COUNTIFS(MAESTRO!$C$2:$C$1200,$A38,MAESTRO!$N$2:$N$1200,"SI",MAESTRO!$F$2:$F$1200,"<>"))
B39: =IF($A39="","",COUNTIFS(MAESTRO!$C$2:$C$1200,$A39,MAESTRO!$F$2:$F$1200,"<>")) | C39: =IF($A39="","",COUNTIFS(MAESTRO!$C$2:$C$1200,$A39,MAESTRO!$J$2:$J$1200,"SI",MAESTRO!$F$2:$F$1200,"<>")) | D39: =IF($A39="","",COUNTIFS(MAESTRO!$C$2:$C$1200,$A39,MAESTRO!$J$2:$J$1200,"NO",MAESTRO!$F$2:$F$1200,"<>")) | E39: =IF($A39="","",B39-C39-D39) | F39: =IF($A39="","",COUNTIFS(MAESTRO!$C$2:$C$1200,$A39,MAESTRO!$M$2:$M$1200,"VIP",MAESTRO!$F$2:$F$1200,"<>")) | G39: =IF($A39="","",COUNTIFS(MAESTRO!$C$2:$C$1200,$A39,MAESTRO!$M$2:$M$1200,"LATERAL VIP",MAESTRO!$F$2:$F$1200,"<>")) | H39: =IF($A39="","",COUNTIFS(MAESTRO!$C$2:$C$1200,$A39,MAESTRO!$M$2:$M$1200,"LATERAL",MAESTRO!$F$2:$F$1200,"<>")) | I39: =IF($A39="","",COUNTIFS(MAESTRO!$C$2:$C$1200,$A39,MAESTRO!$N$2:$N$1200,"SI",MAESTRO!$F$2:$F$1200,"<>"))
B40: =IF($A40="","",COUNTIFS(MAESTRO!$C$2:$C$1200,$A40,MAESTRO!$F$2:$F$1200,"<>")) | C40: =IF($A40="","",COUNTIFS(MAESTRO!$C$2:$C$1200,$A40,MAESTRO!$J$2:$J$1200,"SI",MAESTRO!$F$2:$F$1200,"<>")) | D40: =IF($A40="","",COUNTIFS(MAESTRO!$C$2:$C$1200,$A40,MAESTRO!$J$2:$J$1200,"NO",MAESTRO!$F$2:$F$1200,"<>")) | E40: =IF($A40="","",B40-C40-D40) | F40: =IF($A40="","",COUNTIFS(MAESTRO!$C$2:$C$1200,$A40,MAESTRO!$M$2:$M$1200,"VIP",MAESTRO!$F$2:$F$1200,"<>")) | G40: =IF($A40="","",COUNTIFS(MAESTRO!$C$2:$C$1200,$A40,MAESTRO!$M$2:$M$1200,"LATERAL VIP",MAESTRO!$F$2:$F$1200,"<>")) | H40: =IF($A40="","",COUNTIFS(MAESTRO!$C$2:$C$1200,$A40,MAESTRO!$M$2:$M$1200,"LATERAL",MAESTRO!$F$2:$F$1200,"<>")) | I40: =IF($A40="","",COUNTIFS(MAESTRO!$C$2:$C$1200,$A40,MAESTRO!$N$2:$N$1200,"SI",MAESTRO!$F$2:$F$1200,"<>"))
B41: =IF($A41="","",COUNTIFS(MAESTRO!$C$2:$C$1200,$A41,MAESTRO!$F$2:$F$1200,"<>")) | C41: =IF($A41="","",COUNTIFS(MAESTRO!$C$2:$C$1200,$A41,MAESTRO!$J$2:$J$1200,"SI",MAESTRO!$F$2:$F$1200,"<>")) | D41: =IF($A41="","",COUNTIFS(MAESTRO!$C$2:$C$1200,$A41,MAESTRO!$J$2:$J$1200,"NO",MAESTRO!$F$2:$F$1200,"<>")) | E41: =IF($A41="","",B41-C41-D41) | F41: =IF($A41="","",COUNTIFS(MAESTRO!$C$2:$C$1200,$A41,MAESTRO!$M$2:$M$1200,"VIP",MAESTRO!$F$2:$F$1200,"<>")) | G41: =IF($A41="","",COUNTIFS(MAESTRO!$C$2:$C$1200,$A41,MAESTRO!$M$2:$M$1200,"LATERAL VIP",MAESTRO!$F$2:$F$1200,"<>")) | H41: =IF($A41="","",COUNTIFS(MAESTRO!$C$2:$C$1200,$A41,MAESTRO!$M$2:$M$1200,"LATERAL",MAESTRO!$F$2:$F$1200,"<>")) | I41: =IF($A41="","",COUNTIFS(MAESTRO!$C$2:$C$1200,$A41,MAESTRO!$N$2:$N$1200,"SI",MAESTRO!$F$2:$F$1200,"<>"))
B42: =IF($A42="","",COUNTIFS(MAESTRO!$C$2:$C$1200,$A42,MAESTRO!$F$2:$F$1200,"<>")) | C42: =IF($A42="","",COUNTIFS(MAESTRO!$C$2:$C$1200,$A42,MAESTRO!$J$2:$J$1200,"SI",MAESTRO!$F$2:$F$1200,"<>")) | D42: =IF($A42="","",COUNTIFS(MAESTRO!$C$2:$C$1200,$A42,MAESTRO!$J$2:$J$1200,"NO",MAESTRO!$F$2:$F$1200,"<>")) | E42: =IF($A42="","",B42-C42-D42) | F42: =IF($A42="","",COUNTIFS(MAESTRO!$C$2:$C$1200,$A42,MAESTRO!$M$2:$M$1200,"VIP",MAESTRO!$F$2:$F$1200,"<>")) | G42: =IF($A42="","",COUNTIFS(MAESTRO!$C$2:$C$1200,$A42,MAESTRO!$M$2:$M$1200,"LATERAL VIP",MAESTRO!$F$2:$F$1200,"<>")) | H42: =IF($A42="","",COUNTIFS(MAESTRO!$C$2:$C$1200,$A42,MAESTRO!$M$2:$M$1200,"LATERAL",MAESTRO!$F$2:$F$1200,"<>")) | I42: =IF($A42="","",COUNTIFS(MAESTRO!$C$2:$C$1200,$A42,MAESTRO!$N$2:$N$1200,"SI",MAESTRO!$F$2:$F$1200,"<>"))
B43: =IF($A43="","",COUNTIFS(MAESTRO!$C$2:$C$1200,$A43,MAESTRO!$F$2:$F$1200,"<>")) | C43: =IF($A43="","",COUNTIFS(MAESTRO!$C$2:$C$1200,$A43,MAESTRO!$J$2:$J$1200,"SI",MAESTRO!$F$2:$F$1200,"<>")) | D43: =IF($A43="","",COUNTIFS(MAESTRO!$C$2:$C$1200,$A43,MAESTRO!$J$2:$J$1200,"NO",MAESTRO!$F$2:$F$1200,"<>")) | E43: =IF($A43="","",B43-C43-D43) | F43: =IF($A43="","",COUNTIFS(MAESTRO!$C$2:$C$1200,$A43,MAESTRO!$M$2:$M$1200,"VIP",MAESTRO!$F$2:$F$1200,"<>")) | G43: =IF($A43="","",COUNTIFS(MAESTRO!$C$2:$C$1200,$A43,MAESTRO!$M$2:$M$1200,"LATERAL VIP",MAESTRO!$F$2:$F$1200,"<>")) | H43: =IF($A43="","",COUNTIFS(MAESTRO!$C$2:$C$1200,$A43,MAESTRO!$M$2:$M$1200,"LATERAL",MAESTRO!$F$2:$F$1200,"<>")) | I43: =IF($A43="","",COUNTIFS(MAESTRO!$C$2:$C$1200,$A43,MAESTRO!$N$2:$N$1200,"SI",MAESTRO!$F$2:$F$1200,"<>"))
B44: =IF($A44="","",COUNTIFS(MAESTRO!$C$2:$C$1200,$A44,MAESTRO!$F$2:$F$1200,"<>")) | C44: =IF($A44="","",COUNTIFS(MAESTRO!$C$2:$C$1200,$A44,MAESTRO!$J$2:$J$1200,"SI",MAESTRO!$F$2:$F$1200,"<>")) | D44: =IF($A44="","",COUNTIFS(MAESTRO!$C$2:$C$1200,$A44,MAESTRO!$J$2:$J$1200,"NO",MAESTRO!$F$2:$F$1200,"<>")) | E44: =IF($A44="","",B44-C44-D44) | F44: =IF($A44="","",COUNTIFS(MAESTRO!$C$2:$C$1200,$A44,MAESTRO!$M$2:$M$1200,"VIP",MAESTRO!$F$2:$F$1200,"<>")) | G44: =IF($A44="","",COUNTIFS(MAESTRO!$C$2:$C$1200,$A44,MAESTRO!$M$2:$M$1200,"LATERAL VIP",MAESTRO!$F$2:$F$1200,"<>")) | H44: =IF($A44="","",COUNTIFS(MAESTRO!$C$2:$C$1200,$A44,MAESTRO!$M$2:$M$1200,"LATERAL",MAESTRO!$F$2:$F$1200,"<>")) | I44: =IF($A44="","",COUNTIFS(MAESTRO!$C$2:$C$1200,$A44,MAESTRO!$N$2:$N$1200,"SI",MAESTRO!$F$2:$F$1200,"<>"))
B45: =IF($A45="","",COUNTIFS(MAESTRO!$C$2:$C$1200,$A45,MAESTRO!$F$2:$F$1200,"<>")) | C45: =IF($A45="","",COUNTIFS(MAESTRO!$C$2:$C$1200,$A45,MAESTRO!$J$2:$J$1200,"SI",MAESTRO!$F$2:$F$1200,"<>")) | D45: =IF($A45="","",COUNTIFS(MAESTRO!$C$2:$C$1200,$A45,MAESTRO!$J$2:$J$1200,"NO",MAESTRO!$F$2:$F$1200,"<>")) | E45: =IF($A45="","",B45-C45-D45) | F45: =IF($A45="","",COUNTIFS(MAESTRO!$C$2:$C$1200,$A45,MAESTRO!$M$2:$M$1200,"VIP",MAESTRO!$F$2:$F$1200,"<>")) | G45: =IF($A45="","",COUNTIFS(MAESTRO!$C$2:$C$1200,$A45,MAESTRO!$M$2:$M$1200,"LATERAL VIP",MAESTRO!$F$2:$F$1200,"<>")) | H45: =IF($A45="","",COUNTIFS(MAESTRO!$C$2:$C$1200,$A45,MAESTRO!$M$2:$M$1200,"LATERAL",MAESTRO!$F$2:$F$1200,"<>")) | I45: =IF($A45="","",COUNTIFS(MAESTRO!$C$2:$C$1200,$A45,MAESTRO!$N$2:$N$1200,"SI",MAESTRO!$F$2:$F$1200,"<>"))
B46: =IF($A46="","",COUNTIFS(MAESTRO!$C$2:$C$1200,$A46,MAESTRO!$F$2:$F$1200,"<>")) | C46: =IF($A46="","",COUNTIFS(MAESTRO!$C$2:$C$1200,$A46,MAESTRO!$J$2:$J$1200,"SI",MAESTRO!$F$2:$F$1200,"<>")) | D46: =IF($A46="","",COUNTIFS(MAESTRO!$C$2:$C$1200,$A46,MAESTRO!$J$2:$J$1200,"NO",MAESTRO!$F$2:$F$1200,"<>")) | E46: =IF($A46="","",B46-C46-D46) | F46: =IF($A46="","",COUNTIFS(MAESTRO!$C$2:$C$1200,$A46,MAESTRO!$M$2:$M$1200,"VIP",MAESTRO!$F$2:$F$1200,"<>")) | G46: =IF($A46="","",COUNTIFS(MAESTRO!$C$2:$C$1200,$A46,MAESTRO!$M$2:$M$1200,"LATERAL VIP",MAESTRO!$F$2:$F$1200,"<>")) | H46: =IF($A46="","",COUNTIFS(MAESTRO!$C$2:$C$1200,$A46,MAESTRO!$M$2:$M$1200,"LATERAL",MAESTRO!$F$2:$F$1200,"<>")) | I46: =IF($A46="","",COUNTIFS(MAESTRO!$C$2:$C$1200,$A46,MAESTRO!$N$2:$N$1200,"SI",MAESTRO!$F$2:$F$1200,"<>"))
... B80: =IF($A80="","",COUNTIFS(MAESTRO!$C$2:$C$1200,$A80,MAESTRO!$F$2:$F$1200,"<>")) | C80: =IF($A80="","",COUNTIFS(MAESTRO!$C$2:$C$1200,$A80,MAESTRO!$J$2:$J$1200,"SI",MAESTRO!$F$2:$F$1200,"<>")) | D80: =IF($A80="","",COUNTIFS(MAESTRO!$C$2:$C$1200,$A80,MAESTRO!$J$2:$J$1200,"NO",MAESTRO!$F$2:$F$1200,"<>")) | E80: =IF($A80="","",B80-C80-D80) | F80: =IF($A80="","",COUNTIFS(MAESTRO!$C$2:$C$1200,$A80,MAESTRO!$M$2:$M$1200,"VIP",MAESTRO!$F$2:$F$1200,"<>")) | G80: =IF($A80="","",COUNTIFS(MAESTRO!$C$2:$C$1200,$A80,MAESTRO!$M$2:$M$1200,"LATERAL VIP",MAESTRO!$F$2:$F$1200,"<>")) | H80: =IF($A80="","",COUNTIFS(MAESTRO!$C$2:$C$1200,$A80,MAESTRO!$M$2:$M$1200,"LATERAL",MAESTRO!$F$2:$F$1200,"<>")) | I80: =IF($A80="","",COUNTIFS(MAESTRO!$C$2:$C$1200,$A80,MAESTRO!$N$2:$N$1200,"SI",MAESTRO!$F$2:$F$1200,"<>"))

Sheet DISTRIBUCION VIP
A1: DISTRIBUCIÓN VIP
A2: Criterio: TRIBUNA BASE = VIP y AST. distinto de NO, independiente de la FUENTE. Filas A/B/C centro 23. Fila D con reservas y sin sillas.
A4: Total VIP a distribuir | B4: 239
A5: Capacidad VIP válida | B5: 155
A6: Asignados | B6: 155
A7: Pendiente por asignar | B7: 84
A8: Centro Filas A/B/C | B8: 23
A9: Fila D | B9: D11-D17 reservado | D18-D27 sin silla | D28-D35 reservado
B11: 1 | C11: 2 | D11: 3 | E11: 4 | F11: 5 | G11: 6 | H11: 7 | I11: 8 | J11: 9 | K11: 10 | L11: 11 | M11: 12 | N11: 13 | O11: 14 | P11: 15 | Q11: 16 | R11: 17 | S11: 18 | T11: 19 | U11: 20 | V11: 21 | W11: 22 | X11: 23 | Y11: 24 | Z11: 25 | AA11: 26 | AB11: 27 | AC11: 28 | AD11: 29 | AE11: 30 | AF11: 31 | AG11: 32 | AH11: 33 | AI11: 34 | AJ11: 35 | AK11: 36 | AL11: 37 | AM11: 38 | AN11: 39 | AO11: 40 | AP11: 41 | AQ11: 42 | AR11: 43 | AS11: 44 | AT11: 45
A12: FILA A | B12: A1 Sebastián Keitel Bianchi Circunscripción 10 Región Biobío | C12: A2 Camila Flores Oporto Comisión de Defensa Nacional | D12: A3 Julio Anativia Zamora Delegado Presidencial Región de Bio Bio | E12: A4 Sergio Giacaman García Gobernador Región Bio Bio | F12: A5 Marcela Larrañaga Martin Madrina | G12: A6 Eduardo Cerna Lozano *Director General de la Policía de Investigaciones de Chile | H12: A7 Miguel Stange Muñoz *Comandante en Jefe de la Fuerza Aérea de Chile (S) | I12: A8 Julio Leiva Molina Ex - Comandante en Jefe de la Armada | J12: A9 Sone Kenko Embajadora de Japón en Chile | K12: A10 Lotty Farah Andrade Abdo Embajadora de Ecuador en Chile | L12: A11 Per Pollen Nilsen Embajador de Noruega en Chile | M12: A12 Sebastián Guanumen Parra Embajador de Colombia en Chile | N12: A13 Andrew James Barrit Martin Embajador de Australia en Chile | O12: A14 Johanna Kotkajarvi Embajadora de Finlandia en Chile | P12: A15 Adriana Delpiano Puelma Ex Ministra de Defensa Nacional | Q12: A16 Francisco Undurruga Gazitúa Ministro de las Culturas, las Artes y el Patrimonio | R12: A17 Claudio Alvarado Andrade Biministro del Interior y Secretario General de Gobierno | S12: A18 Ricardo Lagos Escobar Ex Presidente de la República | T12: A19 Gabriel Boric Font Ex Presidente de la República | U12: A20 María Cecilia Morel Montes Ex - Primera Dama | V12: A21 Fernando Cabrera Salazar *Comandante en Jefe de la Armada | W12: A22 María Pía Adriasola Barroihet Esposa del Presidente de la República | X12: A23 José Antonio Kast Rist * Presidente de la República | Y12: A24 Fernando Barros Tocornal *Ministro de Defensa Nacional | Z12: A25 Roxana Mery Casella Esposa del Comandante en Jefe de la Armada | AA12: A26 Iván Moreira Barros *Presidenta del Senado (Representante). | AB12: A27 Michelle Bachelet Jeria Ex Presidenta de la República | AC12: A28 Eduardo Frei Ruiz-tagle Ex Presidente de la República | AD12: A29 Catalina Parot Donoso Ministra de Bienes Nacionales | AE12: A30 Maya Fernández Allende Ex Ministra de Defensa Nacional | AF12: A31 Niu Qingbao Embajador de la República Popular China en Chile | AG12: A32 Valeria Biagiotti Embajadora de Italia en Chile | AH12: A33 Ahmet Ihsan Kiziltan Embajadora de Turquia en Chile | AI12: A34 Karolina Linda Guay Guay Embajadora de Canadá en Chile | AJ12: A35 Elke Schaapveld E/v Merks Embajadora de los Países Bajos en Chile | AK12: A36 Laura Oroz Ulibarri Embajadora de España en Chile | AL12: A37 Peleg Lewi Embajadora de Israel en Chile | AM12: A38 Pedro Varela Sabando *Comandante en Jefe del Ejército | AN12: A39 Marcelo Araya Zapata *General Director de Carabineros de Chile | AO12: A40 Rodolfo Codina Díaz Ex - Comandante en Jefe de la Armada | AP12: A41 Leonardo Romanini Gutiérrez Jefe del Estado Mayor Conjunto de las Fuerzas Armadas | AQ12: A42 Jorge Flies Añon Gobernador Región de Magallanes | AR12: A43 Pedro Araya Guerrero Comisión de Defensa Nacional | AS12: A44 Gastón Saavedra Chandía Comisión de Defensa Nacional | AT12: A45 Enrique Van Rysselberghe Herrera Circunscripción 10 Región Biobío
A13: FILA B | B13: B1 José Pablo Gómez Dirección de Presupuesto | C13: B2 Carla Coronado Asesora Ministerio Consejo Directivo de Construcción Naval | D13: B3 Elizabeth Zapata González Directora Desarrollo Tecnológico Corfo y Directora Ejecutiva Comité de Construcción Naval | E13: B4 Catalina Ugarte Millán Jefe Gabinete Precidencial | F13: B5 Rafael Araos Bralic Subsecretaria de Ciencia, Tecnología, Conocimiento e Innovación | G13: B6 Rodrigo Álvarez Aguirre *Subsecretario de Defensa | H13: B7 Cristóbal Urruticoechea Ríos Diputado Distrito 21 | I13: B8 Joanna Pérez Olea Diputado Distrito 21 | J13: B9 José Rivas Villalobos Diputado Distrito 20 | K13: B10 Álvaro Ortíz Vera Diputado Distrito 20 | L13: B11 Paz Charpentier Rajcevich Diputado Distrito 20 | M13: B12 Roberto Arroyo Muñoz Diputado Distrito 20 | N13: B13 Consuelo Veloso Ávila Comisión de Futuro, Ciencia, Tecnología, Conocimiento e Innovación | O13: B14 Diego Schalper Sepúlveda Comisión de Futuro, Ciencia, Tecnología, Conocimiento e Innovación | P13: B15 José Montalva Feuerhake Comisión de Futuro, Ciencia, Tecnología, Conocimiento e Innovación | Q13: B16 Patricio Briones Moller Diputado Distrito 20 | R13: B17 Daniel Valenzuela Salazar Integrante de la Comisión de Defensa Nacional | S13: B18 Omar Sabat Guzmán Integrante de la Comisión de Defensa Nacional | T13: B19 Hans Marowski Cuevas Integrante de la Comisión de Defensa Nacional | U13: B20 Jorge Brito Hasbún Integrante de la Comisión de Defensa Nacional | V13: B21 Álvaro Carter Fernández Presidente de la Comisión de Defensa Nacional | W13: B22 Gustavo Sanhueza Dueñas Circunsripción Zona Ñuble | X13: B23 Alfonso De Urresti Longton Senador de la República | Y13: B24 Loreto Carvajal Ambiado Circunsripción Zona Ñuble | Z13: B25 Marcos Barraza Gómez Integrante de la Comisión de Defensa Nacional | AA13: B26 Carlos Cuadrado Prats Integrante de la Comisión de Defensa Nacional | AB13: B27 Javier Olivares Avendaño Integrante de la Comisión de Defensa Nacional | AC13: B28 Luis Sánchez Ossa Integrante de la Comisión de Defensa Nacional | AD13: B29 Daniel Manouchehri Lobos Presidente Comisión de Futuro, Ciencia, Tecnología, Conocimiento e Innovación | AE13: B30 Cristóbal Martínez Ramírez Comisión de Futuro, Ciencia, Tecnología, Conocimiento e Innovación | AF13: B31 Cristian Neira Martínez Comisión de Futuro, Ciencia, Tecnología, Conocimiento e Innovación | AG13: B32 Daniela Serrano Salazar Comisión de Futuro, Ciencia, Tecnología, Conocimiento e Innovación | AH13: B33 Gael Yeomans Araya Comisión de Futuro, Ciencia, Tecnología, Conocimiento e Innovación | AI13: B34 Sergio Bobadilla Muñoz Diputado Distrito 20 | AJ13: B35 Francesca Muñoz González Diputado Distrito 20 | AK13: B36 Marlene Pérez Cartes Diputado Distrito 20 | AL13: B37 Lilian Betancurt Delgado Diputado Distrito 21 | AM13: B38 Patricio Pinilla Valencia Diputado Distrito 21 | AN13: B39 Flor Weisse Novoa Diputado Distrito 21 | AO13: B40 Christian Bolívar Romero *Subsecretario de las Fuerzas Armadas | AP13: B41 Julio Cacho Morán *Jefe del Estado Mayor de la Armada de Perú | AQ13: B42 José Ignacio Mujica Castro Vicepresidente Corfo | AR13: B43 Santiago Browne Hurtado Gerente de Asuntos Estratégicos (s) de Corfo | AS13: B44 Fernando Hentzschel Gerente de Capacidades Tecnológicas Consejo Directivo de Construcción Naval | AT13: B45 José Ignacio Llodrá Vial Subdirector de Racionalización y Función Pública
A14: FILA C | B14: C1 Raúl Zamorano Goñi Jefe del Estado Mayor General de la Armada | C14: C2 Claudia Chamorro Contreras Jefe VIII Región Policial Bío Bío | D14: C3 Oscar Rivera Marin Director Regional de Obras Portuarias | E14: C4 Claudio Andrade Otarola Director Regional de la Agencia Nacional de Inteligencia | F14: C5 Pablo Zavala Fernández Presidente de la Ilustrísima Corte de Apelaciones de Concepción | G14: C6 Claudio Radonich Jiménez Alcalde de Punta Arenas | H14: C7 Carla Amtmann Fecci Alcaldesa de Valdivia | I14: C8 Miguel Rivera Morales Alcalde Ilustre Municipalidad de Hualpén | J14: C9 Rafael Cabrera Osorio Cmdte. Apoyo a la Fuerza del Ejército | K14: C10 Claudio Bunster Weitzmann Director Centro Estudios Cientificos CECs | L14: C11 Jorge Pires Superintendente del Material Armada de Portugal | M14: C12 Henry Cleveland Cartes Director Ejecutivo ENAER | N14: C13 Mario Farren Risopatrón Presidente Banco Estado | O14: C14 Pedro Ramirez Glade Seremi de Ciencia, Tecnologías, Conocimidento e Innovación | P14: C15 Vladimir Recabarren Esparza Capellán Nacional Evangélico de la Armada | Q14: C16 Constanza Pérez Asesora Económica MINDEF | R14: C17 Francisco Alcorta Asesor politico estrategico MINDEF | S14: C18 Vicente Leiva Larrañaga Hijo Madrina | T14: C19 Matias Pérez Cruz Gerenete Perezcruz | U14: C20 Constanza Leiva Larrañaga T2 RNY | V14: C21 Pablo Lira Jefe Gabinete Subsecretario de Defensa | W14: C22 Javier Coopman Corral Jefe Gabinete Ministro de Defensa | X14: C23 Andrés López Lara Director Instituto Antártico Chileno | Y14: C24 Bárbara Carvajal Madariaga Jefa de Gabinete Subsecretario para las FF.AA. | Z14: C25 Alejandro Irarrázabal Alfonso Jefe Asesor Presidencial | AA14: C26 Marcela Paz Leiva Larrañaga Hija Madrina | AB14: C27 Eugenio Cornejo Locroix Presidente Mutual de Seguros de Chile | AC14: C28 Cecy Sirena Quijada Pérez Esposa del Jefe estado mayor de la Armada de Perú. | AD14: C29 Sebastian Jerez Gerente General Farmacia Cruz Verde | AE14: C30 José Fernando Jarpa Parada Jefe del Servicio Religioso de la Armada | AF14: C31 José Eduardo Piña Faúndez Seremi Obras Públicas | AG14: C32 Ronald Ruf Wilkomirsky Seremi de Hacienda | AH14: C33 Katherine Ampuero Martínez Directora Regional Aduana de Talcahuano | AI14: C34 Álvaro Vera Soto Director FAMAE | AJ14: C35 Joao Costa Director de los Navios Armada de Portugal | AK14: C36 Gino Casassa Rogazinski Director del INACH | AL14: C37 Héctor Muñoz Uribe Alcalde Ilustre Municipalidad de Concepción | AM14: C38 Eduardo Saavedra Bustos Alcalde Ilustre Municipalidad de Talcahuano | AN14: C39 Rodrigo Wainraight Galilea Alcalde de Puerto Montt | AO14: C40 María Soledad Tapia Almonacid Director Nacional Servicio Nacional de Pesca y Acuicultura SERNAPESCA | AP14: C41 Marcela Cartagena Ramos Fiscal Regional de Concepción | AQ14: C42 Alvaro Ananías Itaim Presidernte de la Cámara de Producción y Comercio del Bio Bio | AR14: C43 Carlos Basáez Valdebenito Contralor Regional Bio Bio | AS14: C44 Renzo Miccono Villablanca Jefe VIII Zona de Carabineros BIOBÍO | AT14: C45 Mauricio Arenas Menares Directo General del Personal de la Armada
A15: FILA D | B15: D1 Cristian Lara Valenzuela Director Universidad Técnica Federico Santa María Sede Concepción | C15: D2 Rene Valenzuea Azócar Secretario General de la Armada | D15: D3 Alejandro Torres Horton SUBMAYOR Consejo Superior ASMAR | E15: D4 Claudio Muñoz Cabrera Contralor de la Armada | F15: D5 Daniel Opazo Riquelme *Comandante General del Cuerpo de Infantería de Marina | G15: D6 Federico Saelzer Concha *Comandante en Jefe de la Fuerza de Submarinos | H15: D7 José Agustín Pájaro Márquez Director de Operaciones del Estado Mayor General de la Armada | I15: D8 José Miguel Hernández Jacir Director de Astilleros y Maestranzas de la Armada | J15: D9 Juan Pablo Marín Fernández Subjefe del Estado Mayor Conjunto | K15: D10 César Delgado Boffil Director General de los Servicios de la Armada | L15: D11 RESERVADO | M15: D12 RESERVADO | N15: D13 RESERVADO | O15: D14 RESERVADO | P15: D15 RESERVADO | Q15: D16 RESERVADO | R15: D17 RESERVADO | S15: D18 SIN SILLA | T15: D19 SIN SILLA | U15: D20 SIN SILLA | V15: D21 SIN SILLA | W15: D22 SIN SILLA | X15: D23 SIN SILLA | Y15: D24 SIN SILLA | Z15: D25 SIN SILLA | AA15: D26 SIN SILLA | AB15: D27 SIN SILLA | AC15: D28 RESERVADO | AD15: D29 RESERVADO | AE15: D30 RESERVADO | AF15: D31 RESERVADO | AG15: D32 RESERVADO | AH15: D33 RESERVADO | AI15: D34 RESERVADO | AJ15: D35 RESERVADO | AK15: D36 Arturo Oxley Lizana Director General del Territorio Marítimo y de Marina Mercante | AL15: D37 Daniel Muñoz Miranda *Comandante de Operaciones Navales | AM15: D38 Oscar Manzano Sanguineti Director de Recuperaciones de Unidades de la Armada | AN15: D39 Edgardo Acevedo Pérez *Comandante en Jefe de la Segunda Zona Naval | AO15: D40 Claudia Arrieta Figueroa Esposa Comandante en Jefe de la Fuerza de Submarinos | AP15: D41 Alberto Guerrero García Director de Programas, Investigación y Desarrollo de la Armada | AQ15: D42 Marcel Fort Santander Director de finanzaas de la Armada. | AR15: D43 J. Cristobal Mendez Tapia DIRISNAV Consejo Superior ASMAR | AS15: D44 Jorge Vidal Berrocal DABA Consejo Superior ASMAR | AT15: D45 Thomas Klischies Nevermann Director DUOC UC Sede San Andrés de Concepción

Sheet LISTADO VIP
A1: LISTADO VIP
A2: Listado completo ordenado por precedencia; la distribución se visualiza en la pestaña DISTRIBUCION VIP.
A4: ASIENTO | B4: PRECEDENCIA | C4: N° | D4: FUENTE | E4: TRIBUNA | F4: AST. | G4: TRATAMIENTO | H4: NOMBRE COMPLETO | I4: CARGO | J4: FILA MAESTRO
A5: A23 | B5: 1 | C5: 1 | D5: OPA | E5: VIP | F5: SI | G5: Su Excelencia | H5: José Antonio Kast Rist | I5: * Presidente de la República | J5: 2
A6: A22 | B6: 2 | C6: 2 | D6: OPA | E6: VIP | F6: SI | G6: Primera Dama | H6: María Pía Adriasola Barroihet | I6: Esposa del Presidente de la República | J6: 3
A7: A24 | B7: 3 | C7: 3 | D7: OPA | E7: VIP | F7: SI | G7: Ministro | H7: Fernando Barros Tocornal | I7: *Ministro de Defensa Nacional | J7: 4
A8: A21 | B8: 4 | C8: 4 | D8: OPA | E8: VIP | F8: SI | G8: Almirante | H8: Fernando Cabrera Salazar | I8: *Comandante en Jefe de la Armada | J8: 5
A9: A25 | B9: 5 | C9: 5 | D9: OPA | E9: VIP | F9: SI | G9: Señora | H9: Roxana Mery Casella | I9: Esposa del Comandante en Jefe de la Armada | J9: 6
A10: A20 | B10: 6 | C10: 6 | D10: OPA | E10: VIP | F10: PENDIENTE | G10: Señora | H10: María Cecilia Morel Montes | I10: Ex - Primera Dama | J10: 7
A11: A26 | B11: 7 | C11: 7 | D11: OPA | E11: VIP | F11: SI | G11: Honorable Senador | H11: Iván Moreira Barros | I11: *Presidenta del Senado (Representante). | J11: 8
A12: A19 | B12: 9 | C12: 9 | D12: OPA | E12: VIP | F12: PENDIENTE | G12: Su Excelencia | H12: Gabriel Boric Font | I12: Ex Presidente de la República | J12: 10
A13: A27 | B13: 10 | C13: 10 | D13: OPA | E13: VIP | F13: PENDIENTE | H13: Michelle Bachelet Jeria | I13: Ex Presidenta de la República | J13: 11
A14: A18 | B14: 11 | C14: 11 | D14: OPA | E14: VIP | F14: PENDIENTE | G14: Su Excelencia | H14: Ricardo Lagos Escobar | I14: Ex Presidente de la República | J14: 12
A15: A28 | B15: 12 | C15: 12 | D15: OPA | E15: VIP | F15: PENDIENTE | G15: Su Excelencia | H15: Eduardo Frei Ruiz-tagle | I15: Ex Presidente de la República | J15: 13
A16: A17 | B16: 16 | C16: 16 | D16: OPA | E16: VIP | F16: PENDIENTE | G16: Ministro | H16: Claudio Alvarado Andrade | I16: Biministro del Interior y Secretario General de Gobierno | J16: 17
A17: A29 | B17: 22 | C17: 22 | D17: OPA | E17: VIP | F17: PENDIENTE | G17: Ministro | H17: Catalina Parot Donoso | I17: Ministra de Bienes Nacionales | J17: 23
A18: A16 | B18: 25 | C18: 25 | D18: OPA | E18: VIP | F18: PENDIENTE | G18: Ministro | H18: Francisco Undurruga Gazitúa | I18: Ministro de las Culturas, las Artes y el Patrimonio | J18: 26
A19: A30 | B19: 28 | C19: 28 | D19: OPA | E19: VIP | F19: PENDIENTE | G19: Ministro | H19: Maya Fernández Allende | I19: Ex Ministra de Defensa Nacional | J19: 29
A20: A15 | B20: 29 | C20: 29 | D20: OPA | E20: VIP | F20: PENDIENTE | G20: Ministro | H20: Adriana Delpiano Puelma | I20: Ex Ministra de Defensa Nacional | J20: 30
A21: A31 | B21: 32 | C21: 32 | D21: OPA | E21: VIP | F21: PENDIENTE | G21: Excelentísima | H21: Niu Qingbao | I21: Embajador de la República Popular China en Chile | J21: 33
A22: A14 | B22: 33 | C22: 33 | D22: OPA | E22: VIP | F22: PENDIENTE | G22: Excelentísima | H22: Johanna Kotkajarvi | I22: Embajadora de Finlandia en Chile | J22: 34
A23: A32 | B23: 34 | C23: 34 | D23: OPA | E23: VIP | F23: PENDIENTE | G23: Excelentísima | H23: Valeria Biagiotti | I23: Embajadora de Italia en Chile | J23: 35
A24: A13 | B24: 38 | C24: 38 | D24: OPA | E24: VIP | F24: PENDIENTE | G24: Excelentísima | H24: Andrew James Barrit Martin | I24: Embajador de Australia en Chile | J24: 39
A25: A33 | B25: 41 | C25: 41 | D25: OPA | E25: VIP | F25: SI | G25: Excelentísima | H25: Ahmet Ihsan Kiziltan | I25: Embajadora de Turquia en Chile | J25: 42
... A86: B41 | B86: 131 | C86: 131 | D86: OPA | E86: VIP | F86: SI | G86: Vicealmirante | H86: Julio Cacho Morán | I86: *Jefe del Estado Mayor de la Armada de Perú | J86: 132
A87: B4 | B87: 134 | C87: 134 | D87: OPA | E87: VIP | F87: PENDIENTE | H87: Catalina Ugarte Millán | I87: Jefe Gabinete Precidencial | J87: 135
A88: B42 | B88: 135 | C88: 135 | D88: OPA | E88: VIP | F88: SI | G88: Presidente | H88: José Ignacio Mujica Castro | I88: Vicepresidente Corfo | J88: 136
A89: B3 | B89: 136 | C89: 136 | D89: OPA | E89: VIP | F89: SI | G89: Señor | H89: Elizabeth Zapata González | I89: Directora Desarrollo Tecnológico Corfo y Directora Ejecutiva Comité de Construcción Naval | J89: 137
A90: B43 | B90: 137 | C90: 137 | D90: OPA | E90: VIP | F90: SI | H90: Santiago Browne Hurtado | I90: Gerente de Asuntos Estratégicos (s) de Corfo | J90: 138
A91: B2 | B91: 140 | C91: 140 | D91: OPA | E91: VIP | F91: PENDIENTE | H91: Carla Coronado | I91: Asesora Ministerio Consejo Directivo de Construcción Naval | J91: 141
A92: B44 | B92: 141 | C92: 141 | D92: OPA | E92: VIP | F92: PENDIENTE | H92: Fernando Hentzschel | I92: Gerente de Capacidades Tecnológicas Consejo Directivo de Construcción Naval | J92: 142
A93: B1 | B93: 145 | C93: 145 | D93: OPA | E93: VIP | F93: PENDIENTE | H93: José Pablo Gómez | I93: Dirección de Presupuesto | J93: 146
A94: B45 | B94: 146 | C94: 146 | D94: OPA | E94: VIP | F94: PENDIENTE | G94: Señor | H94: José Ignacio Llodrá Vial | I94: Subdirector de Racionalización y Función Pública | J94: 147
A95: C23 | B95: 147 | C95: 147 | D95: OPA | E95: VIP | F95: PENDIENTE | G95: Señor | H95: Andrés López Lara | I95: Director Instituto Antártico Chileno | J95: 148
A96: C22 | B96: 153 | C96: 153 | D96: OPA | E96: VIP | F96: PENDIENTE | G96: Ministro | H96: Javier Coopman Corral | I96: Jefe Gabinete Ministro de Defensa | J96: 154
A97: C24 | B97: 154 | C97: 154 | D97: OPA | E97: VIP | F97: PENDIENTE | G97: Subsecretario | H97: Bárbara Carvajal Madariaga | I97: Jefa de Gabinete Subsecretario para las FF.AA. | J97: 155
A98: C21 | B98: 155 | C98: 155 | D98: OPA | E98: VIP | F98: PENDIENTE | G98: Subsecretario | H98: Pablo Lira | I98: Jefe Gabinete Subsecretario de Defensa | J98: 156
A99: C25 | B99: 157 | C99: 157 | D99: OPA | E99: VIP | F99: PENDIENTE | H99: Alejandro Irarrázabal Alfonso | I99: Jefe Asesor Presidencial | J99: 158
A100: C20 | B100: 158 | C100: 158 | D100: OPA | E100: VIP | F100: SI | H100: Constanza Leiva Larrañaga | I100: T2 RNY | J100: 159
A101: C26 | B101: 159 | C101: 159 | D101: OPA | E101: VIP | F101: SI | H101: Marcela Paz Leiva Larrañaga | I101: Hija Madrina | J101: 160
...

Sheet SIN ASIGNAR
A1: VIP PENDIENTE POR ASIGNAR
A2: Invitados VIP que no alcanzan asiento disponible.
A4: ASIENTO | B4: PRECEDENCIA | C4: N° | D4: FUENTE | E4: TRIBUNA | F4: AST. | G4: TRATAMIENTO | H4: NOMBRE COMPLETO | I4: CARGO
A5: PENDIENTE POR ASIGNAR | B5: 238 | C5: 238 | D5: ACADÉMICOS | E5: VIP | F5: PENDIENTE | G5: Rector | H5: Egon Montecinos Montecinos | I5: Rector Universidad Austral
A6: PENDIENTE POR ASIGNAR | B6: 240 | C6: 240 | D6: ACADÉMICOS | E6: VIP | F6: SI | G6: Rector | H6: Jacqueline Sepúlveda Carreño | I6: Rector Universidad de Concepción
A7: PENDIENTE POR ASIGNAR | B7: 242 | C7: 242 | D7: ACADÉMICOS | E7: VIP | F7: PENDIENTE | G7: Rector | H7: Benito Umaña Hermosilla | I7: Rector Universidad del Bío-Bío
A8: PENDIENTE POR ASIGNAR | B8: 245 | C8: 245 | D8: ACADÉMICOS | E8: VIP | F8: PENDIENTE | G8: Rector | H8: Roger Sepulveda Carrasco | I8: Rector Universidad Santo Tomás
A9: PENDIENTE POR ASIGNAR | B9: 246 | C9: 246 | D9: ACADÉMICOS | E9: VIP | F9: PENDIENTE | G9: Rector | H9: Federico Valdés Lafontaine | I9: Rector U.D.D. Sede Concepción
A10: PENDIENTE POR ASIGNAR | B10: 249 | C10: 249 | D10: ACADÉMICOS | E10: VIP | F10: PENDIENTE | G10: Rector | H10: Cristhian Mellado Cid | I10: Rector Universidad Católica de la Santísima Concepción
A11: PENDIENTE POR ASIGNAR | B11: 250 | C11: 250 | D11: ACADÉMICOS | E11: VIP | F11: PENDIENTE | G11: Rector | H11: Claudio Concha Navalón | I11: Vicerrector Universidad San Sebastián
A12: PENDIENTE POR ASIGNAR | B12: 252 | C12: 252 | D12: ACADÉMICOS | E12: VIP | F12: PENDIENTE | G12: Rector | H12: Henry Monks Ruiz | I12: Vicerrector Inacap
