Workbook

Sheet DASHBOARD
A1: DASHBOARD — CONTROL PRESUPUESTARIO CODE VÍVERES | J1: Índice mes (auto):
A2: Mes de análisis: | C2: JULIO | J2: =MATCH($C$2,VIVERES!$D$2:$N$2,0) -> 7
A3: KPI: cumplimiento de la meta DABA (% acumulado fijo definido) vs. ejecución real
A4: Cambie el mes en la celda amarilla para actualizar todo el tablero · Dispersión = Meta DABA − Real · Verde = cumple o supera la meta · Rojo = bajo la meta | K4: PLACOM — Acumulado | P4: META DABA — % ACUM. FIJO (variable definida)
A5: PRESUPUESTO | B5: ASIGNACIÓN | C5: % ACUM. META DABA | D5: % ACUM. REAL | E5: DISPERSIÓN (DABA-REAL) | F5: % GASTO REAL DEL MES | G5: % CUMPLIMIENTO META DABA | K5: Mes | L5: Meta DABA | M5: Real | N5: Dispersión (Meta-Real) | P5: Mes | Q5: % Acum. DABA
A6: PLACOM | B6: =VIVERES!$C$2 -> 7858146735 | C6: {=INDEX($Q$6:$Q$16,$J$2)} -> 0.6046 | D6: {=INDEX(VIVERES!$D$8:$N$8,$J$2)} -> 0.53467612 | E6: =C6-D6 -> 0.069923883 | F6: {=INDEX(VIVERES!$D$7:$N$7,$J$2)} -> 0.079662478 | G6: =IFERROR(D6/C6,"") -> 0.88434687 | K6: {=INDEX(VIVERES!$D$2:$N$2,ROW()-5)} -> ENERO | L6: {=INDEX($Q$6:$Q$16,ROW()-5)} -> 0 | M6: {=INDEX(VIVERES!$D$8:$N$8,ROW()-5)} -> 0.02383265 | N6: =L6-M6 -> -0.02383265 | P6: {=INDEX(VIVERES!$D$2:$N$2,ROW()-5)} -> ENERO | Q6: 0
A7: ALIMENTACIÓN UU.RR. | B7: =VIVERES!$C$11 -> 4288695122 | C7: {=INDEX($Q$6:$Q$16,$J$2)} -> 0.6046 | D7: {=INDEX(VIVERES!$D$17:$N$17,$J$2)} -> 0.53169539 | E7: =C7-D7 -> 0.07290461 | F7: {=INDEX(VIVERES!$D$16:$N$16,$J$2)} -> 0.063640548 | G7: =IFERROR(D7/C7,"") -> 0.87941679 | K7: {=INDEX(VIVERES!$D$2:$N$2,ROW()-5)} -> FEBRERO | L7: {=INDEX($Q$6:$Q$16,ROW()-5)} -> 0.101 | M7: {=INDEX(VIVERES!$D$8:$N$8,ROW()-5)} -> 0.087632822 | N7: =L7-M7 -> 0.013367178 | P7: {=INDEX(VIVERES!$D$2:$N$2,ROW()-5)} -> FEBRERO | Q7: 0.101
A8: ALIMENTACIÓN CONTRATADA | B8: =VIVERES!$C$20 -> 1743942964 | C8: {=INDEX($Q$6:$Q$16,$J$2)} -> 0.6046 | D8: {=INDEX(VIVERES!$D$26:$N$26,$J$2)} -> 0.66281482 | E8: =C8-D8 -> -0.058214816 | F8: {=INDEX(VIVERES!$D$25:$N$25,$J$2)} -> 0.10317909 | G8: =IFERROR(D8/C8,"") -> 1.0962865 | K8: {=INDEX(VIVERES!$D$2:$N$2,ROW()-5)} -> MARZO | L8: {=INDEX($Q$6:$Q$16,ROW()-5)} -> 0.1478 | M8: {=INDEX(VIVERES!$D$8:$N$8,ROW()-5)} -> 0.16573456 | N8: =L8-M8 -> -0.017934565 | P8: {=INDEX(VIVERES!$D$2:$N$2,ROW()-5)} -> MARZO | Q8: 0.1478
A9: PRESUPUESTO GENERAL | B9: =VIVERES!$C$30 -> 13890784821 | C9: {=INDEX($Q$6:$Q$16,$J$2)} -> 0.6046 | D9: {=INDEX(VIVERES!$D$36:$N$36,$J$2)} -> 0.52688092 | E9: =C9-D9 -> 0.077719083 | F9: {=INDEX(VIVERES!$D$35:$N$35,$J$2)} -> 0.077668239 | G9: =IFERROR(D9/C9,"") -> 0.87145372 | K9: {=INDEX(VIVERES!$D$2:$N$2,ROW()-5)} -> ABRIL | L9: {=INDEX($Q$6:$Q$16,ROW()-5)} -> 0.2671 | M9: {=INDEX(VIVERES!$D$8:$N$8,ROW()-5)} -> 0.25776914 | N9: =L9-M9 -> 0.0093308558 | P9: {=INDEX(VIVERES!$D$2:$N$2,ROW()-5)} -> ABRIL | Q9: 0.2671
K10: {=INDEX(VIVERES!$D$2:$N$2,ROW()-5)} -> MAYO | L10: {=INDEX($Q$6:$Q$16,ROW()-5)} -> 0.387 | M10: {=INDEX(VIVERES!$D$8:$N$8,ROW()-5)} -> 0.34497426 | N10: =L10-M10 -> 0.042025741 | P10: {=INDEX(VIVERES!$D$2:$N$2,ROW()-5)} -> MAYO | Q10: 0.387
K11: {=INDEX(VIVERES!$D$2:$N$2,ROW()-5)} -> JUNIO | L11: {=INDEX($Q$6:$Q$16,ROW()-5)} -> 0.4699 | M11: {=INDEX(VIVERES!$D$8:$N$8,ROW()-5)} -> 0.45501364 | N11: =L11-M11 -> 0.014886361 | P11: {=INDEX(VIVERES!$D$2:$N$2,ROW()-5)} -> JUNIO | Q11: 0.4699
K12: {=INDEX(VIVERES!$D$2:$N$2,ROW()-5)} -> JULIO | L12: {=INDEX($Q$6:$Q$16,ROW()-5)} -> 0.6046 | M12: {=INDEX(VIVERES!$D$8:$N$8,ROW()-5)} -> 0.53467612 | N12: =L12-M12 -> 0.069923883 | P12: {=INDEX(VIVERES!$D$2:$N$2,ROW()-5)} -> JULIO | Q12: 0.6046
K13: {=INDEX(VIVERES!$D$2:$N$2,ROW()-5)} -> AGOSTO | L13: {=INDEX($Q$6:$Q$16,ROW()-5)} -> 0.6915 | M13: {=INDEX(VIVERES!$D$8:$N$8,ROW()-5)} -> 0.62375564 | N13: =L13-M13 -> 0.067744355 | P13: {=INDEX(VIVERES!$D$2:$N$2,ROW()-5)} -> AGOSTO | Q13: 0.6915
K14: {=INDEX(VIVERES!$D$2:$N$2,ROW()-5)} -> SEPTIEMBRE | L14: {=INDEX($Q$6:$Q$16,ROW()-5)} -> 0.8287 | M14: {=INDEX(VIVERES!$D$8:$N$8,ROW()-5)} -> 0.71283517 | N14: =L14-M14 -> 0.11586483 | P14: {=INDEX(VIVERES!$D$2:$N$2,ROW()-5)} -> SEPTIEMBRE | Q14: 0.8287
K15: {=INDEX(VIVERES!$D$2:$N$2,ROW()-5)} -> OCTUBRE | L15: {=INDEX($Q$6:$Q$16,ROW()-5)} -> 0.9192 | M15: {=INDEX(VIVERES!$D$8:$N$8,ROW()-5)} -> 0.8019147 | N15: =L15-M15 -> 0.1172853 | P15: {=INDEX(VIVERES!$D$2:$N$2,ROW()-5)} -> OCTUBRE | Q15: 0.9192
K16: {=INDEX(VIVERES!$D$2:$N$2,ROW()-5)} -> NOVIEMBRE | L16: {=INDEX($Q$6:$Q$16,ROW()-5)} -> 1 | M16: {=INDEX(VIVERES!$D$8:$N$8,ROW()-5)} -> 0.89099423 | N16: =L16-M16 -> 0.10900577 | P16: {=INDEX(VIVERES!$D$2:$N$2,ROW()-5)} -> NOVIEMBRE | Q16: 1
K18: ALIMENTACIÓN UU.RR. — Acumulado | P18: Azul = valor fijo editable. Esta curva aplica a los 4 presupuestos.
K19: Mes | L19: Meta DABA | M19: Real | N19: Dispersión (Meta-Real)
K20: {=INDEX(VIVERES!$D$2:$N$2,ROW()-19)} -> ENERO | L20: {=INDEX($Q$6:$Q$16,ROW()-19)} -> 0 | M20: {=INDEX(VIVERES!$D$17:$N$17,ROW()-19)} -> 0.026937685 | N20: =L20-M20 -> -0.026937685
K21: {=INDEX(VIVERES!$D$2:$N$2,ROW()-19)} -> FEBRERO | L21: {=INDEX($Q$6:$Q$16,ROW()-19)} -> 0.101 | M21: {=INDEX(VIVERES!$D$17:$N$17,ROW()-19)} -> 0.11999123 | N21: =L21-M21 -> -0.018991235
K22: {=INDEX(VIVERES!$D$2:$N$2,ROW()-19)} -> MARZO | L22: {=INDEX($Q$6:$Q$16,ROW()-19)} -> 0.1478 | M22: {=INDEX(VIVERES!$D$17:$N$17,ROW()-19)} -> 0.21827844 | N22: =L22-M22 -> -0.070478443
K23: {=INDEX(VIVERES!$D$2:$N$2,ROW()-19)} -> ABRIL | L23: {=INDEX($Q$6:$Q$16,ROW()-19)} -> 0.2671 | M23: {=INDEX(VIVERES!$D$17:$N$17,ROW()-19)} -> 0.31315439 | N23: =L23-M23 -> -0.046054392
K24: {=INDEX(VIVERES!$D$2:$N$2,ROW()-19)} -> MAYO | L24: {=INDEX($Q$6:$Q$16,ROW()-19)} -> 0.387 | M24: {=INDEX(VIVERES!$D$17:$N$17,ROW()-19)} -> 0.39395269 | N24: =L24-M24 -> -0.0069526938
K25: {=INDEX(VIVERES!$D$2:$N$2,ROW()-19)} -> JUNIO | L25: {=INDEX($Q$6:$Q$16,ROW()-19)} -> 0.4699 | M25: {=INDEX(VIVERES!$D$17:$N$17,ROW()-19)} -> 0.46805484 | N25: =L25-M25 -> 0.0018451579
K26: {=INDEX(VIVERES!$D$2:$N$2,ROW()-19)} -> JULIO | L26: {=INDEX($Q$6:$Q$16,ROW()-19)} -> 0.6046 | M26: {=INDEX(VIVERES!$D$17:$N$17,ROW()-19)} -> 0.53169539 | N26: =L26-M26 -> 0.07290461
K27: {=INDEX(VIVERES!$D$2:$N$2,ROW()-19)} -> AGOSTO | L27: {=INDEX($Q$6:$Q$16,ROW()-19)} -> 0.6915 | M27: {=INDEX(VIVERES!$D$17:$N$17,ROW()-19)} -> 0.62496385 | N27: =L27-M27 -> 0.066536148
K28: {=INDEX(VIVERES!$D$2:$N$2,ROW()-19)} -> SEPTIEMBRE | L28: {=INDEX($Q$6:$Q$16,ROW()-19)} -> 0.8287 | M28: {=INDEX(VIVERES!$D$17:$N$17,ROW()-19)} -> 0.71823231 | N28: =L28-M28 -> 0.11046769
K29: {=INDEX(VIVERES!$D$2:$N$2,ROW()-19)} -> OCTUBRE | L29: {=INDEX($Q$6:$Q$16,ROW()-19)} -> 0.9192 | M29: {=INDEX(VIVERES!$D$17:$N$17,ROW()-19)} -> 0.81150078 | N29: =L29-M29 -> 0.10769922
K30: {=INDEX(VIVERES!$D$2:$N$2,ROW()-19)} -> NOVIEMBRE | L30: {=INDEX($Q$6:$Q$16,ROW()-19)} -> 1 | M30: {=INDEX(VIVERES!$D$17:$N$17,ROW()-19)} -> 0.90476924 | N30: =L30-M30 -> 0.09523076
K32: ALIMENTACIÓN CONTRATADA — Acumulado
K33: Mes | L33: Meta DABA | M33: Real | N33: Dispersión (Meta-Real)
K34: {=INDEX(VIVERES!$D$2:$N$2,ROW()-33)} -> ENERO | L34: {=INDEX($Q$6:$Q$16,ROW()-33)} -> 0 | M34: {=INDEX(VIVERES!$D$26:$N$26,ROW()-33)} -> 0.0092644191 | N34: =L34-M34 -> -0.0092644191
K35: {=INDEX(VIVERES!$D$2:$N$2,ROW()-33)} -> FEBRERO | L35: {=INDEX($Q$6:$Q$16,ROW()-33)} -> 0.101 | M35: {=INDEX(VIVERES!$D$26:$N$26,ROW()-33)} -> 0.21176516 | N35: =L35-M35 -> -0.11076516
K36: {=INDEX(VIVERES!$D$2:$N$2,ROW()-33)} -> MARZO | L36: {=INDEX($Q$6:$Q$16,ROW()-33)} -> 0.1478 | M36: {=INDEX(VIVERES!$D$26:$N$26,ROW()-33)} -> 0.35473284 | N36: =L36-M36 -> -0.20693284
K37: {=INDEX(VIVERES!$D$2:$N$2,ROW()-33)} -> ABRIL | L37: {=INDEX($Q$6:$Q$16,ROW()-33)} -> 0.2671 | M37: {=INDEX(VIVERES!$D$26:$N$26,ROW()-33)} -> 0.4134623 | N37: =L37-M37 -> -0.1463623
K38: {=INDEX(VIVERES!$D$2:$N$2,ROW()-33)} -> MAYO | L38: {=INDEX($Q$6:$Q$16,ROW()-33)} -> 0.387 | M38: {=INDEX(VIVERES!$D$26:$N$26,ROW()-33)} -> 0.46850228 | N38: =L38-M38 -> -0.081502277
K39: {=INDEX(VIVERES!$D$2:$N$2,ROW()-33)} -> JUNIO | L39: {=INDEX($Q$6:$Q$16,ROW()-33)} -> 0.4699 | M39: {=INDEX(VIVERES!$D$26:$N$26,ROW()-33)} -> 0.55963573 | N39: =L39-M39 -> -0.089735727
K40: {=INDEX(VIVERES!$D$2:$N$2,ROW()-33)} -> JULIO | L40: {=INDEX($Q$6:$Q$16,ROW()-33)} -> 0.6046 | M40: {=INDEX(VIVERES!$D$26:$N$26,ROW()-33)} -> 0.66281482 | N40: =L40-M40 -> -0.058214816
K41: {=INDEX(VIVERES!$D$2:$N$2,ROW()-33)} -> AGOSTO | L41: {=INDEX($Q$6:$Q$16,ROW()-33)} -> 0.6915 | M41: {=INDEX(VIVERES!$D$26:$N$26,ROW()-33)} -> 0.7488268 | N41: =L41-M41 -> -0.057326804
K42: {=INDEX(VIVERES!$D$2:$N$2,ROW()-33)} -> SEPTIEMBRE | L42: {=INDEX($Q$6:$Q$16,ROW()-33)} -> 0.8287 | M42: {=INDEX(VIVERES!$D$26:$N$26,ROW()-33)} -> 0.83483879 | N42: =L42-M42 -> -0.006138791
...

Sheet VIVERES
B1: PRESUP. PLACOM
B2: ASIGNACION | C2: 7858146735 | D2: ENERO | E2: FEBRERO | F2: MARZO | G2: ABRIL | H2: MAYO | I2: JUNIO | J2: JULIO | K2: AGOSTO | L2: SEPTIEMBRE | M2: OCTUBRE | N2: NOVIEMBRE | O2: TOTALES
A3: META INSTITUCIONAL | B3: META LINEAL INSTITUCIONAL | D3: =$C$2*D$4 -> 7.1509135e+08 | E3: =$C$2*E$4 -> 7.1509135e+08 | F3: =$C$2*F$4 -> 7.1509135e+08 | G3: =$C$2*G$4 -> 7.1509135e+08 | H3: =$C$2*H$4 -> 7.1509135e+08 | I3: =$C$2*I$4 -> 7.1509135e+08 | J3: =$C$2*J$4 -> 7.1509135e+08 | K3: =$C$2*K$4 -> 7.1509135e+08 | ... N3: =$C$2*N$4 -> 7.0723321e+08 | O3: =SUM(D3:N3) -> 7.8581467e+09
B4: PORCENTAJE META LINEAL INSTITUCIONAL | D4: 0.091 | E4: 0.091 | F4: 0.091 | G4: 0.091 | H4: 0.091 | I4: 0.091 | J4: 0.091 | K4: 0.091 | L4: 0.091 | M4: 0.091 | N4: 0.09 | O4: =SUM(D4:N4) -> 1
B5: PORCENTAJE ACUMULADO META INSTITUCIONAL | D5: =D4 -> 0.091 | E5: =D5+E4 -> 0.182 | F5: =E5+F4 -> 0.273 | G5: =F5+G4 -> 0.364 | H5: =G5+H4 -> 0.455 | I5: =H5+I4 -> 0.546 | J5: =I5+J4 -> 0.637 | K5: =J5+K4 -> 0.728 | L5: =K5+L4 -> 0.819 | ... N5: =M5+N4 -> 1
A6: PROYECCIÓN | B6: AVANCE GASTO REAL (DEVENGADO) | D6: 187280464 | E6: 501351114 | F6: 613734951 | G6: 723221230 | H6: 685270591 | I6: 864705589 | J6: 625999444 | K6: 700000000 | L6: 700000000 | M6: 700000000 | N6: 700000000 | O6: =SUM(D6:N6) -> 7001563383
B7: PORCENTAJE GASTO REAL | D7: =D6/$O$3 -> 0.02383265 | E7: =E6/$O$3 -> 0.063800172 | F7: =F6/$O$3 -> 0.078101742 | G7: =G6/$O$3 -> 0.092034579 | H7: =H6/$O$3 -> 0.087205115 | I7: =I6/$O$3 -> 0.11003938 | J7: =J6/$O$3 -> 0.079662478 | K7: =K6/$O$3 -> 0.089079528 | ... N7: =N6/$O$3 -> 0.089079528 | O7: =SUM(D7:N7) -> 0.89099423
B8: PORCENTAJE ACUMULADO REAL | D8: =D7 -> 0.02383265 | E8: =D8+E7 -> 0.087632822 | F8: =E8+F7 -> 0.16573456 | G8: =F8+G7 -> 0.25776914 | H8: =G8+H7 -> 0.34497426 | I8: =H8+I7 -> 0.45501364 | J8: =I8+J7 -> 0.53467612 | K8: =J8+K7 -> 0.62375564 | L8: =K8+L7 -> 0.71283517 | ... N8: =M8+N7 -> 0.89099423
B10: PRESUP. ALIMENTACION UU.RR.
B11: ASIGNACION | C11: 4288695122 | D11: ENERO | E11: FEBRERO | F11: MARZO | G11: ABRIL | H11: MAYO | I11: JUNIO | J11: JULIO | K11: AGOSTO | L11: SEPTIEMBRE | M11: OCTUBRE | N11: NOVIEMBRE | O11: TOTALES
A12: META INSTITUCIONAL | B12: META LINEAL INSTITUCIONAL | D12: =$C$11*D$13 -> 3.9027126e+08 | E12: =$C$11*E$13 -> 3.9027126e+08 | F12: =$C$11*F$13 -> 3.9027126e+08 | G12: =$C$11*G$13 -> 3.9027126e+08 | H12: =$C$11*H$13 -> 3.9027126e+08 | I12: =$C$11*I$13 -> 3.9027126e+08 | J12: =$C$11*J$13 -> 3.9027126e+08 | K12: =$C$11*K$13 -> 3.9027126e+08 | ... N12: =$C$11*N$13 -> 3.8598256e+08 | O12: =SUM(D12:N12) -> 4.2886951e+09
B13: PORCENTAJE META LINEAL INSTITUCIONAL | D13: 0.091 | E13: 0.091 | F13: 0.091 | G13: 0.091 | H13: 0.091 | I13: 0.091 | J13: 0.091 | K13: 0.091 | L13: 0.091 | M13: 0.091 | N13: 0.09 | O13: =SUM(D13:N13) -> 1
B14: PORCENTAJE ACUMULADO META INSTITUCIONAL | D14: =D13 -> 0.091 | E14: =D14+E13 -> 0.182 | F14: =E14+F13 -> 0.273 | G14: =F14+G13 -> 0.364 | H14: =G14+H13 -> 0.455 | I14: =H14+I13 -> 0.546 | J14: =I14+J13 -> 0.637 | K14: =J14+K13 -> 0.728 | L14: =K14+L13 -> 0.819 | ... N14: =M14+N13 -> 1
A15: PROYECCIÓN | B15: AVANCE GASTO REAL | D15: 115527520 | E15: 399078304 | F15: 421523868 | G15: 406894022 | H15: 346519282 | I15: 317801522 | J15: 272934906 | K15: 400000000 | L15: 400000000 | M15: 400000000 | N15: 400000000 | O15: =SUM(D15:N15) -> 3880279424
B16: PORCENTAJE GASTO REAL | D16: =D15/$O$12 -> 0.026937685 | E16: =E15/$O$12 -> 0.09305355 | F16: =F15/$O$12 -> 0.098287208 | G16: =G15/$O$12 -> 0.09487595 | H16: =H15/$O$12 -> 0.080798302 | I16: =I15/$O$12 -> 0.074102148 | J16: =J15/$O$12 -> 0.063640548 | K16: =K15/$O$12 -> 0.093268462 | ... N16: =N15/$O$12 -> 0.093268462 | O16: =SUM(D16:N16) -> 0.90476924
B17: PORCENTAJE ACUMULADO REAL | D17: =D16 -> 0.026937685 | E17: =D17+E16 -> 0.11999123 | F17: =E17+F16 -> 0.21827844 | G17: =F17+G16 -> 0.31315439 | H17: =G17+H16 -> 0.39395269 | I17: =H17+I16 -> 0.46805484 | J17: =I17+J16 -> 0.53169539 | K17: =J17+K16 -> 0.62496385 | L17: =K17+L16 -> 0.71823231 | ... N17: =M17+N16 -> 0.90476924
B19: PRESUP. ALIMENTACION CONTRATADA
B20: ASIGNACION | C20: 1743942964 | D20: ENERO | E20: FEBRERO | F20: MARZO | G20: ABRIL | H20: MAYO | I20: JUNIO | J20: JULIO | K20: AGOSTO | L20: SEPTIEMBRE | M20: OCTUBRE | N20: NOVIEMBRE | O20: TOTALES
A21: META INSTITUCIONAL | B21: META LINEAL INSTITUCIONAL | D21: =$C$20*D$22 -> 1.5869881e+08 | E21: =$C$20*E$22 -> 1.5869881e+08 | F21: =$C$20*F$22 -> 1.5869881e+08 | G21: =$C$20*G$22 -> 1.5869881e+08 | H21: =$C$20*H$22 -> 1.5869881e+08 | I21: =$C$20*I$22 -> 1.5869881e+08 | J21: =$C$20*J$22 -> 1.5869881e+08 | K21: =$C$20*K$22 -> 1.5869881e+08 | ... N21: =$C$20*N$22 -> 1.5695487e+08 | O21: =SUM(D21:N21) -> 1743942964
B22: PORCENTAJE META LINEAL INSTITUCIONAL | D22: 0.091 | E22: 0.091 | F22: 0.091 | G22: 0.091 | H22: 0.091 | I22: 0.091 | J22: 0.091 | K22: 0.091 | L22: 0.091 | M22: 0.091 | N22: 0.09 | O22: =SUM(D22:N22) -> 1
B23: PORCENTAJE ACUMULADO META INSTITUCIONAL | D23: =D22 -> 0.091 | E23: =D23+E22 -> 0.182 | F23: =E23+F22 -> 0.273 | G23: =F23+G22 -> 0.364 | H23: =G23+H22 -> 0.455 | I23: =H23+I22 -> 0.546 | J23: =I23+J22 -> 0.637 | K23: =J23+K22 -> 0.728 | L23: =K23+L22 -> 0.819 | ... N23: =M23+N22 -> 1
A24: PROYECCIÓN | B24: AVANCE GASTO REAL | D24: 72801165 | E24: 353149742 | F24: 249327488 | G24: 102420828 | H24: 95986573 | I24: 158931539 | J24: 179938447 | K24: 150000000 | L24: 150000000 | M24: 150000000 | N24: 130000000 | O24: =SUM(D24:N24) -> 1792555782
B25: PORCENTAJE GASTO REAL | D25: =D24/$O$3 -> 0.0092644191 | E25: =E24/$O$21 -> 0.20250074 | F25: =F24/$O$21 -> 0.14296768 | G25: =G24/$O$21 -> 0.05872946 | H25: =H24/$O$21 -> 0.055039973 | I25: =I24/$O$21 -> 0.09113345 | J25: =J24/$O$21 -> 0.10317909 | K25: =K24/$O$21 -> 0.086011987 | L25: =L24/$O$21 -> 0.086011987 | ... N25: =N24/$O$21 -> 0.074543722 | O25: =SUM(D25:N25) -> 0.9953945
B26: PORCENTAJE ACUMULADO REAL | D26: =D25 -> 0.0092644191 | E26: =D26+E25 -> 0.21176516 | F26: =E26+F25 -> 0.35473284 | G26: =F26+G25 -> 0.4134623 | H26: =G26+H25 -> 0.46850228 | I26: =H26+I25 -> 0.55963573 | J26: =I26+J25 -> 0.66281482 | K26: =J26+K25 -> 0.7488268 | L26: =K26+L25 -> 0.83483879 | ... N26: =M26+N25 -> 0.9953945
B29: PRESUPUESTO GENERAL CODE VIVERES
B30: ASIGNACION GENERLA | C30: =+C2+C11+C20 -> 13890784821 | D30: ENERO | E30: FEBRERO | F30: MARZO | G30: ABRIL | H30: MAYO | I30: JUNIO | J30: JULIO | K30: AGOSTO | L30: SEPTIEMBRE | M30: OCTUBRE | N30: NOVIEMBRE | O30: TOTALES
B31: META LINEAL INSTITUCIONAL | D31: =+D3+D12+D21 -> 1.2640614e+09 | E31: =+E3+E12+E21 -> 1.2640614e+09 | F31: =+F3+F12+F21 -> 1.2640614e+09 | G31: =+G3+G12+G21 -> 1.2640614e+09 | H31: =+H3+H12+H21 -> 1.2640614e+09 | I31: =+I3+I12+I21 -> 1.2640614e+09 | J31: =+J3+J12+J21 -> 1.2640614e+09 | K31: =+K3+K12+K21 -> 1.2640614e+09 | ... N31: =+N3+N12+N21 -> 1.2501706e+09 | O31: =+SUM(D31:N31) -> 1.3890785e+10
B32: PORCENTAJE META LINEAL INSTITUCIONAL | D32: 0.091 | E32: 0.091 | F32: 0.091 | G32: 0.091 | H32: 0.091 | I32: 0.091 | J32: 0.091 | K32: 0.091 | L32: 0.091 | M32: 0.091 | N32: 0.09 | O32: =+SUM(D32:N32) -> 1
B33: PORCENTAJE ACUMULADO META INSTITUCIONAL | D33: 0.091 | E33: =+E32+D33 -> 0.182 | F33: =+F32+E33 -> 0.273 | G33: =+G32+F33 -> 0.364 | H33: =+H32+G33 -> 0.455 | I33: =+I32+H33 -> 0.546 | J33: =+J32+I33 -> 0.637 | K33: =+K32+J33 -> 0.728 | L33: =+L32+K33 -> 0.819 | ... N33: =+N32+M33 -> 1
B34: AVANCE GASTO REAL | D34: =+D6+D15+D24 -> 375609149 | E34: =+E6+E15+E24 -> 1253579160 | F34: =+F6+F15+F24 -> 1284586307 | G34: =+G6+G15+G24 -> 1232536080 | H34: =+H6+H15+H24 -> 1127776446 | I34: =+I6+I15+I24 -> 1341438650 | J34: =+J6+J15+J24 -> 1078872797 | K34: =+K6+K15+K24 -> 1250000000 | ... N34: =+N6+N15+N24 -> 1230000000 | O34: =+SUM(D34:N34) -> 12674398589
B35: PORCENTAJE GASTO REAL | D35: =+D34/$O$31 -> 0.027040168 | E35: =+E34/$O$31 -> 0.09024538 | F35: =+F34/$O$31 -> 0.09247759 | G35: =+G34/$O$31 -> 0.088730485 | H35: =+H34/$O$31 -> 0.081188821 | I35: =+I34/$O$31 -> 0.0965704 | J35: =+J34/$O$31 -> 0.077668239 | K35: =+K34/$O$31 -> 0.089987716 | ... N35: =+N34/$O$31 -> 0.088547913 | O35: =+SUM(D35:N35) -> 0.91243214
B36: PORCENTAJE ACUMULADO REAL | D36: 0 | E36: =+D36+E35 -> 0.09024538 | F36: =+E36+F35 -> 0.18272297 | G36: =+F36+G35 -> 0.27145346 | H36: =+G36+H35 -> 0.35264228 | I36: =+H36+I35 -> 0.44921268 | J36: =+I36+J35 -> 0.52688092 | K36: =+J36+K35 -> 0.61686863 | L36: =+K36+L35 -> 0.70685635 | ... N36: =+M36+N35 -> 0.88539198
D126: 5862749 | J126: 5862749
