Workbook

Sheet CALCULO
A1: PRAT | F1: PRAT | I1: Actividad para cálculo NS
A2: % del tiempo | B2: Horas | C2: Nudos | D2: Consumido | F2: Consumos [m3/h] | I2: Horas | J2: Nudos | K2: Millas | L2: Consumido
A3: - | B3: 24 | C3: 14 | D3: =+B3*G3 -> 105.6 | F3: 15 | G3: 4.4 | I3: 24 | J3: 15 | K3: =+I3*J3 -> 360 | L3: =+I3*G3 -> 105.6
A4: - | B4: 0 | C4: =+F4 -> 12 | D4: =+B4*G4 -> 0 | F4: 12 | G4: 2.65 | I4: 48 | J4: 12 | K4: =+I4*J4 -> 576 | L4: =+I4*G4 -> 127.2
A5: - | B5: 0 | C5: =+F5 -> 0 | D5: =+B5*G5 -> 0 | L5: =+I5*G5 -> 0
B6: 0 | C6: =+F6 -> 0 | D6: =+B6*G6 -> 0 | K6: TOTAL | L6: =SUM(L3:L4) -> 232.8
C7: Total | D7: =SUM(D3:D6) -> 105.6
C8: CMH (Total / 24) | D8: =+D7/24 -> 4.4 | F8: NECESIDAD: | G8: 232.8
A10: LATORRE | F10: LATORRE | I10: Actividad para cálculo NS
A11: % del tiempo | B11: Horas | C11: Nudos | D11: Consumido | F11: Consumos [m3/h] | I11: Horas | J11: Nudos | K11: Millas | L11: Consumido
A12: - | B12: 0 | C12: 0 | D12: =+B12*G12 -> 0 | F12: 15 | G12: 4.4 | I12: 24 | J12: 15 | K12: =+I12*J12 -> 360 | L12: =+I12*G12 -> 105.6
A13: - | B13: 0 | C13: =+F13 -> 12 | D13: =+B13*G13 -> 0 | F13: 12 | G13: 2.65 | I13: 48 | J13: 12 | K13: =+I13*J13 -> 576 | L13: =+I13*G13 -> 127.2
A14: - | B14: 0 | C14: =+F14 -> 0 | D14: =+B14*G14 -> 0
B15: 0 | C15: =+F15 -> 0 | D15: =+B15*G15 -> 0 | K15: TOTAL | L15: =SUM(L12:L14) -> 232.8
C16: Total | D16: =SUM(D12:D15) -> 0
C17: CMH (Total / 24) | D17: =+D16/24 -> 0 | F17: NECESIDAD: | G17: 232.8

Sheet 01 Datos
A1: BUQUES | E1: TIEMPO MANIOBRAS
A2: BUQUE 1 | B2: PRAT | E2: ZARPE | F2: 15 | G2: min
A3: BUQUE 2 | B3: LATORRE | E3: RECALADA | F3: 15 | G3: min
E4: CAMBIO | F4: 45 | G4: min
A5: REQUERIMIENTOS
B6: =+B2 -> PRAT | C6: =+B3 -> LATORRE
A7: DMFO | B7: 232.8 | C7: 232.8 | D7: m3
A8: A1 | B8: 0 | C8: 0 | D8: m3
A9: AGUA | B9: 35 | C9: 40 | D9: m3
A10: LUBRICANTE | B10: 4000 | C10: 3000 | D10: lts
A11: VÍVERES | B11: 4 | C11: 5.5 | D11: ton
A12: MUNICIÓN | B12: 6 | C12: 6 | D12: ton
A14: CAPACIDAD TRANSFERENCIA MUELLES
B15: A | C15: B | D15: TERMNAL
A16: DMFO | B16: 100 | C16: 40 | D16: 200 | E16: 0 | F16: m3/h
A17: A1 | B17: 0 | C17: 0 | D17: 0 | E17: 0 | F17: m3/h
A18: AGUA | B18: 25 | C18: 30 | D18: 25 | E18: 0 | F18: m3/h
A19: LUBRICANTE | B19: 3000 | C19: 4000 | D19: 3000 | E19: 0 | F19: lts/h
A20: VÍVERES | B20: 2 | C20: 3 | D20: 0 | E20: 0 | F20: ton/h
A21: MUNICIÓN | B21: 4 | C21: 6 | D21: 0 | E21: 0 | F21: ton/h

Sheet 02 Cálculos
A1: TIEMPOS DE TRANSFERENCIA | G1: TIEMPOS DE TRANSFERENCIA
A2: TIEMPO TRANSF [min] | B2: =+'01 Datos'!B2 -> PRAT | G2: TIEMPO TRANSF [min] | H2: =+'01 Datos'!B3 -> LATORRE
B3: =+'01 Datos'!B15 -> A | C3: =+'01 Datos'!C15 -> B | D3: =+'01 Datos'!D15 -> TERMNAL | E3: =+'01 Datos'!E15 | H3: =+'01 Datos'!B15 -> A | I3: =+'01 Datos'!C15 -> B | J3: =+'01 Datos'!D15 -> TERMNAL | K3: D
A4: DMFO | B4: =ROUNDUP((('01 Datos'!B7/'01 Datos'!B16)*60),0) -> 140 | C4: =+ROUNDUP((('01 Datos'!B7/'01 Datos'!C16)*60),0) -> 350 | D4: =+ROUNDUP((('01 Datos'!B7/'01 Datos'!D16)*60),0) -> 70 | E4: =+ROUNDUP((('01 Datos'!B7/'01 Datos'!E16)*60),0) -> #DIV/0! | G4: DMFO | H4: =+ROUNDUP((('01 Datos'!C7/'01 Datos'!B16)*60),0) -> 140 | I4: =+ROUNDUP((('01 Datos'!C7/'01 Datos'!C16)*60),0) -> 350 | J4: =+ROUNDUP((('01 Datos'!C7/'01 Datos'!D16)*60),0) -> 70 | K4: =+ROUNDUP((('01 Datos'!C7/'01 Datos'!E16)*60),0) -> #DIV/0!
A5: A1 | B5: =ROUNDUP((('01 Datos'!B8/'01 Datos'!B17)*60),0) -> #DIV/0! | C5: =+ROUNDUP((('01 Datos'!B8/'01 Datos'!C17)*60),0) -> #DIV/0! | D5: =+ROUNDUP((('01 Datos'!B8/'01 Datos'!D17)*60),0) -> #DIV/0! | E5: 0 | G5: A1 | H5: =+ROUNDUP((('01 Datos'!C8/'01 Datos'!B17)*60),0) -> #DIV/0! | I5: =+ROUNDUP((('01 Datos'!C8/'01 Datos'!C17)*60),0) -> #DIV/0! | J5: =+ROUNDUP((('01 Datos'!C8/'01 Datos'!D17)*60),0) -> #DIV/0! | K5: =+ROUNDUP((('01 Datos'!C8/'01 Datos'!E17)*60),0) -> #DIV/0!
A6: AGUA | B6: =ROUNDUP((('01 Datos'!B9/'01 Datos'!B18)*60),0) -> 84 | C6: =+ROUNDUP((('01 Datos'!B9/'01 Datos'!C18)*60),0) -> 70 | D6: =+ROUNDUP((('01 Datos'!B9/'01 Datos'!D18)*60),0) -> 84 | E6: =+ROUNDUP((('01 Datos'!B9/'01 Datos'!E18)*60),0) -> #DIV/0! | G6: AGUA | H6: =+ROUNDUP((('01 Datos'!C9/'01 Datos'!B18)*60),0) -> 96 | I6: =+ROUNDUP((('01 Datos'!C9/'01 Datos'!C18)*60),0) -> 80 | J6: =+ROUNDUP((('01 Datos'!C9/'01 Datos'!D18)*60),0) -> 96 | K6: =+ROUNDUP((('01 Datos'!C9/'01 Datos'!E18)*60),0) -> #DIV/0!
A7: LUBRICANTES | B7: =ROUNDUP((('01 Datos'!B10/'01 Datos'!B19)*60),0) -> 80 | C7: =+ROUNDUP((('01 Datos'!B10/'01 Datos'!C19)*60),0) -> 60 | D7: =+ROUNDUP((('01 Datos'!B10/'01 Datos'!D19)*60),0) -> 80 | E7: =+ROUNDUP((('01 Datos'!B10/'01 Datos'!E19)*60),0) -> #DIV/0! | G7: LUBRICANTES | H7: =+ROUNDUP((('01 Datos'!C10/'01 Datos'!B19)*60),0) -> 60 | I7: =+ROUNDUP((('01 Datos'!C10/'01 Datos'!C19)*60),0) -> 45 | J7: =+ROUNDUP((('01 Datos'!C10/'01 Datos'!D19)*60),0) -> 60 | K7: =+ROUNDUP((('01 Datos'!C10/'01 Datos'!E19)*60),0) -> #DIV/0!
A8: VÍVERES | B8: =ROUNDUP((('01 Datos'!B11/'01 Datos'!B20)*60),0) -> 120 | C8: =+ROUNDUP((('01 Datos'!B11/'01 Datos'!C20)*60),0) -> 80 | D8: =+ROUNDUP((('01 Datos'!B11/'01 Datos'!D20)*60),0) -> #DIV/0! | E8: =+ROUNDUP((('01 Datos'!B11/'01 Datos'!E20)*60),0) -> #DIV/0! | G8: VÍVERES | H8: =+ROUNDUP((('01 Datos'!C11/'01 Datos'!B20)*60),0) -> 165 | I8: =+ROUNDUP((('01 Datos'!C11/'01 Datos'!C20)*60),0) -> 110 | J8: =+ROUNDUP((('01 Datos'!C11/'01 Datos'!D20)*60),0) -> #DIV/0! | K8: =+ROUNDUP((('01 Datos'!C11/'01 Datos'!E20)*60),0) -> #DIV/0!
A9: MUNICIÓN | B9: =+ROUNDUP((('01 Datos'!B12/'01 Datos'!B21)*60),0) -> 90 | C9: =+ROUNDUP((('01 Datos'!B12/'01 Datos'!C21)*60),0) -> 60 | D9: =+ROUNDUP((('01 Datos'!B12/'01 Datos'!D21)*60),0) -> #DIV/0! | E9: =+ROUNDUP((('01 Datos'!B12/'01 Datos'!E21)*60),0) -> #DIV/0! | G9: MUNICIÓN | H9: =+ROUNDUP((('01 Datos'!C12/'01 Datos'!B21)*60),0) -> 90 | I9: =+ROUNDUP((('01 Datos'!C12/'01 Datos'!C21)*60),0) -> 60 | J9: =+ROUNDUP((('01 Datos'!C12/'01 Datos'!D21)*60),0) -> #DIV/0! | K9: =+ROUNDUP((('01 Datos'!C12/'01 Datos'!E21)*60),0) -> #DIV/0!
A11: ZARPE | B11: ='01 Datos'!$F$2 -> 15 | C11: ='01 Datos'!$F$2 -> 15 | D11: ='01 Datos'!$F$2 -> 15 | E11: 0 | G11: ZARPE | H11: ='01 Datos'!$F$2 -> 15 | I11: ='01 Datos'!$F$2 -> 15 | J11: ='01 Datos'!$F$2 -> 15 | K11: 0
A12: CAMBIO | G12: CAMBIO
A13: RECALADA | B13: ='01 Datos'!$F$3 -> 15 | C13: ='01 Datos'!$F$3 -> 15 | D13: ='01 Datos'!$F$3 -> 15 | E13: 0 | G13: RECALADA | H13: ='01 Datos'!$F$3 -> 15 | I13: ='01 Datos'!$F$3 -> 15 | J13: ='01 Datos'!$F$3 -> 15 | K13: 0
A15: TIEMPO TOTAL - SIN CAMBIO DE SITIO | G15: TIEMPO TOTAL - SIN CAMBIO DE SITIO
A16: TOTAL | B16: 260 | C16: 440 | D16: 114 | E16: 0 | G16: TOTAL | H16: 260 | I16: 440 | J16: 126 | K16: =K4+K11+K13 -> #DIV/0!
A17: TOTAL | B17: =+TIME(0,B16,0) -> 0.18055556 | C17: =+TIME(0,C16,0) -> 0.30555556 | D17: =+TIME(0,D16,0) -> 0.079166667 | E17: =+TIME(0,E16,0) -> 0 | G17: TOTAL | H17: =+TIME(0,H16,0) -> 0.18055556 | I17: =+TIME(0,I16,0) -> 0.30555556 | J17: =+TIME(0,J16,0) -> 0.0875 | K17: =+TIME(0,K16,0) -> #DIV/0!
A19: TIEMPO TOTAL - CON CAMBIO DE SITIO (NO CORRESPONDE)
B21: RECALADA | C21: B | D21: ZARPE | E21: CAMBIO | F21: RECALADA | G21: TP | H21: ZARPE | I21: TOTAL | J21: TOTAL
A22: =B2 -> PRAT | B22: 15 | C22: 80 | D22: 15 | E22: 45 | F22: 15 | G22: 80 | H22: 15 | I22: =B22+C22+D22+E22+F22+G22+H22 -> 265 | J22: =+TIME(0,I22,0) -> 0.18402778
B24: RECALDA | C24: TP | D24: ZARPE | E24: CAMBIO | F24: RECALADA | G24: B | H24: ZARPE | I24: TOTAL | J24: TOTAL
A25: =H2 -> LATORRE | B25: 15 | C25: 70 | D25: 15 | E25: 45 | F25: 15 | G25: 110 | H25: 15 | I25: =B25+C25+D25+E25+F25+G25+H25 -> 285 | J25: =+TIME(0,I25,0) -> 0.19791667
A28: RESPUESTA
A29: BUQUE | B29: SITIO | C29: TOTAL [min] | D29: TOTAL
A30: =A22 -> PRAT | B30: B-TP | C30: 265 | D30: =+TIME(0,C30,0) -> 0.18402778
A31: =A25 -> LATORRE | B31: TP-A | C31: 285 | D31: =+TIME(0,C31,0) -> 0.19791667

Sheet 03 diagrama
A1: MUELLE | B1: BUQUE | C1: REQUERIMIENTO | D1: CANTIDAD | E1: UNIDAD | F1: TIEMPO [min] | G1: 1 HR | S1: 2 HR | AE1: 3 HR | AQ1: 4 HR | BC1: 5 HR | BO1: 6 HR
G2: 5 | H2: 10 | I2: 15 | J2: 20 | K2: 25 | L2: 30 | M2: 35 | N2: 40 | O2: 45 | P2: 50 | Q2: 55 | R2: 60 | S2: 5 | T2: 10 | U2: 15 | V2: 20 | W2: 25 | X2: 30 | Y2: 35 | Z2: 40 | AA2: 45 | AB2: 50 | AC2: 55 | AD2: 60 | AE2: 5 | AF2: 10 | AG2: 15 | AH2: 20 | AI2: 25 | AJ2: 30 | AK2: 35 | AL2: 40 | AM2: 45 | AN2: 50 | AO2: 55 | AP2: 60 | AQ2: 5 | AR2: 10 | AS2: 15 | AT2: 20 | AU2: 25 | AV2: 30 | AW2: 35 | AX2: 40 | AY2: 45 | AZ2: 50 | BA2: 55 | BB2: 60 | BC2: 5 | BD2: 10 | BE2: 15 | BF2: 20 | BG2: 25 | BH2: 30 | BI2: 35 | BJ2: 40 | BK2: 45 | BL2: 50 | BM2: 55 | BN2: 60 | BO2: 5 | BP2: 10 | BQ2: 15 | BR2: 20 | BS2: 25 | BT2: 30 | BU2: 35 | BV2: 40 | BW2: 45 | BX2: 50 | BY2: 55 | BZ2: 60 | CA2: 5 | CB2: 10 | CC2: 15
A3: B | B3: PRAT | C3: AGUA | D3: 35 | E3: [m3] | F3: 70 | G3: RECALADA | J3: 5 | K3: 5 | L3: 5 | M3: 5 | N3: 5 | O3: 5 | P3: 5 | Q3: 5 | R3: 5 | S3: 5 | T3: 5 | U3: 5 | V3: 5 | W3: 5 | X3: 5 | Y3: 5 | Z3: ZARPE | AC3: CAMBIO DE SITIO | AL3: RECALADA | AO3: 5 | AP3: 5 | AQ3: 5 | AR3: 5 | AS3: 5 | AT3: 5 | AU3: 5 | AV3: 5 | AW3: 5 | AX3: 5 | AY3: 5 | AZ3: 5 | BA3: 5 | BB3: 5 | BE3: ZARPE | BH3: 5 | BI3: 5 | BJ3: 5 | BK3: 5 | BL3: 5 | BM3: 5 | BN3: 5 | BO3: 5 | BP3: 5 | BQ3: 5 | BR3: 5 | BS3: 5 | BT3: 5 | BU3: 5 | BV3: 5 | BW3: 5 | BX3: 5 | BY3: 5 | BZ3: 5 | CA3: 5 | CB3: 5
C4: VIVERES | D4: 4 | E4: [tons] | F4: 80 | J4: 5 | K4: 5 | L4: 5 | M4: 5 | N4: 5 | O4: 5 | P4: 5 | Q4: 5 | R4: 5 | S4: 5 | T4: 5 | U4: 5 | V4: 5 | W4: 5 | X4: 5 | Y4: 5 | AO4: 5 | AP4: 5 | AQ4: 5 | AR4: 5 | AS4: 5 | AT4: 5 | AU4: 5 | AV4: 5 | AW4: 5 | AX4: 5 | AY4: 5 | AZ4: 5 | BA4: 5 | BB4: 5 | BH4: 5 | BI4: 5 | BJ4: 5 | BK4: 5 | BL4: 5 | BM4: 5 | BN4: 5 | BO4: 5 | BP4: 5 | BQ4: 5 | BR4: 5 | BS4: 5 | BT4: 5 | BU4: 5 | BV4: 5 | BW4: 5 | BX4: 5 | BY4: 5 | BZ4: 5 | CA4: 5 | CB4: 5
C5: MUNICION | D5: 6 | E5: [lts] | F5: 60 | J5: 5 | K5: 5 | L5: 5 | M5: 5 | N5: 5 | O5: 5 | P5: 5 | Q5: 5 | R5: 5 | S5: 5 | T5: 5 | U5: 5 | V5: 5 | W5: 5 | X5: 5 | Y5: 5 | AO5: 5 | AP5: 5 | AQ5: 5 | AR5: 5 | AS5: 5 | AT5: 5 | AU5: 5 | AV5: 5 | AW5: 5 | AX5: 5 | AY5: 5 | AZ5: 5 | BA5: 5 | BB5: 5 | BH5: 5 | BI5: 5 | BJ5: 5 | BK5: 5 | BL5: 5 | BM5: 5 | BN5: 5 | BO5: 5 | BP5: 5 | BQ5: 5 | BR5: 5 | BS5: 5 | BT5: 5 | BU5: 5 | BV5: 5 | BW5: 5 | BX5: 5 | BY5: 5 | BZ5: 5 | CA5: 5 | CB5: 5
A6: TP | C6: DMFO | D6: 232.8 | E6: [m3] | F6: 70 | J6: 5 | K6: 5 | L6: 5 | M6: 5 | N6: 5 | O6: 5 | P6: 5 | Q6: 5 | R6: 5 | S6: 5 | T6: 5 | U6: 5 | V6: 5 | W6: 5 | X6: 5 | Y6: 5 | AO6: 5 | AP6: 5 | AQ6: 5 | AR6: 5 | AS6: 5 | AT6: 5 | AU6: 5 | AV6: 5 | AW6: 5 | AX6: 5 | AY6: 5 | AZ6: 5 | BA6: 5 | BB6: 5 | BH6: 5 | BI6: 5 | BJ6: 5 | BK6: 5 | BL6: 5 | BM6: 5 | BN6: 5 | BO6: 5 | BP6: 5 | BQ6: 5 | BR6: 5 | BS6: 5 | BT6: 5 | BU6: 5 | BV6: 5 | BW6: 5 | BX6: 5 | BY6: 5 | BZ6: 5 | CA6: 5 | CB6: 5
C7: LUBRICANTE | D7: 4000 | E7: [tons] | F7: 80 | J7: 5 | K7: 5 | L7: 5 | M7: 5 | N7: 5 | O7: 5 | P7: 5 | Q7: 5 | R7: 5 | S7: 5 | T7: 5 | U7: 5 | V7: 5 | W7: 5 | X7: 5 | Y7: 5 | AO7: 5 | AP7: 5 | AQ7: 5 | AR7: 5 | AS7: 5 | AT7: 5 | AU7: 5 | AV7: 5 | AW7: 5 | AX7: 5 | AY7: 5 | AZ7: 5 | BA7: 5 | BB7: 5 | BC7: 5 | BD7: 5 | BH7: 5 | BI7: 5 | BJ7: 5 | BK7: 5 | BL7: 5 | BM7: 5 | BN7: 5 | BO7: 5 | BP7: 5 | BQ7: 5 | BR7: 5 | BS7: 5 | BT7: 5 | BU7: 5 | BV7: 5 | BW7: 5 | BX7: 5 | BY7: 5 | BZ7: 5 | CA7: 5 | CB7: 5
K8: 5
A9: MUELLE | B9: BUQUE | C9: REQUERIMIENTO | D9: CANTIDAD | E9: UNIDAD | F9: TIEMPO [min] | G9: 1 HR | S9: 2 HR | AE9: 3 HR | AQ9: 4 HR | BC9: 5 HR | BO9: 6 HR
G10: 5 | H10: 10 | I10: 15 | J10: 20 | K10: 25 | L10: 30 | M10: 35 | N10: 40 | O10: 45 | P10: 50 | Q10: 55 | R10: 60 | S10: 5 | T10: 10 | U10: 15 | V10: 20 | W10: 25 | X10: 30 | Y10: 35 | Z10: 40 | AA10: 45 | AB10: 50 | AC10: 55 | AD10: 60 | AE10: 5 | AF10: 10 | AG10: 15 | AH10: 20 | AI10: 25 | AJ10: 30 | AK10: 35 | AL10: 40 | AM10: 45 | AN10: 50 | AO10: 55 | AP10: 60 | AQ10: 5 | AR10: 10 | AS10: 15 | AT10: 20 | AU10: 25 | AV10: 30 | AW10: 35 | AX10: 40 | AY10: 45 | AZ10: 50 | BA10: 55 | BB10: 60 | BC10: 5 | BD10: 10 | BE10: 15 | BF10: 20 | BG10: 25 | BH10: 30 | BI10: 35 | BJ10: 40 | BK10: 45 | BL10: 50 | BM10: 55 | BN10: 60 | BO10: 5 | BP10: 10 | BQ10: 15 | BR10: 20 | BS10: 25 | BT10: 30 | BU10: 35 | BV10: 40 | BW10: 45 | BX10: 50 | BY10: 55 | BZ10: 60 | CA10: 5 | CB10: 10 | CC10: 15
A11: TP | B11: LATORRE | C11: DMFO | D11: 232.8 | E11: [m3] | F11: 70 | G11: RECALADA | J11: 5 | K11: 5 | L11: 5 | M11: 5 | N11: 5 | O11: 5 | P11: 5 | Q11: 5 | R11: 5 | S11: 5 | T11: 5 | U11: 5 | V11: 5 | W11: 5 | X11: ZARPE | AA11: RECALADA | AJ11: RECALADA | AM11: 5 | AN11: 5 | AO11: 5 | AP11: 5 | AQ11: 5 | AR11: 5 | AS11: 5 | AT11: 5 | AU11: 5 | AV11: 5 | AW11: 5 | AX11: 5 | AY11: 5 | AZ11: 5 | BA11: 5 | BB11: 5 | BC11: 5 | BD11: 5 | BE11: 5 | BF11: 5 | BG11: 5 | BH11: 5 | BI11: ZARPE | BL11: 5 | BM11: 5 | BN11: 5 | BO11: 5 | BP11: 5 | BQ11: 5 | BR11: 5 | BS11: 5 | BT11: 5 | BU11: 5 | BV11: 5 | BW11: 5 | BX11: 5 | BY11: 5 | BZ11: 5 | CA11: 5
C12: LUBRICANTE | D12: 3000 | E12: [m3] | F12: 60 | J12: 5 | K12: 5 | L12: 5 | M12: 5 | N12: 5 | O12: 5 | P12: 5 | Q12: 5 | R12: 5 | S12: 5 | T12: 5 | U12: 5 | V12: 5 | W12: 5 | AM12: 5 | AN12: 5 | AO12: 5 | AP12: 5 | AQ12: 5 | AR12: 5 | AS12: 5 | AT12: 5 | AU12: 5 | AV12: 5 | AW12: 5 | AX12: 5 | AY12: 5 | AZ12: 5 | BA12: 5 | BB12: 5 | BC12: 5 | BD12: 5 | BE12: 5 | BF12: 5 | BG12: 5 | BH12: 5 | BL12: 5 | BM12: 5 | BN12: 5 | BO12: 5 | BP12: 5 | BQ12: 5 | BR12: 5 | BS12: 5 | BT12: 5 | BU12: 5 | BV12: 5 | BW12: 5 | BX12: 5 | BY12: 5 | BZ12: 5 | CA12: 5
A13: B | C13: AGUA | D13: 40 | E13: [lts] | F13: 80 | J13: 5 | K13: 5 | L13: 5 | M13: 5 | N13: 5 | O13: 5 | P13: 5 | Q13: 5 | R13: 5 | S13: 5 | T13: 5 | U13: 5 | V13: 5 | W13: 5 | AM13: 5 | AN13: 5 | AO13: 5 | AP13: 5 | AQ13: 5 | AR13: 5 | AS13: 5 | AT13: 5 | AU13: 5 | AV13: 5 | AW13: 5 | AX13: 5 | AY13: 5 | AZ13: 5 | BA13: 5 | BB13: 5 | BC13: 5 | BD13: 5 | BE13: 5 | BF13: 5 | BG13: 5 | BH13: 5 | BL13: 5 | BM13: 5 | BN13: 5 | BO13: 5 | BP13: 5 | BQ13: 5 | BR13: 5 | BS13: 5 | BT13: 5 | BU13: 5 | BV13: 5 | BW13: 5 | BX13: 5 | BY13: 5 | BZ13: 5 | CA13: 5
C14: VIVERES | D14: 5.5 | E14: [tons] | F14: 110 | J14: 5 | K14: 5 | L14: 5 | M14: 5 | N14: 5 | O14: 5 | P14: 5 | Q14: 5 | R14: 5 | S14: 5 | T14: 5 | U14: 5 | V14: 5 | W14: 5 | AM14: 5 | AN14: 5 | AO14: 5 | AP14: 5 | AQ14: 5 | AR14: 5 | AS14: 5 | AT14: 5 | AU14: 5 | AV14: 5 | AW14: 5 | AX14: 5 | AY14: 5 | AZ14: 5 | BA14: 5 | BB14: 5 | BC14: 5 | BD14: 5 | BE14: 5 | BF14: 5 | BG14: 5 | BH14: 5 | BL14: 5 | BM14: 5 | BN14: 5 | BO14: 5 | BP14: 5 | BQ14: 5 | BR14: 5 | BS14: 5 | BT14: 5 | BU14: 5 | BV14: 5 | BW14: 5 | BX14: 5 | BY14: 5 | BZ14: 5 | CA14: 5
C15: MUNICION | D15: 6 | E15: [tons] | F15: 60 | J15: 5 | K15: 5 | L15: 5 | M15: 5 | N15: 5 | O15: 5 | P15: 5 | Q15: 5 | R15: 5 | S15: 5 | T15: 5 | U15: 5 | V15: 5 | W15: 5 | AM15: 5 | AN15: 5 | AO15: 5 | AP15: 5 | AQ15: 5 | AR15: 5 | AS15: 5 | AT15: 5 | AU15: 5 | AV15: 5 | AW15: 5 | AX15: 5 | AY15: 5 | AZ15: 5 | BA15: 5 | BB15: 5 | BC15: 5 | BD15: 5 | BE15: 5 | BF15: 5 | BG15: 5 | BH15: 5 | BL15: 5 | BM15: 5 | BN15: 5 | BO15: 5 | BP15: 5 | BQ15: 5 | BR15: 5 | BS15: 5 | BT15: 5 | BU15: 5 | BV15: 5 | BW15: 5 | BX15: 5 | BY15: 5 | BZ15: 5 | CA15: 5
