Workbook

Sheet MAESTRO
A1: N° | B1: PRECEDENCIA | C1: FUENTE | D1: TRATAMIENTO | E1: TRIBUNA | F1: NOMBRE COMPLETO | G1: NOMBRE | H1: APE. P. | I1: APE. M. | J1: AST. | K1: CARGO | L1: OBSERVACIONES | M1: TRIBUNA BASE | N1: DISTRIBUYE | O1: SEMAFORO
A2: =ROW()-1 -> 1 | B2: =ROW()-1 -> 1 | C2: OPA | D2: Su Excelencia | E2: =IF($J2="NO","",IF($M2="","",$M2)) -> VIP | F2: Kast Rist, José Antonio | G2: José Antonio | H2: Kast | I2: Rist | J2: SI | K2: * Presidente de la República | M2: VIP | N2: =IF($J2="NO","NO","SI") -> SI | O2: =IF($J2="SI","🟢",IF($J2="NO","🔴","🟡")) -> 🟢
A3: =ROW()-1 -> 2 | B3: =ROW()-1 -> 2 | C3: OPA | D3: Primera Dama | E3: =IF($J3="NO","",IF($M3="","",$M3)) -> VIP | F3: Adriasola Barroihet, María Pía | G3: María Pía | H3: Adriasola | I3: Barroihet | J3: PENDIENTE | K3: Esposa del Presidente de la República | M3: VIP | N3: =IF($J3="NO","NO","SI") -> SI | O3: =IF($J3="SI","🟢",IF($J3="NO","🔴","🟡")) -> 🟡
A4: =ROW()-1 -> 3 | B4: =ROW()-1 -> 3 | C4: OPA | D4: Ministro | E4: =IF($J4="NO","",IF($M4="","",$M4)) -> VIP | F4: Barros Tocornal, Fernando | G4: Fernando | H4: Barros | I4: Tocornal | J4: SI | K4: *Ministro de Defensa Nacional | M4: VIP | N4: =IF($J4="NO","NO","SI") -> SI | O4: =IF($J4="SI","🟢",IF($J4="NO","🔴","🟡")) -> 🟢
A5: =ROW()-1 -> 4 | B5: =ROW()-1 -> 4 | C5: OPA | D5: Almirante | E5: =IF($J5="NO","",IF($M5="","",$M5)) -> VIP | F5: Cabrera Salazar, Fernando | G5: Fernando | H5: Cabrera | I5: Salazar | J5: SI | K5: *Comandante en Jefe de la Armada | M5: VIP | N5: =IF($J5="NO","NO","SI") -> SI | O5: =IF($J5="SI","🟢",IF($J5="NO","🔴","🟡")) -> 🟢
A6: =ROW()-1 -> 5 | B6: =ROW()-1 -> 5 | C6: OPA | D6: Señora | E6: =IF($J6="NO","",IF($M6="","",$M6)) -> VIP | F6: Mery, Roxana | G6: Roxana | H6: Mery | I6: Casella | J6: SI | K6: Esposa del Comandante en Jefe de la Armada | M6: VIP | N6: =IF($J6="NO","NO","SI") -> SI | O6: =IF($J6="SI","🟢",IF($J6="NO","🔴","🟡")) -> 🟢
A7: =ROW()-1 -> 6 | B7: =ROW()-1 -> 6 | C7: OPA | D7: Señora | E7: =IF($J7="NO","",IF($M7="","",$M7)) -> VIP | F7: Morel Montes, María Cecilia | G7: María Cecilia | H7: Morel | I7: Montes | J7: PENDIENTE | K7: Ex - Primera Dama | M7: VIP | N7: =IF($J7="NO","NO","SI") -> SI | O7: =IF($J7="SI","🟢",IF($J7="NO","🔴","🟡")) -> 🟡
A8: =ROW()-1 -> 7 | B8: =ROW()-1 -> 7 | C8: OPA | D8: Honorable Senador | E8: =IF($J8="NO","",IF($M8="","",$M8)) | F8: Núñez Urrutia, Paulina | G8: Paulina | H8: Núñez | I8: Urrutia | J8: NO | K8: Presidenta del Senado | M8: VIP | N8: =IF($J8="NO","NO","SI") -> NO | O8: =IF($J8="SI","🟢",IF($J8="NO","🔴","🟡")) -> 🔴
A9: =ROW()-1 -> 8 | B9: =ROW()-1 -> 8 | C9: OPA | D9: Honorable Diputado | E9: =IF($J9="NO","",IF($M9="","",$M9)) | F9: Alessandri Vergara, Jorge | G9: Jorge | H9: Alessandri | I9: Vergara | J9: NO | K9: Presidente de la Cámara de Diputados | M9: VIP | N9: =IF($J9="NO","NO","SI") -> NO | O9: =IF($J9="SI","🟢",IF($J9="NO","🔴","🟡")) -> 🔴
A10: =ROW()-1 -> 9 | B10: =ROW()-1 -> 9 | C10: OPA | D10: Su Excelencia | E10: =IF($J10="NO","",IF($M10="","",$M10)) -> VIP | F10: Boric Font, Gabriel | G10: Gabriel | H10: Boric | I10: Font | J10: PENDIENTE | K10: Ex Presidente de la República | M10: VIP | N10: =IF($J10="NO","NO","SI") -> SI | O10: =IF($J10="SI","🟢",IF($J10="NO","🔴","🟡")) -> 🟡
A11: =ROW()-1 -> 10 | B11: =ROW()-1 -> 10 | C11: OPA | E11: =IF($J11="NO","",IF($M11="","",$M11)) -> VIP | F11: Bachelet Jeria, Michelle | G11: Michelle | H11: Bachelet | I11: Jeria | J11: PENDIENTE | K11: Ex Presidenta de la República | M11: VIP | N11: =IF($J11="NO","NO","SI") -> SI | O11: =IF($J11="SI","🟢",IF($J11="NO","🔴","🟡")) -> 🟡
A12: =ROW()-1 -> 11 | B12: =ROW()-1 -> 11 | C12: OPA | D12: Su Excelencia | E12: =IF($J12="NO","",IF($M12="","",$M12)) -> VIP | F12: Lagos Escobar, Ricardo | G12: Ricardo | H12: Lagos | I12: Escobar | J12: PENDIENTE | K12: Ex Presidente de la República | M12: VIP | N12: =IF($J12="NO","NO","SI") -> SI | O12: =IF($J12="SI","🟢",IF($J12="NO","🔴","🟡")) -> 🟡
A13: =ROW()-1 -> 12 | B13: =ROW()-1 -> 12 | C13: OPA | D13: Su Excelencia | E13: =IF($J13="NO","",IF($M13="","",$M13)) -> VIP | F13: Frei Ruiz-tagle, Eduardo | G13: Eduardo | H13: Frei | I13: Ruiz-tagle | J13: PENDIENTE | K13: Ex Presidente de la República | M13: VIP | N13: =IF($J13="NO","NO","SI") -> SI | O13: =IF($J13="SI","🟢",IF($J13="NO","🔴","🟡")) -> 🟡
A14: =ROW()-1 -> 13 | B14: =ROW()-1 -> 13 | C14: OPA | D14: Presidente | E14: =IF($J14="NO","",IF($M14="","",$M14)) | F14: Marzi Muñoz, Daniela | G14: Daniela | H14: Marzi | I14: Muñoz | J14: NO | K14: Presidente del Tribunal Constitucional | M14: VIP | N14: =IF($J14="NO","NO","SI") -> NO | O14: =IF($J14="SI","🟢",IF($J14="NO","🔴","🟡")) -> 🔴
A15: =ROW()-1 -> 14 | B15: =ROW()-1 -> 14 | C15: OPA | D15: Contralora | E15: =IF($J15="NO","",IF($M15="","",$M15)) | F15: Pérez Gutiérrez, Dorothy | G15: Dorothy | H15: Pérez | I15: Gutiérrez | J15: NO | K15: Contralora General de la República | M15: VIP | N15: =IF($J15="NO","NO","SI") -> NO | O15: =IF($J15="SI","🟢",IF($J15="NO","🔴","🟡")) -> 🔴
A16: =ROW()-1 -> 15 | B16: =ROW()-1 -> 15 | C16: OPA | D16: Fiscal | E16: =IF($J16="NO","",IF($M16="","",$M16)) -> VIP | F16: Valencia Vásquez, Ángel | G16: Ángel | H16: Valencia | I16: Vásquez | J16: PENDIENTE | K16: Fiscal Nacional del Ministerio Público | M16: VIP | N16: =IF($J16="NO","NO","SI") -> SI | O16: =IF($J16="SI","🟢",IF($J16="NO","🔴","🟡")) -> 🟡
A17: =ROW()-1 -> 16 | B17: =ROW()-1 -> 16 | C17: OPA | D17: Ministro | E17: =IF($J17="NO","",IF($M17="","",$M17)) -> VIP | F17: Alvarado Andrade, Claudio | G17: Claudio | H17: Alvarado | I17: Andrade | J17: PENDIENTE | K17: Biministro del Interior y Secretario General de Gobierno | M17: VIP | N17: =IF($J17="NO","NO","SI") -> SI | O17: =IF($J17="SI","🟢",IF($J17="NO","🔴","🟡")) -> 🟡
A18: =ROW()-1 -> 17 | B18: =ROW()-1 -> 17 | C18: OPA | D18: Ministro | E18: =IF($J18="NO","",IF($M18="","",$M18)) | F18: Pérez Mackenna, Francisco | G18: Francisco | H18: Pérez | I18: Mackenna | J18: NO | K18: Ministro de Relaciones Exteriores | M18: VIP | N18: =IF($J18="NO","NO","SI") -> NO | O18: =IF($J18="SI","🟢",IF($J18="NO","🔴","🟡")) -> 🔴
A19: =ROW()-1 -> 18 | B19: =ROW()-1 -> 18 | C19: OPA | D19: Ministro | E19: =IF($J19="NO","",IF($M19="","",$M19)) | F19: Quiroz Castro, Jorge | G19: Jorge | H19: Quiroz | I19: Castro | J19: NO | K19: Ministro de Hacienda | M19: VIP | N19: =IF($J19="NO","NO","SI") -> NO | O19: =IF($J19="SI","🟢",IF($J19="NO","🔴","🟡")) -> 🔴
A20: =ROW()-1 -> 19 | B20: =ROW()-1 -> 19 | C20: OPA | D20: Ministro | E20: =IF($J20="NO","",IF($M20="","",$M20)) | F20: Mas Valdés, Daniel | G20: Daniel | H20: Mas | I20: Valdés | J20: NO | K20: Biministro de Minería, Economía y Turismo | M20: VIP | N20: =IF($J20="NO","NO","SI") -> NO | O20: =IF($J20="SI","🟢",IF($J20="NO","🔴","🟡")) -> 🔴
A21: =ROW()-1 -> 20 | B21: =ROW()-1 -> 20 | C21: OPA | D21: Ministro | E21: =IF($J21="NO","",IF($M21="","",$M21)) | F21: Arzola González, María Paz | G21: María Paz | H21: Arzola | I21: González | J21: NO | K21: Ministra de Educación | M21: VIP | N21: =IF($J21="NO","NO","SI") -> NO | O21: =IF($J21="SI","🟢",IF($J21="NO","🔴","🟡")) -> 🔴
A22: =ROW()-1 -> 21 | B22: =ROW()-1 -> 21 | C22: OPA | D22: Ministro | E22: =IF($J22="NO","",IF($M22="","",$M22)) | F22: De Grange Concha, Louis | G22: Louis | H22: De Grange | I22: Concha | J22: NO | K22: Biministro de Obras Publicas, Transporte y Telecomunicaciones | M22: VIP | N22: =IF($J22="NO","NO","SI") -> NO | O22: =IF($J22="SI","🟢",IF($J22="NO","🔴","🟡")) -> 🔴
A23: =ROW()-1 -> 22 | B23: =ROW()-1 -> 22 | C23: OPA | D23: Ministro | E23: =IF($J23="NO","",IF($M23="","",$M23)) -> VIP | F23: Parot Donoso, Catalina | G23: Catalina | H23: Parot | I23: Donoso | J23: PENDIENTE | K23: Ministra de Bienes Nacionales | M23: VIP | N23: =IF($J23="NO","NO","SI") -> SI | O23: =IF($J23="SI","🟢",IF($J23="NO","🔴","🟡")) -> 🟡
... A30: =ROW()-1 -> 29 | B30: =ROW()-1 -> 29 | C30: OPA | D30: Ministro | E30: =IF($J30="NO","",IF($M30="","",$M30)) -> VIP | F30: Delpiano Puelma, Adriana | G30: Adriana | H30: Delpiano | I30: Puelma | J30: PENDIENTE | K30: Ex Ministra de Defensa Nacional | M30: VIP | N30: =IF($J30="NO","NO","SI") -> SI | O30: =IF($J30="SI","🟢",IF($J30="NO","🔴","🟡")) -> 🟡
A31: =ROW()-1 -> 30 | B31: =ROW()-1 -> 30 | C31: OPA | D31: Excelentísima | E31: =IF($J31="NO","",IF($M31="","",$M31)) | F31: El Ghali, Kenza | G31: Kenza | H31: El Ghali | J31: NO | K31: Embajador de Marruecos | M31: VIP | N31: =IF($J31="NO","NO","SI") -> NO | O31: =IF($J31="SI","🟢",IF($J31="NO","🔴","🟡")) -> 🔴
A32: =ROW()-1 -> 31 | B32: =ROW()-1 -> 31 | C32: OPA | D32: Excelentísima | E32: =IF($J32="NO","",IF($M32="","",$M32)) -> VIP | F32: Soares Pacheco, Paulo | G32: Paulo | H32: Soares | I32: Pacheco | J32: PENDIENTE | K32: Embajador de Brasil en Chile | M32: VIP | N32: =IF($J32="NO","NO","SI") -> SI | O32: =IF($J32="SI","🟢",IF($J32="NO","🔴","🟡")) -> 🟡
A33: =ROW()-1 -> 32 | B33: =ROW()-1 -> 32 | C33: OPA | D33: Excelentísima | E33: =IF($J33="NO","",IF($M33="","",$M33)) -> VIP | F33: Qingbao, Niu | G33: Niu | H33: Qingbao | J33: PENDIENTE | K33: Embajador de la República Popular China en Chile | M33: VIP | N33: =IF($J33="NO","NO","SI") -> SI | O33: =IF($J33="SI","🟢",IF($J33="NO","🔴","🟡")) -> 🟡
A34: =ROW()-1 -> 33 | B34: =ROW()-1 -> 33 | C34: OPA | D34: Excelentísima | E34: =IF($J34="NO","",IF($M34="","",$M34)) -> VIP | F34: Kotkajarvi, Johanna | G34: Johanna | H34: Kotkajarvi | J34: PENDIENTE | K34: Embajadora de Finlandia en Chile | M34: VIP | N34: =IF($J34="NO","NO","SI") -> SI | O34: =IF($J34="SI","🟢",IF($J34="NO","🔴","🟡")) -> 🟡
A35: =ROW()-1 -> 34 | B35: =ROW()-1 -> 34 | C35: OPA | D35: Excelentísima | E35: =IF($J35="NO","",IF($M35="","",$M35)) -> VIP | F35: Biagiotti, Valeria | G35: Valeria | H35: Biagiotti | J35: PENDIENTE | K35: Embajadora de Italia en Chile | M35: VIP | N35: =IF($J35="NO","NO","SI") -> SI | O35: =IF($J35="SI","🟢",IF($J35="NO","🔴","🟡")) -> 🟡
A36: =ROW()-1 -> 35 | B36: =ROW()-1 -> 35 | C36: OPA | D36: Excelentísima | E36: =IF($J36="NO","",IF($M36="","",$M36)) | F36: Jae Kim, Hak | G36: Hak | H36: Jae Kim | J36: NO | K36: Embajadora de Corea en Chile | M36: VIP | N36: =IF($J36="NO","NO","SI") -> NO | O36: =IF($J36="SI","🟢",IF($J36="NO","🔴","🟡")) -> 🔴
A37: =ROW()-1 -> 36 | B37: =ROW()-1 -> 36 | C37: OPA | D37: Excelentísima | E37: =IF($J37="NO","",IF($M37="","",$M37)) -> VIP | F37: Moreno Rodriguez, Laura | G37: Laura | H37: Moreno | I37: Rodriguez | J37: PENDIENTE | K37: Embajadora de Mexico en Chile | M37: VIP | N37: =IF($J37="NO","NO","SI") -> SI | O37: =IF($J37="SI","🟢",IF($J37="NO","🔴","🟡")) -> 🟡
A38: =ROW()-1 -> 37 | B38: =ROW()-1 -> 37 | C38: OPA | D38: Excelentísima | E38: =IF($J38="NO","",IF($M38="","",$M38)) | F38: Faurie, Jorge | G38: Jorge | H38: Faurie | J38: NO | K38: Embajador de Argentina en Chile | M38: VIP | N38: =IF($J38="NO","NO","SI") -> NO | O38: =IF($J38="SI","🟢",IF($J38="NO","🔴","🟡")) -> 🔴
A39: =ROW()-1 -> 38 | B39: =ROW()-1 -> 38 | C39: OPA | D39: Excelentísima | E39: =IF($J39="NO","",IF($M39="","",$M39)) -> VIP | F39: Barrit Martin, Andrew James | G39: Andrew James | H39: Barrit | I39: Martin | J39: PENDIENTE | K39: Embajador de Australia en Chile | M39: VIP | N39: =IF($J39="NO","NO","SI") -> SI | O39: =IF($J39="SI","🟢",IF($J39="NO","🔴","🟡")) -> 🟡
A40: =ROW()-1 -> 39 | B40: =ROW()-1 -> 39 | C40: OPA | D40: Excelentísima | E40: =IF($J40="NO","",IF($M40="","",$M40)) -> VIP | F40: Rogeau, Cyrille | G40: Cyrille | H40: Rogeau | J40: SI | K40: Embajador de Francia en Chile | M40: VIP | N40: =IF($J40="NO","NO","SI") -> SI | O40: =IF($J40="SI","🟢",IF($J40="NO","🔴","🟡")) -> 🟢
A41: =ROW()-1 -> 40 | B41: =ROW()-1 -> 40 | C41: OPA | D41: Excelentísima | E41: =IF($J41="NO","",IF($M41="","",$M41)) | F41: Courtny, Daniela | G41: Daniela | H41: Rigoli | J41: NO | K41: Embajador de Nueva Zelandia en Chile | M41: VIP | N41: =IF($J41="NO","NO","SI") -> NO | O41: =IF($J41="SI","🟢",IF($J41="NO","🔴","🟡")) -> 🔴
A42: =ROW()-1 -> 41 | B42: =ROW()-1 -> 41 | C42: OPA | D42: Excelentísima | E42: =IF($J42="NO","",IF($M42="","",$M42)) -> VIP | F42: Ihsan Kiziltan, Ahmet | G42: Ahmet | H42: Ihsan | I42: Kiziltan | J42: SI | K42: Embajadora de Turquia en Chile | M42: VIP | N42: =IF($J42="NO","NO","SI") -> SI | O42: =IF($J42="SI","🟢",IF($J42="NO","🔴","🟡")) -> 🟢
A43: =ROW()-1 -> 42 | B43: =ROW()-1 -> 42 | C43: OPA | D43: Excelentísima | E43: =IF($J43="NO","",IF($M43="","",$M43)) | F43: Fries-gaier, Susanne | G43: Susanne | H43: Fries-gaier | J43: NO | K43: Embajadora de Alemania en Chile | M43: VIP | N43: =IF($J43="NO","NO","SI") -> NO | O43: =IF($J43="SI","🟢",IF($J43="NO","🔴","🟡")) -> 🔴
A44: =ROW()-1 -> 43 | B44: =ROW()-1 -> 43 | C44: OPA | D44: Excelentísima | E44: =IF($J44="NO","",IF($M44="","",$M44)) -> VIP | F44: Guanumen Parra, Sebastián | G44: Sebastián | H44: Guanumen | I44: Parra | J44: SI | K44: Embajador de Colombia en Chile | M44: VIP | N44: =IF($J44="NO","NO","SI") -> SI | O44: =IF($J44="SI","🟢",IF($J44="NO","🔴","🟡")) -> 🟢
A45: =ROW()-1 -> 44 | B45: =ROW()-1 -> 44 | C45: OPA | D45: Excelentísima | E45: =IF($J45="NO","",IF($M45="","",$M45)) -> VIP | F45: Guay Guay, Karolina Linda | G45: Karolina Linda | H45: Guay | I45: Guay | J45: SI | K45: Embajadora de Canadá en Chile | M45: VIP | N45: =IF($J45="NO","NO","SI") -> SI | O45: =IF($J45="SI","🟢",IF($J45="NO","🔴","🟡")) -> 🟢
A46: =ROW()-1 -> 45 | B46: =ROW()-1 -> 45 | C46: OPA | D46: Excelentísima | E46: =IF($J46="NO","",IF($M46="","",$M46)) -> VIP | F46: Pollen Nilsen, Per | G46: Per | H46: Pollen | I46: Nilsen | J46: PENDIENTE | K46: Embajador de Noruega en Chile | M46: VIP | N46: =IF($J46="NO","NO","SI") -> SI | O46: =IF($J46="SI","🟢",IF($J46="NO","🔴","🟡")) -> 🟡
...

Sheet CONTROL ASISTENCIA
A1: CONTROL ASISTENCIA - GENERAL Y VIP
A3: Indicador | B3: Resultado | D3: Indicador VIP | E3: Resultado
A4: Total invitados | B4: =COUNTA(MAESTRO!$C$2:$C$706) -> 705 | D4: VIP total | E4: =COUNTIF(MAESTRO!$M$2:$M$706,"VIP") -> 349
A5: Confirmados SI | B5: =COUNTIF(MAESTRO!$J$2:$J$706,"SI") -> 290 | D5: VIP SI | E5: =COUNTIFS(MAESTRO!$M$2:$M$706,"VIP",MAESTRO!$J$2:$J$706,"SI") -> 129
A6: No asiste | B6: =COUNTIF(MAESTRO!$J$2:$J$706,"NO") -> 82 | D6: VIP NO | E6: =COUNTIFS(MAESTRO!$M$2:$M$706,"VIP",MAESTRO!$J$2:$J$706,"NO") -> 41
A7: Pendiente/Blanco | B7: =COUNTIF(MAESTRO!$J$2:$J$706,"PENDIENTE")+COUNTBLANK(MAESTRO!$J$2:$J$706) -> 333 | D7: VIP pendiente | E7: =COUNTIFS(MAESTRO!$M$2:$M$706,"VIP",MAESTRO!$J$2:$J$706,"PENDIENTE")+COUNTIFS(MAESTRO!$M$2:$M$706,"VIP",MAESTRO!$J$2:$J$706,"") -> 179
A8: Distribuye | B8: =COUNTIF(MAESTRO!$N$2:$N$706,"SI") -> 623 | D8: VIP distribuye | E8: =COUNTIFS(MAESTRO!$M$2:$M$706,"VIP",MAESTRO!$N$2:$N$706,"SI") -> 308
A11: FUENTE | B11: TOTAL | C11: SI | D11: NO | E11: PENDIENTE/BLANCO | F11: DISTRIBUYE | H11: TRIBUNA | I11: CAPACIDAD | J11: DISTRIBUYE | K11: DISPONIBLE
A12: OPA | B12: =COUNTIF(MAESTRO!$C$2:$C$706,A12) -> 173 | C12: =COUNTIFS(MAESTRO!$C$2:$C$706,A12,MAESTRO!$J$2:$J$706,"SI") -> 42 | D12: =COUNTIFS(MAESTRO!$C$2:$C$706,A12,MAESTRO!$J$2:$J$706,"NO") -> 40 | E12: =COUNTIFS(MAESTRO!$C$2:$C$706,A12,MAESTRO!$J$2:$J$706,"PENDIENTE")+COUNTIFS(MAESTRO!$C$2:$C$706,A12,MAESTRO!$J$2:$J$706,"") -> 91 | F12: =COUNTIFS(MAESTRO!$C$2:$C$706,A12,MAESTRO!$N$2:$N$706,"SI") -> 133 | H12: VIP | I12: 149 | J12: =COUNTIFS(MAESTRO!$M$2:$M$706,H12,MAESTRO!$N$2:$N$706,"SI") -> 308 | K12: =IF(I12="","",I12-J12) -> -159
A13: OPA/ASMAR | B13: =COUNTIF(MAESTRO!$C$2:$C$706,A13) -> 11 | C13: =COUNTIFS(MAESTRO!$C$2:$C$706,A13,MAESTRO!$J$2:$J$706,"SI") -> 6 | D13: =COUNTIFS(MAESTRO!$C$2:$C$706,A13,MAESTRO!$J$2:$J$706,"NO") -> 2 | E13: =COUNTIFS(MAESTRO!$C$2:$C$706,A13,MAESTRO!$J$2:$J$706,"PENDIENTE")+COUNTIFS(MAESTRO!$C$2:$C$706,A13,MAESTRO!$J$2:$J$706,"") -> 3 | F13: =COUNTIFS(MAESTRO!$C$2:$C$706,A13,MAESTRO!$N$2:$N$706,"SI") -> 9 | H13: LATERAL | J13: =COUNTIFS(MAESTRO!$M$2:$M$706,H13,MAESTRO!$N$2:$N$706,"SI") -> 307 | K13: =IF(I13="","",I13-J13)
A14: OPA/DGSA | B14: =COUNTIF(MAESTRO!$C$2:$C$706,A14) -> 8 | C14: =COUNTIFS(MAESTRO!$C$2:$C$706,A14,MAESTRO!$J$2:$J$706,"SI") -> 2 | D14: =COUNTIFS(MAESTRO!$C$2:$C$706,A14,MAESTRO!$J$2:$J$706,"NO") -> 0 | E14: =COUNTIFS(MAESTRO!$C$2:$C$706,A14,MAESTRO!$J$2:$J$706,"PENDIENTE")+COUNTIFS(MAESTRO!$C$2:$C$706,A14,MAESTRO!$J$2:$J$706,"") -> 6 | F14: =COUNTIFS(MAESTRO!$C$2:$C$706,A14,MAESTRO!$N$2:$N$706,"SI") -> 8
A15: OPA/CIVILES | B15: =COUNTIF(MAESTRO!$C$2:$C$706,A15) -> 12 | C15: =COUNTIFS(MAESTRO!$C$2:$C$706,A15,MAESTRO!$J$2:$J$706,"SI") -> 6 | D15: =COUNTIFS(MAESTRO!$C$2:$C$706,A15,MAESTRO!$J$2:$J$706,"NO") -> 0 | E15: =COUNTIFS(MAESTRO!$C$2:$C$706,A15,MAESTRO!$J$2:$J$706,"PENDIENTE")+COUNTIFS(MAESTRO!$C$2:$C$706,A15,MAESTRO!$J$2:$J$706,"") -> 6 | F15: =COUNTIFS(MAESTRO!$C$2:$C$706,A15,MAESTRO!$N$2:$N$706,"SI") -> 12
A16: OPA/MILITAR | B16: =COUNTIF(MAESTRO!$C$2:$C$706,A16) -> 23 | C16: =COUNTIFS(MAESTRO!$C$2:$C$706,A16,MAESTRO!$J$2:$J$706,"SI") -> 18 | D16: =COUNTIFS(MAESTRO!$C$2:$C$706,A16,MAESTRO!$J$2:$J$706,"NO") -> 0 | E16: =COUNTIFS(MAESTRO!$C$2:$C$706,A16,MAESTRO!$J$2:$J$706,"PENDIENTE")+COUNTIFS(MAESTRO!$C$2:$C$706,A16,MAESTRO!$J$2:$J$706,"") -> 5 | F16: =COUNTIFS(MAESTRO!$C$2:$C$706,A16,MAESTRO!$N$2:$N$706,"SI") -> 23
A17: ACADÉMICOS | B17: =COUNTIF(MAESTRO!$C$2:$C$706,A17) -> 23 | C17: =COUNTIFS(MAESTRO!$C$2:$C$706,A17,MAESTRO!$J$2:$J$706,"SI") -> 5 | D17: =COUNTIFS(MAESTRO!$C$2:$C$706,A17,MAESTRO!$J$2:$J$706,"NO") -> 1 | E17: =COUNTIFS(MAESTRO!$C$2:$C$706,A17,MAESTRO!$J$2:$J$706,"PENDIENTE")+COUNTIFS(MAESTRO!$C$2:$C$706,A17,MAESTRO!$J$2:$J$706,"") -> 17 | F17: =COUNTIFS(MAESTRO!$C$2:$C$706,A17,MAESTRO!$N$2:$N$706,"SI") -> 22
A18: MADRINA | B18: =COUNTIF(MAESTRO!$C$2:$C$706,A18) -> 28 | C18: =COUNTIFS(MAESTRO!$C$2:$C$706,A18,MAESTRO!$J$2:$J$706,"SI") -> 12 | D18: =COUNTIFS(MAESTRO!$C$2:$C$706,A18,MAESTRO!$J$2:$J$706,"NO") -> 9 | E18: =COUNTIFS(MAESTRO!$C$2:$C$706,A18,MAESTRO!$J$2:$J$706,"PENDIENTE")+COUNTIFS(MAESTRO!$C$2:$C$706,A18,MAESTRO!$J$2:$J$706,"") -> 7 | F18: =COUNTIFS(MAESTRO!$C$2:$C$706,A18,MAESTRO!$N$2:$N$706,"SI") -> 19
A19: INVITADOS DGSA | B19: =COUNTIF(MAESTRO!$C$2:$C$706,A19) -> 14 | C19: =COUNTIFS(MAESTRO!$C$2:$C$706,A19,MAESTRO!$J$2:$J$706,"SI") -> 0 | D19: =COUNTIFS(MAESTRO!$C$2:$C$706,A19,MAESTRO!$J$2:$J$706,"NO") -> 1 | E19: =COUNTIFS(MAESTRO!$C$2:$C$706,A19,MAESTRO!$J$2:$J$706,"PENDIENTE")+COUNTIFS(MAESTRO!$C$2:$C$706,A19,MAESTRO!$J$2:$J$706,"") -> 13 | F19: =COUNTIFS(MAESTRO!$C$2:$C$706,A19,MAESTRO!$N$2:$N$706,"SI") -> 13
A20: CIVILES | B20: =COUNTIF(MAESTRO!$C$2:$C$706,A20) -> 3 | C20: =COUNTIFS(MAESTRO!$C$2:$C$706,A20,MAESTRO!$J$2:$J$706,"SI") -> 1 | D20: =COUNTIFS(MAESTRO!$C$2:$C$706,A20,MAESTRO!$J$2:$J$706,"NO") -> 1 | E20: =COUNTIFS(MAESTRO!$C$2:$C$706,A20,MAESTRO!$J$2:$J$706,"PENDIENTE")+COUNTIFS(MAESTRO!$C$2:$C$706,A20,MAESTRO!$J$2:$J$706,"") -> 1 | F20: =COUNTIFS(MAESTRO!$C$2:$C$706,A20,MAESTRO!$N$2:$N$706,"SI") -> 2
A21: MILITARES | B21: =COUNTIF(MAESTRO!$C$2:$C$706,A21) -> 43 | C21: =COUNTIFS(MAESTRO!$C$2:$C$706,A21,MAESTRO!$J$2:$J$706,"SI") -> 15 | D21: =COUNTIFS(MAESTRO!$C$2:$C$706,A21,MAESTRO!$J$2:$J$706,"NO") -> 3 | E21: =COUNTIFS(MAESTRO!$C$2:$C$706,A21,MAESTRO!$J$2:$J$706,"PENDIENTE")+COUNTIFS(MAESTRO!$C$2:$C$706,A21,MAESTRO!$J$2:$J$706,"") -> 25 | F21: =COUNTIFS(MAESTRO!$C$2:$C$706,A21,MAESTRO!$N$2:$N$706,"SI") -> 40
A22: MANDOS SEZONA | B22: =COUNTIF(MAESTRO!$C$2:$C$706,A22) -> 44 | C22: =COUNTIFS(MAESTRO!$C$2:$C$706,A22,MAESTRO!$J$2:$J$706,"SI") -> 8 | D22: =COUNTIFS(MAESTRO!$C$2:$C$706,A22,MAESTRO!$J$2:$J$706,"NO") -> 0 | E22: =COUNTIFS(MAESTRO!$C$2:$C$706,A22,MAESTRO!$J$2:$J$706,"PENDIENTE")+COUNTIFS(MAESTRO!$C$2:$C$706,A22,MAESTRO!$J$2:$J$706,"") -> 36 | F22: =COUNTIFS(MAESTRO!$C$2:$C$706,A22,MAESTRO!$N$2:$N$706,"SI") -> 44
A23: PREMIADOS | B23: =COUNTIF(MAESTRO!$C$2:$C$706,A23) -> 8 | C23: =COUNTIFS(MAESTRO!$C$2:$C$706,A23,MAESTRO!$J$2:$J$706,"SI") -> 8 | D23: =COUNTIFS(MAESTRO!$C$2:$C$706,A23,MAESTRO!$J$2:$J$706,"NO") -> 0 | E23: =COUNTIFS(MAESTRO!$C$2:$C$706,A23,MAESTRO!$J$2:$J$706,"PENDIENTE")+COUNTIFS(MAESTRO!$C$2:$C$706,A23,MAESTRO!$J$2:$J$706,"") -> 0 | F23: =COUNTIFS(MAESTRO!$C$2:$C$706,A23,MAESTRO!$N$2:$N$706,"SI") -> 8
A24: INVITADOS ASMAR | B24: =COUNTIF(MAESTRO!$C$2:$C$706,A24) -> 117 | C24: =COUNTIFS(MAESTRO!$C$2:$C$706,A24,MAESTRO!$J$2:$J$706,"SI") -> 41 | D24: =COUNTIFS(MAESTRO!$C$2:$C$706,A24,MAESTRO!$J$2:$J$706,"NO") -> 13 | E24: =COUNTIFS(MAESTRO!$C$2:$C$706,A24,MAESTRO!$J$2:$J$706,"PENDIENTE")+COUNTIFS(MAESTRO!$C$2:$C$706,A24,MAESTRO!$J$2:$J$706,"") -> 63 | F24: =COUNTIFS(MAESTRO!$C$2:$C$706,A24,MAESTRO!$N$2:$N$706,"SI") -> 104
A25: PROVEEDORES | B25: =COUNTIF(MAESTRO!$C$2:$C$706,A25) -> 80 | C25: =COUNTIFS(MAESTRO!$C$2:$C$706,A25,MAESTRO!$J$2:$J$706,"SI") -> 37 | D25: =COUNTIFS(MAESTRO!$C$2:$C$706,A25,MAESTRO!$J$2:$J$706,"NO") -> 10 | E25: =COUNTIFS(MAESTRO!$C$2:$C$706,A25,MAESTRO!$J$2:$J$706,"PENDIENTE")+COUNTIFS(MAESTRO!$C$2:$C$706,A25,MAESTRO!$J$2:$J$706,"") -> 33 | F25: =COUNTIFS(MAESTRO!$C$2:$C$706,A25,MAESTRO!$N$2:$N$706,"SI") -> 70
... A30: ASMARMAG | B30: =COUNTIF(MAESTRO!$C$2:$C$706,A30) -> 8 | C30: =COUNTIFS(MAESTRO!$C$2:$C$706,A30,MAESTRO!$J$2:$J$706,"SI") -> 4 | D30: =COUNTIFS(MAESTRO!$C$2:$C$706,A30,MAESTRO!$J$2:$J$706,"NO") -> 0 | E30: =COUNTIFS(MAESTRO!$C$2:$C$706,A30,MAESTRO!$J$2:$J$706,"PENDIENTE")+COUNTIFS(MAESTRO!$C$2:$C$706,A30,MAESTRO!$J$2:$J$706,"") -> 4 | F30: =COUNTIFS(MAESTRO!$C$2:$C$706,A30,MAESTRO!$N$2:$N$706,"SI") -> 8

Sheet DISTRIBUCION VIP
A1: DISTRIBUCIÓN VIP - 149 ASIENTOS / CENTRO PROTOCOLAR A21
A3: Centro protocolar | B3: A21 | C3: Capacidad VIP | D3: 149 | E3: Criterio | F3: Precedencia alternada derecha/izquierda
A4: Distribuidos | B4: =COUNTA('DISTRIBUCION VIP'!$A$20:$A$168) -> 149 | C4: Sin asignar | D4: =COUNTA('SIN ASIGNAR'!$A$2:$A$160) -> 159 | E4: Observación | F4: Fila D centro reservada según plano
A6: PLANO VISUAL
A7: PLANO VIP 149 ASIENTOS
A8: Separación: módulos laterales 550 mm / módulo central 600 mm. Centro protocolar: A21.
A9: FILA | B9: 1 | C9: 2 | D9: 3 | E9: 4 | F9: 5 | G9: 6 | H9: 7 | I9: 8 | J9: 9 | K9: 10 | L9: 11 | M9: 12 | N9: 13 | O9: 14 | P9: 15 | Q9: 16 | R9: 17 | S9: 18 | T9: 19 | U9: 20 | V9: 21 | W9: 22 | X9: 23 | Y9: 24 | Z9: 25 | AA9: 26 | AB9: 27 | AC9: 28 | AD9: 29 | AE9: 30 | AF9: 31 | AG9: 32 | AH9: 33 | AI9: 34 | AJ9: 35 | AK9: 36 | AL9: 37 | AM9: 38 | AN9: 39 | AO9: 40 | AP9: 41
A10: FILA A | B10: A1 (58) Varela Pedro | C10: A2 (56) Larrañaga Enrique | D10: A3 (54) Lewi Peleg | E10: A4 (51) Kenko Sone | F10: A5 (49) Camino Peter | G10: A6 (47) Schaapveld Elke | H10: A7 (45) Pollen Per | I10: A8 (43) Guanumen Sebastián | J10: A9 (39) Rogeau Cyrille | K10: A10 (36) Moreno Laura | L10: A11 (33) Kotkajarvi Johanna | M10: A12 (31) Soares Paulo | N10: A13 (28) Fernández Maya | O10: A14 (23) Rincón Ximena | P10: A15 (16) Alvarado Claudio | Q10: A16 (12) Frei Eduardo | R10: A17 (10) Bachelet Michelle | S10: A18 (6) Morel María | T10: A19 (4) Cabrera Fernando | U10: A20 (2) Adriasola María | V10: A21 (1) Kast José | W10: A22 (3) Barros Fernando | X10: A23 (5) Mery Roxana | Y10: A24 (9) Boric Gabriel | Z10: A25 (11) Lagos Ricardo | AA10: A26 (15) Valencia Ángel | AB10: A27 (22) Parot Catalina | AC10: A28 (25) Undurruga Francisco | AD10: A29 (29) Delpiano Adriana | AE10: A30 (32) Qingbao Niu | AF10: A31 (34) Biagiotti Valeria | AG10: A32 (38) Barrit Andrew | AH10: A33 (41) Ihsan Ahmet | AI10: A34 (44) Guay Karolina | AJ10: A35 (46) Rocanova Ana | AK10: A36 (48) Andrade Lotty | AL10: A37 (50) Oroz Laura | AM10: A38 (52) Karlberg Eva | AN10: A39 (55) Concar David | AO10: A40 (57) Leiva Julio | AP10: A41 (59) Venegas Máximo
A11: FILA B | B11: B1 (109) Veloso Consuelo | C11: B2 (107) Schalper Diego | D11: B3 (104) Montalva José | E11: B4 (101) Briones Patricio | F11: B5 (99) Zamora Sebastián | G11: B6 (97) Sánchez Luis | H11: B7 (95) Olivares Javier | I11: B8 (93) Leiva Raúl | J11: B9 (91) Cuadrado Carlos | K11: B10 (88) Barraza Marcos | L11: B11 (86) Carvajal Loreto | M11: B12 (84) De Urresti Alfonso | N11: B13 (82) Keitel Sebastián | O11: B14 (79) Cicardini Daniella | P11: B15 (77) Edwards Rojo | Q11: B16 (74) Flores Camila | R11: B17 (71) Anativia Julio | S11: B18 (69) Giacaman Sergio | T11: B19 (66) Larrañaga Marcela | U11: B20 (61) Cerna Eduardo | V11: B21 (60) Araya Marcelo | W11: B22 (64) Codina Rodolfo | X11: B23 (68) Romanini Leonardo | Y11: B24 (70) Flies Jorge | Z11: B25 (73) Araya Pedro | AA11: B26 (75) Saavedra Gastón | AB11: B27 (78) Celis Ricardo | AC11: B28 (81) Ossandón Manuel | AD11: B29 (83) Van Rysselberghe Enrique | AE11: B30 (85) Sanhueza Gustavo | AF11: B31 (87) Carter Álvaro | AG11: B32 (90) Brito Jorge | AH11: B33 (92) Kast Tomás | AI11: B34 (94) Marowski Hans | AJ11: B35 (96) Sabat Omar | AK11: B36 (98) Valenzuela Daniel | AL11: B37 (100) Manouchehri Daniel | AM11: B38 (103) Martínez Cristóbal | AN11: B39 (105) Neira Cristian | AO11: B40 (108) Serrano Daniela | AP11: B41 (110) Winter Gonzalo
A12: FILA C | B12: C1 (163) Cornejo Eugenio | C12: C2 (161) Jeldes Siria | D12: C3 (159) Leiva Marcela | E12: C4 (157) Irarrázabal Alejandro | F12: C5 (154) Carvajal Bárbara | G12: C6 (152) Trautmann Andrés | H12: C7 (146) Llodrá José | I12: C8 (143) Fernández Ignacio | J12: C9 (141) Hentzschel Fernando | K12: C10 (137) Browne Santiago | L12: C11 (135) Mujica José | M12: C12 (131) Cacho Julio | N12: C13 (127) Rodríguez Juan | O12: C14 (125) Álvarez Rodrigo | P12: C15 (123) Weisse Flor | Q12: C16 (120) Pérez Joanna | R12: C17 (118) Rivas José | S12: C18 (116) Ortíz Álvaro | T12: C19 (114) Charpentier Paz | U12: C20 (112) Arroyo Roberto | V12: C21 (111) Yeomans Gael | W12: C22 (113) Bobadilla Sergio | X12: C23 (115) Muñoz Francesca | Y12: C24 (117) Pérez Marlene | Z12: C25 (119) Betancurt Lilian | AA12: C26 (122) Urruticoechea Cristóbal | AB12: C27 (124) Torres Patricio | AC12: C28 (126) Bolívar Christian | AD12: C29 (130) Araos Rafael | AE12: C30 (134) Ugarte Catalina | AF12: C31 (136) Zapata Elizabeth | AG12: C32 (140) Coronado Carla | AH12: C33 (142) Von Appen Richard | AI12: C34 (145) Gómez José | AJ12: C35 (147) López Andrés | AK12: C36 (153) Coopman Javier | AL12: C37 (155) Lira Pablo | AM12: C38 (158) Leiva Constanza | AN12: C39 (160) Pérez Matias | AO12: C40 (162) Arriagada Andrés | AP12: C41 (164) Leiva Vicente
A13: FILA D | B13: D1 (197) Wainraight Rodrigo | C13: D2 (195) Saavedra Eduardo | D13: D3 (193) Muñoz Héctor | E13: D4 (191) Reveco Jeannette | F13: D5 (189) Cabrera Rafael | G13: D6 (187) Bunster Claudio | H13: D7 (185) Pires Jorge | I13: D8 (183) Cleveland Henry | J13: D9 (181) Farren Mario | K13: D10 (178) Ramirez Pedro | L13: D11 (175) Recabarren Vladimir | M13: D12 (173) Pérez Constanza | N13: D13 (167) Quijada Cecy | O13: CAMARÓGRAFOS | P13: CAMARÓGRAFOS | Q13: CAMARÓGRAFOS | R13: CAMARÓGRAFOS | S13: CAMARÓGRAFOS | T13: CAMARÓGRAFOS | U13: CAMARÓGRAFOS | V13: CAMARÓGRAFOS | W13: CAMARÓGRAFOS | X13: CAMARÓGRAFOS | Y13: CAMARÓGRAFOS | Z13: CAMARÓGRAFOS | AA13: CAMARÓGRAFOS | AB13: CAMARÓGRAFOS | AC13: CAMARÓGRAFOS | AD13: D29 (168) Alcorta Francisco | AE13: D30 (174) Jarpa José | AF13: D31 (177) Piña José | AG13: D32 (180) Ruf Ronald | AH13: D33 (182) Ampuero Katherine | AI13: D34 (184) Vera Álvaro | AJ13: D35 (186) Costa Joao | AK13: D36 (188) Casassa Gino | AL13: D37 (190) Candia Eduardo | AM13: D38 (192) Stange Miguel | AN13: D39 (194) Rivera Miguel | AO13: D40 (196) Amtmann Carla | AP13: D41 (198) Nieto Camila
A15: Leyenda | B15: Verde: SI | C15: Amarillo: PENDIENTE | D15: Gris: Camarógrafos
A18: LISTADO PROTOCOLAR VIP | J18: PROTOCOLO EJECUTIVO
A19: Asiento | B19: Fila | C19: Silla | D19: Precedencia | E19: Nombre Completo | F19: Tratamiento | G19: Cargo | H19: AST. | J19: Asiento | K19: Precedencia | L19: Nombre | M19: Cargo
A20: A21 | B20: A | C20: 21 | D20: 1 | E20: Kast Rist, José Antonio | F20: Su Excelencia | G20: * Presidente de la República | H20: SI | J20: A21 | K20: 1 | L20: Kast Rist, José Antonio | M20: * Presidente de la República
A21: A20 | B21: A | C21: 20 | D21: 2 | E21: Adriasola Barroihet, María Pía | F21: Primera Dama | G21: Esposa del Presidente de la República | H21: PENDIENTE | J21: A20 | K21: 2 | L21: Adriasola Barroihet, María Pía | M21: Esposa del Presidente de la República
A22: A22 | B22: A | C22: 22 | D22: 3 | E22: Barros Tocornal, Fernando | F22: Ministro | G22: *Ministro de Defensa Nacional | H22: SI | J22: A22 | K22: 3 | L22: Barros Tocornal, Fernando | M22: *Ministro de Defensa Nacional
A23: A19 | B23: A | C23: 19 | D23: 4 | E23: Cabrera Salazar, Fernando | F23: Almirante | G23: *Comandante en Jefe de la Armada | H23: SI | J23: A19 | K23: 4 | L23: Cabrera Salazar, Fernando | M23: *Comandante en Jefe de la Armada
A24: A23 | B24: A | C24: 23 | D24: 5 | E24: Mery, Roxana | F24: Señora | G24: Esposa del Comandante en Jefe de la Armada | H24: SI | J24: A23 | K24: 5 | L24: Mery, Roxana | M24: Esposa del Comandante en Jefe de la Armada
A25: A18 | B25: A | C25: 18 | D25: 6 | E25: Morel Montes, María Cecilia | F25: Señora | G25: Ex - Primera Dama | H25: PENDIENTE | J25: A18 | K25: 6 | L25: Morel Montes, María Cecilia | M25: Ex - Primera Dama
A26: A24 | B26: A | C26: 24 | D26: 9 | E26: Boric Font, Gabriel | F26: Su Excelencia | G26: Ex Presidente de la República | H26: PENDIENTE | J26: A24 | K26: 9 | L26: Boric Font, Gabriel | M26: Ex Presidente de la República
A27: A17 | B27: A | C27: 17 | D27: 10 | E27: Bachelet Jeria, Michelle | G27: Ex Presidenta de la República | H27: PENDIENTE | J27: A17 | K27: 10 | L27: Bachelet Jeria, Michelle | M27: Ex Presidenta de la República
A28: A25 | B28: A | C28: 25 | D28: 11 | E28: Lagos Escobar, Ricardo | F28: Su Excelencia | G28: Ex Presidente de la República | H28: PENDIENTE | J28: A25 | K28: 11 | L28: Lagos Escobar, Ricardo | M28: Ex Presidente de la República
A29: A16 | B29: A | C29: 16 | D29: 12 | E29: Frei Ruiz-tagle, Eduardo | F29: Su Excelencia | G29: Ex Presidente de la República | H29: PENDIENTE | J29: A16 | K29: 12 | L29: Frei Ruiz-tagle, Eduardo | M29: Ex Presidente de la República
A30: A26 | B30: A | C30: 26 | D30: 15 | E30: Valencia Vásquez, Ángel | F30: Fiscal | G30: Fiscal Nacional del Ministerio Público | H30: PENDIENTE | J30: A26 | K30: 15 | L30: Valencia Vásquez, Ángel | M30: Fiscal Nacional del Ministerio Público
A31: A15 | B31: A | C31: 15 | D31: 16 | E31: Alvarado Andrade, Claudio | F31: Ministro | G31: Biministro del Interior y Secretario General de Gobierno | H31: PENDIENTE | J31: A15 | K31: 16 | L31: Alvarado Andrade, Claudio | M31: Biministro del Interior y Secretario General de Gobierno
A32: A27 | B32: A | C32: 27 | D32: 22 | E32: Parot Donoso, Catalina | F32: Ministro | G32: Ministra de Bienes Nacionales | H32: PENDIENTE | J32: A27 | K32: 22 | L32: Parot Donoso, Catalina | M32: Ministra de Bienes Nacionales
A33: A14 | B33: A | C33: 14 | D33: 23 | E33: Rincón González, Ximena | F33: Ministro | G33: Ministra de Energía | H33: PENDIENTE | J33: A14 | K33: 23 | L33: Rincón González, Ximena | M33: Ministra de Energía
A34: A28 | B34: A | C34: 28 | D34: 25 | E34: Undurruga Gazitúa, Francisco | F34: Ministro | G34: Ministro de las Culturas, las Artes y el Patrimonio | H34: PENDIENTE | J34: A28 | K34: 25 | L34: Undurruga Gazitúa, Francisco | M34: Ministro de las Culturas, las Artes y el Patrimonio
A35: A13 | B35: A | C35: 13 | D35: 28 | E35: Fernández Allende, Maya | F35: Ministro | G35: Ex Ministra de Defensa Nacional | H35: PENDIENTE | J35: A13 | K35: 28 | L35: Fernández Allende, Maya | M35: Ex Ministra de Defensa Nacional
A36: A29 | B36: A | C36: 29 | D36: 29 | E36: Delpiano Puelma, Adriana | F36: Ministro | G36: Ex Ministra de Defensa Nacional | H36: PENDIENTE | J36: A29 | K36: 29 | L36: Delpiano Puelma, Adriana | M36: Ex Ministra de Defensa Nacional
A37: A12 | B37: A | C37: 12 | D37: 31 | E37: Soares Pacheco, Paulo | F37: Excelentísima | G37: Embajador de Brasil en Chile | H37: PENDIENTE | J37: A12 | K37: 31 | L37: Soares Pacheco, Paulo | M37: Embajador de Brasil en Chile
A38: A30 | B38: A | C38: 30 | D38: 32 | E38: Qingbao, Niu | F38: Excelentísima | G38: Embajador de la República Popular China en Chile | H38: PENDIENTE | J38: A30 | K38: 32 | L38: Qingbao, Niu | M38: Embajador de la República Popular China en Chile
A39: A11 | B39: A | C39: 11 | D39: 33 | E39: Kotkajarvi, Johanna | F39: Excelentísima | G39: Embajadora de Finlandia en Chile | H39: PENDIENTE | J39: A11 | K39: 33 | L39: Kotkajarvi, Johanna | M39: Embajadora de Finlandia en Chile
... A119: C12 | B119: C | C119: 12 | D119: 131 | E119: Cacho Morán, Julio | F119: Vicealmirante | G119: *Jefe del Estado Mayor de la Armada de Perú | H119: SI | J119: C12 | K119: 131 | L119: Cacho Morán, Julio | M119: *Jefe del Estado Mayor de la Armada de Perú
A120: C30 | B120: C | C120: 30 | D120: 134 | E120: Ugarte Millán, Catalina | G120: Jefe Gabinete Precidencial | H120: PENDIENTE | J120: C30 | K120: 134 | L120: Ugarte Millán, Catalina | M120: Jefe Gabinete Precidencial
A121: C11 | B121: C | C121: 11 | D121: 135 | E121: Mujica Castro, José Ignacio | F121: Presidente | G121: Vicepresidente Corfo | H121: PENDIENTE | J121: C11 | K121: 135 | L121: Mujica Castro, José Ignacio | M121: Vicepresidente Corfo
A122: C31 | B122: C | C122: 31 | D122: 136 | E122: Zapata González, Elizabeth | F122: Señor | G122: Directora Desarrollo Tecnológico Corfo y Directora Ejecutiva Comité de Construcción Naval | H122: SI | J122: C31 | K122: 136 | L122: Zapata González, Elizabeth | M122: Directora Desarrollo Tecnológico Corfo y Directora Ejecutiva Comité de Construcción Naval
A123: C10 | B123: C | C123: 10 | D123: 137 | E123: Browne Hurtado, Santiago | G123: Gerente de Asuntos Estratégicos (s) de Corfo | H123: SI | J123: C10 | K123: 137 | L123: Browne Hurtado, Santiago | M123: Gerente de Asuntos Estratégicos (s) de Corfo
A124: C32 | B124: C | C124: 32 | D124: 140 | E124: Coronado, Carla | G124: Asesora Ministerio Consejo Directivo de Construcción Naval | H124: PENDIENTE | J124: C32 | K124: 140 | L124: Coronado, Carla | M124: Asesora Ministerio Consejo Directivo de Construcción Naval
...

Sheet SIN ASIGNAR
A1: N° | B1: Precedencia | C1: Fuente | D1: Tratamiento | E1: Tribuna | F1: Nombre Completo | G1: AST. | H1: Cargo | I1: Motivo
A2: 199 | B2: 199 | C2: OPA/CIVILES | D2: Alcalde | E2: VIP | F2: Radonich Jiménez, Claudio | G2: PENDIENTE | H2: Alcalde de Punta Arenas | I2: SIN CAPACIDAD VIP 149
A3: 200 | B3: 200 | C3: OPA/CIVILES | D3: Rector | E3: VIP | F3: Tapia Almonacid, María Soledad | G3: SI | H3: Director Nacional Servicio Nacional de Pesca y Acuicultura SERNAPESCA | I3: SIN CAPACIDAD VIP 149
A4: 201 | B4: 201 | C4: OPA/CIVILES | D4: Presidente | E4: VIP | F4: Zavala Fernández, Pablo | G4: SI | H4: Presidente de la Ilustrísima Corte de Apelaciones de Concepción | I4: SIN CAPACIDAD VIP 149
A5: 202 | B5: 202 | C5: OPA/CIVILES | E5: VIP | F5: Cartagena Ramos, Marcela | G5: PENDIENTE | H5: Fiscal Regional de Concepción | I5: SIN CAPACIDAD VIP 149
A6: 203 | B6: 203 | C6: OPA/CIVILES | E6: VIP | F6: Henriquez Gonzalez, Víctor | G6: PENDIENTE | H6: Contralor Regional Bio Bio | I6: SIN CAPACIDAD VIP 149
A7: 204 | B7: 204 | C7: OPA/CIVILES | E7: VIP | F7: Chamorro Contreras, Claudia | G7: SI | H7: Jefe VIII Región Policial Bío Bío | I7: SIN CAPACIDAD VIP 149
A8: 205 | B8: 205 | C8: OPA/MILITAR | D8: General | E8: VIP | F8: Miccono Villablanca, Renzo | G8: SI | H8: Jefe VIII Zona de Carabineros BIOBÍO | I8: SIN CAPACIDAD VIP 149
A9: 206 | B9: 206 | C9: OPA/MILITAR | D9: General de División | E9: VIP | F9: Muñoz de la Puente, Carlos | G9: PENDIENTE | H9: Comandante de Operaciones Terrestres (COT Ejército) | I9: SIN CAPACIDAD VIP 149
A10: 207 | B10: 207 | C10: OPA/MILITAR | D10: Vicealmirante | E10: VIP | F10: Zamorano Goñi, Raúl | G10: SI | H10: Jefe del Estado Mayor General de la Armada | I10: SIN CAPACIDAD VIP 149
A11: 208 | B11: 208 | C11: OPA/MILITAR | D11: Vicealmirante | E11: VIP | F11: Arenas Menares, Mauricio | G11: SI | H11: Directo General del Personal de la Armada | I11: SIN CAPACIDAD VIP 149
A12: 209 | B12: 209 | C12: OPA/MILITAR | D12: Vicealmirante | E12: VIP | F12: Delgado Boffil, César | G12: SI | H12: Director General de los Servicios de la Armada | I12: SIN CAPACIDAD VIP 149
A13: 210 | B13: 210 | C13: OPA/MILITAR | D13: Vicealmirante | E13: VIP | F13: Oxley Lizana, Arturo | G13: SI | H13: Director General del Territorio Marítimo y de Marina Mercante | I13: SIN CAPACIDAD VIP 149
A14: 211 | B14: 211 | C14: OPA/MILITAR | D14: Vicealmirante | E14: VIP | F14: Marín Fernández, Juan Pablo | G14: SI | H14: Subjefe del Estado Mayor Conjunto | I14: SIN CAPACIDAD VIP 149
A15: 212 | B15: 212 | C15: OPA/MILITAR | D15: Vicealmirante | E15: VIP | F15: Muñoz Miranda, Daniel | G15: SI | H15: *Comandante de Operaciones Navales | I15: SIN CAPACIDAD VIP 149
A16: 213 | B16: 213 | C16: OPA/MILITAR | D16: Contraalmirante | E16: VIP | F16: Hernández Jacir, José Miguel | G16: SI | H16: Director de Astilleros y Maestranzas de la Armada | I16: SIN CAPACIDAD VIP 149
A17: 214 | B17: 214 | C17: OPA/MILITAR | D17: Contraalmirante | E17: VIP | G17: SI | H17: Director de Recuperaciones de Unidades de la Armada | I17: SIN CAPACIDAD VIP 149
A18: 215 | B18: 215 | C18: OPA/MILITAR | D18: Contraalmirante | E18: VIP | F18: Pájaro Márquez, José Agustín | G18: SI | H18: Director de Operaciones del Estado Mayor General de la Armada | I18: SIN CAPACIDAD VIP 149
A19: 216 | B19: 216 | C19: OPA/MILITAR | D19: Contraalmirante | E19: VIP | F19: Acevedo Pérez, Edgardo | G19: SI | H19: *Comandante en Jefe de la Segunda Zona Naval | I19: SIN CAPACIDAD VIP 149
A20: 217 | B20: 217 | C20: OPA/MILITAR | D20: Contraalmirante | E20: VIP | F20: Saelzer Concha, Federico | G20: SI | H20: *Comandante en Jefe de la Fuerza de Submarinos | I20: SIN CAPACIDAD VIP 149
A21: 218 | B21: 218 | C21: OPA/MILITAR | D21: Contraalmirante IM | E21: VIP | F21: Opazo Riquelme, Daniel | G21: SI | H21: *Comandante General del Cuerpo de Infantería de Marina | I21: SIN CAPACIDAD VIP 149
A22: 219 | B22: 219 | C22: OPA/MILITAR | D22: Contraalmirante | E22: VIP | F22: Guerrero García, Alberto | G22: PENDIENTE | H22: Director de Programas, Investigación y Desarrollo de la Armada | I22: SIN CAPACIDAD VIP 149
A23: 220 | B23: 220 | C23: OPA/MILITAR | D23: Contraalmirante | E23: VIP | F23: Muñoz Cabrera, Claudio | G23: SI | H23: Contralor de la Armada | I23: SIN CAPACIDAD VIP 149
A24: 221 | B24: 221 | C24: OPA/MILITAR | D24: Contraalmirante AB | E24: VIP | G24: SI | H24: Director de finanzaas de la Armada. | I24: SIN CAPACIDAD VIP 149
A25: 222 | B25: 222 | C25: OPA/MILITAR | D25: Contraalmirante | E25: VIP | F25: Torres Horton, Alejandro | G25: SI | H25: SUBMAYOR Consejo Superior ASMAR | I25: SIN CAPACIDAD VIP 149
A26: 223 | B26: 223 | C26: OPA/MILITAR | D26: Contraalmirante | E26: VIP | F26: Mendez Tapia, Juan Cristobal | G26: PENDIENTE | H26: DIRISNAV Consejo Superior ASMAR | I26: SIN CAPACIDAD VIP 149
A27: 224 | B27: 224 | C27: OPA/MILITAR | D27: Comodoro | E27: VIP | F27: Valenzuea Azócar, Rene | G27: SI | H27: Secretario General de la Armada | I27: SIN CAPACIDAD VIP 149
A28: 225 | B28: 225 | C28: OPA/MILITAR | D28: Comodoro AB | E28: VIP | F28: Vidal Berrocal, Jorge | G28: SI | H28: DABA Consejo Superior ASMAR | I28: SIN CAPACIDAD VIP 149
A29: 226 | B29: 226 | C29: OPA/MILITAR | D29: General de Brigada | E29: VIP | F29: Espinoza Villalobos, Luis | G29: PENDIENTE | H29: Representante Ejército Consejo Superior ASMAR | I29: SIN CAPACIDAD VIP 149
A30: 227 | B30: 227 | C30: OPA/MILITAR | D30: General de Brigada Aérea | E30: VIP | F30: Cárcamo Barrientos, Alan | G30: PENDIENTE | H30: Representante FACH Consejo Superior ASMAR | I30: SIN CAPACIDAD VIP 149
A31: 228 | B31: 228 | C31: ACADÉMICOS | D31: Señor | E31: VIP | G31: SI | H31: Director Universidad Técnica Federico Santa María Sede Concepción | I31: SIN CAPACIDAD VIP 149
A32: 229 | B32: 229 | C32: ACADÉMICOS | D32: Rector | E32: VIP | G32: PENDIENTE | H32: Director de Vinculacion con el Medio Sede Concepción. Universidad Técnica Federico Santa María | I32: SIN CAPACIDAD VIP 149
A33: 230 | B33: 230 | C33: ACADÉMICOS | D33: Rector | E33: VIP | G33: PENDIENTE | H33: Director DUOC UC Sede San Andrés de Concepción | I33: SIN CAPACIDAD VIP 149
A34: 231 | B34: 231 | C34: ACADÉMICOS | D34: Rector | E34: VIP | G34: PENDIENTE | H34: Director Universidad Austral de Chile | I34: SIN CAPACIDAD VIP 149
A35: 232 | B35: 232 | C35: ACADÉMICOS | D35: Rector | E35: VIP | G35: PENDIENTE | H35: Rector Universidad Austral | I35: SIN CAPACIDAD VIP 149
A36: 234 | B36: 234 | C36: ACADÉMICOS | D36: Rector | E36: VIP | G36: PENDIENTE | H36: Rector Universidad de Concepción | I36: SIN CAPACIDAD VIP 149
A37: 235 | B37: 235 | C37: ACADÉMICOS | D37: Rector | E37: VIP | G37: PENDIENTE | H37: Vicerrectora Investigación y Desarrollo Universidad de Concepción | I37: SIN CAPACIDAD VIP 149
A38: 236 | B38: 236 | C38: ACADÉMICOS | D38: Rector | E38: VIP | G38: PENDIENTE | H38: Rector Universidad del Bío-Bío | I38: SIN CAPACIDAD VIP 149
A39: 237 | B39: 237 | C39: ACADÉMICOS | D39: Rector | E39: VIP | G39: PENDIENTE | H39: Rector Universidad Santo Tomás | I39: SIN CAPACIDAD VIP 149
A40: 238 | B40: 238 | C40: ACADÉMICOS | D40: Rector | E40: VIP | G40: PENDIENTE | H40: Rector U.D.D. Sede Concepción | I40: SIN CAPACIDAD VIP 149
...

Sheet LISTAS
A1: LISTAS Y PARÁMETROS
A3: ASISTENCIA | C3: FUENTES | E3: TRIBUNAS | G3: TRATAMIENTOS
A4: SI | C4: OPA | E4: VIP | G4: Su Excelencia
A5: NO | C5: OPA/ASMAR | E5: LATERAL | G5: Primera Dama
A6: PENDIENTE | C6: OPA/DGSA | G6: Ministro
C7: OPA/CIVILES | G7: Almirante
C8: OPA/MILITAR | G8: Señora
C9: ACADÉMICOS | G9: Honorable Senador
C10: MADRINA | G10: Honorable Diputado
C11: INVITADOS DGSA | G11: Presidente
C12: CIVILES | G12: Contralora
C13: MILITARES | G13: Fiscal
C14: MANDOS SEZONA | G14: Excelentísima
C15: PREMIADOS | G15: General
C16: INVITADOS ASMAR | G16: General Director
C17: PROVEEDORES | G17: Director General
C18: ASMAR | G18: Gobernador
... C22: ASMARMAG | G22: Señor
G23: Rector
G24: Selor
G25: Capitán de Navío RL
G26: Capelllán Evangélico
G27: Seremi
G28: Bancos
G29: Finanzas
G30: General de Brigada
G31: Contraalmirante
G32: General de División
G33: General del Aire
G34: Alcalde
... G71: Almte.
