Workbook
Name \a: [1]GENERAL!#REF!
Name \b: [1]GENERAL!#REF!
Name \c: [1]GENERAL!#REF!
Name \d: #REF!
Name \f: [1]GENERAL!#REF!
Name \h: [1]GENERAL!#REF!
Name \i: #REF!
Name \P: [1]GENERAL!$GV$8084
Name \r: [1]GENERAL!#REF!
Name \S: #REF!
Name \t: [1]GENERAL!#REF!
Name \w: [1]GENERAL!#REF!
Name \x: [1]GENERAL!#REF!
Name \z: '[2]N-detail'!#REF!
Name _____DAT10: #REF!
Name _____DAT11: #REF!
Name _____DAT12: #REF!
Name _____DAT13: #REF!
Name _____DAT14: #REF!
Name _____DAT15: #REF!
Name _____DAT16: #REF!
Name _____DAT17: #REF!
Name _____DAT18: #REF!
Name _____DAT19: #REF!
Name _____DAT2: #REF!
Name _____DAT20: #REF!
Name _____DAT3: #REF!
Name _____DAT4: #REF!
Name _____DAT5: #REF!
Name _____DAT6: #REF!
Name _____DAT7: #REF!
Name _____DAT8: #REF!
Name _____DAT9: #REF!
Name _____F: #REF!
Name _____us96: #REF!
Name ____alt1: #REF!
Name ____alt2: #REF!
Name ____BAS1: #REF!
Name ____CCM600: #REF!
Name ____COM1180: #REF!
Name ____DAT1: #REF!
Name ____DAT10: #REF!
Name ____DAT11: #REF!
Name ____DAT12: #REF!
Name ____DAT13: #REF!
Name ____DAT14: #REF!
Name ____DAT15: #REF!
Name ____DAT16: #REF!
Name ____DAT17: #REF!
Name ____DAT18: #REF!
Name ____DAT19: #REF!
Name ____DAT2: #REF!
Name ____DAT20: #REF!
Name ____DAT3: #REF!
Name ____DAT4: #REF!
Name ____DAT5: #REF!
Name ____DAT6: #REF!
Name ____DAT7: #REF!
Name ____DAT8: #REF!
Name ____DAT9: #REF!

Sheet Enunciado Parte 1
B9: Luego de un extenso proceso de revisión de las ofertas técnicas y económicas recibidas, el día 06/05/2023 Arauco ha decidido adjudicar el contrato "Ampliación de Instalaciones Industriales" a la empresa contratista El Canelo, dado que ha obtenido la mayor calificación tanto en la evaluación de la oferta técnica como económica. La adjudicación fue notificada vía carta formal, la cual indica que los pasos a seguir son los siguientes:
B11: Hito | C11: Actividad | D11: Responsable | E11: Fecha
B12: 1 | C12: Adjudicación del Servicio | D12: Arauco | E12: 45052
B13: 2 | C13: Envío de Contrato para Firma | D13: Arauco | E13: 45059
B14: 3 | C14: Devolución de Contrato Firmado | D14: El Canelo | E14: 45064
B15: 4 | C15: Kick Off Meeting | D15: Arauco / El Canelo | E15: 45067
B16: 5 | C16: Fecha de Inicio de Proyecto | D16: El Canelo | E16: 45098
B18: Una vez recibida la información, la Gerencia de Operaciones de El Canelo le notifica al Sr. Raúl Chávez que será el Administrador de Contrato responsable de la obra. Por lo anterior, el Gerente de Proyectos, el Sr. Steve Harrington de El Canelo le solicita que elabore el Plan de Arranque del Contrato, el cual debe contener todas las actividades necesarias para dar un correcto y oportuno inicio a las obras del contrato Nº 1412 -"Ampliación Instalaciones Industriales". Datos Complementarios Código del Contrato: ARAUCO-01 Nombre Gerencia: Gerencia de Proyectos
B19: Por lo tanto, se solicita elaborar el plan de arranque del proyecto de acuerdo a los siguientes pasos:
B21: 1. Datos Generales Plan de Arranque
B22: 1.1 Completar la información general del contrato
B23: 2.2 Establecer que la fecha de inicio del plan de arranque corresponde al día 21/05/2023
B25: 2. Actividades Plan de Arranque
B26: 2.1 Definir responsables y plazos de acuerdo a la siguiente información
B28: Aspectos Contractuales Tipo
B29: Ambito | C29: Encargado | D29: Cargo | E29: Fecha Inicio | F29: Fecha Límite
B30: Administrativo | C30: Nicolás Mondaca | D30: Administrador de Contrato | E30: 45067 | F30: 45111
B31: Ingenieria | C31: Pablo Díaz | D31: Jefe de Oficina Técnica | E31: 45106 | F31: 45121
B32: Construcción | C32: Maximiliano Carrión | D32: Programador y Control Costos | E32: 45106 | F32: 45121
B33: Control de Calidad | C33: Pablo Paredes | D33: Encargado de Calidad | E33: 45106 | F33: 45121
B34: Sustentabilidad | C34: Gonzalo Castro | D34: Encargado Seguridad | E34: 45106 | F34: 45116
B35: Seguridad | C35: Nicolás Valenzuela | D35: Jefe Seguridad | E35: 45067 | F35: 45106
B37: Aspectos Contractuales Específicos
B38: Ambito | C38: Encargado | D38: Cargo | E38: Fecha Inicio | F38: Fecha Límite
B39: Todos | C39: Nicolás Mondaca | D39: Administrador de Contrato | E39: 45067 | F39: 45116
B42: Aspectos Contractuales Específicos
B43: Gestión de Arranque | C43: Encargado | D43: Cargo | E43: Fecha Inicio | F43: Fecha Límite
B44: Gestión de Arranque | C44: Nicolás Mondaca | D44: Administrador de Contrato | E44: 45067 | F44: 45116
B45: RR.HH | C45: Alejandro Bravo | D45: Encargado Relaciones Laborales | E45: 45067 | F45: 45111
B46: Instalación de Faena | C46: Marcelo Pino | D46: Encargado Abastecimiento | E46: 45106 | F46: 45123
B47: Abastecimiento | C47: Marcelo Pino | D47: Encargado Abastecimiento | E47: 45067 | F47: 45126
B48: Planificación y Control Proyectos | C48: Nicolás Mondaca | D48: Administrador de Contrato | E48: 45121 | F48: 45122
B51: 3. Curva Programada / Real Plan de Arranque | H51: Respuesta
B52: 3.1 Grafique la curva programada acumulada del plan de arranque
B53: 3.2 ¿Cuál es el avance programado diario y acumulado del día 05/06/2023? | H53: 0.2408 | I53: Avance Programado Acumulado
H54: 0.015 | I54: Avance Programado Diario
B56: 3.3 Asumiendo que el avance real acumulado del plan de arranque al día 20/06/2023 es de un 80%, ¿que porcentaje de desviación presenta el programa? ¿Cómo lo evaluaría? | H56: 0.8 | I56: Porcentaje Avance Real
H57: 0.4665 | I57: Porcentaje Avance Programado
H58: 0.3335 | I58: Desviación
H59: 1.71 | I59: SPI
H60: ¿Cómo lo evaluaría?
H61: El avance real de 80% frente a un avance planificado de 46,65% a la misma fecha muestra que, en términos de cronograma, el proyecto presenta un desempeño superior a lo programado. La diferencia entre ambos valores corresponde a una desviación positiva de 33,35 puntos porcentuales, lo que indica que la ejecución ha progresado más rápido de lo previsto en el plan. Desde una perspectiva de control, esta comparación sugiere que el proyecto se encuentra adelantado respecto de la línea base del cronograma. Al calcular el SPI = 1,71, se obtiene un resultado mayor que 1, lo que confirma que el rendimiento temporal es favorable. Ahora bien, que el proyecto vaya adelantado no significa necesariamente que todo esté funcionando perfecto. Un avance tan por sobre lo planificado también vale la pena mirarlo con más detalle. Por ejemplo, es importante revisar si ese 80% refleja realmente trabajo completado y no solo avances parciales o sobreestimados, y si lo que se ha ejecutado corresponde efectivamente a actividades relevantes dentro del plan. También puede pasar que la planificación inicial haya sido demasiado conservadora, lo que haría que el adelanto no sea tan “extraordinario” como parece. Por otro lado, conviene preguntarse si este ritmo se logró a costa de usar más recursos de los previstos o generando sobrecostos, y si es algo que se pueda mantener en el tiempo sin afectar las etapas siguientes.

Sheet Resumen Plan de Arranque
B8: FECHA DE INICIO PLAN DE ARRANQUE | AF8: 45067
B10: INFORMACIÓN GENERAL DEL CONTRATO
C12: NOMBRE CONTRATO | I12: Ampliación Instalaciones Industriales
C14: CONTRATO N° | I14: 1412 | U14: CLIENTE | X14: Arauco
C16: CÓDIGO | I16: ARAUCO-01 | U16: GERENCIA | X16: Gerencia de Proyectos
C18: ADMINISTRADOR DE CONTRATO | I18: Sr. Raúl Chávez | U18: GERENTE | X18: Steve Harrington
B21: AVANCE PLAN DE ARRANQUE
C23: FECHA | I23: 45097
C26: AVANCE ACUMULADO | I26: PROGRAMADO | M26: REAL | Q26: DESVIACIÓN
I27: =+HLOOKUP($I$23,'Plan de Arranque'!$Q$9:$BY$85,'Plan de Arranque'!FA82,) -> 0.46647619 | M27: =+HLOOKUP($I$23,'Plan de Arranque'!$Q$9:$BY$85,'Plan de Arranque'!FA85,) -> 0.7275873 | Q27: =+M27-I27 -> 0.26111111
C28: AVANCE DIARIO | I28: PROGRAMADO | M28: REAL | Q28: DESVIACIÓN
I29: =+HLOOKUP($I$23,'Plan de Arranque'!$Q$9:$BY$85,'Plan de Arranque'!FA81,) -> 0.015047619 | M29: =+HLOOKUP($I$23,'Plan de Arranque'!$Q$9:$BY$85,'Plan de Arranque'!FA84,) -> 0.037039863 | Q29: =+M29-I29 -> 0.021992244
B33: AVANCE PLAN DE RETIRO DE PERSONAL
C36: FECHA | I36: 43889
C38: AVANCE ACUMULADO | I38: PROGRAMADO | M38: REAL | Q38: DESVIACIÓN
I39: =+VLOOKUP($I$36,#REF!,5) -> #REF! | M39: =+VLOOKUP($I$36,#REF!,9) -> #REF! | Q39: =+M39-I39 -> #REF!
C40: AVANCE DIARIO | I40: PROGRAMADO | M40: REAL | Q40: DESVIACIÓN
I41: =+VLOOKUP($I$36,#REF!,4) -> #REF! | M41: =+VLOOKUP($I$36,#REF!,8) -> #REF! | Q41: =+M41-I41 -> #REF!

Sheet Plan de Arranque
Q7: Línea Base | CB7: Avance Real
B9: ETAPA | C9: N° | D9: ACTIVIDAD POR ÁMBITO | E9: APLICA / NO APLICA | F9: RESPONSABLE | G9: CARGO | H9: COMIENZO | I9: TÉRMINO | J9: DURACIÓN [DÍAS] | K9: NIVEL DE CUMPLIMIENTO (%) | L9: OBSERVACIONES | M9: PONDERACIÓN (%) | N9: % AVANCE REAL | O9: RUTA ONE DRIVE | Q9: =+'Resumen Plan de Arranque'!AF8 -> 45067 | R9: =+Q9+1 -> 45068 | S9: =+R9+1 -> 45069 | T9: =+S9+1 -> 45070 | U9: =+T9+1 -> 45071 | V9: =+U9+1 -> 45072 | W9: =+V9+1 -> 45073 | X9: =+W9+1 -> 45074 | Y9: =+X9+1 -> 45075 | ... BY9: =+BX9+1 -> 45127 | CB9: =+Q9 -> 45067 | CC9: =+R9 -> 45068 | CD9: =+S9 -> 45069 | CE9: =+T9 -> 45070 | CF9: =+U9 -> 45071 | CG9: =+V9 -> 45072 | CH9: =+W9 -> 45073 | CI9: =+X9 -> 45074 | ... EJ9: =+BY9 -> 45127
B10: 1) Aspectos Contractuales Tipo (35%)
B11: 1 | C11: 1.1 | D11: Administrativo | EW11: =+IFERROR(M11/J11,0) -> 0
C12: 1.1.1 | D12: Boleta de Garantía por Fiel Cumplimiento | E12: Aplica | F12: Nicolás Mondaca | G12: Administrador de Contrato | H12: 45067 | I12: 45111 | J12: =+IF(H12="","",(I12-H12)+1) -> 45 | K12: =+SUM(CB12:EJ12)/SUM(Q12:BY12) -> 0.68888889 | M12: =25%/35 -> 0.0071428571 | N12: =+K12*M12 -> 0.0049206349 | Q12: =+IF((AND(IF(Q$9>=$H12,TRUE,FALSE),IF(Q$9<=$I12,TRUE,FALSE)))=TRUE,1,"") -> 1 | R12: =+IF((AND(IF(R$9>=$H12,TRUE,FALSE),IF(R$9<=$I12,TRUE,FALSE)))=TRUE,1,"") -> 1 | S12: =+IF((AND(IF(S$9>=$H12,TRUE,FALSE),IF(S$9<=$I12,TRUE,FALSE)))=TRUE,1,"") -> 1 | T12: =+IF((AND(IF(T$9>=$H12,TRUE,FALSE),IF(T$9<=$I12,TRUE,FALSE)))=TRUE,1,"") -> 1 | U12: =+IF((AND(IF(U$9>=$H12,TRUE,FALSE),IF(U$9<=$I12,TRUE,FALSE)))=TRUE,1,"") -> 1 | V12: =+IF((AND(IF(V$9>=$H12,TRUE,FALSE),IF(V$9<=$I12,TRUE,FALSE)))=TRUE,1,"") -> 1 | W12: =+IF((AND(IF(W$9>=$H12,TRUE,FALSE),IF(W$9<=$I12,TRUE,FALSE)))=TRUE,1,"") -> 1 | X12: =+IF((AND(IF(X$9>=$H12,TRUE,FALSE),IF(X$9<=$I12,TRUE,FALSE)))=TRUE,1,"") -> 1 | ... BY12: =+IF((AND(IF(BY$9>=$H12,TRUE,FALSE),IF(BY$9<=$I12,TRUE,FALSE)))=TRUE,1,"") | CB12: 1 | CC12: 1 | CD12: 1 | CE12: 1 | CF12: 1 | CG12: 1 | CH12: 1 | CI12: 1 | CJ12: 1 | CK12: 1 | CL12: 1 | CM12: 1 | CN12: 1 | CO12: 1 | CP12: 1 | CQ12: 1 | CR12: 1 | CS12: 1 | CT12: 1 | CU12: 1 | CV12: 1 | CW12: 1 | CX12: 1 | CY12: 1 | CZ12: 1 | DA12: 1 | DB12: 1 | DC12: 1 | DD12: 1 | DE12: 1 | DF12: 1 | EW12: =+IFERROR(M12/J12,0) -> 0.00015873016
C13: 1.1.2 | D13: Seguros | E13: Aplica | F13: Nicolás Mondaca | G13: Administrador de Contrato | H13: 45067 | I13: 45111 | J13: =+IF(H13="","",(I13-H13)+1) -> 45 | K13: =+SUM(CB13:EJ13)/SUM(Q13:BY13) -> 0.68888889 | M13: =25%/35 -> 0.0071428571 | N13: =+K13*M13 -> 0.0049206349 | Q13: =+IF((AND(IF(Q$9>=$H13,TRUE,FALSE),IF(Q$9<=$I13,TRUE,FALSE)))=TRUE,1,"") -> 1 | R13: =+IF((AND(IF(R$9>=$H13,TRUE,FALSE),IF(R$9<=$I13,TRUE,FALSE)))=TRUE,1,"") -> 1 | S13: =+IF((AND(IF(S$9>=$H13,TRUE,FALSE),IF(S$9<=$I13,TRUE,FALSE)))=TRUE,1,"") -> 1 | T13: =+IF((AND(IF(T$9>=$H13,TRUE,FALSE),IF(T$9<=$I13,TRUE,FALSE)))=TRUE,1,"") -> 1 | U13: =+IF((AND(IF(U$9>=$H13,TRUE,FALSE),IF(U$9<=$I13,TRUE,FALSE)))=TRUE,1,"") -> 1 | V13: =+IF((AND(IF(V$9>=$H13,TRUE,FALSE),IF(V$9<=$I13,TRUE,FALSE)))=TRUE,1,"") -> 1 | W13: =+IF((AND(IF(W$9>=$H13,TRUE,FALSE),IF(W$9<=$I13,TRUE,FALSE)))=TRUE,1,"") -> 1 | X13: =+IF((AND(IF(X$9>=$H13,TRUE,FALSE),IF(X$9<=$I13,TRUE,FALSE)))=TRUE,1,"") -> 1 | ... BY13: =+IF((AND(IF(BY$9>=$H13,TRUE,FALSE),IF(BY$9<=$I13,TRUE,FALSE)))=TRUE,1,"") | CB13: 1 | CC13: 1 | CD13: 1 | CE13: 1 | CF13: 1 | CG13: 1 | CH13: 1 | CI13: 1 | CJ13: 1 | CK13: 1 | CL13: 1 | CM13: 1 | CN13: 1 | CO13: 1 | CP13: 1 | CQ13: 1 | CR13: 1 | CS13: 1 | CT13: 1 | CU13: 1 | CV13: 1 | CW13: 1 | CX13: 1 | CY13: 1 | CZ13: 1 | DA13: 1 | DB13: 1 | DC13: 1 | DD13: 1 | DE13: 1 | DF13: 1 | EW13: =+IFERROR(M13/J13,0) -> 0.00015873016
C14: 1.1.3 | D14: Gestión de Anticipos | E14: Aplica | F14: Nicolás Mondaca | G14: Administrador de Contrato | H14: 45067 | I14: 45111 | J14: =+IF(H14="","",(I14-H14)+1) -> 45 | K14: =+SUM(CB14:EJ14)/SUM(Q14:BY14) -> 0.68888889 | M14: =25%/35 -> 0.0071428571 | N14: =+K14*M14 -> 0.0049206349 | Q14: =+IF((AND(IF(Q$9>=$H14,TRUE,FALSE),IF(Q$9<=$I14,TRUE,FALSE)))=TRUE,1,"") -> 1 | R14: =+IF((AND(IF(R$9>=$H14,TRUE,FALSE),IF(R$9<=$I14,TRUE,FALSE)))=TRUE,1,"") -> 1 | S14: =+IF((AND(IF(S$9>=$H14,TRUE,FALSE),IF(S$9<=$I14,TRUE,FALSE)))=TRUE,1,"") -> 1 | T14: =+IF((AND(IF(T$9>=$H14,TRUE,FALSE),IF(T$9<=$I14,TRUE,FALSE)))=TRUE,1,"") -> 1 | U14: =+IF((AND(IF(U$9>=$H14,TRUE,FALSE),IF(U$9<=$I14,TRUE,FALSE)))=TRUE,1,"") -> 1 | V14: =+IF((AND(IF(V$9>=$H14,TRUE,FALSE),IF(V$9<=$I14,TRUE,FALSE)))=TRUE,1,"") -> 1 | W14: =+IF((AND(IF(W$9>=$H14,TRUE,FALSE),IF(W$9<=$I14,TRUE,FALSE)))=TRUE,1,"") -> 1 | X14: =+IF((AND(IF(X$9>=$H14,TRUE,FALSE),IF(X$9<=$I14,TRUE,FALSE)))=TRUE,1,"") -> 1 | ... BY14: =+IF((AND(IF(BY$9>=$H14,TRUE,FALSE),IF(BY$9<=$I14,TRUE,FALSE)))=TRUE,1,"") | CB14: 1 | CC14: 1 | CD14: 1 | CE14: 1 | CF14: 1 | CG14: 1 | CH14: 1 | CI14: 1 | CJ14: 1 | CK14: 1 | CL14: 1 | CM14: 1 | CN14: 1 | CO14: 1 | CP14: 1 | CQ14: 1 | CR14: 1 | CS14: 1 | CT14: 1 | CU14: 1 | CV14: 1 | CW14: 1 | CX14: 1 | CY14: 1 | CZ14: 1 | DA14: 1 | DB14: 1 | DC14: 1 | DD14: 1 | DE14: 1 | DF14: 1 | EW14: =+IFERROR(M14/J14,0) -> 0.00015873016
C15: 1.1.4 | D15: Reunión "Kick Off" con el Cliente | E15: Aplica | F15: Nicolás Mondaca | G15: Administrador de Contrato | H15: 45067 | I15: 45111 | J15: =+IF(H15="","",(I15-H15)+1) -> 45 | K15: =+SUM(CB15:EJ15)/SUM(Q15:BY15) -> 0.68888889 | M15: =25%/35 -> 0.0071428571 | N15: =+K15*M15 -> 0.0049206349 | Q15: =+IF((AND(IF(Q$9>=$H15,TRUE,FALSE),IF(Q$9<=$I15,TRUE,FALSE)))=TRUE,1,"") -> 1 | R15: =+IF((AND(IF(R$9>=$H15,TRUE,FALSE),IF(R$9<=$I15,TRUE,FALSE)))=TRUE,1,"") -> 1 | S15: =+IF((AND(IF(S$9>=$H15,TRUE,FALSE),IF(S$9<=$I15,TRUE,FALSE)))=TRUE,1,"") -> 1 | T15: =+IF((AND(IF(T$9>=$H15,TRUE,FALSE),IF(T$9<=$I15,TRUE,FALSE)))=TRUE,1,"") -> 1 | U15: =+IF((AND(IF(U$9>=$H15,TRUE,FALSE),IF(U$9<=$I15,TRUE,FALSE)))=TRUE,1,"") -> 1 | V15: =+IF((AND(IF(V$9>=$H15,TRUE,FALSE),IF(V$9<=$I15,TRUE,FALSE)))=TRUE,1,"") -> 1 | W15: =+IF((AND(IF(W$9>=$H15,TRUE,FALSE),IF(W$9<=$I15,TRUE,FALSE)))=TRUE,1,"") -> 1 | X15: =+IF((AND(IF(X$9>=$H15,TRUE,FALSE),IF(X$9<=$I15,TRUE,FALSE)))=TRUE,1,"") -> 1 | ... BY15: =+IF((AND(IF(BY$9>=$H15,TRUE,FALSE),IF(BY$9<=$I15,TRUE,FALSE)))=TRUE,1,"") | CB15: 1 | CC15: 1 | CD15: 1 | CE15: 1 | CF15: 1 | CG15: 1 | CH15: 1 | CI15: 1 | CJ15: 1 | CK15: 1 | CL15: 1 | CM15: 1 | CN15: 1 | CO15: 1 | CP15: 1 | CQ15: 1 | CR15: 1 | CS15: 1 | CT15: 1 | CU15: 1 | CV15: 1 | CW15: 1 | CX15: 1 | CY15: 1 | CZ15: 1 | DA15: 1 | DB15: 1 | DC15: 1 | DD15: 1 | DE15: 1 | DF15: 1 | EW15: =+IFERROR(M15/J15,0) -> 0.00015873016
C16: 1.1.5 | D16: Acta de entrega de Terreno | E16: Aplica | F16: Nicolás Mondaca | G16: Administrador de Contrato | H16: 45067 | I16: 45111 | J16: =+IF(H16="","",(I16-H16)+1) -> 45 | K16: =+SUM(CB16:EJ16)/SUM(Q16:BY16) -> 0.68888889 | M16: =25%/35 -> 0.0071428571 | N16: =+K16*M16 -> 0.0049206349 | Q16: =+IF((AND(IF(Q$9>=$H16,TRUE,FALSE),IF(Q$9<=$I16,TRUE,FALSE)))=TRUE,1,"") -> 1 | R16: =+IF((AND(IF(R$9>=$H16,TRUE,FALSE),IF(R$9<=$I16,TRUE,FALSE)))=TRUE,1,"") -> 1 | S16: =+IF((AND(IF(S$9>=$H16,TRUE,FALSE),IF(S$9<=$I16,TRUE,FALSE)))=TRUE,1,"") -> 1 | T16: =+IF((AND(IF(T$9>=$H16,TRUE,FALSE),IF(T$9<=$I16,TRUE,FALSE)))=TRUE,1,"") -> 1 | U16: =+IF((AND(IF(U$9>=$H16,TRUE,FALSE),IF(U$9<=$I16,TRUE,FALSE)))=TRUE,1,"") -> 1 | V16: =+IF((AND(IF(V$9>=$H16,TRUE,FALSE),IF(V$9<=$I16,TRUE,FALSE)))=TRUE,1,"") -> 1 | W16: =+IF((AND(IF(W$9>=$H16,TRUE,FALSE),IF(W$9<=$I16,TRUE,FALSE)))=TRUE,1,"") -> 1 | X16: =+IF((AND(IF(X$9>=$H16,TRUE,FALSE),IF(X$9<=$I16,TRUE,FALSE)))=TRUE,1,"") -> 1 | ... BY16: =+IF((AND(IF(BY$9>=$H16,TRUE,FALSE),IF(BY$9<=$I16,TRUE,FALSE)))=TRUE,1,"") | CB16: 1 | CC16: 1 | CD16: 1 | CE16: 1 | CF16: 1 | CG16: 1 | CH16: 1 | CI16: 1 | CJ16: 1 | CK16: 1 | CL16: 1 | CM16: 1 | CN16: 1 | CO16: 1 | CP16: 1 | CQ16: 1 | CR16: 1 | CS16: 1 | CT16: 1 | CU16: 1 | CV16: 1 | CW16: 1 | CX16: 1 | CY16: 1 | CZ16: 1 | DA16: 1 | DB16: 1 | DC16: 1 | DD16: 1 | DE16: 1 | DF16: 1 | EW16: =+IFERROR(M16/J16,0) -> 0.00015873016
C17: 1.1.6 | D17: Recepción de Sitio IIFF | E17: Aplica | F17: Nicolás Mondaca | G17: Administrador de Contrato | H17: 45067 | I17: 45111 | J17: =+IF(H17="","",(I17-H17)+1) -> 45 | K17: =+SUM(CB17:EJ17)/SUM(Q17:BY17) -> 0.68888889 | M17: =25%/35 -> 0.0071428571 | N17: =+K17*M17 -> 0.0049206349 | Q17: =+IF((AND(IF(Q$9>=$H17,TRUE,FALSE),IF(Q$9<=$I17,TRUE,FALSE)))=TRUE,1,"") -> 1 | R17: =+IF((AND(IF(R$9>=$H17,TRUE,FALSE),IF(R$9<=$I17,TRUE,FALSE)))=TRUE,1,"") -> 1 | S17: =+IF((AND(IF(S$9>=$H17,TRUE,FALSE),IF(S$9<=$I17,TRUE,FALSE)))=TRUE,1,"") -> 1 | T17: =+IF((AND(IF(T$9>=$H17,TRUE,FALSE),IF(T$9<=$I17,TRUE,FALSE)))=TRUE,1,"") -> 1 | U17: =+IF((AND(IF(U$9>=$H17,TRUE,FALSE),IF(U$9<=$I17,TRUE,FALSE)))=TRUE,1,"") -> 1 | V17: =+IF((AND(IF(V$9>=$H17,TRUE,FALSE),IF(V$9<=$I17,TRUE,FALSE)))=TRUE,1,"") -> 1 | W17: =+IF((AND(IF(W$9>=$H17,TRUE,FALSE),IF(W$9<=$I17,TRUE,FALSE)))=TRUE,1,"") -> 1 | X17: =+IF((AND(IF(X$9>=$H17,TRUE,FALSE),IF(X$9<=$I17,TRUE,FALSE)))=TRUE,1,"") -> 1 | ... BY17: =+IF((AND(IF(BY$9>=$H17,TRUE,FALSE),IF(BY$9<=$I17,TRUE,FALSE)))=TRUE,1,"") | CB17: 1 | CC17: 1 | CD17: 1 | CE17: 1 | CF17: 1 | CG17: 1 | CH17: 1 | CI17: 1 | CJ17: 1 | CK17: 1 | CL17: 1 | CM17: 1 | CN17: 1 | CO17: 1 | CP17: 1 | CQ17: 1 | CR17: 1 | CS17: 1 | CT17: 1 | CU17: 1 | CV17: 1 | CW17: 1 | CX17: 1 | CY17: 1 | CZ17: 1 | DA17: 1 | DB17: 1 | DC17: 1 | DD17: 1 | DE17: 1 | DF17: 1 | EW17: =+IFERROR(M17/J17,0) -> 0.00015873016
B18: 1 | C18: 1.2 | D18: Ingenieria | EW18: =+IFERROR(M18/J18,0) -> 0
C19: 1.2.1 | D19: Bases Técnicas, Procedimientos, Instructivos (última versión) | E19: Aplica | F19: Pablo Díaz | G19: Jefe de Oficina Técnica | H19: 45106 | I19: 45121 | J19: =+IF(H19="","",(I19-H19)+1) -> 16 | K19: =+SUM(CB19:EJ19)/SUM(Q19:BY19) -> 1 | M19: =25%/35 -> 0.0071428571 | N19: =+K19*M19 -> 0.0071428571 | Q19: =+IF((AND(IF(Q$9>=$H19,TRUE,FALSE),IF(Q$9<=$I19,TRUE,FALSE)))=TRUE,1,"") | R19: =+IF((AND(IF(R$9>=$H19,TRUE,FALSE),IF(R$9<=$I19,TRUE,FALSE)))=TRUE,1,"") | S19: =+IF((AND(IF(S$9>=$H19,TRUE,FALSE),IF(S$9<=$I19,TRUE,FALSE)))=TRUE,1,"") | T19: =+IF((AND(IF(T$9>=$H19,TRUE,FALSE),IF(T$9<=$I19,TRUE,FALSE)))=TRUE,1,"") | U19: =+IF((AND(IF(U$9>=$H19,TRUE,FALSE),IF(U$9<=$I19,TRUE,FALSE)))=TRUE,1,"") | V19: =+IF((AND(IF(V$9>=$H19,TRUE,FALSE),IF(V$9<=$I19,TRUE,FALSE)))=TRUE,1,"") | W19: =+IF((AND(IF(W$9>=$H19,TRUE,FALSE),IF(W$9<=$I19,TRUE,FALSE)))=TRUE,1,"") | X19: =+IF((AND(IF(X$9>=$H19,TRUE,FALSE),IF(X$9<=$I19,TRUE,FALSE)))=TRUE,1,"") | ... BY19: =+IF((AND(IF(BY$9>=$H19,TRUE,FALSE),IF(BY$9<=$I19,TRUE,FALSE)))=TRUE,1,"") | CQ19: 1 | CR19: 1 | CS19: 1 | CT19: 1 | CU19: 1 | CV19: 1 | CW19: 1 | CX19: 1 | CY19: 1 | CZ19: 1 | DA19: 1 | DB19: 1 | DC19: 1 | DD19: 1 | DE19: 1 | DF19: 1 | EW19: =+IFERROR(M19/J19,0) -> 0.00044642857
C20: 1.2.2 | D20: Planos (última versión) | E20: Aplica | F20: Pablo Díaz | G20: Jefe de Oficina Técnica | H20: 45106 | I20: 45121 | J20: =+IF(H20="","",(I20-H20)+1) -> 16 | K20: =+SUM(CB20:EJ20)/SUM(Q20:BY20) -> 1 | M20: =25%/35 -> 0.0071428571 | N20: =+K20*M20 -> 0.0071428571 | Q20: =+IF((AND(IF(Q$9>=$H20,TRUE,FALSE),IF(Q$9<=$I20,TRUE,FALSE)))=TRUE,1,"") | R20: =+IF((AND(IF(R$9>=$H20,TRUE,FALSE),IF(R$9<=$I20,TRUE,FALSE)))=TRUE,1,"") | S20: =+IF((AND(IF(S$9>=$H20,TRUE,FALSE),IF(S$9<=$I20,TRUE,FALSE)))=TRUE,1,"") | T20: =+IF((AND(IF(T$9>=$H20,TRUE,FALSE),IF(T$9<=$I20,TRUE,FALSE)))=TRUE,1,"") | U20: =+IF((AND(IF(U$9>=$H20,TRUE,FALSE),IF(U$9<=$I20,TRUE,FALSE)))=TRUE,1,"") | V20: =+IF((AND(IF(V$9>=$H20,TRUE,FALSE),IF(V$9<=$I20,TRUE,FALSE)))=TRUE,1,"") | W20: =+IF((AND(IF(W$9>=$H20,TRUE,FALSE),IF(W$9<=$I20,TRUE,FALSE)))=TRUE,1,"") | X20: =+IF((AND(IF(X$9>=$H20,TRUE,FALSE),IF(X$9<=$I20,TRUE,FALSE)))=TRUE,1,"") | ... BY20: =+IF((AND(IF(BY$9>=$H20,TRUE,FALSE),IF(BY$9<=$I20,TRUE,FALSE)))=TRUE,1,"") | CQ20: 1 | CR20: 1 | CS20: 1 | CT20: 1 | CU20: 1 | CV20: 1 | CW20: 1 | CX20: 1 | CY20: 1 | CZ20: 1 | DA20: 1 | DB20: 1 | DC20: 1 | DD20: 1 | DE20: 1 | DF20: 1 | EW20: =+IFERROR(M20/J20,0) -> 0.00044642857
B21: 1 | C21: 1.3 | D21: Construcción | EW21: =+IFERROR(M21/J21,0) -> 0
C22: 1.3.1 | D22: Programa de Proyecto | E22: Aplica | F22: Maximiliano Carrión | G22: Programador y Control Costos | H22: 45106 | I22: 45121 | J22: =+IF(H22="","",(I22-H22)+1) -> 16 | K22: =+SUM(CB22:EJ22)/SUM(Q22:BY22) -> 1 | M22: 0.1 | N22: =+P22*M22 -> 0 | Q22: =+IF((AND(IF(Q$9>=$H22,TRUE,FALSE),IF(Q$9<=$I22,TRUE,FALSE)))=TRUE,1,"") | R22: =+IF((AND(IF(R$9>=$H22,TRUE,FALSE),IF(R$9<=$I22,TRUE,FALSE)))=TRUE,1,"") | S22: =+IF((AND(IF(S$9>=$H22,TRUE,FALSE),IF(S$9<=$I22,TRUE,FALSE)))=TRUE,1,"") | T22: =+IF((AND(IF(T$9>=$H22,TRUE,FALSE),IF(T$9<=$I22,TRUE,FALSE)))=TRUE,1,"") | U22: =+IF((AND(IF(U$9>=$H22,TRUE,FALSE),IF(U$9<=$I22,TRUE,FALSE)))=TRUE,1,"") | V22: =+IF((AND(IF(V$9>=$H22,TRUE,FALSE),IF(V$9<=$I22,TRUE,FALSE)))=TRUE,1,"") | W22: =+IF((AND(IF(W$9>=$H22,TRUE,FALSE),IF(W$9<=$I22,TRUE,FALSE)))=TRUE,1,"") | X22: =+IF((AND(IF(X$9>=$H22,TRUE,FALSE),IF(X$9<=$I22,TRUE,FALSE)))=TRUE,1,"") | ... BY22: =+IF((AND(IF(BY$9>=$H22,TRUE,FALSE),IF(BY$9<=$I22,TRUE,FALSE)))=TRUE,1,"") | CQ22: 1 | CR22: 1 | CS22: 1 | CT22: 1 | CU22: 1 | CV22: 1 | CW22: 1 | CX22: 1 | CY22: 1 | CZ22: 1 | DA22: 1 | DB22: 1 | DC22: 1 | DD22: 1 | DE22: 1 | DF22: 1 | EW22: =+IFERROR(M22/J22,0) -> 0.00625
C23: 1.3.2 | D23: Procedimientos de Fabricación (si es necesario). | E23: Aplica | F23: Maximiliano Carrión | G23: Programador y Control Costos | H23: 45106 | I23: 45121 | J23: =+IF(H23="","",(I23-H23)+1) -> 16 | K23: =+SUM(CB23:EJ23)/SUM(Q23:BY23) -> 1 | M23: =25%/35 -> 0.0071428571 | N23: =+K23*M23 -> 0.0071428571 | Q23: =+IF((AND(IF(Q$9>=$H23,TRUE,FALSE),IF(Q$9<=$I23,TRUE,FALSE)))=TRUE,1,"") | R23: =+IF((AND(IF(R$9>=$H23,TRUE,FALSE),IF(R$9<=$I23,TRUE,FALSE)))=TRUE,1,"") | S23: =+IF((AND(IF(S$9>=$H23,TRUE,FALSE),IF(S$9<=$I23,TRUE,FALSE)))=TRUE,1,"") | T23: =+IF((AND(IF(T$9>=$H23,TRUE,FALSE),IF(T$9<=$I23,TRUE,FALSE)))=TRUE,1,"") | U23: =+IF((AND(IF(U$9>=$H23,TRUE,FALSE),IF(U$9<=$I23,TRUE,FALSE)))=TRUE,1,"") | V23: =+IF((AND(IF(V$9>=$H23,TRUE,FALSE),IF(V$9<=$I23,TRUE,FALSE)))=TRUE,1,"") | W23: =+IF((AND(IF(W$9>=$H23,TRUE,FALSE),IF(W$9<=$I23,TRUE,FALSE)))=TRUE,1,"") | X23: =+IF((AND(IF(X$9>=$H23,TRUE,FALSE),IF(X$9<=$I23,TRUE,FALSE)))=TRUE,1,"") | ... BY23: =+IF((AND(IF(BY$9>=$H23,TRUE,FALSE),IF(BY$9<=$I23,TRUE,FALSE)))=TRUE,1,"") | CQ23: 1 | CR23: 1 | CS23: 1 | CT23: 1 | CU23: 1 | CV23: 1 | CW23: 1 | CX23: 1 | CY23: 1 | CZ23: 1 | DA23: 1 | DB23: 1 | DC23: 1 | DD23: 1 | DE23: 1 | DF23: 1 | EW23: =+IFERROR(M23/J23,0) -> 0.00044642857
C24: 1.3.3 | D24: Procedimientos de Construcción. | E24: Aplica | F24: Maximiliano Carrión | G24: Programador y Control Costos | H24: 45106 | I24: 45121 | J24: =+IF(H24="","",(I24-H24)+1) -> 16 | K24: =+SUM(CB24:EJ24)/SUM(Q24:BY24) -> 1 | M24: =25%/35 -> 0.0071428571 | N24: =+K24*M24 -> 0.0071428571 | Q24: =+IF((AND(IF(Q$9>=$H24,TRUE,FALSE),IF(Q$9<=$I24,TRUE,FALSE)))=TRUE,1,"") | R24: =+IF((AND(IF(R$9>=$H24,TRUE,FALSE),IF(R$9<=$I24,TRUE,FALSE)))=TRUE,1,"") | S24: =+IF((AND(IF(S$9>=$H24,TRUE,FALSE),IF(S$9<=$I24,TRUE,FALSE)))=TRUE,1,"") | T24: =+IF((AND(IF(T$9>=$H24,TRUE,FALSE),IF(T$9<=$I24,TRUE,FALSE)))=TRUE,1,"") | U24: =+IF((AND(IF(U$9>=$H24,TRUE,FALSE),IF(U$9<=$I24,TRUE,FALSE)))=TRUE,1,"") | V24: =+IF((AND(IF(V$9>=$H24,TRUE,FALSE),IF(V$9<=$I24,TRUE,FALSE)))=TRUE,1,"") | W24: =+IF((AND(IF(W$9>=$H24,TRUE,FALSE),IF(W$9<=$I24,TRUE,FALSE)))=TRUE,1,"") | X24: =+IF((AND(IF(X$9>=$H24,TRUE,FALSE),IF(X$9<=$I24,TRUE,FALSE)))=TRUE,1,"") | ... BY24: =+IF((AND(IF(BY$9>=$H24,TRUE,FALSE),IF(BY$9<=$I24,TRUE,FALSE)))=TRUE,1,"") | CQ24: 1 | CR24: 1 | CS24: 1 | CT24: 1 | CU24: 1 | CV24: 1 | CW24: 1 | CX24: 1 | CY24: 1 | CZ24: 1 | DA24: 1 | DB24: 1 | DC24: 1 | DD24: 1 | DE24: 1 | DF24: 1 | EW24: =+IFERROR(M24/J24,0) -> 0.00044642857
C25: 1.3.4 | D25: Facilidades de instalaciones y equipos del mandante. | E25: Aplica | F25: Maximiliano Carrión | G25: Programador y Control Costos | H25: 45106 | I25: 45121 | J25: =+IF(H25="","",(I25-H25)+1) -> 16 | K25: =+SUM(CB25:EJ25)/SUM(Q25:BY25) -> 1 | M25: =25%/35 -> 0.0071428571 | N25: =+K25*M25 -> 0.0071428571 | Q25: =+IF((AND(IF(Q$9>=$H25,TRUE,FALSE),IF(Q$9<=$I25,TRUE,FALSE)))=TRUE,1,"") | R25: =+IF((AND(IF(R$9>=$H25,TRUE,FALSE),IF(R$9<=$I25,TRUE,FALSE)))=TRUE,1,"") | S25: =+IF((AND(IF(S$9>=$H25,TRUE,FALSE),IF(S$9<=$I25,TRUE,FALSE)))=TRUE,1,"") | T25: =+IF((AND(IF(T$9>=$H25,TRUE,FALSE),IF(T$9<=$I25,TRUE,FALSE)))=TRUE,1,"") | U25: =+IF((AND(IF(U$9>=$H25,TRUE,FALSE),IF(U$9<=$I25,TRUE,FALSE)))=TRUE,1,"") | V25: =+IF((AND(IF(V$9>=$H25,TRUE,FALSE),IF(V$9<=$I25,TRUE,FALSE)))=TRUE,1,"") | W25: =+IF((AND(IF(W$9>=$H25,TRUE,FALSE),IF(W$9<=$I25,TRUE,FALSE)))=TRUE,1,"") | X25: =+IF((AND(IF(X$9>=$H25,TRUE,FALSE),IF(X$9<=$I25,TRUE,FALSE)))=TRUE,1,"") | ... BY25: =+IF((AND(IF(BY$9>=$H25,TRUE,FALSE),IF(BY$9<=$I25,TRUE,FALSE)))=TRUE,1,"") | CQ25: 1 | CR25: 1 | CS25: 1 | CT25: 1 | CU25: 1 | CV25: 1 | CW25: 1 | CX25: 1 | CY25: 1 | CZ25: 1 | DA25: 1 | DB25: 1 | DC25: 1 | DD25: 1 | DE25: 1 | DF25: 1 | EW25: =+IFERROR(M25/J25,0) -> 0.00044642857
C26: 1.3.5 | D26: Suministro de energía eléctrica (de proceder). | E26: Aplica | F26: Maximiliano Carrión | G26: Programador y Control Costos | H26: 45106 | I26: 45121 | J26: =+IF(H26="","",(I26-H26)+1) -> 16 | K26: =+SUM(CB26:EJ26)/SUM(Q26:BY26) -> 1 | M26: =25%/35 -> 0.0071428571 | N26: =+K26*M26 -> 0.0071428571 | Q26: =+IF((AND(IF(Q$9>=$H26,TRUE,FALSE),IF(Q$9<=$I26,TRUE,FALSE)))=TRUE,1,"") | R26: =+IF((AND(IF(R$9>=$H26,TRUE,FALSE),IF(R$9<=$I26,TRUE,FALSE)))=TRUE,1,"") | S26: =+IF((AND(IF(S$9>=$H26,TRUE,FALSE),IF(S$9<=$I26,TRUE,FALSE)))=TRUE,1,"") | T26: =+IF((AND(IF(T$9>=$H26,TRUE,FALSE),IF(T$9<=$I26,TRUE,FALSE)))=TRUE,1,"") | U26: =+IF((AND(IF(U$9>=$H26,TRUE,FALSE),IF(U$9<=$I26,TRUE,FALSE)))=TRUE,1,"") | V26: =+IF((AND(IF(V$9>=$H26,TRUE,FALSE),IF(V$9<=$I26,TRUE,FALSE)))=TRUE,1,"") | W26: =+IF((AND(IF(W$9>=$H26,TRUE,FALSE),IF(W$9<=$I26,TRUE,FALSE)))=TRUE,1,"") | X26: =+IF((AND(IF(X$9>=$H26,TRUE,FALSE),IF(X$9<=$I26,TRUE,FALSE)))=TRUE,1,"") | ... BY26: =+IF((AND(IF(BY$9>=$H26,TRUE,FALSE),IF(BY$9<=$I26,TRUE,FALSE)))=TRUE,1,"") | CQ26: 1 | CR26: 1 | CS26: 1 | CT26: 1 | CU26: 1 | CV26: 1 | CW26: 1 | CX26: 1 | CY26: 1 | CZ26: 1 | DA26: 1 | DB26: 1 | DC26: 1 | DD26: 1 | DE26: 1 | DF26: 1 | EW26: =+IFERROR(M26/J26,0) -> 0.00044642857
C27: 1.3.6 | D27: Suministro de Agua Potable e Industrial (de proceder). | E27: Aplica | F27: Maximiliano Carrión | G27: Programador y Control Costos | H27: 45106 | I27: 45121 | J27: =+IF(H27="","",(I27-H27)+1) -> 16 | K27: =+SUM(CB27:EJ27)/SUM(Q27:BY27) -> 1 | M27: =25%/35 -> 0.0071428571 | N27: =+K27*M27 -> 0.0071428571 | Q27: =+IF((AND(IF(Q$9>=$H27,TRUE,FALSE),IF(Q$9<=$I27,TRUE,FALSE)))=TRUE,1,"") | R27: =+IF((AND(IF(R$9>=$H27,TRUE,FALSE),IF(R$9<=$I27,TRUE,FALSE)))=TRUE,1,"") | S27: =+IF((AND(IF(S$9>=$H27,TRUE,FALSE),IF(S$9<=$I27,TRUE,FALSE)))=TRUE,1,"") | T27: =+IF((AND(IF(T$9>=$H27,TRUE,FALSE),IF(T$9<=$I27,TRUE,FALSE)))=TRUE,1,"") | U27: =+IF((AND(IF(U$9>=$H27,TRUE,FALSE),IF(U$9<=$I27,TRUE,FALSE)))=TRUE,1,"") | V27: =+IF((AND(IF(V$9>=$H27,TRUE,FALSE),IF(V$9<=$I27,TRUE,FALSE)))=TRUE,1,"") | W27: =+IF((AND(IF(W$9>=$H27,TRUE,FALSE),IF(W$9<=$I27,TRUE,FALSE)))=TRUE,1,"") | X27: =+IF((AND(IF(X$9>=$H27,TRUE,FALSE),IF(X$9<=$I27,TRUE,FALSE)))=TRUE,1,"") | ... BY27: =+IF((AND(IF(BY$9>=$H27,TRUE,FALSE),IF(BY$9<=$I27,TRUE,FALSE)))=TRUE,1,"") | CQ27: 1 | CR27: 1 | CS27: 1 | CT27: 1 | CU27: 1 | CV27: 1 | CW27: 1 | CX27: 1 | CY27: 1 | CZ27: 1 | DA27: 1 | DB27: 1 | DC27: 1 | DD27: 1 | DE27: 1 | DF27: 1 | EW27: =+IFERROR(M27/J27,0) -> 0.00044642857
C28: 1.3.7 | D28: Sistema de Comunicaciones propuesto | E28: Aplica | F28: Maximiliano Carrión | G28: Programador y Control Costos | H28: 45106 | I28: 45121 | J28: =+IF(H28="","",(I28-H28)+1) -> 16 | K28: =+SUM(CB28:EJ28)/SUM(Q28:BY28) -> 1 | M28: =25%/35 -> 0.0071428571 | N28: =+K28*M28 -> 0.0071428571 | Q28: =+IF((AND(IF(Q$9>=$H28,TRUE,FALSE),IF(Q$9<=$I28,TRUE,FALSE)))=TRUE,1,"") | R28: =+IF((AND(IF(R$9>=$H28,TRUE,FALSE),IF(R$9<=$I28,TRUE,FALSE)))=TRUE,1,"") | S28: =+IF((AND(IF(S$9>=$H28,TRUE,FALSE),IF(S$9<=$I28,TRUE,FALSE)))=TRUE,1,"") | T28: =+IF((AND(IF(T$9>=$H28,TRUE,FALSE),IF(T$9<=$I28,TRUE,FALSE)))=TRUE,1,"") | U28: =+IF((AND(IF(U$9>=$H28,TRUE,FALSE),IF(U$9<=$I28,TRUE,FALSE)))=TRUE,1,"") | V28: =+IF((AND(IF(V$9>=$H28,TRUE,FALSE),IF(V$9<=$I28,TRUE,FALSE)))=TRUE,1,"") | W28: =+IF((AND(IF(W$9>=$H28,TRUE,FALSE),IF(W$9<=$I28,TRUE,FALSE)))=TRUE,1,"") | X28: =+IF((AND(IF(X$9>=$H28,TRUE,FALSE),IF(X$9<=$I28,TRUE,FALSE)))=TRUE,1,"") | ... BY28: =+IF((AND(IF(BY$9>=$H28,TRUE,FALSE),IF(BY$9<=$I28,TRUE,FALSE)))=TRUE,1,"") | CQ28: 1 | CR28: 1 | CS28: 1 | CT28: 1 | CU28: 1 | CV28: 1 | CW28: 1 | CX28: 1 | CY28: 1 | CZ28: 1 | DA28: 1 | DB28: 1 | DC28: 1 | DD28: 1 | DE28: 1 | DF28: 1 | EW28: =+IFERROR(M28/J28,0) -> 0.00044642857
C29: 1.3.8 | D29: Normas de acceso a la obra. | E29: Aplica | F29: Maximiliano Carrión | G29: Programador y Control Costos | H29: 45106 | I29: 45121 | J29: =+IF(H29="","",(I29-H29)+1) -> 16 | K29: =+SUM(CB29:EJ29)/SUM(Q29:BY29) -> 1 | M29: =25%/35 -> 0.0071428571 | N29: =+K29*M29 -> 0.0071428571 | Q29: =+IF((AND(IF(Q$9>=$H29,TRUE,FALSE),IF(Q$9<=$I29,TRUE,FALSE)))=TRUE,1,"") | R29: =+IF((AND(IF(R$9>=$H29,TRUE,FALSE),IF(R$9<=$I29,TRUE,FALSE)))=TRUE,1,"") | S29: =+IF((AND(IF(S$9>=$H29,TRUE,FALSE),IF(S$9<=$I29,TRUE,FALSE)))=TRUE,1,"") | T29: =+IF((AND(IF(T$9>=$H29,TRUE,FALSE),IF(T$9<=$I29,TRUE,FALSE)))=TRUE,1,"") | U29: =+IF((AND(IF(U$9>=$H29,TRUE,FALSE),IF(U$9<=$I29,TRUE,FALSE)))=TRUE,1,"") | V29: =+IF((AND(IF(V$9>=$H29,TRUE,FALSE),IF(V$9<=$I29,TRUE,FALSE)))=TRUE,1,"") | W29: =+IF((AND(IF(W$9>=$H29,TRUE,FALSE),IF(W$9<=$I29,TRUE,FALSE)))=TRUE,1,"") | X29: =+IF((AND(IF(X$9>=$H29,TRUE,FALSE),IF(X$9<=$I29,TRUE,FALSE)))=TRUE,1,"") | ... BY29: =+IF((AND(IF(BY$9>=$H29,TRUE,FALSE),IF(BY$9<=$I29,TRUE,FALSE)))=TRUE,1,"") | CQ29: 1 | CR29: 1 | CS29: 1 | CT29: 1 | CU29: 1 | CV29: 1 | CW29: 1 | CX29: 1 | CY29: 1 | CZ29: 1 | DA29: 1 | DB29: 1 | DC29: 1 | DD29: 1 | DE29: 1 | DF29: 1 | EW29: =+IFERROR(M29/J29,0) -> 0.00044642857
B30: 1 | C30: 1.4 | D30: Control de Calidad | EW30: =+IFERROR(M30/J30,0) -> 0
C31: 1.4.1 | D31: Plan de A&CC | E31: Aplica | F31: Pablo Paredes | G31: Encargado de Calidad | H31: 45106 | I31: 45121 | J31: =+IF(H31="","",(I31-H31)+1) -> 16 | K31: =+SUM(CB31:EJ31)/SUM(Q31:BY31) -> 1 | M31: =25%/35 -> 0.0071428571 | N31: =+K31*M31 -> 0.0071428571 | Q31: =+IF((AND(IF(Q$9>=$H31,TRUE,FALSE),IF(Q$9<=$I31,TRUE,FALSE)))=TRUE,1,"") | R31: =+IF((AND(IF(R$9>=$H31,TRUE,FALSE),IF(R$9<=$I31,TRUE,FALSE)))=TRUE,1,"") | S31: =+IF((AND(IF(S$9>=$H31,TRUE,FALSE),IF(S$9<=$I31,TRUE,FALSE)))=TRUE,1,"") | T31: =+IF((AND(IF(T$9>=$H31,TRUE,FALSE),IF(T$9<=$I31,TRUE,FALSE)))=TRUE,1,"") | U31: =+IF((AND(IF(U$9>=$H31,TRUE,FALSE),IF(U$9<=$I31,TRUE,FALSE)))=TRUE,1,"") | V31: =+IF((AND(IF(V$9>=$H31,TRUE,FALSE),IF(V$9<=$I31,TRUE,FALSE)))=TRUE,1,"") | W31: =+IF((AND(IF(W$9>=$H31,TRUE,FALSE),IF(W$9<=$I31,TRUE,FALSE)))=TRUE,1,"") | X31: =+IF((AND(IF(X$9>=$H31,TRUE,FALSE),IF(X$9<=$I31,TRUE,FALSE)))=TRUE,1,"") | ... BY31: =+IF((AND(IF(BY$9>=$H31,TRUE,FALSE),IF(BY$9<=$I31,TRUE,FALSE)))=TRUE,1,"") | CQ31: 1 | CR31: 1 | CS31: 1 | CT31: 1 | CU31: 1 | CV31: 1 | CW31: 1 | CX31: 1 | CY31: 1 | CZ31: 1 | DA31: 1 | DB31: 1 | DC31: 1 | DD31: 1 | DE31: 1 | DF31: 1 | EW31: =+IFERROR(M31/J31,0) -> 0.00044642857
C32: 1.4.2 | D32: Organización (Organigrama de Proyecto) | E32: Aplica | F32: Pablo Paredes | G32: Encargado de Calidad | H32: 45106 | I32: 45121 | J32: =+IF(H32="","",(I32-H32)+1) -> 16 | K32: =+SUM(CB32:EJ32)/SUM(Q32:BY32) -> 1 | M32: =25%/35 -> 0.0071428571 | N32: =+K32*M32 -> 0.0071428571 | Q32: =+IF((AND(IF(Q$9>=$H32,TRUE,FALSE),IF(Q$9<=$I32,TRUE,FALSE)))=TRUE,1,"") | R32: =+IF((AND(IF(R$9>=$H32,TRUE,FALSE),IF(R$9<=$I32,TRUE,FALSE)))=TRUE,1,"") | S32: =+IF((AND(IF(S$9>=$H32,TRUE,FALSE),IF(S$9<=$I32,TRUE,FALSE)))=TRUE,1,"") | T32: =+IF((AND(IF(T$9>=$H32,TRUE,FALSE),IF(T$9<=$I32,TRUE,FALSE)))=TRUE,1,"") | U32: =+IF((AND(IF(U$9>=$H32,TRUE,FALSE),IF(U$9<=$I32,TRUE,FALSE)))=TRUE,1,"") | V32: =+IF((AND(IF(V$9>=$H32,TRUE,FALSE),IF(V$9<=$I32,TRUE,FALSE)))=TRUE,1,"") | W32: =+IF((AND(IF(W$9>=$H32,TRUE,FALSE),IF(W$9<=$I32,TRUE,FALSE)))=TRUE,1,"") | X32: =+IF((AND(IF(X$9>=$H32,TRUE,FALSE),IF(X$9<=$I32,TRUE,FALSE)))=TRUE,1,"") | ... BY32: =+IF((AND(IF(BY$9>=$H32,TRUE,FALSE),IF(BY$9<=$I32,TRUE,FALSE)))=TRUE,1,"") | CQ32: 1 | CR32: 1 | CS32: 1 | CT32: 1 | CU32: 1 | CV32: 1 | CW32: 1 | CX32: 1 | CY32: 1 | CZ32: 1 | DA32: 1 | DB32: 1 | DC32: 1 | DD32: 1 | DE32: 1 | DF32: 1 | EW32: =+IFERROR(M32/J32,0) -> 0.00044642857
C33: 1.4.3 | D33: Procedimientos de Gestión | E33: Aplica | F33: Pablo Paredes | G33: Encargado de Calidad | H33: 45106 | I33: 45121 | J33: =+IF(H33="","",(I33-H33)+1) -> 16 | K33: =+SUM(CB33:EJ33)/SUM(Q33:BY33) -> 1 | M33: =25%/35 -> 0.0071428571 | N33: =+K33*M33 -> 0.0071428571 | Q33: =+IF((AND(IF(Q$9>=$H33,TRUE,FALSE),IF(Q$9<=$I33,TRUE,FALSE)))=TRUE,1,"") | R33: =+IF((AND(IF(R$9>=$H33,TRUE,FALSE),IF(R$9<=$I33,TRUE,FALSE)))=TRUE,1,"") | S33: =+IF((AND(IF(S$9>=$H33,TRUE,FALSE),IF(S$9<=$I33,TRUE,FALSE)))=TRUE,1,"") | T33: =+IF((AND(IF(T$9>=$H33,TRUE,FALSE),IF(T$9<=$I33,TRUE,FALSE)))=TRUE,1,"") | U33: =+IF((AND(IF(U$9>=$H33,TRUE,FALSE),IF(U$9<=$I33,TRUE,FALSE)))=TRUE,1,"") | V33: =+IF((AND(IF(V$9>=$H33,TRUE,FALSE),IF(V$9<=$I33,TRUE,FALSE)))=TRUE,1,"") | W33: =+IF((AND(IF(W$9>=$H33,TRUE,FALSE),IF(W$9<=$I33,TRUE,FALSE)))=TRUE,1,"") | X33: =+IF((AND(IF(X$9>=$H33,TRUE,FALSE),IF(X$9<=$I33,TRUE,FALSE)))=TRUE,1,"") | ... BY33: =+IF((AND(IF(BY$9>=$H33,TRUE,FALSE),IF(BY$9<=$I33,TRUE,FALSE)))=TRUE,1,"") | CQ33: 1 | CR33: 1 | CS33: 1 | CT33: 1 | CU33: 1 | CV33: 1 | CW33: 1 | CX33: 1 | CY33: 1 | CZ33: 1 | DA33: 1 | DB33: 1 | DC33: 1 | DD33: 1 | DE33: 1 | DF33: 1 | EW33: =+IFERROR(M33/J33,0) -> 0.00044642857
C34: 1.4.4 | D34: Procedimientos de Operación | E34: Aplica | F34: Pablo Paredes | G34: Encargado de Calidad | H34: 45106 | I34: 45121 | J34: =+IF(H34="","",(I34-H34)+1) -> 16 | K34: =+SUM(CB34:EJ34)/SUM(Q34:BY34) -> 1 | M34: =25%/35 -> 0.0071428571 | N34: =+K34*M34 -> 0.0071428571 | Q34: =+IF((AND(IF(Q$9>=$H34,TRUE,FALSE),IF(Q$9<=$I34,TRUE,FALSE)))=TRUE,1,"") | R34: =+IF((AND(IF(R$9>=$H34,TRUE,FALSE),IF(R$9<=$I34,TRUE,FALSE)))=TRUE,1,"") | S34: =+IF((AND(IF(S$9>=$H34,TRUE,FALSE),IF(S$9<=$I34,TRUE,FALSE)))=TRUE,1,"") | T34: =+IF((AND(IF(T$9>=$H34,TRUE,FALSE),IF(T$9<=$I34,TRUE,FALSE)))=TRUE,1,"") | U34: =+IF((AND(IF(U$9>=$H34,TRUE,FALSE),IF(U$9<=$I34,TRUE,FALSE)))=TRUE,1,"") | V34: =+IF((AND(IF(V$9>=$H34,TRUE,FALSE),IF(V$9<=$I34,TRUE,FALSE)))=TRUE,1,"") | W34: =+IF((AND(IF(W$9>=$H34,TRUE,FALSE),IF(W$9<=$I34,TRUE,FALSE)))=TRUE,1,"") | X34: =+IF((AND(IF(X$9>=$H34,TRUE,FALSE),IF(X$9<=$I34,TRUE,FALSE)))=TRUE,1,"") | ... BY34: =+IF((AND(IF(BY$9>=$H34,TRUE,FALSE),IF(BY$9<=$I34,TRUE,FALSE)))=TRUE,1,"") | CQ34: 1 | CR34: 1 | CS34: 1 | CT34: 1 | CU34: 1 | CV34: 1 | CW34: 1 | CX34: 1 | CY34: 1 | CZ34: 1 | DA34: 1 | DB34: 1 | DC34: 1 | DD34: 1 | DE34: 1 | DF34: 1 | EW34: =+IFERROR(M34/J34,0) -> 0.00044642857
C35: 1.4.5 | D35: Plan de inspección y ensayo | E35: Aplica | F35: Pablo Paredes | G35: Encargado de Calidad | H35: 45106 | I35: 45121 | J35: =+IF(H35="","",(I35-H35)+1) -> 16 | K35: =+SUM(CB35:EJ35)/SUM(Q35:BY35) -> 1 | M35: =25%/35 -> 0.0071428571 | N35: =+K35*M35 -> 0.0071428571 | Q35: =+IF((AND(IF(Q$9>=$H35,TRUE,FALSE),IF(Q$9<=$I35,TRUE,FALSE)))=TRUE,1,"") | R35: =+IF((AND(IF(R$9>=$H35,TRUE,FALSE),IF(R$9<=$I35,TRUE,FALSE)))=TRUE,1,"") | S35: =+IF((AND(IF(S$9>=$H35,TRUE,FALSE),IF(S$9<=$I35,TRUE,FALSE)))=TRUE,1,"") | T35: =+IF((AND(IF(T$9>=$H35,TRUE,FALSE),IF(T$9<=$I35,TRUE,FALSE)))=TRUE,1,"") | U35: =+IF((AND(IF(U$9>=$H35,TRUE,FALSE),IF(U$9<=$I35,TRUE,FALSE)))=TRUE,1,"") | V35: =+IF((AND(IF(V$9>=$H35,TRUE,FALSE),IF(V$9<=$I35,TRUE,FALSE)))=TRUE,1,"") | W35: =+IF((AND(IF(W$9>=$H35,TRUE,FALSE),IF(W$9<=$I35,TRUE,FALSE)))=TRUE,1,"") | X35: =+IF((AND(IF(X$9>=$H35,TRUE,FALSE),IF(X$9<=$I35,TRUE,FALSE)))=TRUE,1,"") | ... BY35: =+IF((AND(IF(BY$9>=$H35,TRUE,FALSE),IF(BY$9<=$I35,TRUE,FALSE)))=TRUE,1,"") | CQ35: 1 | CR35: 1 | CS35: 1 | CT35: 1 | CU35: 1 | CV35: 1 | CW35: 1 | CX35: 1 | CY35: 1 | CZ35: 1 | DA35: 1 | DB35: 1 | DC35: 1 | DD35: 1 | DE35: 1 | DF35: 1 | EW35: =+IFERROR(M35/J35,0) -> 0.00044642857
C36: 1.4.6 | D36: Validación de Planta de hormigones | E36: Aplica | F36: Pablo Paredes | G36: Encargado de Calidad | H36: 45106 | I36: 45121 | J36: =+IF(H36="","",(I36-H36)+1) -> 16 | K36: =+SUM(CB36:EJ36)/SUM(Q36:BY36) -> 1 | M36: =25%/35 -> 0.0071428571 | N36: =+K36*M36 -> 0.0071428571 | Q36: =+IF((AND(IF(Q$9>=$H36,TRUE,FALSE),IF(Q$9<=$I36,TRUE,FALSE)))=TRUE,1,"") | R36: =+IF((AND(IF(R$9>=$H36,TRUE,FALSE),IF(R$9<=$I36,TRUE,FALSE)))=TRUE,1,"") | S36: =+IF((AND(IF(S$9>=$H36,TRUE,FALSE),IF(S$9<=$I36,TRUE,FALSE)))=TRUE,1,"") | T36: =+IF((AND(IF(T$9>=$H36,TRUE,FALSE),IF(T$9<=$I36,TRUE,FALSE)))=TRUE,1,"") | U36: =+IF((AND(IF(U$9>=$H36,TRUE,FALSE),IF(U$9<=$I36,TRUE,FALSE)))=TRUE,1,"") | V36: =+IF((AND(IF(V$9>=$H36,TRUE,FALSE),IF(V$9<=$I36,TRUE,FALSE)))=TRUE,1,"") | W36: =+IF((AND(IF(W$9>=$H36,TRUE,FALSE),IF(W$9<=$I36,TRUE,FALSE)))=TRUE,1,"") | X36: =+IF((AND(IF(X$9>=$H36,TRUE,FALSE),IF(X$9<=$I36,TRUE,FALSE)))=TRUE,1,"") | ... BY36: =+IF((AND(IF(BY$9>=$H36,TRUE,FALSE),IF(BY$9<=$I36,TRUE,FALSE)))=TRUE,1,"") | CQ36: 1 | CR36: 1 | CS36: 1 | CT36: 1 | CU36: 1 | CV36: 1 | CW36: 1 | CX36: 1 | CY36: 1 | CZ36: 1 | DA36: 1 | DB36: 1 | DC36: 1 | DD36: 1 | DE36: 1 | DF36: 1 | EW36: =+IFERROR(M36/J36,0) -> 0.00044642857
C37: 1.4.7 | D37: Validación de Calificación de Soldadores | E37: Aplica | F37: Pablo Paredes | G37: Encargado de Calidad | H37: 45106 | I37: 45121 | J37: =+IF(H37="","",(I37-H37)+1) -> 16 | K37: =+SUM(CB37:EJ37)/SUM(Q37:BY37) -> 1 | M37: =25%/35 -> 0.0071428571 | N37: =+K37*M37 -> 0.0071428571 | Q37: =+IF((AND(IF(Q$9>=$H37,TRUE,FALSE),IF(Q$9<=$I37,TRUE,FALSE)))=TRUE,1,"") | R37: =+IF((AND(IF(R$9>=$H37,TRUE,FALSE),IF(R$9<=$I37,TRUE,FALSE)))=TRUE,1,"") | S37: =+IF((AND(IF(S$9>=$H37,TRUE,FALSE),IF(S$9<=$I37,TRUE,FALSE)))=TRUE,1,"") | T37: =+IF((AND(IF(T$9>=$H37,TRUE,FALSE),IF(T$9<=$I37,TRUE,FALSE)))=TRUE,1,"") | U37: =+IF((AND(IF(U$9>=$H37,TRUE,FALSE),IF(U$9<=$I37,TRUE,FALSE)))=TRUE,1,"") | V37: =+IF((AND(IF(V$9>=$H37,TRUE,FALSE),IF(V$9<=$I37,TRUE,FALSE)))=TRUE,1,"") | W37: =+IF((AND(IF(W$9>=$H37,TRUE,FALSE),IF(W$9<=$I37,TRUE,FALSE)))=TRUE,1,"") | X37: =+IF((AND(IF(X$9>=$H37,TRUE,FALSE),IF(X$9<=$I37,TRUE,FALSE)))=TRUE,1,"") | ... BY37: =+IF((AND(IF(BY$9>=$H37,TRUE,FALSE),IF(BY$9<=$I37,TRUE,FALSE)))=TRUE,1,"") | CQ37: 1 | CR37: 1 | CS37: 1 | CT37: 1 | CU37: 1 | CV37: 1 | CW37: 1 | CX37: 1 | CY37: 1 | CZ37: 1 | DA37: 1 | DB37: 1 | DC37: 1 | DD37: 1 | DE37: 1 | DF37: 1 | EW37: =+IFERROR(M37/J37,0) -> 0.00044642857
C38: 1.4.8 | D38: Servicio de Laboratorio | E38: Aplica | F38: Pablo Paredes | G38: Encargado de Calidad | H38: 45106 | I38: 45121 | J38: =+IF(H38="","",(I38-H38)+1) -> 16 | K38: =+SUM(CB38:EJ38)/SUM(Q38:BY38) -> 1 | M38: =25%/35 -> 0.0071428571 | N38: =+K38*M38 -> 0.0071428571 | Q38: =+IF((AND(IF(Q$9>=$H38,TRUE,FALSE),IF(Q$9<=$I38,TRUE,FALSE)))=TRUE,1,"") | R38: =+IF((AND(IF(R$9>=$H38,TRUE,FALSE),IF(R$9<=$I38,TRUE,FALSE)))=TRUE,1,"") | S38: =+IF((AND(IF(S$9>=$H38,TRUE,FALSE),IF(S$9<=$I38,TRUE,FALSE)))=TRUE,1,"") | T38: =+IF((AND(IF(T$9>=$H38,TRUE,FALSE),IF(T$9<=$I38,TRUE,FALSE)))=TRUE,1,"") | U38: =+IF((AND(IF(U$9>=$H38,TRUE,FALSE),IF(U$9<=$I38,TRUE,FALSE)))=TRUE,1,"") | V38: =+IF((AND(IF(V$9>=$H38,TRUE,FALSE),IF(V$9<=$I38,TRUE,FALSE)))=TRUE,1,"") | W38: =+IF((AND(IF(W$9>=$H38,TRUE,FALSE),IF(W$9<=$I38,TRUE,FALSE)))=TRUE,1,"") | X38: =+IF((AND(IF(X$9>=$H38,TRUE,FALSE),IF(X$9<=$I38,TRUE,FALSE)))=TRUE,1,"") | ... BY38: =+IF((AND(IF(BY$9>=$H38,TRUE,FALSE),IF(BY$9<=$I38,TRUE,FALSE)))=TRUE,1,"") | CQ38: 1 | CR38: 1 | CS38: 1 | CT38: 1 | CU38: 1 | CV38: 1 | CW38: 1 | CX38: 1 | CY38: 1 | CZ38: 1 | DA38: 1 | DB38: 1 | DC38: 1 | DD38: 1 | DE38: 1 | DF38: 1 | EW38: =+IFERROR(M38/J38,0) -> 0.00044642857
B39: 1 | C39: 1.5 | D39: Sustentabilidad | EW39: =+IFERROR(M39/J39,0) -> 0
C40: 1.5.1 | D40: Políticas sobre Medio Ambiente | E40: Aplica | F40: Gonzalo Castro | G40: Encargado Seguridad | H40: 45106 | I40: 45116 | J40: =+IF(H40="","",(I40-H40)+1) -> 11 | K40: =+SUM(CB40:EJ40)/SUM(Q40:BY40) -> 1 | M40: =25%/35 -> 0.0071428571 | N40: =+K40*M40 -> 0.0071428571 | Q40: =+IF((AND(IF(Q$9>=$H40,TRUE,FALSE),IF(Q$9<=$I40,TRUE,FALSE)))=TRUE,1,"") | R40: =+IF((AND(IF(R$9>=$H40,TRUE,FALSE),IF(R$9<=$I40,TRUE,FALSE)))=TRUE,1,"") | S40: =+IF((AND(IF(S$9>=$H40,TRUE,FALSE),IF(S$9<=$I40,TRUE,FALSE)))=TRUE,1,"") | T40: =+IF((AND(IF(T$9>=$H40,TRUE,FALSE),IF(T$9<=$I40,TRUE,FALSE)))=TRUE,1,"") | U40: =+IF((AND(IF(U$9>=$H40,TRUE,FALSE),IF(U$9<=$I40,TRUE,FALSE)))=TRUE,1,"") | V40: =+IF((AND(IF(V$9>=$H40,TRUE,FALSE),IF(V$9<=$I40,TRUE,FALSE)))=TRUE,1,"") | W40: =+IF((AND(IF(W$9>=$H40,TRUE,FALSE),IF(W$9<=$I40,TRUE,FALSE)))=TRUE,1,"") | X40: =+IF((AND(IF(X$9>=$H40,TRUE,FALSE),IF(X$9<=$I40,TRUE,FALSE)))=TRUE,1,"") | ... BY40: =+IF((AND(IF(BY$9>=$H40,TRUE,FALSE),IF(BY$9<=$I40,TRUE,FALSE)))=TRUE,1,"") | CV40: 1 | CW40: 1 | CX40: 1 | CY40: 1 | CZ40: 1 | DA40: 1 | DB40: 1 | DC40: 1 | DD40: 1 | DE40: 1 | DF40: 1 | EW40: =+IFERROR(M40/J40,0) -> 0.00064935065
C41: 1.5.2 | D41: Programa de Protección del Medio Ambiente | E41: Aplica | F41: Gonzalo Castro | G41: Encargado Seguridad | H41: 45106 | I41: 45116 | J41: =+IF(H41="","",(I41-H41)+1) -> 11 | K41: =+SUM(CB41:EJ41)/SUM(Q41:BY41) -> 1 | M41: =25%/35 -> 0.0071428571 | N41: =+K41*M41 -> 0.0071428571 | Q41: =+IF((AND(IF(Q$9>=$H41,TRUE,FALSE),IF(Q$9<=$I41,TRUE,FALSE)))=TRUE,1,"") | R41: =+IF((AND(IF(R$9>=$H41,TRUE,FALSE),IF(R$9<=$I41,TRUE,FALSE)))=TRUE,1,"") | S41: =+IF((AND(IF(S$9>=$H41,TRUE,FALSE),IF(S$9<=$I41,TRUE,FALSE)))=TRUE,1,"") | T41: =+IF((AND(IF(T$9>=$H41,TRUE,FALSE),IF(T$9<=$I41,TRUE,FALSE)))=TRUE,1,"") | U41: =+IF((AND(IF(U$9>=$H41,TRUE,FALSE),IF(U$9<=$I41,TRUE,FALSE)))=TRUE,1,"") | V41: =+IF((AND(IF(V$9>=$H41,TRUE,FALSE),IF(V$9<=$I41,TRUE,FALSE)))=TRUE,1,"") | W41: =+IF((AND(IF(W$9>=$H41,TRUE,FALSE),IF(W$9<=$I41,TRUE,FALSE)))=TRUE,1,"") | X41: =+IF((AND(IF(X$9>=$H41,TRUE,FALSE),IF(X$9<=$I41,TRUE,FALSE)))=TRUE,1,"") | ... BY41: =+IF((AND(IF(BY$9>=$H41,TRUE,FALSE),IF(BY$9<=$I41,TRUE,FALSE)))=TRUE,1,"") | CV41: 1 | CW41: 1 | CX41: 1 | CY41: 1 | CZ41: 1 | DA41: 1 | DB41: 1 | DC41: 1 | DD41: 1 | DE41: 1 | DF41: 1 | EW41: =+IFERROR(M41/J41,0) -> 0.00064935065
C42: 1.5.3 | D42: Generación y control de desechos peligrosos | E42: Aplica | F42: Gonzalo Castro | G42: Encargado Seguridad | H42: 45106 | I42: 45116 | J42: =+IF(H42="","",(I42-H42)+1) -> 11 | K42: =+SUM(CB42:EJ42)/SUM(Q42:BY42) -> 1 | M42: =25%/35 -> 0.0071428571 | N42: =+K42*M42 -> 0.0071428571 | Q42: =+IF((AND(IF(Q$9>=$H42,TRUE,FALSE),IF(Q$9<=$I42,TRUE,FALSE)))=TRUE,1,"") | R42: =+IF((AND(IF(R$9>=$H42,TRUE,FALSE),IF(R$9<=$I42,TRUE,FALSE)))=TRUE,1,"") | S42: =+IF((AND(IF(S$9>=$H42,TRUE,FALSE),IF(S$9<=$I42,TRUE,FALSE)))=TRUE,1,"") | T42: =+IF((AND(IF(T$9>=$H42,TRUE,FALSE),IF(T$9<=$I42,TRUE,FALSE)))=TRUE,1,"") | U42: =+IF((AND(IF(U$9>=$H42,TRUE,FALSE),IF(U$9<=$I42,TRUE,FALSE)))=TRUE,1,"") | V42: =+IF((AND(IF(V$9>=$H42,TRUE,FALSE),IF(V$9<=$I42,TRUE,FALSE)))=TRUE,1,"") | W42: =+IF((AND(IF(W$9>=$H42,TRUE,FALSE),IF(W$9<=$I42,TRUE,FALSE)))=TRUE,1,"") | X42: =+IF((AND(IF(X$9>=$H42,TRUE,FALSE),IF(X$9<=$I42,TRUE,FALSE)))=TRUE,1,"") | ... BY42: =+IF((AND(IF(BY$9>=$H42,TRUE,FALSE),IF(BY$9<=$I42,TRUE,FALSE)))=TRUE,1,"") | CV42: 1 | CW42: 1 | CX42: 1 | CY42: 1 | CZ42: 1 | DA42: 1 | DB42: 1 | DC42: 1 | DD42: 1 | DE42: 1 | DF42: 1 | EW42: =+IFERROR(M42/J42,0) -> 0.00064935065
C43: 1.5.4 | D43: Programas de Monitoreo | E43: Aplica | F43: Gonzalo Castro | G43: Encargado Seguridad | H43: 45106 | I43: 45116 | J43: =+IF(H43="","",(I43-H43)+1) -> 11 | K43: =+SUM(CB43:EJ43)/SUM(Q43:BY43) -> 1 | M43: =25%/35 -> 0.0071428571 | N43: =+K43*M43 -> 0.0071428571 | Q43: =+IF((AND(IF(Q$9>=$H43,TRUE,FALSE),IF(Q$9<=$I43,TRUE,FALSE)))=TRUE,1,"") | R43: =+IF((AND(IF(R$9>=$H43,TRUE,FALSE),IF(R$9<=$I43,TRUE,FALSE)))=TRUE,1,"") | S43: =+IF((AND(IF(S$9>=$H43,TRUE,FALSE),IF(S$9<=$I43,TRUE,FALSE)))=TRUE,1,"") | T43: =+IF((AND(IF(T$9>=$H43,TRUE,FALSE),IF(T$9<=$I43,TRUE,FALSE)))=TRUE,1,"") | U43: =+IF((AND(IF(U$9>=$H43,TRUE,FALSE),IF(U$9<=$I43,TRUE,FALSE)))=TRUE,1,"") | V43: =+IF((AND(IF(V$9>=$H43,TRUE,FALSE),IF(V$9<=$I43,TRUE,FALSE)))=TRUE,1,"") | W43: =+IF((AND(IF(W$9>=$H43,TRUE,FALSE),IF(W$9<=$I43,TRUE,FALSE)))=TRUE,1,"") | X43: =+IF((AND(IF(X$9>=$H43,TRUE,FALSE),IF(X$9<=$I43,TRUE,FALSE)))=TRUE,1,"") | ... BY43: =+IF((AND(IF(BY$9>=$H43,TRUE,FALSE),IF(BY$9<=$I43,TRUE,FALSE)))=TRUE,1,"") | CV43: 1 | CW43: 1 | CX43: 1 | CY43: 1 | CZ43: 1 | DA43: 1 | DB43: 1 | DC43: 1 | DD43: 1 | DE43: 1 | DF43: 1 | EW43: =+IFERROR(M43/J43,0) -> 0.00064935065
B44: 1 | C44: 1.6 | D44: Seguridad | EW44: =+IFERROR(M44/J44,0) -> 0
C45: 1.6.1 | D45: Aviso de Inicio de Actividades Servicio de Salud | E45: Aplica | F45: Nicolás Valenzuela | G45: Jefe Seguridad | H45: 45067 | I45: 45106 | J45: =+IF(H45="","",(I45-H45)+1) -> 40 | K45: =+SUM(CB45:EJ45)/SUM(Q45:BY45) -> 0.775 | M45: =25%/35 -> 0.0071428571 | N45: =+K45*M45 -> 0.0055357143 | Q45: =+IF((AND(IF(Q$9>=$H45,TRUE,FALSE),IF(Q$9<=$I45,TRUE,FALSE)))=TRUE,1,"") -> 1 | R45: =+IF((AND(IF(R$9>=$H45,TRUE,FALSE),IF(R$9<=$I45,TRUE,FALSE)))=TRUE,1,"") -> 1 | S45: =+IF((AND(IF(S$9>=$H45,TRUE,FALSE),IF(S$9<=$I45,TRUE,FALSE)))=TRUE,1,"") -> 1 | T45: =+IF((AND(IF(T$9>=$H45,TRUE,FALSE),IF(T$9<=$I45,TRUE,FALSE)))=TRUE,1,"") -> 1 | U45: =+IF((AND(IF(U$9>=$H45,TRUE,FALSE),IF(U$9<=$I45,TRUE,FALSE)))=TRUE,1,"") -> 1 | V45: =+IF((AND(IF(V$9>=$H45,TRUE,FALSE),IF(V$9<=$I45,TRUE,FALSE)))=TRUE,1,"") -> 1 | W45: =+IF((AND(IF(W$9>=$H45,TRUE,FALSE),IF(W$9<=$I45,TRUE,FALSE)))=TRUE,1,"") -> 1 | X45: =+IF((AND(IF(X$9>=$H45,TRUE,FALSE),IF(X$9<=$I45,TRUE,FALSE)))=TRUE,1,"") -> 1 | ... BY45: =+IF((AND(IF(BY$9>=$H45,TRUE,FALSE),IF(BY$9<=$I45,TRUE,FALSE)))=TRUE,1,"") | CB45: 1 | CC45: 1 | CD45: 1 | CE45: 1 | CF45: 1 | CG45: 1 | CH45: 1 | CI45: 1 | CJ45: 1 | CK45: 1 | CL45: 1 | CM45: 1 | CN45: 1 | CO45: 1 | CP45: 1 | CQ45: 1 | CR45: 1 | CS45: 1 | CT45: 1 | CU45: 1 | CV45: 1 | CW45: 1 | CX45: 1 | CY45: 1 | CZ45: 1 | DA45: 1 | DB45: 1 | DC45: 1 | DD45: 1 | DE45: 1 | DF45: 1 | EW45: =+IFERROR(M45/J45,0) -> 0.00017857143
C46: 1.6.2 | D46: Tramitación de jornada especial de trabajo ante la DT | E46: Aplica | F46: Nicolás Valenzuela | G46: Jefe Seguridad | H46: 45067 | I46: 45106 | J46: =+IF(H46="","",(I46-H46)+1) -> 40 | K46: =+SUM(CB46:EJ46)/SUM(Q46:BY46) -> 0.775 | M46: =25%/35 -> 0.0071428571 | N46: =+K46*M46 -> 0.0055357143 | Q46: =+IF((AND(IF(Q$9>=$H46,TRUE,FALSE),IF(Q$9<=$I46,TRUE,FALSE)))=TRUE,1,"") -> 1 | R46: =+IF((AND(IF(R$9>=$H46,TRUE,FALSE),IF(R$9<=$I46,TRUE,FALSE)))=TRUE,1,"") -> 1 | S46: =+IF((AND(IF(S$9>=$H46,TRUE,FALSE),IF(S$9<=$I46,TRUE,FALSE)))=TRUE,1,"") -> 1 | T46: =+IF((AND(IF(T$9>=$H46,TRUE,FALSE),IF(T$9<=$I46,TRUE,FALSE)))=TRUE,1,"") -> 1 | U46: =+IF((AND(IF(U$9>=$H46,TRUE,FALSE),IF(U$9<=$I46,TRUE,FALSE)))=TRUE,1,"") -> 1 | V46: =+IF((AND(IF(V$9>=$H46,TRUE,FALSE),IF(V$9<=$I46,TRUE,FALSE)))=TRUE,1,"") -> 1 | W46: =+IF((AND(IF(W$9>=$H46,TRUE,FALSE),IF(W$9<=$I46,TRUE,FALSE)))=TRUE,1,"") -> 1 | X46: =+IF((AND(IF(X$9>=$H46,TRUE,FALSE),IF(X$9<=$I46,TRUE,FALSE)))=TRUE,1,"") -> 1 | ... BY46: =+IF((AND(IF(BY$9>=$H46,TRUE,FALSE),IF(BY$9<=$I46,TRUE,FALSE)))=TRUE,1,"") | CB46: 1 | CC46: 1 | CD46: 1 | CE46: 1 | CF46: 1 | CG46: 1 | CH46: 1 | CI46: 1 | CJ46: 1 | CK46: 1 | CL46: 1 | CM46: 1 | CN46: 1 | CO46: 1 | CP46: 1 | CQ46: 1 | CR46: 1 | CS46: 1 | CT46: 1 | CU46: 1 | CV46: 1 | CW46: 1 | CX46: 1 | CY46: 1 | CZ46: 1 | DA46: 1 | DB46: 1 | DC46: 1 | DD46: 1 | DE46: 1 | DF46: 1 | EW46: =+IFERROR(M46/J46,0) -> 0.00017857143
C47: 1.6.3 | D47: Normas de Seguridad, Salud y Medio Ambiente. | E47: Aplica | F47: Nicolás Valenzuela | G47: Jefe Seguridad | H47: 45067 | I47: 45106 | J47: =+IF(H47="","",(I47-H47)+1) -> 40 | K47: =+SUM(CB47:EJ47)/SUM(Q47:BY47) -> 0.775 | M47: =25%/35 -> 0.0071428571 | N47: =+K47*M47 -> 0.0055357143 | Q47: =+IF((AND(IF(Q$9>=$H47,TRUE,FALSE),IF(Q$9<=$I47,TRUE,FALSE)))=TRUE,1,"") -> 1 | R47: =+IF((AND(IF(R$9>=$H47,TRUE,FALSE),IF(R$9<=$I47,TRUE,FALSE)))=TRUE,1,"") -> 1 | S47: =+IF((AND(IF(S$9>=$H47,TRUE,FALSE),IF(S$9<=$I47,TRUE,FALSE)))=TRUE,1,"") -> 1 | T47: =+IF((AND(IF(T$9>=$H47,TRUE,FALSE),IF(T$9<=$I47,TRUE,FALSE)))=TRUE,1,"") -> 1 | U47: =+IF((AND(IF(U$9>=$H47,TRUE,FALSE),IF(U$9<=$I47,TRUE,FALSE)))=TRUE,1,"") -> 1 | V47: =+IF((AND(IF(V$9>=$H47,TRUE,FALSE),IF(V$9<=$I47,TRUE,FALSE)))=TRUE,1,"") -> 1 | W47: =+IF((AND(IF(W$9>=$H47,TRUE,FALSE),IF(W$9<=$I47,TRUE,FALSE)))=TRUE,1,"") -> 1 | X47: =+IF((AND(IF(X$9>=$H47,TRUE,FALSE),IF(X$9<=$I47,TRUE,FALSE)))=TRUE,1,"") -> 1 | ... BY47: =+IF((AND(IF(BY$9>=$H47,TRUE,FALSE),IF(BY$9<=$I47,TRUE,FALSE)))=TRUE,1,"") | CB47: 1 | CC47: 1 | CD47: 1 | CE47: 1 | CF47: 1 | CG47: 1 | CH47: 1 | CI47: 1 | CJ47: 1 | CK47: 1 | CL47: 1 | CM47: 1 | CN47: 1 | CO47: 1 | CP47: 1 | CQ47: 1 | CR47: 1 | CS47: 1 | CT47: 1 | CU47: 1 | CV47: 1 | CW47: 1 | CX47: 1 | CY47: 1 | CZ47: 1 | DA47: 1 | DB47: 1 | DC47: 1 | DD47: 1 | DE47: 1 | DF47: 1 | EW47: =+IFERROR(M47/J47,0) -> 0.00017857143
C48: 1.6.4 | D48: Programa de Seguridad y Prevención de Riesgos. | E48: Aplica | F48: Nicolás Valenzuela | G48: Jefe Seguridad | H48: 45067 | I48: 45106 | J48: =+IF(H48="","",(I48-H48)+1) -> 40 | K48: =+SUM(CB48:EJ48)/SUM(Q48:BY48) -> 0.775 | M48: =25%/35 -> 0.0071428571 | N48: =+K48*M48 -> 0.0055357143 | Q48: =+IF((AND(IF(Q$9>=$H48,TRUE,FALSE),IF(Q$9<=$I48,TRUE,FALSE)))=TRUE,1,"") -> 1 | R48: =+IF((AND(IF(R$9>=$H48,TRUE,FALSE),IF(R$9<=$I48,TRUE,FALSE)))=TRUE,1,"") -> 1 | S48: =+IF((AND(IF(S$9>=$H48,TRUE,FALSE),IF(S$9<=$I48,TRUE,FALSE)))=TRUE,1,"") -> 1 | T48: =+IF((AND(IF(T$9>=$H48,TRUE,FALSE),IF(T$9<=$I48,TRUE,FALSE)))=TRUE,1,"") -> 1 | U48: =+IF((AND(IF(U$9>=$H48,TRUE,FALSE),IF(U$9<=$I48,TRUE,FALSE)))=TRUE,1,"") -> 1 | V48: =+IF((AND(IF(V$9>=$H48,TRUE,FALSE),IF(V$9<=$I48,TRUE,FALSE)))=TRUE,1,"") -> 1 | W48: =+IF((AND(IF(W$9>=$H48,TRUE,FALSE),IF(W$9<=$I48,TRUE,FALSE)))=TRUE,1,"") -> 1 | X48: =+IF((AND(IF(X$9>=$H48,TRUE,FALSE),IF(X$9<=$I48,TRUE,FALSE)))=TRUE,1,"") -> 1 | ... BY48: =+IF((AND(IF(BY$9>=$H48,TRUE,FALSE),IF(BY$9<=$I48,TRUE,FALSE)))=TRUE,1,"") | CB48: 1 | CC48: 1 | CD48: 1 | CE48: 1 | CF48: 1 | CG48: 1 | CH48: 1 | CI48: 1 | CJ48: 1 | CK48: 1 | CL48: 1 | CM48: 1 | CN48: 1 | CO48: 1 | CP48: 1 | CQ48: 1 | CR48: 1 | CS48: 1 | CT48: 1 | CU48: 1 | CV48: 1 | CW48: 1 | CX48: 1 | CY48: 1 | CZ48: 1 | DA48: 1 | DB48: 1 | DC48: 1 | DD48: 1 | DE48: 1 | DF48: 1 | EW48: =+IFERROR(M48/J48,0) -> 0.00017857143
C49: 1.6.5 | D49: Normas u obligaciones de Primeros Auxilios. | E49: Aplica | F49: Nicolás Valenzuela | G49: Jefe Seguridad | H49: 45067 | I49: 45106 | J49: =+IF(H49="","",(I49-H49)+1) -> 40 | K49: =+SUM(CB49:EJ49)/SUM(Q49:BY49) -> 0.775 | M49: =25%/35 -> 0.0071428571 | N49: =+P46*M49 -> 0 | Q49: =+IF((AND(IF(Q$9>=$H49,TRUE,FALSE),IF(Q$9<=$I49,TRUE,FALSE)))=TRUE,1,"") -> 1 | R49: =+IF((AND(IF(R$9>=$H49,TRUE,FALSE),IF(R$9<=$I49,TRUE,FALSE)))=TRUE,1,"") -> 1 | S49: =+IF((AND(IF(S$9>=$H49,TRUE,FALSE),IF(S$9<=$I49,TRUE,FALSE)))=TRUE,1,"") -> 1 | T49: =+IF((AND(IF(T$9>=$H49,TRUE,FALSE),IF(T$9<=$I49,TRUE,FALSE)))=TRUE,1,"") -> 1 | U49: =+IF((AND(IF(U$9>=$H49,TRUE,FALSE),IF(U$9<=$I49,TRUE,FALSE)))=TRUE,1,"") -> 1 | V49: =+IF((AND(IF(V$9>=$H49,TRUE,FALSE),IF(V$9<=$I49,TRUE,FALSE)))=TRUE,1,"") -> 1 | W49: =+IF((AND(IF(W$9>=$H49,TRUE,FALSE),IF(W$9<=$I49,TRUE,FALSE)))=TRUE,1,"") -> 1 | X49: =+IF((AND(IF(X$9>=$H49,TRUE,FALSE),IF(X$9<=$I49,TRUE,FALSE)))=TRUE,1,"") -> 1 | ... BY49: =+IF((AND(IF(BY$9>=$H49,TRUE,FALSE),IF(BY$9<=$I49,TRUE,FALSE)))=TRUE,1,"") | CB49: 1 | CC49: 1 | CD49: 1 | CE49: 1 | CF49: 1 | CG49: 1 | CH49: 1 | CI49: 1 | CJ49: 1 | CK49: 1 | CL49: 1 | CM49: 1 | CN49: 1 | CO49: 1 | CP49: 1 | CQ49: 1 | CR49: 1 | CS49: 1 | CT49: 1 | CU49: 1 | CV49: 1 | CW49: 1 | CX49: 1 | CY49: 1 | CZ49: 1 | DA49: 1 | DB49: 1 | DC49: 1 | DD49: 1 | DE49: 1 | DF49: 1 | EW49: =+IFERROR(M49/J49,0) -> 0.00017857143
C50: 1.6.6 | D50: Prevención y Protección contra Incendios. | E50: Aplica | F50: Nicolás Valenzuela | G50: Jefe Seguridad | H50: 45067 | I50: 45106 | J50: =+IF(H50="","",(I50-H50)+1) -> 40 | K50: =+SUM(CB50:EJ50)/SUM(Q50:BY50) -> 0.775 | M50: =25%/35 -> 0.0071428571 | N50: =+K50*M50 -> 0.0055357143 | Q50: =+IF((AND(IF(Q$9>=$H50,TRUE,FALSE),IF(Q$9<=$I50,TRUE,FALSE)))=TRUE,1,"") -> 1 | R50: =+IF((AND(IF(R$9>=$H50,TRUE,FALSE),IF(R$9<=$I50,TRUE,FALSE)))=TRUE,1,"") -> 1 | S50: =+IF((AND(IF(S$9>=$H50,TRUE,FALSE),IF(S$9<=$I50,TRUE,FALSE)))=TRUE,1,"") -> 1 | T50: =+IF((AND(IF(T$9>=$H50,TRUE,FALSE),IF(T$9<=$I50,TRUE,FALSE)))=TRUE,1,"") -> 1 | U50: =+IF((AND(IF(U$9>=$H50,TRUE,FALSE),IF(U$9<=$I50,TRUE,FALSE)))=TRUE,1,"") -> 1 | V50: =+IF((AND(IF(V$9>=$H50,TRUE,FALSE),IF(V$9<=$I50,TRUE,FALSE)))=TRUE,1,"") -> 1 | W50: =+IF((AND(IF(W$9>=$H50,TRUE,FALSE),IF(W$9<=$I50,TRUE,FALSE)))=TRUE,1,"") -> 1 | X50: =+IF((AND(IF(X$9>=$H50,TRUE,FALSE),IF(X$9<=$I50,TRUE,FALSE)))=TRUE,1,"") -> 1 | ... BY50: =+IF((AND(IF(BY$9>=$H50,TRUE,FALSE),IF(BY$9<=$I50,TRUE,FALSE)))=TRUE,1,"") | CB50: 1 | CC50: 1 | CD50: 1 | CE50: 1 | CF50: 1 | CG50: 1 | CH50: 1 | CI50: 1 | CJ50: 1 | CK50: 1 | CL50: 1 | CM50: 1 | CN50: 1 | CO50: 1 | CP50: 1 | CQ50: 1 | CR50: 1 | CS50: 1 | CT50: 1 | CU50: 1 | CV50: 1 | CW50: 1 | CX50: 1 | CY50: 1 | CZ50: 1 | DA50: 1 | DB50: 1 | DC50: 1 | DD50: 1 | DE50: 1 | DF50: 1 | EW50: =+IFERROR(M50/J50,0) -> 0.00017857143
C51: 1.6.7 | D51: Normas de Higiene y Manejo de Instalaciones. . | E51: Aplica | F51: Nicolás Valenzuela | G51: Jefe Seguridad | H51: 45067 | I51: 45106 | J51: =+IF(H51="","",(I51-H51)+1) -> 40 | K51: =+SUM(CB51:EJ51)/SUM(Q51:BY51) -> 0.775 | M51: =25%/35 -> 0.0071428571 | N51: =+K51*M51 -> 0.0055357143 | Q51: =+IF((AND(IF(Q$9>=$H51,TRUE,FALSE),IF(Q$9<=$I51,TRUE,FALSE)))=TRUE,1,"") -> 1 | R51: =+IF((AND(IF(R$9>=$H51,TRUE,FALSE),IF(R$9<=$I51,TRUE,FALSE)))=TRUE,1,"") -> 1 | S51: =+IF((AND(IF(S$9>=$H51,TRUE,FALSE),IF(S$9<=$I51,TRUE,FALSE)))=TRUE,1,"") -> 1 | T51: =+IF((AND(IF(T$9>=$H51,TRUE,FALSE),IF(T$9<=$I51,TRUE,FALSE)))=TRUE,1,"") -> 1 | U51: =+IF((AND(IF(U$9>=$H51,TRUE,FALSE),IF(U$9<=$I51,TRUE,FALSE)))=TRUE,1,"") -> 1 | V51: =+IF((AND(IF(V$9>=$H51,TRUE,FALSE),IF(V$9<=$I51,TRUE,FALSE)))=TRUE,1,"") -> 1 | W51: =+IF((AND(IF(W$9>=$H51,TRUE,FALSE),IF(W$9<=$I51,TRUE,FALSE)))=TRUE,1,"") -> 1 | X51: =+IF((AND(IF(X$9>=$H51,TRUE,FALSE),IF(X$9<=$I51,TRUE,FALSE)))=TRUE,1,"") -> 1 | ... BY51: =+IF((AND(IF(BY$9>=$H51,TRUE,FALSE),IF(BY$9<=$I51,TRUE,FALSE)))=TRUE,1,"") | CB51: 1 | CC51: 1 | CD51: 1 | CE51: 1 | CF51: 1 | CG51: 1 | CH51: 1 | CI51: 1 | CJ51: 1 | CK51: 1 | CL51: 1 | CM51: 1 | CN51: 1 | CO51: 1 | CP51: 1 | CQ51: 1 | CR51: 1 | CS51: 1 | CT51: 1 | CU51: 1 | CV51: 1 | CW51: 1 | CX51: 1 | CY51: 1 | CZ51: 1 | DA51: 1 | DB51: 1 | DC51: 1 | DD51: 1 | DE51: 1 | DF51: 1 | EW51: =+IFERROR(M51/J51,0) -> 0.00017857143
C52: 1.6.8 | D52: Control de Drogas y Alcohol en Faena. | E52: Aplica | F52: Nicolás Valenzuela | G52: Jefe Seguridad | H52: 45067 | I52: 45106 | J52: =+IF(H52="","",(I52-H52)+1) -> 40 | K52: =+SUM(CB52:EJ52)/SUM(Q52:BY52) -> 0.775 | M52: =25%/35 -> 0.0071428571 | N52: =+K52*M52 -> 0.0055357143 | Q52: =+IF((AND(IF(Q$9>=$H52,TRUE,FALSE),IF(Q$9<=$I52,TRUE,FALSE)))=TRUE,1,"") -> 1 | R52: =+IF((AND(IF(R$9>=$H52,TRUE,FALSE),IF(R$9<=$I52,TRUE,FALSE)))=TRUE,1,"") -> 1 | S52: =+IF((AND(IF(S$9>=$H52,TRUE,FALSE),IF(S$9<=$I52,TRUE,FALSE)))=TRUE,1,"") -> 1 | T52: =+IF((AND(IF(T$9>=$H52,TRUE,FALSE),IF(T$9<=$I52,TRUE,FALSE)))=TRUE,1,"") -> 1 | U52: =+IF((AND(IF(U$9>=$H52,TRUE,FALSE),IF(U$9<=$I52,TRUE,FALSE)))=TRUE,1,"") -> 1 | V52: =+IF((AND(IF(V$9>=$H52,TRUE,FALSE),IF(V$9<=$I52,TRUE,FALSE)))=TRUE,1,"") -> 1 | W52: =+IF((AND(IF(W$9>=$H52,TRUE,FALSE),IF(W$9<=$I52,TRUE,FALSE)))=TRUE,1,"") -> 1 | X52: =+IF((AND(IF(X$9>=$H52,TRUE,FALSE),IF(X$9<=$I52,TRUE,FALSE)))=TRUE,1,"") -> 1 | ... BY52: =+IF((AND(IF(BY$9>=$H52,TRUE,FALSE),IF(BY$9<=$I52,TRUE,FALSE)))=TRUE,1,"") | CB52: 1 | CC52: 1 | CD52: 1 | CE52: 1 | CF52: 1 | CG52: 1 | CH52: 1 | CI52: 1 | CJ52: 1 | CK52: 1 | CL52: 1 | CM52: 1 | CN52: 1 | CO52: 1 | CP52: 1 | CQ52: 1 | CR52: 1 | CS52: 1 | CT52: 1 | CU52: 1 | CV52: 1 | CW52: 1 | CX52: 1 | CY52: 1 | CZ52: 1 | DA52: 1 | DB52: 1 | DC52: 1 | DD52: 1 | DE52: 1 | DF52: 1 | EW52: =+IFERROR(M52/J52,0) -> 0.00017857143
B53: 2) Aspectos Contractuales Específicos (35%) | EW53: =+IFERROR(M53/J53,0) -> 0
B54: 2 | C54: 2.5 | D54: Tema Específico 1 | EW54: =+IFERROR(M54/J54,0) -> 0
C55: 2.5.1 | D55: Tarea 1 | E55: Aplica | F55: Nicolás Mondaca | G55: Administrador de Contrato | H55: 45067 | I55: 45116 | J55: =+IF(H55="","",(I55-H55)+1) -> 50 | K55: =+SUM(CB55:EJ55)/SUM(Q55:BY55) -> 0.62 | M55: =35%/6 -> 0.058333333 | N55: =+K55*M55 -> 0.036166667 | Q55: =+IF((AND(IF(Q$9>=$H55,TRUE,FALSE),IF(Q$9<=$I55,TRUE,FALSE)))=TRUE,1,"") -> 1 | R55: =+IF((AND(IF(R$9>=$H55,TRUE,FALSE),IF(R$9<=$I55,TRUE,FALSE)))=TRUE,1,"") -> 1 | S55: =+IF((AND(IF(S$9>=$H55,TRUE,FALSE),IF(S$9<=$I55,TRUE,FALSE)))=TRUE,1,"") -> 1 | T55: =+IF((AND(IF(T$9>=$H55,TRUE,FALSE),IF(T$9<=$I55,TRUE,FALSE)))=TRUE,1,"") -> 1 | U55: =+IF((AND(IF(U$9>=$H55,TRUE,FALSE),IF(U$9<=$I55,TRUE,FALSE)))=TRUE,1,"") -> 1 | V55: =+IF((AND(IF(V$9>=$H55,TRUE,FALSE),IF(V$9<=$I55,TRUE,FALSE)))=TRUE,1,"") -> 1 | W55: =+IF((AND(IF(W$9>=$H55,TRUE,FALSE),IF(W$9<=$I55,TRUE,FALSE)))=TRUE,1,"") -> 1 | X55: =+IF((AND(IF(X$9>=$H55,TRUE,FALSE),IF(X$9<=$I55,TRUE,FALSE)))=TRUE,1,"") -> 1 | ... BY55: =+IF((AND(IF(BY$9>=$H55,TRUE,FALSE),IF(BY$9<=$I55,TRUE,FALSE)))=TRUE,1,"") | CB55: 1 | CC55: 1 | CD55: 1 | CE55: 1 | CF55: 1 | CG55: 1 | CH55: 1 | CI55: 1 | CJ55: 1 | CK55: 1 | CL55: 1 | CM55: 1 | CN55: 1 | CO55: 1 | CP55: 1 | CQ55: 1 | CR55: 1 | CS55: 1 | CT55: 1 | CU55: 1 | CV55: 1 | CW55: 1 | CX55: 1 | CY55: 1 | CZ55: 1 | DA55: 1 | DB55: 1 | DC55: 1 | DD55: 1 | DE55: 1 | DF55: 1 | EW55: =+IFERROR(M55/J55,0) -> 0.0011666667
C56: 2.5.2 | D56: Tarea 2 | E56: Aplica | F56: Nicolás Mondaca | G56: Administrador de Contrato | H56: 45067 | I56: 45116 | J56: =+IF(H56="","",(I56-H56)+1) -> 50 | K56: =+SUM(CB56:EJ56)/SUM(Q56:BY56) -> 0.62 | M56: =35%/6 -> 0.058333333 | N56: =+K56*M56 -> 0.036166667 | Q56: =+IF((AND(IF(Q$9>=$H56,TRUE,FALSE),IF(Q$9<=$I56,TRUE,FALSE)))=TRUE,1,"") -> 1 | R56: =+IF((AND(IF(R$9>=$H56,TRUE,FALSE),IF(R$9<=$I56,TRUE,FALSE)))=TRUE,1,"") -> 1 | S56: =+IF((AND(IF(S$9>=$H56,TRUE,FALSE),IF(S$9<=$I56,TRUE,FALSE)))=TRUE,1,"") -> 1 | T56: =+IF((AND(IF(T$9>=$H56,TRUE,FALSE),IF(T$9<=$I56,TRUE,FALSE)))=TRUE,1,"") -> 1 | U56: =+IF((AND(IF(U$9>=$H56,TRUE,FALSE),IF(U$9<=$I56,TRUE,FALSE)))=TRUE,1,"") -> 1 | V56: =+IF((AND(IF(V$9>=$H56,TRUE,FALSE),IF(V$9<=$I56,TRUE,FALSE)))=TRUE,1,"") -> 1 | W56: =+IF((AND(IF(W$9>=$H56,TRUE,FALSE),IF(W$9<=$I56,TRUE,FALSE)))=TRUE,1,"") -> 1 | X56: =+IF((AND(IF(X$9>=$H56,TRUE,FALSE),IF(X$9<=$I56,TRUE,FALSE)))=TRUE,1,"") -> 1 | ... BY56: =+IF((AND(IF(BY$9>=$H56,TRUE,FALSE),IF(BY$9<=$I56,TRUE,FALSE)))=TRUE,1,"") | CB56: 1 | CC56: 1 | CD56: 1 | CE56: 1 | CF56: 1 | CG56: 1 | CH56: 1 | CI56: 1 | CJ56: 1 | CK56: 1 | CL56: 1 | CM56: 1 | CN56: 1 | CO56: 1 | CP56: 1 | CQ56: 1 | CR56: 1 | CS56: 1 | CT56: 1 | CU56: 1 | CV56: 1 | CW56: 1 | CX56: 1 | CY56: 1 | CZ56: 1 | DA56: 1 | DB56: 1 | DC56: 1 | DD56: 1 | DE56: 1 | DF56: 1 | EW56: =+IFERROR(M56/J56,0) -> 0.0011666667
C57: 2.5.3 | D57: Tarea 3 | E57: Aplica | F57: Nicolás Mondaca | G57: Administrador de Contrato | H57: 45067 | I57: 45116 | J57: =+IF(H57="","",(I57-H57)+1) -> 50 | K57: =+SUM(CB57:EJ57)/SUM(Q57:BY57) -> 0.62 | M57: =35%/6 -> 0.058333333 | N57: =+K57*M57 -> 0.036166667 | Q57: =+IF((AND(IF(Q$9>=$H57,TRUE,FALSE),IF(Q$9<=$I57,TRUE,FALSE)))=TRUE,1,"") -> 1 | R57: =+IF((AND(IF(R$9>=$H57,TRUE,FALSE),IF(R$9<=$I57,TRUE,FALSE)))=TRUE,1,"") -> 1 | S57: =+IF((AND(IF(S$9>=$H57,TRUE,FALSE),IF(S$9<=$I57,TRUE,FALSE)))=TRUE,1,"") -> 1 | T57: =+IF((AND(IF(T$9>=$H57,TRUE,FALSE),IF(T$9<=$I57,TRUE,FALSE)))=TRUE,1,"") -> 1 | U57: =+IF((AND(IF(U$9>=$H57,TRUE,FALSE),IF(U$9<=$I57,TRUE,FALSE)))=TRUE,1,"") -> 1 | V57: =+IF((AND(IF(V$9>=$H57,TRUE,FALSE),IF(V$9<=$I57,TRUE,FALSE)))=TRUE,1,"") -> 1 | W57: =+IF((AND(IF(W$9>=$H57,TRUE,FALSE),IF(W$9<=$I57,TRUE,FALSE)))=TRUE,1,"") -> 1 | X57: =+IF((AND(IF(X$9>=$H57,TRUE,FALSE),IF(X$9<=$I57,TRUE,FALSE)))=TRUE,1,"") -> 1 | ... BY57: =+IF((AND(IF(BY$9>=$H57,TRUE,FALSE),IF(BY$9<=$I57,TRUE,FALSE)))=TRUE,1,"") | CB57: 1 | CC57: 1 | CD57: 1 | CE57: 1 | CF57: 1 | CG57: 1 | CH57: 1 | CI57: 1 | CJ57: 1 | CK57: 1 | CL57: 1 | CM57: 1 | CN57: 1 | CO57: 1 | CP57: 1 | CQ57: 1 | CR57: 1 | CS57: 1 | CT57: 1 | CU57: 1 | CV57: 1 | CW57: 1 | CX57: 1 | CY57: 1 | CZ57: 1 | DA57: 1 | DB57: 1 | DC57: 1 | DD57: 1 | DE57: 1 | DF57: 1 | EW57: =+IFERROR(M57/J57,0) -> 0.0011666667
C58: 2.5.4 | D58: Tarea 4 | E58: Aplica | F58: Nicolás Mondaca | G58: Administrador de Contrato | H58: 45067 | I58: 45116 | J58: =+IF(H58="","",(I58-H58)+1) -> 50 | K58: =+SUM(CB58:EJ58)/SUM(Q58:BY58) -> 0.62 | M58: =35%/6 -> 0.058333333 | N58: =+K58*M58 -> 0.036166667 | Q58: =+IF((AND(IF(Q$9>=$H58,TRUE,FALSE),IF(Q$9<=$I58,TRUE,FALSE)))=TRUE,1,"") -> 1 | R58: =+IF((AND(IF(R$9>=$H58,TRUE,FALSE),IF(R$9<=$I58,TRUE,FALSE)))=TRUE,1,"") -> 1 | S58: =+IF((AND(IF(S$9>=$H58,TRUE,FALSE),IF(S$9<=$I58,TRUE,FALSE)))=TRUE,1,"") -> 1 | T58: =+IF((AND(IF(T$9>=$H58,TRUE,FALSE),IF(T$9<=$I58,TRUE,FALSE)))=TRUE,1,"") -> 1 | U58: =+IF((AND(IF(U$9>=$H58,TRUE,FALSE),IF(U$9<=$I58,TRUE,FALSE)))=TRUE,1,"") -> 1 | V58: =+IF((AND(IF(V$9>=$H58,TRUE,FALSE),IF(V$9<=$I58,TRUE,FALSE)))=TRUE,1,"") -> 1 | W58: =+IF((AND(IF(W$9>=$H58,TRUE,FALSE),IF(W$9<=$I58,TRUE,FALSE)))=TRUE,1,"") -> 1 | X58: =+IF((AND(IF(X$9>=$H58,TRUE,FALSE),IF(X$9<=$I58,TRUE,FALSE)))=TRUE,1,"") -> 1 | ... BY58: =+IF((AND(IF(BY$9>=$H58,TRUE,FALSE),IF(BY$9<=$I58,TRUE,FALSE)))=TRUE,1,"") | CB58: 1 | CC58: 1 | CD58: 1 | CE58: 1 | CF58: 1 | CG58: 1 | CH58: 1 | CI58: 1 | CJ58: 1 | CK58: 1 | CL58: 1 | CM58: 1 | CN58: 1 | CO58: 1 | CP58: 1 | CQ58: 1 | CR58: 1 | CS58: 1 | CT58: 1 | CU58: 1 | CV58: 1 | CW58: 1 | CX58: 1 | CY58: 1 | CZ58: 1 | DA58: 1 | DB58: 1 | DC58: 1 | DD58: 1 | DE58: 1 | DF58: 1 | EW58: =+IFERROR(M58/J58,0) -> 0.0011666667
C59: 2.5.5 | D59: Tarea 5 | E59: Aplica | F59: Nicolás Mondaca | G59: Administrador de Contrato | H59: 45067 | I59: 45116 | J59: =+IF(H59="","",(I59-H59)+1) -> 50 | K59: =+SUM(CB59:EJ59)/SUM(Q59:BY59) -> 0.62 | M59: =35%/6 -> 0.058333333 | N59: =+K59*M59 -> 0.036166667 | Q59: =+IF((AND(IF(Q$9>=$H59,TRUE,FALSE),IF(Q$9<=$I59,TRUE,FALSE)))=TRUE,1,"") -> 1 | R59: =+IF((AND(IF(R$9>=$H59,TRUE,FALSE),IF(R$9<=$I59,TRUE,FALSE)))=TRUE,1,"") -> 1 | S59: =+IF((AND(IF(S$9>=$H59,TRUE,FALSE),IF(S$9<=$I59,TRUE,FALSE)))=TRUE,1,"") -> 1 | T59: =+IF((AND(IF(T$9>=$H59,TRUE,FALSE),IF(T$9<=$I59,TRUE,FALSE)))=TRUE,1,"") -> 1 | U59: =+IF((AND(IF(U$9>=$H59,TRUE,FALSE),IF(U$9<=$I59,TRUE,FALSE)))=TRUE,1,"") -> 1 | V59: =+IF((AND(IF(V$9>=$H59,TRUE,FALSE),IF(V$9<=$I59,TRUE,FALSE)))=TRUE,1,"") -> 1 | W59: =+IF((AND(IF(W$9>=$H59,TRUE,FALSE),IF(W$9<=$I59,TRUE,FALSE)))=TRUE,1,"") -> 1 | X59: =+IF((AND(IF(X$9>=$H59,TRUE,FALSE),IF(X$9<=$I59,TRUE,FALSE)))=TRUE,1,"") -> 1 | ... BY59: =+IF((AND(IF(BY$9>=$H59,TRUE,FALSE),IF(BY$9<=$I59,TRUE,FALSE)))=TRUE,1,"") | CB59: 1 | CC59: 1 | CD59: 1 | CE59: 1 | CF59: 1 | CG59: 1 | CH59: 1 | CI59: 1 | CJ59: 1 | CK59: 1 | CL59: 1 | CM59: 1 | CN59: 1 | CO59: 1 | CP59: 1 | CQ59: 1 | CR59: 1 | CS59: 1 | CT59: 1 | CU59: 1 | CV59: 1 | CW59: 1 | CX59: 1 | CY59: 1 | CZ59: 1 | DA59: 1 | DB59: 1 | DC59: 1 | DD59: 1 | DE59: 1 | DF59: 1 | EW59: =+IFERROR(M59/J59,0) -> 0.0011666667
C60: 2.5.6 | D60: Tarea 6 | E60: Aplica | F60: Nicolás Mondaca | G60: Administrador de Contrato | H60: 45067 | I60: 45116 | J60: =+IF(H60="","",(I60-H60)+1) -> 50 | K60: =+SUM(CB60:EJ60)/SUM(Q60:BY60) -> 0.62 | M60: =35%/6 -> 0.058333333 | N60: =+K60*M60 -> 0.036166667 | Q60: =+IF((AND(IF(Q$9>=$H60,TRUE,FALSE),IF(Q$9<=$I60,TRUE,FALSE)))=TRUE,1,"") -> 1 | R60: =+IF((AND(IF(R$9>=$H60,TRUE,FALSE),IF(R$9<=$I60,TRUE,FALSE)))=TRUE,1,"") -> 1 | S60: =+IF((AND(IF(S$9>=$H60,TRUE,FALSE),IF(S$9<=$I60,TRUE,FALSE)))=TRUE,1,"") -> 1 | T60: =+IF((AND(IF(T$9>=$H60,TRUE,FALSE),IF(T$9<=$I60,TRUE,FALSE)))=TRUE,1,"") -> 1 | U60: =+IF((AND(IF(U$9>=$H60,TRUE,FALSE),IF(U$9<=$I60,TRUE,FALSE)))=TRUE,1,"") -> 1 | V60: =+IF((AND(IF(V$9>=$H60,TRUE,FALSE),IF(V$9<=$I60,TRUE,FALSE)))=TRUE,1,"") -> 1 | W60: =+IF((AND(IF(W$9>=$H60,TRUE,FALSE),IF(W$9<=$I60,TRUE,FALSE)))=TRUE,1,"") -> 1 | X60: =+IF((AND(IF(X$9>=$H60,TRUE,FALSE),IF(X$9<=$I60,TRUE,FALSE)))=TRUE,1,"") -> 1 | ... BY60: =+IF((AND(IF(BY$9>=$H60,TRUE,FALSE),IF(BY$9<=$I60,TRUE,FALSE)))=TRUE,1,"") | CB60: 1 | CC60: 1 | CD60: 1 | CE60: 1 | CF60: 1 | CG60: 1 | CH60: 1 | CI60: 1 | CJ60: 1 | CK60: 1 | CL60: 1 | CM60: 1 | CN60: 1 | CO60: 1 | CP60: 1 | CQ60: 1 | CR60: 1 | CS60: 1 | CT60: 1 | CU60: 1 | CV60: 1 | CW60: 1 | CX60: 1 | CY60: 1 | CZ60: 1 | DA60: 1 | DB60: 1 | DC60: 1 | DD60: 1 | DE60: 1 | DF60: 1 | EW60: =+IFERROR(M60/J60,0) -> 0.0011666667
B61: 3) Gestión Interna | EW61: =+IFERROR(M61/J61,0) -> 0
B62: 3 | C62: 3.1 | D62: Gestión de Arranque | EW62: =+IFERROR(M62/J62,0) -> 0
C63: 3.1.1 | D63: Reunión de Arranque Interna | E63: Aplica | F63: Nicolás Mondaca | G63: Administrador de Contrato | H63: 45067 | I63: 45116 | J63: =+IF(H63="","",(I63-H63)+1) -> 50 | K63: =+SUM(CB63:EJ63)/SUM(Q63:BY63) -> 0.62 | M63: =10%/9 -> 0.011111111 | N63: =+K63*M63 -> 0.0068888889 | Q63: =+IF((AND(IF(Q$9>=$H63,TRUE,FALSE),IF(Q$9<=$I63,TRUE,FALSE)))=TRUE,1,"") -> 1 | R63: =+IF((AND(IF(R$9>=$H63,TRUE,FALSE),IF(R$9<=$I63,TRUE,FALSE)))=TRUE,1,"") -> 1 | S63: =+IF((AND(IF(S$9>=$H63,TRUE,FALSE),IF(S$9<=$I63,TRUE,FALSE)))=TRUE,1,"") -> 1 | T63: =+IF((AND(IF(T$9>=$H63,TRUE,FALSE),IF(T$9<=$I63,TRUE,FALSE)))=TRUE,1,"") -> 1 | U63: =+IF((AND(IF(U$9>=$H63,TRUE,FALSE),IF(U$9<=$I63,TRUE,FALSE)))=TRUE,1,"") -> 1 | V63: =+IF((AND(IF(V$9>=$H63,TRUE,FALSE),IF(V$9<=$I63,TRUE,FALSE)))=TRUE,1,"") -> 1 | W63: =+IF((AND(IF(W$9>=$H63,TRUE,FALSE),IF(W$9<=$I63,TRUE,FALSE)))=TRUE,1,"") -> 1 | X63: =+IF((AND(IF(X$9>=$H63,TRUE,FALSE),IF(X$9<=$I63,TRUE,FALSE)))=TRUE,1,"") -> 1 | ... BY63: =+IF((AND(IF(BY$9>=$H63,TRUE,FALSE),IF(BY$9<=$I63,TRUE,FALSE)))=TRUE,1,"") | CB63: 1 | CC63: 1 | CD63: 1 | CE63: 1 | CF63: 1 | CG63: 1 | CH63: 1 | CI63: 1 | CJ63: 1 | CK63: 1 | CL63: 1 | CM63: 1 | CN63: 1 | CO63: 1 | CP63: 1 | CQ63: 1 | CR63: 1 | CS63: 1 | CT63: 1 | CU63: 1 | CV63: 1 | CW63: 1 | CX63: 1 | CY63: 1 | CZ63: 1 | DA63: 1 | DB63: 1 | DC63: 1 | DD63: 1 | DE63: 1 | DF63: 1 | EW63: =+IFERROR(M63/J63,0) -> 0.00022222222
C64: 3.1.2 | D64: Entrega de Histograma de Abastecimiento del Proyecto | E64: Aplica | F64: Nicolás Mondaca | G64: Administrador de Contrato | H64: 45067 | I64: 45116 | J64: =+IF(H64="","",(I64-H64)+1) -> 50 | K64: =+SUM(CB64:EJ64)/SUM(Q64:BY64) -> 0.62 | M64: =10%/9 -> 0.011111111 | N64: =+K64*M64 -> 0.0068888889 | Q64: =+IF((AND(IF(Q$9>=$H64,TRUE,FALSE),IF(Q$9<=$I64,TRUE,FALSE)))=TRUE,1,"") -> 1 | R64: =+IF((AND(IF(R$9>=$H64,TRUE,FALSE),IF(R$9<=$I64,TRUE,FALSE)))=TRUE,1,"") -> 1 | S64: =+IF((AND(IF(S$9>=$H64,TRUE,FALSE),IF(S$9<=$I64,TRUE,FALSE)))=TRUE,1,"") -> 1 | T64: =+IF((AND(IF(T$9>=$H64,TRUE,FALSE),IF(T$9<=$I64,TRUE,FALSE)))=TRUE,1,"") -> 1 | U64: =+IF((AND(IF(U$9>=$H64,TRUE,FALSE),IF(U$9<=$I64,TRUE,FALSE)))=TRUE,1,"") -> 1 | V64: =+IF((AND(IF(V$9>=$H64,TRUE,FALSE),IF(V$9<=$I64,TRUE,FALSE)))=TRUE,1,"") -> 1 | W64: =+IF((AND(IF(W$9>=$H64,TRUE,FALSE),IF(W$9<=$I64,TRUE,FALSE)))=TRUE,1,"") -> 1 | X64: =+IF((AND(IF(X$9>=$H64,TRUE,FALSE),IF(X$9<=$I64,TRUE,FALSE)))=TRUE,1,"") -> 1 | ... BY64: =+IF((AND(IF(BY$9>=$H64,TRUE,FALSE),IF(BY$9<=$I64,TRUE,FALSE)))=TRUE,1,"") | CB64: 1 | CC64: 1 | CD64: 1 | CE64: 1 | CF64: 1 | CG64: 1 | CH64: 1 | CI64: 1 | CJ64: 1 | CK64: 1 | CL64: 1 | CM64: 1 | CN64: 1 | CO64: 1 | CP64: 1 | CQ64: 1 | CR64: 1 | CS64: 1 | CT64: 1 | CU64: 1 | CV64: 1 | CW64: 1 | CX64: 1 | CY64: 1 | CZ64: 1 | DA64: 1 | DB64: 1 | DC64: 1 | DD64: 1 | DE64: 1 | DF64: 1 | EW64: =+IFERROR(M64/J64,0) -> 0.00022222222
C65: 3.1.3 | D65: Entrega de Histograma de Recursos Humanos | E65: Aplica | F65: Nicolás Mondaca | G65: Administrador de Contrato | H65: 45067 | I65: 45116 | J65: =+IF(H65="","",(I65-H65)+1) -> 50 | K65: =+SUM(CB65:EJ65)/SUM(Q65:BY65) -> 0.62 | M65: =10%/9 -> 0.011111111 | N65: =+K65*M65 -> 0.0068888889 | Q65: =+IF((AND(IF(Q$9>=$H65,TRUE,FALSE),IF(Q$9<=$I65,TRUE,FALSE)))=TRUE,1,"") -> 1 | R65: =+IF((AND(IF(R$9>=$H65,TRUE,FALSE),IF(R$9<=$I65,TRUE,FALSE)))=TRUE,1,"") -> 1 | S65: =+IF((AND(IF(S$9>=$H65,TRUE,FALSE),IF(S$9<=$I65,TRUE,FALSE)))=TRUE,1,"") -> 1 | T65: =+IF((AND(IF(T$9>=$H65,TRUE,FALSE),IF(T$9<=$I65,TRUE,FALSE)))=TRUE,1,"") -> 1 | U65: =+IF((AND(IF(U$9>=$H65,TRUE,FALSE),IF(U$9<=$I65,TRUE,FALSE)))=TRUE,1,"") -> 1 | V65: =+IF((AND(IF(V$9>=$H65,TRUE,FALSE),IF(V$9<=$I65,TRUE,FALSE)))=TRUE,1,"") -> 1 | W65: =+IF((AND(IF(W$9>=$H65,TRUE,FALSE),IF(W$9<=$I65,TRUE,FALSE)))=TRUE,1,"") -> 1 | X65: =+IF((AND(IF(X$9>=$H65,TRUE,FALSE),IF(X$9<=$I65,TRUE,FALSE)))=TRUE,1,"") -> 1 | ... BY65: =+IF((AND(IF(BY$9>=$H65,TRUE,FALSE),IF(BY$9<=$I65,TRUE,FALSE)))=TRUE,1,"") | CB65: 1 | CC65: 1 | CD65: 1 | CE65: 1 | CF65: 1 | CG65: 1 | CH65: 1 | CI65: 1 | CJ65: 1 | CK65: 1 | CL65: 1 | CM65: 1 | CN65: 1 | CO65: 1 | CP65: 1 | CQ65: 1 | CR65: 1 | CS65: 1 | CT65: 1 | CU65: 1 | CV65: 1 | CW65: 1 | CX65: 1 | CY65: 1 | CZ65: 1 | DA65: 1 | DB65: 1 | DC65: 1 | DD65: 1 | DE65: 1 | DF65: 1 | EW65: =+IFERROR(M65/J65,0) -> 0.00022222222
C66: 3.1.4 | D66: Entrega de EERR0 | E66: Aplica | F66: Nicolás Mondaca | G66: Administrador de Contrato | H66: 45067 | I66: 45116 | J66: =+IF(H66="","",(I66-H66)+1) -> 50 | K66: =+SUM(CB66:EJ66)/SUM(Q66:BY66) -> 0.62 | M66: =10%/9 -> 0.011111111 | N66: =+K66*M66 -> 0.0068888889 | Q66: =+IF((AND(IF(Q$9>=$H66,TRUE,FALSE),IF(Q$9<=$I66,TRUE,FALSE)))=TRUE,1,"") -> 1 | R66: =+IF((AND(IF(R$9>=$H66,TRUE,FALSE),IF(R$9<=$I66,TRUE,FALSE)))=TRUE,1,"") -> 1 | S66: =+IF((AND(IF(S$9>=$H66,TRUE,FALSE),IF(S$9<=$I66,TRUE,FALSE)))=TRUE,1,"") -> 1 | T66: =+IF((AND(IF(T$9>=$H66,TRUE,FALSE),IF(T$9<=$I66,TRUE,FALSE)))=TRUE,1,"") -> 1 | U66: =+IF((AND(IF(U$9>=$H66,TRUE,FALSE),IF(U$9<=$I66,TRUE,FALSE)))=TRUE,1,"") -> 1 | V66: =+IF((AND(IF(V$9>=$H66,TRUE,FALSE),IF(V$9<=$I66,TRUE,FALSE)))=TRUE,1,"") -> 1 | W66: =+IF((AND(IF(W$9>=$H66,TRUE,FALSE),IF(W$9<=$I66,TRUE,FALSE)))=TRUE,1,"") -> 1 | X66: =+IF((AND(IF(X$9>=$H66,TRUE,FALSE),IF(X$9<=$I66,TRUE,FALSE)))=TRUE,1,"") -> 1 | ... BY66: =+IF((AND(IF(BY$9>=$H66,TRUE,FALSE),IF(BY$9<=$I66,TRUE,FALSE)))=TRUE,1,"") | CB66: 1 | CC66: 1 | CD66: 1 | CE66: 1 | CF66: 1 | CG66: 1 | CH66: 1 | CI66: 1 | CJ66: 1 | CK66: 1 | CL66: 1 | CM66: 1 | CN66: 1 | CO66: 1 | CP66: 1 | CQ66: 1 | CR66: 1 | CS66: 1 | CT66: 1 | CU66: 1 | CV66: 1 | CW66: 1 | CX66: 1 | CY66: 1 | CZ66: 1 | DA66: 1 | DB66: 1 | DC66: 1 | DD66: 1 | DE66: 1 | DF66: 1 | EW66: =+IFERROR(M66/J66,0) -> 0.00022222222
C67: 3.1.5 | D67: Entrega de Programa EERR0 | E67: Aplica | F67: Nicolás Mondaca | G67: Administrador de Contrato | H67: 45067 | I67: 45116 | J67: =+IF(H67="","",(I67-H67)+1) -> 50 | K67: =+SUM(CB67:EJ67)/SUM(Q67:BY67) -> 0.62 | M67: =10%/9 -> 0.011111111 | N67: =+K67*M67 -> 0.0068888889 | Q67: =+IF((AND(IF(Q$9>=$H67,TRUE,FALSE),IF(Q$9<=$I67,TRUE,FALSE)))=TRUE,1,"") -> 1 | R67: =+IF((AND(IF(R$9>=$H67,TRUE,FALSE),IF(R$9<=$I67,TRUE,FALSE)))=TRUE,1,"") -> 1 | S67: =+IF((AND(IF(S$9>=$H67,TRUE,FALSE),IF(S$9<=$I67,TRUE,FALSE)))=TRUE,1,"") -> 1 | T67: =+IF((AND(IF(T$9>=$H67,TRUE,FALSE),IF(T$9<=$I67,TRUE,FALSE)))=TRUE,1,"") -> 1 | U67: =+IF((AND(IF(U$9>=$H67,TRUE,FALSE),IF(U$9<=$I67,TRUE,FALSE)))=TRUE,1,"") -> 1 | V67: =+IF((AND(IF(V$9>=$H67,TRUE,FALSE),IF(V$9<=$I67,TRUE,FALSE)))=TRUE,1,"") -> 1 | W67: =+IF((AND(IF(W$9>=$H67,TRUE,FALSE),IF(W$9<=$I67,TRUE,FALSE)))=TRUE,1,"") -> 1 | X67: =+IF((AND(IF(X$9>=$H67,TRUE,FALSE),IF(X$9<=$I67,TRUE,FALSE)))=TRUE,1,"") -> 1 | ... BY67: =+IF((AND(IF(BY$9>=$H67,TRUE,FALSE),IF(BY$9<=$I67,TRUE,FALSE)))=TRUE,1,"") | CB67: 1 | CC67: 1 | CD67: 1 | CE67: 1 | CF67: 1 | CG67: 1 | CH67: 1 | CI67: 1 | CJ67: 1 | CK67: 1 | CL67: 1 | CM67: 1 | CN67: 1 | CO67: 1 | CP67: 1 | CQ67: 1 | CR67: 1 | CS67: 1 | CT67: 1 | CU67: 1 | CV67: 1 | CW67: 1 | CX67: 1 | CY67: 1 | CZ67: 1 | DA67: 1 | DB67: 1 | DC67: 1 | DD67: 1 | DE67: 1 | DF67: 1 | EW67: =+IFERROR(M67/J67,0) -> 0.00022222222
B68: 3 | C68: 3.2 | D68: RR.HH | EW68: =+IFERROR(M68/J68,0) -> 0
C69: 3.2.1 | D69: Plan de Reclutamiento de Personal | E69: Aplica | F69: Alejandro Bravo | G69: Encargado Relaciones Laborales | H69: 45067 | I69: 45111 | J69: =+IF(H69="","",(I69-H69)+1) -> 45 | K69: =+SUM(CB69:EJ69)/SUM(Q69:BY69) -> 0.68888889 | M69: 0.1 | N69: =+K69*M69 -> 0.068888889 | Q69: =+IF((AND(IF(Q$9>=$H69,TRUE,FALSE),IF(Q$9<=$I69,TRUE,FALSE)))=TRUE,1,"") -> 1 | R69: =+IF((AND(IF(R$9>=$H69,TRUE,FALSE),IF(R$9<=$I69,TRUE,FALSE)))=TRUE,1,"") -> 1 | S69: =+IF((AND(IF(S$9>=$H69,TRUE,FALSE),IF(S$9<=$I69,TRUE,FALSE)))=TRUE,1,"") -> 1 | T69: =+IF((AND(IF(T$9>=$H69,TRUE,FALSE),IF(T$9<=$I69,TRUE,FALSE)))=TRUE,1,"") -> 1 | U69: =+IF((AND(IF(U$9>=$H69,TRUE,FALSE),IF(U$9<=$I69,TRUE,FALSE)))=TRUE,1,"") -> 1 | V69: =+IF((AND(IF(V$9>=$H69,TRUE,FALSE),IF(V$9<=$I69,TRUE,FALSE)))=TRUE,1,"") -> 1 | W69: =+IF((AND(IF(W$9>=$H69,TRUE,FALSE),IF(W$9<=$I69,TRUE,FALSE)))=TRUE,1,"") -> 1 | X69: =+IF((AND(IF(X$9>=$H69,TRUE,FALSE),IF(X$9<=$I69,TRUE,FALSE)))=TRUE,1,"") -> 1 | ... BY69: =+IF((AND(IF(BY$9>=$H69,TRUE,FALSE),IF(BY$9<=$I69,TRUE,FALSE)))=TRUE,1,"") | CB69: 1 | CC69: 1 | CD69: 1 | CE69: 1 | CF69: 1 | CG69: 1 | CH69: 1 | CI69: 1 | CJ69: 1 | CK69: 1 | CL69: 1 | CM69: 1 | CN69: 1 | CO69: 1 | CP69: 1 | CQ69: 1 | CR69: 1 | CS69: 1 | CT69: 1 | CU69: 1 | CV69: 1 | CW69: 1 | CX69: 1 | CY69: 1 | CZ69: 1 | DA69: 1 | DB69: 1 | DC69: 1 | DD69: 1 | DE69: 1 | DF69: 1 | EW69: =+IFERROR(M69/J69,0) -> 0.0022222222
B70: 3 | C70: 3.3 | D70: Instalación de Faena | EW70: =+IFERROR(M70/J70,0) -> 0
C71: 3.1.1 | D71: Contenedores y Habilitación de IIFF | E71: Aplica | F71: Marcelo Pino | G71: Encargado Abastecimiento | H71: 45067 | I71: 45116 | J71: =+IF(H71="","",(I71-H71)+1) -> 50 | K71: =+SUM(CB71:EJ71)/SUM(Q71:BY71) -> 0.62 | M71: =10%/9 -> 0.011111111 | N71: =+K71*M71 -> 0.0068888889 | Q71: =+IF((AND(IF(Q$9>=$H71,TRUE,FALSE),IF(Q$9<=$I71,TRUE,FALSE)))=TRUE,1,"") -> 1 | R71: =+IF((AND(IF(R$9>=$H71,TRUE,FALSE),IF(R$9<=$I71,TRUE,FALSE)))=TRUE,1,"") -> 1 | S71: =+IF((AND(IF(S$9>=$H71,TRUE,FALSE),IF(S$9<=$I71,TRUE,FALSE)))=TRUE,1,"") -> 1 | T71: =+IF((AND(IF(T$9>=$H71,TRUE,FALSE),IF(T$9<=$I71,TRUE,FALSE)))=TRUE,1,"") -> 1 | U71: =+IF((AND(IF(U$9>=$H71,TRUE,FALSE),IF(U$9<=$I71,TRUE,FALSE)))=TRUE,1,"") -> 1 | V71: =+IF((AND(IF(V$9>=$H71,TRUE,FALSE),IF(V$9<=$I71,TRUE,FALSE)))=TRUE,1,"") -> 1 | W71: =+IF((AND(IF(W$9>=$H71,TRUE,FALSE),IF(W$9<=$I71,TRUE,FALSE)))=TRUE,1,"") -> 1 | X71: =+IF((AND(IF(X$9>=$H71,TRUE,FALSE),IF(X$9<=$I71,TRUE,FALSE)))=TRUE,1,"") -> 1 | ... BY71: =+IF((AND(IF(BY$9>=$H71,TRUE,FALSE),IF(BY$9<=$I71,TRUE,FALSE)))=TRUE,1,"") | CB71: 1 | CC71: 1 | CD71: 1 | CE71: 1 | CF71: 1 | CG71: 1 | CH71: 1 | CI71: 1 | CJ71: 1 | CK71: 1 | CL71: 1 | CM71: 1 | CN71: 1 | CO71: 1 | CP71: 1 | CQ71: 1 | CR71: 1 | CS71: 1 | CT71: 1 | CU71: 1 | CV71: 1 | CW71: 1 | CX71: 1 | CY71: 1 | CZ71: 1 | DA71: 1 | DB71: 1 | DC71: 1 | DD71: 1 | DE71: 1 | DF71: 1 | EW71: =+IFERROR(M71/J71,0) -> 0.00022222222
C72: 3.1.2 | D72: Baños y Servicios | E72: Aplica | F72: Marcelo Pino | G72: Encargado Abastecimiento | H72: 45067 | I72: 45116 | J72: =+IF(H72="","",(I72-H72)+1) -> 50 | K72: =+SUM(CB72:EJ72)/SUM(Q72:BY72) -> 0.62 | M72: =10%/9 -> 0.011111111 | N72: =+K72*M72 -> 0.0068888889 | Q72: =+IF((AND(IF(Q$9>=$H72,TRUE,FALSE),IF(Q$9<=$I72,TRUE,FALSE)))=TRUE,1,"") -> 1 | R72: =+IF((AND(IF(R$9>=$H72,TRUE,FALSE),IF(R$9<=$I72,TRUE,FALSE)))=TRUE,1,"") -> 1 | S72: =+IF((AND(IF(S$9>=$H72,TRUE,FALSE),IF(S$9<=$I72,TRUE,FALSE)))=TRUE,1,"") -> 1 | T72: =+IF((AND(IF(T$9>=$H72,TRUE,FALSE),IF(T$9<=$I72,TRUE,FALSE)))=TRUE,1,"") -> 1 | U72: =+IF((AND(IF(U$9>=$H72,TRUE,FALSE),IF(U$9<=$I72,TRUE,FALSE)))=TRUE,1,"") -> 1 | V72: =+IF((AND(IF(V$9>=$H72,TRUE,FALSE),IF(V$9<=$I72,TRUE,FALSE)))=TRUE,1,"") -> 1 | W72: =+IF((AND(IF(W$9>=$H72,TRUE,FALSE),IF(W$9<=$I72,TRUE,FALSE)))=TRUE,1,"") -> 1 | X72: =+IF((AND(IF(X$9>=$H72,TRUE,FALSE),IF(X$9<=$I72,TRUE,FALSE)))=TRUE,1,"") -> 1 | ... BY72: =+IF((AND(IF(BY$9>=$H72,TRUE,FALSE),IF(BY$9<=$I72,TRUE,FALSE)))=TRUE,1,"") | CB72: 1 | CC72: 1 | CD72: 1 | CE72: 1 | CF72: 1 | CG72: 1 | CH72: 1 | CI72: 1 | CJ72: 1 | CK72: 1 | CL72: 1 | CM72: 1 | CN72: 1 | CO72: 1 | CP72: 1 | CQ72: 1 | CR72: 1 | CS72: 1 | CT72: 1 | CU72: 1 | CV72: 1 | CW72: 1 | CX72: 1 | CY72: 1 | CZ72: 1 | DA72: 1 | DB72: 1 | DC72: 1 | DD72: 1 | DE72: 1 | DF72: 1 | EW72: =+IFERROR(M72/J72,0) -> 0.00022222222
C73: 3.1.3 | D73: Implementación de Oficinas | E73: Aplica | F73: Marcelo Pino | G73: Encargado Abastecimiento | H73: 45067 | I73: 45116 | J73: =+IF(H73="","",(I73-H73)+1) -> 50 | K73: =+SUM(CB73:EJ73)/SUM(Q73:BY73) -> 0.62 | M73: =10%/9 -> 0.011111111 | N73: =+K73*M73 -> 0.0068888889 | Q73: =+IF((AND(IF(Q$9>=$H73,TRUE,FALSE),IF(Q$9<=$I73,TRUE,FALSE)))=TRUE,1,"") -> 1 | R73: =+IF((AND(IF(R$9>=$H73,TRUE,FALSE),IF(R$9<=$I73,TRUE,FALSE)))=TRUE,1,"") -> 1 | S73: =+IF((AND(IF(S$9>=$H73,TRUE,FALSE),IF(S$9<=$I73,TRUE,FALSE)))=TRUE,1,"") -> 1 | T73: =+IF((AND(IF(T$9>=$H73,TRUE,FALSE),IF(T$9<=$I73,TRUE,FALSE)))=TRUE,1,"") -> 1 | U73: =+IF((AND(IF(U$9>=$H73,TRUE,FALSE),IF(U$9<=$I73,TRUE,FALSE)))=TRUE,1,"") -> 1 | V73: =+IF((AND(IF(V$9>=$H73,TRUE,FALSE),IF(V$9<=$I73,TRUE,FALSE)))=TRUE,1,"") -> 1 | W73: =+IF((AND(IF(W$9>=$H73,TRUE,FALSE),IF(W$9<=$I73,TRUE,FALSE)))=TRUE,1,"") -> 1 | X73: =+IF((AND(IF(X$9>=$H73,TRUE,FALSE),IF(X$9<=$I73,TRUE,FALSE)))=TRUE,1,"") -> 1 | ... BY73: =+IF((AND(IF(BY$9>=$H73,TRUE,FALSE),IF(BY$9<=$I73,TRUE,FALSE)))=TRUE,1,"") | CB73: 1 | CC73: 1 | CD73: 1 | CE73: 1 | CF73: 1 | CG73: 1 | CH73: 1 | CI73: 1 | CJ73: 1 | CK73: 1 | CL73: 1 | CM73: 1 | CN73: 1 | CO73: 1 | CP73: 1 | CQ73: 1 | CR73: 1 | CS73: 1 | CT73: 1 | CU73: 1 | CV73: 1 | CW73: 1 | CX73: 1 | CY73: 1 | CZ73: 1 | DA73: 1 | DB73: 1 | DC73: 1 | DD73: 1 | DE73: 1 | DF73: 1 | EW73: =+IFERROR(M73/J73,0) -> 0.00022222222
B74: 3 | C74: 3.4 | D74: Abastecimiento | EW74: =+IFERROR(M74/J74,0) -> 0
C75: 3.4.1 | D75: Plan de Abastecimiento | E75: Aplica | F75: Marcelo Pino | G75: Encargado Abastecimiento | H75: 45067 | I75: 45126 | J75: =+IF(H75="","",(I75-H75)+1) -> 60 | K75: =+SUM(CB75:EJ75)/SUM(Q75:BY75) -> 0.51666667 | M75: 0.1 | N75: =+K75*M75 -> 0.051666667 | Q75: =+IF((AND(IF(Q$9>=$H75,TRUE,FALSE),IF(Q$9<=$I75,TRUE,FALSE)))=TRUE,1,"") -> 1 | R75: =+IF((AND(IF(R$9>=$H75,TRUE,FALSE),IF(R$9<=$I75,TRUE,FALSE)))=TRUE,1,"") -> 1 | S75: =+IF((AND(IF(S$9>=$H75,TRUE,FALSE),IF(S$9<=$I75,TRUE,FALSE)))=TRUE,1,"") -> 1 | T75: =+IF((AND(IF(T$9>=$H75,TRUE,FALSE),IF(T$9<=$I75,TRUE,FALSE)))=TRUE,1,"") -> 1 | U75: =+IF((AND(IF(U$9>=$H75,TRUE,FALSE),IF(U$9<=$I75,TRUE,FALSE)))=TRUE,1,"") -> 1 | V75: =+IF((AND(IF(V$9>=$H75,TRUE,FALSE),IF(V$9<=$I75,TRUE,FALSE)))=TRUE,1,"") -> 1 | W75: =+IF((AND(IF(W$9>=$H75,TRUE,FALSE),IF(W$9<=$I75,TRUE,FALSE)))=TRUE,1,"") -> 1 | X75: =+IF((AND(IF(X$9>=$H75,TRUE,FALSE),IF(X$9<=$I75,TRUE,FALSE)))=TRUE,1,"") -> 1 | ... BY75: =+IF((AND(IF(BY$9>=$H75,TRUE,FALSE),IF(BY$9<=$I75,TRUE,FALSE)))=TRUE,1,"") | CB75: 1 | CC75: 1 | CD75: 1 | CE75: 1 | CF75: 1 | CG75: 1 | CH75: 1 | CI75: 1 | CJ75: 1 | CK75: 1 | CL75: 1 | CM75: 1 | CN75: 1 | CO75: 1 | CP75: 1 | CQ75: 1 | CR75: 1 | CS75: 1 | CT75: 1 | CU75: 1 | CV75: 1 | CW75: 1 | CX75: 1 | CY75: 1 | CZ75: 1 | DA75: 1 | DB75: 1 | DC75: 1 | DD75: 1 | DE75: 1 | DF75: 1 | EW75: =+IFERROR(M75/J75,0) -> 0.0016666667
B76: 3 | C76: 3.5 | D76: Planificación y Control Proyectos | EW76: =+IFERROR(M76/J76,0) -> 0
C77: 3.5.2 | D77: EERR 1 | E77: Aplica | F77: Nicolás Mondaca | G77: Administrador de Contrato | H77: 45121 | I77: 45122 | J77: =+IF(H77="","",(I77-H77)+1) -> 2 | K77: =+SUM(CB77:EJ77)/SUM(Q77:BY77) -> 1 | M77: =10%/9 -> 0.011111111 | N77: =+K77*M77 -> 0.011111111 | Q77: =+IF((AND(IF(Q$9>=$H77,TRUE,FALSE),IF(Q$9<=$I77,TRUE,FALSE)))=TRUE,1,"") | R77: =+IF((AND(IF(R$9>=$H77,TRUE,FALSE),IF(R$9<=$I77,TRUE,FALSE)))=TRUE,1,"") | S77: =+IF((AND(IF(S$9>=$H77,TRUE,FALSE),IF(S$9<=$I77,TRUE,FALSE)))=TRUE,1,"") | T77: =+IF((AND(IF(T$9>=$H77,TRUE,FALSE),IF(T$9<=$I77,TRUE,FALSE)))=TRUE,1,"") | U77: =+IF((AND(IF(U$9>=$H77,TRUE,FALSE),IF(U$9<=$I77,TRUE,FALSE)))=TRUE,1,"") | V77: =+IF((AND(IF(V$9>=$H77,TRUE,FALSE),IF(V$9<=$I77,TRUE,FALSE)))=TRUE,1,"") | W77: =+IF((AND(IF(W$9>=$H77,TRUE,FALSE),IF(W$9<=$I77,TRUE,FALSE)))=TRUE,1,"") | X77: =+IF((AND(IF(X$9>=$H77,TRUE,FALSE),IF(X$9<=$I77,TRUE,FALSE)))=TRUE,1,"") | ... BY77: =+IF((AND(IF(BY$9>=$H77,TRUE,FALSE),IF(BY$9<=$I77,TRUE,FALSE)))=TRUE,1,"") | DE77: 1 | DF77: 1 | EW77: =+IFERROR(M77/J77,0) -> 0.0055555556
M78: =+SUM(M11:M77) -> 1 | N78: =SUM(N12:N77) -> 0.62205159 | EW78: =+IFERROR(M78/J78,0) -> 0
P81: Avance Programado | Q81: =+SUMPRODUCT($EW$11:$EW$78,Q11:Q78) -> 0.015047619 | R81: =+SUMPRODUCT($EW$11:$EW$78,R11:R78) -> 0.015047619 | S81: =+SUMPRODUCT($EW$11:$EW$78,S11:S78) -> 0.015047619 | T81: =+SUMPRODUCT($EW$11:$EW$78,T11:T78) -> 0.015047619 | U81: =+SUMPRODUCT($EW$11:$EW$78,U11:U78) -> 0.015047619 | V81: =+SUMPRODUCT($EW$11:$EW$78,V11:V78) -> 0.015047619 | W81: =+SUMPRODUCT($EW$11:$EW$78,W11:W78) -> 0.015047619 | X81: =+SUMPRODUCT($EW$11:$EW$78,X11:X78) -> 0.015047619 | ... BY81: =+SUMPRODUCT($EW$11:$EW$78,BY11:BY78) -> 0 | CA81: Avance Real | CB81: =+SUMPRODUCT($EW$11:$EW$77,CB11:CB77) -> 0.015047619 | CC81: =+SUMPRODUCT($EW$11:$EW$77,CC11:CC77) -> 0.015047619 | CD81: =+SUMPRODUCT($EW$11:$EW$77,CD11:CD77) -> 0.015047619 | CE81: =+SUMPRODUCT($EW$11:$EW$77,CE11:CE77) -> 0.015047619 | CF81: =+SUMPRODUCT($EW$11:$EW$77,CF11:CF77) -> 0.015047619 | CG81: =+SUMPRODUCT($EW$11:$EW$77,CG11:CG77) -> 0.015047619 | CH81: =+SUMPRODUCT($EW$11:$EW$77,CH11:CH77) -> 0.015047619 | CI81: =+SUMPRODUCT($EW$11:$EW$77,CI11:CI77) -> 0.015047619 | ... EJ81: =+SUMPRODUCT($EW$11:$EW$77,EJ11:EJ77) -> 0 | FA81: =+ROW()-8 -> 73
P82: Avance Programado Acumulado | Q82: =+Q81 -> 0.015047619 | R82: =+R81+Q82 -> 0.030095238 | S82: =+S81+R82 -> 0.045142857 | T82: =+T81+S82 -> 0.060190476 | U82: =+U81+T82 -> 0.075238095 | V82: =+V81+U82 -> 0.090285714 | W82: =+W81+V82 -> 0.10533333 | X82: =+X81+W82 -> 0.12038095 | Y82: =+Y81+X82 -> 0.13542857 | ... BY82: =+BY81+BX82 -> 1 | CA82: Avance Real Acumulado | CB82: =+CB81 -> 0.015047619 | CC82: =+CC81+CB82 -> 0.030095238 | CD82: =+CD81+CC82 -> 0.045142857 | CE82: =+CE81+CD82 -> 0.060190476 | CF82: =+CF81+CE82 -> 0.075238095 | CG82: =+CG81+CF82 -> 0.090285714 | CH82: =+CH81+CG82 -> 0.10533333 | CI82: =+CI81+CH82 -> 0.12038095 | CJ82: =+CJ81+CI82 -> 0.13542857 | ... EJ82: =+EJ81+EI82 -> 0.7275873 | FA82: =+ROW()-8 -> 74
P84: =+CA81 -> Avance Real | Q84: =+CB81 -> 0.015047619 | R84: =+CC81 -> 0.015047619 | S84: =+CD81 -> 0.015047619 | T84: =+CE81 -> 0.015047619 | U84: =+CF81 -> 0.015047619 | V84: =+CG81 -> 0.015047619 | W84: =+CH81 -> 0.015047619 | ... BY84: =+EJ81 -> 0 | FA84: =+ROW()-8 -> 76
P85: =+CA82 -> Avance Real Acumulado | Q85: =+CB82 -> 0.015047619 | R85: =+CC82 -> 0.030095238 | S85: =+CD82 -> 0.045142857 | T85: =+CE82 -> 0.060190476 | U85: =+CF82 -> 0.075238095 | V85: =+CG82 -> 0.090285714 | W85: =+CH82 -> 0.10533333 | ... BY85: =+EJ82 -> 0.7275873 | FA85: =+ROW()-8 -> 77

Sheet Hoja1
F3: SEM -2 | G3: SEM -1 | H3: SEM 0 | I3: SEM 1 | J3: SEM 2 | K3: SEM 3 | L3: SEM 4 | M3: SEM 5 | N3: SEM 6 | O3: SEM 7 | P3: SEM 8 | Q3: SEM 9 | R3: SEM 10 | S3: SEM 11 | T3: SEM 12 | U3: SEM 13 | V3: SEM 14 | W3: SEM 15 | X3: SEM 16 | Y3: SEM 17 | Z3: SEM 18 | AA3: SEM 19 | AB3: SEM 20 | AC3: SEM 21 | AD3: Responsable
A4: 0. | E4: Gestiones de adjudicación
A5: 1. | E5: Gestión Contractual
B6: 1.3 | C6: OK | D6: GESTIÓN CONTRACTUAL | E6: Boletas y Seguros | AD6: Gerente Finanzas
B7: 1.5 | C7: OK | D7: GESTIÓN CONTRACTUAL | E7: Reunión "kick off" con el cliente | AD7: ADM - GNL
B8: 1.7 | C8: OK | D8: INTERNO BUILDTEK | E8: Generación de Base 1 (MAP1, MRP1, IGG1) | AD8: Gerente de Proyectos
A9: 2. | E9: Gestión de arranque
A10: 2.1. | E10: RRLL
B11: 2.1.1. | E11: Earlyworks | AD11: ADM - RRLL
A12: * | C12: OK | E12: Reclutamiento Personal | AD12: ADM - RRLL
C13: OK | E13: Personal Directo
C14: OK | E14: Personal Indirecto
C15: OK | E15: Operadores
C16: OK | E16: Selección Personal
C17: OK | E17: Personal Directo
C18: OK | E18: Personal Indirecto
C19: OK | E19: Operadores
C20: OK | E20: Precontratación Personal
C21: OK | E21: Personal Directo
C22: OK | E22: Personal Indirecto
C23: OK | E23: Operadores
C24: OK | E24: Contratación Personal | AD24: RRLL
C25: OK | E25: Personal Directo
C26: OK | E26: Personal Indirecto
C27: OK | E27: Operadores
C28: OK | E28: Acreditación Personal
C29: OK | E29: Personal Directo
C30: OK | E30: Personal Indirecto
C31: OK | E31: Operadores
C32: OK | E32: Asignación Personal
C33: OK | E33: Personal Directo
C34: OK | E34: Personal Indirecto
C35: OK | E35: Operadores
B36: 2.1.2 | E36: Personal Clave (HSSE, planificador) | AD36: ADM - RRLL
A37: 2.2 | E37: ABASTECIMIENTO
B38: 2.2.1 | E38: Realizar la adquisición de herramientas, maquinaria y servicios | AD38: Abastecimiento
C39: OK | E39: Maquinaria y Vehículos
C40: OK | E40: Equipos
A41: * | C41: OK | E41: Herramientas | AD41: Abastecimiento
C42: OK | E42: Materiales
C43: OK | E43: EPP
C44: OK | E44: Andamios
C45: OK | E45: Elementos de Izaje
C46: OK | E46: Servicios
C47: OK
C48: OK
C49: OK | D49: 2.2.1.2.6 | E49: Acreditación de maquinaria y vehículos
A50: * | D50: 2.2.1.3.12 | E50: Servicio de trasporte (buses de acercamiento)
D51: 2.2.1.3.13 | E51: Servicio de lavandaría
B52: 2.2.2 | E52: Adquisición de EPP | AD52: Abastecimiento
B53: 2.2.4 | E53: Instalación en faena | AD53: ADM- Abastecimiento
C54: OK | E54: Contenedores y Habilitación de IIFF
A55: 2.3 | E55: HSEC
B56: 2.3.1 | E56: Salud
C57: 2.3.1.3 | D57: OK | E57: Levantar protocolos de MINSAL | AD57: HSEC - MINSAL
B58: 2.3.2 | E58: Seguridad
A59: * | C59: 2.3.2.1 | D59: OK | E59: Carpeta de arranque | AD59: HSEC
D60: OK | E60: Sernageomín
D61: OK | E61: Tramitación de jornada especial de trabajo
C62: 2.3.2.6 | E62: Generación procedimientos operativos | AD62: HSEC
C63: 2.3.2.7 | E63: Preparación matriz de riesgo | AD63: HSEC
C64: 2.3.2.8 | E64: Implementación de procedimientos por área de trabajo | AD64: HSEC
C65: 2.3.2.9 | E65: Reunión HSSE con GNL | AD65: HSEC
B66: 2.3.3 | E66: Medio-ambiente
C67: 2.3.3.1 | D67: OK | E67: Permisos de medioambiente | AD67: HSEC
D68: OK | E68: Carpeta de arranque
A69: 2.4 | E69: ÁREAS RELEVANTES
A70: * | B70: 2.4.1 | E70: Planificación y Control Proyectos
D71: OK | E71: Programa de Trabajo Base 1
D72: OK | E72: MAP1-MRP1-IGG1
B77: 2.4.2 | E77: Control de Calidad
D78: OK | E78: Plan de Calidad
D79: OK | E79: Protocolos de Calidad
D80: OK | E80: Definir PIE (Plan de Inspecciones y Ensayos) (En caso que aplique)
B82: 3.9 | E82: Entrega programa de trabajo inicial a GNL | AD82: ADM
C83: 3.14.1 | E83: Baños Químicos (coordinación con GNLQ, para no tener un sobre costo) | F83: * | AD83: ADM
C84: 3.14.4 | E84: Alimentación | AD84: ADM

Sheet LISTAS
B4: Aplica | C4: 1 | D4: 1) Aspectos Contractuales | F4: A | G4: Antes del término de ejecución del proyecto según programa
B5: No Aplica | C5: 2 | D5: 2) Aspectos Contractuales Específicos | F5: D | G5: Después del término de ejecución del proyecto según programa
C6: 3 | D6: 3) Gestión Interna BUILDTEK
