Workbook
Name \a: [1]GENERAL!#REF!
Name \b: [1]GENERAL!#REF!
Name \c: [1]GENERAL!#REF!
Name \d: #REF!
Name \f: [1]GENERAL!#REF!
Name \h: [1]GENERAL!#REF!
Name \i: #REF!
Name \P: [1]GENERAL!$GV$8084
Name \r: [1]GENERAL!#REF!
Name \S: #REF!
Name \t: [1]GENERAL!#REF!
Name \w: [1]GENERAL!#REF!
Name \x: [1]GENERAL!#REF!
Name \z: '[2]N-detail'!#REF!
Name _____DAT10: #REF!
Name _____DAT11: #REF!
Name _____DAT12: #REF!
Name _____DAT13: #REF!
Name _____DAT14: #REF!
Name _____DAT15: #REF!
Name _____DAT16: #REF!
Name _____DAT17: #REF!
Name _____DAT18: #REF!
Name _____DAT19: #REF!
Name _____DAT2: #REF!
Name _____DAT20: #REF!
Name _____DAT3: #REF!
Name _____DAT4: #REF!
Name _____DAT5: #REF!
Name _____DAT6: #REF!
Name _____DAT7: #REF!
Name _____DAT8: #REF!
Name _____DAT9: #REF!
Name _____F: #REF!
Name _____us96: #REF!
Name ____alt1: #REF!
Name ____alt2: #REF!
Name ____BAS1: #REF!
Name ____CCM600: #REF!
Name ____COM1180: #REF!
Name ____DAT1: #REF!
Name ____DAT10: #REF!
Name ____DAT11: #REF!
Name ____DAT12: #REF!
Name ____DAT13: #REF!
Name ____DAT14: #REF!
Name ____DAT15: #REF!
Name ____DAT16: #REF!
Name ____DAT17: #REF!
Name ____DAT18: #REF!
Name ____DAT19: #REF!
Name ____DAT2: #REF!
Name ____DAT20: #REF!
Name ____DAT3: #REF!
Name ____DAT4: #REF!
Name ____DAT5: #REF!
Name ____DAT6: #REF!
Name ____DAT7: #REF!
Name ____DAT8: #REF!
Name ____DAT9: #REF!

Sheet Enunciado Parte 1
B9: Luego de un extenso proceso de revisión de las ofertas técnicas y económicas recibidas, el día 06/05/2023 Arauco ha decidido adjudicar el contrato "Ampliación de Instalaciones Industriales" a la empresa contratista El Canelo, dado que ha obtenido la mayor calificación tanto en la evaluación de la oferta técnica como económica. La adjudicación fue notificada vía carta formal, la cual indica que los pasos a seguir son los siguientes:
B11: Hito | C11: Actividad | D11: Responsable | E11: Fecha
B12: 1 | C12: Adjudicación del Servicio | D12: Arauco | E12: 45052
B13: 2 | C13: Envío de Contrato para Firma | D13: Arauco | E13: 45059
B14: 3 | C14: Devolución de Contrato Firmado | D14: El Canelo | E14: 45064
B15: 4 | C15: Kick Off Meeting | D15: Arauco / El Canelo | E15: 45067
B16: 5 | C16: Fecha de Inicio de Proyecto | D16: El Canelo | E16: 45098
B18: Una vez recibida la información, la Gerencia de Operaciones de El Canelo le notifica al Sr. Raúl Chávez que será el Administrador de Contrato responsable de la obra. Por lo anterior, el Gerente de Proyectos, el Sr. Steve Harrington de El Canelo le solicita que elabore el Plan de Arranque del Contrato, el cual debe contener todas las actividades necesarias para dar un correcto y oportuno inicio a las obras del contrato Nº 1412 -"Ampliación Instalaciones Industriales". Datos Complementarios Código del Contrato: ARAUCO-01 Nombre Gerencia: Gerencia de Proyectos
B19: Por lo tanto, se solicita elaborar el plan de arranque del proyecto de acuerdo a los siguientes pasos:
B21: 1. Datos Generales Plan de Arranque
B22: 1.1 Completar la información general del contrato
B23: 2.2 Establecer que la fecha de inicio del plan de arranque corresponde al día 21/05/2023
B25: 2. Actividades Plan de Arranque
B26: 2.1 Definir responsables y plazos de acuerdo a la siguiente información
B28: Aspectos Contractuales Tipo
B29: Ambito | C29: Encargado | D29: Cargo | E29: Fecha Inicio | F29: Fecha Límite
B30: Administrativo | C30: Nicolás Mondaca | D30: Administrador de Contrato | E30: 45067 | F30: 45111
B31: Ingenieria | C31: Pablo Díaz | D31: Jefe de Oficina Técnica | E31: 45106 | F31: 45121
B32: Construcción | C32: Maximiliano Carrión | D32: Programador y Control Costos | E32: 45106 | F32: 45121
B33: Control de Calidad | C33: Pablo Paredes | D33: Encargado de Calidad | E33: 45106 | F33: 45121
B34: Sustentabilidad | C34: Gonzalo Castro | D34: Encargado Seguridad | E34: 45106 | F34: 45116
B35: Seguridad | C35: Nicolás Valenzuela | D35: Jefe Seguridad | E35: 45067 | F35: 45106
B37: Aspectos Contractuales Específicos
B38: Ambito | C38: Encargado | D38: Cargo | E38: Fecha Inicio | F38: Fecha Límite
B39: Todos | C39: Nicolás Mondaca | D39: Administrador de Contrato | E39: 45067 | F39: 45116
B42: Aspectos Contractuales Específicos
B43: Gestión de Arranque | C43: Encargado | D43: Cargo | E43: Fecha Inicio | F43: Fecha Límite
B44: Gestión de Arranque | C44: Nicolás Mondaca | D44: Administrador de Contrato | E44: 45067 | F44: 45116
B45: RR.HH | C45: Alejandro Bravo | D45: Encargado Relaciones Laborales | E45: 45067 | F45: 45111
B46: Instalación de Faena | C46: Marcelo Pino | D46: Encargado Abastecimiento | E46: 45106 | F46: 45123
B47: Abastecimiento | C47: Marcelo Pino | D47: Encargado Abastecimiento | E47: 45067 | F47: 45126
B48: Planificación y Control Proyectos | C48: Nicolás Mondaca | D48: Administrador de Contrato | E48: 45121 | F48: 45122
B51: 3. Curva Programada / Real Plan de Arranque | H51: Respuesta
B52: 3.1 Grafique la curva programada acumulada del plan de arranque
B53: 3.2 ¿Cuál es el avance programado diario y acumulado del día 05/06/2023? | H53: 0.2408 | I53: Avance Programado Acumulado
H54: 0.015 | I54: Avance Programado Diario
B56: 3.3 Asumiendo que el avance real acumulado del plan de arranque al día 20/06/2023 es de un 80%, ¿que porcentaje de desviación presenta el programa? ¿Cómo lo evaluaría? | H56: 0.8 | I56: Porcentaje Avance Real
H57: 0.4665 | I57: Porcentaje Avance Programado
H58: 0.3335 | I58: Desviación
H59: 1.71 | I59: SPI
...

Sheet Resumen Plan de Arranque
B8: FECHA DE INICIO PLAN DE ARRANQUE | AF8: 45067
B10: INFORMACIÓN GENERAL DEL CONTRATO
C12: NOMBRE CONTRATO | I12: Ampliación Instalaciones Industriales
C14: CONTRATO N° | I14: 1412 | U14: CLIENTE | X14: Arauco
C16: CÓDIGO | I16: ARAUCO-01 | U16: GERENCIA | X16: Gerencia de Proyectos
C18: ADMINISTRADOR DE CONTRATO | I18: Sr. Raúl Chávez | U18: GERENTE | X18: Steve Harrington
B21: AVANCE PLAN DE ARRANQUE
C23: FECHA | I23: 45097
C26: AVANCE ACUMULADO | I26: PROGRAMADO | M26: REAL | Q26: DESVIACIÓN
I27: =+HLOOKUP($I$23,'Plan de Arranque'!$Q$9:$BY$85,'Plan de Arranque'!FA82,) -> 0.46647619 | M27: =+HLOOKUP($I$23,'Plan de Arranque'!$Q$9:$BY$85,'Plan de Arranque'!FA85,) -> 0.7275873 | Q27: =+M27-I27 -> 0.26111111
C28: AVANCE DIARIO | I28: PROGRAMADO | M28: REAL | Q28: DESVIACIÓN
I29: =+HLOOKUP($I$23,'Plan de Arranque'!$Q$9:$BY$85,'Plan de Arranque'!FA81,) -> 0.015047619 | M29: =+HLOOKUP($I$23,'Plan de Arranque'!$Q$9:$BY$85,'Plan de Arranque'!FA84,) -> 0.037039863 | Q29: =+M29-I29 -> 0.021992244
B33: AVANCE PLAN DE RETIRO DE PERSONAL
C36: FECHA | I36: 43889
C38: AVANCE ACUMULADO | I38: PROGRAMADO | M38: REAL | Q38: DESVIACIÓN
I39: =+VLOOKUP($I$36,#REF!,5) -> #REF! | M39: =+VLOOKUP($I$36,#REF!,9) -> #REF! | Q39: =+M39-I39 -> #REF!
C40: AVANCE DIARIO | I40: PROGRAMADO | M40: REAL | Q40: DESVIACIÓN
I41: =+VLOOKUP($I$36,#REF!,4) -> #REF! | M41: =+VLOOKUP($I$36,#REF!,8) -> #REF! | Q41: =+M41-I41 -> #REF!

Sheet Plan de Arranque
Q7: Línea Base | CB7: Avance Real
B9: ETAPA | C9: N° | D9: ACTIVIDAD POR ÁMBITO | E9: APLICA / NO APLICA | F9: RESPONSABLE | G9: CARGO | H9: COMIENZO | I9: TÉRMINO | J9: DURACIÓN [DÍAS] | K9: NIVEL DE CUMPLIMIENTO (%) | L9: OBSERVACIONES | M9: PONDERACIÓN (%) | N9: % AVANCE REAL | O9: RUTA ONE DRIVE | Q9: =+'Resumen Plan de Arranque'!AF8 -> 45067 | R9: =+Q9+1 -> 45068 | S9: =+R9+1 -> 45069 | T9: =+S9+1 -> 45070 | U9: =+T9+1 -> 45071 | V9: =+U9+1 -> 45072 | W9: =+V9+1 -> 45073 | X9: =+W9+1 -> 45074 | Y9: =+X9+1 -> 45075 | ... BY9: =+BX9+1 -> 45127 | CB9: =+Q9 -> 45067 | CC9: =+R9 -> 45068 | CD9: =+S9 -> 45069 | CE9: =+T9 -> 45070 | CF9: =+U9 -> 45071 | CG9: =+V9 -> 45072 | CH9: =+W9 -> 45073 | CI9: =+X9 -> 45074 | ... EJ9: =+BY9 -> 45127
B10: 1) Aspectos Contractuales Tipo (35%)
B11: 1 | C11: 1.1 | D11: Administrativo | EW11: =+IFERROR(M11/J11,0) -> 0
C12: 1.1.1 | D12: Boleta de Garantía por Fiel Cumplimiento | E12: Aplica | F12: Nicolás Mondaca | G12: Administrador de Contrato | H12: 45067 | I12: 45111 | J12: =+IF(H12="","",(I12-H12)+1) -> 45 | K12: =+SUM(CB12:EJ12)/SUM(Q12:BY12) -> 0.68888889 | M12: =25%/35 -> 0.0071428571 | N12: =+K12*M12 -> 0.0049206349 | Q12: =+IF((AND(IF(Q$9>=$H12,TRUE,FALSE),IF(Q$9<=$I12,TRUE,FALSE)))=TRUE,1,"") -> 1 | R12: =+IF((AND(IF(R$9>=$H12,TRUE,FALSE),IF(R$9<=$I12,TRUE,FALSE)))=TRUE,1,"") -> 1 | S12: =+IF((AND(IF(S$9>=$H12,TRUE,FALSE),IF(S$9<=$I12,TRUE,FALSE)))=TRUE,1,"") -> 1 | T12: =+IF((AND(IF(T$9>=$H12,TRUE,FALSE),IF(T$9<=$I12,TRUE,FALSE)))=TRUE,1,"") -> 1 | U12: =+IF((AND(IF(U$9>=$H12,TRUE,FALSE),IF(U$9<=$I12,TRUE,FALSE)))=TRUE,1,"") -> 1 | V12: =+IF((AND(IF(V$9>=$H12,TRUE,FALSE),IF(V$9<=$I12,TRUE,FALSE)))=TRUE,1,"") -> 1 | W12: =+IF((AND(IF(W$9>=$H12,TRUE,FALSE),IF(W$9<=$I12,TRUE,FALSE)))=TRUE,1,"") -> 1 | X12: =+IF((AND(IF(X$9>=$H12,TRUE,FALSE),IF(X$9<=$I12,TRUE,FALSE)))=TRUE,1,"") -> 1 | ... BY12: =+IF((AND(IF(BY$9>=$H12,TRUE,FALSE),IF(BY$9<=$I12,TRUE,FALSE)))=TRUE,1,"") | CB12: 1 | CC12: 1 | CD12: 1 | CE12: 1 | CF12: 1 | CG12: 1 | CH12: 1 | CI12: 1 | CJ12: 1 | CK12: 1 | CL12: 1 | CM12: 1 | CN12: 1 | CO12: 1 | CP12: 1 | CQ12: 1 | CR12: 1 | CS12: 1 | CT12: 1 | CU12: 1 | CV12: 1 | CW12: 1 | CX12: 1 | CY12: 1 | CZ12: 1 | DA12: 1 | DB12: 1 | DC12: 1 | DD12: 1 | DE12: 1 | DF12: 1 | EW12: =+IFERROR(M12/J12,0) -> 0.00015873016
C13: 1.1.2 | D13: Seguros | E13: Aplica | F13: Nicolás Mondaca | G13: Administrador de Contrato | H13: 45067 | I13: 45111 | J13: =+IF(H13="","",(I13-H13)+1) -> 45 | K13: =+SUM(CB13:EJ13)/SUM(Q13:BY13) -> 0.68888889 | M13: =25%/35 -> 0.0071428571 | N13: =+K13*M13 -> 0.0049206349 | Q13: =+IF((AND(IF(Q$9>=$H13,TRUE,FALSE),IF(Q$9<=$I13,TRUE,FALSE)))=TRUE,1,"") -> 1 | R13: =+IF((AND(IF(R$9>=$H13,TRUE,FALSE),IF(R$9<=$I13,TRUE,FALSE)))=TRUE,1,"") -> 1 | S13: =+IF((AND(IF(S$9>=$H13,TRUE,FALSE),IF(S$9<=$I13,TRUE,FALSE)))=TRUE,1,"") -> 1 | T13: =+IF((AND(IF(T$9>=$H13,TRUE,FALSE),IF(T$9<=$I13,TRUE,FALSE)))=TRUE,1,"") -> 1 | U13: =+IF((AND(IF(U$9>=$H13,TRUE,FALSE),IF(U$9<=$I13,TRUE,FALSE)))=TRUE,1,"") -> 1 | V13: =+IF((AND(IF(V$9>=$H13,TRUE,FALSE),IF(V$9<=$I13,TRUE,FALSE)))=TRUE,1,"") -> 1 | W13: =+IF((AND(IF(W$9>=$H13,TRUE,FALSE),IF(W$9<=$I13,TRUE,FALSE)))=TRUE,1,"") -> 1 | X13: =+IF((AND(IF(X$9>=$H13,TRUE,FALSE),IF(X$9<=$I13,TRUE,FALSE)))=TRUE,1,"") -> 1 | ... BY13: =+IF((AND(IF(BY$9>=$H13,TRUE,FALSE),IF(BY$9<=$I13,TRUE,FALSE)))=TRUE,1,"") | CB13: 1 | CC13: 1 | CD13: 1 | CE13: 1 | CF13: 1 | CG13: 1 | CH13: 1 | CI13: 1 | CJ13: 1 | CK13: 1 | CL13: 1 | CM13: 1 | CN13: 1 | CO13: 1 | CP13: 1 | CQ13: 1 | CR13: 1 | CS13: 1 | CT13: 1 | CU13: 1 | CV13: 1 | CW13: 1 | CX13: 1 | CY13: 1 | CZ13: 1 | DA13: 1 | DB13: 1 | DC13: 1 | DD13: 1 | DE13: 1 | DF13: 1 | EW13: =+IFERROR(M13/J13,0) -> 0.00015873016
C14: 1.1.3 | D14: Gestión de Anticipos | E14: Aplica | F14: Nicolás Mondaca | G14: Administrador de Contrato | H14: 45067 | I14: 45111 | J14: =+IF(H14="","",(I14-H14)+1) -> 45 | K14: =+SUM(CB14:EJ14)/SUM(Q14:BY14) -> 0.68888889 | M14: =25%/35 -> 0.0071428571 | N14: =+K14*M14 -> 0.0049206349 | Q14: =+IF((AND(IF(Q$9>=$H14,TRUE,FALSE),IF(Q$9<=$I14,TRUE,FALSE)))=TRUE,1,"") -> 1 | R14: =+IF((AND(IF(R$9>=$H14,TRUE,FALSE),IF(R$9<=$I14,TRUE,FALSE)))=TRUE,1,"") -> 1 | S14: =+IF((AND(IF(S$9>=$H14,TRUE,FALSE),IF(S$9<=$I14,TRUE,FALSE)))=TRUE,1,"") -> 1 | T14: =+IF((AND(IF(T$9>=$H14,TRUE,FALSE),IF(T$9<=$I14,TRUE,FALSE)))=TRUE,1,"") -> 1 | U14: =+IF((AND(IF(U$9>=$H14,TRUE,FALSE),IF(U$9<=$I14,TRUE,FALSE)))=TRUE,1,"") -> 1 | V14: =+IF((AND(IF(V$9>=$H14,TRUE,FALSE),IF(V$9<=$I14,TRUE,FALSE)))=TRUE,1,"") -> 1 | W14: =+IF((AND(IF(W$9>=$H14,TRUE,FALSE),IF(W$9<=$I14,TRUE,FALSE)))=TRUE,1,"") -> 1 | X14: =+IF((AND(IF(X$9>=$H14,TRUE,FALSE),IF(X$9<=$I14,TRUE,FALSE)))=TRUE,1,"") -> 1 | ... BY14: =+IF((AND(IF(BY$9>=$H14,TRUE,FALSE),IF(BY$9<=$I14,TRUE,FALSE)))=TRUE,1,"") | CB14: 1 | CC14: 1 | CD14: 1 | CE14: 1 | CF14: 1 | CG14: 1 | CH14: 1 | CI14: 1 | CJ14: 1 | CK14: 1 | CL14: 1 | CM14: 1 | CN14: 1 | CO14: 1 | CP14: 1 | CQ14: 1 | CR14: 1 | CS14: 1 | CT14: 1 | CU14: 1 | CV14: 1 | CW14: 1 | CX14: 1 | CY14: 1 | CZ14: 1 | DA14: 1 | DB14: 1 | DC14: 1 | DD14: 1 | DE14: 1 | DF14: 1 | EW14: =+IFERROR(M14/J14,0) -> 0.00015873016
C15: 1.1.4 | D15: Reunión "Kick Off" con el Cliente | E15: Aplica | F15: Nicolás Mondaca | G15: Administrador de Contrato | H15: 45067 | I15: 45111 | J15: =+IF(H15="","",(I15-H15)+1) -> 45 | K15: =+SUM(CB15:EJ15)/SUM(Q15:BY15) -> 0.68888889 | M15: =25%/35 -> 0.0071428571 | N15: =+K15*M15 -> 0.0049206349 | Q15: =+IF((AND(IF(Q$9>=$H15,TRUE,FALSE),IF(Q$9<=$I15,TRUE,FALSE)))=TRUE,1,"") -> 1 | R15: =+IF((AND(IF(R$9>=$H15,TRUE,FALSE),IF(R$9<=$I15,TRUE,FALSE)))=TRUE,1,"") -> 1 | S15: =+IF((AND(IF(S$9>=$H15,TRUE,FALSE),IF(S$9<=$I15,TRUE,FALSE)))=TRUE,1,"") -> 1 | T15: =+IF((AND(IF(T$9>=$H15,TRUE,FALSE),IF(T$9<=$I15,TRUE,FALSE)))=TRUE,1,"") -> 1 | U15: =+IF((AND(IF(U$9>=$H15,TRUE,FALSE),IF(U$9<=$I15,TRUE,FALSE)))=TRUE,1,"") -> 1 | V15: =+IF((AND(IF(V$9>=$H15,TRUE,FALSE),IF(V$9<=$I15,TRUE,FALSE)))=TRUE,1,"") -> 1 | W15: =+IF((AND(IF(W$9>=$H15,TRUE,FALSE),IF(W$9<=$I15,TRUE,FALSE)))=TRUE,1,"") -> 1 | X15: =+IF((AND(IF(X$9>=$H15,TRUE,FALSE),IF(X$9<=$I15,TRUE,FALSE)))=TRUE,1,"") -> 1 | ... BY15: =+IF((AND(IF(BY$9>=$H15,TRUE,FALSE),IF(BY$9<=$I15,TRUE,FALSE)))=TRUE,1,"") | CB15: 1 | CC15: 1 | CD15: 1 | CE15: 1 | CF15: 1 | CG15: 1 | CH15: 1 | CI15: 1 | CJ15: 1 | CK15: 1 | CL15: 1 | CM15: 1 | CN15: 1 | CO15: 1 | CP15: 1 | CQ15: 1 | CR15: 1 | CS15: 1 | CT15: 1 | CU15: 1 | CV15: 1 | CW15: 1 | CX15: 1 | CY15: 1 | CZ15: 1 | DA15: 1 | DB15: 1 | DC15: 1 | DD15: 1 | DE15: 1 | DF15: 1 | EW15: =+IFERROR(M15/J15,0) -> 0.00015873016
C16: 1.1.5 | D16: Acta de entrega de Terreno | E16: Aplica | F16: Nicolás Mondaca | G16: Administrador de Contrato | H16: 45067 | I16: 45111 | J16: =+IF(H16="","",(I16-H16)+1) -> 45 | K16: =+SUM(CB16:EJ16)/SUM(Q16:BY16) -> 0.68888889 | M16: =25%/35 -> 0.0071428571 | N16: =+K16*M16 -> 0.0049206349 | Q16: =+IF((AND(IF(Q$9>=$H16,TRUE,FALSE),IF(Q$9<=$I16,TRUE,FALSE)))=TRUE,1,"") -> 1 | R16: =+IF((AND(IF(R$9>=$H16,TRUE,FALSE),IF(R$9<=$I16,TRUE,FALSE)))=TRUE,1,"") -> 1 | S16: =+IF((AND(IF(S$9>=$H16,TRUE,FALSE),IF(S$9<=$I16,TRUE,FALSE)))=TRUE,1,"") -> 1 | T16: =+IF((AND(IF(T$9>=$H16,TRUE,FALSE),IF(T$9<=$I16,TRUE,FALSE)))=TRUE,1,"") -> 1 | U16: =+IF((AND(IF(U$9>=$H16,TRUE,FALSE),IF(U$9<=$I16,TRUE,FALSE)))=TRUE,1,"") -> 1 | V16: =+IF((AND(IF(V$9>=$H16,TRUE,FALSE),IF(V$9<=$I16,TRUE,FALSE)))=TRUE,1,"") -> 1 | W16: =+IF((AND(IF(W$9>=$H16,TRUE,FALSE),IF(W$9<=$I16,TRUE,FALSE)))=TRUE,1,"") -> 1 | X16: =+IF((AND(IF(X$9>=$H16,TRUE,FALSE),IF(X$9<=$I16,TRUE,FALSE)))=TRUE,1,"") -> 1 | ... BY16: =+IF((AND(IF(BY$9>=$H16,TRUE,FALSE),IF(BY$9<=$I16,TRUE,FALSE)))=TRUE,1,"") | CB16: 1 | CC16: 1 | CD16: 1 | CE16: 1 | CF16: 1 | CG16: 1 | CH16: 1 | CI16: 1 | CJ16: 1 | CK16: 1 | CL16: 1 | CM16: 1 | CN16: 1 | CO16: 1 | CP16: 1 | CQ16: 1 | CR16: 1 | CS16: 1 | CT16: 1 | CU16: 1 | CV16: 1 | CW16: 1 | CX16: 1 | CY16: 1 | CZ16: 1 | DA16: 1 | DB16: 1 | DC16: 1 | DD16: 1 | DE16: 1 | DF16: 1 | EW16: =+IFERROR(M16/J16,0) -> 0.00015873016
C17: 1.1.6 | D17: Recepción de Sitio IIFF | E17: Aplica | F17: Nicolás Mondaca | G17: Administrador de Contrato | H17: 45067 | I17: 45111 | J17: =+IF(H17="","",(I17-H17)+1) -> 45 | K17: =+SUM(CB17:EJ17)/SUM(Q17:BY17) -> 0.68888889 | M17: =25%/35 -> 0.0071428571 | N17: =+K17*M17 -> 0.0049206349 | Q17: =+IF((AND(IF(Q$9>=$H17,TRUE,FALSE),IF(Q$9<=$I17,TRUE,FALSE)))=TRUE,1,"") -> 1 | R17: =+IF((AND(IF(R$9>=$H17,TRUE,FALSE),IF(R$9<=$I17,TRUE,FALSE)))=TRUE,1,"") -> 1 | S17: =+IF((AND(IF(S$9>=$H17,TRUE,FALSE),IF(S$9<=$I17,TRUE,FALSE)))=TRUE,1,"") -> 1 | T17: =+IF((AND(IF(T$9>=$H17,TRUE,FALSE),IF(T$9<=$I17,TRUE,FALSE)))=TRUE,1,"") -> 1 | U17: =+IF((AND(IF(U$9>=$H17,TRUE,FALSE),IF(U$9<=$I17,TRUE,FALSE)))=TRUE,1,"") -> 1 | V17: =+IF((AND(IF(V$9>=$H17,TRUE,FALSE),IF(V$9<=$I17,TRUE,FALSE)))=TRUE,1,"") -> 1 | W17: =+IF((AND(IF(W$9>=$H17,TRUE,FALSE),IF(W$9<=$I17,TRUE,FALSE)))=TRUE,1,"") -> 1 | X17: =+IF((AND(IF(X$9>=$H17,TRUE,FALSE),IF(X$9<=$I17,TRUE,FALSE)))=TRUE,1,"") -> 1 | ... BY17: =+IF((AND(IF(BY$9>=$H17,TRUE,FALSE),IF(BY$9<=$I17,TRUE,FALSE)))=TRUE,1,"") | CB17: 1 | CC17: 1 | CD17: 1 | CE17: 1 | CF17: 1 | CG17: 1 | CH17: 1 | CI17: 1 | CJ17: 1 | CK17: 1 | CL17: 1 | CM17: 1 | CN17: 1 | CO17: 1 | CP17: 1 | CQ17: 1 | CR17: 1 | CS17: 1 | CT17: 1 | CU17: 1 | CV17: 1 | CW17: 1 | CX17: 1 | CY17: 1 | CZ17: 1 | DA17: 1 | DB17: 1 | DC17: 1 | DD17: 1 | DE17: 1 | DF17: 1 | EW17: =+IFERROR(M17/J17,0) -> 0.00015873016
B18: 1 | C18: 1.2 | D18: Ingenieria | EW18: =+IFERROR(M18/J18,0) -> 0
C19: 1.2.1 | D19: Bases Técnicas, Procedimientos, Instructivos (última versión) | E19: Aplica | F19: Pablo Díaz | G19: Jefe de Oficina Técnica | H19: 45106 | I19: 45121 | J19: =+IF(H19="","",(I19-H19)+1) -> 16 | K19: =+SUM(CB19:EJ19)/SUM(Q19:BY19) -> 1 | M19: =25%/35 -> 0.0071428571 | N19: =+K19*M19 -> 0.0071428571 | Q19: =+IF((AND(IF(Q$9>=$H19,TRUE,FALSE),IF(Q$9<=$I19,TRUE,FALSE)))=TRUE,1,"") | R19: =+IF((AND(IF(R$9>=$H19,TRUE,FALSE),IF(R$9<=$I19,TRUE,FALSE)))=TRUE,1,"") | S19: =+IF((AND(IF(S$9>=$H19,TRUE,FALSE),IF(S$9<=$I19,TRUE,FALSE)))=TRUE,1,"") | T19: =+IF((AND(IF(T$9>=$H19,TRUE,FALSE),IF(T$9<=$I19,TRUE,FALSE)))=TRUE,1,"") | U19: =+IF((AND(IF(U$9>=$H19,TRUE,FALSE),IF(U$9<=$I19,TRUE,FALSE)))=TRUE,1,"") | V19: =+IF((AND(IF(V$9>=$H19,TRUE,FALSE),IF(V$9<=$I19,TRUE,FALSE)))=TRUE,1,"") | W19: =+IF((AND(IF(W$9>=$H19,TRUE,FALSE),IF(W$9<=$I19,TRUE,FALSE)))=TRUE,1,"") | X19: =+IF((AND(IF(X$9>=$H19,TRUE,FALSE),IF(X$9<=$I19,TRUE,FALSE)))=TRUE,1,"") | ... BY19: =+IF((AND(IF(BY$9>=$H19,TRUE,FALSE),IF(BY$9<=$I19,TRUE,FALSE)))=TRUE,1,"") | CQ19: 1 | CR19: 1 | CS19: 1 | CT19: 1 | CU19: 1 | CV19: 1 | CW19: 1 | CX19: 1 | CY19: 1 | CZ19: 1 | DA19: 1 | DB19: 1 | DC19: 1 | DD19: 1 | DE19: 1 | DF19: 1 | EW19: =+IFERROR(M19/J19,0) -> 0.00044642857
C20: 1.2.2 | D20: Planos (última versión) | E20: Aplica | F20: Pablo Díaz | G20: Jefe de Oficina Técnica | H20: 45106 | I20: 45121 | J20: =+IF(H20="","",(I20-H20)+1) -> 16 | K20: =+SUM(CB20:EJ20)/SUM(Q20:BY20) -> 1 | M20: =25%/35 -> 0.0071428571 | N20: =+K20*M20 -> 0.0071428571 | Q20: =+IF((AND(IF(Q$9>=$H20,TRUE,FALSE),IF(Q$9<=$I20,TRUE,FALSE)))=TRUE,1,"") | R20: =+IF((AND(IF(R$9>=$H20,TRUE,FALSE),IF(R$9<=$I20,TRUE,FALSE)))=TRUE,1,"") | S20: =+IF((AND(IF(S$9>=$H20,TRUE,FALSE),IF(S$9<=$I20,TRUE,FALSE)))=TRUE,1,"") | T20: =+IF((AND(IF(T$9>=$H20,TRUE,FALSE),IF(T$9<=$I20,TRUE,FALSE)))=TRUE,1,"") | U20: =+IF((AND(IF(U$9>=$H20,TRUE,FALSE),IF(U$9<=$I20,TRUE,FALSE)))=TRUE,1,"") | V20: =+IF((AND(IF(V$9>=$H20,TRUE,FALSE),IF(V$9<=$I20,TRUE,FALSE)))=TRUE,1,"") | W20: =+IF((AND(IF(W$9>=$H20,TRUE,FALSE),IF(W$9<=$I20,TRUE,FALSE)))=TRUE,1,"") | X20: =+IF((AND(IF(X$9>=$H20,TRUE,FALSE),IF(X$9<=$I20,TRUE,FALSE)))=TRUE,1,"") | ... BY20: =+IF((AND(IF(BY$9>=$H20,TRUE,FALSE),IF(BY$9<=$I20,TRUE,FALSE)))=TRUE,1,"") | CQ20: 1 | CR20: 1 | CS20: 1 | CT20: 1 | CU20: 1 | CV20: 1 | CW20: 1 | CX20: 1 | CY20: 1 | CZ20: 1 | DA20: 1 | DB20: 1 | DC20: 1 | DD20: 1 | DE20: 1 | DF20: 1 | EW20: =+IFERROR(M20/J20,0) -> 0.00044642857
B21: 1 | C21: 1.3 | D21: Construcción | EW21: =+IFERROR(M21/J21,0) -> 0
C22: 1.3.1 | D22: Programa de Proyecto | E22: Aplica | F22: Maximiliano Carrión | G22: Programador y Control Costos | H22: 45106 | I22: 45121 | J22: =+IF(H22="","",(I22-H22)+1) -> 16 | K22: =+SUM(CB22:EJ22)/SUM(Q22:BY22) -> 1 | M22: 0.1 | N22: =+P22*M22 -> 0 | Q22: =+IF((AND(IF(Q$9>=$H22,TRUE,FALSE),IF(Q$9<=$I22,TRUE,FALSE)))=TRUE,1,"") | R22: =+IF((AND(IF(R$9>=$H22,TRUE,FALSE),IF(R$9<=$I22,TRUE,FALSE)))=TRUE,1,"") | S22: =+IF((AND(IF(S$9>=$H22,TRUE,FALSE),IF(S$9<=$I22,TRUE,FALSE)))=TRUE,1,"") | T22: =+IF((AND(IF(T$9>=$H22,TRUE,FALSE),IF(T$9<=$I22,TRUE,FALSE)))=TRUE,1,"") | U22: =+IF((AND(IF(U$9>=$H22,TRUE,FALSE),IF(U$9<=$I22,TRUE,FALSE)))=TRUE,1,"") | V22: =+IF((AND(IF(V$9>=$H22,TRUE,FALSE),IF(V$9<=$I22,TRUE,FALSE)))=TRUE,1,"") | W22: =+IF((AND(IF(W$9>=$H22,TRUE,FALSE),IF(W$9<=$I22,TRUE,FALSE)))=TRUE,1,"") | X22: =+IF((AND(IF(X$9>=$H22,TRUE,FALSE),IF(X$9<=$I22,TRUE,FALSE)))=TRUE,1,"") | ... BY22: =+IF((AND(IF(BY$9>=$H22,TRUE,FALSE),IF(BY$9<=$I22,TRUE,FALSE)))=TRUE,1,"") | CQ22: 1 | CR22: 1 | CS22: 1 | CT22: 1 | CU22: 1 | CV22: 1 | CW22: 1 | CX22: 1 | CY22: 1 | CZ22: 1 | DA22: 1 | DB22: 1 | DC22: 1 | DD22: 1 | DE22: 1 | DF22: 1 | EW22: =+IFERROR(M22/J22,0) -> 0.00625
C23: 1.3.2 | D23: Procedimientos de Fabricación (si es necesario). | E23: Aplica | F23: Maximiliano Carrión | G23: Programador y Control Costos | H23: 45106 | I23: 45121 | J23: =+IF(H23="","",(I23-H23)+1) -> 16 | K23: =+SUM(CB23:EJ23)/SUM(Q23:BY23) -> 1 | M23: =25%/35 -> 0.0071428571 | N23: =+K23*M23 -> 0.0071428571 | Q23: =+IF((AND(IF(Q$9>=$H23,TRUE,FALSE),IF(Q$9<=$I23,TRUE,FALSE)))=TRUE,1,"") | R23: =+IF((AND(IF(R$9>=$H23,TRUE,FALSE),IF(R$9<=$I23,TRUE,FALSE)))=TRUE,1,"") | S23: =+IF((AND(IF(S$9>=$H23,TRUE,FALSE),IF(S$9<=$I23,TRUE,FALSE)))=TRUE,1,"") | T23: =+IF((AND(IF(T$9>=$H23,TRUE,FALSE),IF(T$9<=$I23,TRUE,FALSE)))=TRUE,1,"") | U23: =+IF((AND(IF(U$9>=$H23,TRUE,FALSE),IF(U$9<=$I23,TRUE,FALSE)))=TRUE,1,"") | V23: =+IF((AND(IF(V$9>=$H23,TRUE,FALSE),IF(V$9<=$I23,TRUE,FALSE)))=TRUE,1,"") | W23: =+IF((AND(IF(W$9>=$H23,TRUE,FALSE),IF(W$9<=$I23,TRUE,FALSE)))=TRUE,1,"") | X23: =+IF((AND(IF(X$9>=$H23,TRUE,FALSE),IF(X$9<=$I23,TRUE,FALSE)))=TRUE,1,"") | ... BY23: =+IF((AND(IF(BY$9>=$H23,TRUE,FALSE),IF(BY$9<=$I23,TRUE,FALSE)))=TRUE,1,"") | CQ23: 1 | CR23: 1 | CS23: 1 | CT23: 1 | CU23: 1 | CV23: 1 | CW23: 1 | CX23: 1 | CY23: 1 | CZ23: 1 | DA23: 1 | DB23: 1 | DC23: 1 | DD23: 1 | DE23: 1 | DF23: 1 | EW23: =+IFERROR(M23/J23,0) -> 0.00044642857
C24: 1.3.3 | D24: Procedimientos de Construcción. | E24: Aplica | F24: Maximiliano Carrión | G24: Programador y Control Costos | H24: 45106 | I24: 45121 | J24: =+IF(H24="","",(I24-H24)+1) -> 16 | K24: =+SUM(CB24:EJ24)/SUM(Q24:BY24) -> 1 | M24: =25%/35 -> 0.0071428571 | N24: =+K24*M24 -> 0.0071428571 | Q24: =+IF((AND(IF(Q$9>=$H24,TRUE,FALSE),IF(Q$9<=$I24,TRUE,FALSE)))=TRUE,1,"") | R24: =+IF((AND(IF(R$9>=$H24,TRUE,FALSE),IF(R$9<=$I24,TRUE,FALSE)))=TRUE,1,"") | S24: =+IF((AND(IF(S$9>=$H24,TRUE,FALSE),IF(S$9<=$I24,TRUE,FALSE)))=TRUE,1,"") | T24: =+IF((AND(IF(T$9>=$H24,TRUE,FALSE),IF(T$9<=$I24,TRUE,FALSE)))=TRUE,1,"") | U24: =+IF((AND(IF(U$9>=$H24,TRUE,FALSE),IF(U$9<=$I24,TRUE,FALSE)))=TRUE,1,"") | V24: =+IF((AND(IF(V$9>=$H24,TRUE,FALSE),IF(V$9<=$I24,TRUE,FALSE)))=TRUE,1,"") | W24: =+IF((AND(IF(W$9>=$H24,TRUE,FALSE),IF(W$9<=$I24,TRUE,FALSE)))=TRUE,1,"") | X24: =+IF((AND(IF(X$9>=$H24,TRUE,FALSE),IF(X$9<=$I24,TRUE,FALSE)))=TRUE,1,"") | ... BY24: =+IF((AND(IF(BY$9>=$H24,TRUE,FALSE),IF(BY$9<=$I24,TRUE,FALSE)))=TRUE,1,"") | CQ24: 1 | CR24: 1 | CS24: 1 | CT24: 1 | CU24: 1 | CV24: 1 | CW24: 1 | CX24: 1 | CY24: 1 | CZ24: 1 | DA24: 1 | DB24: 1 | DC24: 1 | DD24: 1 | DE24: 1 | DF24: 1 | EW24: =+IFERROR(M24/J24,0) -> 0.00044642857
C25: 1.3.4 | D25: Facilidades de instalaciones y equipos del mandante. | E25: Aplica | F25: Maximiliano Carrión | G25: Programador y Control Costos | H25: 45106 | I25: 45121 | J25: =+IF(H25="","",(I25-H25)+1) -> 16 | K25: =+SUM(CB25:EJ25)/SUM(Q25:BY25) -> 1 | M25: =25%/35 -> 0.0071428571 | N25: =+K25*M25 -> 0.0071428571 | Q25: =+IF((AND(IF(Q$9>=$H25,TRUE,FALSE),IF(Q$9<=$I25,TRUE,FALSE)))=TRUE,1,"") | R25: =+IF((AND(IF(R$9>=$H25,TRUE,FALSE),IF(R$9<=$I25,TRUE,FALSE)))=TRUE,1,"") | S25: =+IF((AND(IF(S$9>=$H25,TRUE,FALSE),IF(S$9<=$I25,TRUE,FALSE)))=TRUE,1,"") | T25: =+IF((AND(IF(T$9>=$H25,TRUE,FALSE),IF(T$9<=$I25,TRUE,FALSE)))=TRUE,1,"") | U25: =+IF((AND(IF(U$9>=$H25,TRUE,FALSE),IF(U$9<=$I25,TRUE,FALSE)))=TRUE,1,"") | V25: =+IF((AND(IF(V$9>=$H25,TRUE,FALSE),IF(V$9<=$I25,TRUE,FALSE)))=TRUE,1,"") | W25: =+IF((AND(IF(W$9>=$H25,TRUE,FALSE),IF(W$9<=$I25,TRUE,FALSE)))=TRUE,1,"") | X25: =+IF((AND(IF(X$9>=$H25,TRUE,FALSE),IF(X$9<=$I25,TRUE,FALSE)))=TRUE,1,"") | ... BY25: =+IF((AND(IF(BY$9>=$H25,TRUE,FALSE),IF(BY$9<=$I25,TRUE,FALSE)))=TRUE,1,"") | CQ25: 1 | CR25: 1 | CS25: 1 | CT25: 1 | CU25: 1 | CV25: 1 | CW25: 1 | CX25: 1 | CY25: 1 | CZ25: 1 | DA25: 1 | DB25: 1 | DC25: 1 | DD25: 1 | DE25: 1 | DF25: 1 | EW25: =+IFERROR(M25/J25,0) -> 0.00044642857
C26: 1.3.5 | D26: Suministro de energía eléctrica (de proceder). | E26: Aplica | F26: Maximiliano Carrión | G26: Programador y Control Costos | H26: 45106 | I26: 45121 | J26: =+IF(H26="","",(I26-H26)+1) -> 16 | K26: =+SUM(CB26:EJ26)/SUM(Q26:BY26) -> 1 | M26: =25%/35 -> 0.0071428571 | N26: =+K26*M26 -> 0.0071428571 | Q26: =+IF((AND(IF(Q$9>=$H26,TRUE,FALSE),IF(Q$9<=$I26,TRUE,FALSE)))=TRUE,1,"") | R26: =+IF((AND(IF(R$9>=$H26,TRUE,FALSE),IF(R$9<=$I26,TRUE,FALSE)))=TRUE,1,"") | S26: =+IF((AND(IF(S$9>=$H26,TRUE,FALSE),IF(S$9<=$I26,TRUE,FALSE)))=TRUE,1,"") | T26: =+IF((AND(IF(T$9>=$H26,TRUE,FALSE),IF(T$9<=$I26,TRUE,FALSE)))=TRUE,1,"") | U26: =+IF((AND(IF(U$9>=$H26,TRUE,FALSE),IF(U$9<=$I26,TRUE,FALSE)))=TRUE,1,"") | V26: =+IF((AND(IF(V$9>=$H26,TRUE,FALSE),IF(V$9<=$I26,TRUE,FALSE)))=TRUE,1,"") | W26: =+IF((AND(IF(W$9>=$H26,TRUE,FALSE),IF(W$9<=$I26,TRUE,FALSE)))=TRUE,1,"") | X26: =+IF((AND(IF(X$9>=$H26,TRUE,FALSE),IF(X$9<=$I26,TRUE,FALSE)))=TRUE,1,"") | ... BY26: =+IF((AND(IF(BY$9>=$H26,TRUE,FALSE),IF(BY$9<=$I26,TRUE,FALSE)))=TRUE,1,"") | CQ26: 1 | CR26: 1 | CS26: 1 | CT26: 1 | CU26: 1 | CV26: 1 | CW26: 1 | CX26: 1 | CY26: 1 | CZ26: 1 | DA26: 1 | DB26: 1 | DC26: 1 | DD26: 1 | DE26: 1 | DF26: 1 | EW26: =+IFERROR(M26/J26,0) -> 0.00044642857
C27: 1.3.6 | D27: Suministro de Agua Potable e Industrial (de proceder). | E27: Aplica | F27: Maximiliano Carrión | G27: Programador y Control Costos | H27: 45106 | I27: 45121 | J27: =+IF(H27="","",(I27-H27)+1) -> 16 | K27: =+SUM(CB27:EJ27)/SUM(Q27:BY27) -> 1 | M27: =25%/35 -> 0.0071428571 | N27: =+K27*M27 -> 0.0071428571 | Q27: =+IF((AND(IF(Q$9>=$H27,TRUE,FALSE),IF(Q$9<=$I27,TRUE,FALSE)))=TRUE,1,"") | R27: =+IF((AND(IF(R$9>=$H27,TRUE,FALSE),IF(R$9<=$I27,TRUE,FALSE)))=TRUE,1,"") | S27: =+IF((AND(IF(S$9>=$H27,TRUE,FALSE),IF(S$9<=$I27,TRUE,FALSE)))=TRUE,1,"") | T27: =+IF((AND(IF(T$9>=$H27,TRUE,FALSE),IF(T$9<=$I27,TRUE,FALSE)))=TRUE,1,"") | U27: =+IF((AND(IF(U$9>=$H27,TRUE,FALSE),IF(U$9<=$I27,TRUE,FALSE)))=TRUE,1,"") | V27: =+IF((AND(IF(V$9>=$H27,TRUE,FALSE),IF(V$9<=$I27,TRUE,FALSE)))=TRUE,1,"") | W27: =+IF((AND(IF(W$9>=$H27,TRUE,FALSE),IF(W$9<=$I27,TRUE,FALSE)))=TRUE,1,"") | X27: =+IF((AND(IF(X$9>=$H27,TRUE,FALSE),IF(X$9<=$I27,TRUE,FALSE)))=TRUE,1,"") | ... BY27: =+IF((AND(IF(BY$9>=$H27,TRUE,FALSE),IF(BY$9<=$I27,TRUE,FALSE)))=TRUE,1,"") | CQ27: 1 | CR27: 1 | CS27: 1 | CT27: 1 | CU27: 1 | CV27: 1 | CW27: 1 | CX27: 1 | CY27: 1 | CZ27: 1 | DA27: 1 | DB27: 1 | DC27: 1 | DD27: 1 | DE27: 1 | DF27: 1 | EW27: =+IFERROR(M27/J27,0) -> 0.00044642857
C28: 1.3.7 | D28: Sistema de Comunicaciones propuesto | E28: Aplica | F28: Maximiliano Carrión | G28: Programador y Control Costos | H28: 45106 | I28: 45121 | J28: =+IF(H28="","",(I28-H28)+1) -> 16 | K28: =+SUM(CB28:EJ28)/SUM(Q28:BY28) -> 1 | M28: =25%/35 -> 0.0071428571 | N28: =+K28*M28 -> 0.0071428571 | Q28: =+IF((AND(IF(Q$9>=$H28,TRUE,FALSE),IF(Q$9<=$I28,TRUE,FALSE)))=TRUE,1,"") | R28: =+IF((AND(IF(R$9>=$H28,TRUE,FALSE),IF(R$9<=$I28,TRUE,FALSE)))=TRUE,1,"") | S28: =+IF((AND(IF(S$9>=$H28,TRUE,FALSE),IF(S$9<=$I28,TRUE,FALSE)))=TRUE,1,"") | T28: =+IF((AND(IF(T$9>=$H28,TRUE,FALSE),IF(T$9<=$I28,TRUE,FALSE)))=TRUE,1,"") | U28: =+IF((AND(IF(U$9>=$H28,TRUE,FALSE),IF(U$9<=$I28,TRUE,FALSE)))=TRUE,1,"") | V28: =+IF((AND(IF(V$9>=$H28,TRUE,FALSE),IF(V$9<=$I28,TRUE,FALSE)))=TRUE,1,"") | W28: =+IF((AND(IF(W$9>=$H28,TRUE,FALSE),IF(W$9<=$I28,TRUE,FALSE)))=TRUE,1,"") | X28: =+IF((AND(IF(X$9>=$H28,TRUE,FALSE),IF(X$9<=$I28,TRUE,FALSE)))=TRUE,1,"") | ... BY28: =+IF((AND(IF(BY$9>=$H28,TRUE,FALSE),IF(BY$9<=$I28,TRUE,FALSE)))=TRUE,1,"") | CQ28: 1 | CR28: 1 | CS28: 1 | CT28: 1 | CU28: 1 | CV28: 1 | CW28: 1 | CX28: 1 | CY28: 1 | CZ28: 1 | DA28: 1 | DB28: 1 | DC28: 1 | DD28: 1 | DE28: 1 | DF28: 1 | EW28: =+IFERROR(M28/J28,0) -> 0.00044642857
C29: 1.3.8 | D29: Normas de acceso a la obra. | E29: Aplica | F29: Maximiliano Carrión | G29: Programador y Control Costos | H29: 45106 | I29: 45121 | J29: =+IF(H29="","",(I29-H29)+1) -> 16 | K29: =+SUM(CB29:EJ29)/SUM(Q29:BY29) -> 1 | M29: =25%/35 -> 0.0071428571 | N29: =+K29*M29 -> 0.0071428571 | Q29: =+IF((AND(IF(Q$9>=$H29,TRUE,FALSE),IF(Q$9<=$I29,TRUE,FALSE)))=TRUE,1,"") | R29: =+IF((AND(IF(R$9>=$H29,TRUE,FALSE),IF(R$9<=$I29,TRUE,FALSE)))=TRUE,1,"") | S29: =+IF((AND(IF(S$9>=$H29,TRUE,FALSE),IF(S$9<=$I29,TRUE,FALSE)))=TRUE,1,"") | T29: =+IF((AND(IF(T$9>=$H29,TRUE,FALSE),IF(T$9<=$I29,TRUE,FALSE)))=TRUE,1,"") | U29: =+IF((AND(IF(U$9>=$H29,TRUE,FALSE),IF(U$9<=$I29,TRUE,FALSE)))=TRUE,1,"") | V29: =+IF((AND(IF(V$9>=$H29,TRUE,FALSE),IF(V$9<=$I29,TRUE,FALSE)))=TRUE,1,"") | W29: =+IF((AND(IF(W$9>=$H29,TRUE,FALSE),IF(W$9<=$I29,TRUE,FALSE)))=TRUE,1,"") | X29: =+IF((AND(IF(X$9>=$H29,TRUE,FALSE),IF(X$9<=$I29,TRUE,FALSE)))=TRUE,1,"") | ... BY29: =+IF((AND(IF(BY$9>=$H29,TRUE,FALSE),IF(BY$9<=$I29,TRUE,FALSE)))=TRUE,1,"") | CQ29: 1 | CR29: 1 | CS29: 1 | CT29: 1 | CU29: 1 | CV29: 1 | CW29: 1 | CX29: 1 | CY29: 1 | CZ29: 1 | DA29: 1 | DB29: 1 | DC29: 1 | DD29: 1 | DE29: 1 | DF29: 1 | EW29: =+IFERROR(M29/J29,0) -> 0.00044642857
B30: 1 | C30: 1.4 | D30: Control de Calidad | EW30: =+IFERROR(M30/J30,0) -> 0
C31: 1.4.1 | D31: Plan de A&CC | E31: Aplica | F31: Pablo Paredes | G31: Encargado de Calidad | H31: 45106 | I31: 45121 | J31: =+IF(H31="","",(I31-H31)+1) -> 16 | K31: =+SUM(CB31:EJ31)/SUM(Q31:BY31) -> 1 | M31: =25%/35 -> 0.0071428571 | N31: =+K31*M31 -> 0.0071428571 | Q31: =+IF((AND(IF(Q$9>=$H31,TRUE,FALSE),IF(Q$9<=$I31,TRUE,FALSE)))=TRUE,1,"") | R31: =+IF((AND(IF(R$9>=$H31,TRUE,FALSE),IF(R$9<=$I31,TRUE,FALSE)))=TRUE,1,"") | S31: =+IF((AND(IF(S$9>=$H31,TRUE,FALSE),IF(S$9<=$I31,TRUE,FALSE)))=TRUE,1,"") | T31: =+IF((AND(IF(T$9>=$H31,TRUE,FALSE),IF(T$9<=$I31,TRUE,FALSE)))=TRUE,1,"") | U31: =+IF((AND(IF(U$9>=$H31,TRUE,FALSE),IF(U$9<=$I31,TRUE,FALSE)))=TRUE,1,"") | V31: =+IF((AND(IF(V$9>=$H31,TRUE,FALSE),IF(V$9<=$I31,TRUE,FALSE)))=TRUE,1,"") | W31: =+IF((AND(IF(W$9>=$H31,TRUE,FALSE),IF(W$9<=$I31,TRUE,FALSE)))=TRUE,1,"") | X31: =+IF((AND(IF(X$9>=$H31,TRUE,FALSE),IF(X$9<=$I31,TRUE,FALSE)))=TRUE,1,"") | ... BY31: =+IF((AND(IF(BY$9>=$H31,TRUE,FALSE),IF(BY$9<=$I31,TRUE,FALSE)))=TRUE,1,"") | CQ31: 1 | CR31: 1 | CS31: 1 | CT31: 1 | CU31: 1 | CV31: 1 | CW31: 1 | CX31: 1 | CY31: 1 | CZ31: 1 | DA31: 1 | DB31: 1 | DC31: 1 | DD31: 1 | DE31: 1 | DF31: 1 | EW31: =+IFERROR(M31/J31,0) -> 0.00044642857
C32: 1.4.2 | D32: Organización (Organigrama de Proyecto) | E32: Aplica | F32: Pablo Paredes | G32: Encargado de Calidad | H32: 45106 | I32: 45121 | J32: =+IF(H32="","",(I32-H32)+1) -> 16 | K32: =+SUM(CB32:EJ32)/SUM(Q32:BY32) -> 1 | M32: =25%/35 -> 0.0071428571 | N32: =+K32*M32 -> 0.0071428571 | Q32: =+IF((AND(IF(Q$9>=$H32,TRUE,FALSE),IF(Q$9<=$I32,TRUE,FALSE)))=TRUE,1,"") | R32: =+IF((AND(IF(R$9>=$H32,TRUE,FALSE),IF(R$9<=$I32,TRUE,FALSE)))=TRUE,1,"") | S32: =+IF((AND(IF(S$9>=$H32,TRUE,FALSE),IF(S$9<=$I32,TRUE,FALSE)))=TRUE,1,"") | T32: =+IF((AND(IF(T$9>=$H32,TRUE,FALSE),IF(T$9<=$I32,TRUE,FALSE)))=TRUE,1,"") | U32: =+IF((AND(IF(U$9>=$H32,TRUE,FALSE),IF(U$9<=$I32,TRUE,FALSE)))=TRUE,1,"") | V32: =+IF((AND(IF(V$9>=$H32,TRUE,FALSE),IF(V$9<=$I32,TRUE,FALSE)))=TRUE,1,"") | W32: =+IF((AND(IF(W$9>=$H32,TRUE,FALSE),IF(W$9<=$I32,TRUE,FALSE)))=TRUE,1,"") | X32: =+IF((AND(IF(X$9>=$H32,TRUE,FALSE),IF(X$9<=$I32,TRUE,FALSE)))=TRUE,1,"") | ... BY32: =+IF((AND(IF(BY$9>=$H32,TRUE,FALSE),IF(BY$9<=$I32,TRUE,FALSE)))=TRUE,1,"") | CQ32: 1 | CR32: 1 | CS32: 1 | CT32: 1 | CU32: 1 | CV32: 1 | CW32: 1 | CX32: 1 | CY32: 1 | CZ32: 1 | DA32: 1 | DB32: 1 | DC32: 1 | DD32: 1 | DE32: 1 | DF32: 1 | EW32: =+IFERROR(M32/J32,0) -> 0.00044642857
C33: 1.4.3 | D33: Procedimientos de Gestión | E33: Aplica | F33: Pablo Paredes | G33: Encargado de Calidad | H33: 45106 | I33: 45121 | J33: =+IF(H33="","",(I33-H33)+1) -> 16 | K33: =+SUM(CB33:EJ33)/SUM(Q33:BY33) -> 1 | M33: =25%/35 -> 0.0071428571 | N33: =+K33*M33 -> 0.0071428571 | Q33: =+IF((AND(IF(Q$9>=$H33,TRUE,FALSE),IF(Q$9<=$I33,TRUE,FALSE)))=TRUE,1,"") | R33: =+IF((AND(IF(R$9>=$H33,TRUE,FALSE),IF(R$9<=$I33,TRUE,FALSE)))=TRUE,1,"") | S33: =+IF((AND(IF(S$9>=$H33,TRUE,FALSE),IF(S$9<=$I33,TRUE,FALSE)))=TRUE,1,"") | T33: =+IF((AND(IF(T$9>=$H33,TRUE,FALSE),IF(T$9<=$I33,TRUE,FALSE)))=TRUE,1,"") | U33: =+IF((AND(IF(U$9>=$H33,TRUE,FALSE),IF(U$9<=$I33,TRUE,FALSE)))=TRUE,1,"") | V33: =+IF((AND(IF(V$9>=$H33,TRUE,FALSE),IF(V$9<=$I33,TRUE,FALSE)))=TRUE,1,"") | W33: =+IF((AND(IF(W$9>=$H33,TRUE,FALSE),IF(W$9<=$I33,TRUE,FALSE)))=TRUE,1,"") | X33: =+IF((AND(IF(X$9>=$H33,TRUE,FALSE),IF(X$9<=$I33,TRUE,FALSE)))=TRUE,1,"") | ... BY33: =+IF((AND(IF(BY$9>=$H33,TRUE,FALSE),IF(BY$9<=$I33,TRUE,FALSE)))=TRUE,1,"") | CQ33: 1 | CR33: 1 | CS33: 1 | CT33: 1 | CU33: 1 | CV33: 1 | CW33: 1 | CX33: 1 | CY33: 1 | CZ33: 1 | DA33: 1 | DB33: 1 | DC33: 1 | DD33: 1 | DE33: 1 | DF33: 1 | EW33: =+IFERROR(M33/J33,0) -> 0.00044642857
C34: 1.4.4 | D34: Procedimientos de Operación | E34: Aplica | F34: Pablo Paredes | G34: Encargado de Calidad | H34: 45106 | I34: 45121 | J34: =+IF(H34="","",(I34-H34)+1) -> 16 | K34: =+SUM(CB34:EJ34)/SUM(Q34:BY34) -> 1 | M34: =25%/35 -> 0.0071428571 | N34: =+K34*M34 -> 0.0071428571 | Q34: =+IF((AND(IF(Q$9>=$H34,TRUE,FALSE),IF(Q$9<=$I34,TRUE,FALSE)))=TRUE,1,"") | R34: =+IF((AND(IF(R$9>=$H34,TRUE,FALSE),IF(R$9<=$I34,TRUE,FALSE)))=TRUE,1,"") | S34: =+IF((AND(IF(S$9>=$H34,TRUE,FALSE),IF(S$9<=$I34,TRUE,FALSE)))=TRUE,1,"") | T34: =+IF((AND(IF(T$9>=$H34,TRUE,FALSE),IF(T$9<=$I34,TRUE,FALSE)))=TRUE,1,"") | U34: =+IF((AND(IF(U$9>=$H34,TRUE,FALSE),IF(U$9<=$I34,TRUE,FALSE)))=TRUE,1,"") | V34: =+IF((AND(IF(V$9>=$H34,TRUE,FALSE),IF(V$9<=$I34,TRUE,FALSE)))=TRUE,1,"") | W34: =+IF((AND(IF(W$9>=$H34,TRUE,FALSE),IF(W$9<=$I34,TRUE,FALSE)))=TRUE,1,"") | X34: =+IF((AND(IF(X$9>=$H34,TRUE,FALSE),IF(X$9<=$I34,TRUE,FALSE)))=TRUE,1,"") | ... BY34: =+IF((AND(IF(BY$9>=$H34,TRUE,FALSE),IF(BY$9<=$I34,TRUE,FALSE)))=TRUE,1,"") | CQ34: 1 | CR34: 1 | CS34: 1 | CT34: 1 | CU34: 1 | CV34: 1 | CW34: 1 | CX34: 1 | CY34: 1 | CZ34: 1 | DA34: 1 | DB34: 1 | DC34: 1 | DD34: 1 | DE34: 1 | DF34: 1 | EW34: =+IFERROR(M34/J34,0) -> 0.00044642857
C35: 1.4.5 | D35: Plan de inspección y ensayo | E35: Aplica | F35: Pablo Paredes | G35: Encargado de Calidad | H35: 45106 | I35: 45121 | J35: =+IF(H35="","",(I35-H35)+1) -> 16 | K35: =+SUM(CB35:EJ35)/SUM(Q35:BY35) -> 1 | M35: =25%/35 -> 0.0071428571 | N35: =+K35*M35 -> 0.0071428571 | Q35: =+IF((AND(IF(Q$9>=$H35,TRUE,FALSE),IF(Q$9<=$I35,TRUE,FALSE)))=TRUE,1,"") | R35: =+IF((AND(IF(R$9>=$H35,TRUE,FALSE),IF(R$9<=$I35,TRUE,FALSE)))=TRUE,1,"") | S35: =+IF((AND(IF(S$9>=$H35,TRUE,FALSE),IF(S$9<=$I35,TRUE,FALSE)))=TRUE,1,"") | T35: =+IF((AND(IF(T$9>=$H35,TRUE,FALSE),IF(T$9<=$I35,TRUE,FALSE)))=TRUE,1,"") | U35: =+IF((AND(IF(U$9>=$H35,TRUE,FALSE),IF(U$9<=$I35,TRUE,FALSE)))=TRUE,1,"") | V35: =+IF((AND(IF(V$9>=$H35,TRUE,FALSE),IF(V$9<=$I35,TRUE,FALSE)))=TRUE,1,"") | W35: =+IF((AND(IF(W$9>=$H35,TRUE,FALSE),IF(W$9<=$I35,TRUE,FALSE)))=TRUE,1,"") | X35: =+IF((AND(IF(X$9>=$H35,TRUE,FALSE),IF(X$9<=$I35,TRUE,FALSE)))=TRUE,1,"") | ... BY35: =+IF((AND(IF(BY$9>=$H35,TRUE,FALSE),IF(BY$9<=$I35,TRUE,FALSE)))=TRUE,1,"") | CQ35: 1 | CR35: 1 | CS35: 1 | CT35: 1 | CU35: 1 | CV35: 1 | CW35: 1 | CX35: 1 | CY35: 1 | CZ35: 1 | DA35: 1 | DB35: 1 | DC35: 1 | DD35: 1 | DE35: 1 | DF35: 1 | EW35: =+IFERROR(M35/J35,0) -> 0.00044642857
C36: 1.4.6 | D36: Validación de Planta de hormigones | E36: Aplica | F36: Pablo Paredes | G36: Encargado de Calidad | H36: 45106 | I36: 45121 | J36: =+IF(H36="","",(I36-H36)+1) -> 16 | K36: =+SUM(CB36:EJ36)/SUM(Q36:BY36) -> 1 | M36: =25%/35 -> 0.0071428571 | N36: =+K36*M36 -> 0.0071428571 | Q36: =+IF((AND(IF(Q$9>=$H36,TRUE,FALSE),IF(Q$9<=$I36,TRUE,FALSE)))=TRUE,1,"") | R36: =+IF((AND(IF(R$9>=$H36,TRUE,FALSE),IF(R$9<=$I36,TRUE,FALSE)))=TRUE,1,"") | S36: =+IF((AND(IF(S$9>=$H36,TRUE,FALSE),IF(S$9<=$I36,TRUE,FALSE)))=TRUE,1,"") | T36: =+IF((AND(IF(T$9>=$H36,TRUE,FALSE),IF(T$9<=$I36,TRUE,FALSE)))=TRUE,1,"") | U36: =+IF((AND(IF(U$9>=$H36,TRUE,FALSE),IF(U$9<=$I36,TRUE,FALSE)))=TRUE,1,"") | V36: =+IF((AND(IF(V$9>=$H36,TRUE,FALSE),IF(V$9<=$I36,TRUE,FALSE)))=TRUE,1,"") | W36: =+IF((AND(IF(W$9>=$H36,TRUE,FALSE),IF(W$9<=$I36,TRUE,FALSE)))=TRUE,1,"") | X36: =+IF((AND(IF(X$9>=$H36,TRUE,FALSE),IF(X$9<=$I36,TRUE,FALSE)))=TRUE,1,"") | ... BY36: =+IF((AND(IF(BY$9>=$H36,TRUE,FALSE),IF(BY$9<=$I36,TRUE,FALSE)))=TRUE,1,"") | CQ36: 1 | CR36: 1 | CS36: 1 | CT36: 1 | CU36: 1 | CV36: 1 | CW36: 1 | CX36: 1 | CY36: 1 | CZ36: 1 | DA36: 1 | DB36: 1 | DC36: 1 | DD36: 1 | DE36: 1 | DF36: 1 | EW36: =+IFERROR(M36/J36,0) -> 0.00044642857
C37: 1.4.7 | D37: Validación de Calificación de Soldadores | E37: Aplica | F37: Pablo Paredes | G37: Encargado de Calidad | H37: 45106 | I37: 45121 | J37: =+IF(H37="","",(I37-H37)+1) -> 16 | K37: =+SUM(CB37:EJ37)/SUM(Q37:BY37) -> 1 | M37: =25%/35 -> 0.0071428571 | N37: =+K37*M37 -> 0.0071428571 | Q37: =+IF((AND(IF(Q$9>=$H37,TRUE,FALSE),IF(Q$9<=$I37,TRUE,FALSE)))=TRUE,1,"") | R37: =+IF((AND(IF(R$9>=$H37,TRUE,FALSE),IF(R$9<=$I37,TRUE,FALSE)))=TRUE,1,"") | S37: =+IF((AND(IF(S$9>=$H37,TRUE,FALSE),IF(S$9<=$I37,TRUE,FALSE)))=TRUE,1,"") | T37: =+IF((AND(IF(T$9>=$H37,TRUE,FALSE),IF(T$9<=$I37,TRUE,FALSE)))=TRUE,1,"") | U37: =+IF((AND(IF(U$9>=$H37,TRUE,FALSE),IF(U$9<=$I37,TRUE,FALSE)))=TRUE,1,"") | V37: =+IF((AND(IF(V$9>=$H37,TRUE,FALSE),IF(V$9<=$I37,TRUE,FALSE)))=TRUE,1,"") | W37: =+IF((AND(IF(W$9>=$H37,TRUE,FALSE),IF(W$9<=$I37,TRUE,FALSE)))=TRUE,1,"") | X37: =+IF((AND(IF(X$9>=$H37,TRUE,FALSE),IF(X$9<=$I37,TRUE,FALSE)))=TRUE,1,"") | ... BY37: =+IF((AND(IF(BY$9>=$H37,TRUE,FALSE),IF(BY$9<=$I37,TRUE,FALSE)))=TRUE,1,"") | CQ37: 1 | CR37: 1 | CS37: 1 | CT37: 1 | CU37: 1 | CV37: 1 | CW37: 1 | CX37: 1 | CY37: 1 | CZ37: 1 | DA37: 1 | DB37: 1 | DC37: 1 | DD37: 1 | DE37: 1 | DF37: 1 | EW37: =+IFERROR(M37/J37,0) -> 0.00044642857
C38: 1.4.8 | D38: Servicio de Laboratorio | E38: Aplica | F38: Pablo Paredes | G38: Encargado de Calidad | H38: 45106 | I38: 45121 | J38: =+IF(H38="","",(I38-H38)+1) -> 16 | K38: =+SUM(CB38:EJ38)/SUM(Q38:BY38) -> 1 | M38: =25%/35 -> 0.0071428571 | N38: =+K38*M38 -> 0.0071428571 | Q38: =+IF((AND(IF(Q$9>=$H38,TRUE,FALSE),IF(Q$9<=$I38,TRUE,FALSE)))=TRUE,1,"") | R38: =+IF((AND(IF(R$9>=$H38,TRUE,FALSE),IF(R$9<=$I38,TRUE,FALSE)))=TRUE,1,"") | S38: =+IF((AND(IF(S$9>=$H38,TRUE,FALSE),IF(S$9<=$I38,TRUE,FALSE)))=TRUE,1,"") | T38: =+IF((AND(IF(T$9>=$H38,TRUE,FALSE),IF(T$9<=$I38,TRUE,FALSE)))=TRUE,1,"") | U38: =+IF((AND(IF(U$9>=$H38,TRUE,FALSE),IF(U$9<=$I38,TRUE,FALSE)))=TRUE,1,"") | V38: =+IF((AND(IF(V$9>=$H38,TRUE,FALSE),IF(V$9<=$I38,TRUE,FALSE)))=TRUE,1,"") | W38: =+IF((AND(IF(W$9>=$H38,TRUE,FALSE),IF(W$9<=$I38,TRUE,FALSE)))=TRUE,1,"") | X38: =+IF((AND(IF(X$9>=$H38,TRUE,FALSE),IF(X$9<=$I38,TRUE,FALSE)))=TRUE,1,"") | ... BY38: =+IF((AND(IF(BY$9>=$H38,TRUE,FALSE),IF(BY$9<=$I38,TRUE,FALSE)))=TRUE,1,"") | CQ38: 1 | CR38: 1 | CS38: 1 | CT38: 1 | CU38: 1 | CV38: 1 | CW38: 1 | CX38: 1 | CY38: 1 | CZ38: 1 | DA38: 1 | DB38: 1 | DC38: 1 | DD38: 1 | DE38: 1 | DF38: 1 | EW38: =+IFERROR(M38/J38,0) -> 0.00044642857
B39: 1 | C39: 1.5 | D39: Sustentabilidad | EW39: =+IFERROR(M39/J39,0) -> 0
C40: 1.5.1 | D40: Políticas sobre Medio Ambiente | E40: Aplica | F40: Gonzalo Castro | G40: Encargado Seguridad | H40: 45106 | I40: 45116 | J40: =+IF(H40="","",(I40-H40)+1) -> 11 | K40: =+SUM(CB40:EJ40)/SUM(Q40:BY40) -> 1 | M40: =25%/35 -> 0.0071428571 | N40: =+K40*M40 -> 0.0071428571 | Q40: =+IF((AND(IF(Q$9>=$H40,TRUE,FALSE),IF(Q$9<=$I40,TRUE,FALSE)))=TRUE,1,"") | R40: =+IF((AND(IF(R$9>=$H40,TRUE,FALSE),IF(R$9<=$I40,TRUE,FALSE)))=TRUE,1,"") | S40: =+IF((AND(IF(S$9>=$H40,TRUE,FALSE),IF(S$9<=$I40,TRUE,FALSE)))=TRUE,1,"") | T40: =+IF((AND(IF(T$9>=$H40,TRUE,FALSE),IF(T$9<=$I40,TRUE,FALSE)))=TRUE,1,"") | U40: =+IF((AND(IF(U$9>=$H40,TRUE,FALSE),IF(U$9<=$I40,TRUE,FALSE)))=TRUE,1,"") | V40: =+IF((AND(IF(V$9>=$H40,TRUE,FALSE),IF(V$9<=$I40,TRUE,FALSE)))=TRUE,1,"") | W40: =+IF((AND(IF(W$9>=$H40,TRUE,FALSE),IF(W$9<=$I40,TRUE,FALSE)))=TRUE,1,"") | X40: =+IF((AND(IF(X$9>=$H40,TRUE,FALSE),IF(X$9<=$I40,TRUE,FALSE)))=TRUE,1,"") | ... BY40: =+IF((AND(IF(BY$9>=$H40,TRUE,FALSE),IF(BY$9<=$I40,TRUE,FALSE)))=TRUE,1,"") | CV40: 1 | CW40: 1 | CX40: 1 | CY40: 1 | CZ40: 1 | DA40: 1 | DB40: 1 | DC40: 1 | DD40: 1 | DE40: 1 | DF40: 1 | EW40: =+IFERROR(M40/J40,0) -> 0.00064935065
C41: 1.5.2 | D41: Programa de Protección del Medio Ambiente | E41: Aplica | F41: Gonzalo Castro | G41: Encargado Seguridad | H41: 45106 | I41: 45116 | J41: =+IF(H41="","",(I41-H41)+1) -> 11 | K41: =+SUM(CB41:EJ41)/SUM(Q41:BY41) -> 1 | M41: =25%/35 -> 0.0071428571 | N41: =+K41*M41 -> 0.0071428571 | Q41: =+IF((AND(IF(Q$9>=$H41,TRUE,FALSE),IF(Q$9<=$I41,TRUE,FALSE)))=TRUE,1,"") | R41: =+IF((AND(IF(R$9>=$H41,TRUE,FALSE),IF(R$9<=$I41,TRUE,FALSE)))=TRUE,1,"") | S41: =+IF((AND(IF(S$9>=$H41,TRUE,FALSE),IF(S$9<=$I41,TRUE,FALSE)))=TRUE,1,"") | T41: =+IF((AND(IF(T$9>=$H41,TRUE,FALSE),IF(T$9<=$I41,TRUE,FALSE)))=TRUE,1,"") | U41: =+IF((AND(IF(U$9>=$H41,TRUE,FALSE),IF(U$9<=$I41,TRUE,FALSE)))=TRUE,1,"") | V41: =+IF((AND(IF(V$9>=$H41,TRUE,FALSE),IF(V$9<=$I41,TRUE,FALSE)))=TRUE,1,"") | W41: =+IF((AND(IF(W$9>=$H41,TRUE,FALSE),IF(W$9<=$I41,TRUE,FALSE)))=TRUE,1,"") | X41: =+IF((AND(IF(X$9>=$H41,TRUE,FALSE),IF(X$9<=$I41,TRUE,FALSE)))=TRUE,1,"") | ... BY41: =+IF((AND(IF(BY$9>=$H41,TRUE,FALSE),IF(BY$9<=$I41,TRUE,FALSE)))=TRUE,1,"") | CV41: 1 | CW41: 1 | CX41: 1 | CY41: 1 | CZ41: 1 | DA41: 1 | DB41: 1 | DC41: 1 | DD41: 1 | DE41: 1 | DF41: 1 | EW41: =+IFERROR(M41/J41,0) -> 0.00064935065
C42: 1.5.3 | D42: Generación y control de desechos peligrosos | E42: Aplica | F42: Gonzalo Castro | G42: Encargado Seguridad | H42: 45106 | I42: 45116 | J42: =+IF(H42="","",(I42-H42)+1) -> 11 | K42: =+SUM(CB42:EJ42)/SUM(Q42:BY42) -> 1 | M42: =25%/35 -> 0.0071428571 | N42: =+K42*M42 -> 0.0071428571 | Q42: =+IF((AND(IF(Q$9>=$H42,TRUE,FALSE),IF(Q$9<=$I42,TRUE,FALSE)))=TRUE,1,"") | R42: =+IF((AND(IF(R$9>=$H42,TRUE,FALSE),IF(R$9<=$I42,TRUE,FALSE)))=TRUE,1,"") | S42: =+IF((AND(IF(S$9>=$H42,TRUE,FALSE),IF(S$9<=$I42,TRUE,FALSE)))=TRUE,1,"") | T42: =+IF((AND(IF(T$9>=$H42,TRUE,FALSE),IF(T$9<=$I42,TRUE,FALSE)))=TRUE,1,"") | U42: =+IF((AND(IF(U$9>=$H42,TRUE,FALSE),IF(U$9<=$I42,TRUE,FALSE)))=TRUE,1,"") | V42: =+IF((AND(IF(V$9>=$H42,TRUE,FALSE),IF(V$9<=$I42,TRUE,FALSE)))=TRUE,1,"") | W42: =+IF((AND(IF(W$9>=$H42,TRUE,FALSE),IF(W$9<=$I42,TRUE,FALSE)))=TRUE,1,"") | X42: =+IF((AND(IF(X$9>=$H42,TRUE,FALSE),IF(X$9<=$I42,TRUE,FALSE)))=TRUE,1,"") | ... BY42: =+IF((AND(IF(BY$9>=$H42,TRUE,FALSE),IF(BY$9<=$I42,TRUE,FALSE)))=TRUE,1,"") | CV42: 1 | CW42: 1 | CX42: 1 | CY42: 1 | CZ42: 1 | DA42: 1 | DB42: 1 | DC42: 1 | DD42: 1 | DE42: 1 | DF42: 1 | EW42: =+IFERROR(M42/J42,0) -> 0.00064935065
C43: 1.5.4 | D43: Programas de Monitoreo | E43: Aplica | F43: Gonzalo Castro | G43: Encargado Seguridad | H43: 45106 | I43: 45116 | J43: =+IF(H43="","",(I43-H43)+1) -> 11 | K43: =+SUM(CB43:EJ43)/SUM(Q43:BY43) -> 1 | M43: =25%/35 -> 0.0071428571 | N43: =+K43*M43 -> 0.0071428571 | Q43: =+IF((AND(IF(Q$9>=$H43,TRUE,FALSE),IF(Q$9<=$I43,TRUE,FALSE)))=TRUE,1,"") | R43: =+IF((AND(IF(R$9>=$H43,TRUE,FALSE),IF(R$9<=$I43,TRUE,FALSE)))=TRUE,1,"") | S43: =+IF((AND(IF(S$9>=$H43,TRUE,FALSE),IF(S$9<=$I43,TRUE,FALSE)))=TRUE,1,"") | T43: =+IF((AND(IF(T$9>=$H43,TRUE,FALSE),IF(T$9<=$I43,TRUE,FALSE)))=TRUE,1,"") | U43: =+IF((AND(IF(U$9>=$H43,TRUE,FALSE),IF(U$9<=$I43,TRUE,FALSE)))=TRUE,1,"") | V43: =+IF((AND(IF(V$9>=$H43,TRUE,FALSE),IF(V$9<=$I43,TRUE,FALSE)))=TRUE,1,"") | W43: =+IF((AND(IF(W$9>=$H43,TRUE,FALSE),IF(W$9<=$I43,TRUE,FALSE)))=TRUE,1,"") | X43: =+IF((AND(IF(X$9>=$H43,TRUE,FALSE),IF(X$9<=$I43,TRUE,FALSE)))=TRUE,1,"") | ... BY43: =+IF((AND(IF(BY$9>=$H43,TRUE,FALSE),IF(BY$9<=$I43,TRUE,FALSE)))=TRUE,1,"") | CV43: 1 | CW43: 1 | CX43: 1 | CY43: 1 | CZ43: 1 | DA43: 1 | DB43: 1 | DC43: 1 | DD43: 1 | DE43: 1 | DF43: 1 | EW43: =+IFERROR(M43/J43,0) -> 0.00064935065
B44: 1 | C44: 1.6 | D44: Seguridad | EW44: =+IFERROR(M44/J44,0) -> 0
C45: 1.6.1 | D45: Aviso de Inicio de Actividades Servicio de Salud | E45: Aplica | F45: Nicolás Valenzuela | G45: Jefe Seguridad | H45: 45067 | I45: 45106 | J45: =+IF(H45="","",(I45-H45)+1) -> 40 | K45: =+SUM(CB45:EJ45)/SUM(Q45:BY45) -> 0.775 | M45: =25%/35 -> 0.0071428571 | N45: =+K45*M45 -> 0.0055357143 | Q45: =+IF((AND(IF(Q$9>=$H45,TRUE,FALSE),IF(Q$9<=$I45,TRUE,FALSE)))=TRUE,1,"") -> 1 | R45: =+IF((AND(IF(R$9>=$H45,TRUE,FALSE),IF(R$9<=$I45,TRUE,FALSE)))=TRUE,1,"") -> 1 | S45: =+IF((AND(IF(S$9>=$H45,TRUE,FALSE),IF(S$9<=$I45,TRUE,FALSE)))=TRUE,1,"") -> 1 | T45: =+IF((AND(IF(T$9>=$H45,TRUE,FALSE),IF(T$9<=$I45,TRUE,FALSE)))=TRUE,1,"") -> 1 | U45: =+IF((AND(IF(U$9>=$H45,TRUE,FALSE),IF(U$9<=$I45,TRUE,FALSE)))=TRUE,1,"") -> 1 | V45: =+IF((AND(IF(V$9>=$H45,TRUE,FALSE),IF(V$9<=$I45,TRUE,FALSE)))=TRUE,1,"") -> 1 | W45: =+IF((AND(IF(W$9>=$H45,TRUE,FALSE),IF(W$9<=$I45,TRUE,FALSE)))=TRUE,1,"") -> 1 | X45: =+IF((AND(IF(X$9>=$H45,TRUE,FALSE),IF(X$9<=$I45,TRUE,FALSE)))=TRUE,1,"") -> 1 | ... BY45: =+IF((AND(IF(BY$9>=$H45,TRUE,FALSE),IF(BY$9<=$I45,TRUE,FALSE)))=TRUE,1,"") | CB45: 1 | CC45: 1 | CD45: 1 | CE45: 1 | CF45: 1 | CG45: 1 | CH45: 1 | CI45: 1 | CJ45: 1 | CK45: 1 | CL45: 1 | CM45: 1 | CN45: 1 | CO45: 1 | CP45: 1 | CQ45: 1 | CR45: 1 | CS45: 1 | CT45: 1 | CU45: 1 | CV45: 1 | CW45: 1 | CX45: 1 | CY45: 1 | CZ45: 1 | DA45: 1 | DB45: 1 | DC45: 1 | DD45: 1 | DE45: 1 | DF45: 1 | EW45: =+IFERROR(M45/J45,0) -> 0.00017857143
C46: 1.6.2 | D46: Tramitación de jornada especial de trabajo ante la DT | E46: Aplica | F46: Nicolás Valenzuela | G46: Jefe Seguridad | H46: 45067 | I46: 45106 | J46: =+IF(H46="","",(I46-H46)+1) -> 40 | K46: =+SUM(CB46:EJ46)/SUM(Q46:BY46) -> 0.775 | M46: =25%/35 -> 0.0071428571 | N46: =+K46*M46 -> 0.0055357143 | Q46: =+IF((AND(IF(Q$9>=$H46,TRUE,FALSE),IF(Q$9<=$I46,TRUE,FALSE)))=TRUE,1,"") -> 1 | R46: =+IF((AND(IF(R$9>=$H46,TRUE,FALSE),IF(R$9<=$I46,TRUE,FALSE)))=TRUE,1,"") -> 1 | S46: =+IF((AND(IF(S$9>=$H46,TRUE,FALSE),IF(S$9<=$I46,TRUE,FALSE)))=TRUE,1,"") -> 1 | T46: =+IF((AND(IF(T$9>=$H46,TRUE,FALSE),IF(T$9<=$I46,TRUE,FALSE)))=TRUE,1,"") -> 1 | U46: =+IF((AND(IF(U$9>=$H46,TRUE,FALSE),IF(U$9<=$I46,TRUE,FALSE)))=TRUE,1,"") -> 1 | V46: =+IF((AND(IF(V$9>=$H46,TRUE,FALSE),IF(V$9<=$I46,TRUE,FALSE)))=TRUE,1,"") -> 1 | W46: =+IF((AND(IF(W$9>=$H46,TRUE,FALSE),IF(W$9<=$I46,TRUE,FALSE)))=TRUE,1,"") -> 1 | X46: =+IF((AND(IF(X$9>=$H46,TRUE,FALSE),IF(X$9<=$I46,TRUE,FALSE)))=TRUE,1,"") -> 1 | ... BY46: =+IF((AND(IF(BY$9>=$H46,TRUE,FALSE),IF(BY$9<=$I46,TRUE,FALSE)))=TRUE,1,"") | CB46: 1 | CC46: 1 | CD46: 1 | CE46: 1 | CF46: 1 | CG46: 1 | CH46: 1 | CI46: 1 | CJ46: 1 | CK46: 1 | CL46: 1 | CM46: 1 | CN46: 1 | CO46: 1 | CP46: 1 | CQ46: 1 | CR46: 1 | CS46: 1 | CT46: 1 | CU46: 1 | CV46: 1 | CW46: 1 | CX46: 1 | CY46: 1 | CZ46: 1 | DA46: 1 | DB46: 1 | DC46: 1 | DD46: 1 | DE46: 1 | DF46: 1 | EW46: =+IFERROR(M46/J46,0) -> 0.00017857143
C47: 1.6.3 | D47: Normas de Seguridad, Salud y Medio Ambiente. | E47: Aplica | F47: Nicolás Valenzuela | G47: Jefe Seguridad | H47: 45067 | I47: 45106 | J47: =+IF(H47="","",(I47-H47)+1) -> 40 | K47: =+SUM(CB47:EJ47)/SUM(Q47:BY47) -> 0.775 | M47: =25%/35 -> 0.0071428571 | N47: =+K47*M47 -> 0.0055357143 | Q47: =+IF((AND(IF(Q$9>=$H47,TRUE,FALSE),IF(Q$9<=$I47,TRUE,FALSE)))=TRUE,1,"") -> 1 | R47: =+IF((AND(IF(R$9>=$H47,TRUE,FALSE),IF(R$9<=$I47,TRUE,FALSE)))=TRUE,1,"") -> 1 | S47: =+IF((AND(IF(S$9>=$H47,TRUE,FALSE),IF(S$9<=$I47,TRUE,FALSE)))=TRUE,1,"") -> 1 | T47: =+IF((AND(IF(T$9>=$H47,TRUE,FALSE),IF(T$9<=$I47,TRUE,FALSE)))=TRUE,1,"") -> 1 | U47: =+IF((AND(IF(U$9>=$H47,TRUE,FALSE),IF(U$9<=$I47,TRUE,FALSE)))=TRUE,1,"") -> 1 | V47: =+IF((AND(IF(V$9>=$H47,TRUE,FALSE),IF(V$9<=$I47,TRUE,FALSE)))=TRUE,1,"") -> 1 | W47: =+IF((AND(IF(W$9>=$H47,TRUE,FALSE),IF(W$9<=$I47,TRUE,FALSE)))=TRUE,1,"") -> 1 | X47: =+IF((AND(IF(X$9>=$H47,TRUE,FALSE),IF(X$9<=$I47,TRUE,FALSE)))=TRUE,1,"") -> 1 | ... BY47: =+IF((AND(IF(BY$9>=$H47,TRUE,FALSE),IF(BY$9<=$I47,TRUE,FALSE)))=TRUE,1,"") | CB47: 1 | CC47: 1 | CD47: 1 | CE47: 1 | CF47: 1 | CG47: 1 | CH47: 1 | CI47: 1 | CJ47: 1 | CK47: 1 | CL47: 1 | CM47: 1 | CN47: 1 | CO47: 1 | CP47: 1 | CQ47: 1 | CR47: 1 | CS47: 1 | CT47: 1 | CU47: 1 | CV47: 1 | CW47: 1 | CX47: 1 | CY47: 1 | CZ47: 1 | DA47: 1 | DB47: 1 | DC47: 1 | DD47: 1 | DE47: 1 | DF47: 1 | EW47: =+IFERROR(M47/J47,0) -> 0.00017857143
...

Sheet Hoja1
F3: SEM -2 | G3: SEM -1 | H3: SEM 0 | I3: SEM 1 | J3: SEM 2 | K3: SEM 3 | L3: SEM 4 | M3: SEM 5 | N3: SEM 6 | O3: SEM 7 | P3: SEM 8 | Q3: SEM 9 | R3: SEM 10 | S3: SEM 11 | T3: SEM 12 | U3: SEM 13 | V3: SEM 14 | W3: SEM 15 | X3: SEM 16 | Y3: SEM 17 | Z3: SEM 18 | AA3: SEM 19 | AB3: SEM 20 | AC3: SEM 21 | AD3: Responsable
A4: 0. | E4: Gestiones de adjudicación
A5: 1. | E5: Gestión Contractual
B6: 1.3 | C6: OK | D6: GESTIÓN CONTRACTUAL | E6: Boletas y Seguros | AD6: Gerente Finanzas
B7: 1.5 | C7: OK | D7: GESTIÓN CONTRACTUAL | E7: Reunión "kick off" con el cliente | AD7: ADM - GNL
B8: 1.7 | C8: OK | D8: INTERNO BUILDTEK | E8: Generación de Base 1 (MAP1, MRP1, IGG1) | AD8: Gerente de Proyectos
A9: 2. | E9: Gestión de arranque
A10: 2.1. | E10: RRLL
B11: 2.1.1. | E11: Earlyworks | AD11: ADM - RRLL
A12: * | C12: OK | E12: Reclutamiento Personal | AD12: ADM - RRLL
C13: OK | E13: Personal Directo
C14: OK | E14: Personal Indirecto
C15: OK | E15: Operadores
C16: OK | E16: Selección Personal
C17: OK | E17: Personal Directo
C18: OK | E18: Personal Indirecto
C19: OK | E19: Operadores
C20: OK | E20: Precontratación Personal
C21: OK | E21: Personal Directo
C22: OK | E22: Personal Indirecto
C23: OK | E23: Operadores
C24: OK | E24: Contratación Personal | AD24: RRLL
C25: OK | E25: Personal Directo
C26: OK | E26: Personal Indirecto
C27: OK | E27: Operadores
C28: OK | E28: Acreditación Personal
C29: OK | E29: Personal Directo
C30: OK | E30: Personal Indirecto
C31: OK | E31: Operadores
C32: OK | E32: Asignación Personal
C33: OK | E33: Personal Directo
C34: OK | E34: Personal Indirecto
C35: OK | E35: Operadores
B36: 2.1.2 | E36: Personal Clave (HSSE, planificador) | AD36: ADM - RRLL
A37: 2.2 | E37: ABASTECIMIENTO
B38: 2.2.1 | E38: Realizar la adquisición de herramientas, maquinaria y servicios | AD38: Abastecimiento
C39: OK | E39: Maquinaria y Vehículos
C40: OK | E40: Equipos
A41: * | C41: OK | E41: Herramientas | AD41: Abastecimiento
C42: OK | E42: Materiales
...

Sheet LISTAS
B4: Aplica | C4: 1 | D4: 1) Aspectos Contractuales | F4: A | G4: Antes del término de ejecución del proyecto según programa
B5: No Aplica | C5: 2 | D5: 2) Aspectos Contractuales Específicos | F5: D | G5: Después del término de ejecución del proyecto según programa
C6: 3 | D6: 3) Gestión Interna BUILDTEK
