Workbook

Sheet Condiciones
B1: Condiciones previas a la carga: | F1: 1er zarpe | G1: carga | H1: unidad | I1: Calado medio | J1: unidad | K1: KB | L1: unidad | M1: KG | N1: unidad | O1: BM | P1: unidad | Q1: KM | R1: unidad | S1: GM | T1: unidad | U1: estabilidad | V1: CG(X) | W1: CG(Y) | X1: CG(Z)
B2: Calado proa | C2: 2 | D2: mt | F2: desplazamiento | G2: =21*200+20 -> 4220 | H2: tn | I2: 3 | J2: mts | K2: - | L2: - | M2: - | N2: - | O2: - | P2: - | Q2: - | R2: - | S2: - | T2: - | U2: - | V2: - | W2: - | X2: -
B3: Calado popa | C3: 4 | D3: mt | F3: carga | G3: =SUM('cuadro cargas'!C7:C126) -> 3185 | H3: tn | I3: =+(G3/$C$9)/100 -> 2.1965517 | J3: mts | K3: - | L3: - | M3: - | N3: - | O3: - | P3: - | Q3: - | R3: - | S3: - | T3: - | U3: - | V3: - | W3: - | X3: -
B4: Lastre peak de proa | C4: 20 | D4: Tons | F4: total | G4: =SUM(G2:G3) -> 7405 | H4: tn | I4: =SUM(I2:I3) -> 5.1965517 | J4: mts | K4: =12*0.25 -> 3 | L4: mts | M4: ='cuadro cargas'!I128 -> 4.2384875 | N4: mts | O4: =(C10*C10)/(12*I4) -> 2.3092236 | P4: mts | Q4: =K4+O4 -> 5.3092236 | R4: mts | S4: =Q4-M4 -> 1.0707361 | T4: mts | U4: estable | V4: ='cuadro cargas'!E128 -> 21.171776 | W4: ='cuadro cargas'!I128 -> 4.2384875 | X4: ='cuadro cargas'!G128 -> -0.014854828
B5: KG inicial | C5: 6 | D5: mts
B6: Cuaderna Maestra (desde proa) | C6: 38 | D6: mt | F6: zarpe de callao | G6: carga | H6: unidad | I6: Calado medio | J6: unidad | K6: KB | L6: unidad | M6: KG | N6: unidad | O6: BM | P6: unidad | Q6: KM | R6: unidad | S6: GM | T6: unidad | U6: estabilidad | V6: CG(X) | W6: CG(Y) | X6: CG(Z)
B7: G longitudinal | C7: 44 | D7: mts | F7: desplazamiento | G7: =G2 -> 4220 | H7: tn | I7: 3 | J7: mts | K7: - | L7: - | M7: - | N7: - | O7: - | P7: - | Q7: - | R7: - | S7: - | T7: - | U7: - | V7: - | W7: - | X7: -
B8: Calado medio | C8: 3 | D8: mts | F8: carga | G8: =SUM('cuadro cargas'!C25:C126) -> 2756 | H8: tn | I8: =+(G8/$C$9)/100 -> 1.9006897 | J8: mts | K8: - | L8: - | M8: - | N8: - | O8: - | P8: - | Q8: - | R8: - | S8: - | T8: - | U8: - | V8: - | W8: - | X8: -
B9: toneladas por centimetros de inmersión | C9: 14.5 | D9: tn | F9: total | G9: =SUM(G7:G8) -> 6976 | H9: tn | I9: =SUM(I7:I8) -> 4.9006897 | J9: mts | K9: =11.5*0.25 -> 2.875 | L9: mts | M9: ='cuadro cargas'!I130 -> 4.0609232 | N9: mts | O9: =(C10*C10)/(12*I9) -> 2.448635 | P9: mts | Q9: =K9+O9 -> 5.323635 | R9: mts | S9: =Q9-M9 -> 1.2627118 | T9: mts | U9: estable | V9: ='cuadro cargas'!E130 -> 23.481795 | W9: ='cuadro cargas'!I130 -> 4.0609232 | X9: ='cuadro cargas'!G130 -> -0.0084575688
B10: MANGA | C10: 12 | D10: MTS
F11: zarpe de guayaquil | G11: carga | H11: unidad | I11: Calado medio | J11: unidad | K11: KB | L11: unidad | M11: KG | N11: unidad | O11: BM | P11: unidad | Q11: KM | R11: unidad | S11: GM | T11: unidad | U11: estabilidad | V11: CG(X) | W11: CG(Y) | X11: CG(Z)
F12: desplazamiento | G12: =G2 -> 4220 | H12: tn | I12: 3 | J12: mts | K12: - | L12: - | M12: - | N12: - | O12: - | P12: - | Q12: - | R12: - | S12: - | T12: - | U12: - | V12: - | W12: - | X12: -
B13: KB según curvas hidrostáticas | F13: carga | G13: =SUM('cuadro cargas'!C41:C126) -> 2439 | H13: tn | I13: =+(G13/$C$9)/100 -> 1.682069 | J13: mts | K13: - | L13: - | M13: - | N13: - | O13: - | P13: - | Q13: - | R13: - | S13: - | T13: - | U13: - | V13: - | W13: - | X13: -
F14: total | G14: =SUM(G12:G13) -> 6659 | H14: tn | I14: =SUM(I12:I13) -> 4.682069 | J14: mts | K14: =10.5*0.25 -> 2.625 | L14: mts | M14: ='cuadro cargas'!I132 -> 4.040847 | N14: mts | O14: =(C10*C10)/(12*I14) -> 2.5629695 | P14: mts | Q14: =K14+O14 -> 5.1879695 | R14: mts | S14: =Q14-M14 -> 1.1471225 | T14: mts | U14: estable | V14: ='cuadro cargas'!E132 -> 24.666466 | W14: ='cuadro cargas'!I132 -> 4.040847 | X14: ='cuadro cargas'!G132 -> -0.0039044902
B15: Limitaciones
B16: Peso máximo por columna | C16: 150 | D16: Tons | F16: zarpe de panama | G16: carga | H16: unidad | I16: Calado medio | J16: unidad | K16: KB | L16: unidad | M16: KG | N16: unidad | O16: BM | P16: unidad | Q16: KM | R16: unidad | S16: GM | T16: unidad | U16: estabilidad | V16: CG(X) | W16: CG(Y) | X16: CG(Z)
B17: Alimentos no pueden ir adyacentes a químicos ni lubricantes | F17: desplazamiento | G17: =G2 -> 4220 | H17: tn | I17: 3 | J17: mts | K17: - | L17: - | M17: - | N17: - | O17: - | P17: - | Q17: - | R17: - | S17: - | T17: - | U17: - | V17: - | W17: - | X17: -
B18: Químicos no pueden ir adyacentes a lubricantes | F18: carga | G18: =SUM('cuadro cargas'!C77:C126) -> 1644 | H18: tn | I18: =+(G18/$C$9)/100 -> 1.1337931 | J18: mts | K18: - | L18: - | M18: - | N18: - | O18: - | P18: - | Q18: - | R18: - | S18: - | T18: - | U18: - | V18: - | W18: - | X18: -
B19: Químicos y lubricantes deben ir sobre cubierta, posición 4 hacia arriba | F19: total | G19: =SUM(G17:G18) -> 5864 | H19: tn | I19: =SUM(I17:I18) -> 4.1337931 | J19: mts | K19: =9.5*0.25 -> 2.375 | L19: mts | M19: ='cuadro cargas'!I134 -> 4.1016371 | N19: mts | O19: =(C10*C10)/(12*I19) -> 2.9029029 | P19: mts | Q19: =K19+O19 -> 5.2779029 | R19: mts | S19: =Q19-M19 -> 1.1762658 | T19: mts | U19: estable | V19: ='cuadro cargas'!E134 -> 29.555423 | W19: ='cuadro cargas'!I134 -> 4.1016371 | X19: ='cuadro cargas'!G134 -> 0.0064802183
F21: zarpe de cartagena | G21: carga | H21: unidad | I21: Calado medio | J21: unidad | K21: KB | L21: unidad | M21: KG | N21: unidad | O21: BM | P21: unidad | Q21: KM | R21: unidad | S21: GM | T21: unidad | U21: estabilidad | V21: CG(X) | W21: CG(Y) | X21: CG(Z)
F22: desplazamiento | G22: =G2 -> 4220 | H22: tn | I22: 3 | J22: mts | K22: - | L22: - | M22: - | N22: - | O22: - | P22: - | Q22: - | R22: - | S22: - | T22: - | U22: - | V22: - | W22: - | X22: -
F23: carga | G23: =SUM('cuadro cargas'!C85:C126) -> 1436 | H23: tn | I23: =+(G23/$C$9)/100 -> 0.99034483 | J23: mts | K23: - | L23: - | M23: - | N23: - | O23: - | P23: - | Q23: - | R23: - | S23: - | T23: - | U23: - | V23: - | W23: - | X23: -
F24: total | G24: =SUM(G22:G23) -> 5656 | H24: tn | I24: =SUM(I22:I23) -> 3.9903448 | J24: mts | K24: =9.2*0.25 -> 2.3 | L24: mts | M24: ='cuadro cargas'!I136 -> 3.9398868 | N24: mts | O24: =(C10*C10)/(12*I24) -> 3.0072589 | P24: mts | Q24: =K24+O24 -> 5.3072589 | R24: mts | S24: =Q24-M24 -> 1.3673721 | T24: mts | U24: estable | V24: ='cuadro cargas'!E136 -> 30.973303 | W24: ='cuadro cargas'!I136 -> 3.9398868 | X24: ='cuadro cargas'!G136 -> 0.006718529
F26: recalada de houston | G26: carga | H26: unidad | I26: Calado medio | J26: unidad | K26: KB | L26: unidad | M26: KG | N26: unidad | O26: BM | P26: unidad | Q26: KM | R26: unidad | S26: GM | T26: unidad | U26: estabilidad | V26: CG(X) | W26: CG(Y) | X26: CG(Z)
F27: desplazamiento | G27: =G2 -> 4220 | H27: tn | I27: 3 | J27: mts | K27: - | L27: - | M27: - | N27: - | O27: - | P27: - | Q27: - | R27: - | S27: - | T27: - | U27: - | V27: - | W27: - | X27: -
F28: carga | G28: 0 | H28: tn | I28: =+(G28/$C$9)/100 -> 0 | J28: mts | K28: - | L28: - | M28: - | N28: - | O28: - | P28: - | Q28: - | R28: - | S28: - | T28: - | U28: - | V28: - | W28: - | X28: -
F29: total | G29: =SUM(G27:G28) -> 4220 | H29: tn | I29: =SUM(I27:I28) -> 3 | J29: mts | K29: =7.5*0.25 -> 1.875 | L29: mts | M29: ='cuadro cargas'!I138 -> 6 | N29: mts | O29: =(C10*C10)/(12*I29) -> 4 | P29: mts | Q29: =K29+O29 -> 5.875 | R29: mts | S29: =Q29-M29 -> -0.125 | T29: mts | U29: inestable | V29: ='cuadro cargas'!E138 -> 44 | W29: ='cuadro cargas'!I138 -> 6 | X29: ='cuadro cargas'!G138 -> 0

Sheet cuadro cargas
B3: Item | C3: Pesos | D3: LCG | E3: Mto(long) | F3: TCG | G3: Mto(trans) | H3: VCG | I3: Mto(vert) | M3: 12 | N3: 5 | O3: -2 | P3: -9 | Q3: -16 | R3: -23 | S3: -30
B5: Desplazamiento Liviano MAS LASTRE | C5: 4220 | D5: 44 | E5: =C5*D5 -> 185680 | F5: 0 | G5: =F5*C5 -> 0 | H5: 6 | I5: =H5*C5 -> 25320 | L5: 10 | M5: Qui_5 | N5: Qui_2 | P5: Lub_1 | Q5: Lub_9 | U5: -5
M6: Qui_11 | N6: Qui_4 | P6: Lub_2 | Q6: Lub_10 | U6: -2
A7: Pesos Agregar | B7: General_1 | C7: 18 | D7: -30 | E7: =D7*C7 -> -540 | F7: 5 | G7: =F7*C7 -> 90 | H7: 3 | I7: =H7*C7 -> 54 | M7: Qui_10 | N7: Qui_3 | P7: Lub_3 | Q7: Lub_11 | U7: 2
A8: Callao | B8: General_2 | C8: 22 | D8: -30 | E8: =D8*C8 -> -660 | F8: -5 | G8: =F8*C8 -> -110 | H8: 3 | I8: =H8*C8 -> 66 | M8: Qui_6 | N8: Qui_1 | P8: Lub_4 | Q8: Lub_12 | U8: 5
B9: General_3 | C9: 23 | D9: -30 | E9: =D9*C9 -> -690 | F9: 2 | G9: =F9*C9 -> 46 | H9: 3 | I9: =H9*C9 -> 69
B10: General_4 | C10: 24 | D10: -30 | E10: =D10*C10 -> -720 | F10: -2 | G10: =F10*C10 -> -48 | H10: 3 | I10: =H10*C10 -> 72 | L10: 7 | M10: Qui_14 | N10: Qui_8 | P10: Lub_5 | Q10: Lub_13 | R10: Lub_17 | S10: Lub_21 | U10: -5
B11: Lubricante_17 | C11: 26 | D11: -23 | E11: =D11*C11 -> -598 | F11: -5 | G11: =F11*C11 -> -130 | H11: 7 | I11: =H11*C11 -> 182 | M11: Qui_16 | N11: Qui_7 | P11: Lub_6 | Q11: Lub_14 | R11: Lub_18 | S11: Lub_22 | U11: -2
B12: Lubricante_18 | C12: 26 | D12: -23 | E12: =D12*C12 -> -598 | F12: -2 | G12: =F12*C12 -> -52 | H12: 7 | I12: =H12*C12 -> 182 | M12: Qui_15 | N12: Qui_12 | P12: Lub_7 | Q12: Lub_15 | R12: Lub_19 | S12: Lub_23 | U12: 2
B13: Lubricante_19 | C13: 26 | D13: -23 | E13: =D13*C13 -> -598 | F13: 2 | G13: =F13*C13 -> 52 | H13: 7 | I13: =H13*C13 -> 182 | M13: Qui_13 | N13: Qui_9 | P13: Lub_8 | Q13: Lub_16 | R13: Lub_20 | S13: Lub_24 | U13: 5
B14: Lubricante_20 | C14: 26 | D14: -23 | E14: =D14*C14 -> -598 | F14: 5 | G14: =F14*C14 -> 130 | H14: 7 | I14: =H14*C14 -> 182
B15: Lubricante_21 | C15: 26 | D15: -30 | E15: =D15*C15 -> -780 | F15: -5 | G15: =F15*C15 -> -130 | H15: 7 | I15: =H15*C15 -> 182 | L15: 3 | M15: Gen_27 | N15: Gen_11 | P15: Gen_24 | Q15: Gen_18 | R15: Gen_13 | S15: Gen_2 | U15: -5
B16: Lubricante_22 | C16: 26 | D16: -30 | E16: =D16*C16 -> -780 | F16: -2 | G16: =F16*C16 -> -52 | H16: 7 | I16: =H16*C16 -> 182 | M16: Gen_16 | N16: Gen_6 | P16: Gen_25 | Q16: Gen_19 | R16: Gen_5 | S16: Gen_4 | U16: -2
B17: Lubricante_23 | C17: 26 | D17: -30 | E17: =D17*C17 -> -780 | F17: 2 | G17: =F17*C17 -> 52 | H17: 7 | I17: =H17*C17 -> 182 | M17: Gen_15 | N17: Gen_7 | P17: Gen_21 | Q17: Gen_20 | R17: Gen_14 | S17: Gen_3 | U17: 2
B18: Lubricante_24 | C18: 26 | D18: -30 | E18: =D18*C18 -> -780 | F18: 5 | G18: =F18*C18 -> 130 | H18: 7 | I18: =H18*C18 -> 182 | M18: Gen_28 | N18: Gen_10 | P18: Gen_23 | Q18: Gen_17 | R18: Gen_12 | S18: Gen_1 | U18: 5
B19: Químico_1 | C19: 12 | D19: 5 | E19: =D19*C19 -> 60 | F19: 5 | G19: =F19*C19 -> 60 | H19: 10 | I19: =H19*C19 -> 120
B20: Químico_2 | C20: 15 | D20: 5 | E20: =D20*C20 -> 75 | F20: -5 | G20: =F20*C20 -> -75 | H20: 10 | I20: =H20*C20 -> 150 | L20: 0 | M20: Gen_31 | N20: Ali_14 | O20: Cob-29 | P20: Gen_26 | Q20: Ali_10 | R20: Ali_17 | S20: Ali_7 | U20: -5
B21: Químico_3 | C21: 20 | D21: 5 | E21: =D21*C21 -> 100 | F21: 2 | G21: =F21*C21 -> 40 | H21: 10 | I21: =H21*C21 -> 200 | M21: Ali_1 | N21: Ali_16 | O21: Gen_9 | P21: Gen_22 | Q21: Ali_5 | R21: Ali_4 | S21: Ali_9 | U21: -2
B22: Químico_4 | C22: 27 | D22: 5 | E22: =D22*C22 -> 135 | F22: -2 | G22: =F22*C22 -> -54 | H22: 10 | I22: =H22*C22 -> 270 | M22: Ali_11 | N22: Ali_15 | O22: Gen_8 | P22: Gen_29 | Q22: Ali_3 | R22: Ali_18 | S22: Ali_8 | U22: 2
B23: Químico_5 | C23: 30 | D23: 12 | E23: =D23*C23 -> 360 | F23: -5 | G23: =F23*C23 -> -150 | H23: 10 | I23: =H23*C23 -> 300 | M23: Gen_32 | N23: Ali_12 | O23: Cob_30 | P23: Gen_30 | Q23: Ali_13 | R23: Ali_2 | S23: Ali_6 | U23: 5
B24: Químico_6 | C24: 30 | D24: 12 | E24: =D24*C24 -> 360 | F24: 5 | G24: =F24*C24 -> 150 | H24: 10 | I24: =H24*C24 -> 300
A25: Pesos Agregar | B25: General_10 | C25: 12 | D25: 5 | E25: =D25*C25 -> 60 | F25: 5 | G25: =F25*C25 -> 60 | H25: 3 | I25: =H25*C25 -> 36 | L25: -3 | M25: Cob_1 | N25: Cob_2 | O25: Cob_3 | P25: Cob_4 | Q25: Cob_5 | R25: Cob_6 | S25: Cob_7 | U25: -5
A26: Guayaquil | B26: General_11 | C26: 14 | D26: 5 | E26: =D26*C26 -> 70 | F26: -5 | G26: =F26*C26 -> -70 | H26: 3 | I26: =H26*C26 -> 42 | M26: Cob_8 | N26: Cob_9 | O26: Cob_10 | P26: Cob_11 | Q26: Cob_12 | R26: Cob_13 | S26: Cob_14 | U26: -2
B27: General_12 | C27: 16 | D27: -23 | E27: =D27*C27 -> -368 | F27: 5 | G27: =F27*C27 -> 80 | H27: 3 | I27: =H27*C27 -> 48 | M27: Cob_15 | N27: Cob_16 | O27: Cob_17 | P27: Cob_18 | Q27: Cob_19 | R27: Cob_20 | S27: Cob_21 | U27: 2
B28: General_13 | C28: 17 | D28: -23 | E28: =D28*C28 -> -391 | F28: -5 | G28: =F28*C28 -> -85 | H28: 3 | I28: =H28*C28 -> 51 | M28: Cob_22 | N28: Cob_23 | O28: Cob_24 | P28: Cob_25 | Q28: Cob_26 | R28: Cob_27 | S28: Cob_28 | U28: 5
B29: General_14 | C29: 17 | D29: -23 | E29: =D29*C29 -> -391 | F29: 2 | G29: =F29*C29 -> 34 | H29: 3 | I29: =H29*C29 -> 51
B30: General_5 | C30: 18 | D30: -23 | E30: =D30*C30 -> -414 | F30: -2 | G30: =F30*C30 -> -36 | H30: 3 | I30: =H30*C30 -> 54
B31: General_6 | C31: 22 | D31: 5 | E31: =D31*C31 -> 110 | F31: -2 | G31: =F31*C31 -> -44 | H31: 3 | I31: =H31*C31 -> 66
B32: General_7 | C32: 22 | D32: 5 | E32: =D32*C32 -> 110 | F32: 2 | G32: =F32*C32 -> 44 | H32: 3 | I32: =H32*C32 -> 66
B33: General_8 | C33: 22 | D33: -2 | E33: =D33*C33 -> -44 | F33: 2 | G33: =F33*C33 -> 44 | H33: 0 | I33: =H33*C33 -> 0
B34: General_9 | C34: 26 | D34: -2 | E34: =D34*C34 -> -52 | F34: -2 | G34: =F34*C34 -> -52 | H34: 0 | I34: =H34*C34 -> 0
B35: Químico_10 | C35: 13 | D35: 12 | E35: =D35*C35 -> 156 | F35: 2 | G35: =F35*C35 -> 26 | H35: 10 | I35: =H35*C35 -> 130
B36: Químico_11 | C36: 17 | D36: 12 | E36: =D36*C36 -> 204 | F36: -2 | G36: =F36*C36 -> -34 | H36: 10 | I36: =H36*C36 -> 170
B37: Químico_12 | C37: 20 | D37: 5 | E37: =D37*C37 -> 100 | F37: 2 | G37: =F37*C37 -> 40 | H37: 7 | I37: =H37*C37 -> 140
B38: Químico_7 | C38: 25 | D38: 5 | E38: =D38*C38 -> 125 | F38: -2 | G38: =F38*C38 -> -50 | H38: 7 | I38: =H38*C38 -> 175
B39: Químico_8 | C39: 27 | D39: 5 | E39: =D39*C39 -> 135 | F39: -5 | G39: =F39*C39 -> -135 | H39: 7 | I39: =H39*C39 -> 189
B40: Químico_9 | C40: 29 | D40: 5 | E40: =D40*C40 -> 145 | F40: 5 | G40: =F40*C40 -> 145 | H40: 7 | I40: =H40*C40 -> 203
A41: Pesos Agregar | B41: Alimentos_1 | C41: 10 | D41: 12 | E41: =D41*C41 -> 120 | F41: -2 | G41: =F41*C41 -> -20 | H41: 0 | I41: =H41*C41 -> 0
A42: Panama | B42: Alimentos_10 | C42: 14 | D42: -16 | E42: =D42*C42 -> -224 | F42: -5 | G42: =F42*C42 -> -70 | H42: 0 | I42: =H42*C42 -> 0
B43: Alimentos_11 | C43: 15 | D43: 12 | E43: =D43*C43 -> 180 | F43: 2 | G43: =F43*C43 -> 30 | H43: 0 | I43: =H43*C43 -> 0
...

Sheet Plan de Estiba
D2: TIER 6 | E2: 19 MTS
B3: POPA | C3: A | D3: B | E3: C | F3: D | G3: E | H3: F | I3: G | J3: H | K3: BABOR | M3: A | N3: B | O3: C | P3: D | Q3: E | R3: F | S3: G | T3: H | W3: Callao | X3: Quí | Y3: 6
B4: X | K4: -5 | L4: PROA | W4: 1 | X4: Gen | Y4: 4
B5: Y | K5: -2 | X5: Lub | Y5: 8
B6: Z | K6: 2
B7: W | K7: 5 | W7: Guayaquil | X7: Quí | Y7: 6
K8: ESTRIBOR | W8: 2 | X8: Gen | Y8: 10
D10: TIER 5 | E10: 16 MTS | N10: TIER 5 | O10: 16 MTS | W10: Panamá | X10: Quí | Y10: 4
B11: POPA | C11: A | D11: B | E11: C | F11: D | G11: E | H11: F | I11: G | J11: H | K11: BABOR | M11: A | N11: B | O11: C | P11: D | Q11: E | R11: F | S11: G | T11: H | W11: 3 | X11: Gen | Y11: 6
B12: X | C12: 1 | D12: 1 | F12: 4 | G12: 3 | K12: -5 | L12: PROA | M12: 30 | N12: 15 | P12: 26 | Q12: 26 | X12: Lub | Y12: 8
B13: Y | C13: 2 | D13: 1 | F13: 4 | G13: 3 | K13: -2 | M13: 17 | N13: 27 | P13: 26 | Q13: 26 | X13: Ali | Y13: 18
B14: Z | C14: 2 | D14: 1 | F14: 4 | G14: 3 | K14: 2 | M14: 13 | N14: 20 | P14: 26 | Q14: 26
B15: W | C15: 1 | D15: 1 | F15: 4 | G15: 3 | K15: 5 | M15: 30 | N15: 12 | P15: 26 | Q15: 26 | W15: Cartagena | X15: Lub | Y15: 8
K16: ESTRIBOR | W16: 4
W17: Houston | X17: Cob | Y17: 30
D18: TIER 4 | E18: 13 MTS | N18: TIER 4 | O18: 13 MTS | W18: 5 | X18: Gen | Y18: 12
B19: POPA | C19: A | D19: B | E19: C | F19: D | G19: E | H19: F | I19: G | J19: H | K19: BABOR | M19: A | N19: B | O19: C | P19: D | Q19: E | R19: F | S19: G | T19: H
B20: X | C20: 3 | D20: 2 | F20: 4 | G20: 3 | H20: 1 | I20: 1 | K20: -5 | L20: PROA | M20: 22 | N20: 27 | P20: 26 | Q20: 26 | R20: 26 | S20: 26
B21: Y | C21: 3 | D21: 2 | F21: 4 | G21: 3 | H21: 1 | I21: 1 | K21: -2 | M21: 30 | N21: 25 | P21: 26 | Q21: 26 | R21: 26 | S21: 26
B22: Z | C22: 3 | D22: 2 | F22: 4 | G22: 3 | H22: 1 | I22: 1 | K22: 2 | M22: 29 | N22: 20 | P22: 26 | Q22: 26 | R22: 26 | S22: 26
B23: W | C23: 3 | D23: 2 | F23: 4 | G23: 3 | H23: 1 | I23: 1 | K23: 5 | M23: 20 | N23: 29 | P23: 26 | Q23: 26 | R23: 26 | S23: 26
K24: ESTRIBOR
D26: TIER 3 | E26: 9 MTS | N26: TIER 3 | O26: 9 MTS
B27: POPA | C27: A | D27: B | E27: C | F27: D | G27: E | H27: F | I27: G | J27: H | K27: BABOR | M27: A | N27: B | O27: C | P27: D | Q27: E | R27: F | S27: G | T27: H
B28: X | C28: 5 | D28: 2 | F28: 5 | G28: 3 | H28: 2 | I28: 1 | K28: -5 | L28: PROA | M28: 19 | N28: 14 | P28: 18 | Q28: 24 | R28: 17 | S28: 22
B29: Y | C29: 3 | D29: 2 | F29: 5 | G29: 3 | H29: 2 | I29: 1 | K29: -2 | M29: 18 | N29: 22 | P29: 18 | Q29: 25 | R29: 18 | S29: 24
B30: Z | C30: 3 | D30: 2 | F30: 5 | G30: 3 | H30: 2 | I30: 1 | K30: 2 | M30: 15 | N30: 22 | P30: 15 | Q30: 26 | R30: 17 | S30: 23
B31: W | C31: 5 | D31: 2 | F31: 5 | G31: 3 | H31: 2 | I31: 1 | K31: 5 | M31: 21 | N31: 12 | P31: 17 | Q31: 19 | R31: 16 | S31: 18
K32: ESTRIBOR
D34: TIER 2 | E34: 6 MTS | N34: TIER 2 | O34: 6 MTS
B35: POPA | C35: A | D35: B | E35: C | F35: D | G35: E | H35: F | I35: G | J35: H | K35: BABOR | M35: A | N35: B | O35: C | P35: D | Q35: E | R35: F | S35: G | T35: H
B36: X | C36: 5 | D36: 3 | E36: 5 | F36: 5 | G36: 3 | H36: 3 | I36: 3 | K36: -5 | L36: PROA | M36: 24 | N36: 16 | O36: 40 | P36: 19 | Q36: 14 | R36: 20 | S36: 27 | V36: =M4+M12+M20+M28+M36+M44 -> 135 | W36: =N4+N12+N20+N28+N36+N44 -> 112 | X36: =O4+O12+O20+O28+O36+O44 -> 80 | Y36: =P4+P12+P20+P28+P36+P44 -> 129 | Z36: =Q4+Q12+Q20+Q28+Q36+Q44 -> 130 | AA36: =R4+R12+R20+R28+R36+R44 -> 103 | AB36: =S4+S12+S20+S28+S36+S44 -> 115 | AC36: =T4+T12+T20+T28+T36+T44 -> 0
B37: Y | C37: 3 | D37: 3 | E37: 2 | F37: 5 | G37: 3 | H37: 3 | I37: 3 | K37: -2 | M37: 10 | N37: 18 | O37: 26 | P37: 15 | Q37: 23 | R37: 22 | S37: 33 | V37: =M5+M13+M21+M29+M37+M45 -> 115 | W37: =N5+N13+N21+N29+N37+N45 -> 132 | X37: =O5+O13+O21+O29+O37+O45 -> 66 | Y37: =P5+P13+P21+P29+P37+P45 -> 125 | Z37: =Q5+Q13+Q21+Q29+Q37+Q45 -> 140 | AA37: =R5+R13+R21+R29+R37+R45 -> 106 | AB37: =S5+S13+S21+S29+S37+S45 -> 123 | AC37: =T5+T13+T21+T29+T37+T45 -> 0
B38: Z | C38: 3 | D38: 3 | E38: 2 | F38: 5 | G38: 3 | H38: 3 | I38: 3 | K38: 2 | M38: 15 | N38: 16 | O38: 22 | P38: 22 | Q38: 22 | R38: 20 | S38: 29 | V38: =M6+M14+M22+M30+M38+M46 -> 112 | W38: =N6+N14+N22+N30+N38+N46 -> 118 | X38: =O6+O14+O22+O30+O38+O46 -> 62 | Y38: =P6+P14+P22+P30+P38+P46 -> 129 | Z38: =Q6+Q14+Q22+Q30+Q38+Q46 -> 140 | AA38: =R6+R14+R22+R30+R38+R46 -> 103 | AB38: =S6+S14+S22+S30+S38+S46 -> 118 | AC38: =T6+T14+T22+T30+T38+T46 -> 0
B39: W | C39: 5 | D39: 3 | E39: 5 | F39: 5 | G39: 3 | H39: 3 | I39: 3 | K39: 5 | M39: 25 | N39: 15 | O39: 40 | P39: 23 | Q39: 15 | R39: 20 | S39: 24 | V39: =M7+M15+M23+M31+M39+M47 -> 136 | W39: =N7+N15+N23+N31+N39+N47 -> 108 | X39: =O7+O15+O23+O31+O39+O47 -> 80 | Y39: =P7+P15+P23+P31+P39+P47 -> 132 | Z39: =Q7+Q15+Q23+Q31+Q39+Q47 -> 126 | AA39: =R7+R15+R23+R31+R39+R47 -> 102 | AB39: =S7+S15+S23+S31+S39+S47 -> 108 | AC39: =T7+T15+T23+T31+T39+T47 -> 0
K40: ESTRIBOR
V41: =V36+V37+V38+V39 -> 498 | W41: =W36+W37+W38+W39 -> 470 | X41: =X36+X37+X38+X39 -> 288 | Y41: =Y36+Y37+Y38+Y39 -> 515 | Z41: =Z36+Z37+Z38+Z39 -> 536 | AA41: =AA36+AA37+AA38+AA39 -> 414 | AB41: =AB36+AB37+AB38+AB39 -> 464 | AC41: =AC36+AC37+AC38+AC39 -> 0
D42: TIER 1 | E42: 3 MTS | N42: TIER 1 | O42: 3 MTS | V42: 20 | W42: 40 | X42: 60 | Y42: 80 | Z42: 100 | AA42: 120 | AB42: 140 | AC42: 160
B43: POPA | C43: A | D43: B | E43: C | F43: D | G43: E | H43: F | I43: G | J43: H | K43: BABOR | M43: A | N43: B | O43: C | P43: D | Q43: E | R43: F | S43: G | T43: H
B44: X | C44: 5 | D44: 5 | E44: 5 | F44: 5 | G44: 5 | H44: 5 | I44: 5 | K44: -5 | L44: PROA | M44: 40 | N44: 40 | O44: 40 | P44: 40 | Q44: 40 | R44: 40 | S44: 40 | V44: 0 | W44: 0
...

Sheet posiciones
F2: PLANTA
D3: POPA | E3: A | F3: B | G3: C | H3: D | I3: E | J3: F | K3: G | L3: H | M3: PROA
M4: BABOR
D5: X | M5: -5
D6: Y | M6: -2
D7: Z | M7: 2
D8: W | M8: 5
M9: ESTRIBOR
E13: PERFIL | F13: Líneas segmentadas muestran la ubicación del centro de los contenedores
N14: Altura
E15: 6 | N15: 19
E16: 5 | N16: 16
E17: 4 | N17: 13
E19: 3 | N19: 9
E20: 2 | N20: 6
E21: 1 | M21: peak de | N21: 3
M22: proa
B23: POPA | E23: 56 | F23: 49 | G23: 42 | H23: 35 | I23: 28 | J23: 21 | K23: 14 | L23: 7 | M23: 4
M24: Mts. desde la proa
