Workbook

Sheet MAESTRO_ANIVERSARIOS
A1: MES | B1: FECHA | C1: FECHA COMPLETA | D1: ESPECIALIDAD / ACTIVIDAD | E1: ESTADO | F1: RESPONSABLE | G1: DÍAS RESTANTES | H1: ALERTA | I1: SEMÁFORO | J1: OBSERVACIONES
A2: Marzo | B2: 13 | C2: =DATE(CONFIG!$B$1,3,B2) | D2: Oficiales de Mar | E2: Pendiente | G2: =C2-TODAY() | H2: =IF(E2="Enviado","CERRADO",IF(G2<0,"VENCIDO",IF(G2<=7,"URGENTE 7 DIAS",IF(G2<=15,"ALERTA 15 DIAS",IF(G2<=30,"ALERTA 30 DIAS","EN PLAZO"))))) | I2: =IF(E2="Enviado","GRIS",IF(G2<0,"ROJO",IF(G2<=7,"ROJO",IF(G2<=15,"AMARILLO",IF(G2<=30,"NARANJO","VERDE")))))
A3: Marzo | B3: 16 | C3: =DATE(CONFIG!$B$1,3,B3) | D3: Aviación Naval | E3: Pendiente | G3: =C3-TODAY() | H3: =IF(E3="Enviado","CERRADO",IF(G3<0,"VENCIDO",IF(G3<=7,"URGENTE 7 DIAS",IF(G3<=15,"ALERTA 15 DIAS",IF(G3<=30,"ALERTA 30 DIAS","EN PLAZO"))))) | I3: =IF(E3="Enviado","GRIS",IF(G3<0,"ROJO",IF(G3<=7,"ROJO",IF(G3<=15,"AMARILLO",IF(G3<=30,"NARANJO","VERDE")))))
A4: Marzo | B4: 31 | C4: =DATE(CONFIG!$B$1,3,B4) | D4: Meteorología | E4: Pendiente | G4: =C4-TODAY() | H4: =IF(E4="Enviado","CERRADO",IF(G4<0,"VENCIDO",IF(G4<=7,"URGENTE 7 DIAS",IF(G4<=15,"ALERTA 15 DIAS",IF(G4<=30,"ALERTA 30 DIAS","EN PLAZO"))))) | I4: =IF(E4="Enviado","GRIS",IF(G4<0,"ROJO",IF(G4<=7,"ROJO",IF(G4<=15,"AMARILLO",IF(G4<=30,"NARANJO","VERDE")))))
A5: Abril | B5: 3 | C5: =DATE(CONFIG!$B$1,4,B5) | D5: Sanidad Naval | E5: Pendiente | G5: =C5-TODAY() | H5: =IF(E5="Enviado","CERRADO",IF(G5<0,"VENCIDO",IF(G5<=7,"URGENTE 7 DIAS",IF(G5<=15,"ALERTA 15 DIAS",IF(G5<=30,"ALERTA 30 DIAS","EN PLAZO"))))) | I5: =IF(E5="Enviado","GRIS",IF(G5<0,"ROJO",IF(G5<=7,"ROJO",IF(G5<=15,"AMARILLO",IF(G5<=30,"NARANJO","VERDE")))))
A6: Abril | B6: 5 | C6: =DATE(CONFIG!$B$1,4,B6) | D6: Radarista CIC. | E6: Pendiente | G6: =C6-TODAY() | H6: =IF(E6="Enviado","CERRADO",IF(G6<0,"VENCIDO",IF(G6<=7,"URGENTE 7 DIAS",IF(G6<=15,"ALERTA 15 DIAS",IF(G6<=30,"ALERTA 30 DIAS","EN PLAZO"))))) | I6: =IF(E6="Enviado","GRIS",IF(G6<0,"ROJO",IF(G6<=7,"ROJO",IF(G6<=15,"AMARILLO",IF(G6<=30,"NARANJO","VERDE")))))
A7: Abril | B7: 12 | C7: =DATE(CONFIG!$B$1,4,B7) | D7: Señaleros | E7: Pendiente | G7: =C7-TODAY() | H7: =IF(E7="Enviado","CERRADO",IF(G7<0,"VENCIDO",IF(G7<=7,"URGENTE 7 DIAS",IF(G7<=15,"ALERTA 15 DIAS",IF(G7<=30,"ALERTA 30 DIAS","EN PLAZO"))))) | I7: =IF(E7="Enviado","GRIS",IF(G7<0,"ROJO",IF(G7<=7,"ROJO",IF(G7<=15,"AMARILLO",IF(G7<=30,"NARANJO","VERDE")))))
A8: Abril | B8: 25 | C8: =DATE(CONFIG!$B$1,4,B8) | D8: Justicia Naval | E8: Pendiente | G8: =C8-TODAY() | H8: =IF(E8="Enviado","CERRADO",IF(G8<0,"VENCIDO",IF(G8<=7,"URGENTE 7 DIAS",IF(G8<=15,"ALERTA 15 DIAS",IF(G8<=30,"ALERTA 30 DIAS","EN PLAZO"))))) | I8: =IF(E8="Enviado","GRIS",IF(G8<0,"ROJO",IF(G8<=7,"ROJO",IF(G8<=15,"AMARILLO",IF(G8<=30,"NARANJO","VERDE")))))
A9: Mayo | B9: 1 | C9: =DATE(CONFIG!$B$1,5,B9) | D9: Hidrografía | E9: Pendiente | G9: =C9-TODAY() | H9: =IF(E9="Enviado","CERRADO",IF(G9<0,"VENCIDO",IF(G9<=7,"URGENTE 7 DIAS",IF(G9<=15,"ALERTA 15 DIAS",IF(G9<=30,"ALERTA 30 DIAS","EN PLAZO"))))) | I9: =IF(E9="Enviado","GRIS",IF(G9<0,"ROJO",IF(G9<=7,"ROJO",IF(G9<=15,"AMARILLO",IF(G9<=30,"NARANJO","VERDE")))))
A10: Mayo | B10: 15 | C10: =DATE(CONFIG!$B$1,5,B10) | D10: Peluquero | E10: Pendiente | G10: =C10-TODAY() | H10: =IF(E10="Enviado","CERRADO",IF(G10<0,"VENCIDO",IF(G10<=7,"URGENTE 7 DIAS",IF(G10<=15,"ALERTA 15 DIAS",IF(G10<=30,"ALERTA 30 DIAS","EN PLAZO"))))) | I10: =IF(E10="Enviado","GRIS",IF(G10<0,"ROJO",IF(G10<=7,"ROJO",IF(G10<=15,"AMARILLO",IF(G10<=30,"NARANJO","VERDE")))))
A11: Mayo | B11: 21 | C11: =DATE(CONFIG!$B$1,5,B11) | D11: Glorias Navales | E11: Pendiente | G11: =C11-TODAY() | H11: =IF(E11="Enviado","CERRADO",IF(G11<0,"VENCIDO",IF(G11<=7,"URGENTE 7 DIAS",IF(G11<=15,"ALERTA 15 DIAS",IF(G11<=30,"ALERTA 30 DIAS","EN PLAZO"))))) | I11: =IF(E11="Enviado","GRIS",IF(G11<0,"ROJO",IF(G11<=7,"ROJO",IF(G11<=15,"AMARILLO",IF(G11<=30,"NARANJO","VERDE")))))
A12: Junio | B12: 8 | C12: =DATE(CONFIG!$B$1,6,B12) | D12: Buzo Salvataje | E12: Pendiente | G12: =C12-TODAY() | H12: =IF(E12="Enviado","CERRADO",IF(G12<0,"VENCIDO",IF(G12<=7,"URGENTE 7 DIAS",IF(G12<=15,"ALERTA 15 DIAS",IF(G12<=30,"ALERTA 30 DIAS","EN PLAZO"))))) | I12: =IF(E12="Enviado","GRIS",IF(G12<0,"ROJO",IF(G12<=7,"ROJO",IF(G12<=15,"AMARILLO",IF(G12<=30,"NARANJO","VERDE")))))
A13: Junio | B13: 15 | C13: =DATE(CONFIG!$B$1,6,B13) | D13: Ab. | E13: Pendiente | G13: =C13-TODAY() | H13: =IF(E13="Enviado","CERRADO",IF(G13<0,"VENCIDO",IF(G13<=7,"URGENTE 7 DIAS",IF(G13<=15,"ALERTA 15 DIAS",IF(G13<=30,"ALERTA 30 DIAS","EN PLAZO"))))) | I13: =IF(E13="Enviado","GRIS",IF(G13<0,"ROJO",IF(G13<=7,"ROJO",IF(G13<=15,"AMARILLO",IF(G13<=30,"NARANJO","VERDE")))))
A14: Junio | B14: 16 | C14: =DATE(CONFIG!$B$1,6,B14) | D14: I.M. | E14: Pendiente | G14: =C14-TODAY() | H14: =IF(E14="Enviado","CERRADO",IF(G14<0,"VENCIDO",IF(G14<=7,"URGENTE 7 DIAS",IF(G14<=15,"ALERTA 15 DIAS",IF(G14<=30,"ALERTA 30 DIAS","EN PLAZO"))))) | I14: =IF(E14="Enviado","GRIS",IF(G14<0,"ROJO",IF(G14<=7,"ROJO",IF(G14<=15,"AMARILLO",IF(G14<=30,"NARANJO","VERDE")))))
A15: Julio | B15: 3 | C15: =DATE(CONFIG!$B$1,7,B15) | D15: Ing. Naval | E15: Pendiente | G15: =C15-TODAY() | H15: =IF(E15="Enviado","CERRADO",IF(G15<0,"VENCIDO",IF(G15<=7,"URGENTE 7 DIAS",IF(G15<=15,"ALERTA 15 DIAS",IF(G15<=30,"ALERTA 30 DIAS","EN PLAZO"))))) | I15: =IF(E15="Enviado","GRIS",IF(G15<0,"ROJO",IF(G15<=7,"ROJO",IF(G15<=15,"AMARILLO",IF(G15<=30,"NARANJO","VERDE")))))
A16: Julio | B16: 4 | C16: =DATE(CONFIG!$B$1,7,B16) | D16: Submarinos | E16: Pendiente | G16: =C16-TODAY() | H16: =IF(E16="Enviado","CERRADO",IF(G16<0,"VENCIDO",IF(G16<=7,"URGENTE 7 DIAS",IF(G16<=15,"ALERTA 15 DIAS",IF(G16<=30,"ALERTA 30 DIAS","EN PLAZO"))))) | I16: =IF(E16="Enviado","GRIS",IF(G16<0,"ROJO",IF(G16<=7,"ROJO",IF(G16<=15,"AMARILLO",IF(G16<=30,"NARANJO","VERDE")))))
A17: Julio | B17: 24 | C17: =DATE(CONFIG!$B$1,7,B17) | D17: Electrónica | E17: Pendiente | G17: =C17-TODAY() | H17: =IF(E17="Enviado","CERRADO",IF(G17<0,"VENCIDO",IF(G17<=7,"URGENTE 7 DIAS",IF(G17<=15,"ALERTA 15 DIAS",IF(G17<=30,"ALERTA 30 DIAS","EN PLAZO"))))) | I17: =IF(E17="Enviado","GRIS",IF(G17<0,"ROJO",IF(G17<=7,"ROJO",IF(G17<=15,"AMARILLO",IF(G17<=30,"NARANJO","VERDE")))))
A18: Julio | B18: 25 | C18: =DATE(CONFIG!$B$1,7,B18) | D18: Conductores | E18: Pendiente | G18: =C18-TODAY() | H18: =IF(E18="Enviado","CERRADO",IF(G18<0,"VENCIDO",IF(G18<=7,"URGENTE 7 DIAS",IF(G18<=15,"ALERTA 15 DIAS",IF(G18<=30,"ALERTA 30 DIAS","EN PLAZO"))))) | I18: =IF(E18="Enviado","GRIS",IF(G18<0,"ROJO",IF(G18<=7,"ROJO",IF(G18<=15,"AMARILLO",IF(G18<=30,"NARANJO","VERDE")))))
A19: Agosto | B19: 4 | C19: =DATE(CONFIG!$B$1,8,B19) | D19: ESNAVAL | E19: Pendiente | G19: =C19-TODAY() | H19: =IF(E19="Enviado","CERRADO",IF(G19<0,"VENCIDO",IF(G19<=7,"URGENTE 7 DIAS",IF(G19<=15,"ALERTA 15 DIAS",IF(G19<=30,"ALERTA 30 DIAS","EN PLAZO"))))) | I19: =IF(E19="Enviado","GRIS",IF(G19<0,"ROJO",IF(G19<=7,"ROJO",IF(G19<=15,"AMARILLO",IF(G19<=30,"NARANJO","VERDE")))))
A20: Agosto | B20: 10 | C20: =DATE(CONFIG!$B$1,8,B20) | D20: Inteligencia | E20: Pendiente | G20: =C20-TODAY() | H20: =IF(E20="Enviado","CERRADO",IF(G20<0,"VENCIDO",IF(G20<=7,"URGENTE 7 DIAS",IF(G20<=15,"ALERTA 15 DIAS",IF(G20<=30,"ALERTA 30 DIAS","EN PLAZO"))))) | I20: =IF(E20="Enviado","GRIS",IF(G20<0,"ROJO",IF(G20<=7,"ROJO",IF(G20<=15,"AMARILLO",IF(G20<=30,"NARANJO","VERDE")))))
A21: Agosto | B21: 11 | C21: =DATE(CONFIG!$B$1,8,B21) | D21: Prácticos | E21: Pendiente | G21: =C21-TODAY() | H21: =IF(E21="Enviado","CERRADO",IF(G21<0,"VENCIDO",IF(G21<=7,"URGENTE 7 DIAS",IF(G21<=15,"ALERTA 15 DIAS",IF(G21<=30,"ALERTA 30 DIAS","EN PLAZO"))))) | I21: =IF(E21="Enviado","GRIS",IF(G21<0,"ROJO",IF(G21<=7,"ROJO",IF(G21<=15,"AMARILLO",IF(G21<=30,"NARANJO","VERDE")))))
A22: Agosto | B22: 14 | C22: =DATE(CONFIG!$B$1,8,B22) | D22: Sastre | E22: Pendiente | G22: =C22-TODAY() | H22: =IF(E22="Enviado","CERRADO",IF(G22<0,"VENCIDO",IF(G22<=7,"URGENTE 7 DIAS",IF(G22<=15,"ALERTA 15 DIAS",IF(G22<=30,"ALERTA 30 DIAS","EN PLAZO"))))) | I22: =IF(E22="Enviado","GRIS",IF(G22<0,"ROJO",IF(G22<=7,"ROJO",IF(G22<=15,"AMARILLO",IF(G22<=30,"NARANJO","VERDE")))))
A23: Agosto | B23: 15 | C23: =DATE(CONFIG!$B$1,8,B23) | D23: Torpedos | E23: Pendiente | G23: =C23-TODAY() | H23: =IF(E23="Enviado","CERRADO",IF(G23<0,"VENCIDO",IF(G23<=7,"URGENTE 7 DIAS",IF(G23<=15,"ALERTA 15 DIAS",IF(G23<=30,"ALERTA 30 DIAS","EN PLAZO"))))) | I23: =IF(E23="Enviado","GRIS",IF(G23<0,"ROJO",IF(G23<=7,"ROJO",IF(G23<=15,"AMARILLO",IF(G23<=30,"NARANJO","VERDE")))))
A24: Agosto | B24: 18 | C24: =DATE(CONFIG!$B$1,8,B24) | D24: Serv. Religioso | E24: Pendiente | G24: =C24-TODAY() | H24: =IF(E24="Enviado","CERRADO",IF(G24<0,"VENCIDO",IF(G24<=7,"URGENTE 7 DIAS",IF(G24<=15,"ALERTA 15 DIAS",IF(G24<=30,"ALERTA 30 DIAS","EN PLAZO"))))) | I24: =IF(E24="Enviado","GRIS",IF(G24<0,"ROJO",IF(G24<=7,"ROJO",IF(G24<=15,"AMARILLO",IF(G24<=30,"NARANJO","VERDE")))))
A25: Agosto | B25: 30 | C25: =DATE(CONFIG!$B$1,8,B25) | D25: Litoral | E25: Pendiente | G25: =C25-TODAY() | H25: =IF(E25="Enviado","CERRADO",IF(G25<0,"VENCIDO",IF(G25<=7,"URGENTE 7 DIAS",IF(G25<=15,"ALERTA 15 DIAS",IF(G25<=30,"ALERTA 30 DIAS","EN PLAZO"))))) | I25: =IF(E25="Enviado","GRIS",IF(G25<0,"ROJO",IF(G25<=7,"ROJO",IF(G25<=15,"AMARILLO",IF(G25<=30,"NARANJO","VERDE")))))
A26: Septiembre | B26: 15 | C26: =DATE(CONFIG!$B$1,9,B26) | D26: Cámara | E26: Pendiente | G26: =C26-TODAY() | H26: =IF(E26="Enviado","CERRADO",IF(G26<0,"VENCIDO",IF(G26<=7,"URGENTE 7 DIAS",IF(G26<=15,"ALERTA 15 DIAS",IF(G26<=30,"ALERTA 30 DIAS","EN PLAZO"))))) | I26: =IF(E26="Enviado","GRIS",IF(G26<0,"ROJO",IF(G26<=7,"ROJO",IF(G26<=15,"AMARILLO",IF(G26<=30,"NARANJO","VERDE")))))
A27: Octubre | B27: 8 | C27: =DATE(CONFIG!$B$1,10,B27) | D27: Angamos | E27: Pendiente | G27: =C27-TODAY() | H27: =IF(E27="Enviado","CERRADO",IF(G27<0,"VENCIDO",IF(G27<=7,"URGENTE 7 DIAS",IF(G27<=15,"ALERTA 15 DIAS",IF(G27<=30,"ALERTA 30 DIAS","EN PLAZO"))))) | I27: =IF(E27="Enviado","GRIS",IF(G27<0,"ROJO",IF(G27<=7,"ROJO",IF(G27<=15,"AMARILLO",IF(G27<=30,"NARANJO","VERDE")))))
A28: Octubre | B28: 9 | C28: =DATE(CONFIG!$B$1,10,B28) | D28: Estado Mayor | E28: Pendiente | G28: =C28-TODAY() | H28: =IF(E28="Enviado","CERRADO",IF(G28<0,"VENCIDO",IF(G28<=7,"URGENTE 7 DIAS",IF(G28<=15,"ALERTA 15 DIAS",IF(G28<=30,"ALERTA 30 DIAS","EN PLAZO"))))) | I28: =IF(E28="Enviado","GRIS",IF(G28<0,"ROJO",IF(G28<=7,"ROJO",IF(G28<=15,"AMARILLO",IF(G28<=30,"NARANJO","VERDE")))))
A29: Octubre | B29: 19 | C29: =DATE(CONFIG!$B$1,10,B29) | D29: Maniobras | E29: Pendiente | G29: =C29-TODAY() | H29: =IF(E29="Enviado","CERRADO",IF(G29<0,"VENCIDO",IF(G29<=7,"URGENTE 7 DIAS",IF(G29<=15,"ALERTA 15 DIAS",IF(G29<=30,"ALERTA 30 DIAS","EN PLAZO"))))) | I29: =IF(E29="Enviado","GRIS",IF(G29<0,"ROJO",IF(G29<=7,"ROJO",IF(G29<=15,"AMARILLO",IF(G29<=30,"NARANJO","VERDE")))))
A30: Noviembre | B30: 9 | C30: =DATE(CONFIG!$B$1,11,B30) | D30: Faros | E30: Pendiente | G30: =C30-TODAY() | H30: =IF(E30="Enviado","CERRADO",IF(G30<0,"VENCIDO",IF(G30<=7,"URGENTE 7 DIAS",IF(G30<=15,"ALERTA 15 DIAS",IF(G30<=30,"ALERTA 30 DIAS","EN PLAZO"))))) | I30: =IF(E30="Enviado","GRIS",IF(G30<0,"ROJO",IF(G30<=7,"ROJO",IF(G30<=15,"AMARILLO",IF(G30<=30,"NARANJO","VERDE")))))
A31: Noviembre | B31: 10 | C31: =DATE(CONFIG!$B$1,11,B31) | D31: Sanidad Dental | E31: Pendiente | G31: =C31-TODAY() | H31: =IF(E31="Enviado","CERRADO",IF(G31<0,"VENCIDO",IF(G31<=7,"URGENTE 7 DIAS",IF(G31<=15,"ALERTA 15 DIAS",IF(G31<=30,"ALERTA 30 DIAS","EN PLAZO"))))) | I31: =IF(E31="Enviado","GRIS",IF(G31<0,"ROJO",IF(G31<=7,"ROJO",IF(G31<=15,"AMARILLO",IF(G31<=30,"NARANJO","VERDE")))))
A32: Noviembre | B32: 15 | C32: =DATE(CONFIG!$B$1,11,B32) | D32: Fotografía | E32: Pendiente | G32: =C32-TODAY() | H32: =IF(E32="Enviado","CERRADO",IF(G32<0,"VENCIDO",IF(G32<=7,"URGENTE 7 DIAS",IF(G32<=15,"ALERTA 15 DIAS",IF(G32<=30,"ALERTA 30 DIAS","EN PLAZO"))))) | I32: =IF(E32="Enviado","GRIS",IF(G32<0,"ROJO",IF(G32<=7,"ROJO",IF(G32<=15,"AMARILLO",IF(G32<=30,"NARANJO","VERDE")))))
A33: Noviembre | B33: 22 | C33: =DATE(CONFIG!$B$1,11,B33) | D33: Músicos | E33: Pendiente | G33: =C33-TODAY() | H33: =IF(E33="Enviado","CERRADO",IF(G33<0,"VENCIDO",IF(G33<=7,"URGENTE 7 DIAS",IF(G33<=15,"ALERTA 15 DIAS",IF(G33<=30,"ALERTA 30 DIAS","EN PLAZO"))))) | I33: =IF(E33="Enviado","GRIS",IF(G33<0,"ROJO",IF(G33<=7,"ROJO",IF(G33<=15,"AMARILLO",IF(G33<=30,"NARANJO","VERDE")))))
A34: Noviembre | B34: 25 | C34: =DATE(CONFIG!$B$1,11,B34) | D34: Tc. | E34: Pendiente | G34: =C34-TODAY() | H34: =IF(E34="Enviado","CERRADO",IF(G34<0,"VENCIDO",IF(G34<=7,"URGENTE 7 DIAS",IF(G34<=15,"ALERTA 15 DIAS",IF(G34<=30,"ALERTA 30 DIAS","EN PLAZO"))))) | I34: =IF(E34="Enviado","GRIS",IF(G34<0,"ROJO",IF(G34<=7,"ROJO",IF(G34<=15,"AMARILLO",IF(G34<=30,"NARANJO","VERDE")))))
A35: Diciembre | B35: 1 | C35: =DATE(CONFIG!$B$1,12,B35) | D35: Escribiente | E35: Pendiente | G35: =C35-TODAY() | H35: =IF(E35="Enviado","CERRADO",IF(G35<0,"VENCIDO",IF(G35<=7,"URGENTE 7 DIAS",IF(G35<=15,"ALERTA 15 DIAS",IF(G35<=30,"ALERTA 30 DIAS","EN PLAZO"))))) | I35: =IF(E35="Enviado","GRIS",IF(G35<0,"ROJO",IF(G35<=7,"ROJO",IF(G35<=15,"AMARILLO",IF(G35<=30,"NARANJO","VERDE")))))
A36: Diciembre | B36: 4 | C36: =DATE(CONFIG!$B$1,12,B36) | D36: Artillería | E36: Pendiente | G36: =C36-TODAY() | H36: =IF(E36="Enviado","CERRADO",IF(G36<0,"VENCIDO",IF(G36<=7,"URGENTE 7 DIAS",IF(G36<=15,"ALERTA 15 DIAS",IF(G36<=30,"ALERTA 30 DIAS","EN PLAZO"))))) | I36: =IF(E36="Enviado","GRIS",IF(G36<0,"ROJO",IF(G36<=7,"ROJO",IF(G36<=15,"AMARILLO",IF(G36<=30,"NARANJO","VERDE")))))
A37: Diciembre | B37: 10 | C37: =DATE(CONFIG!$B$1,12,B37) | D37: Guardalmacén | E37: Pendiente | G37: =C37-TODAY() | H37: =IF(E37="Enviado","CERRADO",IF(G37<0,"VENCIDO",IF(G37<=7,"URGENTE 7 DIAS",IF(G37<=15,"ALERTA 15 DIAS",IF(G37<=30,"ALERTA 30 DIAS","EN PLAZO"))))) | I37: =IF(E37="Enviado","GRIS",IF(G37<0,"ROJO",IF(G37<=7,"ROJO",IF(G37<=15,"AMARILLO",IF(G37<=30,"NARANJO","VERDE")))))
A38: Diciembre | B38: 28 | C38: =DATE(CONFIG!$B$1,12,B38) | D38: Navegación | E38: Pendiente | G38: =C38-TODAY() | H38: =IF(E38="Enviado","CERRADO",IF(G38<0,"VENCIDO",IF(G38<=7,"URGENTE 7 DIAS",IF(G38<=15,"ALERTA 15 DIAS",IF(G38<=30,"ALERTA 30 DIAS","EN PLAZO"))))) | I38: =IF(E38="Enviado","GRIS",IF(G38<0,"ROJO",IF(G38<=7,"ROJO",IF(G38<=15,"AMARILLO",IF(G38<=30,"NARANJO","VERDE")))))

Sheet CONFIG
A1: AÑO DE CONTROL | B1: 2026 | D1: CRITERIO ALERTA
A2: FECHA ACTUAL | B2: =TODAY() | D2: Rojo: vencido o 0-7 días
D3: Amarillo: 8-15 días
A4: ESTADOS | D4: Naranjo: 16-30 días
A5: Pendiente | D5: Verde: más de 30 días
A6: En Proceso | D6: Gris: enviado / cerrado
A7: Enviado
A8: No aplica

Sheet CONTROL_ALERTAS
A1: CONTROL DE ANIVERSARIOS Y ALERTAS
A3: INDICADOR | B3: TOTAL | D3: MES | E3: TOTAL | F3: PENDIENTE | G3: EN PROCESO | H3: ENVIADO
A4: Total registros | B4: =COUNTA(MAESTRO_ANIVERSARIOS!D2:D38) | D4: Enero | E4: =COUNTIF(MAESTRO_ANIVERSARIOS!A2:A38,D4) | F4: =COUNTIFS(MAESTRO_ANIVERSARIOS!A2:A38,D4,MAESTRO_ANIVERSARIOS!E2:E38,"Pendiente") | G4: =COUNTIFS(MAESTRO_ANIVERSARIOS!A2:A38,D4,MAESTRO_ANIVERSARIOS!E2:E38,"En Proceso") | H4: =COUNTIFS(MAESTRO_ANIVERSARIOS!A2:A38,D4,MAESTRO_ANIVERSARIOS!E2:E38,"Enviado")
A5: Pendientes | B5: =COUNTIF(MAESTRO_ANIVERSARIOS!E2:E38,"Pendiente") | D5: Febrero | E5: =COUNTIF(MAESTRO_ANIVERSARIOS!A2:A38,D5) | F5: =COUNTIFS(MAESTRO_ANIVERSARIOS!A2:A38,D5,MAESTRO_ANIVERSARIOS!E2:E38,"Pendiente") | G5: =COUNTIFS(MAESTRO_ANIVERSARIOS!A2:A38,D5,MAESTRO_ANIVERSARIOS!E2:E38,"En Proceso") | H5: =COUNTIFS(MAESTRO_ANIVERSARIOS!A2:A38,D5,MAESTRO_ANIVERSARIOS!E2:E38,"Enviado")
A6: En proceso | B6: =COUNTIF(MAESTRO_ANIVERSARIOS!E2:E38,"En Proceso") | D6: Marzo | E6: =COUNTIF(MAESTRO_ANIVERSARIOS!A2:A38,D6) | F6: =COUNTIFS(MAESTRO_ANIVERSARIOS!A2:A38,D6,MAESTRO_ANIVERSARIOS!E2:E38,"Pendiente") | G6: =COUNTIFS(MAESTRO_ANIVERSARIOS!A2:A38,D6,MAESTRO_ANIVERSARIOS!E2:E38,"En Proceso") | H6: =COUNTIFS(MAESTRO_ANIVERSARIOS!A2:A38,D6,MAESTRO_ANIVERSARIOS!E2:E38,"Enviado")
A7: Enviados | B7: =COUNTIF(MAESTRO_ANIVERSARIOS!E2:E38,"Enviado") | D7: Abril | E7: =COUNTIF(MAESTRO_ANIVERSARIOS!A2:A38,D7) | F7: =COUNTIFS(MAESTRO_ANIVERSARIOS!A2:A38,D7,MAESTRO_ANIVERSARIOS!E2:E38,"Pendiente") | G7: =COUNTIFS(MAESTRO_ANIVERSARIOS!A2:A38,D7,MAESTRO_ANIVERSARIOS!E2:E38,"En Proceso") | H7: =COUNTIFS(MAESTRO_ANIVERSARIOS!A2:A38,D7,MAESTRO_ANIVERSARIOS!E2:E38,"Enviado")
A8: Vencidos | B8: =COUNTIF(MAESTRO_ANIVERSARIOS!H2:H38,"VENCIDO") | D8: Mayo | E8: =COUNTIF(MAESTRO_ANIVERSARIOS!A2:A38,D8) | F8: =COUNTIFS(MAESTRO_ANIVERSARIOS!A2:A38,D8,MAESTRO_ANIVERSARIOS!E2:E38,"Pendiente") | G8: =COUNTIFS(MAESTRO_ANIVERSARIOS!A2:A38,D8,MAESTRO_ANIVERSARIOS!E2:E38,"En Proceso") | H8: =COUNTIFS(MAESTRO_ANIVERSARIOS!A2:A38,D8,MAESTRO_ANIVERSARIOS!E2:E38,"Enviado")
A9: Urgentes 7 días | B9: =COUNTIF(MAESTRO_ANIVERSARIOS!H2:H38,"URGENTE 7 DIAS") | D9: Junio | E9: =COUNTIF(MAESTRO_ANIVERSARIOS!A2:A38,D9) | F9: =COUNTIFS(MAESTRO_ANIVERSARIOS!A2:A38,D9,MAESTRO_ANIVERSARIOS!E2:E38,"Pendiente") | G9: =COUNTIFS(MAESTRO_ANIVERSARIOS!A2:A38,D9,MAESTRO_ANIVERSARIOS!E2:E38,"En Proceso") | H9: =COUNTIFS(MAESTRO_ANIVERSARIOS!A2:A38,D9,MAESTRO_ANIVERSARIOS!E2:E38,"Enviado")
A10: Alertas 15 días | B10: =COUNTIF(MAESTRO_ANIVERSARIOS!H2:H38,"ALERTA 15 DIAS") | D10: Julio | E10: =COUNTIF(MAESTRO_ANIVERSARIOS!A2:A38,D10) | F10: =COUNTIFS(MAESTRO_ANIVERSARIOS!A2:A38,D10,MAESTRO_ANIVERSARIOS!E2:E38,"Pendiente") | G10: =COUNTIFS(MAESTRO_ANIVERSARIOS!A2:A38,D10,MAESTRO_ANIVERSARIOS!E2:E38,"En Proceso") | H10: =COUNTIFS(MAESTRO_ANIVERSARIOS!A2:A38,D10,MAESTRO_ANIVERSARIOS!E2:E38,"Enviado")
A11: Alertas 30 días | B11: =COUNTIF(MAESTRO_ANIVERSARIOS!H2:H38,"ALERTA 30 DIAS") | D11: Agosto | E11: =COUNTIF(MAESTRO_ANIVERSARIOS!A2:A38,D11) | F11: =COUNTIFS(MAESTRO_ANIVERSARIOS!A2:A38,D11,MAESTRO_ANIVERSARIOS!E2:E38,"Pendiente") | G11: =COUNTIFS(MAESTRO_ANIVERSARIOS!A2:A38,D11,MAESTRO_ANIVERSARIOS!E2:E38,"En Proceso") | H11: =COUNTIFS(MAESTRO_ANIVERSARIOS!A2:A38,D11,MAESTRO_ANIVERSARIOS!E2:E38,"Enviado")
A12: En plazo | B12: =COUNTIF(MAESTRO_ANIVERSARIOS!H2:H38,"EN PLAZO") | D12: Septiembre | E12: =COUNTIF(MAESTRO_ANIVERSARIOS!A2:A38,D12) | F12: =COUNTIFS(MAESTRO_ANIVERSARIOS!A2:A38,D12,MAESTRO_ANIVERSARIOS!E2:E38,"Pendiente") | G12: =COUNTIFS(MAESTRO_ANIVERSARIOS!A2:A38,D12,MAESTRO_ANIVERSARIOS!E2:E38,"En Proceso") | H12: =COUNTIFS(MAESTRO_ANIVERSARIOS!A2:A38,D12,MAESTRO_ANIVERSARIOS!E2:E38,"Enviado")
D13: Octubre | E13: =COUNTIF(MAESTRO_ANIVERSARIOS!A2:A38,D13) | F13: =COUNTIFS(MAESTRO_ANIVERSARIOS!A2:A38,D13,MAESTRO_ANIVERSARIOS!E2:E38,"Pendiente") | G13: =COUNTIFS(MAESTRO_ANIVERSARIOS!A2:A38,D13,MAESTRO_ANIVERSARIOS!E2:E38,"En Proceso") | H13: =COUNTIFS(MAESTRO_ANIVERSARIOS!A2:A38,D13,MAESTRO_ANIVERSARIOS!E2:E38,"Enviado")
D14: Noviembre | E14: =COUNTIF(MAESTRO_ANIVERSARIOS!A2:A38,D14) | F14: =COUNTIFS(MAESTRO_ANIVERSARIOS!A2:A38,D14,MAESTRO_ANIVERSARIOS!E2:E38,"Pendiente") | G14: =COUNTIFS(MAESTRO_ANIVERSARIOS!A2:A38,D14,MAESTRO_ANIVERSARIOS!E2:E38,"En Proceso") | H14: =COUNTIFS(MAESTRO_ANIVERSARIOS!A2:A38,D14,MAESTRO_ANIVERSARIOS!E2:E38,"Enviado")
D15: Diciembre | E15: =COUNTIF(MAESTRO_ANIVERSARIOS!A2:A38,D15) | F15: =COUNTIFS(MAESTRO_ANIVERSARIOS!A2:A38,D15,MAESTRO_ANIVERSARIOS!E2:E38,"Pendiente") | G15: =COUNTIFS(MAESTRO_ANIVERSARIOS!A2:A38,D15,MAESTRO_ANIVERSARIOS!E2:E38,"En Proceso") | H15: =COUNTIFS(MAESTRO_ANIVERSARIOS!A2:A38,D15,MAESTRO_ANIVERSARIOS!E2:E38,"Enviado")

Sheet VISTA_MENSUAL
A1: VISTA MENSUAL - PATRÓN DE COLORES
A3: MES | B3: FECHA | C3: ACTIVIDAD | D3: ALERTA
A4: Marzo | B4: 13 | C4: Oficiales de Mar | D4: =MAESTRO_ANIVERSARIOS!H4
A5: Marzo | B5: 16 | C5: Aviación Naval | D5: =MAESTRO_ANIVERSARIOS!H5
A6: Marzo | B6: 31 | C6: Meteorología | D6: =MAESTRO_ANIVERSARIOS!H6
A7: Abril | B7: 3 | C7: Sanidad Naval | D7: =MAESTRO_ANIVERSARIOS!H7
A8: Abril | B8: 5 | C8: Radarista CIC. | D8: =MAESTRO_ANIVERSARIOS!H8
A9: Abril | B9: 12 | C9: Señaleros | D9: =MAESTRO_ANIVERSARIOS!H9
A10: Abril | B10: 25 | C10: Justicia Naval | D10: =MAESTRO_ANIVERSARIOS!H10
A11: Mayo | B11: 1 | C11: Hidrografía | D11: =MAESTRO_ANIVERSARIOS!H11
A12: Mayo | B12: 15 | C12: Peluquero | D12: =MAESTRO_ANIVERSARIOS!H12
A13: Mayo | B13: 21 | C13: Glorias Navales | D13: =MAESTRO_ANIVERSARIOS!H13
A14: Junio | B14: 8 | C14: Buzo Salvataje | D14: =MAESTRO_ANIVERSARIOS!H14
A15: Junio | B15: 15 | C15: Ab. | D15: =MAESTRO_ANIVERSARIOS!H15
... A40: Diciembre | B40: 28 | C40: Navegación | D40: =MAESTRO_ANIVERSARIOS!H40
