Workbook

Sheet ESCUADRA-CM
H2: CALIFICACIÓN PARA CURSO CAOR
C3: PERDIODO | D3: 1
D4: =DATOS!A2&" "&DATOS!A7 -> Aguilera, Pablo Alberto | E4: =DATOS!B2&" "&DATOS!B7 -> Bambach, Juan Paulo | F4: =DATOS!C2&" "&DATOS!C7 -> Benavente, Sergio | G4: =DATOS!D2&" "&DATOS!D7 -> Bolelli, Ignacio Octavio | H4: =DATOS!E2&" "&DATOS!E7 -> Correa, Cristóbal | I4: =DATOS!F2&" "&DATOS!F7 -> De la Cruz , Oscar Ernesto | J4: =DATOS!G2&" "&DATOS!G7 -> Del Favero, Andrés | K4: =DATOS!H2&" "&DATOS!H7 -> Espejo, Paula Macarena | ... AJ4: =DATOS!AG2&" "&DATOS!AG7 -> Wuth, Enrique Alejandro
C5: INSTRUCTIOR: (GRADO / NOMBRE) | D5: =DATOS!A1 -> Aguilera | E5: =DATOS!B1 -> Bambach | F5: =DATOS!C1 -> Benavente | G5: =DATOS!D1 -> Bolelli | H5: =DATOS!E1 -> Correa | I5: =DATOS!F1 -> De la Cruz | J5: =DATOS!G1 -> Del Favero | K5: =DATOS!H1 -> Espejo | L5: =DATOS!I1 -> Fuenzalida | M5: =DATOS!J1&" C" -> Ibáñez C | N5: =DATOS!K1&" G" -> Ibáñez G | O5: =DATOS!L1 -> Izquierdo | P5: =DATOS!M1 -> Jones | Q5: =DATOS!N1 -> Jorquera | R5: =DATOS!O1 -> Junge | S5: =DATOS!P1 -> Kinast | T5: =DATOS!Q1 -> Larraín | U5: =DATOS!R1 -> Leiva | V5: =DATOS!S1 -> Lopez | ... AB5: =DATOS!Y1 -> Santis | AC5: =DATOS!Z1&" F" -> Solari F | AD5: =DATOS!AA1&" B" -> Solari B | AE5: =DATOS!AB1 -> Urrutia | AF5: =DATOS!AC1 -> Valdes | AG5: =DATOS!AD1 -> Vallebona | AH5: =DATOS!AE1 -> Vidaurre | AI5: =DATOS!AF1 -> Wagner | AJ5: =DATOS!AG1 -> Wuth
C6: Edad | D6: =DATOS!A4 -> 45.550685 | E6: =DATOS!B4 -> 59.668493 | F6: =DATOS!C4 -> 62.673973 | G6: =DATOS!D4 -> 42.29863 | H6: =DATOS!E4 -> 44.10411 | I6: =DATOS!F4 -> 55.128767 | J6: =DATOS!G4 -> 42.109589 | K6: =DATOS!H4 -> 44.043836 | ... AJ6: =DATOS!AG4 -> 44.446575
C7: Empresa | D7: =DATOS!A5 -> Netafim Chile | E7: =DATOS!B5 -> Estudio Philippi | F7: =DATOS!C5 -> Bci Asset Management | G7: =DATOS!D5 -> MBC Abogados | H7: =DATOS!E5 -> Yamana Gold | I7: =DATOS!F5 -> AAK Abogados | J7: =DATOS!G5 -> Lavin Abogados & Consultores | K7: =DATOS!H5 -> Boldtalk Spa | ... AJ7: =DATOS!AG5 -> Constructora WL
C8: Cargo | D8: =DATOS!A6 -> Agente Zonal Sexta Región | E8: =DATOS!B6 -> Abogado | F8: =DATOS!C6 -> Gerente de Riesgo | G8: =DATOS!D6 -> Socio | H8: =DATOS!E6 -> Director Legal | I8: =DATOS!F6 -> Socio | J8: =DATOS!G6 -> Socio | K8: =DATOS!H6 -> Fundadora | ... AJ8: =DATOS!AG6 -> Socio
D10: Las notas serán hechas de 1 a 10 (sin decimales), donde la nota mínima de aprobación será un 6.
C11: MANDO | D11: MANDO
B12: - | C12: Ejemplo que inspira con sus actuaciones: | D12: 9 | E12: 6 | F12: 6 | G12: 6 | H12: 8 | J12: 7 | K12: 7 | L12: 5 | M12: 10 | N12: 7 | O12: 6 | P12: 7 | Q12: 7 | R12: 8 | S12: 9 | T12: 10 | U12: 9 | V12: 9 | W12: 8 | X12: 8 | Y12: 8 | Z12: 8 | AA12: 8 | AB12: 8 | AC12: 9 | AD12: 7 | AE12: 6 | AF12: 9 | AG12: 8 | AH12: 7 | AI12: 7 | AJ12: 7
B13: - | C13: Carácter: | D13: 7 | E13: 7 | F13: 6 | G13: 7 | H13: 9 | J13: 8 | K13: 6 | L13: 5 | M13: 8 | N13: 7 | O13: 6 | P13: 9 | Q13: 7 | R13: 8 | S13: 9 | T13: 9 | U13: 10 | V13: 8 | W13: 7 | X13: 7 | Y13: 8 | Z13: 8 | AA13: 9 | AB13: 8 | AC13: 8 | AD13: 7 | AE13: 6 | AF13: 9 | AG13: 10 | AH13: 7 | AI13: 7 | AJ13: 8
B14: - | C14: Capacidad para aceptar críticas a su actuación | D14: 10 | E14: 7 | F14: 9 | G14: 9 | H14: 9 | J14: 7 | K14: 7 | L14: 5 | M14: 9 | N14: 7 | O14: 6 | P14: 9 | Q14: 9 | R14: 7 | S14: 9 | T14: 9 | U14: 10 | V14: 9 | W14: 9 | X14: 8 | Y14: 10 | Z14: 7 | AA14: 9 | AB14: 8 | AC14: 8 | AD14: 7 | AE14: 6 | AF14: 10 | AG14: 8 | AH14: 6 | AI14: 9 | AJ14: 9
B15: - | C15: Lealtad: | D15: 9 | E15: 8 | F15: 9 | G15: 8 | H15: 9 | J15: 8 | K15: 8 | L15: 5 | M15: 9 | N15: 8 | O15: 8 | P15: 9 | Q15: 9 | R15: 8 | S15: 10 | T15: 10 | U15: 8 | V15: 10 | W15: 7 | X15: 9 | Y15: 10 | Z15: 8 | AA15: 9 | AB15: 9 | AC15: 9 | AD15: 9 | AE15: 8 | AF15: 10 | AG15: 9 | AH15: 8 | AI15: 9 | AJ15: 9
B16: - | C16: Fortaleza: | D16: 9 | E16: 7 | F16: 9 | G16: 9 | H16: 9 | J16: 7 | K16: 6 | L16: 5 | M16: 9 | N16: 7 | O16: 7 | P16: 9 | Q16: 8 | R16: 8 | S16: 9 | T16: 10 | U16: 10 | V16: 8 | W16: 8 | X16: 9 | Y16: 9 | Z16: 7 | AA16: 9 | AB16: 8 | AC16: 9 | AD16: 8 | AE16: 6 | AF16: 9 | AG16: 9 | AH16: 7 | AI16: 8 | AJ16: 9
B17: - | C17: Prudencia: | D17: 10 | E17: 7 | F17: 9 | G17: 9 | H17: 9 | J17: 7 | K17: 8 | L17: 5 | M17: 10 | N17: 9 | O17: 6 | P17: 8 | Q17: 9 | R17: 8 | S17: 10 | T17: 9 | U17: 9 | V17: 10 | W17: 9 | X17: 10 | Y17: 9 | Z17: 8 | AA17: 8 | AB17: 8 | AC17: 9 | AD17: 8 | AE17: 7 | AF17: 10 | AG17: 9 | AH17: 7 | AI17: 9 | AJ17: 9
C18: MEDIA | D18: =TRUNC(IFERROR(AVERAGE(D12:D17),"0"),2) -> 9 | E18: =TRUNC(IFERROR(AVERAGE(E12:E17),"0"),2) -> 7 | F18: =TRUNC(IFERROR(AVERAGE(F12:F17),"0"),2) -> 8 | G18: =TRUNC(IFERROR(AVERAGE(G12:G17),"0"),2) -> 8 | H18: =TRUNC(IFERROR(AVERAGE(H12:H17),"0"),2) -> 8.83 | I18: =TRUNC(IFERROR(AVERAGE(I12:I17),"0"),2) -> 0 | J18: =TRUNC(IFERROR(AVERAGE(J12:J17),"0"),2) -> 7.33 | K18: =TRUNC(IFERROR(AVERAGE(K12:K17),"0"),2) -> 7 | ... AJ18: =TRUNC(IFERROR(AVERAGE(AJ12:AJ17),"0"),2) -> 8.5
C19: INTERÉS PROFESIONAL | D19: INTERÉS PROFESIONAL
B20: - | C20: Conocimiento sobre la carrera y sus tradiciones: | D20: 8 | E20: 6 | F20: 6 | G20: 6 | H20: 7 | J20: 7 | K20: 6 | L20: 6 | M20: 7 | N20: 7 | O20: 6 | P20: 7 | Q20: 7 | R20: 7 | S20: 8 | T20: 8 | U20: 8 | V20: 8 | W20: 7 | X20: 8 | Y20: 8 | Z20: 7 | AA20: 8 | AB20: 8 | AC20: 9 | AD20: 8 | AE20: 7 | AF20: 8 | AG20: 7 | AH20: 7 | AI20: 7 | AJ20: 6
B21: - | C21: Espíritu Profesional: | D21: 8 | E21: 6 | F21: 7 | G21: 6 | H21: 9 | J21: 7 | K21: 7 | L21: 5 | M21: 9 | N21: 7 | O21: 7 | P21: 8 | Q21: 8 | R21: 8 | S21: 9 | T21: 10 | U21: 10 | V21: 10 | W21: 8 | X21: 8 | Y21: 9 | Z21: 8 | AA21: 8 | AB21: 8 | AC21: 9 | AD21: 9 | AE21: 6 | AF21: 10 | AG21: 9 | AH21: 8 | AI21: 8 | AJ21: 7
B22: - | C22: Rendimiento en actividades profesionales: | D22: 8 | E22: 6 | F22: 9 | G22: 8 | H22: 8 | J22: 8 | K22: 7 | L22: 6 | M22: 10 | N22: 7 | O22: 7 | P22: 8 | Q22: 7 | R22: 9 | S22: 9 | T22: 10 | U22: 10 | V22: 8 | W22: 8 | X22: 9 | Y22: 7 | Z22: 8 | AA22: 6 | AC22: 10 | AD22: 10 | AE22: 8 | AF22: 8 | AG22: 9 | AH22: 9 | AI22: 8 | AJ22: 6
C23: MEDIA | D23: =TRUNC(IFERROR(AVERAGE(D20:D22),"0"),2) -> 8 | E23: =TRUNC(IFERROR(AVERAGE(E20:E22),"0"),2) -> 6 | F23: =TRUNC(IFERROR(AVERAGE(F20:F22),"0"),2) -> 7.33 | G23: =TRUNC(IFERROR(AVERAGE(G20:G22),"0"),2) -> 6.66 | H23: =TRUNC(IFERROR(AVERAGE(H20:H22),"0"),2) -> 8 | I23: =TRUNC(IFERROR(AVERAGE(I20:I22),"0"),2) -> 0 | J23: =TRUNC(IFERROR(AVERAGE(J20:J22),"0"),2) -> 7.33 | K23: =TRUNC(IFERROR(AVERAGE(K20:K22),"0"),2) -> 6.66 | ... AJ23: =TRUNC(IFERROR(AVERAGE(AJ20:AJ22),"0"),2) -> 6.33
C24: PERSONALIDAD | D24: PERSONALIDAD
B25: - | C25: Capacidad de expresión oral: | D25: 9 | E25: 9 | F25: 8 | G25: 8 | H25: 9 | J25: 8 | K25: 8 | L25: 6 | M25: 9 | N25: 8 | O25: 8 | P25: 8 | Q25: 8 | R25: 9 | S25: 8 | T25: 8 | U25: 9 | V25: 9 | W25: 9 | X25: 8 | Y25: 8 | Z25: 8 | AA25: 8 | AB25: 8 | AC25: 9 | AD25: 8 | AE25: 7 | AF25: 10 | AG25: 8 | AH25: 8 | AI25: 8 | AJ25: 8
B26: - | C26: Ascendiente con sus compañeros: | D26: 9 | E26: 7 | F26: 7 | G26: 7 | H26: 8 | J26: 7 | K26: 7 | L26: 5 | M26: 8 | N26: 7 | O26: 7 | P26: 8 | Q26: 7 | R26: 8 | S26: 9 | T26: 9 | U26: 9 | V26: 10 | W26: 8 | X26: 8 | Y26: 8 | Z26: 8 | AA26: 9 | AB26: 8 | AC26: 8 | AD26: 8 | AE26: 6 | AF26: 10 | AG26: 9 | AH26: 7 | AI26: 7 | AJ26: 7
B27: - | C27: Madurez en sus actuaciones: | D27: 9 | E27: 7 | F27: 9 | G27: 8 | H27: 9 | J27: 7 | K27: 8 | L27: 5 | M27: 10 | N27: 8 | O27: 7 | P27: 9 | Q27: 8 | R27: 8 | S27: 9 | T27: 9 | U27: 8 | V27: 10 | W27: 8 | X27: 9 | Y27: 8 | Z27: 8 | AA27: 8 | AB27: 8 | AC27: 8 | AD27: 7 | AE27: 6 | AF27: 9 | AG27: 9 | AH27: 7 | AI27: 9 | AJ27: 8
B28: - | C28: Sociabilidad: | D28: 9 | E28: 8 | F28: 8 | G28: 7 | H28: 9 | J28: 8 | K28: 8 | L28: 6 | M28: 9 | N28: 8 | O28: 8 | P28: 9 | Q28: 8 | R28: 8 | S28: 9 | T28: 9 | U28: 9 | V28: 10 | W28: 9 | X28: 8 | Y28: 8 | Z28: 8 | AA28: 9 | AB28: 7 | AC28: 9 | AD28: 9 | AE28: 8 | AF28: 9 | AG28: 9 | AH28: 8 | AI28: 8 | AJ28: 8
B29: - | C29: Compañerismo, amistad y solidaridad: | D29: 9 | E29: 8 | F29: 8 | G29: 7 | H29: 8 | J29: 8 | K29: 8 | L29: 6 | M29: 9 | N29: 9 | O29: 8 | P29: 9 | Q29: 8 | R29: 8 | S29: 9 | T29: 10 | U29: 10 | V29: 10 | W29: 9 | X29: 8 | Y29: 8 | Z29: 8 | AA29: 10 | AB29: 8 | AC29: 9 | AD29: 9 | AE29: 8 | AF29: 10 | AG29: 8 | AH29: 8 | AI29: 8 | AJ29: 8
B30: - | C30: Condiciones de Líder: | D30: 8 | E30: 7 | F30: 6 | G30: 6 | H30: 8 | J30: 7 | K30: 6 | L30: 4 | M30: 8 | N30: 7 | O30: 7 | P30: 8 | Q30: 7 | R30: 7 | S30: 9 | T30: 8 | U30: 8 | V30: 8 | W30: 7 | X30: 7 | Y30: 7 | Z30: 7 | AA30: 8 | AB30: 8 | AC30: 8 | AD30: 8 | AE30: 6 | AF30: 8 | AG30: 7 | AH30: 7 | AI30: 7 | AJ30: 8
B31: - | C31: Iniciativa: | D31: 9 | E31: 6 | F31: 6 | G31: 6 | H31: 8 | J31: 7 | K31: 7 | L31: 4 | M31: 9 | N31: 8 | O31: 7 | P31: 7 | Q31: 7 | R31: 8 | S31: 8 | T31: 9 | U31: 9 | V31: 10 | W31: 8 | X31: 7 | Y31: 9 | Z31: 7 | AA31: 10 | AB31: 7 | AC31: 8 | AD31: 9 | AE31: 6 | AF31: 10 | AG31: 7 | AH31: 7 | AI31: 7 | AJ31: 7
B32: - | C32: Tacto y criterio: | D32: 9 | E32: 7 | F32: 8 | G32: 8 | H32: 8 | J32: 7 | K32: 8 | L32: 4 | M32: 9 | N32: 9 | O32: 6 | P32: 8 | Q32: 8 | R32: 8 | S32: 9 | T32: 9 | U32: 8 | V32: 9 | W32: 8 | X32: 9 | Y32: 9 | Z32: 8 | AA32: 9 | AB32: 8 | AC32: 8 | AD32: 7 | AE32: 6 | AF32: 9 | AG32: 8 | AH32: 7 | AI32: 9 | AJ32: 8
C33: MEDIA | D33: =TRUNC(IFERROR(AVERAGE(D25:D32),"0"),2) -> 8.87 | E33: =TRUNC(IFERROR(AVERAGE(E25:E32),"0"),2) -> 7.37 | F33: =TRUNC(IFERROR(AVERAGE(F25:F32),"0"),2) -> 7.5 | G33: =TRUNC(IFERROR(AVERAGE(G25:G32),"0"),2) -> 7.12 | H33: =TRUNC(IFERROR(AVERAGE(H25:H32),"0"),2) -> 8.37 | I33: =TRUNC(IFERROR(AVERAGE(I25:I32),"0"),2) -> 0 | J33: =TRUNC(IFERROR(AVERAGE(J25:J32),"0"),2) -> 7.37 | K33: =TRUNC(IFERROR(AVERAGE(K25:K32),"0"),2) -> 7.5 | ... AJ33: =TRUNC(IFERROR(AVERAGE(AJ25:AJ32),"0"),2) -> 7.75
C34: RESPONSABILIDAD | D34: RESPONSABILIDAD
B35: - | C35: Espíritu de superación: | D35: 9 | E35: 6 | F35: 8 | G35: 8 | H35: 8 | J35: 8 | K35: 8 | L35: 4 | M35: 10 | N35: 7 | O35: 7 | P35: 8 | Q35: 8 | R35: 8 | S35: 9 | T35: 9 | U35: 9 | V35: 10 | W35: 9 | X35: 8 | Y35: 10 | Z35: 8 | AA35: 8 | AB35: 8 | AC35: 9 | AD35: 8 | AE35: 7 | AF35: 9 | AG35: 9 | AH35: 8 | AI35: 8 | AJ35: 7
B36: - | C36: Capacidad para organizarse: | D36: 8 | E36: 6 | F36: 9 | G36: 7 | H36: 8 | J36: 8 | K36: 7 | L36: 5 | M36: 10 | N36: 8 | O36: 7 | P36: 8 | Q36: 8 | R36: 8 | S36: 8 | T36: 10 | U36: 10 | V36: 9 | W36: 7 | X36: 9 | Y36: 9 | Z36: 8 | AA36: 10 | AB36: 9 | AC36: 8 | AD36: 9 | AE36: 7 | AF36: 8 | AG36: 9 | AH36: 9 | AI36: 9 | AJ36: 7
B37: - | C37: Capacidad para asumir responsabilidades: | D37: 10 | E37: 7 | F37: 8 | G37: 8 | H37: 8 | J37: 8 | K37: 7 | L37: 5 | M37: 9 | N37: 8 | O37: 7 | P37: 8 | Q37: 8 | R37: 8 | S37: 9 | T37: 10 | U37: 10 | V37: 9 | W37: 7 | X37: 8 | Y37: 9 | Z37: 8 | AA37: 10 | AB37: 9 | AC37: 8 | AD37: 9 | AE37: 6 | AF37: 9 | AG37: 8 | AH37: 8 | AI37: 9 | AJ37: 8
B38: - | C38: Necesidad de control: | D38: 10 | E38: 7 | F38: 9 | G38: 8 | H38: 8 | J38: 7 | K38: 8 | L38: 5 | M38: 10 | N38: 8 | O38: 6 | P38: 8 | Q38: 8 | R38: 8 | S38: 9 | T38: 9 | U38: 9 | V38: 9 | W38: 8 | X38: 9 | Y38: 9 | Z38: 7 | AA38: 9 | AB38: 8 | AC38: 9 | AD38: 7 | AE38: 6 | AF38: 10 | AG38: 9 | AH38: 7 | AI38: 9 | AJ38: 9
B39: - | C39: Puntualidad: | D39: 10 | E39: 8 | F39: 10 | G39: 8 | H39: 9 | J39: 8 | K39: 8 | L39: 8 | M39: 10 | N39: 8 | O39: 8 | P39: 8 | Q39: 8 | R39: 9 | S39: 9 | T39: 10 | U39: 10 | V39: 10 | W39: 8 | X39: 9 | Y39: 9 | Z39: 8 | AA39: 10 | AB39: 9 | AC39: 9 | AD39: 9 | AE39: 7 | AF39: 10 | AG39: 9 | AH39: 9 | AI39: 9 | AJ39: 9
B40: - | C40: Tenacidad y constancia: | D40: 9 | E40: 6 | F40: 7 | G40: 8 | H40: 9 | J40: 7 | K40: 7 | L40: 5 | M40: 10 | N40: 7 | O40: 7 | P40: 8 | Q40: 8 | R40: 9 | S40: 9 | T40: 10 | U40: 10 | V40: 10 | W40: 8 | X40: 9 | Y40: 9 | Z40: 8 | AA40: 10 | AB40: 9 | AC40: 9 | AD40: 9 | AE40: 6 | AF40: 9 | AG40: 9 | AH40: 8 | AI40: 8 | AJ40: 7
C41: MEDIA | D41: =TRUNC(IFERROR(AVERAGE(D35:D40),"0"),2) -> 9.33 | E41: =TRUNC(IFERROR(AVERAGE(E35:E40),"0"),2) -> 6.66 | F41: =TRUNC(IFERROR(AVERAGE(F35:F40),"0"),2) -> 8.5 | G41: =TRUNC(IFERROR(AVERAGE(G35:G40),"0"),2) -> 7.83 | H41: =TRUNC(IFERROR(AVERAGE(H35:H40),"0"),2) -> 8.33 | I41: =TRUNC(IFERROR(AVERAGE(I35:I40),"0"),2) -> 0 | J41: =TRUNC(IFERROR(AVERAGE(J35:J40),"0"),2) -> 7.66 | K41: =TRUNC(IFERROR(AVERAGE(K35:K40),"0"),2) -> 7.5 | ... AJ41: =TRUNC(IFERROR(AVERAGE(AJ35:AJ40),"0"),2) -> 7.83
C42: ESPÍRITU MILITAR | D42: ESPÍRITU MILITAR
...

Sheet ESCUADRA-FH
H2: CALIFICACIÓN PARA CURSO CAOR
C3: PERDIODO | D3: 1
D4: =DATOS!A2&" "&DATOS!A7 -> Aguilera, Pablo Alberto | E4: =DATOS!B2&" "&DATOS!B7 -> Bambach, Juan Paulo | F4: =DATOS!C2&" "&DATOS!C7 -> Benavente, Sergio | G4: =DATOS!D2&" "&DATOS!D7 -> Bolelli, Ignacio Octavio | H4: =DATOS!E2&" "&DATOS!E7 -> Correa, Cristóbal | I4: =DATOS!F2&" "&DATOS!F7 -> De la Cruz , Oscar Ernesto | J4: =DATOS!G2&" "&DATOS!G7 -> Del Favero, Andrés | K4: =DATOS!H2&" "&DATOS!H7 -> Espejo, Paula Macarena | ... AJ4: =DATOS!AG2&" "&DATOS!AG7 -> Wuth, Enrique Alejandro
C5: INSTRUCTIOR: (GRADO / NOMBRE) | D5: =DATOS!A1 -> Aguilera | E5: =DATOS!B1 -> Bambach | F5: =DATOS!C1 -> Benavente | G5: =DATOS!D1 -> Bolelli | H5: =DATOS!E1 -> Correa | I5: =DATOS!F1 -> De la Cruz | J5: =DATOS!G1 -> Del Favero | K5: =DATOS!H1 -> Espejo | L5: =DATOS!I1 -> Fuenzalida | M5: =DATOS!J1&" C" -> Ibáñez C | N5: =DATOS!K1&" G" -> Ibáñez G | O5: =DATOS!L1 -> Izquierdo | P5: =DATOS!M1 -> Jones | Q5: =DATOS!N1 -> Jorquera | R5: =DATOS!O1 -> Junge | S5: =DATOS!P1 -> Kinast | T5: =DATOS!Q1 -> Larraín | U5: =DATOS!R1 -> Leiva | V5: =DATOS!S1 -> Lopez | ... AB5: =DATOS!Y1 -> Santis | AC5: =DATOS!Z1&" F" -> Solari F | AD5: =DATOS!AA1&" B" -> Solari B | AE5: =DATOS!AB1 -> Urrutia | AF5: =DATOS!AC1 -> Valdes | AG5: =DATOS!AD1 -> Vallebona | AH5: =DATOS!AE1 -> Vidaurre | AI5: =DATOS!AF1 -> Wagner | AJ5: =DATOS!AG1 -> Wuth
C6: Edad | D6: =DATOS!A4 -> 45.550685 | E6: =DATOS!B4 -> 59.668493 | F6: =DATOS!C4 -> 62.673973 | G6: =DATOS!D4 -> 42.29863 | H6: =DATOS!E4 -> 44.10411 | I6: =DATOS!F4 -> 55.128767 | J6: =DATOS!G4 -> 42.109589 | K6: =DATOS!H4 -> 44.043836 | ... AJ6: =DATOS!AG4 -> 44.446575
C7: Empresa | D7: =DATOS!A5 -> Netafim Chile | E7: =DATOS!B5 -> Estudio Philippi | F7: =DATOS!C5 -> Bci Asset Management | G7: =DATOS!D5 -> MBC Abogados | H7: =DATOS!E5 -> Yamana Gold | I7: =DATOS!F5 -> AAK Abogados | J7: =DATOS!G5 -> Lavin Abogados & Consultores | K7: =DATOS!H5 -> Boldtalk Spa | ... AJ7: =DATOS!AG5 -> Constructora WL
C8: Cargo | D8: =DATOS!A6 -> Agente Zonal Sexta Región | E8: =DATOS!B6 -> Abogado | F8: =DATOS!C6 -> Gerente de Riesgo | G8: =DATOS!D6 -> Socio | H8: =DATOS!E6 -> Director Legal | I8: =DATOS!F6 -> Socio | J8: =DATOS!G6 -> Socio | K8: =DATOS!H6 -> Fundadora | ... AJ8: =DATOS!AG6 -> Socio
D10: Las notas serán hechas de 1 a 10 (sin decimales), donde la nota mínima de aprobación será un 6.
C11: MANDO | D11: MANDO
B12: - | C12: Ejemplo que inspira con sus actuaciones: | D12: 9 | E12: 8 | F12: 6 | G12: 8 | H12: 9 | J12: 8 | K12: 7 | L12: 6 | M12: 10 | N12: 8 | O12: 6 | P12: 8 | Q12: 8 | R12: 8 | S12: 10 | T12: 10 | U12: 10 | V12: 7 | W12: 8 | X12: 8 | Y12: 8 | Z12: 8 | AA12: 8 | AB12: 8 | AC12: 9 | AD12: 9 | AE12: 8 | AF12: 8 | AG12: 8 | AH12: 7 | AI12: 7 | AJ12: 8
B13: - | C13: Carácter: | D13: 9 | E13: 9 | F13: 8 | G13: 8 | H13: 9 | J13: 9 | K13: 8 | L13: 7 | M13: 9 | N13: 8 | O13: 8 | P13: 9 | Q13: 9 | R13: 8 | S13: 9 | T13: 9 | U13: 9 | V13: 10 | W13: 9 | X13: 8 | Y13: 8 | Z13: 8 | AA13: 9 | AB13: 8 | AC13: 8 | AD13: 8 | AE13: 7 | AF13: 8 | AG13: 9 | AH13: 7 | AI13: 8 | AJ13: 8
B14: - | C14: Capacidad para aceptar críticas a su actuación | D14: 9 | E14: 9 | F14: 8 | G14: 7 | H14: 9 | J14: 8 | K14: 8 | L14: 7 | M14: 9 | N14: 8 | O14: 7 | P14: 9 | Q14: 8 | R14: 9 | S14: 9 | T14: 9 | U14: 9 | V14: 9 | W14: 8 | X14: 9 | Y14: 8 | Z14: 9 | AA14: 9 | AB14: 8 | AC14: 9 | AD14: 8 | AE14: 7 | AF14: 7 | AG14: 9 | AH14: 8 | AI14: 8 | AJ14: 8
B15: - | C15: Lealtad: | D15: 10 | E15: 8 | F15: 8 | G15: 8 | H15: 9 | J15: 8 | K15: 8 | L15: 8 | M15: 9 | N15: 8 | O15: 8 | P15: 8 | Q15: 8 | R15: 8 | S15: 8 | T15: 8 | U15: 8 | V15: 9 | W15: 8 | X15: 8 | Y15: 8 | Z15: 8 | AA15: 7 | AB15: 9 | AC15: 9 | AD15: 9 | AE15: 8 | AF15: 8 | AG15: 9 | AH15: 8 | AI15: 8 | AJ15: 8
B16: - | C16: Fortaleza: | D16: 9 | E16: 8 | F16: 7 | G16: 8 | H16: 9 | J16: 8 | K16: 8 | L16: 7 | M16: 10 | N16: 8 | O16: 7 | P16: 9 | Q16: 8 | R16: 8 | S16: 9 | T16: 10 | U16: 9 | V16: 9 | W16: 8 | X16: 9 | Y16: 8 | Z16: 8 | AA16: 8 | AB16: 8 | AC16: 9 | AD16: 9 | AE16: 7 | AF16: 8 | AG16: 9 | AH16: 8 | AI16: 8 | AJ16: 8
B17: - | C17: Prudencia: | D17: 9 | E17: 8 | F17: 7 | G17: 8 | H17: 9 | J17: 9 | K17: 8 | L17: 7 | M17: 9 | N17: 8 | O17: 8 | P17: 8 | Q17: 9 | R17: 9 | S17: 9 | T17: 9 | U17: 9 | V17: 9 | W17: 8 | X17: 9 | Y17: 8 | Z17: 8 | AA17: 8 | AB17: 8 | AC17: 9 | AD17: 9 | AE17: 7 | AF17: 7 | AG17: 8 | AH17: 7 | AI17: 9 | AJ17: 9
C18: MEDIA | D18: =TRUNC(IFERROR(AVERAGE(D12:D17),"0"),2) -> 9.16 | E18: =TRUNC(IFERROR(AVERAGE(E12:E17),"0"),2) -> 8.33 | F18: =TRUNC(IFERROR(AVERAGE(F12:F17),"0"),2) -> 7.33 | G18: =TRUNC(IFERROR(AVERAGE(G12:G17),"0"),2) -> 7.83 | H18: =TRUNC(IFERROR(AVERAGE(H12:H17),"0"),2) -> 9 | I18: =TRUNC(IFERROR(AVERAGE(I12:I17),"0"),2) -> 0 | J18: =TRUNC(IFERROR(AVERAGE(J12:J17),"0"),2) -> 8.33 | K18: =TRUNC(IFERROR(AVERAGE(K12:K17),"0"),2) -> 7.83 | ... AJ18: =TRUNC(IFERROR(AVERAGE(AJ12:AJ17),"0"),2) -> 8.16
C19: INTERÉS PROFESIONAL | D19: INTERÉS PROFESIONAL
B20: - | C20: Conocimiento sobre la carrera y sus tradiciones: | D20: 8 | E20: 7 | F20: 8 | G20: 8 | H20: 9 | J20: 8 | K20: 8 | L20: 7 | M20: 9 | N20: 8 | O20: 7 | P20: 8 | Q20: 8 | R20: 9 | S20: 9 | T20: 9 | U20: 9 | V20: 8 | W20: 7 | X20: 8 | Y20: 8 | Z20: 8 | AA20: 8 | AB20: 8 | AC20: 9 | AD20: 9 | AE20: 8 | AF20: 9 | AG20: 9 | AH20: 8 | AI20: 8 | AJ20: 8
B21: - | C21: Espíritu Profesional: | D21: 8 | E21: 8 | F21: 7 | G21: 8 | H21: 9 | J21: 9 | K21: 8 | L21: 7 | M21: 9 | N21: 8 | O21: 8 | P21: 8 | Q21: 8 | R21: 8 | S21: 9 | T21: 9 | U21: 9 | V21: 8 | W21: 8 | X21: 8 | Y21: 8 | Z21: 8 | AA21: 8 | AB21: 8 | AC21: 9 | AD21: 9 | AE21: 8 | AF21: 8 | AG21: 8 | AH21: 9 | AI21: 8 | AJ21: 9
B22: - | C22: Rendimiento en actividades profesionales: | D22: 8 | E22: 8 | F22: 6 | G22: 8 | H22: 9 | J22: 9 | K22: 8 | L22: 7 | M22: 10 | N22: 9 | O22: 8 | P22: 9 | Q22: 8 | R22: 9 | S22: 10 | T22: 10 | U22: 9 | V22: 8 | W22: 8 | X22: 8 | Y22: 8 | Z22: 8 | AA22: 9 | AB22: 9 | AC22: 9 | AD22: 9 | AE22: 8 | AF22: 8 | AG22: 9 | AH22: 9 | AI22: 8 | AJ22: 9
C23: MEDIA | D23: =TRUNC(IFERROR(AVERAGE(D20:D22),"0"),2) -> 8 | E23: =TRUNC(IFERROR(AVERAGE(E20:E22),"0"),2) -> 7.66 | F23: =TRUNC(IFERROR(AVERAGE(F20:F22),"0"),2) -> 7 | G23: =TRUNC(IFERROR(AVERAGE(G20:G22),"0"),2) -> 8 | H23: =TRUNC(IFERROR(AVERAGE(H20:H22),"0"),2) -> 9 | I23: =TRUNC(IFERROR(AVERAGE(I20:I22),"0"),2) -> 0 | J23: =TRUNC(IFERROR(AVERAGE(J20:J22),"0"),2) -> 8.66 | K23: =TRUNC(IFERROR(AVERAGE(K20:K22),"0"),2) -> 8 | ... AJ23: =TRUNC(IFERROR(AVERAGE(AJ20:AJ22),"0"),2) -> 8.66
C24: PERSONALIDAD | D24: PERSONALIDAD
B25: - | C25: Capacidad de expresión oral: | D25: 8 | E25: 8 | F25: 7 | G25: 8 | H25: 10 | J25: 9 | K25: 9 | L25: 8 | M25: 9 | N25: 9 | O25: 9 | P25: 9 | Q25: 9 | R25: 9 | S25: 9 | T25: 9 | U25: 9 | V25: 8 | W25: 9 | X25: 9 | Y25: 9 | Z25: 9 | AA25: 9 | AB25: 8 | AC25: 9 | AD25: 9 | AE25: 9 | AF25: 9 | AG25: 9 | AH25: 9 | AI25: 9 | AJ25: 9
B26: - | C26: Ascendiente con sus compañeros: | D26: 9 | E26: 9 | F26: 6 | G26: 7 | H26: 10 | J26: 9 | K26: 8 | L26: 7 | M26: 9 | N26: 8 | O26: 8 | P26: 9 | Q26: 8 | R26: 8 | S26: 9 | T26: 9 | U26: 9 | V26: 9 | W26: 9 | X26: 8 | Y26: 8 | Z26: 8 | AA26: 9 | AB26: 8 | AC26: 9 | AD26: 9 | AE26: 7 | AF26: 8 | AG26: 8 | AH26: 7 | AI26: 8 | AJ26: 8
B27: - | C27: Madurez en sus actuaciones: | D27: 8 | E27: 8 | F27: 7 | G27: 8 | H27: 9 | J27: 8 | K27: 9 | L27: 7 | M27: 9 | N27: 8 | O27: 9 | P27: 8 | Q27: 9 | R27: 8 | S27: 10 | T27: 10 | U27: 8 | V27: 9 | W27: 9 | X27: 9 | Y27: 9 | Z27: 8 | AA27: 8 | AB27: 8 | AC27: 8 | AD27: 9 | AE27: 7 | AF27: 9 | AG27: 8 | AH27: 8 | AI27: 8 | AJ27: 8
B28: - | C28: Sociabilidad: | D28: 9 | E28: 9 | F28: 7 | G28: 8 | H28: 10 | J28: 9 | K28: 8 | L28: 7 | M28: 9 | N28: 8 | O28: 8 | P28: 10 | Q28: 9 | R28: 7 | S28: 9 | T28: 9 | U28: 9 | V28: 9 | W28: 10 | X28: 9 | Y28: 8 | Z28: 9 | AA28: 9 | AB28: 8 | AC28: 9 | AD28: 8 | AE28: 8 | AF28: 8 | AG28: 9 | AH28: 8 | AI28: 8 | AJ28: 8
B29: - | C29: Compañerismo, amistad y solidaridad: | D29: 9 | E29: 9 | F29: 7 | G29: 9 | H29: 9 | J29: 8 | K29: 9 | L29: 6 | M29: 9 | N29: 8 | O29: 9 | P29: 9 | Q29: 8 | R29: 8 | S29: 8 | T29: 9 | U29: 10 | V29: 9 | W29: 9 | X29: 8 | Y29: 8 | Z29: 8 | AA29: 9 | AB29: 8 | AC29: 8 | AD29: 9 | AE29: 6 | AF29: 8 | AG29: 9 | AH29: 8 | AI29: 8 | AJ29: 8
B30: - | C30: Condiciones de Líder: | D30: 8 | E30: 7 | F30: 6 | G30: 7 | H30: 9 | J30: 9 | K30: 6 | L30: 5 | M30: 8 | N30: 6 | O30: 8 | P30: 9 | Q30: 7 | R30: 6 | S30: 8 | T30: 10 | U30: 8 | V30: 8 | W30: 8 | X30: 7 | Y30: 7 | Z30: 7 | AA30: 7 | AB30: 7 | AC30: 7 | AD30: 9 | AE30: 1 | AF30: 7 | AG30: 7 | AH30: 7 | AI30: 7 | AJ30: 7
B31: - | C31: Iniciativa: | D31: 8 | E31: 7 | F31: 6 | G31: 7 | H31: 8 | J31: 7 | K31: 7 | L31: 6 | M31: 9 | N31: 8 | O31: 7 | P31: 7 | Q31: 7 | R31: 8 | S31: 8 | T31: 9 | U31: 9 | V31: 10 | W31: 8 | X31: 7 | Y31: 9 | Z31: 7 | AA31: 10 | AB31: 8 | AC31: 8 | AD31: 8 | AE31: 6 | AF31: 10 | AG31: 7 | AH31: 7 | AI31: 7 | AJ31: 7
B32: - | C32: Tacto y criterio: | D32: 8 | E32: 8 | F32: 7 | G32: 8 | H32: 8 | J32: 7 | K32: 8 | L32: 6 | M32: 9 | N32: 9 | O32: 6 | P32: 8 | Q32: 8 | R32: 8 | S32: 9 | T32: 9 | U32: 8 | V32: 9 | W32: 8 | X32: 9 | Y32: 9 | Z32: 8 | AA32: 9 | AB32: 8 | AC32: 8 | AD32: 8 | AE32: 6 | AF32: 9 | AG32: 8 | AH32: 7 | AI32: 9 | AJ32: 8
C33: MEDIA | D33: =TRUNC(IFERROR(AVERAGE(D25:D32),"0"),2) -> 8.37 | E33: =TRUNC(IFERROR(AVERAGE(E25:E32),"0"),2) -> 8.12 | F33: =TRUNC(IFERROR(AVERAGE(F25:F32),"0"),2) -> 6.62 | G33: =TRUNC(IFERROR(AVERAGE(G25:G32),"0"),2) -> 7.75 | H33: =TRUNC(IFERROR(AVERAGE(H25:H32),"0"),2) -> 9.12 | I33: =TRUNC(IFERROR(AVERAGE(I25:I32),"0"),2) -> 0 | J33: =TRUNC(IFERROR(AVERAGE(J25:J32),"0"),2) -> 8.25 | K33: =TRUNC(IFERROR(AVERAGE(K25:K32),"0"),2) -> 8 | ... AJ33: =TRUNC(IFERROR(AVERAGE(AJ25:AJ32),"0"),2) -> 7.87
C34: RESPONSABILIDAD | D34: RESPONSABILIDAD
B35: - | C35: Espíritu de superación: | D35: 8 | E35: 8 | F35: 8 | G35: 8 | H35: 8 | J35: 8 | K35: 8 | L35: 4 | M35: 10 | N35: 7 | O35: 7 | P35: 8 | Q35: 8 | R35: 8 | S35: 9 | T35: 9 | U35: 9 | V35: 10 | W35: 9 | X35: 8 | Y35: 10 | Z35: 8 | AA35: 8 | AB35: 8 | AC35: 9 | AD35: 9 | AE35: 7 | AF35: 9 | AG35: 9 | AH35: 8 | AI35: 8 | AJ35: 7
B36: - | C36: Capacidad para organizarse: | D36: 8 | E36: 8 | F36: 7 | G36: 7 | H36: 9 | J36: 9 | K36: 8 | L36: 7 | M36: 9 | N36: 8 | O36: 8 | P36: 8 | Q36: 8 | R36: 8 | S36: 9 | T36: 9 | U36: 9 | V36: 8 | W36: 9 | X36: 8 | Y36: 8 | Z36: 8 | AA36: 9 | AB36: 8 | AC36: 8 | AD36: 8 | AE36: 8 | AF36: 8 | AG36: 9 | AH36: 8 | AI36: 8 | AJ36: 8
B37: - | C37: Capacidad para asumir responsabilidades: | D37: 8 | E37: 8 | F37: 7 | G37: 8 | H37: 9 | J37: 9 | K37: 8 | L37: 7 | M37: 9 | N37: 8 | O37: 8 | P37: 8 | Q37: 7 | R37: 8 | S37: 9 | T37: 9 | U37: 10 | V37: 9 | W37: 8 | X37: 9 | Y37: 8 | Z37: 8 | AA37: 9 | AB37: 7 | AC37: 8 | AD37: 8 | AE37: 8 | AF37: 9 | AG37: 9 | AH37: 8 | AI37: 8 | AJ37: 8
B38: - | C38: Necesidad de control: | D38: 8 | E38: 7 | F38: 8 | G38: 8 | H38: 8 | J38: 8 | K38: 8 | L38: 6 | M38: 9 | N38: 8 | O38: 8 | P38: 8 | Q38: 8 | R38: 8 | S38: 8 | T38: 10 | U38: 9 | V38: 8 | W38: 8 | X38: 9 | Y38: 8 | Z38: 8 | AA38: 8 | AB38: 8 | AC38: 9 | AD38: 9 | AE38: 9 | AF38: 9 | AG38: 8 | AH38: 8 | AI38: 9 | AJ38: 8
B39: - | C39: Puntualidad: | D39: 9 | E39: 8 | F39: 9 | G39: 8 | H39: 9 | J39: 8 | K39: 9 | L39: 6 | M39: 9 | N39: 9 | O39: 8 | P39: 9 | Q39: 8 | R39: 9 | S39: 8 | T39: 10 | U39: 9 | V39: 9 | W39: 8 | X39: 9 | Y39: 8 | Z39: 9 | AA39: 8 | AB39: 9 | AC39: 9 | AD39: 9 | AE39: 8 | AF39: 9 | AG39: 9 | AH39: 8 | AI39: 9 | AJ39: 8
B40: - | C40: Tenacidad y constancia: | D40: 8 | E40: 7 | F40: 8 | G40: 8 | H40: 9 | J40: 8 | K40: 8 | L40: 6 | M40: 10 | N40: 9 | O40: 8 | P40: 9 | Q40: 9 | R40: 8 | S40: 8 | T40: 10 | U40: 10 | V40: 9 | W40: 9 | X40: 9 | Y40: 8 | Z40: 9 | AA40: 8 | AB40: 9 | AC40: 10 | AD40: 9 | AE40: 6 | AF40: 9 | AG40: 9 | AH40: 8 | AI40: 9 | AJ40: 8
C41: MEDIA | D41: =TRUNC(IFERROR(AVERAGE(D35:D40),"0"),2) -> 8.16 | E41: =TRUNC(IFERROR(AVERAGE(E35:E40),"0"),2) -> 7.66 | F41: =TRUNC(IFERROR(AVERAGE(F35:F40),"0"),2) -> 7.83 | G41: =TRUNC(IFERROR(AVERAGE(G35:G40),"0"),2) -> 7.83 | H41: =TRUNC(IFERROR(AVERAGE(H35:H40),"0"),2) -> 8.66 | I41: =TRUNC(IFERROR(AVERAGE(I35:I40),"0"),2) -> 0 | J41: =TRUNC(IFERROR(AVERAGE(J35:J40),"0"),2) -> 8.33 | K41: =TRUNC(IFERROR(AVERAGE(K35:K40),"0"),2) -> 8.16 | ... AJ41: =TRUNC(IFERROR(AVERAGE(AJ35:AJ40),"0"),2) -> 7.83
C42: ESPÍRITU MILITAR | D42: ESPÍRITU MILITAR
...

Sheet ESCUADRA-MB
H2: CALIFICACIÓN PARA CURSO CAOR
C3: PERDIODO | D3: 1
D4: =DATOS!A2&" "&DATOS!A7 -> Aguilera, Pablo Alberto | E4: =DATOS!B2&" "&DATOS!B7 -> Bambach, Juan Paulo | F4: =DATOS!C2&" "&DATOS!C7 -> Benavente, Sergio | G4: =DATOS!D2&" "&DATOS!D7 -> Bolelli, Ignacio Octavio | H4: =DATOS!E2&" "&DATOS!E7 -> Correa, Cristóbal | I4: =DATOS!F2&" "&DATOS!F7 -> De la Cruz , Oscar Ernesto | J4: =DATOS!G2&" "&DATOS!G7 -> Del Favero, Andrés | K4: =DATOS!H2&" "&DATOS!H7 -> Espejo, Paula Macarena | ... AJ4: =DATOS!AG2&" "&DATOS!AG7 -> Wuth, Enrique Alejandro
C5: INSTRUCTIOR: (GRADO / NOMBRE) | D5: =DATOS!A1 -> Aguilera | E5: =DATOS!B1 -> Bambach | F5: =DATOS!C1 -> Benavente | G5: =DATOS!D1 -> Bolelli | H5: =DATOS!E1 -> Correa | I5: =DATOS!F1 -> De la Cruz | J5: =DATOS!G1 -> Del Favero | K5: =DATOS!H1 -> Espejo | L5: =DATOS!I1 -> Fuenzalida | M5: =DATOS!J1&" C" -> Ibáñez C | N5: =DATOS!K1&" G" -> Ibáñez G | O5: =DATOS!L1 -> Izquierdo | P5: =DATOS!M1 -> Jones | Q5: =DATOS!N1 -> Jorquera | R5: =DATOS!O1 -> Junge | S5: =DATOS!P1 -> Kinast | T5: =DATOS!Q1 -> Larraín | U5: =DATOS!R1 -> Leiva | V5: =DATOS!S1 -> Lopez | ... AB5: =DATOS!Y1 -> Santis | AC5: =DATOS!Z1&" F" -> Solari F | AD5: =DATOS!AA1&" B" -> Solari B | AE5: =DATOS!AB1 -> Urrutia | AF5: =DATOS!AC1 -> Valdes | AG5: =DATOS!AD1 -> Vallebona | AH5: =DATOS!AE1 -> Vidaurre | AI5: =DATOS!AF1 -> Wagner | AJ5: =DATOS!AG1 -> Wuth
C6: Edad | D6: =DATOS!A4 -> 45.550685 | E6: =DATOS!B4 -> 59.668493 | F6: =DATOS!C4 -> 62.673973 | G6: =DATOS!D4 -> 42.29863 | H6: =DATOS!E4 -> 44.10411 | I6: =DATOS!F4 -> 55.128767 | J6: =DATOS!G4 -> 42.109589 | K6: =DATOS!H4 -> 44.043836 | ... AJ6: =DATOS!AG4 -> 44.446575
C7: Empresa | D7: =DATOS!A5 -> Netafim Chile | E7: =DATOS!B5 -> Estudio Philippi | F7: =DATOS!C5 -> Bci Asset Management | G7: =DATOS!D5 -> MBC Abogados | H7: =DATOS!E5 -> Yamana Gold | I7: =DATOS!F5 -> AAK Abogados | J7: =DATOS!G5 -> Lavin Abogados & Consultores | K7: =DATOS!H5 -> Boldtalk Spa | ... AJ7: =DATOS!AG5 -> Constructora WL
C8: Cargo | D8: =DATOS!A6 -> Agente Zonal Sexta Región | E8: =DATOS!B6 -> Abogado | F8: =DATOS!C6 -> Gerente de Riesgo | G8: =DATOS!D6 -> Socio | H8: =DATOS!E6 -> Director Legal | I8: =DATOS!F6 -> Socio | J8: =DATOS!G6 -> Socio | K8: =DATOS!H6 -> Fundadora | ... AJ8: =DATOS!AG6 -> Socio
D10: Las notas serán hechas de 1 a 10 (sin decimales), donde la nota mínima de aprobación será un 6.
C11: MANDO | D11: MANDO
B12: - | C12: Ejemplo que inspira con sus actuaciones: | D12: 8 | E12: 7 | F12: 6 | G12: 8 | H12: 8 | J12: 7 | K12: 7 | L12: 1 | M12: 9 | N12: 8 | O12: 7 | P12: 8 | Q12: 7 | R12: 7 | S12: 8 | T12: 9 | U12: 8 | V12: 10 | W12: 9 | X12: 7 | Y12: 8 | Z12: 8 | AA12: 8 | AB12: 8 | AC12: 8 | AD12: 9 | AE12: 6 | AF12: 8 | AG12: 8 | AH12: 8 | AI12: 8 | AJ12: 8
B13: - | C13: Carácter: | D13: 9 | E13: 8 | F13: 6 | G13: 8 | H13: 9 | J13: 7 | K13: 7 | L13: 4 | M13: 9 | N13: 7 | O13: 7 | P13: 9 | Q13: 9 | R13: 7 | S13: 9 | T13: 8 | U13: 9 | V13: 9 | W13: 9 | X13: 9 | Y13: 9 | Z13: 9 | AA13: 8 | AB13: 9 | AC13: 9 | AD13: 8 | AE13: 6 | AF13: 7 | AG13: 9 | AH13: 9 | AI13: 8 | AJ13: 8
B14: - | C14: Capacidad para aceptar críticas a su actuación | D14: 10 | E14: 9 | F14: 6 | G14: 8 | H14: 9 | J14: 7 | K14: 9 | L14: 3 | M14: 9 | N14: 9 | O14: 7 | P14: 9 | Q14: 9 | R14: 9 | S14: 9 | T14: 9 | U14: 9 | V14: 9 | W14: 9 | X14: 9 | Y14: 9 | Z14: 9 | AA14: 8 | AB14: 9 | AC14: 9 | AD14: 8 | AE14: 1 | AF14: 9 | AG14: 9 | AH14: 9 | AI14: 9 | AJ14: 8
B15: - | C15: Lealtad: | D15: 9 | E15: 8 | F15: 8 | G15: 9 | H15: 9 | J15: 8 | K15: 9 | L15: 3 | M15: 9 | N15: 9 | O15: 8 | P15: 8 | Q15: 8 | R15: 9 | S15: 9 | T15: 9 | U15: 9 | V15: 9 | W15: 9 | X15: 8 | Y15: 8 | Z15: 8 | AA15: 7 | AB15: 8 | AC15: 9 | AD15: 8 | AE15: 8 | AF15: 8 | AG15: 8 | AH15: 8 | AI15: 8 | AJ15: 8
B16: - | C16: Fortaleza: | D16: 9 | E16: 8 | F16: 6 | G16: 8 | H16: 9 | J16: 8 | K16: 7 | L16: 3 | M16: 9 | N16: 9 | O16: 8 | P16: 8 | Q16: 8 | R16: 8 | S16: 9 | T16: 9 | U16: 10 | V16: 9 | W16: 9 | X16: 8 | Y16: 8 | Z16: 8 | AA16: 8 | AB16: 8 | AC16: 9 | AD16: 8 | AE16: 8 | AF16: 8 | AG16: 8 | AH16: 8 | AI16: 8 | AJ16: 8
B17: - | C17: Prudencia: | D17: 10 | E17: 6 | F17: 8 | G17: 9 | H17: 9 | J17: 7 | K17: 9 | L17: 1 | M17: 9 | N17: 9 | O17: 7 | P17: 8 | Q17: 9 | R17: 9 | S17: 9 | T17: 9 | U17: 9 | V17: 9 | W17: 8 | X17: 8 | Y17: 8 | Z17: 9 | AA17: 7 | AB17: 8 | AC17: 9 | AD17: 8 | AE17: 6 | AF17: 8 | AG17: 8 | AH17: 7 | AI17: 8 | AJ17: 8
C18: MEDIA | D18: =TRUNC(IFERROR(AVERAGE(D12:D17),"0"),2) -> 9.16 | E18: =TRUNC(IFERROR(AVERAGE(E12:E17),"0"),2) -> 7.66 | F18: =TRUNC(IFERROR(AVERAGE(F12:F17),"0"),2) -> 6.66 | G18: =TRUNC(IFERROR(AVERAGE(G12:G17),"0"),2) -> 8.33 | H18: =TRUNC(IFERROR(AVERAGE(H12:H17),"0"),2) -> 8.83 | I18: =TRUNC(IFERROR(AVERAGE(I12:I17),"0"),2) -> 0 | J18: =TRUNC(IFERROR(AVERAGE(J12:J17),"0"),2) -> 7.33 | K18: =TRUNC(IFERROR(AVERAGE(K12:K17),"0"),2) -> 8 | ... AJ18: =TRUNC(IFERROR(AVERAGE(AJ12:AJ17),"0"),2) -> 8
C19: INTERÉS PROFESIONAL | D19: INTERÉS PROFESIONAL
B20: - | C20: Conocimiento sobre la carrera y sus tradiciones: | D20: 8 | E20: 6 | F20: 5 | G20: 9 | H20: 8 | J20: 7 | K20: 7 | L20: 3 | M20: 8 | N20: 7 | O20: 7 | P20: 7 | Q20: 8 | R20: 8 | S20: 9 | T20: 8 | U20: 10 | V20: 8 | W20: 8 | X20: 8 | Y20: 8 | Z20: 8 | AA20: 8 | AB20: 8 | AC20: 9 | AD20: 9 | AE20: 6 | AF20: 9 | AG20: 8 | AH20: 8 | AI20: 8 | AJ20: 8
B21: - | C21: Espíritu Profesional: | D21: 8 | E21: 7 | F21: 4 | G21: 8 | H21: 8 | J21: 7 | K21: 9 | L21: 1 | M21: 10 | N21: 7 | O21: 8 | P21: 8 | Q21: 8 | R21: 8 | S21: 9 | T21: 9 | U21: 10 | V21: 9 | W21: 7 | X21: 7 | Y21: 8 | Z21: 8 | AA21: 7 | AB21: 7 | AC21: 8 | AD21: 8 | AE21: 5 | AF21: 9 | AG21: 8 | AH21: 7 | AI21: 8 | AJ21: 7
B22: - | C22: Rendimiento en actividades profesionales: | D22: 8 | E22: 7 | F22: 5 | G22: 8 | H22: 9 | J22: 8 | K22: 8 | L22: 2 | M22: 9 | N22: 9 | O22: 8 | P22: 8 | Q22: 8 | R22: 8 | S22: 9 | T22: 10 | U22: 9 | V22: 9 | W22: 8 | X22: 9 | Y22: 8 | Z22: 8 | AA22: 8 | AB22: 8 | AC22: 9 | AD22: 9 | AE22: 7 | AF22: 9 | AG22: 8 | AH22: 8 | AI22: 8 | AJ22: 8
C23: MEDIA | D23: =TRUNC(IFERROR(AVERAGE(D20:D22),"0"),2) -> 8 | E23: =TRUNC(IFERROR(AVERAGE(E20:E22),"0"),2) -> 6.66 | F23: =TRUNC(IFERROR(AVERAGE(F20:F22),"0"),2) -> 4.66 | G23: =TRUNC(IFERROR(AVERAGE(G20:G22),"0"),2) -> 8.33 | H23: =TRUNC(IFERROR(AVERAGE(H20:H22),"0"),2) -> 8.33 | I23: =TRUNC(IFERROR(AVERAGE(I20:I22),"0"),2) -> 0 | J23: =TRUNC(IFERROR(AVERAGE(J20:J22),"0"),2) -> 7.33 | K23: =TRUNC(IFERROR(AVERAGE(K20:K22),"0"),2) -> 8 | ... AJ23: =TRUNC(IFERROR(AVERAGE(AJ20:AJ22),"0"),2) -> 7.66
C24: PERSONALIDAD | D24: PERSONALIDAD
B25: - | C25: Capacidad de expresión oral: | D25: 8 | E25: 8 | F25: 6 | G25: 9 | H25: 9 | J25: 8 | K25: 8 | L25: 5 | M25: 9 | N25: 10 | O25: 8 | P25: 9 | Q25: 8 | R25: 9 | S25: 8 | T25: 10 | U25: 10 | V25: 9 | W25: 9 | X25: 9 | Y25: 8 | Z25: 8 | AA25: 9 | AB25: 8 | AC25: 7 | AD25: 9 | AE25: 8 | AF25: 10 | AG25: 9 | AH25: 9 | AI25: 9 | AJ25: 9
B26: - | C26: Ascendiente con sus compañeros: | D26: 8 | E26: 9 | F26: 6 | G26: 8 | H26: 8 | J26: 8 | K26: 6 | L26: 5 | M26: 8 | N26: 7 | O26: 8 | P26: 9 | Q26: 7 | R26: 7 | S26: 9 | T26: 9 | U26: 9 | V26: 9 | W26: 9 | X26: 8 | Y26: 8 | Z26: 8 | AA26: 7 | AB26: 7 | AC26: 8 | AD26: 9 | AE26: 6 | AF26: 9 | AG26: 8 | AH26: 8 | AI26: 7 | AJ26: 8
B27: - | C27: Madurez en sus actuaciones: | D27: 9 | E27: 7 | F27: 8 | G27: 9 | H27: 9 | J27: 7 | K27: 9 | L27: 5 | M27: 9 | N27: 9 | O27: 8 | P27: 8 | Q27: 8 | R27: 9 | S27: 9 | T27: 9 | U27: 9 | V27: 9 | W27: 8 | X27: 9 | Y27: 9 | Z27: 9 | AA27: 7 | AB27: 9 | AC27: 9 | AD27: 8 | AE27: 5 | AF27: 9 | AG27: 9 | AH27: 7 | AI27: 9 | AJ27: 8
B28: - | C28: Sociabilidad: | D28: 8 | E28: 9 | F28: 5 | G28: 9 | H28: 8 | J28: 8 | K28: 7 | L28: 5 | M28: 8 | N28: 8 | O28: 9 | P28: 9 | Q28: 8 | R28: 8 | S28: 8 | T28: 9 | U28: 9 | V28: 9 | W28: 9 | X28: 8 | Y28: 8 | Z28: 8 | AA28: 9 | AB28: 8 | AC28: 8 | AD28: 9 | AE28: 7 | AF28: 8 | AG28: 9 | AH28: 9 | AI28: 7 | AJ28: 8
B29: - | C29: Compañerismo, amistad y solidaridad: | D29: 8 | E29: 10 | F29: 7 | G29: 8 | H29: 8 | J29: 8 | K29: 9 | L29: 5 | M29: 9 | N29: 8 | O29: 9 | P29: 9 | Q29: 8 | R29: 8 | S29: 8 | T29: 9 | U29: 10 | V29: 9 | W29: 9 | X29: 8 | Y29: 8 | Z29: 8 | AA29: 9 | AB29: 8 | AC29: 8 | AD29: 9 | AE29: 6 | AF29: 8 | AG29: 9 | AH29: 8 | AI29: 8 | AJ29: 8
B30: - | C30: Condiciones de Líder: | D30: 7 | E30: 7 | F30: 1 | G30: 7 | H30: 7 | J30: 9 | K30: 6 | L30: 5 | M30: 8 | N30: 6 | O30: 8 | P30: 9 | Q30: 7 | R30: 6 | S30: 8 | T30: 10 | U30: 8 | V30: 8 | W30: 8 | X30: 7 | Y30: 7 | Z30: 7 | AA30: 7 | AB30: 7 | AC30: 7 | AD30: 9 | AE30: 1 | AF30: 7 | AG30: 7 | AH30: 7 | AI30: 7 | AJ30: 7
B31: - | C31: Iniciativa: | D31: 7 | E31: 7 | F31: 6 | G31: 7 | H31: 8 | J31: 8 | K31: 9 | L31: 5 | M31: 9 | N31: 8 | O31: 8 | P31: 8 | Q31: 7 | R31: 7 | S31: 8 | T31: 9 | U31: 9 | V31: 10 | W31: 9 | X31: 8 | Y31: 8 | Z31: 8 | AA31: 10 | AB31: 8 | AC31: 8 | AD31: 8 | AE31: 6 | AF31: 10 | AG31: 8 | AH31: 8 | AI31: 8 | AJ31: 8
B32: - | C32: Tacto y criterio: | D32: 9 | E32: 6 | F32: 8 | G32: 8 | H32: 9 | J32: 7 | K32: 9 | L32: 5 | M32: 9 | N32: 9 | O32: 7 | P32: 8 | Q32: 8 | R32: 9 | S32: 9 | T32: 9 | U32: 9 | V32: 8 | W32: 8 | X32: 9 | Y32: 8 | Z32: 8 | AA32: 7 | AB32: 9 | AC32: 9 | AD32: 8 | AE32: 3 | AF32: 8 | AG32: 9 | AH32: 7 | AI32: 9 | AJ32: 8
C33: MEDIA | D33: =TRUNC(IFERROR(AVERAGE(D25:D32),"0"),2) -> 8 | E33: =TRUNC(IFERROR(AVERAGE(E25:E32),"0"),2) -> 7.87 | F33: =TRUNC(IFERROR(AVERAGE(F25:F32),"0"),2) -> 5.87 | G33: =TRUNC(IFERROR(AVERAGE(G25:G32),"0"),2) -> 8.12 | H33: =TRUNC(IFERROR(AVERAGE(H25:H32),"0"),2) -> 8.25 | I33: =TRUNC(IFERROR(AVERAGE(I25:I32),"0"),2) -> 0 | J33: =TRUNC(IFERROR(AVERAGE(J25:J32),"0"),2) -> 7.87 | K33: =TRUNC(IFERROR(AVERAGE(K25:K32),"0"),2) -> 7.87 | ... AJ33: =TRUNC(IFERROR(AVERAGE(AJ25:AJ32),"0"),2) -> 8
C34: RESPONSABILIDAD | D34: RESPONSABILIDAD
B35: - | C35: Espíritu de superación: | D35: 8 | E35: 8 | F35: 6 | G35: 8 | H35: 9 | J35: 8 | K35: 8 | L35: 6 | M35: 10 | N35: 8 | O35: 8 | P35: 9 | Q35: 8 | R35: 9 | S35: 8 | T35: 10 | U35: 10 | V35: 9 | W35: 9 | X35: 9 | Y35: 9 | Z35: 9 | AA35: 9 | AB35: 9 | AC35: 10 | AD35: 9 | AE35: 6 | AF35: 9 | AG35: 9 | AH35: 8 | AI35: 9 | AJ35: 9
B36: - | C36: Capacidad para organizarse: | D36: 8 | E36: 7 | F36: 7 | G36: 8 | H36: 8 | J36: 8 | K36: 9 | L36: 6 | M36: 10 | N36: 8 | O36: 8 | P36: 8 | Q36: 8 | R36: 9 | S36: 8 | T36: 10 | U36: 9 | V36: 8 | W36: 8 | X36: 9 | Y36: 8 | Z36: 9 | AA36: 8 | AB36: 8 | AC36: 9 | AD36: 9 | AE36: 8 | AF36: 10 | AG36: 8 | AH36: 8 | AI36: 9 | AJ36: 9
B37: - | C37: Capacidad para asumir responsabilidades: | D37: 9 | E37: 6 | F37: 7 | G37: 8 | H37: 9 | J37: 7 | K37: 9 | L37: 6 | M37: 9 | N37: 9 | O37: 8 | P37: 8 | Q37: 8 | R37: 9 | S37: 8 | T37: 9 | U37: 10 | V37: 9 | W37: 9 | X37: 9 | Y37: 8 | Z37: 9 | AA37: 10 | AB37: 8 | AC37: 9 | AD37: 9 | AE37: 8 | AF37: 10 | AG37: 9 | AH37: 9 | AI37: 9 | AJ37: 9
B38: - | C38: Necesidad de control: | D38: 8 | E38: 7 | F38: 8 | G38: 8 | H38: 8 | J38: 8 | K38: 8 | L38: 6 | M38: 9 | N38: 8 | O38: 8 | P38: 8 | Q38: 8 | R38: 8 | S38: 8 | T38: 10 | U38: 9 | V38: 8 | W38: 8 | X38: 9 | Y38: 8 | Z38: 8 | AA38: 8 | AB38: 8 | AC38: 9 | AD38: 9 | AE38: 9 | AF38: 9 | AG38: 8 | AH38: 8 | AI38: 9 | AJ38: 8
B39: - | C39: Puntualidad: | D39: 9 | E39: 8 | F39: 9 | G39: 9 | H39: 8 | J39: 8 | K39: 9 | L39: 3 | M39: 9 | N39: 9 | O39: 8 | P39: 9 | Q39: 8 | R39: 9 | S39: 8 | T39: 10 | U39: 9 | V39: 9 | W39: 8 | X39: 9 | Y39: 8 | Z39: 9 | AA39: 8 | AB39: 9 | AC39: 9 | AD39: 9 | AE39: 8 | AF39: 9 | AG39: 9 | AH39: 8 | AI39: 9 | AJ39: 8
B40: - | C40: Tenacidad y constancia: | D40: 9 | E40: 7 | F40: 6 | G40: 8 | H40: 8 | J40: 8 | K40: 8 | L40: 3 | M40: 10 | N40: 9 | O40: 8 | P40: 9 | Q40: 9 | R40: 8 | S40: 8 | T40: 10 | U40: 10 | V40: 9 | W40: 9 | X40: 9 | Y40: 8 | Z40: 9 | AA40: 8 | AB40: 9 | AC40: 10 | AD40: 9 | AE40: 6 | AF40: 9 | AG40: 9 | AH40: 8 | AI40: 9 | AJ40: 8
C41: MEDIA | D41: =TRUNC(IFERROR(AVERAGE(D35:D40),"0"),2) -> 8.5 | E41: =TRUNC(IFERROR(AVERAGE(E35:E40),"0"),2) -> 7.16 | F41: =TRUNC(IFERROR(AVERAGE(F35:F40),"0"),2) -> 7.16 | G41: =TRUNC(IFERROR(AVERAGE(G35:G40),"0"),2) -> 8.16 | H41: =TRUNC(IFERROR(AVERAGE(H35:H40),"0"),2) -> 8.33 | I41: =TRUNC(IFERROR(AVERAGE(I35:I40),"0"),2) -> 0 | J41: =TRUNC(IFERROR(AVERAGE(J35:J40),"0"),2) -> 7.83 | K41: =TRUNC(IFERROR(AVERAGE(K35:K40),"0"),2) -> 8.5 | ... AJ41: =TRUNC(IFERROR(AVERAGE(AJ35:AJ40),"0"),2) -> 8.5
C42: ESPÍRITU MILITAR | D42: 7
...

Sheet ESCUADRA-EM
H2: CALIFICACIÓN PARA CURSO CAOR
C3: PERDIODO | D3: 1
D4: =DATOS!A2&" "&DATOS!A7 -> Aguilera, Pablo Alberto | E4: =DATOS!B2&" "&DATOS!B7 -> Bambach, Juan Paulo | F4: =DATOS!C2&" "&DATOS!C7 -> Benavente, Sergio | G4: =DATOS!D2&" "&DATOS!D7 -> Bolelli, Ignacio Octavio | H4: =DATOS!E2&" "&DATOS!E7 -> Correa, Cristóbal | I4: =DATOS!F2&" "&DATOS!F7 -> De la Cruz , Oscar Ernesto | J4: =DATOS!G2&" "&DATOS!G7 -> Del Favero, Andrés | K4: =DATOS!H2&" "&DATOS!H7 -> Espejo, Paula Macarena | ... AJ4: =DATOS!AG2&" "&DATOS!AG7 -> Wuth, Enrique Alejandro
C5: INSTRUCTIOR: (GRADO / NOMBRE) | D5: =DATOS!A1 -> Aguilera | E5: =DATOS!B1 -> Bambach | F5: =DATOS!C1 -> Benavente | G5: =DATOS!D1 -> Bolelli | H5: =DATOS!E1 -> Correa | I5: =DATOS!F1 -> De la Cruz | J5: =DATOS!G1 -> Del Favero | K5: =DATOS!H1 -> Espejo | L5: =DATOS!I1 -> Fuenzalida | M5: =DATOS!J1&" C" -> Ibáñez C | N5: =DATOS!K1&" G" -> Ibáñez G | O5: =DATOS!L1 -> Izquierdo | P5: =DATOS!M1 -> Jones | Q5: =DATOS!N1 -> Jorquera | R5: =DATOS!O1 -> Junge | S5: =DATOS!P1 -> Kinast | T5: =DATOS!Q1 -> Larraín | U5: =DATOS!R1 -> Leiva | V5: =DATOS!S1 -> Lopez | ... AB5: =DATOS!Y1 -> Santis | AC5: =DATOS!Z1&" F" -> Solari F | AD5: =DATOS!AA1&" B" -> Solari B | AE5: =DATOS!AB1 -> Urrutia | AF5: =DATOS!AC1 -> Valdes | AG5: =DATOS!AD1 -> Vallebona | AH5: =DATOS!AE1 -> Vidaurre | AI5: =DATOS!AF1 -> Wagner | AJ5: =DATOS!AG1 -> Wuth
C6: Edad | D6: =DATOS!A4 -> 45.550685 | E6: =DATOS!B4 -> 59.668493 | F6: =DATOS!C4 -> 62.673973 | G6: =DATOS!D4 -> 42.29863 | H6: =DATOS!E4 -> 44.10411 | I6: =DATOS!F4 -> 55.128767 | J6: =DATOS!G4 -> 42.109589 | K6: =DATOS!H4 -> 44.043836 | ... AJ6: =DATOS!AG4 -> 44.446575
C7: Empresa | D7: =DATOS!A5 -> Netafim Chile | E7: =DATOS!B5 -> Estudio Philippi | F7: =DATOS!C5 -> Bci Asset Management | G7: =DATOS!D5 -> MBC Abogados | H7: =DATOS!E5 -> Yamana Gold | I7: =DATOS!F5 -> AAK Abogados | J7: =DATOS!G5 -> Lavin Abogados & Consultores | K7: =DATOS!H5 -> Boldtalk Spa | ... AJ7: =DATOS!AG5 -> Constructora WL
C8: Cargo | D8: =DATOS!A6 -> Agente Zonal Sexta Región | E8: =DATOS!B6 -> Abogado | F8: =DATOS!C6 -> Gerente de Riesgo | G8: =DATOS!D6 -> Socio | H8: =DATOS!E6 -> Director Legal | I8: =DATOS!F6 -> Socio | J8: =DATOS!G6 -> Socio | K8: =DATOS!H6 -> Fundadora | ... AJ8: =DATOS!AG6 -> Socio
D10: Las notas serán hechas de 1 a 10 (sin decimales), donde la nota mínima de aprobación será un 6.
C11: MANDO | D11: MANDO
B12: - | C12: Ejemplo que inspira con sus actuaciones: | D12: 9 | E12: 7 | F12: 7 | G12: 7 | H12: 9 | J12: 9 | K12: 8 | L12: 4 | M12: 10 | N12: 8 | O12: 8 | P12: 8 | Q12: 7 | R12: 7 | S12: 9 | T12: 10 | U12: 9 | V12: 9 | W12: 8 | X12: 8 | Y12: 8 | Z12: 8 | AA12: 8 | AB12: 8 | AC12: 9 | AD12: 9 | AE12: 7 | AF12: 9 | AG12: 8 | AH12: 8 | AI12: 8 | AJ12: 8
B13: - | C13: Carácter: | D13: 8 | E13: 8 | F13: 8 | G13: 7 | H13: 9 | J13: 8 | K13: 8 | L13: 7 | M13: 9 | N13: 8 | O13: 8 | P13: 9 | Q13: 7 | R13: 8 | S13: 9 | T13: 10 | U13: 9 | V13: 9 | W13: 9 | X13: 8 | Y13: 9 | Z13: 9 | AA13: 8 | AB13: 8 | AC13: 9 | AD13: 9 | AE13: 7 | AF13: 9 | AG13: 8 | AH13: 8 | AI13: 8 | AJ13: 8
B14: - | C14: Capacidad para aceptar críticas a su actuación | D14: 9 | E14: 9 | F14: 8 | G14: 8 | H14: 9 | J14: 9 | K14: 8 | L14: 7 | M14: 10 | N14: 9 | O14: 8 | P14: 9 | Q14: 9 | R14: 8 | S14: 10 | T14: 9 | U14: 10 | V14: 9 | W14: 10 | X14: 9 | Y14: 9 | Z14: 9 | AA14: 9 | AB14: 8 | AC14: 9 | AD14: 9 | AE14: 6 | AF14: 8 | AG14: 8 | AH14: 7 | AI14: 9 | AJ14: 8
B15: - | C15: Lealtad: | D15: 9 | E15: 8 | F15: 8 | G15: 8 | H15: 9 | J15: 10 | K15: 8 | L15: 7 | M15: 9 | N15: 8 | O15: 8 | P15: 8 | Q15: 8 | R15: 8 | S15: 9 | T15: 9 | U15: 9 | V15: 9 | W15: 9 | X15: 9 | Y15: 9 | Z15: 9 | AA15: 10 | AB15: 8 | AC15: 9 | AD15: 9 | AE15: 8 | AF15: 9 | AG15: 9 | AH15: 8 | AI15: 9 | AJ15: 8
B16: - | C16: Fortaleza: | D16: 8 | E16: 8 | F16: 8 | G16: 7 | H16: 9 | J16: 9 | K16: 8 | L16: 6 | M16: 10 | N16: 8 | O16: 8 | P16: 9 | Q16: 8 | R16: 7 | S16: 10 | T16: 10 | U16: 9 | V16: 8 | W16: 9 | X16: 8 | Y16: 8 | Z16: 8 | AA16: 8 | AB16: 9 | AC16: 10 | AD16: 10 | AE16: 7 | AF16: 9 | AG16: 9 | AH16: 8 | AI16: 9 | AJ16: 9
B17: - | C17: Prudencia: | D17: 9 | E17: 9 | F17: 8 | G17: 8 | H17: 9 | J17: 8 | K17: 8 | L17: 7 | M17: 9 | N17: 8 | O17: 8 | P17: 8 | Q17: 9 | R17: 9 | S17: 10 | T17: 9 | U17: 9 | V17: 9 | W17: 9 | X17: 9 | Y17: 9 | Z17: 9 | AA17: 9 | AB17: 9 | AC17: 8 | AD17: 9 | AE17: 7 | AF17: 9 | AG17: 9 | AH17: 7 | AI17: 9 | AJ17: 9
C18: MEDIA | D18: =TRUNC(IFERROR(AVERAGE(D12:D17),"0"),2) -> 8.66 | E18: =TRUNC(IFERROR(AVERAGE(E12:E17),"0"),2) -> 8.16 | F18: =TRUNC(IFERROR(AVERAGE(F12:F17),"0"),2) -> 7.83 | G18: =TRUNC(IFERROR(AVERAGE(G12:G17),"0"),2) -> 7.5 | H18: =TRUNC(IFERROR(AVERAGE(H12:H17),"0"),2) -> 9 | I18: =TRUNC(IFERROR(AVERAGE(I12:I17),"0"),2) -> 0 | J18: =TRUNC(IFERROR(AVERAGE(J12:J17),"0"),2) -> 8.83 | K18: =TRUNC(IFERROR(AVERAGE(K12:K17),"0"),2) -> 8 | ... AJ18: =TRUNC(IFERROR(AVERAGE(AJ12:AJ17),"0"),2) -> 8.33
C19: INTERÉS PROFESIONAL | D19: INTERÉS PROFESIONAL
B20: - | C20: Conocimiento sobre la carrera y sus tradiciones: | D20: 10 | E20: 7 | F20: 8 | G20: 7 | H20: 8 | J20: 7 | K20: 8 | L20: 6 | M20: 9 | N20: 8 | O20: 8 | P20: 8 | Q20: 8 | R20: 8 | S20: 9 | T20: 9 | U20: 9 | V20: 8 | W20: 8 | X20: 8 | Y20: 8 | Z20: 8 | AA20: 8 | AB20: 8 | AC20: 8 | AD20: 8 | AE20: 8 | AF20: 8 | AG20: 8 | AH20: 8 | AI20: 8 | AJ20: 8
B21: - | C21: Espíritu Profesional: | D21: 9 | E21: 8 | F21: 8 | G21: 7 | H21: 9 | J21: 7 | K21: 9 | L21: 6 | M21: 9 | N21: 9 | O21: 8 | P21: 9 | Q21: 8 | R21: 8 | S21: 9 | T21: 10 | U21: 9 | V21: 9 | W21: 8 | X21: 8 | Y21: 9 | Z21: 8 | AA21: 8 | AB21: 8 | AC21: 9 | AD21: 9 | AE21: 7 | AF21: 9 | AG21: 8 | AH21: 8 | AI21: 8 | AJ21: 8
B22: - | C22: Rendimiento en actividades profesionales: | D22: 9 | E22: 7 | F22: 8 | G22: 7 | H22: 8 | J22: 8 | K22: 8 | L22: 6 | M22: 10 | N22: 8 | O22: 7 | P22: 8 | Q22: 7 | R22: 8 | S22: 9 | T22: 10 | U22: 9 | V22: 8 | W22: 9 | X22: 8 | Y22: 8 | Z22: 7 | AA22: 8 | AB22: 8 | AC22: 9 | AD22: 8 | AE22: 7 | AF22: 9 | AG22: 9 | AH22: 8 | AI22: 7 | AJ22: 7
C23: MEDIA | D23: =TRUNC(IFERROR(AVERAGE(D20:D22),"0"),2) -> 9.33 | E23: =TRUNC(IFERROR(AVERAGE(E20:E22),"0"),2) -> 7.33 | F23: =TRUNC(IFERROR(AVERAGE(F20:F22),"0"),2) -> 8 | G23: =TRUNC(IFERROR(AVERAGE(G20:G22),"0"),2) -> 7 | H23: =TRUNC(IFERROR(AVERAGE(H20:H22),"0"),2) -> 8.33 | I23: =TRUNC(IFERROR(AVERAGE(I20:I22),"0"),2) -> 0 | J23: =TRUNC(IFERROR(AVERAGE(J20:J22),"0"),2) -> 7.33 | K23: =TRUNC(IFERROR(AVERAGE(K20:K22),"0"),2) -> 8.33 | ... AJ23: =TRUNC(IFERROR(AVERAGE(AJ20:AJ22),"0"),2) -> 7.66
C24: PERSONALIDAD | D24: PERSONALIDAD
B25: - | C25: Capacidad de expresión oral: | D25: 9 | E25: 9 | F25: 8 | G25: 8 | H25: 9 | J25: 8 | K25: 9 | L25: 6 | M25: 9 | N25: 8 | O25: 9 | P25: 9 | Q25: 8 | R25: 9 | S25: 9 | T25: 9 | U25: 9 | V25: 8 | W25: 9 | X25: 8 | Y25: 9 | Z25: 8 | AA25: 8 | AB25: 8 | AC25: 8 | AD25: 9 | AE25: 8 | AF25: 9 | AG25: 9 | AH25: 8 | AI25: 8 | AJ25: 8
B26: - | C26: Ascendiente con sus compañeros: | D26: 10 | E26: 9 | F26: 7 | G26: 7 | H26: 9 | J26: 9 | K26: 7 | L26: 6 | M26: 8 | N26: 7 | O26: 8 | P26: 9 | Q26: 8 | R26: 8 | S26: 9 | T26: 10 | U26: 8 | V26: 9 | W26: 9 | X26: 8 | Y26: 8 | Z26: 8 | AA26: 8 | AB26: 8 | AC26: 9 | AD26: 8 | AE26: 7 | AF26: 9 | AG26: 8 | AH26: 8 | AI26: 7 | AJ26: 7
B27: - | C27: Madurez en sus actuaciones: | D27: 9 | E27: 8 | F27: 9 | G27: 8 | H27: 9 | J27: 8 | K27: 9 | L27: 7 | M27: 9 | N27: 8 | O27: 9 | P27: 8 | Q27: 9 | R27: 8 | S27: 10 | T27: 10 | U27: 8 | V27: 9 | W27: 9 | X27: 9 | Y27: 9 | Z27: 8 | AA27: 8 | AB27: 8 | AC27: 8 | AD27: 9 | AE27: 7 | AF27: 9 | AG27: 8 | AH27: 8 | AI27: 8 | AJ27: 8
B28: - | C28: Sociabilidad: | D28: 9 | E28: 10 | F28: 8 | G28: 8 | H28: 9 | J28: 9 | K28: 8 | L28: 7 | M28: 9 | N28: 8 | O28: 8 | P28: 10 | Q28: 9 | R28: 7 | S28: 9 | T28: 9 | U28: 9 | V28: 9 | W28: 10 | X28: 9 | Y28: 8 | Z28: 9 | AA28: 9 | AB28: 8 | AC28: 9 | AD28: 8 | AE28: 8 | AF28: 8 | AG28: 9 | AH28: 8 | AI28: 8 | AJ28: 8
B29: - | C29: Compañerismo, amistad y solidaridad: | D29: 9 | E29: 10 | F29: 8 | G29: 9 | H29: 10 | J29: 10 | K29: 9 | L29: 8 | M29: 9 | N29: 9 | O29: 8 | P29: 9 | Q29: 9 | R29: 8 | S29: 10 | T29: 9 | U29: 9 | V29: 10 | W29: 10 | X29: 9 | Y29: 8 | Z29: 9 | AA29: 10 | AB29: 8 | AC29: 9 | AD29: 9 | AE29: 8 | AF29: 9 | AG29: 9 | AH29: 9 | AI29: 8 | AJ29: 8
B30: - | C30: Condiciones de Líder: | D30: 10 | E30: 8 | F30: 7 | G30: 7 | H30: 9 | J30: 9 | K30: 7 | L30: 6 | M30: 8 | N30: 7 | O30: 8 | P30: 9 | Q30: 7 | R30: 8 | S30: 10 | T30: 10 | U30: 9 | V30: 8 | W30: 8 | X30: 8 | Y30: 8 | Z30: 8 | AA30: 8 | AB30: 8 | AC30: 9 | AD30: 8 | AE30: 7 | AF30: 8 | AG30: 8 | AH30: 7 | AI30: 7 | AJ30: 7
B31: - | C31: Iniciativa: | D31: 9 | E31: 7 | F31: 7 | G31: 7 | H31: 8 | J31: 9 | K31: 7 | L31: 7 | M31: 10 | N31: 7 | O31: 8 | P31: 8 | Q31: 8 | R31: 7 | S31: 9 | T31: 9 | U31: 8 | V31: 9 | W31: 9 | X31: 8 | Y31: 8 | Z31: 9 | AA31: 9 | AB31: 7 | AC31: 9 | AD31: 8 | AE31: 7 | AF31: 9 | AG31: 8 | AH31: 8 | AI31: 8 | AJ31: 8
B32: - | C32: Tacto y criterio: | D32: 9 | E32: 9 | F32: 8 | G32: 8 | H32: 9 | J32: 8 | K32: 8 | L32: 5 | M32: 10 | N32: 8 | O32: 8 | P32: 8 | Q32: 9 | R32: 9 | S32: 9 | T32: 10 | U32: 9 | V32: 9 | W32: 9 | X32: 9 | Y32: 9 | Z32: 9 | AA32: 8 | AB32: 8 | AC32: 8 | AD32: 9 | AE32: 7 | AF32: 9 | AG32: 8 | AH32: 7 | AI32: 9 | AJ32: 8
C33: MEDIA | D33: =TRUNC(IFERROR(AVERAGE(D25:D32),"0"),2) -> 9.25 | E33: =TRUNC(IFERROR(AVERAGE(E25:E32),"0"),2) -> 8.75 | F33: =TRUNC(IFERROR(AVERAGE(F25:F32),"0"),2) -> 7.75 | G33: =TRUNC(IFERROR(AVERAGE(G25:G32),"0"),2) -> 7.75 | H33: =TRUNC(IFERROR(AVERAGE(H25:H32),"0"),2) -> 9 | I33: =TRUNC(IFERROR(AVERAGE(I25:I32),"0"),2) -> 0 | J33: =TRUNC(IFERROR(AVERAGE(J25:J32),"0"),2) -> 8.75 | K33: =TRUNC(IFERROR(AVERAGE(K25:K32),"0"),2) -> 8 | ... AJ33: =TRUNC(IFERROR(AVERAGE(AJ25:AJ32),"0"),2) -> 7.75
C34: RESPONSABILIDAD
B35: - | C35: Espíritu de superación: | D35: 9 | E35: 8 | F35: 8 | G35: 7 | H35: 9 | J35: 9 | K35: 8 | L35: 7 | M35: 10 | N35: 8 | O35: 8 | P35: 8 | Q35: 8 | R35: 8 | S35: 8 | T35: 9 | U35: 9 | V35: 9 | W35: 9 | X35: 8 | Y35: 9 | Z35: 9 | AA35: 8 | AB35: 8 | AC35: 9 | AD35: 9 | AE35: 7 | AF35: 8 | AG35: 8 | AH35: 8 | AI35: 8 | AJ35: 8
B36: - | C36: Capacidad para organizarse: | D36: 9 | E36: 8 | F36: 8 | G36: 8 | H36: 8 | J36: 9 | K36: 8 | L36: 7 | M36: 9 | N36: 8 | O36: 8 | P36: 8 | Q36: 8 | R36: 8 | S36: 9 | T36: 9 | U36: 9 | V36: 8 | W36: 9 | X36: 8 | Y36: 8 | Z36: 8 | AA36: 9 | AB36: 8 | AC36: 8 | AD36: 8 | AE36: 8 | AF36: 8 | AG36: 9 | AH36: 8 | AI36: 8 | AJ36: 8
B37: - | C37: Capacidad para asumir responsabilidades: | D37: 10 | E37: 7 | F37: 8 | G37: 8 | H37: 9 | J37: 9 | K37: 8 | L37: 7 | M37: 9 | N37: 8 | O37: 8 | P37: 8 | Q37: 7 | R37: 8 | S37: 9 | T37: 9 | U37: 10 | V37: 9 | W37: 8 | X37: 9 | Y37: 8 | Z37: 8 | AA37: 9 | AB37: 7 | AC37: 8 | AD37: 8 | AE37: 8 | AF37: 9 | AG37: 9 | AH37: 8 | AI37: 8 | AJ37: 8
B38: - | C38: Necesidad de control: | D38: 9 | E38: 8 | F38: 7 | G38: 7 | H38: 9 | J38: 8 | K38: 9 | L38: 7 | M38: 9 | N38: 8 | O38: 7 | P38: 8 | Q38: 8 | R38: 8 | S38: 9 | T38: 9 | U38: 9 | V38: 8 | W38: 8 | X38: 8 | Y38: 8 | Z38: 8 | AA38: 8 | AB38: 7 | AC38: 8 | AD38: 8 | AE38: 7 | AF38: 8 | AG38: 8 | AH38: 7 | AI38: 9 | AJ38: 8
B39: - | C39: Puntualidad: | D39: 9 | E39: 9 | F39: 8 | G39: 7 | H39: 8 | J39: 8 | K39: 8 | L39: 5 | M39: 9 | N39: 8 | O39: 7 | P39: 8 | Q39: 7 | R39: 8 | S39: 9 | T39: 9 | U39: 9 | V39: 9 | W39: 8 | X39: 8 | Y39: 9 | Z39: 8 | AA39: 9 | AB39: 8 | AC39: 9 | AD39: 9 | AE39: 7 | AF39: 9 | AG39: 9 | AH39: 8 | AI39: 8 | AJ39: 8
B40: - | C40: Tenacidad y constancia: | D40: 9 | E40: 8 | F40: 8 | G40: 7 | H40: 9 | J40: 9 | K40: 9 | L40: 6 | M40: 9 | N40: 8 | O40: 8 | P40: 8 | Q40: 9 | R40: 8 | S40: 9 | T40: 10 | U40: 10 | V40: 8 | W40: 9 | X40: 9 | Y40: 8 | Z40: 8 | AA40: 9 | AB40: 8 | AC40: 9 | AD40: 9 | AE40: 7 | AF40: 8 | AG40: 9 | AH40: 8 | AI40: 9 | AJ40: 8
C41: MEDIA | D41: =TRUNC(IFERROR(AVERAGE(D35:D40),"0"),2) -> 9.16 | E41: =TRUNC(IFERROR(AVERAGE(E35:E40),"0"),2) -> 8 | F41: =TRUNC(IFERROR(AVERAGE(F35:F40),"0"),2) -> 7.83 | G41: =TRUNC(IFERROR(AVERAGE(G35:G40),"0"),2) -> 7.33 | H41: =TRUNC(IFERROR(AVERAGE(H35:H40),"0"),2) -> 8.66 | I41: =TRUNC(IFERROR(AVERAGE(I35:I40),"0"),2) -> 0 | J41: =TRUNC(IFERROR(AVERAGE(J35:J40),"0"),2) -> 8.66 | K41: =TRUNC(IFERROR(AVERAGE(K35:K40),"0"),2) -> 8.33 | ... AJ41: =TRUNC(IFERROR(AVERAGE(AJ35:AJ40),"0"),2) -> 8
C42: ESPÍRITU MILITAR | D42: ESPÍRITU MILITAR
...

Sheet ESCUADRA-RC
H2: CALIFICACIÓN PARA CURSO CAOR
C3: PERDIODO | D3: 1
D4: =DATOS!A2&" "&DATOS!A7 -> Aguilera, Pablo Alberto | E4: =DATOS!B2&" "&DATOS!B7 -> Bambach, Juan Paulo | F4: =DATOS!C2&" "&DATOS!C7 -> Benavente, Sergio | G4: =DATOS!D2&" "&DATOS!D7 -> Bolelli, Ignacio Octavio | H4: =DATOS!E2&" "&DATOS!E7 -> Correa, Cristóbal | I4: =DATOS!F2&" "&DATOS!F7 -> De la Cruz , Oscar Ernesto | J4: =DATOS!G2&" "&DATOS!G7 -> Del Favero, Andrés | K4: =DATOS!H2&" "&DATOS!H7 -> Espejo, Paula Macarena | ... AJ4: =DATOS!AG2&" "&DATOS!AG7 -> Wuth, Enrique Alejandro
C5: INSTRUCTIOR: (GRADO / NOMBRE) | D5: =DATOS!A1 -> Aguilera | E5: =DATOS!B1 -> Bambach | F5: =DATOS!C1 -> Benavente | G5: =DATOS!D1 -> Bolelli | H5: =DATOS!E1 -> Correa | I5: =DATOS!F1 -> De la Cruz | J5: =DATOS!G1 -> Del Favero | K5: =DATOS!H1 -> Espejo | L5: =DATOS!I1 -> Fuenzalida | M5: =DATOS!J1&" C" -> Ibáñez C | N5: =DATOS!K1&" G" -> Ibáñez G | O5: =DATOS!L1 -> Izquierdo | P5: =DATOS!M1 -> Jones | Q5: =DATOS!N1 -> Jorquera | R5: =DATOS!O1 -> Junge | S5: =DATOS!P1 -> Kinast | T5: =DATOS!Q1 -> Larraín | U5: =DATOS!R1 -> Leiva | V5: =DATOS!S1 -> Lopez | ... AB5: =DATOS!Y1 -> Santis | AC5: =DATOS!Z1&" F" -> Solari F | AD5: =DATOS!AA1&" B" -> Solari B | AE5: =DATOS!AB1 -> Urrutia | AF5: =DATOS!AC1 -> Valdes | AG5: =DATOS!AD1 -> Vallebona | AH5: =DATOS!AE1 -> Vidaurre | AI5: =DATOS!AF1 -> Wagner | AJ5: =DATOS!AG1 -> Wuth
C6: Edad | D6: =DATOS!A4 -> 45.550685 | E6: =DATOS!B4 -> 59.668493 | F6: =DATOS!C4 -> 62.673973 | G6: =DATOS!D4 -> 42.29863 | H6: =DATOS!E4 -> 44.10411 | I6: =DATOS!F4 -> 55.128767 | J6: =DATOS!G4 -> 42.109589 | K6: =DATOS!H4 -> 44.043836 | ... AJ6: =DATOS!AG4 -> 44.446575
C7: Empresa | D7: =DATOS!A5 -> Netafim Chile | E7: =DATOS!B5 -> Estudio Philippi | F7: =DATOS!C5 -> Bci Asset Management | G7: =DATOS!D5 -> MBC Abogados | H7: =DATOS!E5 -> Yamana Gold | I7: =DATOS!F5 -> AAK Abogados | J7: =DATOS!G5 -> Lavin Abogados & Consultores | K7: =DATOS!H5 -> Boldtalk Spa | ... AJ7: =DATOS!AG5 -> Constructora WL
C8: Cargo | D8: =DATOS!A6 -> Agente Zonal Sexta Región | E8: =DATOS!B6 -> Abogado | F8: =DATOS!C6 -> Gerente de Riesgo | G8: =DATOS!D6 -> Socio | H8: =DATOS!E6 -> Director Legal | I8: =DATOS!F6 -> Socio | J8: =DATOS!G6 -> Socio | K8: =DATOS!H6 -> Fundadora | ... AJ8: =DATOS!AG6 -> Socio
AC9: Benjamin | AD9: Fernando
D10: Las notas serán hechas de 1 a 10 (sin decimales), donde la nota mínima de aprobación será un 6.
C11: MANDO | D11: MANDO
B12: - | C12: Ejemplo que inspira con sus actuaciones: | D12: 10 | E12: 7 | F12: 6 | G12: 7 | H12: 9 | J12: 8 | K12: 7 | L12: 4 | M12: 10 | N12: 8 | O12: 7 | P12: 10 | Q12: 6 | R12: 9 | S12: 10 | T12: 10 | U12: 10 | V12: 8 | W12: 8 | X12: 8 | Y12: 8 | Z12: 8 | AA12: 7 | AB12: 9 | AC12: 9 | AD12: 10 | AE12: 6 | AF12: 8 | AG12: 10 | AH12: 6 | AI12: 9 | AJ12: 8
B13: - | C13: Carácter: | D13: 10 | E13: 8 | F13: 7 | G13: 8 | H13: 10 | J13: 8 | K13: 7 | L13: 7 | M13: 10 | N13: 9 | O13: 6 | P13: 10 | Q13: 8 | R13: 10 | S13: 10 | T13: 10 | U13: 9 | V13: 9 | W13: 9 | X13: 7 | Y13: 9 | Z13: 9 | AA13: 9 | AB13: 9 | AC13: 10 | AD13: 10 | AE13: 5 | AF13: 9 | AG13: 10 | AH13: 9 | AI13: 8 | AJ13: 9
B14: - | C14: Capacidad para aceptar críticas a su actuación | D14: 10 | E14: 8 | F14: 9 | G14: 9 | H14: 10 | J14: 9 | K14: 9 | L14: 8 | M14: 10 | N14: 10 | O14: 5 | P14: 10 | Q14: 10 | R14: 10 | S14: 10 | T14: 10 | U14: 10 | V14: 10 | W14: 9 | X14: 10 | Y14: 10 | Z14: 9 | AA14: 9 | AB14: 9 | AC14: 10 | AD14: 10 | AE14: 4 | AF14: 10 | AG14: 10 | AH14: 8 | AI14: 10 | AJ14: 10
B15: - | C15: Lealtad: | D15: 10 | E15: 10 | F15: 10 | G15: 10 | H15: 10 | J15: 10 | K15: 10 | L15: 9 | M15: 10 | N15: 10 | O15: 10 | P15: 10 | Q15: 10 | R15: 10 | S15: 10 | T15: 10 | U15: 10 | V15: 10 | W15: 10 | X15: 10 | Y15: 10 | Z15: 10 | AA15: 9 | AB15: 10 | AC15: 10 | AD15: 10 | AE15: 9 | AF15: 10 | AG15: 10 | AH15: 10 | AI15: 10 | AJ15: 10
B16: - | C16: Fortaleza: | D16: 9 | E16: 9 | F16: 8 | G16: 9 | H16: 9 | J16: 9 | K16: 8 | L16: 6 | M16: 10 | N16: 8 | O16: 8 | P16: 10 | Q16: 9 | R16: 8 | S16: 9 | T16: 10 | U16: 9 | V16: 9 | W16: 9 | X16: 9 | Y16: 9 | Z16: 9 | AA16: 9 | AB16: 9 | AC16: 9 | AD16: 9 | AE16: 7 | AF16: 8 | AG16: 9 | AH16: 9 | AI16: 9 | AJ16: 9
B17: - | C17: Prudencia: | D17: 10 | E17: 6 | F17: 9 | G17: 9 | H17: 10 | J17: 8 | K17: 10 | L17: 4 | M17: 10 | N17: 10 | O17: 8 | P17: 9 | Q17: 9 | R17: 10 | S17: 10 | T17: 10 | U17: 10 | V17: 9 | W17: 8 | X17: 10 | Y17: 10 | Z17: 9 | AA17: 7 | AB17: 10 | AC17: 10 | AD17: 10 | AE17: 6 | AF17: 8 | AG17: 10 | AH17: 6 | AI17: 9 | AJ17: 10
C18: MEDIA | D18: =TRUNC(IFERROR(AVERAGE(D12:D17),"0"),2) -> 9.83 | E18: =TRUNC(IFERROR(AVERAGE(E12:E17),"0"),2) -> 8 | F18: =TRUNC(IFERROR(AVERAGE(F12:F17),"0"),2) -> 8.16 | G18: =TRUNC(IFERROR(AVERAGE(G12:G17),"0"),2) -> 8.66 | H18: =TRUNC(IFERROR(AVERAGE(H12:H17),"0"),2) -> 9.66 | I18: =TRUNC(IFERROR(AVERAGE(I12:I17),"0"),2) -> 0 | J18: =TRUNC(IFERROR(AVERAGE(J12:J17),"0"),2) -> 8.66 | K18: =TRUNC(IFERROR(AVERAGE(K12:K17),"0"),2) -> 8.5 | ... AJ18: =TRUNC(IFERROR(AVERAGE(AJ12:AJ17),"0"),2) -> 9.33
C19: INTERÉS PROFESIONAL | D19: INTERÉS PROFESIONAL
B20: - | C20: Conocimiento sobre la carrera y sus tradiciones: | D20: 10 | E20: 8 | F20: 6 | G20: 9 | H20: 8 | J20: 9 | K20: 7 | L20: 4 | M20: 9 | N20: 9 | O20: 7 | P20: 9 | Q20: 7 | R20: 8 | S20: 9 | T20: 9 | U20: 9 | V20: 7 | W20: 7 | X20: 8 | Y20: 8 | Z20: 8 | AA20: 8 | AB20: 8 | AC20: 9 | AD20: 9 | AE20: 6 | AF20: 7 | AG20: 8 | AH20: 7 | AI20: 8 | AJ20: 8
B21: - | C21: Espíritu Profesional: | D21: 10 | E21: 9 | F21: 9 | G21: 8 | H21: 10 | J21: 9 | K21: 8 | L21: 7 | M21: 9 | N21: 8 | O21: 7 | P21: 10 | Q21: 9 | R21: 9 | S21: 10 | T21: 10 | U21: 10 | V21: 9 | W21: 9 | X21: 9 | Y21: 9 | Z21: 8 | AA21: 8 | AB21: 9 | AC21: 10 | AD21: 10 | AE21: 8 | AF21: 9 | AG21: 10 | AH21: 8 | AI21: 9 | AJ21: 9
B22: - | C22: Rendimiento en actividades profesionales: | D22: 9 | E22: 8 | F22: 9 | G22: 8 | H22: 9 | J22: 9 | K22: 8 | L22: 6 | M22: 9 | N22: 9 | O22: 7 | P22: 9 | Q22: 8 | R22: 9 | S22: 10 | T22: 10 | U22: 10 | V22: 8 | W22: 9 | X22: 8 | Y22: 8 | Z22: 7 | AA22: 9 | AB22: 8 | AC22: 10 | AD22: 10 | AE22: 8 | AF22: 8 | AG22: 9 | AH22: 8 | AI22: 9 | AJ22: 8
C23: MEDIA | D23: =TRUNC(IFERROR(AVERAGE(D20:D22),"0"),2) -> 9.66 | E23: =TRUNC(IFERROR(AVERAGE(E20:E22),"0"),2) -> 8.33 | F23: =TRUNC(IFERROR(AVERAGE(F20:F22),"0"),2) -> 8 | G23: =TRUNC(IFERROR(AVERAGE(G20:G22),"0"),2) -> 8.33 | H23: =TRUNC(IFERROR(AVERAGE(H20:H22),"0"),2) -> 9 | I23: =TRUNC(IFERROR(AVERAGE(I20:I22),"0"),2) -> 0 | J23: =TRUNC(IFERROR(AVERAGE(J20:J22),"0"),2) -> 9 | K23: =TRUNC(IFERROR(AVERAGE(K20:K22),"0"),2) -> 7.66 | ... AJ23: =TRUNC(IFERROR(AVERAGE(AJ20:AJ22),"0"),2) -> 8.33
C24: PERSONALIDAD | D24: PERSONALIDAD
B25: - | C25: Capacidad de expresión oral: | D25: 9 | E25: 10 | F25: 7 | G25: 8 | H25: 10 | J25: 10 | K25: 7 | L25: 6 | M25: 9 | N25: 8 | O25: 8 | P25: 10 | Q25: 8 | R25: 9 | S25: 9 | T25: 10 | U25: 9 | V25: 8 | W25: 10 | X25: 8 | Y25: 9 | Z25: 8 | AA25: 9 | AB25: 8 | AC25: 9 | AD25: 10 | AE25: 8 | AF25: 8 | AG25: 9 | AH25: 9 | AI25: 8 | AJ25: 8
B26: - | C26: Ascendiente con sus compañeros: | D26: 10 | E26: 8 | F26: 7 | G26: 8 | H26: 10 | J26: 9 | K26: 8 | L26: 5 | M26: 10 | N26: 8 | O26: 7 | P26: 10 | Q26: 8 | R26: 9 | S26: 10 | T26: 10 | U26: 10 | V26: 9 | W26: 9 | X26: 8 | Y26: 8 | Z26: 8 | AA26: 9 | AB26: 9 | AC26: 10 | AD26: 10 | AE26: 7 | AF26: 9 | AG26: 10 | AH26: 8 | AI26: 8 | AJ26: 9
B27: - | C27: Madurez en sus actuaciones: | D27: 10 | E27: 7 | F27: 9 | G27: 8 | H27: 9 | J27: 8 | K27: 8 | L27: 6 | M27: 10 | N27: 10 | O27: 8 | P27: 10 | Q27: 9 | R27: 10 | S27: 10 | T27: 10 | U27: 10 | V27: 10 | W27: 9 | X27: 10 | Y27: 10 | Z27: 10 | AA27: 9 | AB27: 10 | AC27: 10 | AD27: 10 | AE27: 7 | AF27: 9 | AG27: 10 | AH27: 8 | AI27: 9 | AJ27: 9
B28: - | C28: Sociabilidad: | D28: 9 | E28: 10 | F28: 6 | G28: 8 | H28: 9 | J28: 10 | K28: 6 | L28: 6 | M28: 8 | N28: 7 | O28: 9 | P28: 10 | Q28: 8 | R28: 9 | S28: 10 | T28: 10 | U28: 10 | V28: 10 | W28: 10 | X28: 7 | Y28: 9 | Z28: 9 | AA28: 10 | AB28: 10 | AC28: 10 | AD28: 10 | AE28: 8 | AF28: 10 | AG28: 9 | AH28: 10 | AI28: 8 | AJ28: 9
B29: - | C29: Compañerismo, amistad y solidaridad: | D29: 10 | E29: 10 | F29: 9 | G29: 10 | H29: 10 | J29: 10 | K29: 9 | L29: 7 | M29: 10 | N29: 10 | O29: 9 | P29: 10 | Q29: 10 | R29: 10 | S29: 10 | T29: 10 | U29: 10 | V29: 10 | W29: 10 | X29: 10 | Y29: 10 | Z29: 10 | AA29: 10 | AB29: 10 | AC29: 10 | AD29: 10 | AE29: 7 | AF29: 10 | AG29: 10 | AH29: 9 | AI29: 10 | AJ29: 10
B30: - | C30: Condiciones de Líder: | D30: 10 | E30: 8 | F30: 6 | G30: 7 | H30: 10 | J30: 9 | K30: 6 | L30: 4 | M30: 9 | N30: 8 | O30: 6 | P30: 10 | Q30: 8 | R30: 9 | S30: 10 | T30: 10 | U30: 10 | V30: 8 | W30: 8 | X30: 7 | Y30: 9 | Z30: 8 | AA30: 10 | AB30: 9 | AC30: 9 | AD30: 10 | AE30: 7 | AF30: 7 | AG30: 9 | AH30: 8 | AI30: 8 | AJ30: 9
B31: - | C31: Iniciativa: | D31: 9 | E31: 9 | F31: 7 | G31: 9 | H31: 9 | J31: 9 | K31: 8 | L31: 6 | M31: 9 | N31: 9 | O31: 8 | P31: 9 | Q31: 9 | R31: 9 | S31: 9 | T31: 9 | U31: 9 | V31: 10 | W31: 9 | X31: 8 | Y31: 8 | Z31: 9 | AA31: 10 | AB31: 9 | AC31: 9 | AD31: 9 | AE31: 8 | AF31: 10 | AG31: 9 | AH31: 9 | AI31: 8 | AJ31: 9
B32: - | C32: Tacto y criterio: | D32: 10 | E32: 8 | F32: 9 | G32: 10 | H32: 10 | J32: 9 | K32: 9 | L32: 9 | M32: 9 | N32: 9 | O32: 7 | P32: 9 | Q32: 9 | R32: 9 | S32: 10 | T32: 10 | U32: 10 | V32: 9 | W32: 9 | X32: 9 | Y32: 9 | Z32: 9 | AA32: 8 | AB32: 9 | AC32: 10 | AD32: 9 | AE32: 7 | AF32: 9 | AG32: 9 | AH32: 8 | AI32: 9 | AJ32: 9
C33: MEDIA | D33: =TRUNC(IFERROR(AVERAGE(D25:D32),"0"),2) -> 9.62 | E33: =TRUNC(IFERROR(AVERAGE(E25:E32),"0"),2) -> 8.75 | F33: =TRUNC(IFERROR(AVERAGE(F25:F32),"0"),2) -> 7.5 | G33: =TRUNC(IFERROR(AVERAGE(G25:G32),"0"),2) -> 8.5 | H33: =TRUNC(IFERROR(AVERAGE(H25:H32),"0"),2) -> 9.62 | I33: =TRUNC(IFERROR(AVERAGE(I25:I32),"0"),2) -> 0 | J33: =TRUNC(IFERROR(AVERAGE(J25:J32),"0"),2) -> 9.25 | K33: =TRUNC(IFERROR(AVERAGE(K25:K32),"0"),2) -> 7.62 | ... AJ33: =TRUNC(IFERROR(AVERAGE(AJ25:AJ32),"0"),2) -> 9
C34: RESPONSABILIDAD | D34: RESPONSABILIDAD
