Workbook

Sheet ESCUADRA-CM
H2: CALIFICACIÓN PARA CURSO CAOR
C3: PERDIODO | D3: 1
D4: =DATOS!A2&" "&DATOS!A7 -> Aguilera, Pablo Alberto | E4: =DATOS!B2&" "&DATOS!B7 -> Bambach, Juan Paulo | F4: =DATOS!C2&" "&DATOS!C7 -> Benavente, Sergio | G4: =DATOS!D2&" "&DATOS!D7 -> Bolelli, Ignacio Octavio | H4: =DATOS!E2&" "&DATOS!E7 -> Correa, Cristóbal | I4: =DATOS!F2&" "&DATOS!F7 -> De la Cruz , Oscar Ernesto | J4: =DATOS!G2&" "&DATOS!G7 -> Del Favero, Andrés | K4: =DATOS!H2&" "&DATOS!H7 -> Espejo, Paula Macarena | ... AJ4: =DATOS!AG2&" "&DATOS!AG7 -> Wuth, Enrique Alejandro
C5: INSTRUCTIOR: (GRADO / NOMBRE) | D5: =DATOS!A1 -> Aguilera | E5: =DATOS!B1 -> Bambach | F5: =DATOS!C1 -> Benavente | G5: =DATOS!D1 -> Bolelli | H5: =DATOS!E1 -> Correa | I5: =DATOS!F1 -> De la Cruz | J5: =DATOS!G1 -> Del Favero | K5: =DATOS!H1 -> Espejo | L5: =DATOS!I1 -> Fuenzalida | M5: =DATOS!J1&" C" -> Ibáñez C | N5: =DATOS!K1&" G" -> Ibáñez G | O5: =DATOS!L1 -> Izquierdo | P5: =DATOS!M1 -> Jones | Q5: =DATOS!N1 -> Jorquera | R5: =DATOS!O1 -> Junge | S5: =DATOS!P1 -> Kinast | T5: =DATOS!Q1 -> Larraín | U5: =DATOS!R1 -> Leiva | V5: =DATOS!S1 -> Lopez | ... AB5: =DATOS!Y1 -> Santis | AC5: =DATOS!Z1&" F" -> Solari F | AD5: =DATOS!AA1&" B" -> Solari B | AE5: =DATOS!AB1 -> Urrutia | AF5: =DATOS!AC1 -> Valdes | AG5: =DATOS!AD1 -> Vallebona | AH5: =DATOS!AE1 -> Vidaurre | AI5: =DATOS!AF1 -> Wagner | AJ5: =DATOS!AG1 -> Wuth
C6: Edad | D6: =DATOS!A4 -> 45.550685 | E6: =DATOS!B4 -> 59.668493 | F6: =DATOS!C4 -> 62.673973 | G6: =DATOS!D4 -> 42.29863 | H6: =DATOS!E4 -> 44.10411 | I6: =DATOS!F4 -> 55.128767 | J6: =DATOS!G4 -> 42.109589 | K6: =DATOS!H4 -> 44.043836 | ... AJ6: =DATOS!AG4 -> 44.446575
C7: Empresa | D7: =DATOS!A5 -> Netafim Chile | E7: =DATOS!B5 -> Estudio Philippi | F7: =DATOS!C5 -> Bci Asset Management | G7: =DATOS!D5 -> MBC Abogados | H7: =DATOS!E5 -> Yamana Gold | I7: =DATOS!F5 -> AAK Abogados | J7: =DATOS!G5 -> Lavin Abogados & Consultores | K7: =DATOS!H5 -> Boldtalk Spa | ... AJ7: =DATOS!AG5 -> Constructora WL
C8: Cargo | D8: =DATOS!A6 -> Agente Zonal Sexta Región | E8: =DATOS!B6 -> Abogado | F8: =DATOS!C6 -> Gerente de Riesgo | G8: =DATOS!D6 -> Socio | H8: =DATOS!E6 -> Director Legal | I8: =DATOS!F6 -> Socio | J8: =DATOS!G6 -> Socio | K8: =DATOS!H6 -> Fundadora | ... AJ8: =DATOS!AG6 -> Socio
D10: Las notas serán hechas de 1 a 10 (sin decimales), donde la nota mínima de aprobación será un 6.
C11: MANDO | D11: MANDO
B12: - | C12: Ejemplo que inspira con sus actuaciones: | D12: 9 | E12: 6 | F12: 6 | G12: 6 | H12: 8 | J12: 7 | K12: 7 | L12: 5 | M12: 10 | N12: 7 | O12: 6 | P12: 7 | Q12: 7 | R12: 8 | S12: 9 | T12: 10 | U12: 9 | V12: 9 | W12: 8 | X12: 8 | Y12: 8 | Z12: 8 | AA12: 8 | AB12: 8 | AC12: 9 | AD12: 7 | AE12: 6 | AF12: 9 | AG12: 8 | AH12: 7 | AI12: 7 | AJ12: 7
B13: - | C13: Carácter: | D13: 7 | E13: 7 | F13: 6 | G13: 7 | H13: 9 | J13: 8 | K13: 6 | L13: 5 | M13: 8 | N13: 7 | O13: 6 | P13: 9 | Q13: 7 | R13: 8 | S13: 9 | T13: 9 | U13: 10 | V13: 8 | W13: 7 | X13: 7 | Y13: 8 | Z13: 8 | AA13: 9 | AB13: 8 | AC13: 8 | AD13: 7 | AE13: 6 | AF13: 9 | AG13: 10 | AH13: 7 | AI13: 7 | AJ13: 8
B14: - | C14: Capacidad para aceptar críticas a su actuación | D14: 10 | E14: 7 | F14: 9 | G14: 9 | H14: 9 | J14: 7 | K14: 7 | L14: 5 | M14: 9 | N14: 7 | O14: 6 | P14: 9 | Q14: 9 | R14: 7 | S14: 9 | T14: 9 | U14: 10 | V14: 9 | W14: 9 | X14: 8 | Y14: 10 | Z14: 7 | AA14: 9 | AB14: 8 | AC14: 8 | AD14: 7 | AE14: 6 | AF14: 10 | AG14: 8 | AH14: 6 | AI14: 9 | AJ14: 9
B15: - | C15: Lealtad: | D15: 9 | E15: 8 | F15: 9 | G15: 8 | H15: 9 | J15: 8 | K15: 8 | L15: 5 | M15: 9 | N15: 8 | O15: 8 | P15: 9 | Q15: 9 | R15: 8 | S15: 10 | T15: 10 | U15: 8 | V15: 10 | W15: 7 | X15: 9 | Y15: 10 | Z15: 8 | AA15: 9 | AB15: 9 | AC15: 9 | AD15: 9 | AE15: 8 | AF15: 10 | AG15: 9 | AH15: 8 | AI15: 9 | AJ15: 9
B16: - | C16: Fortaleza: | D16: 9 | E16: 7 | F16: 9 | G16: 9 | H16: 9 | J16: 7 | K16: 6 | L16: 5 | M16: 9 | N16: 7 | O16: 7 | P16: 9 | Q16: 8 | R16: 8 | S16: 9 | T16: 10 | U16: 10 | V16: 8 | W16: 8 | X16: 9 | Y16: 9 | Z16: 7 | AA16: 9 | AB16: 8 | AC16: 9 | AD16: 8 | AE16: 6 | AF16: 9 | AG16: 9 | AH16: 7 | AI16: 8 | AJ16: 9
B17: - | C17: Prudencia: | D17: 10 | E17: 7 | F17: 9 | G17: 9 | H17: 9 | J17: 7 | K17: 8 | L17: 5 | M17: 10 | N17: 9 | O17: 6 | P17: 8 | Q17: 9 | R17: 8 | S17: 10 | T17: 9 | U17: 9 | V17: 10 | W17: 9 | X17: 10 | Y17: 9 | Z17: 8 | AA17: 8 | AB17: 8 | AC17: 9 | AD17: 8 | AE17: 7 | AF17: 10 | AG17: 9 | AH17: 7 | AI17: 9 | AJ17: 9
C18: MEDIA | D18: =TRUNC(IFERROR(AVERAGE(D12:D17),"0"),2) -> 9 | E18: =TRUNC(IFERROR(AVERAGE(E12:E17),"0"),2) -> 7 | F18: =TRUNC(IFERROR(AVERAGE(F12:F17),"0"),2) -> 8 | G18: =TRUNC(IFERROR(AVERAGE(G12:G17),"0"),2) -> 8 | H18: =TRUNC(IFERROR(AVERAGE(H12:H17),"0"),2) -> 8.83 | I18: =TRUNC(IFERROR(AVERAGE(I12:I17),"0"),2) -> 0 | J18: =TRUNC(IFERROR(AVERAGE(J12:J17),"0"),2) -> 7.33 | K18: =TRUNC(IFERROR(AVERAGE(K12:K17),"0"),2) -> 7 | ... AJ18: =TRUNC(IFERROR(AVERAGE(AJ12:AJ17),"0"),2) -> 8.5
C19: INTERÉS PROFESIONAL | D19: INTERÉS PROFESIONAL
B20: - | C20: Conocimiento sobre la carrera y sus tradiciones: | D20: 8 | E20: 6 | F20: 6 | G20: 6 | H20: 7 | J20: 7 | K20: 6 | L20: 6 | M20: 7 | N20: 7 | O20: 6 | P20: 7 | Q20: 7 | R20: 7 | S20: 8 | T20: 8 | U20: 8 | V20: 8 | W20: 7 | X20: 8 | Y20: 8 | Z20: 7 | AA20: 8 | AB20: 8 | AC20: 9 | AD20: 8 | AE20: 7 | AF20: 8 | AG20: 7 | AH20: 7 | AI20: 7 | AJ20: 6
B21: - | C21: Espíritu Profesional: | D21: 8 | E21: 6 | F21: 7 | G21: 6 | H21: 9 | J21: 7 | K21: 7 | L21: 5 | M21: 9 | N21: 7 | O21: 7 | P21: 8 | Q21: 8 | R21: 8 | S21: 9 | T21: 10 | U21: 10 | V21: 10 | W21: 8 | X21: 8 | Y21: 9 | Z21: 8 | AA21: 8 | AB21: 8 | AC21: 9 | AD21: 9 | AE21: 6 | AF21: 10 | AG21: 9 | AH21: 8 | AI21: 8 | AJ21: 7
B22: - | C22: Rendimiento en actividades profesionales: | D22: 8 | E22: 6 | F22: 9 | G22: 8 | H22: 8 | J22: 8 | K22: 7 | L22: 6 | M22: 10 | N22: 7 | O22: 7 | P22: 8 | Q22: 7 | R22: 9 | S22: 9 | T22: 10 | U22: 10 | V22: 8 | W22: 8 | X22: 9 | Y22: 7 | Z22: 8 | AA22: 6 | AC22: 10 | AD22: 10 | AE22: 8 | AF22: 8 | AG22: 9 | AH22: 9 | AI22: 8 | AJ22: 6
C23: MEDIA | D23: =TRUNC(IFERROR(AVERAGE(D20:D22),"0"),2) -> 8 | E23: =TRUNC(IFERROR(AVERAGE(E20:E22),"0"),2) -> 6 | F23: =TRUNC(IFERROR(AVERAGE(F20:F22),"0"),2) -> 7.33 | G23: =TRUNC(IFERROR(AVERAGE(G20:G22),"0"),2) -> 6.66 | H23: =TRUNC(IFERROR(AVERAGE(H20:H22),"0"),2) -> 8 | I23: =TRUNC(IFERROR(AVERAGE(I20:I22),"0"),2) -> 0 | J23: =TRUNC(IFERROR(AVERAGE(J20:J22),"0"),2) -> 7.33 | K23: =TRUNC(IFERROR(AVERAGE(K20:K22),"0"),2) -> 6.66 | ... AJ23: =TRUNC(IFERROR(AVERAGE(AJ20:AJ22),"0"),2) -> 6.33
C24: PERSONALIDAD | D24: PERSONALIDAD
B25: - | C25: Capacidad de expresión oral: | D25: 9 | E25: 9 | F25: 8 | G25: 8 | H25: 9 | J25: 8 | K25: 8 | L25: 6 | M25: 9 | N25: 8 | O25: 8 | P25: 8 | Q25: 8 | R25: 9 | S25: 8 | T25: 8 | U25: 9 | V25: 9 | W25: 9 | X25: 8 | Y25: 8 | Z25: 8 | AA25: 8 | AB25: 8 | AC25: 9 | AD25: 8 | AE25: 7 | AF25: 10 | AG25: 8 | AH25: 8 | AI25: 8 | AJ25: 8
B26: - | C26: Ascendiente con sus compañeros: | D26: 9 | E26: 7 | F26: 7 | G26: 7 | H26: 8 | J26: 7 | K26: 7 | L26: 5 | M26: 8 | N26: 7 | O26: 7 | P26: 8 | Q26: 7 | R26: 8 | S26: 9 | T26: 9 | U26: 9 | V26: 10 | W26: 8 | X26: 8 | Y26: 8 | Z26: 8 | AA26: 9 | AB26: 8 | AC26: 8 | AD26: 8 | AE26: 6 | AF26: 10 | AG26: 9 | AH26: 7 | AI26: 7 | AJ26: 7
B27: - | C27: Madurez en sus actuaciones: | D27: 9 | E27: 7 | F27: 9 | G27: 8 | H27: 9 | J27: 7 | K27: 8 | L27: 5 | M27: 10 | N27: 8 | O27: 7 | P27: 9 | Q27: 8 | R27: 8 | S27: 9 | T27: 9 | U27: 8 | V27: 10 | W27: 8 | X27: 9 | Y27: 8 | Z27: 8 | AA27: 8 | AB27: 8 | AC27: 8 | AD27: 7 | AE27: 6 | AF27: 9 | AG27: 9 | AH27: 7 | AI27: 9 | AJ27: 8
B28: - | C28: Sociabilidad: | D28: 9 | E28: 8 | F28: 8 | G28: 7 | H28: 9 | J28: 8 | K28: 8 | L28: 6 | M28: 9 | N28: 8 | O28: 8 | P28: 9 | Q28: 8 | R28: 8 | S28: 9 | T28: 9 | U28: 9 | V28: 10 | W28: 9 | X28: 8 | Y28: 8 | Z28: 8 | AA28: 9 | AB28: 7 | AC28: 9 | AD28: 9 | AE28: 8 | AF28: 9 | AG28: 9 | AH28: 8 | AI28: 8 | AJ28: 8
B29: - | C29: Compañerismo, amistad y solidaridad: | D29: 9 | E29: 8 | F29: 8 | G29: 7 | H29: 8 | J29: 8 | K29: 8 | L29: 6 | M29: 9 | N29: 9 | O29: 8 | P29: 9 | Q29: 8 | R29: 8 | S29: 9 | T29: 10 | U29: 10 | V29: 10 | W29: 9 | X29: 8 | Y29: 8 | Z29: 8 | AA29: 10 | AB29: 8 | AC29: 9 | AD29: 9 | AE29: 8 | AF29: 10 | AG29: 8 | AH29: 8 | AI29: 8 | AJ29: 8
B30: - | C30: Condiciones de Líder: | D30: 8 | E30: 7 | F30: 6 | G30: 6 | H30: 8 | J30: 7 | K30: 6 | L30: 4 | M30: 8 | N30: 7 | O30: 7 | P30: 8 | Q30: 7 | R30: 7 | S30: 9 | T30: 8 | U30: 8 | V30: 8 | W30: 7 | X30: 7 | Y30: 7 | Z30: 7 | AA30: 8 | AB30: 8 | AC30: 8 | AD30: 8 | AE30: 6 | AF30: 8 | AG30: 7 | AH30: 7 | AI30: 7 | AJ30: 8
B31: - | C31: Iniciativa: | D31: 9 | E31: 6 | F31: 6 | G31: 6 | H31: 8 | J31: 7 | K31: 7 | L31: 4 | M31: 9 | N31: 8 | O31: 7 | P31: 7 | Q31: 7 | R31: 8 | S31: 8 | T31: 9 | U31: 9 | V31: 10 | W31: 8 | X31: 7 | Y31: 9 | Z31: 7 | AA31: 10 | AB31: 7 | AC31: 8 | AD31: 9 | AE31: 6 | AF31: 10 | AG31: 7 | AH31: 7 | AI31: 7 | AJ31: 7
B32: - | C32: Tacto y criterio: | D32: 9 | E32: 7 | F32: 8 | G32: 8 | H32: 8 | J32: 7 | K32: 8 | L32: 4 | M32: 9 | N32: 9 | O32: 6 | P32: 8 | Q32: 8 | R32: 8 | S32: 9 | T32: 9 | U32: 8 | V32: 9 | W32: 8 | X32: 9 | Y32: 9 | Z32: 8 | AA32: 9 | AB32: 8 | AC32: 8 | AD32: 7 | AE32: 6 | AF32: 9 | AG32: 8 | AH32: 7 | AI32: 9 | AJ32: 8
C33: MEDIA | D33: =TRUNC(IFERROR(AVERAGE(D25:D32),"0"),2) -> 8.87 | E33: =TRUNC(IFERROR(AVERAGE(E25:E32),"0"),2) -> 7.37 | F33: =TRUNC(IFERROR(AVERAGE(F25:F32),"0"),2) -> 7.5 | G33: =TRUNC(IFERROR(AVERAGE(G25:G32),"0"),2) -> 7.12 | H33: =TRUNC(IFERROR(AVERAGE(H25:H32),"0"),2) -> 8.37 | I33: =TRUNC(IFERROR(AVERAGE(I25:I32),"0"),2) -> 0 | J33: =TRUNC(IFERROR(AVERAGE(J25:J32),"0"),2) -> 7.37 | K33: =TRUNC(IFERROR(AVERAGE(K25:K32),"0"),2) -> 7.5 | ... AJ33: =TRUNC(IFERROR(AVERAGE(AJ25:AJ32),"0"),2) -> 7.75
C34: RESPONSABILIDAD | D34: RESPONSABILIDAD
B35: - | C35: Espíritu de superación: | D35: 9 | E35: 6 | F35: 8 | G35: 8 | H35: 8 | J35: 8 | K35: 8 | L35: 4 | M35: 10 | N35: 7 | O35: 7 | P35: 8 | Q35: 8 | R35: 8 | S35: 9 | T35: 9 | U35: 9 | V35: 10 | W35: 9 | X35: 8 | Y35: 10 | Z35: 8 | AA35: 8 | AB35: 8 | AC35: 9 | AD35: 8 | AE35: 7 | AF35: 9 | AG35: 9 | AH35: 8 | AI35: 8 | AJ35: 7
B36: - | C36: Capacidad para organizarse: | D36: 8 | E36: 6 | F36: 9 | G36: 7 | H36: 8 | J36: 8 | K36: 7 | L36: 5 | M36: 10 | N36: 8 | O36: 7 | P36: 8 | Q36: 8 | R36: 8 | S36: 8 | T36: 10 | U36: 10 | V36: 9 | W36: 7 | X36: 9 | Y36: 9 | Z36: 8 | AA36: 10 | AB36: 9 | AC36: 8 | AD36: 9 | AE36: 7 | AF36: 8 | AG36: 9 | AH36: 9 | AI36: 9 | AJ36: 7
B37: - | C37: Capacidad para asumir responsabilidades: | D37: 10 | E37: 7 | F37: 8 | G37: 8 | H37: 8 | J37: 8 | K37: 7 | L37: 5 | M37: 9 | N37: 8 | O37: 7 | P37: 8 | Q37: 8 | R37: 8 | S37: 9 | T37: 10 | U37: 10 | V37: 9 | W37: 7 | X37: 8 | Y37: 9 | Z37: 8 | AA37: 10 | AB37: 9 | AC37: 8 | AD37: 9 | AE37: 6 | AF37: 9 | AG37: 8 | AH37: 8 | AI37: 9 | AJ37: 8
B38: - | C38: Necesidad de control: | D38: 10 | E38: 7 | F38: 9 | G38: 8 | H38: 8 | J38: 7 | K38: 8 | L38: 5 | M38: 10 | N38: 8 | O38: 6 | P38: 8 | Q38: 8 | R38: 8 | S38: 9 | T38: 9 | U38: 9 | V38: 9 | W38: 8 | X38: 9 | Y38: 9 | Z38: 7 | AA38: 9 | AB38: 8 | AC38: 9 | AD38: 7 | AE38: 6 | AF38: 10 | AG38: 9 | AH38: 7 | AI38: 9 | AJ38: 9
B39: - | C39: Puntualidad: | D39: 10 | E39: 8 | F39: 10 | G39: 8 | H39: 9 | J39: 8 | K39: 8 | L39: 8 | M39: 10 | N39: 8 | O39: 8 | P39: 8 | Q39: 8 | R39: 9 | S39: 9 | T39: 10 | U39: 10 | V39: 10 | W39: 8 | X39: 9 | Y39: 9 | Z39: 8 | AA39: 10 | AB39: 9 | AC39: 9 | AD39: 9 | AE39: 7 | AF39: 10 | AG39: 9 | AH39: 9 | AI39: 9 | AJ39: 9
B40: - | C40: Tenacidad y constancia: | D40: 9 | E40: 6 | F40: 7 | G40: 8 | H40: 9 | J40: 7 | K40: 7 | L40: 5 | M40: 10 | N40: 7 | O40: 7 | P40: 8 | Q40: 8 | R40: 9 | S40: 9 | T40: 10 | U40: 10 | V40: 10 | W40: 8 | X40: 9 | Y40: 9 | Z40: 8 | AA40: 10 | AB40: 9 | AC40: 9 | AD40: 9 | AE40: 6 | AF40: 9 | AG40: 9 | AH40: 8 | AI40: 8 | AJ40: 7
C41: MEDIA | D41: =TRUNC(IFERROR(AVERAGE(D35:D40),"0"),2) -> 9.33 | E41: =TRUNC(IFERROR(AVERAGE(E35:E40),"0"),2) -> 6.66 | F41: =TRUNC(IFERROR(AVERAGE(F35:F40),"0"),2) -> 8.5 | G41: =TRUNC(IFERROR(AVERAGE(G35:G40),"0"),2) -> 7.83 | H41: =TRUNC(IFERROR(AVERAGE(H35:H40),"0"),2) -> 8.33 | I41: =TRUNC(IFERROR(AVERAGE(I35:I40),"0"),2) -> 0 | J41: =TRUNC(IFERROR(AVERAGE(J35:J40),"0"),2) -> 7.66 | K41: =TRUNC(IFERROR(AVERAGE(K35:K40),"0"),2) -> 7.5 | ... AJ41: =TRUNC(IFERROR(AVERAGE(AJ35:AJ40),"0"),2) -> 7.83
C42: ESPÍRITU MILITAR | D42: ESPÍRITU MILITAR
B43: - | C43: Cumplimiento del deber: | D43: 10 | E43: 7 | F43: 7 | G43: 7 | H43: 9 | J43: 8 | K43: 7 | L43: 5 | M43: 10 | N43: 8 | O43: 8 | P43: 8 | Q43: 8 | R43: 8 | S43: 10 | T43: 9 | U43: 9 | V43: 9 | W43: 9 | X43: 9 | Y43: 9 | Z43: 8 | AA43: 9 | AB43: 9 | AC43: 8 | AD43: 8 | AE43: 7 | AF43: 9 | AG43: 9 | AH43: 8 | AI43: 9 | AJ43: 7
B44: - | C44: Abnegación: | D44: 8 | E44: 6 | F44: 7 | G44: 8 | H44: 9 | J44: 8 | K44: 7 | L44: 5 | M44: 10 | N44: 7 | O44: 7 | P44: 8 | Q44: 9 | R44: 8 | S44: 10 | T44: 10 | U44: 10 | V44: 10 | W44: 9 | X44: 9 | Y44: 9 | Z44: 8 | AA44: 9 | AB44: 8 | AC44: 9 | AD44: 9 | AE44: 6 | AF44: 10 | AG44: 9 | AH44: 7 | AI44: 8 | AJ44: 7
B45: - | C45: Respeto hacia sus superiores: | D45: 10 | E45: 9 | F45: 9 | G45: 9 | H45: 9 | J45: 7 | K45: 9 | L45: 6 | M45: 10 | N45: 9 | O45: 7 | P45: 9 | Q45: 9 | R45: 9 | S45: 10 | T45: 10 | U45: 10 | V45: 10 | W45: 8 | X45: 9 | Y45: 10 | Z45: 8 | AA45: 10 | AB45: 8 | AC45: 9 | AD45: 8 | AE45: 9 | AF45: 10 | AG45: 10 | AH45: 6 | AI45: 9 | AJ45: 9
B46: - | C46: Lealtad y franqueza con sus superiores | D46: 9 | E46: 8 | F46: 10 | G46: 10 | H46: 9 | J46: 9 | K46: 8 | L46: 5 | M46: 9 | N46: 9 | O46: 7 | P46: 9 | Q46: 9 | R46: 8 | S46: 10 | T46: 9 | U46: 8 | V46: 10 | W46: 8 | X46: 9 | Y46: 10 | Z46: 8 | AA46: 6 | AB46: 8 | AC46: 9 | AD46: 9 | AE46: 8 | AF46: 10 | AG46: 10 | AH46: 7 | AI46: 9 | AJ46: 9
B47: - | C47: Prestancia militar: | D47: 10 | E47: 7 | F47: 6 | G47: 7 | H47: 9 | J47: 8 | K47: 8 | L47: 4 | M47: 9 | N47: 8 | O47: 7 | P47: 8 | Q47: 8 | R47: 8 | S47: 8 | T47: 9 | U47: 9 | V47: 7 | W47: 8 | X47: 9 | Y47: 8 | Z47: 9 | AA47: 7 | AB47: 9 | AC47: 9 | AD47: 9 | AE47: 7 | AF47: 8 | AG47: 9 | AH47: 8 | AI47: 8 | AJ47: 9
C48: MEDIA | D48: =TRUNC(IFERROR(AVERAGE(D43:D47),"0"),2) -> 9.4 | E48: =TRUNC(IFERROR(AVERAGE(E43:E47),"0"),2) -> 7.4 | F48: =TRUNC(IFERROR(AVERAGE(F43:F47),"0"),2) -> 7.8 | G48: =TRUNC(IFERROR(AVERAGE(G43:G47),"0"),2) -> 8.2 | H48: =TRUNC(IFERROR(AVERAGE(H43:H47),"0"),2) -> 9 | I48: =TRUNC(IFERROR(AVERAGE(I43:I47),"0"),2) -> 0 | J48: =TRUNC(IFERROR(AVERAGE(J43:J47),"0"),2) -> 8 | K48: =TRUNC(IFERROR(AVERAGE(K43:K47),"0"),2) -> 7.8 | ... AJ48: =TRUNC(IFERROR(AVERAGE(AJ43:AJ47),"0"),2) -> 8.2
C49: COOPERACIÓN | D49: COOPERACIÓN
B50: - | C50: Espíritu de cooperación: | D50: 10 | E50: 7 | F50: 7 | G50: 7 | H50: 9 | J50: 8 | K50: 8 | L50: 6 | M50: 10 | N50: 8 | O50: 7 | P50: 8 | Q50: 8 | R50: 8 | S50: 9 | T50: 10 | U50: 10 | V50: 10 | W50: 8 | X50: 8 | Y50: 9 | Z50: 8 | AA50: 10 | AB50: 8 | AC50: 9 | AD50: 10 | AE50: 7 | AF50: 10 | AG50: 9 | AH50: 8 | AI50: 8 | AJ50: 8
B51: - | C51: Actitud en sus actuaciones: | D51: 10 | E51: 7 | F51: 8 | G51: 7 | H51: 9 | J51: 7 | K51: 8 | L51: 4 | M51: 10 | N51: 8 | O51: 7 | P51: 9 | Q51: 9 | R51: 8 | S51: 9 | T51: 9 | U51: 9 | V51: 9 | W51: 9 | X51: 9 | Y51: 9 | Z51: 8 | AA51: 9 | AB51: 8 | AC51: 9 | AD51: 8 | AE51: 6 | AF51: 9 | AG51: 9 | AH51: 7 | AI51: 9 | AJ51: 9
B52: - | C52: Participación extra o voluntaria: | D52: 9 | E52: 6 | F52: 6 | G52: 7 | H52: 8 | J52: 8 | K52: 7 | L52: 6 | M52: 9 | N52: 8 | O52: 7 | P52: 8 | Q52: 8 | R52: 8 | S52: 8 | T52: 10 | U52: 10 | V52: 9 | W52: 8 | X52: 8 | Y52: 9 | Z52: 8 | AA52: 10 | AB52: 9 | AC52: 9 | AD52: 9 | AE52: 6 | AF52: 10 | AG52: 8 | AH52: 7 | AI52: 7 | AJ52: 7
B53: - | C53: Espíritu de cuerpo: | D53: 10 | E53: 7 | F53: 7 | G53: 7 | H53: 8 | J53: 8 | K53: 7 | L53: 5 | M53: 10 | N53: 8 | O53: 7 | P53: 9 | Q53: 8 | R53: 8 | S53: 9 | T53: 9 | U53: 10 | V53: 10 | W53: 9 | X53: 8 | Y53: 9 | Z53: 8 | AA53: 10 | AB53: 9 | AC53: 9 | AD53: 9 | AE53: 7 | AF53: 9 | AG53: 9 | AH53: 8 | AI53: 8 | AJ53: 8
C54: MEDIA | D54: =TRUNC(IFERROR(AVERAGE(D50:D53),"0"),2) -> 9.75 | E54: =TRUNC(IFERROR(AVERAGE(E50:E53),"0"),2) -> 6.75 | F54: =TRUNC(IFERROR(AVERAGE(F50:F53),"0"),2) -> 7 | G54: =TRUNC(IFERROR(AVERAGE(G50:G53),"0"),2) -> 7 | H54: =TRUNC(IFERROR(AVERAGE(H50:H53),"0"),2) -> 8.5 | I54: =TRUNC(IFERROR(AVERAGE(I50:I53),"0"),2) -> 0 | J54: =TRUNC(IFERROR(AVERAGE(J50:J53),"0"),2) -> 7.75 | K54: =TRUNC(IFERROR(AVERAGE(K50:K53),"0"),2) -> 7.5 | ... AJ54: =TRUNC(IFERROR(AVERAGE(AJ50:AJ53),"0"),2) -> 8
C55: CONDUCTA | D55: CONDUCTA
B56: - | C56: Comportamiento social: | D56: 9 | E56: 8 | F56: 9 | G56: 9 | H56: 9 | J56: 8 | K56: 8 | L56: 6 | M56: 10 | N56: 9 | O56: 9 | P56: 9 | Q56: 9 | R56: 9 | S56: 9 | T56: 9 | U56: 10 | V56: 10 | W56: 10 | X56: 9 | Y56: 9 | Z56: 9 | AA56: 9 | AB56: 8 | AC56: 9 | AD56: 9 | AE56: 9 | AF56: 10 | AG56: 10 | AH56: 8 | AI56: 9 | AJ56: 9
B57: - | C57: Cortesía: | D57: 10 | E57: 9 | F57: 10 | G57: 9 | H57: 9 | J57: 8 | K57: 8 | L57: 6 | M57: 10 | N57: 8 | O57: 8 | P57: 9 | Q57: 9 | R57: 9 | S57: 9 | T57: 9 | U57: 10 | V57: 10 | W57: 10 | X57: 9 | Y57: 9 | Z57: 8 | AA57: 9 | AB57: 8 | AC57: 9 | AD57: 9 | AE57: 9 | AF57: 10 | AG57: 10 | AH57: 7 | AI57: 9 | AJ57: 9
B58: - | C58: Dominio de si mismo: | D58: 9 | E58: 8 | F58: 10 | G58: 9 | H58: 9 | J58: 8 | K58: 8 | L58: 6 | M58: 10 | N58: 8 | O58: 8 | P58: 9 | Q58: 9 | R58: 8 | S58: 8 | T58: 9 | U58: 10 | V58: 10 | W58: 8 | X58: 10 | Y58: 9 | Z58: 8 | AA58: 9 | AB58: 8 | AC58: 9 | AD58: 7 | AE58: 7 | AF58: 10 | AG58: 10 | AH58: 7 | AI58: 9 | AJ58: 9
B59: - | C59: Actitud al régimen de la Escuela: | D59: 10 | E59: 7 | F59: 8 | G59: 8 | H59: 9 | J59: 8 | K59: 7 | L59: 4 | M59: 10 | N59: 8 | O59: 8 | P59: 9 | Q59: 8 | R59: 8 | S59: 10 | T59: 10 | U59: 10 | V59: 8 | W59: 8 | X59: 9 | Y59: 8 | Z59: 8 | AA59: 8 | AB59: 9 | AC59: 9 | AD59: 9 | AE59: 6 | AF59: 8 | AG59: 8 | AH59: 8 | AI59: 8 | AJ59: 9
B60: - | C60: Comportamiento, actitud y predisposición en clases: | D60: 8 | E60: 7 | F60: 10 | G60: 9 | H60: 9 | J60: 9 | K60: 8 | L60: 7 | M60: 10 | N60: 8 | O60: 8 | P60: 9 | Q60: 7 | R60: 9 | S60: 10 | T60: 10 | U60: 10 | V60: 9 | W60: 9 | X60: 9 | Y60: 9 | Z60: 8 | AA60: 7 | AB60: 8 | AC60: 8 | AD60: 9 | AE60: 8 | AF60: 8 | AG60: 8 | AH60: 8 | AI60: 9 | AJ60: 7
B61: - | C61: Templanza: | D61: 9 | E61: 7 | F61: 7 | G61: 9 | H61: 9 | J61: 7 | K61: 7 | L61: 6 | M61: 10 | N61: 8 | O61: 7 | P61: 9 | Q61: 8 | R61: 8 | S61: 10 | T61: 10 | U61: 10 | V61: 8 | W61: 8 | X61: 9 | Y61: 9 | Z61: 8 | AA61: 9 | AB61: 9 | AC61: 8 | AD61: 8 | AE61: 6 | AF61: 9 | AG61: 9 | AH61: 7 | AI61: 9 | AJ61: 9
C62: MEDIA | D62: =TRUNC(IFERROR(AVERAGE(D56:D61),"0"),2) -> 9.16 | E62: =TRUNC(IFERROR(AVERAGE(E56:E61),"0"),2) -> 7.66 | F62: =TRUNC(IFERROR(AVERAGE(F56:F61),"0"),2) -> 9 | G62: =TRUNC(IFERROR(AVERAGE(G56:G61),"0"),2) -> 8.83 | H62: =TRUNC(IFERROR(AVERAGE(H56:H61),"0"),2) -> 9 | I62: =TRUNC(IFERROR(AVERAGE(I56:I61),"0"),2) -> 0 | J62: =TRUNC(IFERROR(AVERAGE(J56:J61),"0"),2) -> 8 | K62: =TRUNC(IFERROR(AVERAGE(K56:K61),"0"),2) -> 7.66 | ... AJ62: =TRUNC(IFERROR(AVERAGE(AJ56:AJ61),"0"),2) -> 8.66
C63: APTITUD FÍSICA
B64: - | C64: Interés por participar en actividades deportivas: | D64: 9 | E64: 7 | F64: 10 | G64: 8 | H64: 8 | J64: 8 | K64: 8 | L64: 7 | M64: 8 | N64: 8 | O64: 8 | P64: 8 | Q64: 8 | R64: 8 | S64: 8 | T64: 8 | U64: 8 | V64: 8 | W64: 8 | X64: 8 | Y64: 8 | Z64: 8 | AA64: 8 | AB64: 9 | AC64: 9 | AD64: 8 | AE64: 4 | AF64: 8 | AG64: 8 | AH64: 8 | AI64: 8 | AJ64: 10
C65: MEDIA | D65: =TRUNC(IFERROR(AVERAGE(D64),"0"),2) -> 9 | E65: =TRUNC(IFERROR(AVERAGE(E64),"0"),2) -> 7 | F65: =TRUNC(IFERROR(AVERAGE(F64),"0"),2) -> 10 | G65: =TRUNC(IFERROR(AVERAGE(G64),"0"),2) -> 8 | H65: =TRUNC(IFERROR(AVERAGE(H64),"0"),2) -> 8 | I65: =TRUNC(IFERROR(AVERAGE(I64),"0"),2) -> 0 | J65: =TRUNC(IFERROR(AVERAGE(J64),"0"),2) -> 8 | K65: =TRUNC(IFERROR(AVERAGE(K64),"0"),2) -> 8 | ... AJ65: =TRUNC(IFERROR(AVERAGE(AJ64),"0"),2) -> 10
C66: TENIDA, ORDEN Y ASEO | D66: TENIDA, ORDEN Y ASEO
B67: - | C67: Cuidado con su equipo personal: | D67: 9 | E67: 8 | F67: 9 | G67: 9 | H67: 8 | J67: 8 | K67: 9 | L67: 8 | M67: 10 | N67: 10 | O67: 10 | P67: 9 | Q67: 9 | R67: 9 | S67: 9 | T67: 10 | U67: 10 | V67: 8 | W67: 8 | X67: 9 | Y67: 9 | Z67: 9 | AA67: 9 | AB67: 8 | AC67: 9 | AD67: 9 | AE67: 9 | AF67: 9 | AG67: 9 | AH67: 9 | AI67: 9 | AJ67: 9
B68: - | C68: Presentación y aseo personal: | D68: 10 | E68: 10 | F68: 10 | G68: 10 | H68: 10 | J68: 10 | K68: 9 | L68: 7 | M68: 10 | N68: 10 | O68: 10 | P68: 10 | Q68: 10 | R68: 10 | S68: 10 | T68: 10 | U68: 10 | V68: 9 | W68: 9 | X68: 10 | Y68: 10 | Z68: 10 | AA68: 10 | AB68: 9 | AC68: 10 | AD68: 10 | AE68: 10 | AF68: 10 | AG68: 10 | AH68: 10 | AI68: 10 | AJ68: 10
B69: - | C69: Orden con sus elementos personales: | D69: 9 | E69: 8 | F69: 9 | G69: 9 | H69: 9 | J69: 8 | K69: 9 | L69: 7 | M69: 10 | N69: 10 | O69: 10 | P69: 9 | Q69: 9 | R69: 10 | S69: 10 | T69: 10 | U69: 10 | V69: 9 | W69: 9 | X69: 9 | Y69: 9 | Z69: 9 | AA69: 10 | AB69: 9 | AC69: 9 | AD69: 9 | AE69: 9 | AF69: 9 | AG69: 9 | AH69: 9 | AI69: 9 | AJ69: 9
C70: MEDIA | D70: =TRUNC(IFERROR(AVERAGE(D67:D69),"0"),2) -> 9.33 | E70: =TRUNC(IFERROR(AVERAGE(E67:E69),"0"),2) -> 8.66 | F70: =TRUNC(IFERROR(AVERAGE(F67:F69),"0"),2) -> 9.33 | G70: =TRUNC(IFERROR(AVERAGE(G67:G69),"0"),2) -> 9.33 | H70: =TRUNC(IFERROR(AVERAGE(H67:H69),"0"),2) -> 9 | I70: =TRUNC(IFERROR(AVERAGE(I67:I69),"0"),2) -> 0 | J70: =TRUNC(IFERROR(AVERAGE(J67:J69),"0"),2) -> 8.66 | K70: =TRUNC(IFERROR(AVERAGE(K67:K69),"0"),2) -> 9 | ... AJ70: =TRUNC(IFERROR(AVERAGE(AJ67:AJ69),"0"),2) -> 9.33
C71: NOTA MEDIA FINAL | D71: =TRUNC(IFERROR(AVERAGE(D70,D65,D62,D54,D48,D41,D33,D23,D18),"0"),2) -> 9.09 | E71: =TRUNC(IFERROR(AVERAGE(E70,E65,E62,E54,E48,E41,E33,E23,E18),"0"),2) -> 7.16 | F71: =TRUNC(IFERROR(AVERAGE(F70,F65,F62,F54,F48,F41,F33,F23,F18),"0"),2) -> 8.27 | G71: =TRUNC(IFERROR(AVERAGE(G70,G65,G62,G54,G48,G41,G33,G23,G18),"0"),2) -> 7.88 | H71: =TRUNC(IFERROR(AVERAGE(H70,H65,H62,H54,H48,H41,H33,H23,H18),"0"),2) -> 8.55 | I71: =TRUNC(IFERROR(AVERAGE(I70,I65,I62,I54,I48,I41,I33,I23,I18),"0"),2) -> 0 | J71: =TRUNC(IFERROR(AVERAGE(J70,J65,J62,J54,J48,J41,J33,J23,J18),"0"),2) -> 7.78 | K71: =TRUNC(IFERROR(AVERAGE(K70,K65,K62,K54,K48,K41,K33,K23,K18),"0"),2) -> 7.62 | ... AJ71: =TRUNC(IFERROR(AVERAGE(AJ70,AJ65,AJ62,AJ54,AJ48,AJ41,AJ33,AJ23,AJ18),"0"),2) -> 8.28

Sheet ESCUADRA-FH
H2: CALIFICACIÓN PARA CURSO CAOR
C3: PERDIODO | D3: 1
D4: =DATOS!A2&" "&DATOS!A7 -> Aguilera, Pablo Alberto | E4: =DATOS!B2&" "&DATOS!B7 -> Bambach, Juan Paulo | F4: =DATOS!C2&" "&DATOS!C7 -> Benavente, Sergio | G4: =DATOS!D2&" "&DATOS!D7 -> Bolelli, Ignacio Octavio | H4: =DATOS!E2&" "&DATOS!E7 -> Correa, Cristóbal | I4: =DATOS!F2&" "&DATOS!F7 -> De la Cruz , Oscar Ernesto | J4: =DATOS!G2&" "&DATOS!G7 -> Del Favero, Andrés | K4: =DATOS!H2&" "&DATOS!H7 -> Espejo, Paula Macarena | ... AJ4: =DATOS!AG2&" "&DATOS!AG7 -> Wuth, Enrique Alejandro
C5: INSTRUCTIOR: (GRADO / NOMBRE) | D5: =DATOS!A1 -> Aguilera | E5: =DATOS!B1 -> Bambach | F5: =DATOS!C1 -> Benavente | G5: =DATOS!D1 -> Bolelli | H5: =DATOS!E1 -> Correa | I5: =DATOS!F1 -> De la Cruz | J5: =DATOS!G1 -> Del Favero | K5: =DATOS!H1 -> Espejo | L5: =DATOS!I1 -> Fuenzalida | M5: =DATOS!J1&" C" -> Ibáñez C | N5: =DATOS!K1&" G" -> Ibáñez G | O5: =DATOS!L1 -> Izquierdo | P5: =DATOS!M1 -> Jones | Q5: =DATOS!N1 -> Jorquera | R5: =DATOS!O1 -> Junge | S5: =DATOS!P1 -> Kinast | T5: =DATOS!Q1 -> Larraín | U5: =DATOS!R1 -> Leiva | V5: =DATOS!S1 -> Lopez | ... AB5: =DATOS!Y1 -> Santis | AC5: =DATOS!Z1&" F" -> Solari F | AD5: =DATOS!AA1&" B" -> Solari B | AE5: =DATOS!AB1 -> Urrutia | AF5: =DATOS!AC1 -> Valdes | AG5: =DATOS!AD1 -> Vallebona | AH5: =DATOS!AE1 -> Vidaurre | AI5: =DATOS!AF1 -> Wagner | AJ5: =DATOS!AG1 -> Wuth
C6: Edad | D6: =DATOS!A4 -> 45.550685 | E6: =DATOS!B4 -> 59.668493 | F6: =DATOS!C4 -> 62.673973 | G6: =DATOS!D4 -> 42.29863 | H6: =DATOS!E4 -> 44.10411 | I6: =DATOS!F4 -> 55.128767 | J6: =DATOS!G4 -> 42.109589 | K6: =DATOS!H4 -> 44.043836 | ... AJ6: =DATOS!AG4 -> 44.446575
C7: Empresa | D7: =DATOS!A5 -> Netafim Chile | E7: =DATOS!B5 -> Estudio Philippi | F7: =DATOS!C5 -> Bci Asset Management | G7: =DATOS!D5 -> MBC Abogados | H7: =DATOS!E5 -> Yamana Gold | I7: =DATOS!F5 -> AAK Abogados | J7: =DATOS!G5 -> Lavin Abogados & Consultores | K7: =DATOS!H5 -> Boldtalk Spa | ... AJ7: =DATOS!AG5 -> Constructora WL
C8: Cargo | D8: =DATOS!A6 -> Agente Zonal Sexta Región | E8: =DATOS!B6 -> Abogado | F8: =DATOS!C6 -> Gerente de Riesgo | G8: =DATOS!D6 -> Socio | H8: =DATOS!E6 -> Director Legal | I8: =DATOS!F6 -> Socio | J8: =DATOS!G6 -> Socio | K8: =DATOS!H6 -> Fundadora | ... AJ8: =DATOS!AG6 -> Socio
D10: Las notas serán hechas de 1 a 10 (sin decimales), donde la nota mínima de aprobación será un 6.
C11: MANDO | D11: MANDO
B12: - | C12: Ejemplo que inspira con sus actuaciones: | D12: 9 | E12: 8 | F12: 6 | G12: 8 | H12: 9 | J12: 8 | K12: 7 | L12: 6 | M12: 10 | N12: 8 | O12: 6 | P12: 8 | Q12: 8 | R12: 8 | S12: 10 | T12: 10 | U12: 10 | V12: 7 | W12: 8 | X12: 8 | Y12: 8 | Z12: 8 | AA12: 8 | AB12: 8 | AC12: 9 | AD12: 9 | AE12: 8 | AF12: 8 | AG12: 8 | AH12: 7 | AI12: 7 | AJ12: 8
B13: - | C13: Carácter: | D13: 9 | E13: 9 | F13: 8 | G13: 8 | H13: 9 | J13: 9 | K13: 8 | L13: 7 | M13: 9 | N13: 8 | O13: 8 | P13: 9 | Q13: 9 | R13: 8 | S13: 9 | T13: 9 | U13: 9 | V13: 10 | W13: 9 | X13: 8 | Y13: 8 | Z13: 8 | AA13: 9 | AB13: 8 | AC13: 8 | AD13: 8 | AE13: 7 | AF13: 8 | AG13: 9 | AH13: 7 | AI13: 8 | AJ13: 8
B14: - | C14: Capacidad para aceptar críticas a su actuación | D14: 9 | E14: 9 | F14: 8 | G14: 7 | H14: 9 | J14: 8 | K14: 8 | L14: 7 | M14: 9 | N14: 8 | O14: 7 | P14: 9 | Q14: 8 | R14: 9 | S14: 9 | T14: 9 | U14: 9 | V14: 9 | W14: 8 | X14: 9 | Y14: 8 | Z14: 9 | AA14: 9 | AB14: 8 | AC14: 9 | AD14: 8 | AE14: 7 | AF14: 7 | AG14: 9 | AH14: 8 | AI14: 8 | AJ14: 8
B15: - | C15: Lealtad: | D15: 10 | E15: 8 | F15: 8 | G15: 8 | H15: 9 | J15: 8 | K15: 8 | L15: 8 | M15: 9 | N15: 8 | O15: 8 | P15: 8 | Q15: 8 | R15: 8 | S15: 8 | T15: 8 | U15: 8 | V15: 9 | W15: 8 | X15: 8 | Y15: 8 | Z15: 8 | AA15: 7 | AB15: 9 | AC15: 9 | AD15: 9 | AE15: 8 | AF15: 8 | AG15: 9 | AH15: 8 | AI15: 8 | AJ15: 8
B16: - | C16: Fortaleza: | D16: 9 | E16: 8 | F16: 7 | G16: 8 | H16: 9 | J16: 8 | K16: 8 | L16: 7 | M16: 10 | N16: 8 | O16: 7 | P16: 9 | Q16: 8 | R16: 8 | S16: 9 | T16: 10 | U16: 9 | V16: 9 | W16: 8 | X16: 9 | Y16: 8 | Z16: 8 | AA16: 8 | AB16: 8 | AC16: 9 | AD16: 9 | AE16: 7 | AF16: 8 | AG16: 9 | AH16: 8 | AI16: 8 | AJ16: 8
B17: - | C17: Prudencia: | D17: 9 | E17: 8 | F17: 7 | G17: 8 | H17: 9 | J17: 9 | K17: 8 | L17: 7 | M17: 9 | N17: 8 | O17: 8 | P17: 8 | Q17: 9 | R17: 9 | S17: 9 | T17: 9 | U17: 9 | V17: 9 | W17: 8 | X17: 9 | Y17: 8 | Z17: 8 | AA17: 8 | AB17: 8 | AC17: 9 | AD17: 9 | AE17: 7 | AF17: 7 | AG17: 8 | AH17: 7 | AI17: 9 | AJ17: 9
C18: MEDIA | D18: =TRUNC(IFERROR(AVERAGE(D12:D17),"0"),2) -> 9.16 | E18: =TRUNC(IFERROR(AVERAGE(E12:E17),"0"),2) -> 8.33 | F18: =TRUNC(IFERROR(AVERAGE(F12:F17),"0"),2) -> 7.33 | G18: =TRUNC(IFERROR(AVERAGE(G12:G17),"0"),2) -> 7.83 | H18: =TRUNC(IFERROR(AVERAGE(H12:H17),"0"),2) -> 9 | I18: =TRUNC(IFERROR(AVERAGE(I12:I17),"0"),2) -> 0 | J18: =TRUNC(IFERROR(AVERAGE(J12:J17),"0"),2) -> 8.33 | K18: =TRUNC(IFERROR(AVERAGE(K12:K17),"0"),2) -> 7.83 | ... AJ18: =TRUNC(IFERROR(AVERAGE(AJ12:AJ17),"0"),2) -> 8.16
C19: INTERÉS PROFESIONAL | D19: INTERÉS PROFESIONAL
B20: - | C20: Conocimiento sobre la carrera y sus tradiciones: | D20: 8 | E20: 7 | F20: 8 | G20: 8 | H20: 9 | J20: 8 | K20: 8 | L20: 7 | M20: 9 | N20: 8 | O20: 7 | P20: 8 | Q20: 8 | R20: 9 | S20: 9 | T20: 9 | U20: 9 | V20: 8 | W20: 7 | X20: 8 | Y20: 8 | Z20: 8 | AA20: 8 | AB20: 8 | AC20: 9 | AD20: 9 | AE20: 8 | AF20: 9 | AG20: 9 | AH20: 8 | AI20: 8 | AJ20: 8
B21: - | C21: Espíritu Profesional: | D21: 8 | E21: 8 | F21: 7 | G21: 8 | H21: 9 | J21: 9 | K21: 8 | L21: 7 | M21: 9 | N21: 8 | O21: 8 | P21: 8 | Q21: 8 | R21: 8 | S21: 9 | T21: 9 | U21: 9 | V21: 8 | W21: 8 | X21: 8 | Y21: 8 | Z21: 8 | AA21: 8 | AB21: 8 | AC21: 9 | AD21: 9 | AE21: 8 | AF21: 8 | AG21: 8 | AH21: 9 | AI21: 8 | AJ21: 9
B22: - | C22: Rendimiento en actividades profesionales: | D22: 8 | E22: 8 | F22: 6 | G22: 8 | H22: 9 | J22: 9 | K22: 8 | L22: 7 | M22: 10 | N22: 9 | O22: 8 | P22: 9 | Q22: 8 | R22: 9 | S22: 10 | T22: 10 | U22: 9 | V22: 8 | W22: 8 | X22: 8 | Y22: 8 | Z22: 8 | AA22: 9 | AB22: 9 | AC22: 9 | AD22: 9 | AE22: 8 | AF22: 8 | AG22: 9 | AH22: 9 | AI22: 8 | AJ22: 9
C23: MEDIA | D23: =TRUNC(IFERROR(AVERAGE(D20:D22),"0"),2) -> 8 | E23: =TRUNC(IFERROR(AVERAGE(E20:E22),"0"),2) -> 7.66 | F23: =TRUNC(IFERROR(AVERAGE(F20:F22),"0"),2) -> 7 | G23: =TRUNC(IFERROR(AVERAGE(G20:G22),"0"),2) -> 8 | H23: =TRUNC(IFERROR(AVERAGE(H20:H22),"0"),2) -> 9 | I23: =TRUNC(IFERROR(AVERAGE(I20:I22),"0"),2) -> 0 | J23: =TRUNC(IFERROR(AVERAGE(J20:J22),"0"),2) -> 8.66 | K23: =TRUNC(IFERROR(AVERAGE(K20:K22),"0"),2) -> 8 | ... AJ23: =TRUNC(IFERROR(AVERAGE(AJ20:AJ22),"0"),2) -> 8.66
C24: PERSONALIDAD | D24: PERSONALIDAD
B25: - | C25: Capacidad de expresión oral: | D25: 8 | E25: 8 | F25: 7 | G25: 8 | H25: 10 | J25: 9 | K25: 9 | L25: 8 | M25: 9 | N25: 9 | O25: 9 | P25: 9 | Q25: 9 | R25: 9 | S25: 9 | T25: 9 | U25: 9 | V25: 8 | W25: 9 | X25: 9 | Y25: 9 | Z25: 9 | AA25: 9 | AB25: 8 | AC25: 9 | AD25: 9 | AE25: 9 | AF25: 9 | AG25: 9 | AH25: 9 | AI25: 9 | AJ25: 9
B26: - | C26: Ascendiente con sus compañeros: | D26: 9 | E26: 9 | F26: 6 | G26: 7 | H26: 10 | J26: 9 | K26: 8 | L26: 7 | M26: 9 | N26: 8 | O26: 8 | P26: 9 | Q26: 8 | R26: 8 | S26: 9 | T26: 9 | U26: 9 | V26: 9 | W26: 9 | X26: 8 | Y26: 8 | Z26: 8 | AA26: 9 | AB26: 8 | AC26: 9 | AD26: 9 | AE26: 7 | AF26: 8 | AG26: 8 | AH26: 7 | AI26: 8 | AJ26: 8
B27: - | C27: Madurez en sus actuaciones: | D27: 8 | E27: 8 | F27: 7 | G27: 8 | H27: 9 | J27: 8 | K27: 9 | L27: 7 | M27: 9 | N27: 8 | O27: 9 | P27: 8 | Q27: 9 | R27: 8 | S27: 10 | T27: 10 | U27: 8 | V27: 9 | W27: 9 | X27: 9 | Y27: 9 | Z27: 8 | AA27: 8 | AB27: 8 | AC27: 8 | AD27: 9 | AE27: 7 | AF27: 9 | AG27: 8 | AH27: 8 | AI27: 8 | AJ27: 8
B28: - | C28: Sociabilidad: | D28: 9 | E28: 9 | F28: 7 | G28: 8 | H28: 10 | J28: 9 | K28: 8 | L28: 7 | M28: 9 | N28: 8 | O28: 8 | P28: 10 | Q28: 9 | R28: 7 | S28: 9 | T28: 9 | U28: 9 | V28: 9 | W28: 10 | X28: 9 | Y28: 8 | Z28: 9 | AA28: 9 | AB28: 8 | AC28: 9 | AD28: 8 | AE28: 8 | AF28: 8 | AG28: 9 | AH28: 8 | AI28: 8 | AJ28: 8
B29: - | C29: Compañerismo, amistad y solidaridad: | D29: 9 | E29: 9 | F29: 7 | G29: 9 | H29: 9 | J29: 8 | K29: 9 | L29: 6 | M29: 9 | N29: 8 | O29: 9 | P29: 9 | Q29: 8 | R29: 8 | S29: 8 | T29: 9 | U29: 10 | V29: 9 | W29: 9 | X29: 8 | Y29: 8 | Z29: 8 | AA29: 9 | AB29: 8 | AC29: 8 | AD29: 9 | AE29: 6 | AF29: 8 | AG29: 9 | AH29: 8 | AI29: 8 | AJ29: 8
B30: - | C30: Condiciones de Líder: | D30: 8 | E30: 7 | F30: 6 | G30: 7 | H30: 9 | J30: 9 | K30: 6 | L30: 5 | M30: 8 | N30: 6 | O30: 8 | P30: 9 | Q30: 7 | R30: 6 | S30: 8 | T30: 10 | U30: 8 | V30: 8 | W30: 8 | X30: 7 | Y30: 7 | Z30: 7 | AA30: 7 | AB30: 7 | AC30: 7 | AD30: 9 | AE30: 1 | AF30: 7 | AG30: 7 | AH30: 7 | AI30: 7 | AJ30: 7
B31: - | C31: Iniciativa: | D31: 8 | E31: 7 | F31: 6 | G31: 7 | H31: 8 | J31: 7 | K31: 7 | L31: 6 | M31: 9 | N31: 8 | O31: 7 | P31: 7 | Q31: 7 | R31: 8 | S31: 8 | T31: 9 | U31: 9 | V31: 10 | W31: 8 | X31: 7 | Y31: 9 | Z31: 7 | AA31: 10 | AB31: 8 | AC31: 8 | AD31: 8 | AE31: 6 | AF31: 10 | AG31: 7 | AH31: 7 | AI31: 7 | AJ31: 7
B32: - | C32: Tacto y criterio: | D32: 8 | E32: 8 | F32: 7 | G32: 8 | H32: 8 | J32: 7 | K32: 8 | L32: 6 | M32: 9 | N32: 9 | O32: 6 | P32: 8 | Q32: 8 | R32: 8 | S32: 9 | T32: 9 | U32: 8 | V32: 9 | W32: 8 | X32: 9 | Y32: 9 | Z32: 8 | AA32: 9 | AB32: 8 | AC32: 8 | AD32: 8 | AE32: 6 | AF32: 9 | AG32: 8 | AH32: 7 | AI32: 9 | AJ32: 8
C33: MEDIA | D33: =TRUNC(IFERROR(AVERAGE(D25:D32),"0"),2) -> 8.37 | E33: =TRUNC(IFERROR(AVERAGE(E25:E32),"0"),2) -> 8.12 | F33: =TRUNC(IFERROR(AVERAGE(F25:F32),"0"),2) -> 6.62 | G33: =TRUNC(IFERROR(AVERAGE(G25:G32),"0"),2) -> 7.75 | H33: =TRUNC(IFERROR(AVERAGE(H25:H32),"0"),2) -> 9.12 | I33: =TRUNC(IFERROR(AVERAGE(I25:I32),"0"),2) -> 0 | J33: =TRUNC(IFERROR(AVERAGE(J25:J32),"0"),2) -> 8.25 | K33: =TRUNC(IFERROR(AVERAGE(K25:K32),"0"),2) -> 8 | ... AJ33: =TRUNC(IFERROR(AVERAGE(AJ25:AJ32),"0"),2) -> 7.87
C34: RESPONSABILIDAD | D34: RESPONSABILIDAD
B35: - | C35: Espíritu de superación: | D35: 8 | E35: 8 | F35: 8 | G35: 8 | H35: 8 | J35: 8 | K35: 8 | L35: 4 | M35: 10 | N35: 7 | O35: 7 | P35: 8 | Q35: 8 | R35: 8 | S35: 9 | T35: 9 | U35: 9 | V35: 10 | W35: 9 | X35: 8 | Y35: 10 | Z35: 8 | AA35: 8 | AB35: 8 | AC35: 9 | AD35: 9 | AE35: 7 | AF35: 9 | AG35: 9 | AH35: 8 | AI35: 8 | AJ35: 7
B36: - | C36: Capacidad para organizarse: | D36: 8 | E36: 8 | F36: 7 | G36: 7 | H36: 9 | J36: 9 | K36: 8 | L36: 7 | M36: 9 | N36: 8 | O36: 8 | P36: 8 | Q36: 8 | R36: 8 | S36: 9 | T36: 9 | U36: 9 | V36: 8 | W36: 9 | X36: 8 | Y36: 8 | Z36: 8 | AA36: 9 | AB36: 8 | AC36: 8 | AD36: 8 | AE36: 8 | AF36: 8 | AG36: 9 | AH36: 8 | AI36: 8 | AJ36: 8
B37: - | C37: Capacidad para asumir responsabilidades: | D37: 8 | E37: 8 | F37: 7 | G37: 8 | H37: 9 | J37: 9 | K37: 8 | L37: 7 | M37: 9 | N37: 8 | O37: 8 | P37: 8 | Q37: 7 | R37: 8 | S37: 9 | T37: 9 | U37: 10 | V37: 9 | W37: 8 | X37: 9 | Y37: 8 | Z37: 8 | AA37: 9 | AB37: 7 | AC37: 8 | AD37: 8 | AE37: 8 | AF37: 9 | AG37: 9 | AH37: 8 | AI37: 8 | AJ37: 8
B38: - | C38: Necesidad de control: | D38: 8 | E38: 7 | F38: 8 | G38: 8 | H38: 8 | J38: 8 | K38: 8 | L38: 6 | M38: 9 | N38: 8 | O38: 8 | P38: 8 | Q38: 8 | R38: 8 | S38: 8 | T38: 10 | U38: 9 | V38: 8 | W38: 8 | X38: 9 | Y38: 8 | Z38: 8 | AA38: 8 | AB38: 8 | AC38: 9 | AD38: 9 | AE38: 9 | AF38: 9 | AG38: 8 | AH38: 8 | AI38: 9 | AJ38: 8
B39: - | C39: Puntualidad: | D39: 9 | E39: 8 | F39: 9 | G39: 8 | H39: 9 | J39: 8 | K39: 9 | L39: 6 | M39: 9 | N39: 9 | O39: 8 | P39: 9 | Q39: 8 | R39: 9 | S39: 8 | T39: 10 | U39: 9 | V39: 9 | W39: 8 | X39: 9 | Y39: 8 | Z39: 9 | AA39: 8 | AB39: 9 | AC39: 9 | AD39: 9 | AE39: 8 | AF39: 9 | AG39: 9 | AH39: 8 | AI39: 9 | AJ39: 8
B40: - | C40: Tenacidad y constancia: | D40: 8 | E40: 7 | F40: 8 | G40: 8 | H40: 9 | J40: 8 | K40: 8 | L40: 6 | M40: 10 | N40: 9 | O40: 8 | P40: 9 | Q40: 9 | R40: 8 | S40: 8 | T40: 10 | U40: 10 | V40: 9 | W40: 9 | X40: 9 | Y40: 8 | Z40: 9 | AA40: 8 | AB40: 9 | AC40: 10 | AD40: 9 | AE40: 6 | AF40: 9 | AG40: 9 | AH40: 8 | AI40: 9 | AJ40: 8
C41: MEDIA | D41: =TRUNC(IFERROR(AVERAGE(D35:D40),"0"),2) -> 8.16 | E41: =TRUNC(IFERROR(AVERAGE(E35:E40),"0"),2) -> 7.66 | F41: =TRUNC(IFERROR(AVERAGE(F35:F40),"0"),2) -> 7.83 | G41: =TRUNC(IFERROR(AVERAGE(G35:G40),"0"),2) -> 7.83 | H41: =TRUNC(IFERROR(AVERAGE(H35:H40),"0"),2) -> 8.66 | I41: =TRUNC(IFERROR(AVERAGE(I35:I40),"0"),2) -> 0 | J41: =TRUNC(IFERROR(AVERAGE(J35:J40),"0"),2) -> 8.33 | K41: =TRUNC(IFERROR(AVERAGE(K35:K40),"0"),2) -> 8.16 | ... AJ41: =TRUNC(IFERROR(AVERAGE(AJ35:AJ40),"0"),2) -> 7.83
C42: ESPÍRITU MILITAR | D42: ESPÍRITU MILITAR
B43: - | C43: Cumplimiento del deber: | D43: 8 | E43: 7 | F43: 7 | G43: 8 | H43: 9 | J43: 8 | K43: 8 | L43: 7 | M43: 10 | N43: 9 | O43: 8 | P43: 8 | Q43: 8 | R43: 8 | S43: 10 | T43: 10 | U43: 9 | V43: 9 | W43: 8 | X43: 9 | Y43: 8 | Z43: 8 | AA43: 9 | AB43: 8 | AC43: 9 | AD43: 9 | AE43: 8 | AF43: 8 | AG43: 8 | AH43: 8 | AI43: 9 | AJ43: 9
B44: - | C44: Abnegación: | D44: 8 | E44: 8 | F44: 7 | G44: 7 | H44: 9 | J44: 8 | K44: 8 | L44: 7 | M44: 10 | N44: 9 | O44: 8 | P44: 8 | Q44: 8 | R44: 8 | S44: 10 | T44: 10 | U44: 9 | V44: 9 | W44: 8 | X44: 9 | Y44: 8 | Z44: 8 | AA44: 9 | AB44: 8 | AC44: 9 | AD44: 9 | AE44: 8 | AF44: 8 | AG44: 8 | AH44: 8 | AI44: 9 | AJ44: 9
B45: - | C45: Respeto hacia sus superiores: | D45: 9 | E45: 9 | F45: 8 | G45: 8 | H45: 10 | J45: 8 | K45: 8 | L45: 7 | M45: 10 | N45: 9 | O45: 7 | P45: 8 | Q45: 8 | R45: 9 | S45: 9 | T45: 9 | U45: 9 | V45: 9 | W45: 8 | X45: 9 | Y45: 8 | Z45: 9 | AA45: 9 | AB45: 8 | AC45: 10 | AD45: 9 | AE45: 7 | AF45: 8 | AG45: 9 | AH45: 7 | AI45: 9 | AJ45: 9
B46: - | C46: Lealtad y franqueza con sus superiores | D46: 9 | E46: 9 | F46: 8 | G46: 8 | H46: 9 | J46: 8 | K46: 8 | L46: 7 | M46: 10 | N46: 9 | O46: 7 | P46: 8 | Q46: 8 | R46: 9 | S46: 9 | T46: 9 | U46: 9 | V46: 9 | W46: 8 | X46: 9 | Y46: 8 | Z46: 9 | AA46: 9 | AB46: 8 | AC46: 10 | AD46: 9 | AE46: 7 | AF46: 8 | AG46: 9 | AH46: 7 | AI46: 9 | AJ46: 9
B47: - | C47: Prestancia militar: | D47: 9 | E47: 7 | F47: 6 | G47: 6 | H47: 9 | J47: 8 | K47: 8 | L47: 7 | M47: 10 | N47: 9 | O47: 8 | P47: 8 | Q47: 8 | R47: 8 | S47: 10 | T47: 10 | U47: 9 | V47: 9 | W47: 8 | X47: 9 | Y47: 8 | Z47: 8 | AA47: 9 | AB47: 8 | AC47: 9 | AD47: 9 | AE47: 8 | AF47: 8 | AG47: 8 | AH47: 8 | AI47: 9 | AJ47: 9
C48: MEDIA | D48: =TRUNC(IFERROR(AVERAGE(D43:D47),"0"),2) -> 8.6 | E48: =TRUNC(IFERROR(AVERAGE(E43:E47),"0"),2) -> 8 | F48: =TRUNC(IFERROR(AVERAGE(F43:F47),"0"),2) -> 7.2 | G48: =TRUNC(IFERROR(AVERAGE(G43:G47),"0"),2) -> 7.4 | H48: =TRUNC(IFERROR(AVERAGE(H43:H47),"0"),2) -> 9.2 | I48: =TRUNC(IFERROR(AVERAGE(I43:I47),"0"),2) -> 0 | J48: =TRUNC(IFERROR(AVERAGE(J43:J47),"0"),2) -> 8 | K48: =TRUNC(IFERROR(AVERAGE(K43:K47),"0"),2) -> 8 | ... AJ48: =TRUNC(IFERROR(AVERAGE(AJ43:AJ47),"0"),2) -> 9
C49: COOPERACIÓN | D49: COOPERACIÓN
B50: - | C50: Espíritu de cooperación: | D50: 9 | E50: 8 | F50: 7 | G50: 7 | H50: 9 | J50: 9 | K50: 9 | L50: 7 | M50: 9 | N50: 8 | O50: 8 | P50: 9 | Q50: 8 | R50: 8 | S50: 9 | T50: 9 | U50: 9 | V50: 10 | W50: 9 | X50: 8 | Y50: 8 | Z50: 9 | AA50: 9 | AB50: 8 | AC50: 9 | AD50: 9 | AE50: 7 | AF50: 9 | AG50: 9 | AH50: 8 | AI50: 8 | AJ50: 8
B51: - | C51: Actitud en sus actuaciones: | D51: 9 | E51: 8 | F51: 7 | G51: 7 | H51: 9 | J51: 8 | K51: 8 | L51: 6 | M51: 10 | N51: 8 | O51: 7 | P51: 9 | Q51: 9 | R51: 8 | S51: 9 | T51: 9 | U51: 9 | V51: 9 | W51: 9 | X51: 9 | Y51: 9 | Z51: 8 | AA51: 9 | AB51: 8 | AC51: 9 | AD51: 9 | AE51: 8 | AF51: 8 | AG51: 8 | AH51: 7 | AI51: 8 | AJ51: 8
B52: - | C52: Participación extra o voluntaria: | D52: 9 | E52: 9 | F52: 7 | G52: 7 | H52: 9 | J52: 8 | K52: 8 | L52: 6 | M52: 9 | N52: 9 | O52: 9 | P52: 8 | Q52: 7 | R52: 8 | S52: 8 | T52: 9 | U52: 9 | V52: 10 | W52: 8 | X52: 8 | Y52: 8 | Z52: 8 | AA52: 10 | AB52: 8 | AC52: 8 | AD52: 9 | AE52: 7 | AF52: 10 | AG52: 8 | AH52: 8 | AI52: 8 | AJ52: 8
B53: - | C53: Espíritu de cuerpo: | D53: 9 | E53: 9 | F53: 7 | G53: 8 | H53: 10 | J53: 9 | K53: 9 | L53: 4 | M53: 9 | N53: 8 | O53: 9 | P53: 9 | Q53: 7 | R53: 8 | S53: 9 | T53: 9 | U53: 9 | V53: 9 | W53: 9 | X53: 8 | Y53: 8 | Z53: 8 | AA53: 8 | AB53: 8 | AC53: 9 | AD53: 9 | AE53: 7 | AF53: 7 | AG53: 8 | AH53: 8 | AI53: 7 | AJ53: 8
C54: MEDIA | D54: =TRUNC(IFERROR(AVERAGE(D50:D53),"0"),2) -> 9 | E54: =TRUNC(IFERROR(AVERAGE(E50:E53),"0"),2) -> 8.5 | F54: =TRUNC(IFERROR(AVERAGE(F50:F53),"0"),2) -> 7 | G54: =TRUNC(IFERROR(AVERAGE(G50:G53),"0"),2) -> 7.25 | H54: =TRUNC(IFERROR(AVERAGE(H50:H53),"0"),2) -> 9.25 | I54: =TRUNC(IFERROR(AVERAGE(I50:I53),"0"),2) -> 0 | J54: =TRUNC(IFERROR(AVERAGE(J50:J53),"0"),2) -> 8.5 | K54: =TRUNC(IFERROR(AVERAGE(K50:K53),"0"),2) -> 8.5 | ... AJ54: =TRUNC(IFERROR(AVERAGE(AJ50:AJ53),"0"),2) -> 8
C55: CONDUCTA | D55: CONDUCTA
B56: - | C56: Comportamiento social: | D56: 9 | E56: 8 | F56: 8 | G56: 8 | H56: 9 | J56: 8 | K56: 7 | L56: 1 | M56: 9 | N56: 9 | O56: 9 | P56: 9 | Q56: 8 | R56: 9 | S56: 9 | T56: 9 | U56: 10 | V56: 9 | W56: 9 | X56: 7 | Y56: 9 | Z56: 9 | AA56: 8 | AB56: 9 | AC56: 9 | AD56: 9 | AE56: 8 | AF56: 8 | AG56: 8 | AH56: 8 | AI56: 9 | AJ56: 9
B57: - | C57: Cortesía: | D57: 9 | E57: 9 | F57: 8 | G57: 8 | H57: 9 | J57: 8 | K57: 8 | L57: 7 | M57: 9 | N57: 9 | O57: 9 | P57: 9 | Q57: 9 | R57: 9 | S57: 9 | T57: 9 | U57: 9 | V57: 9 | W57: 9 | X57: 9 | Y57: 9 | Z57: 9 | AA57: 8 | AB57: 9 | AC57: 9 | AD57: 9 | AE57: 8 | AF57: 9 | AG57: 9 | AH57: 9 | AI57: 9 | AJ57: 9
B58: - | C58: Dominio de si mismo: | D58: 9 | E58: 8 | F58: 8 | G58: 8 | H58: 9 | J58: 8 | K58: 8 | L58: 6 | M58: 10 | N58: 8 | O58: 8 | P58: 9 | Q58: 9 | R58: 8 | S58: 8 | T58: 9 | U58: 10 | V58: 10 | W58: 8 | X58: 10 | Y58: 9 | Z58: 8 | AA58: 9 | AB58: 8 | AC58: 9 | AD58: 8 | AE58: 7 | AF58: 10 | AG58: 10 | AH58: 7 | AI58: 9 | AJ58: 9
B59: - | C59: Actitud al régimen de la Escuela: | D59: 9 | E59: 7 | F59: 8 | G59: 7 | H59: 9 | J59: 8 | K59: 7 | L59: 4 | M59: 10 | N59: 8 | O59: 8 | P59: 9 | Q59: 8 | R59: 8 | S59: 10 | T59: 10 | U59: 10 | V59: 8 | W59: 8 | X59: 9 | Y59: 8 | Z59: 8 | AA59: 8 | AB59: 8 | AC59: 9 | AD59: 9 | AE59: 6 | AF59: 8 | AG59: 8 | AH59: 8 | AI59: 8 | AJ59: 9
B60: - | C60: Comportamiento, actitud y predisposición en clases: | D60: 8 | E60: 8 | F60: 8 | G60: 8 | H60: 9 | J60: 9 | K60: 8 | L60: 6 | M60: 9 | N60: 8 | O60: 7 | P60: 8 | Q60: 9 | R60: 9 | S60: 9 | T60: 9 | U60: 9 | V60: 9 | W60: 9 | X60: 9 | Y60: 9 | Z60: 8 | AA60: 9 | AB60: 8 | AC60: 8 | AD60: 9 | AE60: 7 | AF60: 9 | AG60: 9 | AH60: 8 | AI60: 8 | AJ60: 8
B61: - | C61: Templanza: | D61: 8 | E61: 8 | F61: 8 | G61: 8 | H61: 9 | J61: 9 | K61: 7 | L61: 5 | M61: 9 | N61: 7 | O61: 8 | P61: 8 | Q61: 8 | R61: 8 | S61: 9 | T61: 10 | U61: 9 | V61: 8 | W61: 8 | X61: 8 | Y61: 8 | Z61: 8 | AA61: 8 | AB61: 7 | AC61: 8 | AD61: 8 | AE61: 5 | AF61: 8 | AG61: 8 | AH61: 9 | AI61: 8 | AJ61: 8
C62: MEDIA | D62: =TRUNC(IFERROR(AVERAGE(D56:D61),"0"),2) -> 8.66 | E62: =TRUNC(IFERROR(AVERAGE(E56:E61),"0"),2) -> 8 | F62: =TRUNC(IFERROR(AVERAGE(F56:F61),"0"),2) -> 8 | G62: =TRUNC(IFERROR(AVERAGE(G56:G61),"0"),2) -> 7.83 | H62: =TRUNC(IFERROR(AVERAGE(H56:H61),"0"),2) -> 9 | I62: =TRUNC(IFERROR(AVERAGE(I56:I61),"0"),2) -> 0 | J62: =TRUNC(IFERROR(AVERAGE(J56:J61),"0"),2) -> 8.33 | K62: =TRUNC(IFERROR(AVERAGE(K56:K61),"0"),2) -> 7.5 | ... AJ62: =TRUNC(IFERROR(AVERAGE(AJ56:AJ61),"0"),2) -> 8.66
C63: APTITUD FÍSICA | D63: APTITUD FÍSICA
B64: - | C64: Interés por participar en actividades deportivas: | D64: 9 | E64: 7 | F64: 9 | G64: 8 | H64: 9 | J64: 9 | K64: 8 | L64: 7 | M64: 10 | N64: 9 | O64: 9 | P64: 8 | Q64: 8 | R64: 9 | S64: 9 | T64: 10 | U64: 8 | V64: 8 | W64: 8 | X64: 8 | Y64: 8 | Z64: 8 | AA64: 8 | AB64: 9 | AC64: 10 | AD64: 10 | AE64: 7 | AF64: 8 | AG64: 8 | AH64: 8 | AI64: 9 | AJ64: 10
C65: MEDIA | D65: =TRUNC(IFERROR(AVERAGE(D64),"0"),2) -> 9 | E65: =TRUNC(IFERROR(AVERAGE(E64),"0"),2) -> 7 | F65: =TRUNC(IFERROR(AVERAGE(F64),"0"),2) -> 9 | G65: =TRUNC(IFERROR(AVERAGE(G64),"0"),2) -> 8 | H65: =TRUNC(IFERROR(AVERAGE(H64),"0"),2) -> 9 | I65: =TRUNC(IFERROR(AVERAGE(I64),"0"),2) -> 0 | J65: =TRUNC(IFERROR(AVERAGE(J64),"0"),2) -> 9 | K65: =TRUNC(IFERROR(AVERAGE(K64),"0"),2) -> 8 | ... AJ65: =TRUNC(IFERROR(AVERAGE(AJ64),"0"),2) -> 10
C66: TENIDA, ORDEN Y ASEO | D66: TENIDA, ORDEN Y ASEO
B67: - | C67: Cuidado con su equipo personal: | D67: 9 | E67: 7 | F67: 8 | G67: 8 | H67: 9 | J67: 8 | K67: 8 | L67: 7 | M67: 9 | N67: 8 | O67: 8 | P67: 8 | Q67: 8 | R67: 8 | S67: 9 | T67: 9 | U67: 8 | V67: 7 | W67: 8 | X67: 8 | Y67: 8 | Z67: 10 | AA67: 8 | AB67: 8 | AC67: 9 | AD67: 9 | AE67: 8 | AF67: 8 | AG67: 8 | AH67: 8 | AI67: 8 | AJ67: 8
B68: - | C68: Presentación y aseo personal: | D68: 9 | E68: 7 | F68: 8 | G68: 8 | H68: 9 | J68: 8 | K68: 8 | L68: 7 | M68: 9 | N68: 8 | O68: 8 | P68: 8 | Q68: 8 | R68: 8 | S68: 9 | T68: 9 | U68: 8 | V68: 7 | W68: 8 | X68: 8 | Y68: 8 | Z68: 10 | AA68: 8 | AB68: 8 | AC68: 9 | AD68: 9 | AE68: 8 | AF68: 8 | AG68: 8 | AH68: 8 | AI68: 8 | AJ68: 8
B69: - | C69: Orden con sus elementos personales: | D69: 9 | E69: 7 | F69: 8 | G69: 8 | H69: 9 | J69: 8 | K69: 8 | L69: 7 | M69: 9 | N69: 8 | O69: 8 | P69: 8 | Q69: 8 | R69: 8 | S69: 9 | T69: 9 | U69: 8 | V69: 7 | W69: 8 | X69: 8 | Y69: 8 | Z69: 10 | AA69: 8 | AB69: 8 | AC69: 9 | AD69: 9 | AE69: 8 | AF69: 8 | AG69: 8 | AH69: 8 | AI69: 8 | AJ69: 8
C70: MEDIA | D70: =TRUNC(IFERROR(AVERAGE(D67:D69),"0"),2) -> 9 | E70: =TRUNC(IFERROR(AVERAGE(E67:E69),"0"),2) -> 7 | F70: =TRUNC(IFERROR(AVERAGE(F67:F69),"0"),2) -> 8 | G70: =TRUNC(IFERROR(AVERAGE(G67:G69),"0"),2) -> 8 | H70: =TRUNC(IFERROR(AVERAGE(H67:H69),"0"),2) -> 9 | I70: =TRUNC(IFERROR(AVERAGE(I67:I69),"0"),2) -> 0 | J70: =TRUNC(IFERROR(AVERAGE(J67:J69),"0"),2) -> 8 | K70: =TRUNC(IFERROR(AVERAGE(K67:K69),"0"),2) -> 8 | ... AJ70: =TRUNC(IFERROR(AVERAGE(AJ67:AJ69),"0"),2) -> 8
C71: NOTA MEDIA FINAL | D71: =TRUNC(IFERROR(AVERAGE(D70,D65,D62,D54,D48,D41,D33,D23,D18),"0"),2) -> 8.66 | E71: =TRUNC(IFERROR(AVERAGE(E70,E65,E62,E54,E48,E41,E33,E23,E18),"0"),2) -> 7.8 | F71: =TRUNC(IFERROR(AVERAGE(F70,F65,F62,F54,F48,F41,F33,F23,F18),"0"),2) -> 7.55 | G71: =TRUNC(IFERROR(AVERAGE(G70,G65,G62,G54,G48,G41,G33,G23,G18),"0"),2) -> 7.76 | H71: =TRUNC(IFERROR(AVERAGE(H70,H65,H62,H54,H48,H41,H33,H23,H18),"0"),2) -> 9.02 | I71: =TRUNC(IFERROR(AVERAGE(I70,I65,I62,I54,I48,I41,I33,I23,I18),"0"),2) -> 0 | J71: =TRUNC(IFERROR(AVERAGE(J70,J65,J62,J54,J48,J41,J33,J23,J18),"0"),2) -> 8.37 | K71: =TRUNC(IFERROR(AVERAGE(K70,K65,K62,K54,K48,K41,K33,K23,K18),"0"),2) -> 7.99 | ... AJ71: =TRUNC(IFERROR(AVERAGE(AJ70,AJ65,AJ62,AJ54,AJ48,AJ41,AJ33,AJ23,AJ18),"0"),2) -> 8.46

Sheet ESCUADRA-MB
H2: CALIFICACIÓN PARA CURSO CAOR
C3: PERDIODO | D3: 1
D4: =DATOS!A2&" "&DATOS!A7 -> Aguilera, Pablo Alberto | E4: =DATOS!B2&" "&DATOS!B7 -> Bambach, Juan Paulo | F4: =DATOS!C2&" "&DATOS!C7 -> Benavente, Sergio | G4: =DATOS!D2&" "&DATOS!D7 -> Bolelli, Ignacio Octavio | H4: =DATOS!E2&" "&DATOS!E7 -> Correa, Cristóbal | I4: =DATOS!F2&" "&DATOS!F7 -> De la Cruz , Oscar Ernesto | J4: =DATOS!G2&" "&DATOS!G7 -> Del Favero, Andrés | K4: =DATOS!H2&" "&DATOS!H7 -> Espejo, Paula Macarena | ... AJ4: =DATOS!AG2&" "&DATOS!AG7 -> Wuth, Enrique Alejandro
C5: INSTRUCTIOR: (GRADO / NOMBRE) | D5: =DATOS!A1 -> Aguilera | E5: =DATOS!B1 -> Bambach | F5: =DATOS!C1 -> Benavente | G5: =DATOS!D1 -> Bolelli | H5: =DATOS!E1 -> Correa | I5: =DATOS!F1 -> De la Cruz | J5: =DATOS!G1 -> Del Favero | K5: =DATOS!H1 -> Espejo | L5: =DATOS!I1 -> Fuenzalida | M5: =DATOS!J1&" C" -> Ibáñez C | N5: =DATOS!K1&" G" -> Ibáñez G | O5: =DATOS!L1 -> Izquierdo | P5: =DATOS!M1 -> Jones | Q5: =DATOS!N1 -> Jorquera | R5: =DATOS!O1 -> Junge | S5: =DATOS!P1 -> Kinast | T5: =DATOS!Q1 -> Larraín | U5: =DATOS!R1 -> Leiva | V5: =DATOS!S1 -> Lopez | ... AB5: =DATOS!Y1 -> Santis | AC5: =DATOS!Z1&" F" -> Solari F | AD5: =DATOS!AA1&" B" -> Solari B | AE5: =DATOS!AB1 -> Urrutia | AF5: =DATOS!AC1 -> Valdes | AG5: =DATOS!AD1 -> Vallebona | AH5: =DATOS!AE1 -> Vidaurre | AI5: =DATOS!AF1 -> Wagner | AJ5: =DATOS!AG1 -> Wuth
C6: Edad | D6: =DATOS!A4 -> 45.550685 | E6: =DATOS!B4 -> 59.668493 | F6: =DATOS!C4 -> 62.673973 | G6: =DATOS!D4 -> 42.29863 | H6: =DATOS!E4 -> 44.10411 | I6: =DATOS!F4 -> 55.128767 | J6: =DATOS!G4 -> 42.109589 | K6: =DATOS!H4 -> 44.043836 | ... AJ6: =DATOS!AG4 -> 44.446575
C7: Empresa | D7: =DATOS!A5 -> Netafim Chile | E7: =DATOS!B5 -> Estudio Philippi | F7: =DATOS!C5 -> Bci Asset Management | G7: =DATOS!D5 -> MBC Abogados | H7: =DATOS!E5 -> Yamana Gold | I7: =DATOS!F5 -> AAK Abogados | J7: =DATOS!G5 -> Lavin Abogados & Consultores | K7: =DATOS!H5 -> Boldtalk Spa | ... AJ7: =DATOS!AG5 -> Constructora WL
C8: Cargo | D8: =DATOS!A6 -> Agente Zonal Sexta Región | E8: =DATOS!B6 -> Abogado | F8: =DATOS!C6 -> Gerente de Riesgo | G8: =DATOS!D6 -> Socio | H8: =DATOS!E6 -> Director Legal | I8: =DATOS!F6 -> Socio | J8: =DATOS!G6 -> Socio | K8: =DATOS!H6 -> Fundadora | ... AJ8: =DATOS!AG6 -> Socio
D10: Las notas serán hechas de 1 a 10 (sin decimales), donde la nota mínima de aprobación será un 6.
C11: MANDO | D11: MANDO
B12: - | C12: Ejemplo que inspira con sus actuaciones: | D12: 8 | E12: 7 | F12: 6 | G12: 8 | H12: 8 | J12: 7 | K12: 7 | L12: 1 | M12: 9 | N12: 8 | O12: 7 | P12: 8 | Q12: 7 | R12: 7 | S12: 8 | T12: 9 | U12: 8 | V12: 10 | W12: 9 | X12: 7 | Y12: 8 | Z12: 8 | AA12: 8 | AB12: 8 | AC12: 8 | AD12: 9 | AE12: 6 | AF12: 8 | AG12: 8 | AH12: 8 | AI12: 8 | AJ12: 8
B13: - | C13: Carácter: | D13: 9 | E13: 8 | F13: 6 | G13: 8 | H13: 9 | J13: 7 | K13: 7 | L13: 4 | M13: 9 | N13: 7 | O13: 7 | P13: 9 | Q13: 9 | R13: 7 | S13: 9 | T13: 8 | U13: 9 | V13: 9 | W13: 9 | X13: 9 | Y13: 9 | Z13: 9 | AA13: 8 | AB13: 9 | AC13: 9 | AD13: 8 | AE13: 6 | AF13: 7 | AG13: 9 | AH13: 9 | AI13: 8 | AJ13: 8
B14: - | C14: Capacidad para aceptar críticas a su actuación | D14: 10 | E14: 9 | F14: 6 | G14: 8 | H14: 9 | J14: 7 | K14: 9 | L14: 3 | M14: 9 | N14: 9 | O14: 7 | P14: 9 | Q14: 9 | R14: 9 | S14: 9 | T14: 9 | U14: 9 | V14: 9 | W14: 9 | X14: 9 | Y14: 9 | Z14: 9 | AA14: 8 | AB14: 9 | AC14: 9 | AD14: 8 | AE14: 1 | AF14: 9 | AG14: 9 | AH14: 9 | AI14: 9 | AJ14: 8
B15: - | C15: Lealtad: | D15: 9 | E15: 8 | F15: 8 | G15: 9 | H15: 9 | J15: 8 | K15: 9 | L15: 3 | M15: 9 | N15: 9 | O15: 8 | P15: 8 | Q15: 8 | R15: 9 | S15: 9 | T15: 9 | U15: 9 | V15: 9 | W15: 9 | X15: 8 | Y15: 8 | Z15: 8 | AA15: 7 | AB15: 8 | AC15: 9 | AD15: 8 | AE15: 8 | AF15: 8 | AG15: 8 | AH15: 8 | AI15: 8 | AJ15: 8
B16: - | C16: Fortaleza: | D16: 9 | E16: 8 | F16: 6 | G16: 8 | H16: 9 | J16: 8 | K16: 7 | L16: 3 | M16: 9 | N16: 9 | O16: 8 | P16: 8 | Q16: 8 | R16: 8 | S16: 9 | T16: 9 | U16: 10 | V16: 9 | W16: 9 | X16: 8 | Y16: 8 | Z16: 8 | AA16: 8 | AB16: 8 | AC16: 9 | AD16: 8 | AE16: 8 | AF16: 8 | AG16: 8 | AH16: 8 | AI16: 8 | AJ16: 8
B17: - | C17: Prudencia: | D17: 10 | E17: 6 | F17: 8 | G17: 9 | H17: 9 | J17: 7 | K17: 9 | L17: 1 | M17: 9 | N17: 9 | O17: 7 | P17: 8 | Q17: 9 | R17: 9 | S17: 9 | T17: 9 | U17: 9 | V17: 9 | W17: 8 | X17: 8 | Y17: 8 | Z17: 9 | AA17: 7 | AB17: 8 | AC17: 9 | AD17: 8 | AE17: 6 | AF17: 8 | AG17: 8 | AH17: 7 | AI17: 8 | AJ17: 8
C18: MEDIA | D18: =TRUNC(IFERROR(AVERAGE(D12:D17),"0"),2) -> 9.16 | E18: =TRUNC(IFERROR(AVERAGE(E12:E17),"0"),2) -> 7.66 | F18: =TRUNC(IFERROR(AVERAGE(F12:F17),"0"),2) -> 6.66 | G18: =TRUNC(IFERROR(AVERAGE(G12:G17),"0"),2) -> 8.33 | H18: =TRUNC(IFERROR(AVERAGE(H12:H17),"0"),2) -> 8.83 | I18: =TRUNC(IFERROR(AVERAGE(I12:I17),"0"),2) -> 0 | J18: =TRUNC(IFERROR(AVERAGE(J12:J17),"0"),2) -> 7.33 | K18: =TRUNC(IFERROR(AVERAGE(K12:K17),"0"),2) -> 8 | ... AJ18: =TRUNC(IFERROR(AVERAGE(AJ12:AJ17),"0"),2) -> 8
C19: INTERÉS PROFESIONAL | D19: INTERÉS PROFESIONAL
B20: - | C20: Conocimiento sobre la carrera y sus tradiciones: | D20: 8 | E20: 6 | F20: 5 | G20: 9 | H20: 8 | J20: 7 | K20: 7 | L20: 3 | M20: 8 | N20: 7 | O20: 7 | P20: 7 | Q20: 8 | R20: 8 | S20: 9 | T20: 8 | U20: 10 | V20: 8 | W20: 8 | X20: 8 | Y20: 8 | Z20: 8 | AA20: 8 | AB20: 8 | AC20: 9 | AD20: 9 | AE20: 6 | AF20: 9 | AG20: 8 | AH20: 8 | AI20: 8 | AJ20: 8
B21: - | C21: Espíritu Profesional: | D21: 8 | E21: 7 | F21: 4 | G21: 8 | H21: 8 | J21: 7 | K21: 9 | L21: 1 | M21: 10 | N21: 7 | O21: 8 | P21: 8 | Q21: 8 | R21: 8 | S21: 9 | T21: 9 | U21: 10 | V21: 9 | W21: 7 | X21: 7 | Y21: 8 | Z21: 8 | AA21: 7 | AB21: 7 | AC21: 8 | AD21: 8 | AE21: 5 | AF21: 9 | AG21: 8 | AH21: 7 | AI21: 8 | AJ21: 7
B22: - | C22: Rendimiento en actividades profesionales: | D22: 8 | E22: 7 | F22: 5 | G22: 8 | H22: 9 | J22: 8 | K22: 8 | L22: 2 | M22: 9 | N22: 9 | O22: 8 | P22: 8 | Q22: 8 | R22: 8 | S22: 9 | T22: 10 | U22: 9 | V22: 9 | W22: 8 | X22: 9 | Y22: 8 | Z22: 8 | AA22: 8 | AB22: 8 | AC22: 9 | AD22: 9 | AE22: 7 | AF22: 9 | AG22: 8 | AH22: 8 | AI22: 8 | AJ22: 8
C23: MEDIA | D23: =TRUNC(IFERROR(AVERAGE(D20:D22),"0"),2) -> 8 | E23: =TRUNC(IFERROR(AVERAGE(E20:E22),"0"),2) -> 6.66 | F23: =TRUNC(IFERROR(AVERAGE(F20:F22),"0"),2) -> 4.66 | G23: =TRUNC(IFERROR(AVERAGE(G20:G22),"0"),2) -> 8.33 | H23: =TRUNC(IFERROR(AVERAGE(H20:H22),"0"),2) -> 8.33 | I23: =TRUNC(IFERROR(AVERAGE(I20:I22),"0"),2) -> 0 | J23: =TRUNC(IFERROR(AVERAGE(J20:J22),"0"),2) -> 7.33 | K23: =TRUNC(IFERROR(AVERAGE(K20:K22),"0"),2) -> 8 | ... AJ23: =TRUNC(IFERROR(AVERAGE(AJ20:AJ22),"0"),2) -> 7.66
C24: PERSONALIDAD | D24: PERSONALIDAD
B25: - | C25: Capacidad de expresión oral: | D25: 8 | E25: 8 | F25: 6 | G25: 9 | H25: 9 | J25: 8 | K25: 8 | L25: 5 | M25: 9 | N25: 10 | O25: 8 | P25: 9 | Q25: 8 | R25: 9 | S25: 8 | T25: 10 | U25: 10 | V25: 9 | W25: 9 | X25: 9 | Y25: 8 | Z25: 8 | AA25: 9 | AB25: 8 | AC25: 7 | AD25: 9 | AE25: 8 | AF25: 10 | AG25: 9 | AH25: 9 | AI25: 9 | AJ25: 9
B26: - | C26: Ascendiente con sus compañeros: | D26: 8 | E26: 9 | F26: 6 | G26: 8 | H26: 8 | J26: 8 | K26: 6 | L26: 5 | M26: 8 | N26: 7 | O26: 8 | P26: 9 | Q26: 7 | R26: 7 | S26: 9 | T26: 9 | U26: 9 | V26: 9 | W26: 9 | X26: 8 | Y26: 8 | Z26: 8 | AA26: 7 | AB26: 7 | AC26: 8 | AD26: 9 | AE26: 6 | AF26: 9 | AG26: 8 | AH26: 8 | AI26: 7 | AJ26: 8
B27: - | C27: Madurez en sus actuaciones: | D27: 9 | E27: 7 | F27: 8 | G27: 9 | H27: 9 | J27: 7 | K27: 9 | L27: 5 | M27: 9 | N27: 9 | O27: 8 | P27: 8 | Q27: 8 | R27: 9 | S27: 9 | T27: 9 | U27: 9 | V27: 9 | W27: 8 | X27: 9 | Y27: 9 | Z27: 9 | AA27: 7 | AB27: 9 | AC27: 9 | AD27: 8 | AE27: 5 | AF27: 9 | AG27: 9 | AH27: 7 | AI27: 9 | AJ27: 8
B28: - | C28: Sociabilidad: | D28: 8 | E28: 9 | F28: 5 | G28: 9 | H28: 8 | J28: 8 | K28: 7 | L28: 5 | M28: 8 | N28: 8 | O28: 9 | P28: 9 | Q28: 8 | R28: 8 | S28: 8 | T28: 9 | U28: 9 | V28: 9 | W28: 9 | X28: 8 | Y28: 8 | Z28: 8 | AA28: 9 | AB28: 8 | AC28: 8 | AD28: 9 | AE28: 7 | AF28: 8 | AG28: 9 | AH28: 9 | AI28: 7 | AJ28: 8
B29: - | C29: Compañerismo, amistad y solidaridad: | D29: 8 | E29: 10 | F29: 7 | G29: 8 | H29: 8 | J29: 8 | K29: 9 | L29: 5 | M29: 9 | N29: 8 | O29: 9 | P29: 9 | Q29: 8 | R29: 8 | S29: 8 | T29: 9 | U29: 10 | V29: 9 | W29: 9 | X29: 8 | Y29: 8 | Z29: 8 | AA29: 9 | AB29: 8 | AC29: 8 | AD29: 9 | AE29: 6 | AF29: 8 | AG29: 9 | AH29: 8 | AI29: 8 | AJ29: 8
B30: - | C30: Condiciones de Líder: | D30: 7 | E30: 7 | F30: 1 | G30: 7 | H30: 7 | J30: 9 | K30: 6 | L30: 5 | M30: 8 | N30: 6 | O30: 8 | P30: 9 | Q30: 7 | R30: 6 | S30: 8 | T30: 10 | U30: 8 | V30: 8 | W30: 8 | X30: 7 | Y30: 7 | Z30: 7 | AA30: 7 | AB30: 7 | AC30: 7 | AD30: 9 | AE30: 1 | AF30: 7 | AG30: 7 | AH30: 7 | AI30: 7 | AJ30: 7
B31: - | C31: Iniciativa: | D31: 7 | E31: 7 | F31: 6 | G31: 7 | H31: 8 | J31: 8 | K31: 9 | L31: 5 | M31: 9 | N31: 8 | O31: 8 | P31: 8 | Q31: 7 | R31: 7 | S31: 8 | T31: 9 | U31: 9 | V31: 10 | W31: 9 | X31: 8 | Y31: 8 | Z31: 8 | AA31: 10 | AB31: 8 | AC31: 8 | AD31: 8 | AE31: 6 | AF31: 10 | AG31: 8 | AH31: 8 | AI31: 8 | AJ31: 8
B32: - | C32: Tacto y criterio: | D32: 9 | E32: 6 | F32: 8 | G32: 8 | H32: 9 | J32: 7 | K32: 9 | L32: 5 | M32: 9 | N32: 9 | O32: 7 | P32: 8 | Q32: 8 | R32: 9 | S32: 9 | T32: 9 | U32: 9 | V32: 8 | W32: 8 | X32: 9 | Y32: 8 | Z32: 8 | AA32: 7 | AB32: 9 | AC32: 9 | AD32: 8 | AE32: 3 | AF32: 8 | AG32: 9 | AH32: 7 | AI32: 9 | AJ32: 8
C33: MEDIA | D33: =TRUNC(IFERROR(AVERAGE(D25:D32),"0"),2) -> 8 | E33: =TRUNC(IFERROR(AVERAGE(E25:E32),"0"),2) -> 7.87 | F33: =TRUNC(IFERROR(AVERAGE(F25:F32),"0"),2) -> 5.87 | G33: =TRUNC(IFERROR(AVERAGE(G25:G32),"0"),2) -> 8.12 | H33: =TRUNC(IFERROR(AVERAGE(H25:H32),"0"),2) -> 8.25 | I33: =TRUNC(IFERROR(AVERAGE(I25:I32),"0"),2) -> 0 | J33: =TRUNC(IFERROR(AVERAGE(J25:J32),"0"),2) -> 7.87 | K33: =TRUNC(IFERROR(AVERAGE(K25:K32),"0"),2) -> 7.87 | ... AJ33: =TRUNC(IFERROR(AVERAGE(AJ25:AJ32),"0"),2) -> 8
C34: RESPONSABILIDAD | D34: RESPONSABILIDAD
B35: - | C35: Espíritu de superación: | D35: 8 | E35: 8 | F35: 6 | G35: 8 | H35: 9 | J35: 8 | K35: 8 | L35: 6 | M35: 10 | N35: 8 | O35: 8 | P35: 9 | Q35: 8 | R35: 9 | S35: 8 | T35: 10 | U35: 10 | V35: 9 | W35: 9 | X35: 9 | Y35: 9 | Z35: 9 | AA35: 9 | AB35: 9 | AC35: 10 | AD35: 9 | AE35: 6 | AF35: 9 | AG35: 9 | AH35: 8 | AI35: 9 | AJ35: 9
B36: - | C36: Capacidad para organizarse: | D36: 8 | E36: 7 | F36: 7 | G36: 8 | H36: 8 | J36: 8 | K36: 9 | L36: 6 | M36: 10 | N36: 8 | O36: 8 | P36: 8 | Q36: 8 | R36: 9 | S36: 8 | T36: 10 | U36: 9 | V36: 8 | W36: 8 | X36: 9 | Y36: 8 | Z36: 9 | AA36: 8 | AB36: 8 | AC36: 9 | AD36: 9 | AE36: 8 | AF36: 10 | AG36: 8 | AH36: 8 | AI36: 9 | AJ36: 9
B37: - | C37: Capacidad para asumir responsabilidades: | D37: 9 | E37: 6 | F37: 7 | G37: 8 | H37: 9 | J37: 7 | K37: 9 | L37: 6 | M37: 9 | N37: 9 | O37: 8 | P37: 8 | Q37: 8 | R37: 9 | S37: 8 | T37: 9 | U37: 10 | V37: 9 | W37: 9 | X37: 9 | Y37: 8 | Z37: 9 | AA37: 10 | AB37: 8 | AC37: 9 | AD37: 9 | AE37: 8 | AF37: 10 | AG37: 9 | AH37: 9 | AI37: 9 | AJ37: 9
B38: - | C38: Necesidad de control: | D38: 8 | E38: 7 | F38: 8 | G38: 8 | H38: 8 | J38: 8 | K38: 8 | L38: 6 | M38: 9 | N38: 8 | O38: 8 | P38: 8 | Q38: 8 | R38: 8 | S38: 8 | T38: 10 | U38: 9 | V38: 8 | W38: 8 | X38: 9 | Y38: 8 | Z38: 8 | AA38: 8 | AB38: 8 | AC38: 9 | AD38: 9 | AE38: 9 | AF38: 9 | AG38: 8 | AH38: 8 | AI38: 9 | AJ38: 8
B39: - | C39: Puntualidad: | D39: 9 | E39: 8 | F39: 9 | G39: 9 | H39: 8 | J39: 8 | K39: 9 | L39: 3 | M39: 9 | N39: 9 | O39: 8 | P39: 9 | Q39: 8 | R39: 9 | S39: 8 | T39: 10 | U39: 9 | V39: 9 | W39: 8 | X39: 9 | Y39: 8 | Z39: 9 | AA39: 8 | AB39: 9 | AC39: 9 | AD39: 9 | AE39: 8 | AF39: 9 | AG39: 9 | AH39: 8 | AI39: 9 | AJ39: 8
B40: - | C40: Tenacidad y constancia: | D40: 9 | E40: 7 | F40: 6 | G40: 8 | H40: 8 | J40: 8 | K40: 8 | L40: 3 | M40: 10 | N40: 9 | O40: 8 | P40: 9 | Q40: 9 | R40: 8 | S40: 8 | T40: 10 | U40: 10 | V40: 9 | W40: 9 | X40: 9 | Y40: 8 | Z40: 9 | AA40: 8 | AB40: 9 | AC40: 10 | AD40: 9 | AE40: 6 | AF40: 9 | AG40: 9 | AH40: 8 | AI40: 9 | AJ40: 8
C41: MEDIA | D41: =TRUNC(IFERROR(AVERAGE(D35:D40),"0"),2) -> 8.5 | E41: =TRUNC(IFERROR(AVERAGE(E35:E40),"0"),2) -> 7.16 | F41: =TRUNC(IFERROR(AVERAGE(F35:F40),"0"),2) -> 7.16 | G41: =TRUNC(IFERROR(AVERAGE(G35:G40),"0"),2) -> 8.16 | H41: =TRUNC(IFERROR(AVERAGE(H35:H40),"0"),2) -> 8.33 | I41: =TRUNC(IFERROR(AVERAGE(I35:I40),"0"),2) -> 0 | J41: =TRUNC(IFERROR(AVERAGE(J35:J40),"0"),2) -> 7.83 | K41: =TRUNC(IFERROR(AVERAGE(K35:K40),"0"),2) -> 8.5 | ... AJ41: =TRUNC(IFERROR(AVERAGE(AJ35:AJ40),"0"),2) -> 8.5
C42: ESPÍRITU MILITAR | D42: 7
B43: - | C43: Cumplimiento del deber: | D43: 9 | E43: 7 | F43: 8 | G43: 7 | H43: 8 | J43: 9 | K43: 9 | L43: 4 | M43: 9 | N43: 8 | O43: 8 | P43: 9 | Q43: 10 | R43: 8 | S43: 9 | T43: 10 | U43: 10 | V43: 9 | W43: 8 | X43: 9 | Y43: 8 | Z43: 9 | AA43: 8 | AB43: 9 | AC43: 9 | AD43: 10 | AE43: 6 | AF43: 9 | AG43: 9 | AH43: 8 | AI43: 9 | AJ43: 8
B44: - | C44: Abnegación: | D44: 8 | E44: 7 | F44: 6 | G44: 7 | H44: 8 | J44: 8 | K44: 8 | L44: 4 | M44: 9 | N44: 7 | O44: 7 | P44: 9 | Q44: 9 | R44: 8 | S44: 8 | T44: 9 | U44: 9 | V44: 8 | W44: 8 | X44: 8 | Y44: 7 | Z44: 8 | AA44: 8 | AB44: 8 | AC44: 8 | AD44: 9 | AE44: 6 | AF44: 9 | AG44: 8 | AH44: 7 | AI44: 8 | AJ44: 7
B45: - | C45: Respeto hacia sus superiores: | D45: 10 | E45: 9 | F45: 9 | G45: 9 | H45: 10 | J45: 9 | K45: 9 | L45: 4 | M45: 10 | N45: 9 | O45: 8 | P45: 9 | Q45: 9 | R45: 9 | S45: 9 | T45: 10 | U45: 10 | V45: 9 | W45: 9 | X45: 9 | Y45: 9 | Z45: 9 | AA45: 9 | AB45: 9 | AC45: 9 | AD45: 9 | AE45: 5 | AF45: 9 | AG45: 9 | AH45: 8 | AI45: 9 | AJ45: 9
B46: - | C46: Lealtad y franqueza con sus superiores | D46: 9 | E46: 9 | F46: 8 | G46: 8 | H46: 9 | J46: 9 | K46: 9 | L46: 4 | M46: 9 | N46: 9 | O46: 8 | P46: 9 | Q46: 9 | R46: 9 | S46: 9 | T46: 10 | U46: 10 | V46: 9 | W46: 9 | X46: 9 | Y46: 9 | Z46: 9 | AA46: 7 | AB46: 9 | AC46: 9 | AD46: 9 | AE46: 5 | AF46: 9 | AG46: 9 | AH46: 8 | AI46: 9 | AJ46: 9
B47: - | C47: Prestancia militar: | D47: 8 | E47: 6 | F47: 1 | G47: 8 | H47: 8 | J47: 9 | K47: 7 | L47: 1 | M47: 10 | N47: 7 | O47: 7 | P47: 8 | Q47: 7 | R47: 7 | S47: 9 | T47: 10 | U47: 8 | V47: 8 | W47: 7 | X47: 7 | Y47: 7 | Z47: 7 | AA47: 7 | AB47: 7 | AC47: 8 | AD47: 10 | AE47: 5 | AF47: 8 | AG47: 8 | AH47: 7 | AI47: 8 | AJ47: 7
C48: MEDIA | D48: =TRUNC(IFERROR(AVERAGE(D43:D47),"0"),2) -> 8.8 | E48: =TRUNC(IFERROR(AVERAGE(E43:E47),"0"),2) -> 7.6 | F48: =TRUNC(IFERROR(AVERAGE(F43:F47),"0"),2) -> 6.4 | G48: =TRUNC(IFERROR(AVERAGE(G43:G47),"0"),2) -> 7.8 | H48: =TRUNC(IFERROR(AVERAGE(H43:H47),"0"),2) -> 8.6 | I48: =TRUNC(IFERROR(AVERAGE(I43:I47),"0"),2) -> 0 | J48: =TRUNC(IFERROR(AVERAGE(J43:J47),"0"),2) -> 8.8 | K48: =TRUNC(IFERROR(AVERAGE(K43:K47),"0"),2) -> 8.4 | ... AF48: =TRUNC(IFERROR(AVERAGE(AF43:AF47),"0"),2) -> 8.8 | AG48: 8.6 | AH48: =TRUNC(IFERROR(AVERAGE(AH43:AH47),"0"),2) -> 7.6 | AI48: =TRUNC(IFERROR(AVERAGE(AI43:AI47),"0"),2) -> 8.6 | AJ48: =TRUNC(IFERROR(AVERAGE(AJ43:AJ47),"0"),2) -> 8
C49: COOPERACIÓN | D49: COOPERACIÓN
B50: - | C50: Espíritu de cooperación: | D50: 9 | E50: 9 | F50: 6 | G50: 8 | H50: 9 | J50: 9 | K50: 9 | L50: 6 | M50: 9 | N50: 8 | O50: 10 | P50: 9 | Q50: 8 | R50: 9 | S50: 9 | T50: 10 | U50: 9 | V50: 10 | W50: 9 | X50: 8 | Y50: 8 | Z50: 8 | AA50: 10 | AB50: 8 | AC50: 9 | AD50: 9 | AE50: 7 | AF50: 10 | AG50: 9 | AH50: 8 | AI50: 8 | AJ50: 8
B51: - | C51: Actitud en sus actuaciones: | D51: 9 | E51: 8 | F51: 6 | G51: 8 | H51: 8 | J51: 9 | K51: 7 | L51: 5 | M51: 9 | N51: 9 | O51: 9 | P51: 9 | Q51: 8 | R51: 9 | S51: 9 | T51: 9 | U51: 9 | V51: 9 | W51: 9 | X51: 8 | Y51: 9 | Z51: 9 | AA51: 9 | AB51: 9 | AC51: 8 | AD51: 9 | AE51: 7 | AF51: 9 | AG51: 9 | AH51: 8 | AI51: 9 | AJ51: 8
B52: - | C52: Participación extra o voluntaria: | D52: 8 | E52: 8 | F52: 6 | G52: 8 | H52: 8 | J52: 8 | K52: 8 | L52: 5 | M52: 9 | N52: 9 | O52: 9 | P52: 8 | Q52: 7 | R52: 8 | S52: 8 | T52: 9 | U52: 9 | V52: 10 | W52: 8 | X52: 8 | Y52: 8 | Z52: 8 | AA52: 10 | AB52: 8 | AC52: 8 | AD52: 9 | AE52: 7 | AF52: 10 | AG52: 8 | AH52: 8 | AI52: 8 | AJ52: 8
B53: - | C53: Espíritu de cuerpo: | D53: 8 | E53: 9 | F53: 6 | G53: 8 | H53: 9 | J53: 9 | K53: 9 | L53: 1 | M53: 9 | N53: 8 | O53: 9 | P53: 9 | Q53: 7 | R53: 8 | S53: 9 | T53: 9 | U53: 9 | V53: 9 | W53: 9 | X53: 8 | Y53: 8 | Z53: 8 | AA53: 8 | AB53: 8 | AC53: 9 | AD53: 9 | AE53: 7 | AF53: 7 | AG53: 8 | AH53: 8 | AI53: 7 | AJ53: 8
C54: MEDIA | D54: =TRUNC(IFERROR(AVERAGE(D50:D53),"0"),2) -> 8.5 | E54: =TRUNC(IFERROR(AVERAGE(E50:E53),"0"),2) -> 8.5 | F54: =TRUNC(IFERROR(AVERAGE(F50:F53),"0"),2) -> 6 | G54: =TRUNC(IFERROR(AVERAGE(G50:G53),"0"),2) -> 8 | H54: =TRUNC(IFERROR(AVERAGE(H50:H53),"0"),2) -> 8.5 | I54: =TRUNC(IFERROR(AVERAGE(I50:I53),"0"),2) -> 0 | J54: =TRUNC(IFERROR(AVERAGE(J50:J53),"0"),2) -> 8.75 | K54: =TRUNC(IFERROR(AVERAGE(K50:K53),"0"),2) -> 8.25 | ... AJ54: =TRUNC(IFERROR(AVERAGE(AJ50:AJ53),"0"),2) -> 8
C55: CONDUCTA | D55: CONDUCTA
B56: - | C56: Comportamiento social: | D56: 9 | E56: 9 | F56: 9 | G56: 9 | H56: 9 | J56: 8 | K56: 7 | L56: 1 | M56: 9 | N56: 9 | O56: 9 | P56: 9 | Q56: 8 | R56: 9 | S56: 9 | T56: 9 | U56: 10 | V56: 9 | W56: 9 | X56: 7 | Y56: 9 | Z56: 9 | AA56: 8 | AB56: 9 | AC56: 9 | AD56: 9 | AE56: 8 | AF56: 8 | AG56: 8 | AH56: 8 | AI56: 9 | AJ56: 9
B57: - | C57: Cortesía: | D57: 10 | E57: 9 | F57: 9 | G57: 9 | H57: 9 | J57: 8 | K57: 8 | L57: 7 | M57: 9 | N57: 9 | O57: 9 | P57: 9 | Q57: 9 | R57: 9 | S57: 9 | T57: 9 | U57: 9 | V57: 9 | W57: 9 | X57: 9 | Y57: 9 | Z57: 9 | AA57: 8 | AB57: 9 | AC57: 9 | AD57: 9 | AE57: 8 | AF57: 9 | AG57: 9 | AH57: 9 | AI57: 9 | AJ57: 9
B58: - | C58: Dominio de si mismo: | D58: 10 | E58: 8 | F58: 9 | G58: 9 | H58: 9 | J58: 7 | K58: 8 | L58: 4 | M58: 9 | N58: 9 | O58: 8 | P58: 8 | Q58: 9 | R58: 9 | S58: 9 | T58: 9 | U58: 9 | V58: 9 | W58: 8 | X58: 9 | Y58: 9 | Z58: 9 | AA58: 8 | AB58: 9 | AC58: 9 | AD58: 8 | AE58: 6 | AF58: 8 | AG58: 9 | AH58: 7 | AI58: 9 | AJ58: 9
B59: - | C59: Actitud al régimen de la Escuela: | D59: 9 | E59: 9 | F59: 9 | G59: 9 | H59: 9 | J59: 9 | K59: 8 | L59: 5 | M59: 9 | N59: 9 | O59: 9 | P59: 8 | Q59: 9 | R59: 9 | S59: 9 | T59: 10 | U59: 10 | V59: 9 | W59: 9 | X59: 8 | Y59: 9 | Z59: 9 | AA59: 8 | AB59: 9 | AC59: 9 | AD59: 9 | AE59: 8 | AF59: 9 | AG59: 9 | AH59: 8 | AI59: 9 | AJ59: 9
B60: - | C60: Comportamiento, actitud y predisposición en clases: | D60: 9 | E60: 9 | F60: 9 | G60: 9 | H60: 9 | J60: 9 | K60: 9 | L60: 7 | M60: 9 | N60: 9 | O60: 8 | P60: 9 | Q60: 9 | R60: 9 | S60: 9 | T60: 10 | U60: 10 | V60: 9 | W60: 9 | X60: 9 | Y60: 9 | Z60: 9 | AA60: 9 | AB60: 9 | AC60: 9 | AD60: 9 | AE60: 8 | AF60: 9 | AG60: 9 | AH60: 8 | AI60: 9 | AJ60: 9
B61: - | C61: Templanza: | D61: 9 | E61: 9 | F61: 9 | G61: 9 | H61: 9 | J61: 8 | K61: 9 | L61: 1 | M61: 9 | N61: 9 | O61: 8 | P61: 8 | Q61: 9 | R61: 9 | S61: 9 | T61: 9 | U61: 9 | V61: 9 | W61: 9 | X61: 9 | Y61: 9 | Z61: 9 | AA61: 8 | AB61: 9 | AC61: 9 | AD61: 9 | AE61: 5 | AF61: 9 | AG61: 9 | AH61: 7 | AI61: 9 | AJ61: 9
C62: MEDIA | D62: =TRUNC(IFERROR(AVERAGE(D56:D61),"0"),2) -> 9.33 | E62: =TRUNC(IFERROR(AVERAGE(E56:E61),"0"),2) -> 8.83 | F62: =TRUNC(IFERROR(AVERAGE(F56:F61),"0"),2) -> 9 | G62: =TRUNC(IFERROR(AVERAGE(G56:G61),"0"),2) -> 9 | H62: =TRUNC(IFERROR(AVERAGE(H56:H61),"0"),2) -> 9 | I62: =TRUNC(IFERROR(AVERAGE(I56:I61),"0"),2) -> 0 | J62: =TRUNC(IFERROR(AVERAGE(J56:J61),"0"),2) -> 8.16 | K62: =TRUNC(IFERROR(AVERAGE(K56:K61),"0"),2) -> 8.16 | ... AJ62: =TRUNC(IFERROR(AVERAGE(AJ56:AJ61),"0"),2) -> 9
C63: APTITUD FÍSICA | D63: APTITUD FÍSICA
B64: - | C64: Interés por participar en actividades deportivas: | D64: 9 | E64: 8 | F64: 6 | G64: 8 | H64: 9 | J64: 10 | K64: 8 | L64: 1 | M64: 9 | N64: 10 | O64: 8 | P64: 9 | Q64: 8 | R64: 8 | S64: 8 | T64: 10 | U64: 9 | V64: 8 | W64: 9 | X64: 8 | Y64: 8 | Z64: 8 | AA64: 9 | AB64: 8 | AC64: 9 | AD64: 9 | AE64: 8 | AF64: 8 | AG64: 9 | AH64: 9 | AI64: 8 | AJ64: 9
C65: MEDIA | D65: =TRUNC(IFERROR(AVERAGE(D64),"0"),2) -> 9 | E65: =TRUNC(IFERROR(AVERAGE(E64),"0"),2) -> 8 | F65: =TRUNC(IFERROR(AVERAGE(F64),"0"),2) -> 6 | G65: =TRUNC(IFERROR(AVERAGE(G64),"0"),2) -> 8 | H65: =TRUNC(IFERROR(AVERAGE(H64),"0"),2) -> 9 | I65: =TRUNC(IFERROR(AVERAGE(I64),"0"),2) -> 0 | J65: =TRUNC(IFERROR(AVERAGE(J64),"0"),2) -> 10 | K65: =TRUNC(IFERROR(AVERAGE(K64),"0"),2) -> 8 | ... Z65: =TRUNC(IFERROR(AVERAGE(Z64),"0"),2) -> 8 | AA65: 8 | AB65: =TRUNC(IFERROR(AVERAGE(AB64),"0"),2) -> 8 | AC65: =TRUNC(IFERROR(AVERAGE(AC64),"0"),2) -> 9 | AD65: =TRUNC(IFERROR(AVERAGE(AD64),"0"),2) -> 9 | AE65: =TRUNC(IFERROR(AVERAGE(AE64),"0"),2) -> 8 | AF65: =TRUNC(IFERROR(AVERAGE(AF64),"0"),2) -> 8 | AG65: =TRUNC(IFERROR(AVERAGE(AG64),"0"),2) -> 9 | AH65: =TRUNC(IFERROR(AVERAGE(AH64),"0"),2) -> 9 | AI65: =TRUNC(IFERROR(AVERAGE(AI64),"0"),2) -> 8 | AJ65: =TRUNC(IFERROR(AVERAGE(AJ64),"0"),2) -> 9
C66: TENIDA, ORDEN Y ASEO | D66: 9
B67: - | C67: Cuidado con su equipo personal: | D67: 9 | E67: 7 | F67: 8 | G67: 8 | H67: 8 | J67: 9 | K67: 9 | L67: 5 | M67: 9 | N67: 8 | O67: 8 | P67: 8 | Q67: 9 | R67: 8 | S67: 9 | T67: 9 | U67: 9 | V67: 8 | W67: 8 | X67: 9 | Y67: 8 | Z67: 8 | AA67: 8 | AB67: 8 | AC67: 8 | AD67: 8 | AE67: 8 | AF67: 8 | AG67: 8 | AH67: 8 | AI67: 8 | AJ67: 8
B68: - | C68: Presentación y aseo personal: | D68: 10 | E68: 8 | F68: 9 | G68: 9 | H68: 9 | J68: 9 | K68: 9 | L68: 6 | M68: 9 | N68: 9 | O68: 8 | P68: 8 | Q68: 9 | R68: 9 | S68: 9 | T68: 10 | U68: 9 | V68: 7 | W68: 8 | X68: 9 | Y68: 9 | Z68: 9 | AA68: 9 | AB68: 9 | AC68: 9 | AD68: 9 | AE68: 9 | AF68: 8 | AG68: 9 | AH68: 9 | AI68: 10 | AJ68: 9
B69: - | C69: Orden con sus elementos personales: | D69: 9 | E69: 9 | F69: 9 | G69: 8 | H69: 8 | J69: 8 | K69: 9 | L69: 4 | M69: 9 | N69: 9 | O69: 8 | P69: 8 | Q69: 8 | R69: 8 | S69: 8 | T69: 9 | U69: 8 | V69: 8 | W69: 8 | X69: 8 | Y69: 9 | Z69: 8 | AA69: 8 | AB69: 8 | AC69: 8 | AD69: 8 | AE69: 8 | AF69: 8 | AG69: 8 | AH69: 8 | AI69: 8 | AJ69: 8
C70: MEDIA | D70: =TRUNC(IFERROR(AVERAGE(D67:D69),"0"),2) -> 9.33 | E70: =TRUNC(IFERROR(AVERAGE(E67:E69),"0"),2) -> 8 | F70: =TRUNC(IFERROR(AVERAGE(F67:F69),"0"),2) -> 8.66 | G70: =TRUNC(IFERROR(AVERAGE(G67:G69),"0"),2) -> 8.33 | H70: =TRUNC(IFERROR(AVERAGE(H67:H69),"0"),2) -> 8.33 | I70: =TRUNC(IFERROR(AVERAGE(I67:I69),"0"),2) -> 0 | J70: =TRUNC(IFERROR(AVERAGE(J67:J69),"0"),2) -> 8.66 | K70: =TRUNC(IFERROR(AVERAGE(K67:K69),"0"),2) -> 9 | ... AJ70: =TRUNC(IFERROR(AVERAGE(AJ67:AJ69),"0"),2) -> 8.33
C71: NOTA MEDIA FINAL | D71: =TRUNC(IFERROR(AVERAGE(D70,D65,D62,D54,D48,D41,D33,D23,D18),"0"),2) -> 8.73 | E71: =TRUNC(IFERROR(AVERAGE(E70,E65,E62,E54,E48,E41,E33,E23,E18),"0"),2) -> 7.8 | F71: =TRUNC(IFERROR(AVERAGE(F70,F65,F62,F54,F48,F41,F33,F23,F18),"0"),2) -> 6.71 | G71: =TRUNC(IFERROR(AVERAGE(G70,G65,G62,G54,G48,G41,G33,G23,G18),"0"),2) -> 8.23 | H71: =TRUNC(IFERROR(AVERAGE(H70,H65,H62,H54,H48,H41,H33,H23,H18),"0"),2) -> 8.57 | I71: =TRUNC(IFERROR(AVERAGE(I70,I65,I62,I54,I48,I41,I33,I23,I18),"0"),2) -> 0 | J71: =TRUNC(IFERROR(AVERAGE(J70,J65,J62,J54,J48,J41,J33,J23,J18),"0"),2) -> 8.3 | K71: =TRUNC(IFERROR(AVERAGE(K70,K65,K62,K54,K48,K41,K33,K23,K18),"0"),2) -> 8.24 | ... AJ71: =TRUNC(IFERROR(AVERAGE(AJ70,AJ65,AJ62,AJ54,AJ48,AJ41,AJ33,AJ23,AJ18),"0"),2) -> 8.27

Sheet ESCUADRA-EM
H2: CALIFICACIÓN PARA CURSO CAOR
C3: PERDIODO | D3: 1
D4: =DATOS!A2&" "&DATOS!A7 -> Aguilera, Pablo Alberto | E4: =DATOS!B2&" "&DATOS!B7 -> Bambach, Juan Paulo | F4: =DATOS!C2&" "&DATOS!C7 -> Benavente, Sergio | G4: =DATOS!D2&" "&DATOS!D7 -> Bolelli, Ignacio Octavio | H4: =DATOS!E2&" "&DATOS!E7 -> Correa, Cristóbal | I4: =DATOS!F2&" "&DATOS!F7 -> De la Cruz , Oscar Ernesto | J4: =DATOS!G2&" "&DATOS!G7 -> Del Favero, Andrés | K4: =DATOS!H2&" "&DATOS!H7 -> Espejo, Paula Macarena | ... AJ4: =DATOS!AG2&" "&DATOS!AG7 -> Wuth, Enrique Alejandro
C5: INSTRUCTIOR: (GRADO / NOMBRE) | D5: =DATOS!A1 -> Aguilera | E5: =DATOS!B1 -> Bambach | F5: =DATOS!C1 -> Benavente | G5: =DATOS!D1 -> Bolelli | H5: =DATOS!E1 -> Correa | I5: =DATOS!F1 -> De la Cruz | J5: =DATOS!G1 -> Del Favero | K5: =DATOS!H1 -> Espejo | L5: =DATOS!I1 -> Fuenzalida | M5: =DATOS!J1&" C" -> Ibáñez C | N5: =DATOS!K1&" G" -> Ibáñez G | O5: =DATOS!L1 -> Izquierdo | P5: =DATOS!M1 -> Jones | Q5: =DATOS!N1 -> Jorquera | R5: =DATOS!O1 -> Junge | S5: =DATOS!P1 -> Kinast | T5: =DATOS!Q1 -> Larraín | U5: =DATOS!R1 -> Leiva | V5: =DATOS!S1 -> Lopez | ... AB5: =DATOS!Y1 -> Santis | AC5: =DATOS!Z1&" F" -> Solari F | AD5: =DATOS!AA1&" B" -> Solari B | AE5: =DATOS!AB1 -> Urrutia | AF5: =DATOS!AC1 -> Valdes | AG5: =DATOS!AD1 -> Vallebona | AH5: =DATOS!AE1 -> Vidaurre | AI5: =DATOS!AF1 -> Wagner | AJ5: =DATOS!AG1 -> Wuth
C6: Edad | D6: =DATOS!A4 -> 45.550685 | E6: =DATOS!B4 -> 59.668493 | F6: =DATOS!C4 -> 62.673973 | G6: =DATOS!D4 -> 42.29863 | H6: =DATOS!E4 -> 44.10411 | I6: =DATOS!F4 -> 55.128767 | J6: =DATOS!G4 -> 42.109589 | K6: =DATOS!H4 -> 44.043836 | ... AJ6: =DATOS!AG4 -> 44.446575
C7: Empresa | D7: =DATOS!A5 -> Netafim Chile | E7: =DATOS!B5 -> Estudio Philippi | F7: =DATOS!C5 -> Bci Asset Management | G7: =DATOS!D5 -> MBC Abogados | H7: =DATOS!E5 -> Yamana Gold | I7: =DATOS!F5 -> AAK Abogados | J7: =DATOS!G5 -> Lavin Abogados & Consultores | K7: =DATOS!H5 -> Boldtalk Spa | ... AJ7: =DATOS!AG5 -> Constructora WL
C8: Cargo | D8: =DATOS!A6 -> Agente Zonal Sexta Región | E8: =DATOS!B6 -> Abogado | F8: =DATOS!C6 -> Gerente de Riesgo | G8: =DATOS!D6 -> Socio | H8: =DATOS!E6 -> Director Legal | I8: =DATOS!F6 -> Socio | J8: =DATOS!G6 -> Socio | K8: =DATOS!H6 -> Fundadora | ... AJ8: =DATOS!AG6 -> Socio
D10: Las notas serán hechas de 1 a 10 (sin decimales), donde la nota mínima de aprobación será un 6.
C11: MANDO | D11: MANDO
B12: - | C12: Ejemplo que inspira con sus actuaciones: | D12: 9 | E12: 7 | F12: 7 | G12: 7 | H12: 9 | J12: 9 | K12: 8 | L12: 4 | M12: 10 | N12: 8 | O12: 8 | P12: 8 | Q12: 7 | R12: 7 | S12: 9 | T12: 10 | U12: 9 | V12: 9 | W12: 8 | X12: 8 | Y12: 8 | Z12: 8 | AA12: 8 | AB12: 8 | AC12: 9 | AD12: 9 | AE12: 7 | AF12: 9 | AG12: 8 | AH12: 8 | AI12: 8 | AJ12: 8
B13: - | C13: Carácter: | D13: 8 | E13: 8 | F13: 8 | G13: 7 | H13: 9 | J13: 8 | K13: 8 | L13: 7 | M13: 9 | N13: 8 | O13: 8 | P13: 9 | Q13: 7 | R13: 8 | S13: 9 | T13: 10 | U13: 9 | V13: 9 | W13: 9 | X13: 8 | Y13: 9 | Z13: 9 | AA13: 8 | AB13: 8 | AC13: 9 | AD13: 9 | AE13: 7 | AF13: 9 | AG13: 8 | AH13: 8 | AI13: 8 | AJ13: 8
B14: - | C14: Capacidad para aceptar críticas a su actuación | D14: 9 | E14: 9 | F14: 8 | G14: 8 | H14: 9 | J14: 9 | K14: 8 | L14: 7 | M14: 10 | N14: 9 | O14: 8 | P14: 9 | Q14: 9 | R14: 8 | S14: 10 | T14: 9 | U14: 10 | V14: 9 | W14: 10 | X14: 9 | Y14: 9 | Z14: 9 | AA14: 9 | AB14: 8 | AC14: 9 | AD14: 9 | AE14: 6 | AF14: 8 | AG14: 8 | AH14: 7 | AI14: 9 | AJ14: 8
B15: - | C15: Lealtad: | D15: 9 | E15: 8 | F15: 8 | G15: 8 | H15: 9 | J15: 10 | K15: 8 | L15: 7 | M15: 9 | N15: 8 | O15: 8 | P15: 8 | Q15: 8 | R15: 8 | S15: 9 | T15: 9 | U15: 9 | V15: 9 | W15: 9 | X15: 9 | Y15: 9 | Z15: 9 | AA15: 10 | AB15: 8 | AC15: 9 | AD15: 9 | AE15: 8 | AF15: 9 | AG15: 9 | AH15: 8 | AI15: 9 | AJ15: 8
B16: - | C16: Fortaleza: | D16: 8 | E16: 8 | F16: 8 | G16: 7 | H16: 9 | J16: 9 | K16: 8 | L16: 6 | M16: 10 | N16: 8 | O16: 8 | P16: 9 | Q16: 8 | R16: 7 | S16: 10 | T16: 10 | U16: 9 | V16: 8 | W16: 9 | X16: 8 | Y16: 8 | Z16: 8 | AA16: 8 | AB16: 9 | AC16: 10 | AD16: 10 | AE16: 7 | AF16: 9 | AG16: 9 | AH16: 8 | AI16: 9 | AJ16: 9
B17: - | C17: Prudencia: | D17: 9 | E17: 9 | F17: 8 | G17: 8 | H17: 9 | J17: 8 | K17: 8 | L17: 7 | M17: 9 | N17: 8 | O17: 8 | P17: 8 | Q17: 9 | R17: 9 | S17: 10 | T17: 9 | U17: 9 | V17: 9 | W17: 9 | X17: 9 | Y17: 9 | Z17: 9 | AA17: 9 | AB17: 9 | AC17: 8 | AD17: 9 | AE17: 7 | AF17: 9 | AG17: 9 | AH17: 7 | AI17: 9 | AJ17: 9
C18: MEDIA | D18: =TRUNC(IFERROR(AVERAGE(D12:D17),"0"),2) -> 8.66 | E18: =TRUNC(IFERROR(AVERAGE(E12:E17),"0"),2) -> 8.16 | F18: =TRUNC(IFERROR(AVERAGE(F12:F17),"0"),2) -> 7.83 | G18: =TRUNC(IFERROR(AVERAGE(G12:G17),"0"),2) -> 7.5 | H18: =TRUNC(IFERROR(AVERAGE(H12:H17),"0"),2) -> 9 | I18: =TRUNC(IFERROR(AVERAGE(I12:I17),"0"),2) -> 0 | J18: =TRUNC(IFERROR(AVERAGE(J12:J17),"0"),2) -> 8.83 | K18: =TRUNC(IFERROR(AVERAGE(K12:K17),"0"),2) -> 8 | ... AJ18: =TRUNC(IFERROR(AVERAGE(AJ12:AJ17),"0"),2) -> 8.33
C19: INTERÉS PROFESIONAL | D19: INTERÉS PROFESIONAL
B20: - | C20: Conocimiento sobre la carrera y sus tradiciones: | D20: 10 | E20: 7 | F20: 8 | G20: 7 | H20: 8 | J20: 7 | K20: 8 | L20: 6 | M20: 9 | N20: 8 | O20: 8 | P20: 8 | Q20: 8 | R20: 8 | S20: 9 | T20: 9 | U20: 9 | V20: 8 | W20: 8 | X20: 8 | Y20: 8 | Z20: 8 | AA20: 8 | AB20: 8 | AC20: 8 | AD20: 8 | AE20: 8 | AF20: 8 | AG20: 8 | AH20: 8 | AI20: 8 | AJ20: 8
B21: - | C21: Espíritu Profesional: | D21: 9 | E21: 8 | F21: 8 | G21: 7 | H21: 9 | J21: 7 | K21: 9 | L21: 6 | M21: 9 | N21: 9 | O21: 8 | P21: 9 | Q21: 8 | R21: 8 | S21: 9 | T21: 10 | U21: 9 | V21: 9 | W21: 8 | X21: 8 | Y21: 9 | Z21: 8 | AA21: 8 | AB21: 8 | AC21: 9 | AD21: 9 | AE21: 7 | AF21: 9 | AG21: 8 | AH21: 8 | AI21: 8 | AJ21: 8
B22: - | C22: Rendimiento en actividades profesionales: | D22: 9 | E22: 7 | F22: 8 | G22: 7 | H22: 8 | J22: 8 | K22: 8 | L22: 6 | M22: 10 | N22: 8 | O22: 7 | P22: 8 | Q22: 7 | R22: 8 | S22: 9 | T22: 10 | U22: 9 | V22: 8 | W22: 9 | X22: 8 | Y22: 8 | Z22: 7 | AA22: 8 | AB22: 8 | AC22: 9 | AD22: 8 | AE22: 7 | AF22: 9 | AG22: 9 | AH22: 8 | AI22: 7 | AJ22: 7
C23: MEDIA | D23: =TRUNC(IFERROR(AVERAGE(D20:D22),"0"),2) -> 9.33 | E23: =TRUNC(IFERROR(AVERAGE(E20:E22),"0"),2) -> 7.33 | F23: =TRUNC(IFERROR(AVERAGE(F20:F22),"0"),2) -> 8 | G23: =TRUNC(IFERROR(AVERAGE(G20:G22),"0"),2) -> 7 | H23: =TRUNC(IFERROR(AVERAGE(H20:H22),"0"),2) -> 8.33 | I23: =TRUNC(IFERROR(AVERAGE(I20:I22),"0"),2) -> 0 | J23: =TRUNC(IFERROR(AVERAGE(J20:J22),"0"),2) -> 7.33 | K23: =TRUNC(IFERROR(AVERAGE(K20:K22),"0"),2) -> 8.33 | ... AJ23: =TRUNC(IFERROR(AVERAGE(AJ20:AJ22),"0"),2) -> 7.66
C24: PERSONALIDAD | D24: PERSONALIDAD
B25: - | C25: Capacidad de expresión oral: | D25: 9 | E25: 9 | F25: 8 | G25: 8 | H25: 9 | J25: 8 | K25: 9 | L25: 6 | M25: 9 | N25: 8 | O25: 9 | P25: 9 | Q25: 8 | R25: 9 | S25: 9 | T25: 9 | U25: 9 | V25: 8 | W25: 9 | X25: 8 | Y25: 9 | Z25: 8 | AA25: 8 | AB25: 8 | AC25: 8 | AD25: 9 | AE25: 8 | AF25: 9 | AG25: 9 | AH25: 8 | AI25: 8 | AJ25: 8
B26: - | C26: Ascendiente con sus compañeros: | D26: 10 | E26: 9 | F26: 7 | G26: 7 | H26: 9 | J26: 9 | K26: 7 | L26: 6 | M26: 8 | N26: 7 | O26: 8 | P26: 9 | Q26: 8 | R26: 8 | S26: 9 | T26: 10 | U26: 8 | V26: 9 | W26: 9 | X26: 8 | Y26: 8 | Z26: 8 | AA26: 8 | AB26: 8 | AC26: 9 | AD26: 8 | AE26: 7 | AF26: 9 | AG26: 8 | AH26: 8 | AI26: 7 | AJ26: 7
B27: - | C27: Madurez en sus actuaciones: | D27: 9 | E27: 8 | F27: 9 | G27: 8 | H27: 9 | J27: 8 | K27: 9 | L27: 7 | M27: 9 | N27: 8 | O27: 9 | P27: 8 | Q27: 9 | R27: 8 | S27: 10 | T27: 10 | U27: 8 | V27: 9 | W27: 9 | X27: 9 | Y27: 9 | Z27: 8 | AA27: 8 | AB27: 8 | AC27: 8 | AD27: 9 | AE27: 7 | AF27: 9 | AG27: 8 | AH27: 8 | AI27: 8 | AJ27: 8
B28: - | C28: Sociabilidad: | D28: 9 | E28: 10 | F28: 8 | G28: 8 | H28: 9 | J28: 9 | K28: 8 | L28: 7 | M28: 9 | N28: 8 | O28: 8 | P28: 10 | Q28: 9 | R28: 7 | S28: 9 | T28: 9 | U28: 9 | V28: 9 | W28: 10 | X28: 9 | Y28: 8 | Z28: 9 | AA28: 9 | AB28: 8 | AC28: 9 | AD28: 8 | AE28: 8 | AF28: 8 | AG28: 9 | AH28: 8 | AI28: 8 | AJ28: 8
B29: - | C29: Compañerismo, amistad y solidaridad: | D29: 9 | E29: 10 | F29: 8 | G29: 9 | H29: 10 | J29: 10 | K29: 9 | L29: 8 | M29: 9 | N29: 9 | O29: 8 | P29: 9 | Q29: 9 | R29: 8 | S29: 10 | T29: 9 | U29: 9 | V29: 10 | W29: 10 | X29: 9 | Y29: 8 | Z29: 9 | AA29: 10 | AB29: 8 | AC29: 9 | AD29: 9 | AE29: 8 | AF29: 9 | AG29: 9 | AH29: 9 | AI29: 8 | AJ29: 8
B30: - | C30: Condiciones de Líder: | D30: 10 | E30: 8 | F30: 7 | G30: 7 | H30: 9 | J30: 9 | K30: 7 | L30: 6 | M30: 8 | N30: 7 | O30: 8 | P30: 9 | Q30: 7 | R30: 8 | S30: 10 | T30: 10 | U30: 9 | V30: 8 | W30: 8 | X30: 8 | Y30: 8 | Z30: 8 | AA30: 8 | AB30: 8 | AC30: 9 | AD30: 8 | AE30: 7 | AF30: 8 | AG30: 8 | AH30: 7 | AI30: 7 | AJ30: 7
B31: - | C31: Iniciativa: | D31: 9 | E31: 7 | F31: 7 | G31: 7 | H31: 8 | J31: 9 | K31: 7 | L31: 7 | M31: 10 | N31: 7 | O31: 8 | P31: 8 | Q31: 8 | R31: 7 | S31: 9 | T31: 9 | U31: 8 | V31: 9 | W31: 9 | X31: 8 | Y31: 8 | Z31: 9 | AA31: 9 | AB31: 7 | AC31: 9 | AD31: 8 | AE31: 7 | AF31: 9 | AG31: 8 | AH31: 8 | AI31: 8 | AJ31: 8
B32: - | C32: Tacto y criterio: | D32: 9 | E32: 9 | F32: 8 | G32: 8 | H32: 9 | J32: 8 | K32: 8 | L32: 5 | M32: 10 | N32: 8 | O32: 8 | P32: 8 | Q32: 9 | R32: 9 | S32: 9 | T32: 10 | U32: 9 | V32: 9 | W32: 9 | X32: 9 | Y32: 9 | Z32: 9 | AA32: 8 | AB32: 8 | AC32: 8 | AD32: 9 | AE32: 7 | AF32: 9 | AG32: 8 | AH32: 7 | AI32: 9 | AJ32: 8
C33: MEDIA | D33: =TRUNC(IFERROR(AVERAGE(D25:D32),"0"),2) -> 9.25 | E33: =TRUNC(IFERROR(AVERAGE(E25:E32),"0"),2) -> 8.75 | F33: =TRUNC(IFERROR(AVERAGE(F25:F32),"0"),2) -> 7.75 | G33: =TRUNC(IFERROR(AVERAGE(G25:G32),"0"),2) -> 7.75 | H33: =TRUNC(IFERROR(AVERAGE(H25:H32),"0"),2) -> 9 | I33: =TRUNC(IFERROR(AVERAGE(I25:I32),"0"),2) -> 0 | J33: =TRUNC(IFERROR(AVERAGE(J25:J32),"0"),2) -> 8.75 | K33: =TRUNC(IFERROR(AVERAGE(K25:K32),"0"),2) -> 8 | ... AJ33: =TRUNC(IFERROR(AVERAGE(AJ25:AJ32),"0"),2) -> 7.75
C34: RESPONSABILIDAD
B35: - | C35: Espíritu de superación: | D35: 9 | E35: 8 | F35: 8 | G35: 7 | H35: 9 | J35: 9 | K35: 8 | L35: 7 | M35: 10 | N35: 8 | O35: 8 | P35: 8 | Q35: 8 | R35: 8 | S35: 8 | T35: 9 | U35: 9 | V35: 9 | W35: 9 | X35: 8 | Y35: 9 | Z35: 9 | AA35: 8 | AB35: 8 | AC35: 9 | AD35: 9 | AE35: 7 | AF35: 8 | AG35: 8 | AH35: 8 | AI35: 8 | AJ35: 8
B36: - | C36: Capacidad para organizarse: | D36: 9 | E36: 8 | F36: 8 | G36: 8 | H36: 8 | J36: 9 | K36: 8 | L36: 7 | M36: 9 | N36: 8 | O36: 8 | P36: 8 | Q36: 8 | R36: 8 | S36: 9 | T36: 9 | U36: 9 | V36: 8 | W36: 9 | X36: 8 | Y36: 8 | Z36: 8 | AA36: 9 | AB36: 8 | AC36: 8 | AD36: 8 | AE36: 8 | AF36: 8 | AG36: 9 | AH36: 8 | AI36: 8 | AJ36: 8
B37: - | C37: Capacidad para asumir responsabilidades: | D37: 10 | E37: 7 | F37: 8 | G37: 8 | H37: 9 | J37: 9 | K37: 8 | L37: 7 | M37: 9 | N37: 8 | O37: 8 | P37: 8 | Q37: 7 | R37: 8 | S37: 9 | T37: 9 | U37: 10 | V37: 9 | W37: 8 | X37: 9 | Y37: 8 | Z37: 8 | AA37: 9 | AB37: 7 | AC37: 8 | AD37: 8 | AE37: 8 | AF37: 9 | AG37: 9 | AH37: 8 | AI37: 8 | AJ37: 8
B38: - | C38: Necesidad de control: | D38: 9 | E38: 8 | F38: 7 | G38: 7 | H38: 9 | J38: 8 | K38: 9 | L38: 7 | M38: 9 | N38: 8 | O38: 7 | P38: 8 | Q38: 8 | R38: 8 | S38: 9 | T38: 9 | U38: 9 | V38: 8 | W38: 8 | X38: 8 | Y38: 8 | Z38: 8 | AA38: 8 | AB38: 7 | AC38: 8 | AD38: 8 | AE38: 7 | AF38: 8 | AG38: 8 | AH38: 7 | AI38: 9 | AJ38: 8
B39: - | C39: Puntualidad: | D39: 9 | E39: 9 | F39: 8 | G39: 7 | H39: 8 | J39: 8 | K39: 8 | L39: 5 | M39: 9 | N39: 8 | O39: 7 | P39: 8 | Q39: 7 | R39: 8 | S39: 9 | T39: 9 | U39: 9 | V39: 9 | W39: 8 | X39: 8 | Y39: 9 | Z39: 8 | AA39: 9 | AB39: 8 | AC39: 9 | AD39: 9 | AE39: 7 | AF39: 9 | AG39: 9 | AH39: 8 | AI39: 8 | AJ39: 8
B40: - | C40: Tenacidad y constancia: | D40: 9 | E40: 8 | F40: 8 | G40: 7 | H40: 9 | J40: 9 | K40: 9 | L40: 6 | M40: 9 | N40: 8 | O40: 8 | P40: 8 | Q40: 9 | R40: 8 | S40: 9 | T40: 10 | U40: 10 | V40: 8 | W40: 9 | X40: 9 | Y40: 8 | Z40: 8 | AA40: 9 | AB40: 8 | AC40: 9 | AD40: 9 | AE40: 7 | AF40: 8 | AG40: 9 | AH40: 8 | AI40: 9 | AJ40: 8
C41: MEDIA | D41: =TRUNC(IFERROR(AVERAGE(D35:D40),"0"),2) -> 9.16 | E41: =TRUNC(IFERROR(AVERAGE(E35:E40),"0"),2) -> 8 | F41: =TRUNC(IFERROR(AVERAGE(F35:F40),"0"),2) -> 7.83 | G41: =TRUNC(IFERROR(AVERAGE(G35:G40),"0"),2) -> 7.33 | H41: =TRUNC(IFERROR(AVERAGE(H35:H40),"0"),2) -> 8.66 | I41: =TRUNC(IFERROR(AVERAGE(I35:I40),"0"),2) -> 0 | J41: =TRUNC(IFERROR(AVERAGE(J35:J40),"0"),2) -> 8.66 | K41: =TRUNC(IFERROR(AVERAGE(K35:K40),"0"),2) -> 8.33 | ... AJ41: =TRUNC(IFERROR(AVERAGE(AJ35:AJ40),"0"),2) -> 8
C42: ESPÍRITU MILITAR | D42: ESPÍRITU MILITAR
B43: - | C43: Cumplimiento del deber: | D43: 10 | E43: 8 | F43: 8 | G43: 8 | H43: 9 | J43: 9 | K43: 9 | L43: 7 | M43: 10 | N43: 9 | O43: 8 | P43: 8 | Q43: 8 | R43: 8 | S43: 9 | T43: 10 | U43: 10 | V43: 8 | W43: 9 | X43: 9 | Y43: 9 | Z43: 8 | AA43: 8 | AB43: 8 | AC43: 9 | AD43: 9 | AE43: 8 | AF43: 9 | AG43: 9 | AH43: 9 | AI43: 9 | AJ43: 8
B44: - | C44: Abnegación: | D44: 9 | E44: 8 | F44: 7 | G44: 7 | H44: 8 | J44: 8 | K44: 9 | L44: 7 | M44: 9 | N44: 8 | O44: 8 | P44: 7 | Q44: 7 | R44: 8 | S44: 8 | T44: 9 | U44: 9 | V44: 9 | W44: 9 | X44: 8 | Y44: 8 | Z44: 8 | AA44: 8 | AB44: 7 | AC44: 8 | AD44: 8 | AE44: 6 | AF44: 8 | AG44: 8 | AH44: 8 | AI44: 8 | AJ44: 7
B45: - | C45: Respeto hacia sus superiores: | D45: 9 | E45: 9 | F45: 8 | G45: 8 | H45: 9 | J45: 9 | K45: 9 | L45: 8 | M45: 10 | N45: 8 | O45: 9 | P45: 8 | Q45: 9 | R45: 9 | S45: 10 | T45: 10 | U45: 10 | V45: 10 | W45: 9 | X45: 9 | Y45: 9 | Z45: 9 | AA45: 9 | AB45: 9 | AC45: 9 | AD45: 9 | AE45: 6 | AF45: 9 | AG45: 9 | AH45: 9 | AI45: 9 | AJ45: 9
B46: - | C46: Lealtad y franqueza con sus superiores | D46: 9 | E46: 9 | F46: 8 | G46: 8 | H46: 9 | J46: 9 | K46: 9 | L46: 7 | M46: 9 | N46: 8 | O46: 8 | P46: 8 | Q46: 8 | R46: 8 | S46: 9 | T46: 9 | U46: 9 | V46: 9 | W46: 9 | X46: 9 | Y46: 8 | Z46: 8 | AA46: 9 | AB46: 8 | AC46: 9 | AD46: 9 | AE46: 6 | AF46: 8 | AG46: 8 | AH46: 8 | AI46: 8 | AJ46: 8
B47: - | C47: Prestancia militar: | D47: 9 | E47: 8 | F47: 7 | G47: 7 | H47: 10 | J47: 8 | K47: 9 | L47: 4 | M47: 10 | N47: 7 | O47: 8 | P47: 8 | Q47: 8 | R47: 8 | S47: 10 | T47: 10 | U47: 9 | V47: 8 | W47: 7 | X47: 8 | Y47: 8 | Z47: 8 | AA47: 8 | AB47: 8 | AC47: 9 | AD47: 9 | AE47: 6 | AF47: 8 | AG47: 8 | AH47: 8 | AI47: 8 | AJ47: 9
C48: MEDIA | D48: =TRUNC(IFERROR(AVERAGE(D43:D47),"0"),2) -> 9.2 | E48: =TRUNC(IFERROR(AVERAGE(E43:E47),"0"),2) -> 8.4 | F48: =TRUNC(IFERROR(AVERAGE(F43:F47),"0"),2) -> 7.6 | G48: =TRUNC(IFERROR(AVERAGE(G43:G47),"0"),2) -> 7.6 | H48: =TRUNC(IFERROR(AVERAGE(H43:H47),"0"),2) -> 9 | I48: =TRUNC(IFERROR(AVERAGE(I43:I47),"0"),2) -> 0 | J48: =TRUNC(IFERROR(AVERAGE(J43:J47),"0"),2) -> 8.6 | K48: =TRUNC(IFERROR(AVERAGE(K43:K47),"0"),2) -> 9 | ... AJ48: =TRUNC(IFERROR(AVERAGE(AJ43:AJ47),"0"),2) -> 8.2
C49: COOPERACIÓN | D49: COOPERACIÓN
B50: - | C50: Espíritu de cooperación: | D50: 9 | E50: 8 | F50: 8 | G50: 8 | H50: 9 | J50: 9 | K50: 9 | L50: 7 | M50: 9 | N50: 8 | O50: 8 | P50: 9 | Q50: 8 | R50: 8 | S50: 9 | T50: 9 | U50: 9 | V50: 10 | W50: 9 | X50: 8 | Y50: 8 | Z50: 9 | AA50: 9 | AB50: 8 | AC50: 9 | AD50: 9 | AE50: 7 | AF50: 9 | AG50: 9 | AH50: 8 | AI50: 8 | AJ50: 8
B51: - | C51: Actitud en sus actuaciones: | D51: 9 | E51: 8 | F51: 8 | G51: 7 | H51: 9 | J51: 9 | K51: 7 | L51: 6 | M51: 9 | N51: 9 | O51: 8 | P51: 8 | Q51: 8 | R51: 8 | S51: 9 | T51: 10 | U51: 9 | V51: 9 | W51: 9 | X51: 8 | Y51: 8 | Z51: 8 | AA51: 8 | AB51: 8 | AC51: 9 | AD51: 9 | AE51: 5 | AF51: 9 | AG51: 8 | AH51: 7 | AI51: 8 | AJ51: 8
B52: - | C52: Participación extra o voluntaria: | D52: 9 | E52: 7 | F52: 7 | G52: 7 | H52: 8 | J52: 8 | K52: 9 | L52: 6 | M52: 9 | N52: 8 | O52: 7 | P52: 8 | Q52: 8 | R52: 7 | S52: 8 | T52: 9 | U52: 9 | V52: 9 | W52: 9 | X52: 8 | Y52: 8 | Z52: 8 | AA52: 9 | AB52: 7 | AC52: 9 | AD52: 9 | AE52: 6 | AF52: 9 | AG52: 8 | AH52: 8 | AI52: 8 | AJ52: 7
B53: - | C53: Espíritu de cuerpo: | D53: 9 | E53: 9 | F53: 8 | G53: 8 | H53: 10 | J53: 9 | K53: 8 | L53: 7 | M53: 9 | N53: 8 | O53: 7 | P53: 9 | Q53: 8 | R53: 8 | S53: 8 | T53: 10 | U53: 10 | V53: 8 | W53: 9 | X53: 9 | Y53: 9 | Z53: 9 | AA53: 9 | AB53: 8 | AC53: 9 | AD53: 9 | AE53: 6 | AF53: 9 | AG53: 9 | AH53: 8 | AI53: 8 | AJ53: 8
C54: MEDIA | D54: =TRUNC(IFERROR(AVERAGE(D50:D53),"0"),2) -> 9 | E54: =TRUNC(IFERROR(AVERAGE(E50:E53),"0"),2) -> 8 | F54: =TRUNC(IFERROR(AVERAGE(F50:F53),"0"),2) -> 7.75 | G54: =TRUNC(IFERROR(AVERAGE(G50:G53),"0"),2) -> 7.5 | H54: =TRUNC(IFERROR(AVERAGE(H50:H53),"0"),2) -> 9 | I54: =TRUNC(IFERROR(AVERAGE(I50:I53),"0"),2) -> 0 | J54: =TRUNC(IFERROR(AVERAGE(J50:J53),"0"),2) -> 8.75 | K54: =TRUNC(IFERROR(AVERAGE(K50:K53),"0"),2) -> 8.25 | ... AJ54: =TRUNC(IFERROR(AVERAGE(AJ50:AJ53),"0"),2) -> 7.75
C55: CONDUCTA | D55: CONDUCTA
B56: - | C56: Comportamiento social: | D56: 9 | E56: 9 | F56: 8 | G56: 8 | H56: 9 | J56: 9 | K56: 8 | L56: 7 | M56: 9 | N56: 8 | O56: 8 | P56: 9 | Q56: 8 | R56: 9 | S56: 9 | T56: 9 | U56: 9 | V56: 9 | W56: 10 | X56: 8 | Y56: 8 | Z56: 9 | AA56: 9 | AB56: 8 | AC56: 9 | AD56: 8 | AE56: 7 | AF56: 8 | AG56: 8 | AH56: 8 | AI56: 8 | AJ56: 8
B57: - | C57: Cortesía: | D57: 10 | E57: 9 | F57: 8 | G57: 8 | H57: 9 | J57: 10 | K57: 8 | L57: 7 | M57: 10 | N57: 8 | O57: 8 | P57: 8 | Q57: 9 | R57: 9 | S57: 10 | T57: 9 | U57: 10 | V57: 9 | W57: 9 | X57: 9 | Y57: 9 | Z57: 9 | AA57: 9 | AB57: 8 | AC57: 9 | AD57: 9 | AE57: 7 | AF57: 9 | AG57: 8 | AH57: 9 | AI57: 9 | AJ57: 9
B58: - | C58: Dominio de si mismo: | D58: 9 | E58: 9 | F58: 7 | G58: 8 | H58: 9 | J58: 9 | K58: 8 | L58: 5 | M58: 9 | N58: 8 | O58: 8 | P58: 8 | Q58: 8 | R58: 8 | S58: 9 | T58: 9 | U58: 9 | V58: 8 | W58: 9 | X58: 8 | Y58: 9 | Z58: 8 | AA58: 8 | AB58: 7 | AC58: 8 | AD58: 8 | AE58: 6 | AF58: 8 | AG58: 8 | AH58: 8 | AI58: 9 | AJ58: 8
B59: - | C59: Actitud al régimen de la Escuela: | D59: 10 | E59: 8 | F59: 8 | G59: 7 | H59: 9 | J59: 9 | K59: 8 | L59: 6 | M59: 10 | N59: 8 | O59: 8 | P59: 8 | Q59: 9 | R59: 9 | S59: 10 | T59: 10 | U59: 10 | V59: 9 | W59: 8 | X59: 9 | Y59: 9 | Z59: 8 | AA59: 9 | AB59: 8 | AC59: 9 | AD59: 9 | AE59: 7 | AF59: 9 | AG59: 8 | AH59: 8 | AI59: 9 | AJ59: 8
B60: - | C60: Comportamiento, actitud y predisposición en clases: | D60: 8 | E60: 8 | F60: 8 | G60: 7 | H60: 9 | J60: 9 | K60: 8 | L60: 6 | M60: 9 | N60: 8 | O60: 7 | P60: 8 | Q60: 9 | R60: 9 | S60: 9 | T60: 9 | U60: 9 | V60: 9 | W60: 9 | X60: 9 | Y60: 9 | Z60: 8 | AA60: 9 | AB60: 8 | AC60: 8 | AD60: 9 | AE60: 7 | AF60: 9 | AG60: 9 | AH60: 8 | AI60: 8 | AJ60: 8
B61: - | C61: Templanza: | D61: 9 | E61: 8 | F61: 8 | G61: 7 | H61: 9 | J61: 9 | K61: 7 | L61: 5 | M61: 9 | N61: 7 | O61: 8 | P61: 8 | Q61: 8 | R61: 8 | S61: 9 | T61: 10 | U61: 9 | V61: 8 | W61: 8 | X61: 8 | Y61: 8 | Z61: 8 | AA61: 8 | AB61: 7 | AC61: 8 | AD61: 8 | AE61: 5 | AF61: 8 | AG61: 8 | AH61: 9 | AI61: 8 | AJ61: 8
C62: MEDIA | D62: =TRUNC(IFERROR(AVERAGE(D56:D61),"0"),2) -> 9.16 | E62: =TRUNC(IFERROR(AVERAGE(E56:E61),"0"),2) -> 8.5 | F62: =TRUNC(IFERROR(AVERAGE(F56:F61),"0"),2) -> 7.83 | G62: =TRUNC(IFERROR(AVERAGE(G56:G61),"0"),2) -> 7.5 | H62: =TRUNC(IFERROR(AVERAGE(H56:H61),"0"),2) -> 9 | I62: =TRUNC(IFERROR(AVERAGE(I56:I61),"0"),2) -> 0 | J62: =TRUNC(IFERROR(AVERAGE(J56:J61),"0"),2) -> 9.16 | K62: =TRUNC(IFERROR(AVERAGE(K56:K61),"0"),2) -> 7.83 | ... AJ62: =TRUNC(IFERROR(AVERAGE(AJ56:AJ61),"0"),2) -> 8.16
C63: APTITUD FÍSICA | D63: APTITUD FÍSICA
B64: - | C64: Interés por participar en actividades deportivas: | D64: 8 | E64: 7 | F64: 7 | G64: 7 | H64: 8 | J64: 10 | K64: 8 | L64: 6 | M64: 9 | N64: 9 | O64: 7 | P64: 7 | Q64: 8 | R64: 8 | S64: 10 | T64: 10 | U64: 9 | V64: 8 | W64: 8 | X64: 8 | Y64: 8 | Z64: 8 | AA64: 8 | AB64: 8 | AC64: 9 | AD64: 9 | AE64: 5 | AF64: 8 | AG64: 8 | AH64: 8 | AI64: 8 | AJ64: 8
C65: MEDIA | D65: =TRUNC(IFERROR(AVERAGE(D64),"0"),2) -> 8 | E65: =TRUNC(IFERROR(AVERAGE(E64),"0"),2) -> 7 | F65: =TRUNC(IFERROR(AVERAGE(F64),"0"),2) -> 7 | G65: =TRUNC(IFERROR(AVERAGE(G64),"0"),2) -> 7 | H65: =TRUNC(IFERROR(AVERAGE(H64),"0"),2) -> 8 | I65: =TRUNC(IFERROR(AVERAGE(I64),"0"),2) -> 0 | J65: =TRUNC(IFERROR(AVERAGE(J64),"0"),2) -> 10 | K65: =TRUNC(IFERROR(AVERAGE(K64),"0"),2) -> 8 | ... AJ65: =TRUNC(IFERROR(AVERAGE(AJ64),"0"),2) -> 8
C66: TENIDA, ORDEN Y ASEO | D66: TENIDA, ORDEN Y ASEO
B67: - | C67: Cuidado con su equipo personal: | D67: 9 | E67: 8 | F67: 8 | G67: 8 | H67: 9 | J67: 9 | K67: 9 | L67: 7 | M67: 9 | N67: 9 | O67: 8 | P67: 8 | Q67: 8 | R67: 8 | S67: 9 | T67: 10 | U67: 9 | V67: 8 | W67: 9 | X67: 9 | Y67: 9 | Z67: 9 | AA67: 10 | AB67: 8 | AC67: 9 | AD67: 9 | AE67: 8 | AF67: 9 | AG67: 8 | AH67: 9 | AI67: 9 | AJ67: 9
B68: - | C68: Presentación y aseo personal: | D68: 10 | E68: 9 | F68: 8 | G68: 8 | H68: 9 | J68: 9 | K68: 9 | L68: 8 | M68: 9 | N68: 9 | O68: 8 | P68: 8 | Q68: 8 | R68: 8 | S68: 9 | T68: 10 | U68: 10 | V68: 7 | W68: 9 | X68: 9 | Y68: 9 | Z68: 9 | AA68: 9 | AB68: 8 | AC68: 9 | AD68: 9 | AE68: 8 | AF68: 9 | AG68: 9 | AH68: 8 | AI68: 9 | AJ68: 9
B69: - | C69: Orden con sus elementos personales: | D69: 9 | E69: 8 | F69: 8 | G69: 8 | H69: 9 | J69: 9 | K69: 8 | L69: 6 | M69: 9 | N69: 8 | O69: 8 | P69: 8 | Q69: 8 | R69: 8 | S69: 9 | T69: 9 | U69: 9 | V69: 9 | W69: 8 | X69: 8 | Y69: 8 | Z69: 8 | AA69: 8 | AB69: 8 | AC69: 9 | AD69: 9 | AE69: 8 | AF69: 9 | AG69: 8 | AH69: 8 | AI69: 8 | AJ69: 9
C70: MEDIA | D70: =TRUNC(IFERROR(AVERAGE(D67:D69),"0"),2) -> 9.33 | E70: =TRUNC(IFERROR(AVERAGE(E67:E69),"0"),2) -> 8.33 | F70: =TRUNC(IFERROR(AVERAGE(F67:F69),"0"),2) -> 8 | G70: =TRUNC(IFERROR(AVERAGE(G67:G69),"0"),2) -> 8 | H70: =TRUNC(IFERROR(AVERAGE(H67:H69),"0"),2) -> 9 | I70: =TRUNC(IFERROR(AVERAGE(I67:I69),"0"),2) -> 0 | J70: =TRUNC(IFERROR(AVERAGE(J67:J69),"0"),2) -> 9 | K70: =TRUNC(IFERROR(AVERAGE(K67:K69),"0"),2) -> 8.66 | L70: 10 | M70: =TRUNC(IFERROR(AVERAGE(M67:M69),"0"),2) -> 9 | N70: =TRUNC(IFERROR(AVERAGE(N67:N69),"0"),2) -> 8.66 | O70: =TRUNC(IFERROR(AVERAGE(O67:O69),"0"),2) -> 8 | P70: =TRUNC(IFERROR(AVERAGE(P67:P69),"0"),2) -> 8 | Q70: =TRUNC(IFERROR(AVERAGE(Q67:Q69),"0"),2) -> 8 | R70: =TRUNC(IFERROR(AVERAGE(R67:R69),"0"),2) -> 8 | S70: =TRUNC(IFERROR(AVERAGE(S67:S69),"0"),2) -> 9 | T70: =TRUNC(IFERROR(AVERAGE(T67:T69),"0"),2) -> 9.66 | ... AJ70: =TRUNC(IFERROR(AVERAGE(AJ67:AJ69),"0"),2) -> 9
C71: NOTA MEDIA FINAL | D71: =TRUNC(IFERROR(AVERAGE(D70,D65,D62,D54,D48,D41,D33,D23,D18),"0"),2) -> 9.01 | E71: =TRUNC(IFERROR(AVERAGE(E70,E65,E62,E54,E48,E41,E33,E23,E18),"0"),2) -> 8.05 | F71: =TRUNC(IFERROR(AVERAGE(F70,F65,F62,F54,F48,F41,F33,F23,F18),"0"),2) -> 7.73 | G71: =TRUNC(IFERROR(AVERAGE(G70,G65,G62,G54,G48,G41,G33,G23,G18),"0"),2) -> 7.46 | H71: =TRUNC(IFERROR(AVERAGE(H70,H65,H62,H54,H48,H41,H33,H23,H18),"0"),2) -> 8.77 | I71: =TRUNC(IFERROR(AVERAGE(I70,I65,I62,I54,I48,I41,I33,I23,I18),"0"),2) -> 0 | J71: =TRUNC(IFERROR(AVERAGE(J70,J65,J62,J54,J48,J41,J33,J23,J18),"0"),2) -> 8.78 | K71: =TRUNC(IFERROR(AVERAGE(K70,K65,K62,K54,K48,K41,K33,K23,K18),"0"),2) -> 8.26 | ... AJ71: =TRUNC(IFERROR(AVERAGE(AJ70,AJ65,AJ62,AJ54,AJ48,AJ41,AJ33,AJ23,AJ18),"0"),2) -> 8.09

Sheet ESCUADRA-RC
H2: CALIFICACIÓN PARA CURSO CAOR
C3: PERDIODO | D3: 1
D4: =DATOS!A2&" "&DATOS!A7 -> Aguilera, Pablo Alberto | E4: =DATOS!B2&" "&DATOS!B7 -> Bambach, Juan Paulo | F4: =DATOS!C2&" "&DATOS!C7 -> Benavente, Sergio | G4: =DATOS!D2&" "&DATOS!D7 -> Bolelli, Ignacio Octavio | H4: =DATOS!E2&" "&DATOS!E7 -> Correa, Cristóbal | I4: =DATOS!F2&" "&DATOS!F7 -> De la Cruz , Oscar Ernesto | J4: =DATOS!G2&" "&DATOS!G7 -> Del Favero, Andrés | K4: =DATOS!H2&" "&DATOS!H7 -> Espejo, Paula Macarena | ... AJ4: =DATOS!AG2&" "&DATOS!AG7 -> Wuth, Enrique Alejandro
C5: INSTRUCTIOR: (GRADO / NOMBRE) | D5: =DATOS!A1 -> Aguilera | E5: =DATOS!B1 -> Bambach | F5: =DATOS!C1 -> Benavente | G5: =DATOS!D1 -> Bolelli | H5: =DATOS!E1 -> Correa | I5: =DATOS!F1 -> De la Cruz | J5: =DATOS!G1 -> Del Favero | K5: =DATOS!H1 -> Espejo | L5: =DATOS!I1 -> Fuenzalida | M5: =DATOS!J1&" C" -> Ibáñez C | N5: =DATOS!K1&" G" -> Ibáñez G | O5: =DATOS!L1 -> Izquierdo | P5: =DATOS!M1 -> Jones | Q5: =DATOS!N1 -> Jorquera | R5: =DATOS!O1 -> Junge | S5: =DATOS!P1 -> Kinast | T5: =DATOS!Q1 -> Larraín | U5: =DATOS!R1 -> Leiva | V5: =DATOS!S1 -> Lopez | ... AB5: =DATOS!Y1 -> Santis | AC5: =DATOS!Z1&" F" -> Solari F | AD5: =DATOS!AA1&" B" -> Solari B | AE5: =DATOS!AB1 -> Urrutia | AF5: =DATOS!AC1 -> Valdes | AG5: =DATOS!AD1 -> Vallebona | AH5: =DATOS!AE1 -> Vidaurre | AI5: =DATOS!AF1 -> Wagner | AJ5: =DATOS!AG1 -> Wuth
C6: Edad | D6: =DATOS!A4 -> 45.550685 | E6: =DATOS!B4 -> 59.668493 | F6: =DATOS!C4 -> 62.673973 | G6: =DATOS!D4 -> 42.29863 | H6: =DATOS!E4 -> 44.10411 | I6: =DATOS!F4 -> 55.128767 | J6: =DATOS!G4 -> 42.109589 | K6: =DATOS!H4 -> 44.043836 | ... AJ6: =DATOS!AG4 -> 44.446575
C7: Empresa | D7: =DATOS!A5 -> Netafim Chile | E7: =DATOS!B5 -> Estudio Philippi | F7: =DATOS!C5 -> Bci Asset Management | G7: =DATOS!D5 -> MBC Abogados | H7: =DATOS!E5 -> Yamana Gold | I7: =DATOS!F5 -> AAK Abogados | J7: =DATOS!G5 -> Lavin Abogados & Consultores | K7: =DATOS!H5 -> Boldtalk Spa | ... AJ7: =DATOS!AG5 -> Constructora WL
C8: Cargo | D8: =DATOS!A6 -> Agente Zonal Sexta Región | E8: =DATOS!B6 -> Abogado | F8: =DATOS!C6 -> Gerente de Riesgo | G8: =DATOS!D6 -> Socio | H8: =DATOS!E6 -> Director Legal | I8: =DATOS!F6 -> Socio | J8: =DATOS!G6 -> Socio | K8: =DATOS!H6 -> Fundadora | ... AJ8: =DATOS!AG6 -> Socio
AC9: Benjamin | AD9: Fernando
D10: Las notas serán hechas de 1 a 10 (sin decimales), donde la nota mínima de aprobación será un 6.
C11: MANDO | D11: MANDO
B12: - | C12: Ejemplo que inspira con sus actuaciones: | D12: 10 | E12: 7 | F12: 6 | G12: 7 | H12: 9 | J12: 8 | K12: 7 | L12: 4 | M12: 10 | N12: 8 | O12: 7 | P12: 10 | Q12: 6 | R12: 9 | S12: 10 | T12: 10 | U12: 10 | V12: 8 | W12: 8 | X12: 8 | Y12: 8 | Z12: 8 | AA12: 7 | AB12: 9 | AC12: 9 | AD12: 10 | AE12: 6 | AF12: 8 | AG12: 10 | AH12: 6 | AI12: 9 | AJ12: 8
B13: - | C13: Carácter: | D13: 10 | E13: 8 | F13: 7 | G13: 8 | H13: 10 | J13: 8 | K13: 7 | L13: 7 | M13: 10 | N13: 9 | O13: 6 | P13: 10 | Q13: 8 | R13: 10 | S13: 10 | T13: 10 | U13: 9 | V13: 9 | W13: 9 | X13: 7 | Y13: 9 | Z13: 9 | AA13: 9 | AB13: 9 | AC13: 10 | AD13: 10 | AE13: 5 | AF13: 9 | AG13: 10 | AH13: 9 | AI13: 8 | AJ13: 9
B14: - | C14: Capacidad para aceptar críticas a su actuación | D14: 10 | E14: 8 | F14: 9 | G14: 9 | H14: 10 | J14: 9 | K14: 9 | L14: 8 | M14: 10 | N14: 10 | O14: 5 | P14: 10 | Q14: 10 | R14: 10 | S14: 10 | T14: 10 | U14: 10 | V14: 10 | W14: 9 | X14: 10 | Y14: 10 | Z14: 9 | AA14: 9 | AB14: 9 | AC14: 10 | AD14: 10 | AE14: 4 | AF14: 10 | AG14: 10 | AH14: 8 | AI14: 10 | AJ14: 10
B15: - | C15: Lealtad: | D15: 10 | E15: 10 | F15: 10 | G15: 10 | H15: 10 | J15: 10 | K15: 10 | L15: 9 | M15: 10 | N15: 10 | O15: 10 | P15: 10 | Q15: 10 | R15: 10 | S15: 10 | T15: 10 | U15: 10 | V15: 10 | W15: 10 | X15: 10 | Y15: 10 | Z15: 10 | AA15: 9 | AB15: 10 | AC15: 10 | AD15: 10 | AE15: 9 | AF15: 10 | AG15: 10 | AH15: 10 | AI15: 10 | AJ15: 10
B16: - | C16: Fortaleza: | D16: 9 | E16: 9 | F16: 8 | G16: 9 | H16: 9 | J16: 9 | K16: 8 | L16: 6 | M16: 10 | N16: 8 | O16: 8 | P16: 10 | Q16: 9 | R16: 8 | S16: 9 | T16: 10 | U16: 9 | V16: 9 | W16: 9 | X16: 9 | Y16: 9 | Z16: 9 | AA16: 9 | AB16: 9 | AC16: 9 | AD16: 9 | AE16: 7 | AF16: 8 | AG16: 9 | AH16: 9 | AI16: 9 | AJ16: 9
B17: - | C17: Prudencia: | D17: 10 | E17: 6 | F17: 9 | G17: 9 | H17: 10 | J17: 8 | K17: 10 | L17: 4 | M17: 10 | N17: 10 | O17: 8 | P17: 9 | Q17: 9 | R17: 10 | S17: 10 | T17: 10 | U17: 10 | V17: 9 | W17: 8 | X17: 10 | Y17: 10 | Z17: 9 | AA17: 7 | AB17: 10 | AC17: 10 | AD17: 10 | AE17: 6 | AF17: 8 | AG17: 10 | AH17: 6 | AI17: 9 | AJ17: 10
C18: MEDIA | D18: =TRUNC(IFERROR(AVERAGE(D12:D17),"0"),2) -> 9.83 | E18: =TRUNC(IFERROR(AVERAGE(E12:E17),"0"),2) -> 8 | F18: =TRUNC(IFERROR(AVERAGE(F12:F17),"0"),2) -> 8.16 | G18: =TRUNC(IFERROR(AVERAGE(G12:G17),"0"),2) -> 8.66 | H18: =TRUNC(IFERROR(AVERAGE(H12:H17),"0"),2) -> 9.66 | I18: =TRUNC(IFERROR(AVERAGE(I12:I17),"0"),2) -> 0 | J18: =TRUNC(IFERROR(AVERAGE(J12:J17),"0"),2) -> 8.66 | K18: =TRUNC(IFERROR(AVERAGE(K12:K17),"0"),2) -> 8.5 | ... AJ18: =TRUNC(IFERROR(AVERAGE(AJ12:AJ17),"0"),2) -> 9.33
C19: INTERÉS PROFESIONAL | D19: INTERÉS PROFESIONAL
B20: - | C20: Conocimiento sobre la carrera y sus tradiciones: | D20: 10 | E20: 8 | F20: 6 | G20: 9 | H20: 8 | J20: 9 | K20: 7 | L20: 4 | M20: 9 | N20: 9 | O20: 7 | P20: 9 | Q20: 7 | R20: 8 | S20: 9 | T20: 9 | U20: 9 | V20: 7 | W20: 7 | X20: 8 | Y20: 8 | Z20: 8 | AA20: 8 | AB20: 8 | AC20: 9 | AD20: 9 | AE20: 6 | AF20: 7 | AG20: 8 | AH20: 7 | AI20: 8 | AJ20: 8
B21: - | C21: Espíritu Profesional: | D21: 10 | E21: 9 | F21: 9 | G21: 8 | H21: 10 | J21: 9 | K21: 8 | L21: 7 | M21: 9 | N21: 8 | O21: 7 | P21: 10 | Q21: 9 | R21: 9 | S21: 10 | T21: 10 | U21: 10 | V21: 9 | W21: 9 | X21: 9 | Y21: 9 | Z21: 8 | AA21: 8 | AB21: 9 | AC21: 10 | AD21: 10 | AE21: 8 | AF21: 9 | AG21: 10 | AH21: 8 | AI21: 9 | AJ21: 9
B22: - | C22: Rendimiento en actividades profesionales: | D22: 9 | E22: 8 | F22: 9 | G22: 8 | H22: 9 | J22: 9 | K22: 8 | L22: 6 | M22: 9 | N22: 9 | O22: 7 | P22: 9 | Q22: 8 | R22: 9 | S22: 10 | T22: 10 | U22: 10 | V22: 8 | W22: 9 | X22: 8 | Y22: 8 | Z22: 7 | AA22: 9 | AB22: 8 | AC22: 10 | AD22: 10 | AE22: 8 | AF22: 8 | AG22: 9 | AH22: 8 | AI22: 9 | AJ22: 8
C23: MEDIA | D23: =TRUNC(IFERROR(AVERAGE(D20:D22),"0"),2) -> 9.66 | E23: =TRUNC(IFERROR(AVERAGE(E20:E22),"0"),2) -> 8.33 | F23: =TRUNC(IFERROR(AVERAGE(F20:F22),"0"),2) -> 8 | G23: =TRUNC(IFERROR(AVERAGE(G20:G22),"0"),2) -> 8.33 | H23: =TRUNC(IFERROR(AVERAGE(H20:H22),"0"),2) -> 9 | I23: =TRUNC(IFERROR(AVERAGE(I20:I22),"0"),2) -> 0 | J23: =TRUNC(IFERROR(AVERAGE(J20:J22),"0"),2) -> 9 | K23: =TRUNC(IFERROR(AVERAGE(K20:K22),"0"),2) -> 7.66 | ... AJ23: =TRUNC(IFERROR(AVERAGE(AJ20:AJ22),"0"),2) -> 8.33
C24: PERSONALIDAD | D24: PERSONALIDAD
B25: - | C25: Capacidad de expresión oral: | D25: 9 | E25: 10 | F25: 7 | G25: 8 | H25: 10 | J25: 10 | K25: 7 | L25: 6 | M25: 9 | N25: 8 | O25: 8 | P25: 10 | Q25: 8 | R25: 9 | S25: 9 | T25: 10 | U25: 9 | V25: 8 | W25: 10 | X25: 8 | Y25: 9 | Z25: 8 | AA25: 9 | AB25: 8 | AC25: 9 | AD25: 10 | AE25: 8 | AF25: 8 | AG25: 9 | AH25: 9 | AI25: 8 | AJ25: 8
B26: - | C26: Ascendiente con sus compañeros: | D26: 10 | E26: 8 | F26: 7 | G26: 8 | H26: 10 | J26: 9 | K26: 8 | L26: 5 | M26: 10 | N26: 8 | O26: 7 | P26: 10 | Q26: 8 | R26: 9 | S26: 10 | T26: 10 | U26: 10 | V26: 9 | W26: 9 | X26: 8 | Y26: 8 | Z26: 8 | AA26: 9 | AB26: 9 | AC26: 10 | AD26: 10 | AE26: 7 | AF26: 9 | AG26: 10 | AH26: 8 | AI26: 8 | AJ26: 9
B27: - | C27: Madurez en sus actuaciones: | D27: 10 | E27: 7 | F27: 9 | G27: 8 | H27: 9 | J27: 8 | K27: 8 | L27: 6 | M27: 10 | N27: 10 | O27: 8 | P27: 10 | Q27: 9 | R27: 10 | S27: 10 | T27: 10 | U27: 10 | V27: 10 | W27: 9 | X27: 10 | Y27: 10 | Z27: 10 | AA27: 9 | AB27: 10 | AC27: 10 | AD27: 10 | AE27: 7 | AF27: 9 | AG27: 10 | AH27: 8 | AI27: 9 | AJ27: 9
B28: - | C28: Sociabilidad: | D28: 9 | E28: 10 | F28: 6 | G28: 8 | H28: 9 | J28: 10 | K28: 6 | L28: 6 | M28: 8 | N28: 7 | O28: 9 | P28: 10 | Q28: 8 | R28: 9 | S28: 10 | T28: 10 | U28: 10 | V28: 10 | W28: 10 | X28: 7 | Y28: 9 | Z28: 9 | AA28: 10 | AB28: 10 | AC28: 10 | AD28: 10 | AE28: 8 | AF28: 10 | AG28: 9 | AH28: 10 | AI28: 8 | AJ28: 9
B29: - | C29: Compañerismo, amistad y solidaridad: | D29: 10 | E29: 10 | F29: 9 | G29: 10 | H29: 10 | J29: 10 | K29: 9 | L29: 7 | M29: 10 | N29: 10 | O29: 9 | P29: 10 | Q29: 10 | R29: 10 | S29: 10 | T29: 10 | U29: 10 | V29: 10 | W29: 10 | X29: 10 | Y29: 10 | Z29: 10 | AA29: 10 | AB29: 10 | AC29: 10 | AD29: 10 | AE29: 7 | AF29: 10 | AG29: 10 | AH29: 9 | AI29: 10 | AJ29: 10
B30: - | C30: Condiciones de Líder: | D30: 10 | E30: 8 | F30: 6 | G30: 7 | H30: 10 | J30: 9 | K30: 6 | L30: 4 | M30: 9 | N30: 8 | O30: 6 | P30: 10 | Q30: 8 | R30: 9 | S30: 10 | T30: 10 | U30: 10 | V30: 8 | W30: 8 | X30: 7 | Y30: 9 | Z30: 8 | AA30: 10 | AB30: 9 | AC30: 9 | AD30: 10 | AE30: 7 | AF30: 7 | AG30: 9 | AH30: 8 | AI30: 8 | AJ30: 9
B31: - | C31: Iniciativa: | D31: 9 | E31: 9 | F31: 7 | G31: 9 | H31: 9 | J31: 9 | K31: 8 | L31: 6 | M31: 9 | N31: 9 | O31: 8 | P31: 9 | Q31: 9 | R31: 9 | S31: 9 | T31: 9 | U31: 9 | V31: 10 | W31: 9 | X31: 8 | Y31: 8 | Z31: 9 | AA31: 10 | AB31: 9 | AC31: 9 | AD31: 9 | AE31: 8 | AF31: 10 | AG31: 9 | AH31: 9 | AI31: 8 | AJ31: 9
B32: - | C32: Tacto y criterio: | D32: 10 | E32: 8 | F32: 9 | G32: 10 | H32: 10 | J32: 9 | K32: 9 | L32: 9 | M32: 9 | N32: 9 | O32: 7 | P32: 9 | Q32: 9 | R32: 9 | S32: 10 | T32: 10 | U32: 10 | V32: 9 | W32: 9 | X32: 9 | Y32: 9 | Z32: 9 | AA32: 8 | AB32: 9 | AC32: 10 | AD32: 9 | AE32: 7 | AF32: 9 | AG32: 9 | AH32: 8 | AI32: 9 | AJ32: 9
C33: MEDIA | D33: =TRUNC(IFERROR(AVERAGE(D25:D32),"0"),2) -> 9.62 | E33: =TRUNC(IFERROR(AVERAGE(E25:E32),"0"),2) -> 8.75 | F33: =TRUNC(IFERROR(AVERAGE(F25:F32),"0"),2) -> 7.5 | G33: =TRUNC(IFERROR(AVERAGE(G25:G32),"0"),2) -> 8.5 | H33: =TRUNC(IFERROR(AVERAGE(H25:H32),"0"),2) -> 9.62 | I33: =TRUNC(IFERROR(AVERAGE(I25:I32),"0"),2) -> 0 | J33: =TRUNC(IFERROR(AVERAGE(J25:J32),"0"),2) -> 9.25 | K33: =TRUNC(IFERROR(AVERAGE(K25:K32),"0"),2) -> 7.62 | ... AJ33: =TRUNC(IFERROR(AVERAGE(AJ25:AJ32),"0"),2) -> 9
C34: RESPONSABILIDAD | D34: RESPONSABILIDAD
B35: - | C35: Espíritu de superación: | D35: 9 | E35: 9 | F35: 9 | G35: 9 | H35: 9 | J35: 9 | K35: 9 | L35: 7 | M35: 9 | N35: 9 | O35: 9 | P35: 9 | Q35: 9 | R35: 9 | S35: 9 | T35: 9 | U35: 9 | V35: 9 | W35: 9 | X35: 9 | Y35: 9 | Z35: 9 | AA35: 9 | AB35: 9 | AC35: 9 | AD35: 9 | AE35: 7 | AF35: 9 | AG35: 9 | AH35: 9 | AI35: 9 | AJ35: 9
B36: - | C36: Capacidad para organizarse: | D36: 9 | E36: 9 | F36: 9 | G36: 9 | H36: 9 | J36: 9 | K36: 8 | L36: 6 | M36: 10 | N36: 9 | O36: 8 | P36: 10 | Q36: 9 | R36: 9 | S36: 10 | T36: 10 | U36: 10 | V36: 9 | W36: 9 | X36: 9 | Y36: 9 | Z36: 9 | AA36: 10 | AB36: 9 | AC36: 9 | AD36: 9 | AE36: 9 | AF36: 8 | AG36: 9 | AH36: 9 | AI36: 9 | AJ36: 9
B37: - | C37: Capacidad para asumir responsabilidades: | D37: 10 | E37: 9 | F37: 9 | G37: 9 | H37: 9 | J37: 9 | K37: 9 | L37: 6 | M37: 10 | N37: 10 | O37: 9 | P37: 10 | Q37: 10 | R37: 10 | S37: 10 | T37: 10 | U37: 10 | V37: 10 | W37: 10 | X37: 10 | Y37: 10 | Z37: 10 | AA37: 10 | AB37: 10 | AC37: 10 | AD37: 10 | AE37: 9 | AF37: 10 | AG37: 10 | AH37: 10 | AI37: 10 | AJ37: 10
B38: - | C38: Necesidad de control: | D38: 9 | E38: 9 | F38: 9 | G38: 9 | H38: 9 | J38: 9 | K38: 9 | L38: 5 | M38: 9 | N38: 9 | O38: 9 | P38: 9 | Q38: 9 | R38: 9 | S38: 9 | T38: 9 | U38: 9 | V38: 9 | W38: 9 | X38: 9 | Y38: 9 | Z38: 9 | AA38: 9 | AB38: 9 | AC38: 9 | AD38: 9 | AE38: 9 | AF38: 8 | AG38: 9 | AH38: 9 | AI38: 9 | AJ38: 9
B39: - | C39: Puntualidad: | D39: 10 | E39: 10 | F39: 10 | G39: 10 | H39: 10 | J39: 10 | K39: 10 | L39: 8 | M39: 9 | N39: 10 | O39: 10 | P39: 10 | Q39: 10 | R39: 10 | S39: 10 | T39: 10 | U39: 10 | V39: 10 | W39: 10 | X39: 10 | Y39: 10 | Z39: 10 | AA39: 10 | AB39: 10 | AC39: 10 | AD39: 10 | AE39: 10 | AF39: 10 | AG39: 10 | AH39: 10 | AI39: 10 | AJ39: 10
B40: - | C40: Tenacidad y constancia: | D40: 10 | E40: 10 | F40: 10 | G40: 10 | H40: 10 | J40: 10 | K40: 10 | L40: 7 | M40: 10 | N40: 10 | O40: 10 | P40: 10 | Q40: 10 | R40: 10 | S40: 10 | T40: 10 | U40: 10 | V40: 10 | W40: 10 | X40: 10 | Y40: 10 | Z40: 10 | AA40: 10 | AB40: 10 | AC40: 10 | AD40: 10 | AE40: 8 | AF40: 10 | AG40: 10 | AH40: 10 | AI40: 10 | AJ40: 10
C41: MEDIA | D41: =TRUNC(IFERROR(AVERAGE(D35:D40),"0"),2) -> 9.5 | E41: =TRUNC(IFERROR(AVERAGE(E35:E40),"0"),2) -> 9.33 | F41: =TRUNC(IFERROR(AVERAGE(F35:F40),"0"),2) -> 9.33 | G41: =TRUNC(IFERROR(AVERAGE(G35:G40),"0"),2) -> 9.33 | H41: =TRUNC(IFERROR(AVERAGE(H35:H40),"0"),2) -> 9.33 | I41: =TRUNC(IFERROR(AVERAGE(I35:I40),"0"),2) -> 0 | J41: =TRUNC(IFERROR(AVERAGE(J35:J40),"0"),2) -> 9.33 | K41: =TRUNC(IFERROR(AVERAGE(K35:K40),"0"),2) -> 9.16 | ... AJ41: =TRUNC(IFERROR(AVERAGE(AJ35:AJ40),"0"),2) -> 9.5
C42: ESPÍRITU MILITAR | D42: ESPÍRITU MILITAR
B43: - | C43: Cumplimiento del deber: | D43: 10 | E43: 10 | F43: 10 | G43: 10 | H43: 10 | J43: 10 | K43: 10 | L43: 9 | M43: 10 | N43: 10 | O43: 10 | P43: 10 | Q43: 10 | R43: 10 | S43: 10 | T43: 10 | U43: 10 | V43: 10 | W43: 10 | X43: 10 | Y43: 10 | Z43: 10 | AA43: 10 | AB43: 10 | AC43: 10 | AD43: 10 | AE43: 10 | AF43: 10 | AG43: 10 | AH43: 10 | AI43: 10 | AJ43: 10
B44: - | C44: Abnegación: | D44: 9 | E44: 9 | F44: 9 | G44: 9 | H44: 9 | J44: 9 | K44: 8 | L44: 6 | M44: 9 | N44: 9 | O44: 8 | P44: 9 | Q44: 9 | R44: 9 | S44: 9 | T44: 10 | U44: 10 | V44: 9 | W44: 9 | X44: 9 | Y44: 9 | Z44: 9 | AA44: 9 | AB44: 9 | AC44: 9 | AD44: 9 | AE44: 7 | AF44: 9 | AG44: 9 | AH44: 9 | AI44: 9 | AJ44: 9
B45: - | C45: Respeto hacia sus superiores: | D45: 10 | E45: 10 | F45: 10 | G45: 10 | H45: 10 | J45: 10 | K45: 10 | L45: 10 | M45: 10 | N45: 10 | O45: 10 | P45: 10 | Q45: 10 | R45: 10 | S45: 10 | T45: 10 | U45: 10 | V45: 10 | W45: 10 | X45: 10 | Y45: 10 | Z45: 10 | AA45: 10 | AB45: 10 | AC45: 10 | AD45: 10 | AE45: 7 | AF45: 9 | AG45: 10 | AH45: 10 | AI45: 10 | AJ45: 10
B46: - | C46: Lealtad y franqueza con sus superiores | D46: 10 | E46: 10 | F46: 10 | G46: 10 | H46: 10 | J46: 10 | K46: 10 | L46: 10 | M46: 10 | N46: 10 | O46: 10 | P46: 10 | Q46: 10 | R46: 10 | S46: 10 | T46: 10 | U46: 10 | V46: 10 | W46: 10 | X46: 10 | Y46: 10 | Z46: 10 | AA46: 9 | AB46: 10 | AC46: 10 | AD46: 10 | AE46: 9 | AF46: 10 | AG46: 10 | AH46: 10 | AI46: 10 | AJ46: 10
B47: - | C47: Prestancia militar: | D47: 10 | E47: 8 | F47: 6 | G47: 8 | H47: 10 | J47: 9 | K47: 7 | L47: 3 | M47: 10 | N47: 9 | O47: 7 | P47: 10 | Q47: 9 | R47: 10 | S47: 10 | T47: 10 | U47: 10 | V47: 8 | W47: 9 | X47: 9 | Y47: 9 | Z47: 9 | AA47: 8 | AB47: 10 | AC47: 10 | AD47: 10 | AE47: 8 | AF47: 8 | AG47: 10 | AH47: 10 | AI47: 10 | AJ47: 10
C48: MEDIA | D48: =TRUNC(IFERROR(AVERAGE(D43:D47),"0"),2) -> 9.8 | E48: =TRUNC(IFERROR(AVERAGE(E43:E47),"0"),2) -> 9.4 | F48: =TRUNC(IFERROR(AVERAGE(F43:F47),"0"),2) -> 9 | G48: =TRUNC(IFERROR(AVERAGE(G43:G47),"0"),2) -> 9.4 | H48: =TRUNC(IFERROR(AVERAGE(H43:H47),"0"),2) -> 9.8 | I48: =TRUNC(IFERROR(AVERAGE(I43:I47),"0"),2) -> 0 | J48: =TRUNC(IFERROR(AVERAGE(J43:J47),"0"),2) -> 9.6 | K48: =TRUNC(IFERROR(AVERAGE(K43:K47),"0"),2) -> 9 | ... AJ48: =TRUNC(IFERROR(AVERAGE(AJ43:AJ47),"0"),2) -> 9.8
C49: COOPERACIÓN | D49: COOPERACIÓN
B50: - | C50: Espíritu de cooperación:
B51: - | C51: Actitud en sus actuaciones:
B52: - | C52: Participación extra o voluntaria:
B53: - | C53: Espíritu de cuerpo:
C54: MEDIA | D54: =TRUNC(IFERROR(AVERAGE(D50:D53),"0"),2) -> 0 | E54: =TRUNC(IFERROR(AVERAGE(E50:E53),"0"),2) -> 0 | F54: =TRUNC(IFERROR(AVERAGE(F50:F53),"0"),2) -> 0 | G54: =TRUNC(IFERROR(AVERAGE(G50:G53),"0"),2) -> 0 | H54: =TRUNC(IFERROR(AVERAGE(H50:H53),"0"),2) -> 0 | I54: =TRUNC(IFERROR(AVERAGE(I50:I53),"0"),2) -> 0 | J54: =TRUNC(IFERROR(AVERAGE(J50:J53),"0"),2) -> 0 | K54: =TRUNC(IFERROR(AVERAGE(K50:K53),"0"),2) -> 0 | ... AJ54: =TRUNC(IFERROR(AVERAGE(AJ50:AJ53),"0"),2) -> 0
C55: CONDUCTA | D55: CONDUCTA
B56: - | C56: Comportamiento social:
B57: - | C57: Cortesía:
B58: - | C58: Dominio de si mismo:
B59: - | C59: Actitud al régimen de la Escuela:
B60: - | C60: Comportamiento, actitud y predisposición en clases:
B61: - | C61: Templanza:
C62: MEDIA | D62: =TRUNC(IFERROR(AVERAGE(D56:D61),"0"),2) -> 0 | E62: =TRUNC(IFERROR(AVERAGE(E56:E61),"0"),2) -> 0 | F62: =TRUNC(IFERROR(AVERAGE(F56:F61),"0"),2) -> 0 | G62: =TRUNC(IFERROR(AVERAGE(G56:G61),"0"),2) -> 0 | H62: =TRUNC(IFERROR(AVERAGE(H56:H61),"0"),2) -> 0 | I62: =TRUNC(IFERROR(AVERAGE(I56:I61),"0"),2) -> 0 | J62: =TRUNC(IFERROR(AVERAGE(J56:J61),"0"),2) -> 0 | K62: =TRUNC(IFERROR(AVERAGE(K56:K61),"0"),2) -> 0 | ... AJ62: =TRUNC(IFERROR(AVERAGE(AJ56:AJ61),"0"),2) -> 0
C63: APTITUD FÍSICA | D63: APTITUD FÍSICA
B64: - | C64: Interés por participar en actividades deportivas:
C65: MEDIA | D65: =TRUNC(IFERROR(AVERAGE(D64),"0"),2) -> 0 | E65: =TRUNC(IFERROR(AVERAGE(E64),"0"),2) -> 0 | F65: =TRUNC(IFERROR(AVERAGE(F64),"0"),2) -> 0 | G65: =TRUNC(IFERROR(AVERAGE(G64),"0"),2) -> 0 | H65: =TRUNC(IFERROR(AVERAGE(H64),"0"),2) -> 0 | I65: =TRUNC(IFERROR(AVERAGE(I64),"0"),2) -> 0 | J65: =TRUNC(IFERROR(AVERAGE(J64),"0"),2) -> 0 | K65: =TRUNC(IFERROR(AVERAGE(K64),"0"),2) -> 0 | ... AJ65: =TRUNC(IFERROR(AVERAGE(AJ64),"0"),2) -> 0
C66: TENIDA, ORDEN Y ASEO | D66: TENIDA, ORDEN Y ASEO
B67: - | C67: Cuidado con su equipo personal:
B68: - | C68: Presentación y aseo personal:
B69: - | C69: Orden con sus elementos personales:
C70: MEDIA | D70: =TRUNC(IFERROR(AVERAGE(D67:D69),"0"),2) -> 0 | E70: =TRUNC(IFERROR(AVERAGE(E67:E69),"0"),2) -> 0 | F70: =TRUNC(IFERROR(AVERAGE(F67:F69),"0"),2) -> 0 | G70: =TRUNC(IFERROR(AVERAGE(G67:G69),"0"),2) -> 0 | H70: =TRUNC(IFERROR(AVERAGE(H67:H69),"0"),2) -> 0 | I70: =TRUNC(IFERROR(AVERAGE(I67:I69),"0"),2) -> 0 | J70: =TRUNC(IFERROR(AVERAGE(J67:J69),"0"),2) -> 0 | K70: =TRUNC(IFERROR(AVERAGE(K67:K69),"0"),2) -> 0 | ... AJ70: =TRUNC(IFERROR(AVERAGE(AJ67:AJ69),"0"),2) -> 0
C71: NOTA MEDIA FINAL | D71: =TRUNC(IFERROR(AVERAGE(D70,D65,D62,D54,D48,D41,D33,D23,D18),"0"),2) -> 5.37 | E71: =TRUNC(IFERROR(AVERAGE(E70,E65,E62,E54,E48,E41,E33,E23,E18),"0"),2) -> 4.86 | F71: =TRUNC(IFERROR(AVERAGE(F70,F65,F62,F54,F48,F41,F33,F23,F18),"0"),2) -> 4.66 | G71: =TRUNC(IFERROR(AVERAGE(G70,G65,G62,G54,G48,G41,G33,G23,G18),"0"),2) -> 4.91 | H71: =TRUNC(IFERROR(AVERAGE(H70,H65,H62,H54,H48,H41,H33,H23,H18),"0"),2) -> 5.26 | I71: =TRUNC(IFERROR(AVERAGE(I70,I65,I62,I54,I48,I41,I33,I23,I18),"0"),2) -> 0 | J71: =TRUNC(IFERROR(AVERAGE(J70,J65,J62,J54,J48,J41,J33,J23,J18),"0"),2) -> 5.09 | K71: =TRUNC(IFERROR(AVERAGE(K70,K65,K62,K54,K48,K41,K33,K23,K18),"0"),2) -> 4.66 | ... AJ71: =TRUNC(IFERROR(AVERAGE(AJ70,AJ65,AJ62,AJ54,AJ48,AJ41,AJ33,AJ23,AJ18),"0"),2) -> 5.1

Sheet ESCUADRA
H2: CALIFICACIÓN PARA CURSO CAOR
C3: PERDIODO | D3: 1
D4: =DATOS!A2&" "&DATOS!A7 -> Aguilera, Pablo Alberto | E4: =DATOS!B2&" "&DATOS!B7 -> Bambach, Juan Paulo | F4: =DATOS!C2&" "&DATOS!C7 -> Benavente, Sergio | G4: =DATOS!D2&" "&DATOS!D7 -> Bolelli, Ignacio Octavio | H4: =DATOS!E2&" "&DATOS!E7 -> Correa, Cristóbal | I4: =DATOS!F2&" "&DATOS!F7 -> De la Cruz , Oscar Ernesto | J4: =DATOS!G2&" "&DATOS!G7 -> Del Favero, Andrés | K4: =DATOS!H2&" "&DATOS!H7 -> Espejo, Paula Macarena | ... AJ4: =DATOS!AG2&" "&DATOS!AG7 -> Wuth, Enrique Alejandro
C5: INSTRUCTIOR: (GRADO / NOMBRE) | D5: =DATOS!A1 -> Aguilera | E5: =DATOS!B1 -> Bambach | F5: =DATOS!C1 -> Benavente | G5: =DATOS!D1 -> Bolelli | H5: =DATOS!E1 -> Correa | I5: =DATOS!F1 -> De la Cruz | J5: =DATOS!G1 -> Del Favero | K5: =DATOS!H1 -> Espejo | L5: =DATOS!I1 -> Fuenzalida | M5: =DATOS!J1&" C" -> Ibáñez C | N5: =DATOS!K1&" G" -> Ibáñez G | O5: =DATOS!L1 -> Izquierdo | P5: =DATOS!M1 -> Jones | Q5: =DATOS!N1 -> Jorquera | R5: =DATOS!O1 -> Junge | S5: =DATOS!P1 -> Kinast | T5: =DATOS!Q1 -> Larraín | U5: =DATOS!R1 -> Leiva | V5: =DATOS!S1 -> Lopez | ... AB5: =DATOS!Y1 -> Santis | AC5: =DATOS!Z1&" F" -> Solari F | AD5: =DATOS!AA1&" B" -> Solari B | AE5: =DATOS!AB1 -> Urrutia | AF5: =DATOS!AC1 -> Valdes | AG5: =DATOS!AD1 -> Vallebona | AH5: =DATOS!AE1 -> Vidaurre | AI5: =DATOS!AF1 -> Wagner | AJ5: =DATOS!AG1 -> Wuth
C6: Edad | D6: =DATOS!A4 -> 45.550685 | E6: =DATOS!B4 -> 59.668493 | F6: =DATOS!C4 -> 62.673973 | G6: =DATOS!D4 -> 42.29863 | H6: =DATOS!E4 -> 44.10411 | I6: =DATOS!F4 -> 55.128767 | J6: =DATOS!G4 -> 42.109589 | K6: =DATOS!H4 -> 44.043836 | ... AJ6: =DATOS!AG4 -> 44.446575
C7: Empresa | D7: =DATOS!A5 -> Netafim Chile | E7: =DATOS!B5 -> Estudio Philippi | F7: =DATOS!C5 -> Bci Asset Management | G7: =DATOS!D5 -> MBC Abogados | H7: =DATOS!E5 -> Yamana Gold | I7: =DATOS!F5 -> AAK Abogados | J7: =DATOS!G5 -> Lavin Abogados & Consultores | K7: =DATOS!H5 -> Boldtalk Spa | ... AJ7: =DATOS!AG5 -> Constructora WL
C8: Cargo | D8: =DATOS!A6 -> Agente Zonal Sexta Región | E8: =DATOS!B6 -> Abogado | F8: =DATOS!C6 -> Gerente de Riesgo | G8: =DATOS!D6 -> Socio | H8: =DATOS!E6 -> Director Legal | I8: =DATOS!F6 -> Socio | J8: =DATOS!G6 -> Socio | K8: =DATOS!H6 -> Fundadora | ... AJ8: =DATOS!AG6 -> Socio
D10: Las notas serán hechas de 1 a 10 (sin decimales), donde la nota mínima de aprobación será un 6.
C11: MANDO | D11: MANDO
B12: - | C12: Ejemplo que inspira con sus actuaciones: | D12: =AVERAGE('ESCUADRA-CM'!D12,'ESCUADRA-FH'!D12,'ESCUADRA-MB'!D12,'ESCUADRA-EM'!D12,'ESCUADRA-RC'!D12) -> 9 | E12: =AVERAGE('ESCUADRA-CM'!E12,'ESCUADRA-FH'!E12,'ESCUADRA-MB'!E12,'ESCUADRA-EM'!E12,'ESCUADRA-RC'!E12) -> 7 | F12: =AVERAGE('ESCUADRA-CM'!F12,'ESCUADRA-FH'!F12,'ESCUADRA-MB'!F12,'ESCUADRA-EM'!F12,'ESCUADRA-RC'!F12) -> 6.2 | G12: =AVERAGE('ESCUADRA-CM'!G12,'ESCUADRA-FH'!G12,'ESCUADRA-MB'!G12,'ESCUADRA-EM'!G12,'ESCUADRA-RC'!G12) -> 7.2 | H12: =AVERAGE('ESCUADRA-CM'!H12,'ESCUADRA-FH'!H12,'ESCUADRA-MB'!H12,'ESCUADRA-EM'!H12,'ESCUADRA-RC'!H12) -> 8.6 | I12: =AVERAGE('ESCUADRA-CM'!I12,'ESCUADRA-FH'!I12,'ESCUADRA-MB'!I12,'ESCUADRA-EM'!I12,'ESCUADRA-RC'!I12) -> #DIV/0! | J12: =AVERAGE('ESCUADRA-CM'!J12,'ESCUADRA-FH'!J12,'ESCUADRA-MB'!J12,'ESCUADRA-EM'!J12,'ESCUADRA-RC'!J12) -> 7.8 | K12: =AVERAGE('ESCUADRA-CM'!K12,'ESCUADRA-FH'!K12,'ESCUADRA-MB'!K12,'ESCUADRA-EM'!K12,'ESCUADRA-RC'!K12) -> 7.2 | ... AJ12: =AVERAGE('ESCUADRA-CM'!AJ12,'ESCUADRA-FH'!AJ12,'ESCUADRA-MB'!AJ12,'ESCUADRA-EM'!AJ12,'ESCUADRA-RC'!AJ12) -> 7.8
B13: - | C13: Carácter: | D13: =AVERAGE('ESCUADRA-CM'!D13,'ESCUADRA-FH'!D13,'ESCUADRA-MB'!D13,'ESCUADRA-EM'!D13,'ESCUADRA-RC'!D13) -> 8.6 | E13: =AVERAGE('ESCUADRA-CM'!E13,'ESCUADRA-FH'!E13,'ESCUADRA-MB'!E13,'ESCUADRA-EM'!E13,'ESCUADRA-RC'!E13) -> 8 | F13: =AVERAGE('ESCUADRA-CM'!F13,'ESCUADRA-FH'!F13,'ESCUADRA-MB'!F13,'ESCUADRA-EM'!F13,'ESCUADRA-RC'!F13) -> 7 | G13: =AVERAGE('ESCUADRA-CM'!G13,'ESCUADRA-FH'!G13,'ESCUADRA-MB'!G13,'ESCUADRA-EM'!G13,'ESCUADRA-RC'!G13) -> 7.6 | H13: =AVERAGE('ESCUADRA-CM'!H13,'ESCUADRA-FH'!H13,'ESCUADRA-MB'!H13,'ESCUADRA-EM'!H13,'ESCUADRA-RC'!H13) -> 9.2 | I13: =AVERAGE('ESCUADRA-CM'!I13,'ESCUADRA-FH'!I13,'ESCUADRA-MB'!I13,'ESCUADRA-EM'!I13,'ESCUADRA-RC'!I13) -> #DIV/0! | J13: =AVERAGE('ESCUADRA-CM'!J13,'ESCUADRA-FH'!J13,'ESCUADRA-MB'!J13,'ESCUADRA-EM'!J13,'ESCUADRA-RC'!J13) -> 8 | K13: =AVERAGE('ESCUADRA-CM'!K13,'ESCUADRA-FH'!K13,'ESCUADRA-MB'!K13,'ESCUADRA-EM'!K13,'ESCUADRA-RC'!K13) -> 7.2 | ... AJ13: =AVERAGE('ESCUADRA-CM'!AJ13,'ESCUADRA-FH'!AJ13,'ESCUADRA-MB'!AJ13,'ESCUADRA-EM'!AJ13,'ESCUADRA-RC'!AJ13) -> 8.2
B14: - | C14: Capacidad para aceptar críticas a su actuación | D14: =AVERAGE('ESCUADRA-CM'!D14,'ESCUADRA-FH'!D14,'ESCUADRA-MB'!D14,'ESCUADRA-EM'!D14,'ESCUADRA-RC'!D14) -> 9.6 | E14: =AVERAGE('ESCUADRA-CM'!E14,'ESCUADRA-FH'!E14,'ESCUADRA-MB'!E14,'ESCUADRA-EM'!E14,'ESCUADRA-RC'!E14) -> 8.4 | F14: =AVERAGE('ESCUADRA-CM'!F14,'ESCUADRA-FH'!F14,'ESCUADRA-MB'!F14,'ESCUADRA-EM'!F14,'ESCUADRA-RC'!F14) -> 8 | G14: =AVERAGE('ESCUADRA-CM'!G14,'ESCUADRA-FH'!G14,'ESCUADRA-MB'!G14,'ESCUADRA-EM'!G14,'ESCUADRA-RC'!G14) -> 8.2 | H14: =AVERAGE('ESCUADRA-CM'!H14,'ESCUADRA-FH'!H14,'ESCUADRA-MB'!H14,'ESCUADRA-EM'!H14,'ESCUADRA-RC'!H14) -> 9.2 | I14: =AVERAGE('ESCUADRA-CM'!I14,'ESCUADRA-FH'!I14,'ESCUADRA-MB'!I14,'ESCUADRA-EM'!I14,'ESCUADRA-RC'!I14) -> #DIV/0! | J14: =AVERAGE('ESCUADRA-CM'!J14,'ESCUADRA-FH'!J14,'ESCUADRA-MB'!J14,'ESCUADRA-EM'!J14,'ESCUADRA-RC'!J14) -> 8 | K14: =AVERAGE('ESCUADRA-CM'!K14,'ESCUADRA-FH'!K14,'ESCUADRA-MB'!K14,'ESCUADRA-EM'!K14,'ESCUADRA-RC'!K14) -> 8.2 | ... AJ14: =AVERAGE('ESCUADRA-CM'!AJ14,'ESCUADRA-FH'!AJ14,'ESCUADRA-MB'!AJ14,'ESCUADRA-EM'!AJ14,'ESCUADRA-RC'!AJ14) -> 8.6
B15: - | C15: Lealtad: | D15: =AVERAGE('ESCUADRA-CM'!D15,'ESCUADRA-FH'!D15,'ESCUADRA-MB'!D15,'ESCUADRA-EM'!D15,'ESCUADRA-RC'!D15) -> 9.4 | E15: =AVERAGE('ESCUADRA-CM'!E15,'ESCUADRA-FH'!E15,'ESCUADRA-MB'!E15,'ESCUADRA-EM'!E15,'ESCUADRA-RC'!E15) -> 8.4 | F15: =AVERAGE('ESCUADRA-CM'!F15,'ESCUADRA-FH'!F15,'ESCUADRA-MB'!F15,'ESCUADRA-EM'!F15,'ESCUADRA-RC'!F15) -> 8.6 | G15: =AVERAGE('ESCUADRA-CM'!G15,'ESCUADRA-FH'!G15,'ESCUADRA-MB'!G15,'ESCUADRA-EM'!G15,'ESCUADRA-RC'!G15) -> 8.6 | H15: =AVERAGE('ESCUADRA-CM'!H15,'ESCUADRA-FH'!H15,'ESCUADRA-MB'!H15,'ESCUADRA-EM'!H15,'ESCUADRA-RC'!H15) -> 9.2 | I15: =AVERAGE('ESCUADRA-CM'!I15,'ESCUADRA-FH'!I15,'ESCUADRA-MB'!I15,'ESCUADRA-EM'!I15,'ESCUADRA-RC'!I15) -> #DIV/0! | J15: =AVERAGE('ESCUADRA-CM'!J15,'ESCUADRA-FH'!J15,'ESCUADRA-MB'!J15,'ESCUADRA-EM'!J15,'ESCUADRA-RC'!J15) -> 8.8 | K15: =AVERAGE('ESCUADRA-CM'!K15,'ESCUADRA-FH'!K15,'ESCUADRA-MB'!K15,'ESCUADRA-EM'!K15,'ESCUADRA-RC'!K15) -> 8.6 | ... AJ15: =AVERAGE('ESCUADRA-CM'!AJ15,'ESCUADRA-FH'!AJ15,'ESCUADRA-MB'!AJ15,'ESCUADRA-EM'!AJ15,'ESCUADRA-RC'!AJ15) -> 8.6
B16: - | C16: Fortaleza: | D16: =AVERAGE('ESCUADRA-CM'!D16,'ESCUADRA-FH'!D16,'ESCUADRA-MB'!D16,'ESCUADRA-EM'!D16,'ESCUADRA-RC'!D16) -> 8.8 | E16: =AVERAGE('ESCUADRA-CM'!E16,'ESCUADRA-FH'!E16,'ESCUADRA-MB'!E16,'ESCUADRA-EM'!E16,'ESCUADRA-RC'!E16) -> 8 | F16: =AVERAGE('ESCUADRA-CM'!F16,'ESCUADRA-FH'!F16,'ESCUADRA-MB'!F16,'ESCUADRA-EM'!F16,'ESCUADRA-RC'!F16) -> 7.6 | G16: =AVERAGE('ESCUADRA-CM'!G16,'ESCUADRA-FH'!G16,'ESCUADRA-MB'!G16,'ESCUADRA-EM'!G16,'ESCUADRA-RC'!G16) -> 8.2 | H16: =AVERAGE('ESCUADRA-CM'!H16,'ESCUADRA-FH'!H16,'ESCUADRA-MB'!H16,'ESCUADRA-EM'!H16,'ESCUADRA-RC'!H16) -> 9 | I16: =AVERAGE('ESCUADRA-CM'!I16,'ESCUADRA-FH'!I16,'ESCUADRA-MB'!I16,'ESCUADRA-EM'!I16,'ESCUADRA-RC'!I16) -> #DIV/0! | J16: =AVERAGE('ESCUADRA-CM'!J16,'ESCUADRA-FH'!J16,'ESCUADRA-MB'!J16,'ESCUADRA-EM'!J16,'ESCUADRA-RC'!J16) -> 8.2 | K16: =AVERAGE('ESCUADRA-CM'!K16,'ESCUADRA-FH'!K16,'ESCUADRA-MB'!K16,'ESCUADRA-EM'!K16,'ESCUADRA-RC'!K16) -> 7.4 | ... AJ16: =AVERAGE('ESCUADRA-CM'!AJ16,'ESCUADRA-FH'!AJ16,'ESCUADRA-MB'!AJ16,'ESCUADRA-EM'!AJ16,'ESCUADRA-RC'!AJ16) -> 8.6
B17: - | C17: Prudencia: | D17: =AVERAGE('ESCUADRA-CM'!D17,'ESCUADRA-FH'!D17,'ESCUADRA-MB'!D17,'ESCUADRA-EM'!D17,'ESCUADRA-RC'!D17) -> 9.6 | E17: =AVERAGE('ESCUADRA-CM'!E17,'ESCUADRA-FH'!E17,'ESCUADRA-MB'!E17,'ESCUADRA-EM'!E17,'ESCUADRA-RC'!E17) -> 7.2 | F17: =AVERAGE('ESCUADRA-CM'!F17,'ESCUADRA-FH'!F17,'ESCUADRA-MB'!F17,'ESCUADRA-EM'!F17,'ESCUADRA-RC'!F17) -> 8.2 | G17: =AVERAGE('ESCUADRA-CM'!G17,'ESCUADRA-FH'!G17,'ESCUADRA-MB'!G17,'ESCUADRA-EM'!G17,'ESCUADRA-RC'!G17) -> 8.6 | H17: =AVERAGE('ESCUADRA-CM'!H17,'ESCUADRA-FH'!H17,'ESCUADRA-MB'!H17,'ESCUADRA-EM'!H17,'ESCUADRA-RC'!H17) -> 9.2 | I17: =AVERAGE('ESCUADRA-CM'!I17,'ESCUADRA-FH'!I17,'ESCUADRA-MB'!I17,'ESCUADRA-EM'!I17,'ESCUADRA-RC'!I17) -> #DIV/0! | J17: =AVERAGE('ESCUADRA-CM'!J17,'ESCUADRA-FH'!J17,'ESCUADRA-MB'!J17,'ESCUADRA-EM'!J17,'ESCUADRA-RC'!J17) -> 7.8 | K17: =AVERAGE('ESCUADRA-CM'!K17,'ESCUADRA-FH'!K17,'ESCUADRA-MB'!K17,'ESCUADRA-EM'!K17,'ESCUADRA-RC'!K17) -> 8.6 | ... AJ17: =AVERAGE('ESCUADRA-CM'!AJ17,'ESCUADRA-FH'!AJ17,'ESCUADRA-MB'!AJ17,'ESCUADRA-EM'!AJ17,'ESCUADRA-RC'!AJ17) -> 9
C18: MEDIA | D18: =TRUNC(IFERROR(AVERAGE(D12:D17),"0"),2) -> 9.16 | E18: =TRUNC(IFERROR(AVERAGE(E12:E17),"0"),2) -> 7.83 | F18: =TRUNC(IFERROR(AVERAGE(F12:F17),"0"),2) -> 7.6 | G18: =TRUNC(IFERROR(AVERAGE(G12:G17),"0"),2) -> 8.06 | H18: =TRUNC(IFERROR(AVERAGE(H12:H17),"0"),2) -> 9.06 | I18: =TRUNC(IFERROR(AVERAGE(I12:I17),"0"),2) -> 0 | J18: =TRUNC(IFERROR(AVERAGE(J12:J17),"0"),2) -> 8.1 | K18: =TRUNC(IFERROR(AVERAGE(K12:K17),"0"),2) -> 7.86 | ... AJ18: =TRUNC(IFERROR(AVERAGE(AJ12:AJ17),"0"),2) -> 8.46
C19: INTERÉS PROFESIONAL | D19: INTERÉS PROFESIONAL
B20: - | C20: Conocimiento sobre la carrera y sus tradiciones: | D20: =AVERAGE('ESCUADRA-CM'!D20,'ESCUADRA-FH'!D20,'ESCUADRA-MB'!D20,'ESCUADRA-EM'!D20,'ESCUADRA-RC'!D20) -> 8.8 | E20: =AVERAGE('ESCUADRA-CM'!E20,'ESCUADRA-FH'!E20,'ESCUADRA-MB'!E20,'ESCUADRA-EM'!E20,'ESCUADRA-RC'!E20) -> 6.8 | F20: =AVERAGE('ESCUADRA-CM'!F20,'ESCUADRA-FH'!F20,'ESCUADRA-MB'!F20,'ESCUADRA-EM'!F20,'ESCUADRA-RC'!F20) -> 6.6 | G20: =AVERAGE('ESCUADRA-CM'!G20,'ESCUADRA-FH'!G20,'ESCUADRA-MB'!G20,'ESCUADRA-EM'!G20,'ESCUADRA-RC'!G20) -> 7.8 | H20: =AVERAGE('ESCUADRA-CM'!H20,'ESCUADRA-FH'!H20,'ESCUADRA-MB'!H20,'ESCUADRA-EM'!H20,'ESCUADRA-RC'!H20) -> 8 | I20: =AVERAGE('ESCUADRA-CM'!I20,'ESCUADRA-FH'!I20,'ESCUADRA-MB'!I20,'ESCUADRA-EM'!I20,'ESCUADRA-RC'!I20) -> #DIV/0! | J20: =AVERAGE('ESCUADRA-CM'!J20,'ESCUADRA-FH'!J20,'ESCUADRA-MB'!J20,'ESCUADRA-EM'!J20,'ESCUADRA-RC'!J20) -> 7.6 | K20: =AVERAGE('ESCUADRA-CM'!K20,'ESCUADRA-FH'!K20,'ESCUADRA-MB'!K20,'ESCUADRA-EM'!K20,'ESCUADRA-RC'!K20) -> 7.2 | ... AJ20: =AVERAGE('ESCUADRA-CM'!AJ20,'ESCUADRA-FH'!AJ20,'ESCUADRA-MB'!AJ20,'ESCUADRA-EM'!AJ20,'ESCUADRA-RC'!AJ20) -> 7.6
B21: - | C21: Espíritu Profesional: | D21: =AVERAGE('ESCUADRA-CM'!D21,'ESCUADRA-FH'!D21,'ESCUADRA-MB'!D21,'ESCUADRA-EM'!D21,'ESCUADRA-RC'!D21) -> 8.6 | E21: =AVERAGE('ESCUADRA-CM'!E21,'ESCUADRA-FH'!E21,'ESCUADRA-MB'!E21,'ESCUADRA-EM'!E21,'ESCUADRA-RC'!E21) -> 7.6 | F21: =AVERAGE('ESCUADRA-CM'!F21,'ESCUADRA-FH'!F21,'ESCUADRA-MB'!F21,'ESCUADRA-EM'!F21,'ESCUADRA-RC'!F21) -> 7 | G21: =AVERAGE('ESCUADRA-CM'!G21,'ESCUADRA-FH'!G21,'ESCUADRA-MB'!G21,'ESCUADRA-EM'!G21,'ESCUADRA-RC'!G21) -> 7.4 | H21: =AVERAGE('ESCUADRA-CM'!H21,'ESCUADRA-FH'!H21,'ESCUADRA-MB'!H21,'ESCUADRA-EM'!H21,'ESCUADRA-RC'!H21) -> 9 | I21: =AVERAGE('ESCUADRA-CM'!I21,'ESCUADRA-FH'!I21,'ESCUADRA-MB'!I21,'ESCUADRA-EM'!I21,'ESCUADRA-RC'!I21) -> #DIV/0! | J21: =AVERAGE('ESCUADRA-CM'!J21,'ESCUADRA-FH'!J21,'ESCUADRA-MB'!J21,'ESCUADRA-EM'!J21,'ESCUADRA-RC'!J21) -> 7.8 | K21: =AVERAGE('ESCUADRA-CM'!K21,'ESCUADRA-FH'!K21,'ESCUADRA-MB'!K21,'ESCUADRA-EM'!K21,'ESCUADRA-RC'!K21) -> 8.2 | ... AJ21: =AVERAGE('ESCUADRA-CM'!AJ21,'ESCUADRA-FH'!AJ21,'ESCUADRA-MB'!AJ21,'ESCUADRA-EM'!AJ21,'ESCUADRA-RC'!AJ21) -> 8
B22: - | C22: Rendimiento en actividades profesionales: | D22: =AVERAGE('ESCUADRA-CM'!D22,'ESCUADRA-FH'!D22,'ESCUADRA-MB'!D22,'ESCUADRA-EM'!D22,'ESCUADRA-RC'!D22) -> 8.4 | E22: =AVERAGE('ESCUADRA-CM'!E22,'ESCUADRA-FH'!E22,'ESCUADRA-MB'!E22,'ESCUADRA-EM'!E22,'ESCUADRA-RC'!E22) -> 7.2 | F22: =AVERAGE('ESCUADRA-CM'!F22,'ESCUADRA-FH'!F22,'ESCUADRA-MB'!F22,'ESCUADRA-EM'!F22,'ESCUADRA-RC'!F22) -> 7.4 | G22: =AVERAGE('ESCUADRA-CM'!G22,'ESCUADRA-FH'!G22,'ESCUADRA-MB'!G22,'ESCUADRA-EM'!G22,'ESCUADRA-RC'!G22) -> 7.8 | H22: =AVERAGE('ESCUADRA-CM'!H22,'ESCUADRA-FH'!H22,'ESCUADRA-MB'!H22,'ESCUADRA-EM'!H22,'ESCUADRA-RC'!H22) -> 8.6 | I22: =AVERAGE('ESCUADRA-CM'!I22,'ESCUADRA-FH'!I22,'ESCUADRA-MB'!I22,'ESCUADRA-EM'!I22,'ESCUADRA-RC'!I22) -> #DIV/0! | J22: =AVERAGE('ESCUADRA-CM'!J22,'ESCUADRA-FH'!J22,'ESCUADRA-MB'!J22,'ESCUADRA-EM'!J22,'ESCUADRA-RC'!J22) -> 8.4 | K22: =AVERAGE('ESCUADRA-CM'!K22,'ESCUADRA-FH'!K22,'ESCUADRA-MB'!K22,'ESCUADRA-EM'!K22,'ESCUADRA-RC'!K22) -> 7.8 | ... AJ22: =AVERAGE('ESCUADRA-CM'!AJ22,'ESCUADRA-FH'!AJ22,'ESCUADRA-MB'!AJ22,'ESCUADRA-EM'!AJ22,'ESCUADRA-RC'!AJ22) -> 7.6
C23: MEDIA | D23: =TRUNC(IFERROR(AVERAGE(D20:D22),"0"),2) -> 8.6 | E23: =TRUNC(IFERROR(AVERAGE(E20:E22),"0"),2) -> 7.2 | F23: =TRUNC(IFERROR(AVERAGE(F20:F22),"0"),2) -> 7 | G23: =TRUNC(IFERROR(AVERAGE(G20:G22),"0"),2) -> 7.66 | H23: =TRUNC(IFERROR(AVERAGE(H20:H22),"0"),2) -> 8.53 | I23: =TRUNC(IFERROR(AVERAGE(I20:I22),"0"),2) -> 0 | J23: =TRUNC(IFERROR(AVERAGE(J20:J22),"0"),2) -> 7.93 | K23: =TRUNC(IFERROR(AVERAGE(K20:K22),"0"),2) -> 7.73 | ... AJ23: =TRUNC(IFERROR(AVERAGE(AJ20:AJ22),"0"),2) -> 7.73
C24: PERSONALIDAD | D24: PERSONALIDAD
B25: - | C25: Capacidad de expresión oral: | D25: =AVERAGE('ESCUADRA-CM'!D25,'ESCUADRA-FH'!D25,'ESCUADRA-MB'!D25,'ESCUADRA-EM'!D25,'ESCUADRA-RC'!D25) -> 8.6 | E25: =AVERAGE('ESCUADRA-CM'!E25,'ESCUADRA-FH'!E25,'ESCUADRA-MB'!E25,'ESCUADRA-EM'!E25,'ESCUADRA-RC'!E25) -> 8.8 | F25: =AVERAGE('ESCUADRA-CM'!F25,'ESCUADRA-FH'!F25,'ESCUADRA-MB'!F25,'ESCUADRA-EM'!F25,'ESCUADRA-RC'!F25) -> 7.2 | G25: =AVERAGE('ESCUADRA-CM'!G25,'ESCUADRA-FH'!G25,'ESCUADRA-MB'!G25,'ESCUADRA-EM'!G25,'ESCUADRA-RC'!G25) -> 8.2 | H25: =AVERAGE('ESCUADRA-CM'!H25,'ESCUADRA-FH'!H25,'ESCUADRA-MB'!H25,'ESCUADRA-EM'!H25,'ESCUADRA-RC'!H25) -> 9.4 | I25: =AVERAGE('ESCUADRA-CM'!I25,'ESCUADRA-FH'!I25,'ESCUADRA-MB'!I25,'ESCUADRA-EM'!I25,'ESCUADRA-RC'!I25) -> #DIV/0! | J25: =AVERAGE('ESCUADRA-CM'!J25,'ESCUADRA-FH'!J25,'ESCUADRA-MB'!J25,'ESCUADRA-EM'!J25,'ESCUADRA-RC'!J25) -> 8.6 | K25: =AVERAGE('ESCUADRA-CM'!K25,'ESCUADRA-FH'!K25,'ESCUADRA-MB'!K25,'ESCUADRA-EM'!K25,'ESCUADRA-RC'!K25) -> 8.2 | ... AJ25: =AVERAGE('ESCUADRA-CM'!AJ25,'ESCUADRA-FH'!AJ25,'ESCUADRA-MB'!AJ25,'ESCUADRA-EM'!AJ25,'ESCUADRA-RC'!AJ25) -> 8.4
B26: - | C26: Ascendiente con sus compañeros: | D26: =AVERAGE('ESCUADRA-CM'!D26,'ESCUADRA-FH'!D26,'ESCUADRA-MB'!D26,'ESCUADRA-EM'!D26,'ESCUADRA-RC'!D26) -> 9.2 | E26: =AVERAGE('ESCUADRA-CM'!E26,'ESCUADRA-FH'!E26,'ESCUADRA-MB'!E26,'ESCUADRA-EM'!E26,'ESCUADRA-RC'!E26) -> 8.4 | F26: =AVERAGE('ESCUADRA-CM'!F26,'ESCUADRA-FH'!F26,'ESCUADRA-MB'!F26,'ESCUADRA-EM'!F26,'ESCUADRA-RC'!F26) -> 6.6 | G26: =AVERAGE('ESCUADRA-CM'!G26,'ESCUADRA-FH'!G26,'ESCUADRA-MB'!G26,'ESCUADRA-EM'!G26,'ESCUADRA-RC'!G26) -> 7.4 | H26: =AVERAGE('ESCUADRA-CM'!H26,'ESCUADRA-FH'!H26,'ESCUADRA-MB'!H26,'ESCUADRA-EM'!H26,'ESCUADRA-RC'!H26) -> 9 | I26: =AVERAGE('ESCUADRA-CM'!I26,'ESCUADRA-FH'!I26,'ESCUADRA-MB'!I26,'ESCUADRA-EM'!I26,'ESCUADRA-RC'!I26) -> #DIV/0! | J26: =AVERAGE('ESCUADRA-CM'!J26,'ESCUADRA-FH'!J26,'ESCUADRA-MB'!J26,'ESCUADRA-EM'!J26,'ESCUADRA-RC'!J26) -> 8.4 | K26: =AVERAGE('ESCUADRA-CM'!K26,'ESCUADRA-FH'!K26,'ESCUADRA-MB'!K26,'ESCUADRA-EM'!K26,'ESCUADRA-RC'!K26) -> 7.2 | ... AJ26: =AVERAGE('ESCUADRA-CM'!AJ26,'ESCUADRA-FH'!AJ26,'ESCUADRA-MB'!AJ26,'ESCUADRA-EM'!AJ26,'ESCUADRA-RC'!AJ26) -> 7.8
B27: - | C27: Madurez en sus actuaciones: | D27: =AVERAGE('ESCUADRA-CM'!D27,'ESCUADRA-FH'!D27,'ESCUADRA-MB'!D27,'ESCUADRA-EM'!D27,'ESCUADRA-RC'!D27) -> 9 | E27: =AVERAGE('ESCUADRA-CM'!E27,'ESCUADRA-FH'!E27,'ESCUADRA-MB'!E27,'ESCUADRA-EM'!E27,'ESCUADRA-RC'!E27) -> 7.4 | F27: =AVERAGE('ESCUADRA-CM'!F27,'ESCUADRA-FH'!F27,'ESCUADRA-MB'!F27,'ESCUADRA-EM'!F27,'ESCUADRA-RC'!F27) -> 8.4 | G27: =AVERAGE('ESCUADRA-CM'!G27,'ESCUADRA-FH'!G27,'ESCUADRA-MB'!G27,'ESCUADRA-EM'!G27,'ESCUADRA-RC'!G27) -> 8.2 | H27: =AVERAGE('ESCUADRA-CM'!H27,'ESCUADRA-FH'!H27,'ESCUADRA-MB'!H27,'ESCUADRA-EM'!H27,'ESCUADRA-RC'!H27) -> 9 | I27: =AVERAGE('ESCUADRA-CM'!I27,'ESCUADRA-FH'!I27,'ESCUADRA-MB'!I27,'ESCUADRA-EM'!I27,'ESCUADRA-RC'!I27) -> #DIV/0! | J27: =AVERAGE('ESCUADRA-CM'!J27,'ESCUADRA-FH'!J27,'ESCUADRA-MB'!J27,'ESCUADRA-EM'!J27,'ESCUADRA-RC'!J27) -> 7.6 | K27: =AVERAGE('ESCUADRA-CM'!K27,'ESCUADRA-FH'!K27,'ESCUADRA-MB'!K27,'ESCUADRA-EM'!K27,'ESCUADRA-RC'!K27) -> 8.6 | ... AJ27: =AVERAGE('ESCUADRA-CM'!AJ27,'ESCUADRA-FH'!AJ27,'ESCUADRA-MB'!AJ27,'ESCUADRA-EM'!AJ27,'ESCUADRA-RC'!AJ27) -> 8.2
B28: - | C28: Sociabilidad: | D28: =AVERAGE('ESCUADRA-CM'!D28,'ESCUADRA-FH'!D28,'ESCUADRA-MB'!D28,'ESCUADRA-EM'!D28,'ESCUADRA-RC'!D28) -> 8.8 | E28: =AVERAGE('ESCUADRA-CM'!E28,'ESCUADRA-FH'!E28,'ESCUADRA-MB'!E28,'ESCUADRA-EM'!E28,'ESCUADRA-RC'!E28) -> 9.2 | F28: =AVERAGE('ESCUADRA-CM'!F28,'ESCUADRA-FH'!F28,'ESCUADRA-MB'!F28,'ESCUADRA-EM'!F28,'ESCUADRA-RC'!F28) -> 6.8 | G28: =AVERAGE('ESCUADRA-CM'!G28,'ESCUADRA-FH'!G28,'ESCUADRA-MB'!G28,'ESCUADRA-EM'!G28,'ESCUADRA-RC'!G28) -> 8 | H28: =AVERAGE('ESCUADRA-CM'!H28,'ESCUADRA-FH'!H28,'ESCUADRA-MB'!H28,'ESCUADRA-EM'!H28,'ESCUADRA-RC'!H28) -> 9 | I28: =AVERAGE('ESCUADRA-CM'!I28,'ESCUADRA-FH'!I28,'ESCUADRA-MB'!I28,'ESCUADRA-EM'!I28,'ESCUADRA-RC'!I28) -> #DIV/0! | J28: =AVERAGE('ESCUADRA-CM'!J28,'ESCUADRA-FH'!J28,'ESCUADRA-MB'!J28,'ESCUADRA-EM'!J28,'ESCUADRA-RC'!J28) -> 8.8 | K28: =AVERAGE('ESCUADRA-CM'!K28,'ESCUADRA-FH'!K28,'ESCUADRA-MB'!K28,'ESCUADRA-EM'!K28,'ESCUADRA-RC'!K28) -> 7.4 | ... AJ28: =AVERAGE('ESCUADRA-CM'!AJ28,'ESCUADRA-FH'!AJ28,'ESCUADRA-MB'!AJ28,'ESCUADRA-EM'!AJ28,'ESCUADRA-RC'!AJ28) -> 8.2
B29: - | C29: Compañerismo, amistad y solidaridad: | D29: =AVERAGE('ESCUADRA-CM'!D29,'ESCUADRA-FH'!D29,'ESCUADRA-MB'!D29,'ESCUADRA-EM'!D29,'ESCUADRA-RC'!D29) -> 9 | E29: =AVERAGE('ESCUADRA-CM'!E29,'ESCUADRA-FH'!E29,'ESCUADRA-MB'!E29,'ESCUADRA-EM'!E29,'ESCUADRA-RC'!E29) -> 9.4 | F29: =AVERAGE('ESCUADRA-CM'!F29,'ESCUADRA-FH'!F29,'ESCUADRA-MB'!F29,'ESCUADRA-EM'!F29,'ESCUADRA-RC'!F29) -> 7.8 | G29: =AVERAGE('ESCUADRA-CM'!G29,'ESCUADRA-FH'!G29,'ESCUADRA-MB'!G29,'ESCUADRA-EM'!G29,'ESCUADRA-RC'!G29) -> 8.6 | H29: =AVERAGE('ESCUADRA-CM'!H29,'ESCUADRA-FH'!H29,'ESCUADRA-MB'!H29,'ESCUADRA-EM'!H29,'ESCUADRA-RC'!H29) -> 9 | I29: =AVERAGE('ESCUADRA-CM'!I29,'ESCUADRA-FH'!I29,'ESCUADRA-MB'!I29,'ESCUADRA-EM'!I29,'ESCUADRA-RC'!I29) -> #DIV/0! | J29: =AVERAGE('ESCUADRA-CM'!J29,'ESCUADRA-FH'!J29,'ESCUADRA-MB'!J29,'ESCUADRA-EM'!J29,'ESCUADRA-RC'!J29) -> 8.8 | K29: =AVERAGE('ESCUADRA-CM'!K29,'ESCUADRA-FH'!K29,'ESCUADRA-MB'!K29,'ESCUADRA-EM'!K29,'ESCUADRA-RC'!K29) -> 8.8 | ... AJ29: =AVERAGE('ESCUADRA-CM'!AJ29,'ESCUADRA-FH'!AJ29,'ESCUADRA-MB'!AJ29,'ESCUADRA-EM'!AJ29,'ESCUADRA-RC'!AJ29) -> 8.4
B30: - | C30: Condiciones de Líder: | D30: =AVERAGE('ESCUADRA-CM'!D30,'ESCUADRA-FH'!D30,'ESCUADRA-MB'!D30,'ESCUADRA-EM'!D30,'ESCUADRA-RC'!D30) -> 8.6 | E30: =AVERAGE('ESCUADRA-CM'!E30,'ESCUADRA-FH'!E30,'ESCUADRA-MB'!E30,'ESCUADRA-EM'!E30,'ESCUADRA-RC'!E30) -> 7.4 | F30: =AVERAGE('ESCUADRA-CM'!F30,'ESCUADRA-FH'!F30,'ESCUADRA-MB'!F30,'ESCUADRA-EM'!F30,'ESCUADRA-RC'!F30) -> 5.2 | G30: =AVERAGE('ESCUADRA-CM'!G30,'ESCUADRA-FH'!G30,'ESCUADRA-MB'!G30,'ESCUADRA-EM'!G30,'ESCUADRA-RC'!G30) -> 6.8 | H30: =AVERAGE('ESCUADRA-CM'!H30,'ESCUADRA-FH'!H30,'ESCUADRA-MB'!H30,'ESCUADRA-EM'!H30,'ESCUADRA-RC'!H30) -> 8.6 | I30: =AVERAGE('ESCUADRA-CM'!I30,'ESCUADRA-FH'!I30,'ESCUADRA-MB'!I30,'ESCUADRA-EM'!I30,'ESCUADRA-RC'!I30) -> #DIV/0! | J30: =AVERAGE('ESCUADRA-CM'!J30,'ESCUADRA-FH'!J30,'ESCUADRA-MB'!J30,'ESCUADRA-EM'!J30,'ESCUADRA-RC'!J30) -> 8.6 | K30: =AVERAGE('ESCUADRA-CM'!K30,'ESCUADRA-FH'!K30,'ESCUADRA-MB'!K30,'ESCUADRA-EM'!K30,'ESCUADRA-RC'!K30) -> 6.2 | ... AJ30: =AVERAGE('ESCUADRA-CM'!AJ30,'ESCUADRA-FH'!AJ30,'ESCUADRA-MB'!AJ30,'ESCUADRA-EM'!AJ30,'ESCUADRA-RC'!AJ30) -> 7.6
B31: - | C31: Iniciativa: | D31: =AVERAGE('ESCUADRA-CM'!D31,'ESCUADRA-FH'!D31,'ESCUADRA-MB'!D31,'ESCUADRA-EM'!D31,'ESCUADRA-RC'!D31) -> 8.4 | E31: =AVERAGE('ESCUADRA-CM'!E31,'ESCUADRA-FH'!E31,'ESCUADRA-MB'!E31,'ESCUADRA-EM'!E31,'ESCUADRA-RC'!E31) -> 7.2 | F31: =AVERAGE('ESCUADRA-CM'!F31,'ESCUADRA-FH'!F31,'ESCUADRA-MB'!F31,'ESCUADRA-EM'!F31,'ESCUADRA-RC'!F31) -> 6.4 | G31: =AVERAGE('ESCUADRA-CM'!G31,'ESCUADRA-FH'!G31,'ESCUADRA-MB'!G31,'ESCUADRA-EM'!G31,'ESCUADRA-RC'!G31) -> 7.2 | H31: =AVERAGE('ESCUADRA-CM'!H31,'ESCUADRA-FH'!H31,'ESCUADRA-MB'!H31,'ESCUADRA-EM'!H31,'ESCUADRA-RC'!H31) -> 8.2 | I31: =AVERAGE('ESCUADRA-CM'!I31,'ESCUADRA-FH'!I31,'ESCUADRA-MB'!I31,'ESCUADRA-EM'!I31,'ESCUADRA-RC'!I31) -> #DIV/0! | J31: =AVERAGE('ESCUADRA-CM'!J31,'ESCUADRA-FH'!J31,'ESCUADRA-MB'!J31,'ESCUADRA-EM'!J31,'ESCUADRA-RC'!J31) -> 8 | K31: =AVERAGE('ESCUADRA-CM'!K31,'ESCUADRA-FH'!K31,'ESCUADRA-MB'!K31,'ESCUADRA-EM'!K31,'ESCUADRA-RC'!K31) -> 7.6 | ... AJ31: =AVERAGE('ESCUADRA-CM'!AJ31,'ESCUADRA-FH'!AJ31,'ESCUADRA-MB'!AJ31,'ESCUADRA-EM'!AJ31,'ESCUADRA-RC'!AJ31) -> 7.8
B32: - | C32: Tacto y criterio: | D32: =AVERAGE('ESCUADRA-CM'!D32,'ESCUADRA-FH'!D32,'ESCUADRA-MB'!D32,'ESCUADRA-EM'!D32,'ESCUADRA-RC'!D32) -> 9 | E32: =AVERAGE('ESCUADRA-CM'!E32,'ESCUADRA-FH'!E32,'ESCUADRA-MB'!E32,'ESCUADRA-EM'!E32,'ESCUADRA-RC'!E32) -> 7.6 | F32: =AVERAGE('ESCUADRA-CM'!F32,'ESCUADRA-FH'!F32,'ESCUADRA-MB'!F32,'ESCUADRA-EM'!F32,'ESCUADRA-RC'!F32) -> 8 | G32: =AVERAGE('ESCUADRA-CM'!G32,'ESCUADRA-FH'!G32,'ESCUADRA-MB'!G32,'ESCUADRA-EM'!G32,'ESCUADRA-RC'!G32) -> 8.4 | H32: =AVERAGE('ESCUADRA-CM'!H32,'ESCUADRA-FH'!H32,'ESCUADRA-MB'!H32,'ESCUADRA-EM'!H32,'ESCUADRA-RC'!H32) -> 8.8 | I32: =AVERAGE('ESCUADRA-CM'!I32,'ESCUADRA-FH'!I32,'ESCUADRA-MB'!I32,'ESCUADRA-EM'!I32,'ESCUADRA-RC'!I32) -> #DIV/0! | J32: =AVERAGE('ESCUADRA-CM'!J32,'ESCUADRA-FH'!J32,'ESCUADRA-MB'!J32,'ESCUADRA-EM'!J32,'ESCUADRA-RC'!J32) -> 7.6 | K32: =AVERAGE('ESCUADRA-CM'!K32,'ESCUADRA-FH'!K32,'ESCUADRA-MB'!K32,'ESCUADRA-EM'!K32,'ESCUADRA-RC'!K32) -> 8.4 | ... AJ32: =AVERAGE('ESCUADRA-CM'!AJ32,'ESCUADRA-FH'!AJ32,'ESCUADRA-MB'!AJ32,'ESCUADRA-EM'!AJ32,'ESCUADRA-RC'!AJ32) -> 8.2
C33: MEDIA | D33: =TRUNC(IFERROR(AVERAGE(D25:D32),"0"),2) -> 8.82 | E33: =TRUNC(IFERROR(AVERAGE(E25:E32),"0"),2) -> 8.17 | F33: =TRUNC(IFERROR(AVERAGE(F25:F32),"0"),2) -> 7.05 | G33: =TRUNC(IFERROR(AVERAGE(G25:G32),"0"),2) -> 7.85 | H33: =TRUNC(IFERROR(AVERAGE(H25:H32),"0"),2) -> 8.87 | I33: =TRUNC(IFERROR(AVERAGE(I25:I32),"0"),2) -> 0 | J33: =TRUNC(IFERROR(AVERAGE(J25:J32),"0"),2) -> 8.3 | K33: =TRUNC(IFERROR(AVERAGE(K25:K32),"0"),2) -> 7.8 | ... AJ33: =TRUNC(IFERROR(AVERAGE(AJ25:AJ32),"0"),2) -> 8.07
C34: RESPONSABILIDAD | D34: RESPONSABILIDAD
B35: - | C35: Espíritu de superación: | D35: =AVERAGE('ESCUADRA-CM'!D35,'ESCUADRA-FH'!D35,'ESCUADRA-MB'!D35,'ESCUADRA-EM'!D35,'ESCUADRA-RC'!D35) -> 8.6 | E35: =AVERAGE('ESCUADRA-CM'!E35,'ESCUADRA-FH'!E35,'ESCUADRA-MB'!E35,'ESCUADRA-EM'!E35,'ESCUADRA-RC'!E35) -> 7.8 | F35: =AVERAGE('ESCUADRA-CM'!F35,'ESCUADRA-FH'!F35,'ESCUADRA-MB'!F35,'ESCUADRA-EM'!F35,'ESCUADRA-RC'!F35) -> 7.8 | G35: =AVERAGE('ESCUADRA-CM'!G35,'ESCUADRA-FH'!G35,'ESCUADRA-MB'!G35,'ESCUADRA-EM'!G35,'ESCUADRA-RC'!G35) -> 8 | H35: =AVERAGE('ESCUADRA-CM'!H35,'ESCUADRA-FH'!H35,'ESCUADRA-MB'!H35,'ESCUADRA-EM'!H35,'ESCUADRA-RC'!H35) -> 8.6 | I35: =AVERAGE('ESCUADRA-CM'!I35,'ESCUADRA-FH'!I35,'ESCUADRA-MB'!I35,'ESCUADRA-EM'!I35,'ESCUADRA-RC'!I35) -> #DIV/0! | J35: =AVERAGE('ESCUADRA-CM'!J35,'ESCUADRA-FH'!J35,'ESCUADRA-MB'!J35,'ESCUADRA-EM'!J35,'ESCUADRA-RC'!J35) -> 8.4 | K35: =AVERAGE('ESCUADRA-CM'!K35,'ESCUADRA-FH'!K35,'ESCUADRA-MB'!K35,'ESCUADRA-EM'!K35,'ESCUADRA-RC'!K35) -> 8.2 | ... T35: =AVERAGE('ESCUADRA-CM'!T35,'ESCUADRA-FH'!T35,'ESCUADRA-MB'!T35,'ESCUADRA-EM'!T35,'ESCUADRA-RC'!T35) -> 9.2 | U35: =AVERAGE('ESCUADRA-CM'!U35,'ESCUADRA-FH'!U35,'ESCUADRA-MB'!U35,'ESCUADRA-EM'!D34,'ESCUADRA-RC'!U35) -> 9.25 | V35: =AVERAGE('ESCUADRA-CM'!V35,'ESCUADRA-FH'!V35,'ESCUADRA-MB'!V35,'ESCUADRA-EM'!V35,'ESCUADRA-RC'!V35) -> 9.4 | W35: =AVERAGE('ESCUADRA-CM'!W35,'ESCUADRA-FH'!W35,'ESCUADRA-MB'!W35,'ESCUADRA-EM'!W35,'ESCUADRA-RC'!W35) -> 9 | X35: =AVERAGE('ESCUADRA-CM'!X35,'ESCUADRA-FH'!X35,'ESCUADRA-MB'!X35,'ESCUADRA-EM'!X35,'ESCUADRA-RC'!X35) -> 8.4 | Y35: =AVERAGE('ESCUADRA-CM'!Y35,'ESCUADRA-FH'!Y35,'ESCUADRA-MB'!Y35,'ESCUADRA-EM'!Y35,'ESCUADRA-RC'!Y35) -> 9.4 | Z35: =AVERAGE('ESCUADRA-CM'!Z35,'ESCUADRA-FH'!Z35,'ESCUADRA-MB'!Z35,'ESCUADRA-EM'!Z35,'ESCUADRA-RC'!Z35) -> 8.6 | AA35: =AVERAGE('ESCUADRA-CM'!AA35,'ESCUADRA-FH'!AA35,'ESCUADRA-MB'!AA35,'ESCUADRA-EM'!AA35,'ESCUADRA-RC'!AA35) -> 8.4 | AB35: =AVERAGE('ESCUADRA-CM'!AB35,'ESCUADRA-FH'!AB35,'ESCUADRA-MB'!AB35,'ESCUADRA-EM'!AB35,'ESCUADRA-RC'!AB35) -> 8.4 | AC35: =AVERAGE('ESCUADRA-CM'!AC35,'ESCUADRA-FH'!AC35,'ESCUADRA-MB'!AC35,'ESCUADRA-EM'!AC35,'ESCUADRA-RC'!AC35) -> 9.2 | ... AJ35: =AVERAGE('ESCUADRA-CM'!AJ35,'ESCUADRA-FH'!AJ35,'ESCUADRA-MB'!AJ35,'ESCUADRA-EM'!AJ35,'ESCUADRA-RC'!AJ35) -> 8
B36: - | C36: Capacidad para organizarse: | D36: =AVERAGE('ESCUADRA-CM'!D36,'ESCUADRA-FH'!D36,'ESCUADRA-MB'!D36,'ESCUADRA-EM'!D36,'ESCUADRA-RC'!D36) -> 8.4 | E36: =AVERAGE('ESCUADRA-CM'!E36,'ESCUADRA-FH'!E36,'ESCUADRA-MB'!E36,'ESCUADRA-EM'!E36,'ESCUADRA-RC'!E36) -> 7.6 | F36: =AVERAGE('ESCUADRA-CM'!F36,'ESCUADRA-FH'!F36,'ESCUADRA-MB'!F36,'ESCUADRA-EM'!F36,'ESCUADRA-RC'!F36) -> 8 | G36: =AVERAGE('ESCUADRA-CM'!G36,'ESCUADRA-FH'!G36,'ESCUADRA-MB'!G36,'ESCUADRA-EM'!G36,'ESCUADRA-RC'!G36) -> 7.8 | H36: =AVERAGE('ESCUADRA-CM'!H36,'ESCUADRA-FH'!H36,'ESCUADRA-MB'!H36,'ESCUADRA-EM'!H36,'ESCUADRA-RC'!H36) -> 8.4 | I36: =AVERAGE('ESCUADRA-CM'!I36,'ESCUADRA-FH'!I36,'ESCUADRA-MB'!I36,'ESCUADRA-EM'!I36,'ESCUADRA-RC'!I36) -> #DIV/0! | J36: =AVERAGE('ESCUADRA-CM'!J36,'ESCUADRA-FH'!J36,'ESCUADRA-MB'!J36,'ESCUADRA-EM'!J36,'ESCUADRA-RC'!J36) -> 8.6 | K36: =AVERAGE('ESCUADRA-CM'!K36,'ESCUADRA-FH'!K36,'ESCUADRA-MB'!K36,'ESCUADRA-EM'!K36,'ESCUADRA-RC'!K36) -> 8 | ... AJ36: =AVERAGE('ESCUADRA-CM'!AJ36,'ESCUADRA-FH'!AJ36,'ESCUADRA-MB'!AJ36,'ESCUADRA-EM'!AJ36,'ESCUADRA-RC'!AJ36) -> 8.2
B37: - | C37: Capacidad para asumir responsabilidades: | D37: =AVERAGE('ESCUADRA-CM'!D37,'ESCUADRA-FH'!D37,'ESCUADRA-MB'!D37,'ESCUADRA-EM'!D37,'ESCUADRA-RC'!D37) -> 9.4 | E37: =AVERAGE('ESCUADRA-CM'!E37,'ESCUADRA-FH'!E37,'ESCUADRA-MB'!E37,'ESCUADRA-EM'!E37,'ESCUADRA-RC'!E37) -> 7.4 | F37: =AVERAGE('ESCUADRA-CM'!F37,'ESCUADRA-FH'!F37,'ESCUADRA-MB'!F37,'ESCUADRA-EM'!F37,'ESCUADRA-RC'!F37) -> 7.8 | G37: =AVERAGE('ESCUADRA-CM'!G37,'ESCUADRA-FH'!G37,'ESCUADRA-MB'!G37,'ESCUADRA-EM'!G37,'ESCUADRA-RC'!G37) -> 8.2 | H37: =AVERAGE('ESCUADRA-CM'!H37,'ESCUADRA-FH'!H37,'ESCUADRA-MB'!H37,'ESCUADRA-EM'!H37,'ESCUADRA-RC'!H37) -> 8.8 | I37: =AVERAGE('ESCUADRA-CM'!I37,'ESCUADRA-FH'!I37,'ESCUADRA-MB'!I37,'ESCUADRA-EM'!I37,'ESCUADRA-RC'!I37) -> #DIV/0! | J37: =AVERAGE('ESCUADRA-CM'!J37,'ESCUADRA-FH'!J37,'ESCUADRA-MB'!J37,'ESCUADRA-EM'!J37,'ESCUADRA-RC'!J37) -> 8.4 | K37: =AVERAGE('ESCUADRA-CM'!K37,'ESCUADRA-FH'!K37,'ESCUADRA-MB'!K37,'ESCUADRA-EM'!K37,'ESCUADRA-RC'!K37) -> 8.2 | ... AJ37: =AVERAGE('ESCUADRA-CM'!AJ37,'ESCUADRA-FH'!AJ37,'ESCUADRA-MB'!AJ37,'ESCUADRA-EM'!AJ37,'ESCUADRA-RC'!AJ37) -> 8.6
B38: - | C38: Necesidad de control: | D38: =AVERAGE('ESCUADRA-CM'!D38,'ESCUADRA-FH'!D38,'ESCUADRA-MB'!D38,'ESCUADRA-EM'!D38,'ESCUADRA-RC'!D38) -> 8.8 | E38: =AVERAGE('ESCUADRA-CM'!E38,'ESCUADRA-FH'!E38,'ESCUADRA-MB'!E38,'ESCUADRA-EM'!E38,'ESCUADRA-RC'!E38) -> 7.6 | F38: =AVERAGE('ESCUADRA-CM'!F38,'ESCUADRA-FH'!F38,'ESCUADRA-MB'!F38,'ESCUADRA-EM'!F38,'ESCUADRA-RC'!F38) -> 8.2 | G38: =AVERAGE('ESCUADRA-CM'!G38,'ESCUADRA-FH'!G38,'ESCUADRA-MB'!G38,'ESCUADRA-EM'!G38,'ESCUADRA-RC'!G38) -> 8 | H38: =AVERAGE('ESCUADRA-CM'!H38,'ESCUADRA-FH'!H38,'ESCUADRA-MB'!H38,'ESCUADRA-EM'!H38,'ESCUADRA-RC'!H38) -> 8.4 | I38: =AVERAGE('ESCUADRA-CM'!I38,'ESCUADRA-FH'!I38,'ESCUADRA-MB'!I38,'ESCUADRA-EM'!I38,'ESCUADRA-RC'!I38) -> #DIV/0! | J38: =AVERAGE('ESCUADRA-CM'!J38,'ESCUADRA-FH'!J38,'ESCUADRA-MB'!J38,'ESCUADRA-EM'!J38,'ESCUADRA-RC'!J38) -> 8 | K38: =AVERAGE('ESCUADRA-CM'!K38,'ESCUADRA-FH'!K38,'ESCUADRA-MB'!K38,'ESCUADRA-EM'!K38,'ESCUADRA-RC'!K38) -> 8.4 | ... AJ38: =AVERAGE('ESCUADRA-CM'!AJ38,'ESCUADRA-FH'!AJ38,'ESCUADRA-MB'!AJ38,'ESCUADRA-EM'!AJ38,'ESCUADRA-RC'!AJ38) -> 8.4
B39: - | C39: Puntualidad: | D39: =AVERAGE('ESCUADRA-CM'!D39,'ESCUADRA-FH'!D39,'ESCUADRA-MB'!D39,'ESCUADRA-EM'!D39,'ESCUADRA-RC'!D39) -> 9.4 | E39: =AVERAGE('ESCUADRA-CM'!E39,'ESCUADRA-FH'!E39,'ESCUADRA-MB'!E39,'ESCUADRA-EM'!E39,'ESCUADRA-RC'!E39) -> 8.6 | F39: =AVERAGE('ESCUADRA-CM'!F39,'ESCUADRA-FH'!F39,'ESCUADRA-MB'!F39,'ESCUADRA-EM'!F39,'ESCUADRA-RC'!F39) -> 9.2 | G39: =AVERAGE('ESCUADRA-CM'!G39,'ESCUADRA-FH'!G39,'ESCUADRA-MB'!G39,'ESCUADRA-EM'!G39,'ESCUADRA-RC'!G39) -> 8.4 | H39: =AVERAGE('ESCUADRA-CM'!H39,'ESCUADRA-FH'!H39,'ESCUADRA-MB'!H39,'ESCUADRA-EM'!H39,'ESCUADRA-RC'!H39) -> 8.8 | I39: =AVERAGE('ESCUADRA-CM'!I39,'ESCUADRA-FH'!I39,'ESCUADRA-MB'!I39,'ESCUADRA-EM'!I39,'ESCUADRA-RC'!I39) -> #DIV/0! | J39: =AVERAGE('ESCUADRA-CM'!J39,'ESCUADRA-FH'!J39,'ESCUADRA-MB'!J39,'ESCUADRA-EM'!J39,'ESCUADRA-RC'!J39) -> 8.4 | K39: =AVERAGE('ESCUADRA-CM'!K39,'ESCUADRA-FH'!K39,'ESCUADRA-MB'!K39,'ESCUADRA-EM'!K39,'ESCUADRA-RC'!K39) -> 8.8 | ... AJ39: =AVERAGE('ESCUADRA-CM'!AJ39,'ESCUADRA-FH'!AJ39,'ESCUADRA-MB'!AJ39,'ESCUADRA-EM'!AJ39,'ESCUADRA-RC'!AJ39) -> 8.6
B40: - | C40: Tenacidad y constancia: | D40: =AVERAGE('ESCUADRA-CM'!D40,'ESCUADRA-FH'!D40,'ESCUADRA-MB'!D40,'ESCUADRA-EM'!D40,'ESCUADRA-RC'!D40) -> 9 | E40: =AVERAGE('ESCUADRA-CM'!E40,'ESCUADRA-FH'!E40,'ESCUADRA-MB'!E40,'ESCUADRA-EM'!E40,'ESCUADRA-RC'!E40) -> 7.6 | F40: =AVERAGE('ESCUADRA-CM'!F40,'ESCUADRA-FH'!F40,'ESCUADRA-MB'!F40,'ESCUADRA-EM'!F40,'ESCUADRA-RC'!F40) -> 7.8 | G40: =AVERAGE('ESCUADRA-CM'!G40,'ESCUADRA-FH'!G40,'ESCUADRA-MB'!G40,'ESCUADRA-EM'!G40,'ESCUADRA-RC'!G40) -> 8.2 | H40: =AVERAGE('ESCUADRA-CM'!H40,'ESCUADRA-FH'!H40,'ESCUADRA-MB'!H40,'ESCUADRA-EM'!H40,'ESCUADRA-RC'!H40) -> 9 | I40: =AVERAGE('ESCUADRA-CM'!I40,'ESCUADRA-FH'!I40,'ESCUADRA-MB'!I40,'ESCUADRA-EM'!I40,'ESCUADRA-RC'!I40) -> #DIV/0! | J40: =AVERAGE('ESCUADRA-CM'!J40,'ESCUADRA-FH'!J40,'ESCUADRA-MB'!J40,'ESCUADRA-EM'!J40,'ESCUADRA-RC'!J40) -> 8.4 | K40: =AVERAGE('ESCUADRA-CM'!K40,'ESCUADRA-FH'!K40,'ESCUADRA-MB'!K40,'ESCUADRA-EM'!K40,'ESCUADRA-RC'!K40) -> 8.4 | ... AJ40: =AVERAGE('ESCUADRA-CM'!AJ40,'ESCUADRA-FH'!AJ40,'ESCUADRA-MB'!AJ40,'ESCUADRA-EM'!AJ40,'ESCUADRA-RC'!AJ40) -> 8.2
C41: MEDIA | D41: =TRUNC(IFERROR(AVERAGE(D35:D40),"0"),2) -> 8.93 | E41: =TRUNC(IFERROR(AVERAGE(E35:E40),"0"),2) -> 7.76 | F41: =TRUNC(IFERROR(AVERAGE(F35:F40),"0"),2) -> 8.13 | G41: =TRUNC(IFERROR(AVERAGE(G35:G40),"0"),2) -> 8.1 | H41: =TRUNC(IFERROR(AVERAGE(H35:H40),"0"),2) -> 8.66 | I41: =TRUNC(IFERROR(AVERAGE(I35:I40),"0"),2) -> 0 | J41: =TRUNC(IFERROR(AVERAGE(J35:J40),"0"),2) -> 8.36 | K41: =TRUNC(IFERROR(AVERAGE(K35:K40),"0"),2) -> 8.33 | ... AJ41: =TRUNC(IFERROR(AVERAGE(AJ35:AJ40),"0"),2) -> 8.33
C42: ESPÍRITU MILITAR | D42: ESPÍRITU MILITAR
B43: - | C43: Cumplimiento del deber: | D43: =AVERAGE('ESCUADRA-CM'!D43,'ESCUADRA-FH'!D43,'ESCUADRA-MB'!D43,'ESCUADRA-EM'!D43,'ESCUADRA-RC'!D43) -> 9.4 | E43: =AVERAGE('ESCUADRA-CM'!E43,'ESCUADRA-FH'!E43,'ESCUADRA-MB'!E43,'ESCUADRA-EM'!E43,'ESCUADRA-RC'!E43) -> 7.8 | F43: =AVERAGE('ESCUADRA-CM'!F43,'ESCUADRA-FH'!F43,'ESCUADRA-MB'!F43,'ESCUADRA-EM'!F43,'ESCUADRA-RC'!F43) -> 8 | G43: =AVERAGE('ESCUADRA-CM'!G43,'ESCUADRA-FH'!G43,'ESCUADRA-MB'!G43,'ESCUADRA-EM'!G43,'ESCUADRA-RC'!G43) -> 8 | H43: =AVERAGE('ESCUADRA-CM'!H43,'ESCUADRA-FH'!H43,'ESCUADRA-MB'!H43,'ESCUADRA-EM'!H43,'ESCUADRA-RC'!H43) -> 9 | I43: =AVERAGE('ESCUADRA-CM'!I43,'ESCUADRA-FH'!I43,'ESCUADRA-MB'!I43,'ESCUADRA-EM'!I43,'ESCUADRA-RC'!I43) -> #DIV/0! | J43: =AVERAGE('ESCUADRA-CM'!J43,'ESCUADRA-FH'!J43,'ESCUADRA-MB'!J43,'ESCUADRA-EM'!J43,'ESCUADRA-RC'!J43) -> 8.8 | K43: =AVERAGE('ESCUADRA-CM'!K43,'ESCUADRA-FH'!K43,'ESCUADRA-MB'!K43,'ESCUADRA-EM'!K43,'ESCUADRA-RC'!K43) -> 8.6 | ... AJ43: =AVERAGE('ESCUADRA-CM'!AJ43,'ESCUADRA-FH'!AJ43,'ESCUADRA-MB'!AJ43,'ESCUADRA-EM'!AJ43,'ESCUADRA-RC'!AJ43) -> 8.4
B44: - | C44: Abnegación: | D44: =AVERAGE('ESCUADRA-CM'!D44,'ESCUADRA-FH'!D44,'ESCUADRA-MB'!D44,'ESCUADRA-EM'!D44,'ESCUADRA-RC'!D44) -> 8.4 | E44: =AVERAGE('ESCUADRA-CM'!E44,'ESCUADRA-FH'!E44,'ESCUADRA-MB'!E44,'ESCUADRA-EM'!E44,'ESCUADRA-RC'!E44) -> 7.6 | F44: =AVERAGE('ESCUADRA-CM'!F44,'ESCUADRA-FH'!F44,'ESCUADRA-MB'!F44,'ESCUADRA-EM'!F44,'ESCUADRA-RC'!F44) -> 7.2 | G44: =AVERAGE('ESCUADRA-CM'!G44,'ESCUADRA-FH'!G44,'ESCUADRA-MB'!G44,'ESCUADRA-EM'!G44,'ESCUADRA-RC'!G44) -> 7.6 | H44: =AVERAGE('ESCUADRA-CM'!H44,'ESCUADRA-FH'!H44,'ESCUADRA-MB'!H44,'ESCUADRA-EM'!H44,'ESCUADRA-RC'!H44) -> 8.6 | I44: =AVERAGE('ESCUADRA-CM'!I44,'ESCUADRA-FH'!I44,'ESCUADRA-MB'!I44,'ESCUADRA-EM'!I44,'ESCUADRA-RC'!I44) -> #DIV/0! | J44: =AVERAGE('ESCUADRA-CM'!J44,'ESCUADRA-FH'!J44,'ESCUADRA-MB'!J44,'ESCUADRA-EM'!J44,'ESCUADRA-RC'!J44) -> 8.2 | K44: =AVERAGE('ESCUADRA-CM'!K44,'ESCUADRA-FH'!K44,'ESCUADRA-MB'!K44,'ESCUADRA-EM'!K44,'ESCUADRA-RC'!K44) -> 8 | ... AJ44: =AVERAGE('ESCUADRA-CM'!AJ44,'ESCUADRA-FH'!AJ44,'ESCUADRA-MB'!AJ44,'ESCUADRA-EM'!AJ44,'ESCUADRA-RC'!AJ44) -> 7.8
B45: - | C45: Respeto hacia sus superiores: | D45: =AVERAGE('ESCUADRA-CM'!D45,'ESCUADRA-FH'!D45,'ESCUADRA-MB'!D45,'ESCUADRA-EM'!D45,'ESCUADRA-RC'!D45) -> 9.6 | E45: =AVERAGE('ESCUADRA-CM'!E45,'ESCUADRA-FH'!E45,'ESCUADRA-MB'!E45,'ESCUADRA-EM'!E45,'ESCUADRA-RC'!E45) -> 9.2 | F45: =AVERAGE('ESCUADRA-CM'!F45,'ESCUADRA-FH'!F45,'ESCUADRA-MB'!F45,'ESCUADRA-EM'!F45,'ESCUADRA-RC'!F45) -> 8.8 | G45: =AVERAGE('ESCUADRA-CM'!G45,'ESCUADRA-FH'!G45,'ESCUADRA-MB'!G45,'ESCUADRA-EM'!G45,'ESCUADRA-RC'!G45) -> 8.8 | H45: =AVERAGE('ESCUADRA-CM'!H45,'ESCUADRA-FH'!H45,'ESCUADRA-MB'!H45,'ESCUADRA-EM'!H45,'ESCUADRA-RC'!H45) -> 9.6 | I45: =AVERAGE('ESCUADRA-CM'!I45,'ESCUADRA-FH'!I45,'ESCUADRA-MB'!I45,'ESCUADRA-EM'!I45,'ESCUADRA-RC'!I45) -> #DIV/0! | J45: =AVERAGE('ESCUADRA-CM'!J45,'ESCUADRA-FH'!J45,'ESCUADRA-MB'!J45,'ESCUADRA-EM'!J45,'ESCUADRA-RC'!J45) -> 8.6 | K45: =AVERAGE('ESCUADRA-CM'!K45,'ESCUADRA-FH'!K45,'ESCUADRA-MB'!K45,'ESCUADRA-EM'!K45,'ESCUADRA-RC'!K45) -> 9 | ... AJ45: =AVERAGE('ESCUADRA-CM'!AJ45,'ESCUADRA-FH'!AJ45,'ESCUADRA-MB'!AJ45,'ESCUADRA-EM'!AJ45,'ESCUADRA-RC'!AJ45) -> 9.2
B46: - | C46: Lealtad y franqueza con sus superiores | D46: =AVERAGE('ESCUADRA-CM'!D46,'ESCUADRA-FH'!D46,'ESCUADRA-MB'!D46,'ESCUADRA-EM'!D46,'ESCUADRA-RC'!D46) -> 9.2 | E46: =AVERAGE('ESCUADRA-CM'!E46,'ESCUADRA-FH'!E46,'ESCUADRA-MB'!E46,'ESCUADRA-EM'!E46,'ESCUADRA-RC'!E46) -> 9 | F46: =AVERAGE('ESCUADRA-CM'!F46,'ESCUADRA-FH'!F46,'ESCUADRA-MB'!F46,'ESCUADRA-EM'!F46,'ESCUADRA-RC'!F46) -> 8.8 | G46: =AVERAGE('ESCUADRA-CM'!G46,'ESCUADRA-FH'!G46,'ESCUADRA-MB'!G46,'ESCUADRA-EM'!G46,'ESCUADRA-RC'!G46) -> 8.8 | H46: =AVERAGE('ESCUADRA-CM'!H46,'ESCUADRA-FH'!H46,'ESCUADRA-MB'!H46,'ESCUADRA-EM'!H46,'ESCUADRA-RC'!H46) -> 9.2 | I46: =AVERAGE('ESCUADRA-CM'!I46,'ESCUADRA-FH'!I46,'ESCUADRA-MB'!I46,'ESCUADRA-EM'!I46,'ESCUADRA-RC'!I46) -> #DIV/0! | J46: =AVERAGE('ESCUADRA-CM'!J46,'ESCUADRA-FH'!J46,'ESCUADRA-MB'!J46,'ESCUADRA-EM'!J46,'ESCUADRA-RC'!J46) -> 9 | K46: =AVERAGE('ESCUADRA-CM'!K46,'ESCUADRA-FH'!K46,'ESCUADRA-MB'!K46,'ESCUADRA-EM'!K46,'ESCUADRA-RC'!K46) -> 8.8 | ... AJ46: =AVERAGE('ESCUADRA-CM'!AJ46,'ESCUADRA-FH'!AJ46,'ESCUADRA-MB'!AJ46,'ESCUADRA-EM'!AJ46,'ESCUADRA-RC'!AJ46) -> 9
B47: - | C47: Prestancia militar: | D47: =AVERAGE('ESCUADRA-CM'!D47,'ESCUADRA-FH'!D47,'ESCUADRA-MB'!D47,'ESCUADRA-EM'!D47,'ESCUADRA-RC'!D47) -> 9.2 | E47: =AVERAGE('ESCUADRA-CM'!E47,'ESCUADRA-FH'!E47,'ESCUADRA-MB'!E47,'ESCUADRA-EM'!E47,'ESCUADRA-RC'!E47) -> 7.2 | F47: =AVERAGE('ESCUADRA-CM'!F47,'ESCUADRA-FH'!F47,'ESCUADRA-MB'!F47,'ESCUADRA-EM'!F47,'ESCUADRA-RC'!F47) -> 5.2 | G47: =AVERAGE('ESCUADRA-CM'!G47,'ESCUADRA-FH'!G47,'ESCUADRA-MB'!G47,'ESCUADRA-EM'!G47,'ESCUADRA-RC'!G47) -> 7.2 | H47: =AVERAGE('ESCUADRA-CM'!H47,'ESCUADRA-FH'!H47,'ESCUADRA-MB'!H47,'ESCUADRA-EM'!H47,'ESCUADRA-RC'!H47) -> 9.2 | I47: =AVERAGE('ESCUADRA-CM'!I47,'ESCUADRA-FH'!I47,'ESCUADRA-MB'!I47,'ESCUADRA-EM'!I47,'ESCUADRA-RC'!I47) -> #DIV/0! | J47: =AVERAGE('ESCUADRA-CM'!J47,'ESCUADRA-FH'!J47,'ESCUADRA-MB'!J47,'ESCUADRA-EM'!J47,'ESCUADRA-RC'!J47) -> 8.4 | K47: =AVERAGE('ESCUADRA-CM'!K47,'ESCUADRA-FH'!K47,'ESCUADRA-MB'!K47,'ESCUADRA-EM'!K47,'ESCUADRA-RC'!K47) -> 7.8 | ... AJ47: =AVERAGE('ESCUADRA-CM'!AJ47,'ESCUADRA-FH'!AJ47,'ESCUADRA-MB'!AJ47,'ESCUADRA-EM'!AJ47,'ESCUADRA-RC'!AJ47) -> 8.8
C48: MEDIA | D48: =TRUNC(IFERROR(AVERAGE(D43:D47),"0"),2) -> 9.16 | E48: =TRUNC(IFERROR(AVERAGE(E43:E47),"0"),2) -> 8.16 | F48: =TRUNC(IFERROR(AVERAGE(F43:F47),"0"),2) -> 7.6 | G48: =TRUNC(IFERROR(AVERAGE(G43:G47),"0"),2) -> 8.08 | H48: =TRUNC(IFERROR(AVERAGE(H43:H47),"0"),2) -> 9.12 | I48: =TRUNC(IFERROR(AVERAGE(I43:I47),"0"),2) -> 0 | J48: =TRUNC(IFERROR(AVERAGE(J43:J47),"0"),2) -> 8.6 | K48: =TRUNC(IFERROR(AVERAGE(K43:K47),"0"),2) -> 8.44 | ... AJ48: =TRUNC(IFERROR(AVERAGE(AJ43:AJ47),"0"),2) -> 8.64
C49: COOPERACIÓN | D49: COOPERACIÓN
B50: - | C50: Espíritu de cooperación: | D50: =AVERAGE('ESCUADRA-CM'!D50,'ESCUADRA-FH'!D50,'ESCUADRA-MB'!D50,'ESCUADRA-EM'!D50,'ESCUADRA-RC'!D50) -> 9.25 | E50: =AVERAGE('ESCUADRA-CM'!E50,'ESCUADRA-FH'!E50,'ESCUADRA-MB'!E50,'ESCUADRA-EM'!E50,'ESCUADRA-RC'!E50) -> 8 | F50: =AVERAGE('ESCUADRA-CM'!F50,'ESCUADRA-FH'!F50,'ESCUADRA-MB'!F50,'ESCUADRA-EM'!F50,'ESCUADRA-RC'!F50) -> 7 | G50: =AVERAGE('ESCUADRA-CM'!G50,'ESCUADRA-FH'!G50,'ESCUADRA-MB'!G50,'ESCUADRA-EM'!G50,'ESCUADRA-RC'!G50) -> 7.5 | H50: =AVERAGE('ESCUADRA-CM'!H50,'ESCUADRA-FH'!H50,'ESCUADRA-MB'!H50,'ESCUADRA-EM'!H50,'ESCUADRA-RC'!H50) -> 9 | I50: =AVERAGE('ESCUADRA-CM'!I50,'ESCUADRA-FH'!I50,'ESCUADRA-MB'!I50,'ESCUADRA-EM'!I50,'ESCUADRA-RC'!I50) -> #DIV/0! | J50: =AVERAGE('ESCUADRA-CM'!J50,'ESCUADRA-FH'!J50,'ESCUADRA-MB'!J50,'ESCUADRA-EM'!J50,'ESCUADRA-RC'!J50) -> 8.75 | K50: =AVERAGE('ESCUADRA-CM'!K50,'ESCUADRA-FH'!K50,'ESCUADRA-MB'!K50,'ESCUADRA-EM'!K50,'ESCUADRA-RC'!K50) -> 8.75 | ... AJ50: =AVERAGE('ESCUADRA-CM'!AJ50,'ESCUADRA-FH'!AJ50,'ESCUADRA-MB'!AJ50,'ESCUADRA-EM'!AJ50,'ESCUADRA-RC'!AJ50) -> 8
B51: - | C51: Actitud en sus actuaciones: | D51: =AVERAGE('ESCUADRA-CM'!D51,'ESCUADRA-FH'!D51,'ESCUADRA-MB'!D51,'ESCUADRA-EM'!D51,'ESCUADRA-RC'!D51) -> 9.25 | E51: =AVERAGE('ESCUADRA-CM'!E51,'ESCUADRA-FH'!E51,'ESCUADRA-MB'!E51,'ESCUADRA-EM'!E51,'ESCUADRA-RC'!E51) -> 7.75 | F51: =AVERAGE('ESCUADRA-CM'!F51,'ESCUADRA-FH'!F51,'ESCUADRA-MB'!F51,'ESCUADRA-EM'!F51,'ESCUADRA-RC'!F51) -> 7.25 | G51: =AVERAGE('ESCUADRA-CM'!G51,'ESCUADRA-FH'!G51,'ESCUADRA-MB'!G51,'ESCUADRA-EM'!G51,'ESCUADRA-RC'!G51) -> 7.25 | H51: =AVERAGE('ESCUADRA-CM'!H51,'ESCUADRA-FH'!H51,'ESCUADRA-MB'!H51,'ESCUADRA-EM'!H51,'ESCUADRA-RC'!H51) -> 8.75 | I51: =AVERAGE('ESCUADRA-CM'!I51,'ESCUADRA-FH'!I51,'ESCUADRA-MB'!I51,'ESCUADRA-EM'!I51,'ESCUADRA-RC'!I51) -> #DIV/0! | J51: =AVERAGE('ESCUADRA-CM'!J51,'ESCUADRA-FH'!J51,'ESCUADRA-MB'!J51,'ESCUADRA-EM'!J51,'ESCUADRA-RC'!J51) -> 8.25 | K51: =AVERAGE('ESCUADRA-CM'!K51,'ESCUADRA-FH'!K51,'ESCUADRA-MB'!K51,'ESCUADRA-EM'!K51,'ESCUADRA-RC'!K51) -> 7.5 | ... AJ51: =AVERAGE('ESCUADRA-CM'!AJ51,'ESCUADRA-FH'!AJ51,'ESCUADRA-MB'!AJ51,'ESCUADRA-EM'!AJ51,'ESCUADRA-RC'!AJ51) -> 8.25
B52: - | C52: Participación extra o voluntaria: | D52: =AVERAGE('ESCUADRA-CM'!D52,'ESCUADRA-FH'!D52,'ESCUADRA-MB'!D52,'ESCUADRA-EM'!D52,'ESCUADRA-RC'!D52) -> 8.75 | E52: =AVERAGE('ESCUADRA-CM'!E52,'ESCUADRA-FH'!E52,'ESCUADRA-MB'!E52,'ESCUADRA-EM'!E52,'ESCUADRA-RC'!E52) -> 7.5 | F52: =AVERAGE('ESCUADRA-CM'!F52,'ESCUADRA-FH'!F52,'ESCUADRA-MB'!F52,'ESCUADRA-EM'!F52,'ESCUADRA-RC'!F52) -> 6.5 | G52: =AVERAGE('ESCUADRA-CM'!G52,'ESCUADRA-FH'!G52,'ESCUADRA-MB'!G52,'ESCUADRA-EM'!G52,'ESCUADRA-RC'!G52) -> 7.25 | H52: =AVERAGE('ESCUADRA-CM'!H52,'ESCUADRA-FH'!H52,'ESCUADRA-MB'!H52,'ESCUADRA-EM'!H52,'ESCUADRA-RC'!H52) -> 8.25 | I52: =AVERAGE('ESCUADRA-CM'!I52,'ESCUADRA-FH'!I52,'ESCUADRA-MB'!I52,'ESCUADRA-EM'!I52,'ESCUADRA-RC'!I52) -> #DIV/0! | J52: =AVERAGE('ESCUADRA-CM'!J52,'ESCUADRA-FH'!J52,'ESCUADRA-MB'!J52,'ESCUADRA-EM'!J52,'ESCUADRA-RC'!J52) -> 8 | K52: =AVERAGE('ESCUADRA-CM'!K52,'ESCUADRA-FH'!K52,'ESCUADRA-MB'!K52,'ESCUADRA-EM'!K52,'ESCUADRA-RC'!K52) -> 8 | ... AJ52: =AVERAGE('ESCUADRA-CM'!AJ52,'ESCUADRA-FH'!AJ52,'ESCUADRA-MB'!AJ52,'ESCUADRA-EM'!AJ52,'ESCUADRA-RC'!AJ52) -> 7.5
B53: - | C53: Espíritu de cuerpo: | D53: =AVERAGE('ESCUADRA-CM'!D53,'ESCUADRA-FH'!D53,'ESCUADRA-MB'!D53,'ESCUADRA-EM'!D53,'ESCUADRA-RC'!D53) -> 9 | E53: =AVERAGE('ESCUADRA-CM'!E53,'ESCUADRA-FH'!E53,'ESCUADRA-MB'!E53,'ESCUADRA-EM'!E53,'ESCUADRA-RC'!E53) -> 8.5 | F53: =AVERAGE('ESCUADRA-CM'!F53,'ESCUADRA-FH'!F53,'ESCUADRA-MB'!F53,'ESCUADRA-EM'!F53,'ESCUADRA-RC'!F53) -> 7 | G53: =AVERAGE('ESCUADRA-CM'!G53,'ESCUADRA-FH'!G53,'ESCUADRA-MB'!G53,'ESCUADRA-EM'!G53,'ESCUADRA-RC'!G53) -> 7.75 | H53: =AVERAGE('ESCUADRA-CM'!H53,'ESCUADRA-FH'!H53,'ESCUADRA-MB'!H53,'ESCUADRA-EM'!H53,'ESCUADRA-RC'!H53) -> 9.25 | I53: =AVERAGE('ESCUADRA-CM'!I53,'ESCUADRA-FH'!I53,'ESCUADRA-MB'!I53,'ESCUADRA-EM'!I53,'ESCUADRA-RC'!I53) -> #DIV/0! | J53: =AVERAGE('ESCUADRA-CM'!J53,'ESCUADRA-FH'!J53,'ESCUADRA-MB'!J53,'ESCUADRA-EM'!J53,'ESCUADRA-RC'!J53) -> 8.75 | K53: =AVERAGE('ESCUADRA-CM'!K53,'ESCUADRA-FH'!K53,'ESCUADRA-MB'!K53,'ESCUADRA-EM'!K53,'ESCUADRA-RC'!K53) -> 8.25 | ... AJ53: =AVERAGE('ESCUADRA-CM'!AJ53,'ESCUADRA-FH'!AJ53,'ESCUADRA-MB'!AJ53,'ESCUADRA-EM'!AJ53,'ESCUADRA-RC'!AJ53) -> 8
C54: MEDIA | D54: =TRUNC(IFERROR(AVERAGE(D50:D53),"0"),2) -> 9.06 | E54: =TRUNC(IFERROR(AVERAGE(E50:E53),"0"),2) -> 7.93 | F54: =TRUNC(IFERROR(AVERAGE(F50:F53),"0"),2) -> 6.93 | G54: =TRUNC(IFERROR(AVERAGE(G50:G53),"0"),2) -> 7.43 | H54: =TRUNC(IFERROR(AVERAGE(H50:H53),"0"),2) -> 8.81 | I54: =TRUNC(IFERROR(AVERAGE(I50:I53),"0"),2) -> 0 | J54: =TRUNC(IFERROR(AVERAGE(J50:J53),"0"),2) -> 8.43 | K54: =TRUNC(IFERROR(AVERAGE(K50:K53),"0"),2) -> 8.12 | ... AJ54: =TRUNC(IFERROR(AVERAGE(AJ50:AJ53),"0"),2) -> 7.93
C55: CONDUCTA | D55: CONDUCTA
B56: - | C56: Comportamiento social: | D56: =AVERAGE('ESCUADRA-CM'!D56,'ESCUADRA-FH'!D56,'ESCUADRA-MB'!D56,'ESCUADRA-EM'!D56,'ESCUADRA-RC'!D56) -> 9 | E56: =AVERAGE('ESCUADRA-CM'!E56,'ESCUADRA-FH'!E56,'ESCUADRA-MB'!E56,'ESCUADRA-EM'!E56,'ESCUADRA-RC'!E56) -> 8.5 | F56: =AVERAGE('ESCUADRA-CM'!F56,'ESCUADRA-FH'!F56,'ESCUADRA-MB'!F56,'ESCUADRA-EM'!F56,'ESCUADRA-RC'!F56) -> 8.5 | G56: =AVERAGE('ESCUADRA-CM'!G56,'ESCUADRA-FH'!G56,'ESCUADRA-MB'!G56,'ESCUADRA-EM'!G56,'ESCUADRA-RC'!G56) -> 8.5 | H56: =AVERAGE('ESCUADRA-CM'!H56,'ESCUADRA-FH'!H56,'ESCUADRA-MB'!H56,'ESCUADRA-EM'!H56,'ESCUADRA-RC'!H56) -> 9 | I56: =AVERAGE('ESCUADRA-CM'!I56,'ESCUADRA-FH'!I56,'ESCUADRA-MB'!I56,'ESCUADRA-EM'!I56,'ESCUADRA-RC'!I56) -> #DIV/0! | J56: =AVERAGE('ESCUADRA-CM'!J56,'ESCUADRA-FH'!J56,'ESCUADRA-MB'!J56,'ESCUADRA-EM'!J56,'ESCUADRA-RC'!J56) -> 8.25 | K56: =AVERAGE('ESCUADRA-CM'!K56,'ESCUADRA-FH'!K56,'ESCUADRA-MB'!K56,'ESCUADRA-EM'!K56,'ESCUADRA-RC'!K56) -> 7.5 | ... AJ56: =AVERAGE('ESCUADRA-CM'!AJ56,'ESCUADRA-FH'!AJ56,'ESCUADRA-MB'!AJ56,'ESCUADRA-EM'!AJ56,'ESCUADRA-RC'!AJ56) -> 8.75
B57: - | C57: Cortesía: | D57: =AVERAGE('ESCUADRA-CM'!D57,'ESCUADRA-FH'!D57,'ESCUADRA-MB'!D57,'ESCUADRA-EM'!D57,'ESCUADRA-RC'!D57) -> 9.75 | E57: =AVERAGE('ESCUADRA-CM'!E57,'ESCUADRA-FH'!E57,'ESCUADRA-MB'!E57,'ESCUADRA-EM'!E57,'ESCUADRA-RC'!E57) -> 9 | F57: =AVERAGE('ESCUADRA-CM'!F57,'ESCUADRA-FH'!F57,'ESCUADRA-MB'!F57,'ESCUADRA-EM'!F57,'ESCUADRA-RC'!F57) -> 8.75 | G57: =AVERAGE('ESCUADRA-CM'!G57,'ESCUADRA-FH'!G57,'ESCUADRA-MB'!G57,'ESCUADRA-EM'!G57,'ESCUADRA-RC'!G57) -> 8.5 | H57: =AVERAGE('ESCUADRA-CM'!H57,'ESCUADRA-FH'!H57,'ESCUADRA-MB'!H57,'ESCUADRA-EM'!H57,'ESCUADRA-RC'!H57) -> 9 | I57: =AVERAGE('ESCUADRA-CM'!I57,'ESCUADRA-FH'!I57,'ESCUADRA-MB'!I57,'ESCUADRA-EM'!I57,'ESCUADRA-RC'!I57) -> #DIV/0! | J57: =AVERAGE('ESCUADRA-CM'!J57,'ESCUADRA-FH'!J57,'ESCUADRA-MB'!J57,'ESCUADRA-EM'!J57,'ESCUADRA-RC'!J57) -> 8.5 | K57: =AVERAGE('ESCUADRA-CM'!K57,'ESCUADRA-FH'!K57,'ESCUADRA-MB'!K57,'ESCUADRA-EM'!K57,'ESCUADRA-RC'!K57) -> 8 | ... AJ57: =AVERAGE('ESCUADRA-CM'!AJ57,'ESCUADRA-FH'!AJ57,'ESCUADRA-MB'!AJ57,'ESCUADRA-EM'!AJ57,'ESCUADRA-RC'!AJ57) -> 9
B58: - | C58: Dominio de si mismo: | D58: =AVERAGE('ESCUADRA-CM'!D58,'ESCUADRA-FH'!D58,'ESCUADRA-MB'!D58,'ESCUADRA-EM'!D58,'ESCUADRA-RC'!D58) -> 9.25 | E58: =AVERAGE('ESCUADRA-CM'!E58,'ESCUADRA-FH'!E58,'ESCUADRA-MB'!E58,'ESCUADRA-EM'!E58,'ESCUADRA-RC'!E58) -> 8.25 | F58: =AVERAGE('ESCUADRA-CM'!F58,'ESCUADRA-FH'!F58,'ESCUADRA-MB'!F58,'ESCUADRA-EM'!F58,'ESCUADRA-RC'!F58) -> 8.5 | G58: =AVERAGE('ESCUADRA-CM'!G58,'ESCUADRA-FH'!G58,'ESCUADRA-MB'!G58,'ESCUADRA-EM'!G58,'ESCUADRA-RC'!G58) -> 8.5 | H58: =AVERAGE('ESCUADRA-CM'!H58,'ESCUADRA-FH'!H58,'ESCUADRA-MB'!H58,'ESCUADRA-EM'!H58,'ESCUADRA-RC'!H58) -> 9 | I58: =AVERAGE('ESCUADRA-CM'!I58,'ESCUADRA-FH'!I58,'ESCUADRA-MB'!I58,'ESCUADRA-EM'!I58,'ESCUADRA-RC'!I58) -> #DIV/0! | J58: =AVERAGE('ESCUADRA-CM'!J58,'ESCUADRA-FH'!J58,'ESCUADRA-MB'!J58,'ESCUADRA-EM'!J58,'ESCUADRA-RC'!J58) -> 8 | K58: =AVERAGE('ESCUADRA-CM'!K58,'ESCUADRA-FH'!K58,'ESCUADRA-MB'!K58,'ESCUADRA-EM'!K58,'ESCUADRA-RC'!K58) -> 8 | ... AJ58: =AVERAGE('ESCUADRA-CM'!AJ58,'ESCUADRA-FH'!AJ58,'ESCUADRA-MB'!AJ58,'ESCUADRA-EM'!AJ58,'ESCUADRA-RC'!AJ58) -> 8.75
B59: - | C59: Actitud al régimen de la Escuela: | D59: =AVERAGE('ESCUADRA-CM'!D59,'ESCUADRA-FH'!D59,'ESCUADRA-MB'!D59,'ESCUADRA-EM'!D59,'ESCUADRA-RC'!D59) -> 9.5 | E59: =AVERAGE('ESCUADRA-CM'!E59,'ESCUADRA-FH'!E59,'ESCUADRA-MB'!E59,'ESCUADRA-EM'!E59,'ESCUADRA-RC'!E59) -> 7.75 | F59: =AVERAGE('ESCUADRA-CM'!F59,'ESCUADRA-FH'!F59,'ESCUADRA-MB'!F59,'ESCUADRA-EM'!F59,'ESCUADRA-RC'!F59) -> 8.25 | G59: =AVERAGE('ESCUADRA-CM'!G59,'ESCUADRA-FH'!G59,'ESCUADRA-MB'!G59,'ESCUADRA-EM'!G59,'ESCUADRA-RC'!G59) -> 7.75 | H59: =AVERAGE('ESCUADRA-CM'!H59,'ESCUADRA-FH'!H59,'ESCUADRA-MB'!H59,'ESCUADRA-EM'!H59,'ESCUADRA-RC'!H59) -> 9 | I59: =AVERAGE('ESCUADRA-CM'!I59,'ESCUADRA-FH'!I59,'ESCUADRA-MB'!I59,'ESCUADRA-EM'!I59,'ESCUADRA-RC'!I59) -> #DIV/0! | J59: =AVERAGE('ESCUADRA-CM'!J59,'ESCUADRA-FH'!J59,'ESCUADRA-MB'!J59,'ESCUADRA-EM'!J59,'ESCUADRA-RC'!J59) -> 8.5 | K59: =AVERAGE('ESCUADRA-CM'!K59,'ESCUADRA-FH'!K59,'ESCUADRA-MB'!K59,'ESCUADRA-EM'!K59,'ESCUADRA-RC'!K59) -> 7.5 | ... AJ59: =AVERAGE('ESCUADRA-CM'!AJ59,'ESCUADRA-FH'!AJ59,'ESCUADRA-MB'!AJ59,'ESCUADRA-EM'!AJ59,'ESCUADRA-RC'!AJ59) -> 8.75
B60: - | C60: Comportamiento, actitud y predisposición en clases: | D60: =AVERAGE('ESCUADRA-CM'!D60,'ESCUADRA-FH'!D60,'ESCUADRA-MB'!D60,'ESCUADRA-EM'!D60,'ESCUADRA-RC'!D60) -> 8.25 | E60: =AVERAGE('ESCUADRA-CM'!E60,'ESCUADRA-FH'!E60,'ESCUADRA-MB'!E60,'ESCUADRA-EM'!E60,'ESCUADRA-RC'!E60) -> 8 | F60: =AVERAGE('ESCUADRA-CM'!F60,'ESCUADRA-FH'!F60,'ESCUADRA-MB'!F60,'ESCUADRA-EM'!F60,'ESCUADRA-RC'!F60) -> 8.75 | G60: =AVERAGE('ESCUADRA-CM'!G60,'ESCUADRA-FH'!G60,'ESCUADRA-MB'!G60,'ESCUADRA-EM'!G60,'ESCUADRA-RC'!G60) -> 8.25 | H60: =AVERAGE('ESCUADRA-CM'!H60,'ESCUADRA-FH'!H60,'ESCUADRA-MB'!H60,'ESCUADRA-EM'!H60,'ESCUADRA-RC'!H60) -> 9 | I60: =AVERAGE('ESCUADRA-CM'!I60,'ESCUADRA-FH'!I60,'ESCUADRA-MB'!I60,'ESCUADRA-EM'!I60,'ESCUADRA-RC'!I60) -> #DIV/0! | J60: =AVERAGE('ESCUADRA-CM'!J60,'ESCUADRA-FH'!J60,'ESCUADRA-MB'!J60,'ESCUADRA-EM'!J60,'ESCUADRA-RC'!J60) -> 9 | K60: =AVERAGE('ESCUADRA-CM'!K60,'ESCUADRA-FH'!K60,'ESCUADRA-MB'!K60,'ESCUADRA-EM'!K60,'ESCUADRA-RC'!K60) -> 8.25 | ... AJ60: =AVERAGE('ESCUADRA-CM'!AJ60,'ESCUADRA-FH'!AJ60,'ESCUADRA-MB'!AJ60,'ESCUADRA-EM'!AJ60,'ESCUADRA-RC'!AJ60) -> 8
B61: - | C61: Templanza: | D61: =AVERAGE('ESCUADRA-CM'!D61,'ESCUADRA-FH'!D61,'ESCUADRA-MB'!D61,'ESCUADRA-EM'!D61,'ESCUADRA-RC'!D61) -> 8.75 | E61: =AVERAGE('ESCUADRA-CM'!E61,'ESCUADRA-FH'!E61,'ESCUADRA-MB'!E61,'ESCUADRA-EM'!E61,'ESCUADRA-RC'!E61) -> 8 | F61: =AVERAGE('ESCUADRA-CM'!F61,'ESCUADRA-FH'!F61,'ESCUADRA-MB'!F61,'ESCUADRA-EM'!F61,'ESCUADRA-RC'!F61) -> 8 | G61: =AVERAGE('ESCUADRA-CM'!G61,'ESCUADRA-FH'!G61,'ESCUADRA-MB'!G61,'ESCUADRA-EM'!G61,'ESCUADRA-RC'!G61) -> 8.25 | H61: =AVERAGE('ESCUADRA-CM'!H61,'ESCUADRA-FH'!H61,'ESCUADRA-MB'!H61,'ESCUADRA-EM'!H61,'ESCUADRA-RC'!H61) -> 9 | I61: =AVERAGE('ESCUADRA-CM'!I61,'ESCUADRA-FH'!I61,'ESCUADRA-MB'!I61,'ESCUADRA-EM'!I61,'ESCUADRA-RC'!I61) -> #DIV/0! | J61: =AVERAGE('ESCUADRA-CM'!J61,'ESCUADRA-FH'!J61,'ESCUADRA-MB'!J61,'ESCUADRA-EM'!J61,'ESCUADRA-RC'!J61) -> 8.25 | K61: =AVERAGE('ESCUADRA-CM'!K61,'ESCUADRA-FH'!K61,'ESCUADRA-MB'!K61,'ESCUADRA-EM'!K61,'ESCUADRA-RC'!K61) -> 7.5 | ... AJ61: =AVERAGE('ESCUADRA-CM'!AJ61,'ESCUADRA-FH'!AJ61,'ESCUADRA-MB'!AJ61,'ESCUADRA-EM'!AJ61,'ESCUADRA-RC'!AJ61) -> 8.5
C62: MEDIA | D62: =TRUNC(IFERROR(AVERAGE(D56:D61),"0"),2) -> 9.08 | E62: =TRUNC(IFERROR(AVERAGE(E56:E61),"0"),2) -> 8.25 | F62: =TRUNC(IFERROR(AVERAGE(F56:F61),"0"),2) -> 8.45 | G62: =TRUNC(IFERROR(AVERAGE(G56:G61),"0"),2) -> 8.29 | H62: =TRUNC(IFERROR(AVERAGE(H56:H61),"0"),2) -> 9 | I62: =TRUNC(IFERROR(AVERAGE(I56:I61),"0"),2) -> 0 | J62: =TRUNC(IFERROR(AVERAGE(J56:J61),"0"),2) -> 8.41 | K62: =TRUNC(IFERROR(AVERAGE(K56:K61),"0"),2) -> 7.79 | ... AJ62: =TRUNC(IFERROR(AVERAGE(AJ56:AJ61),"0"),2) -> 8.62
C63: APTITUD FÍSICA | D63: APTITUD FÍSICA
B64: - | C64: Interés por participar en actividades deportivas: | D64: =AVERAGE('ESCUADRA-CM'!D64,'ESCUADRA-FH'!D64,'ESCUADRA-MB'!D64,'ESCUADRA-EM'!D64,'ESCUADRA-RC'!D64) -> 8.75 | E64: =AVERAGE('ESCUADRA-CM'!E64,'ESCUADRA-FH'!E64,'ESCUADRA-MB'!E64,'ESCUADRA-EM'!E64,'ESCUADRA-RC'!E64) -> 7.25 | F64: =AVERAGE('ESCUADRA-CM'!F64,'ESCUADRA-FH'!F64,'ESCUADRA-MB'!F64,'ESCUADRA-EM'!F64,'ESCUADRA-RC'!F64) -> 8 | G64: =AVERAGE('ESCUADRA-CM'!G64,'ESCUADRA-FH'!G64,'ESCUADRA-MB'!G64,'ESCUADRA-EM'!G64,'ESCUADRA-RC'!G64) -> 7.75 | H64: =AVERAGE('ESCUADRA-CM'!H64,'ESCUADRA-FH'!H64,'ESCUADRA-MB'!H64,'ESCUADRA-EM'!H64,'ESCUADRA-RC'!H64) -> 8.5 | I64: =AVERAGE('ESCUADRA-CM'!I64,'ESCUADRA-FH'!I64,'ESCUADRA-MB'!I64,'ESCUADRA-EM'!I64,'ESCUADRA-RC'!I64) -> #DIV/0! | J64: =AVERAGE('ESCUADRA-CM'!J64,'ESCUADRA-FH'!J64,'ESCUADRA-MB'!J64,'ESCUADRA-EM'!J64,'ESCUADRA-RC'!J64) -> 9.25 | K64: =AVERAGE('ESCUADRA-CM'!K64,'ESCUADRA-FH'!K64,'ESCUADRA-MB'!K64,'ESCUADRA-EM'!K64,'ESCUADRA-RC'!K64) -> 8 | ... AJ64: =AVERAGE('ESCUADRA-CM'!AJ64,'ESCUADRA-FH'!AJ64,'ESCUADRA-MB'!AJ64,'ESCUADRA-EM'!AJ64,'ESCUADRA-RC'!AJ64) -> 9.25
C65: MEDIA | D65: =TRUNC(IFERROR(AVERAGE(D64),"0"),2) -> 8.75 | E65: =TRUNC(IFERROR(AVERAGE(E64),"0"),2) -> 7.25 | F65: =TRUNC(IFERROR(AVERAGE(F64),"0"),2) -> 8 | G65: =TRUNC(IFERROR(AVERAGE(G64),"0"),2) -> 7.75 | H65: =TRUNC(IFERROR(AVERAGE(H64),"0"),2) -> 8.5 | I65: =TRUNC(IFERROR(AVERAGE(I64),"0"),2) -> 0 | J65: =TRUNC(IFERROR(AVERAGE(J64),"0"),2) -> 9.25 | K65: =TRUNC(IFERROR(AVERAGE(K64),"0"),2) -> 8 | ... AJ65: =TRUNC(IFERROR(AVERAGE(AJ64),"0"),2) -> 9.25
C66: TENIDA, ORDEN Y ASEO | D66: TENIDA, ORDEN Y ASEO
B67: - | C67: Cuidado con su equipo personal: | D67: =AVERAGE('ESCUADRA-CM'!D67,'ESCUADRA-FH'!D67,'ESCUADRA-MB'!D67,'ESCUADRA-EM'!D67,'ESCUADRA-RC'!D67) -> 9 | E67: =AVERAGE('ESCUADRA-CM'!E67,'ESCUADRA-FH'!E67,'ESCUADRA-MB'!E67,'ESCUADRA-EM'!E67,'ESCUADRA-RC'!E67) -> 7.5 | F67: =AVERAGE('ESCUADRA-CM'!F67,'ESCUADRA-FH'!F67,'ESCUADRA-MB'!F67,'ESCUADRA-EM'!F67,'ESCUADRA-RC'!F67) -> 8.25 | G67: =AVERAGE('ESCUADRA-CM'!G67,'ESCUADRA-FH'!G67,'ESCUADRA-MB'!G67,'ESCUADRA-EM'!G67,'ESCUADRA-RC'!G67) -> 8.25 | H67: =AVERAGE('ESCUADRA-CM'!H67,'ESCUADRA-FH'!H67,'ESCUADRA-MB'!H67,'ESCUADRA-EM'!H67,'ESCUADRA-RC'!H67) -> 8.5 | I67: =AVERAGE('ESCUADRA-CM'!I67,'ESCUADRA-FH'!I67,'ESCUADRA-MB'!I67,'ESCUADRA-EM'!I67,'ESCUADRA-RC'!I67) -> #DIV/0! | J67: =AVERAGE('ESCUADRA-CM'!J67,'ESCUADRA-FH'!J67,'ESCUADRA-MB'!J67,'ESCUADRA-EM'!J67,'ESCUADRA-RC'!J67) -> 8.5 | K67: =AVERAGE('ESCUADRA-CM'!K67,'ESCUADRA-FH'!K67,'ESCUADRA-MB'!K67,'ESCUADRA-EM'!K67,'ESCUADRA-RC'!K67) -> 8.75 | ... AJ67: =AVERAGE('ESCUADRA-CM'!AJ67,'ESCUADRA-FH'!AJ67,'ESCUADRA-MB'!AJ67,'ESCUADRA-EM'!AJ67,'ESCUADRA-RC'!AJ67) -> 8.5
B68: - | C68: Presentación y aseo personal: | D68: =AVERAGE('ESCUADRA-CM'!D68,'ESCUADRA-FH'!D68,'ESCUADRA-MB'!D68,'ESCUADRA-EM'!D68,'ESCUADRA-RC'!D68) -> 9.75 | E68: =AVERAGE('ESCUADRA-CM'!E68,'ESCUADRA-FH'!E68,'ESCUADRA-MB'!E68,'ESCUADRA-EM'!E68,'ESCUADRA-RC'!E68) -> 8.5 | F68: =AVERAGE('ESCUADRA-CM'!F68,'ESCUADRA-FH'!F68,'ESCUADRA-MB'!F68,'ESCUADRA-EM'!F68,'ESCUADRA-RC'!F68) -> 8.75 | G68: =AVERAGE('ESCUADRA-CM'!G68,'ESCUADRA-FH'!G68,'ESCUADRA-MB'!G68,'ESCUADRA-EM'!G68,'ESCUADRA-RC'!G68) -> 8.75 | H68: =AVERAGE('ESCUADRA-CM'!H68,'ESCUADRA-FH'!H68,'ESCUADRA-MB'!H68,'ESCUADRA-EM'!H68,'ESCUADRA-RC'!H68) -> 9.25 | I68: =AVERAGE('ESCUADRA-CM'!I68,'ESCUADRA-FH'!I68,'ESCUADRA-MB'!I68,'ESCUADRA-EM'!I68,'ESCUADRA-RC'!I68) -> #DIV/0! | J68: =AVERAGE('ESCUADRA-CM'!J68,'ESCUADRA-FH'!J68,'ESCUADRA-MB'!J68,'ESCUADRA-EM'!J68,'ESCUADRA-RC'!J68) -> 9 | K68: =AVERAGE('ESCUADRA-CM'!K68,'ESCUADRA-FH'!K68,'ESCUADRA-MB'!K68,'ESCUADRA-EM'!K68,'ESCUADRA-RC'!K68) -> 8.75 | ... AJ68: =AVERAGE('ESCUADRA-CM'!AJ68,'ESCUADRA-FH'!AJ68,'ESCUADRA-MB'!AJ68,'ESCUADRA-EM'!AJ68,'ESCUADRA-RC'!AJ68) -> 9
B69: - | C69: Orden con sus elementos personales: | D69: =AVERAGE('ESCUADRA-CM'!D69,'ESCUADRA-FH'!D69,'ESCUADRA-MB'!D69,'ESCUADRA-EM'!D69,'ESCUADRA-RC'!D69) -> 9 | E69: =AVERAGE('ESCUADRA-CM'!E69,'ESCUADRA-FH'!E69,'ESCUADRA-MB'!E69,'ESCUADRA-EM'!E69,'ESCUADRA-RC'!E69) -> 8 | F69: =AVERAGE('ESCUADRA-CM'!F69,'ESCUADRA-FH'!F69,'ESCUADRA-MB'!F69,'ESCUADRA-EM'!F69,'ESCUADRA-RC'!F69) -> 8.5 | G69: =AVERAGE('ESCUADRA-CM'!G69,'ESCUADRA-FH'!G69,'ESCUADRA-MB'!G69,'ESCUADRA-EM'!G69,'ESCUADRA-RC'!G69) -> 8.25 | H69: =AVERAGE('ESCUADRA-CM'!H69,'ESCUADRA-FH'!H69,'ESCUADRA-MB'!H69,'ESCUADRA-EM'!H69,'ESCUADRA-RC'!H69) -> 8.75 | I69: =AVERAGE('ESCUADRA-CM'!I69,'ESCUADRA-FH'!I69,'ESCUADRA-MB'!I69,'ESCUADRA-EM'!I69,'ESCUADRA-RC'!I69) -> #DIV/0! | J69: =AVERAGE('ESCUADRA-CM'!J69,'ESCUADRA-FH'!J69,'ESCUADRA-MB'!J69,'ESCUADRA-EM'!J69,'ESCUADRA-RC'!J69) -> 8.25 | K69: =AVERAGE('ESCUADRA-CM'!K69,'ESCUADRA-FH'!K69,'ESCUADRA-MB'!K69,'ESCUADRA-EM'!K69,'ESCUADRA-RC'!K69) -> 8.5 | ... AJ69: =AVERAGE('ESCUADRA-CM'!AJ69,'ESCUADRA-FH'!AJ69,'ESCUADRA-MB'!AJ69,'ESCUADRA-EM'!AJ69,'ESCUADRA-RC'!AJ69) -> 8.5
C70: MEDIA | D70: =TRUNC(IFERROR(AVERAGE(D67:D69),"0"),2) -> 9.25 | E70: =TRUNC(IFERROR(AVERAGE(E67:E69),"0"),2) -> 8 | F70: =TRUNC(IFERROR(AVERAGE(F67:F69),"0"),2) -> 8.5 | G70: =TRUNC(IFERROR(AVERAGE(G67:G69),"0"),2) -> 8.41 | H70: =TRUNC(IFERROR(AVERAGE(H67:H69),"0"),2) -> 8.83 | I70: =TRUNC(IFERROR(AVERAGE(I67:I69),"0"),2) -> 0 | J70: =TRUNC(IFERROR(AVERAGE(J67:J69),"0"),2) -> 8.58 | K70: =TRUNC(IFERROR(AVERAGE(K67:K69),"0"),2) -> 8.66 | ... AJ70: =TRUNC(IFERROR(AVERAGE(AJ67:AJ69),"0"),2) -> 8.66
C71: NOTA MEDIA FINAL | D71: =TRUNC(IFERROR(AVERAGE(D70,D65,D62,D54,D48,D41,D33,D23,D18),"0"),2) -> 8.97 | E71: =TRUNC(IFERROR(AVERAGE(E70,E65,E62,E54,E48,E41,E33,E23,E18),"0"),2) -> 7.83 | F71: =TRUNC(IFERROR(AVERAGE(F70,F65,F62,F54,F48,F41,F33,F23,F18),"0"),2) -> 7.69 | G71: =TRUNC(IFERROR(AVERAGE(G70,G65,G62,G54,G48,G41,G33,G23,G18),"0"),2) -> 7.95 | H71: =TRUNC(IFERROR(AVERAGE(H70,H65,H62,H54,H48,H41,H33,H23,H18),"0"),2) -> 8.82 | I71: =TRUNC(IFERROR(AVERAGE(I70,I65,I62,I54,I48,I41,I33,I23,I18),"0"),2) -> 0 | J71: =TRUNC(IFERROR(AVERAGE(J70,J65,J62,J54,J48,J41,J33,J23,J18),"0"),2) -> 8.44 | K71: =TRUNC(IFERROR(AVERAGE(K70,K65,K62,K54,K48,K41,K33,K23,K18),"0"),2) -> 8.08 | ... AJ71: =TRUNC(IFERROR(AVERAGE(AJ70,AJ65,AJ62,AJ54,AJ48,AJ41,AJ33,AJ23,AJ18),"0"),2) -> 8.41
C73: INSTRUCTIOR: (GRADO / NOMBRE) | D73: Aguilera | E73: Bambach | F73: Benavente | G73: Bolelli | H73: Correa | I73: De la Cruz | J73: Del Favero | K73: Espejo | L73: Fuenzalida | M73: Ibáñez C | N73: Ibáñez G | O73: Izquierdo | P73: Jones | Q73: Jorquera | R73: Junge | S73: Kinast | T73: Larraín | U73: Leiva | V73: Lopez | W73: Medel | X73: Montes | Y73: Ogaz | Z73: Osorio | AA73: Rivera | AB73: Santis | AC73: Solari F | AD73: Solari B | AE73: Urrutia | AF73: Valdes | AG73: Vallebona | AH73: Vidaurre | AI73: Wagner | AJ73: Wuth
C74: NOTA MEDIA FINAL | D74: 8.92 | E74: 7.74 | F74: 7.61 | G74: 7.86 | H74: 8.76 | I74: 0 | J74: 8.35 | K74: 8.04 | L74: 5.56 | M74: 9.25 | N74: 8.33 | O74: 7.82 | P74: 8.39 | Q74: 8.14 | R74: 8.27 | S74: 8.97 | T74: 9.42 | U74: 9.15 | V74: 8.69 | W74: 8.43 | X74: 8.42 | Y74: 8.42 | Z74: 8.29 | AA74: 8.49 | AB74: 8.16 | AC74: 8.86 | AD74: 8.88 | AE74: 6.9 | AF74: 8.64 | AG74: 8.55 | AH74: 7.94 | AI74: 8.35 | AJ74: 8.32
C75: INSTRUCTIOR: (GRADO / NOMBRE) | D75: NOTA MEDIA FINAL
C76: Larraín | D76: 9.42 | E76: 1
C77: Ibáñez C | D77: 9.25 | E77: 2
C78: Leiva | D78: 9.15 | E78: 3
C79: Kinast | D79: 8.97 | E79: 4
C80: Aguilera | D80: 8.92 | E80: 5
C81: Solari B | D81: 8.88 | E81: 6
C82: Solari F | D82: 8.86 | E82: 7
C83: Correa | D83: 8.76 | E83: 8
C84: Lopez | D84: 8.69 | E84: 9
C85: Valdes | D85: 8.64 | E85: 10
C86: Vallebona | D86: 8.55 | E86: 11
C87: Rivera | D87: 8.49 | E87: 12
... C108: De la Cruz | D108: 0 | E108: 33

Sheet Copia de ESCUADRA
H2: CALIFICACIÓN PARA CURSO CAOR
C3: PERDIODO | D3: 1
D4: =DATOS!A2&" "&DATOS!A7 -> Aguilera, Pablo Alberto | E4: =DATOS!B2&" "&DATOS!B7 -> Bambach, Juan Paulo | F4: =DATOS!C2&" "&DATOS!C7 -> Benavente, Sergio | G4: =DATOS!D2&" "&DATOS!D7 -> Bolelli, Ignacio Octavio | H4: =DATOS!E2&" "&DATOS!E7 -> Correa, Cristóbal | I4: =DATOS!F2&" "&DATOS!F7 -> De la Cruz , Oscar Ernesto | J4: =DATOS!G2&" "&DATOS!G7 -> Del Favero, Andrés | K4: =DATOS!H2&" "&DATOS!H7 -> Espejo, Paula Macarena | ... AJ4: =DATOS!AG2&" "&DATOS!AG7 -> Wuth, Enrique Alejandro
C5: INSTRUCTIOR: (GRADO / NOMBRE) | D5: =DATOS!A1 -> Aguilera | E5: =DATOS!B1 -> Bambach | F5: =DATOS!C1 -> Benavente | G5: =DATOS!D1 -> Bolelli | H5: =DATOS!E1 -> Correa | I5: =DATOS!F1 -> De la Cruz | J5: =DATOS!G1 -> Del Favero | K5: =DATOS!H1 -> Espejo | L5: =DATOS!I1 -> Fuenzalida | M5: =DATOS!J1&" C" -> Ibáñez C | N5: =DATOS!K1&" G" -> Ibáñez G | O5: =DATOS!L1 -> Izquierdo | P5: =DATOS!M1 -> Jones | Q5: =DATOS!N1 -> Jorquera | R5: =DATOS!O1 -> Junge | S5: =DATOS!P1 -> Kinast | T5: =DATOS!Q1 -> Larraín | U5: =DATOS!R1 -> Leiva | V5: =DATOS!S1 -> Lopez | ... AB5: =DATOS!Y1 -> Santis | AC5: =DATOS!Z1&" F" -> Solari F | AD5: =DATOS!AA1&" B" -> Solari B | AE5: =DATOS!AB1 -> Urrutia | AF5: =DATOS!AC1 -> Valdes | AG5: =DATOS!AD1 -> Vallebona | AH5: =DATOS!AE1 -> Vidaurre | AI5: =DATOS!AF1 -> Wagner | AJ5: =DATOS!AG1 -> Wuth
C6: Edad | D6: =DATOS!A4 -> 45.550685 | E6: =DATOS!B4 -> 59.668493 | F6: =DATOS!C4 -> 62.673973 | G6: =DATOS!D4 -> 42.29863 | H6: =DATOS!E4 -> 44.10411 | I6: =DATOS!F4 -> 55.128767 | J6: =DATOS!G4 -> 42.109589 | K6: =DATOS!H4 -> 44.043836 | ... AJ6: =DATOS!AG4 -> 44.446575
C7: Empresa | D7: =DATOS!A5 -> Netafim Chile | E7: =DATOS!B5 -> Estudio Philippi | F7: =DATOS!C5 -> Bci Asset Management | G7: =DATOS!D5 -> MBC Abogados | H7: =DATOS!E5 -> Yamana Gold | I7: =DATOS!F5 -> AAK Abogados | J7: =DATOS!G5 -> Lavin Abogados & Consultores | K7: =DATOS!H5 -> Boldtalk Spa | ... AJ7: =DATOS!AG5 -> Constructora WL
C8: Cargo | D8: =DATOS!A6 -> Agente Zonal Sexta Región | E8: =DATOS!B6 -> Abogado | F8: =DATOS!C6 -> Gerente de Riesgo | G8: =DATOS!D6 -> Socio | H8: =DATOS!E6 -> Director Legal | I8: =DATOS!F6 -> Socio | J8: =DATOS!G6 -> Socio | K8: =DATOS!H6 -> Fundadora | ... AJ8: =DATOS!AG6 -> Socio
D10: Las notas serán hechas de 1 a 10 (sin decimales), donde la nota mínima de aprobación será un 6.
C11: MANDO | D11: MANDO
B12: - | C12: Ejemplo que inspira con sus actuaciones:
B13: - | C13: Carácter:
B14: - | C14: Capacidad para aceptar críticas a su actuación
B15: - | C15: Lealtad:
B16: - | C16: Fortaleza:
B17: - | C17: Prudencia:
C18: MEDIA
C19: INTERÉS PROFESIONAL
B20: - | C20: Conocimiento sobre la carrera y sus tradiciones:
B21: - | C21: Espíritu Profesional:
B22: - | C22: Rendimiento en actividades profesionales:
C23: MEDIA
C24: PERSONALIDAD
B25: - | C25: Capacidad de expresión oral:
B26: - | C26: Ascendiente con sus compañeros:
B27: - | C27: Madurez en sus actuaciones:
B28: - | C28: Sociabilidad:
B29: - | C29: Compañerismo, amistad y solidaridad:
B30: - | C30: Condiciones de Líder:
B31: - | C31: Iniciativa:
B32: - | C32: Tacto y criterio:
C33: MEDIA
C34: RESPONSABILIDAD
B35: - | C35: Espíritu de superación:
B36: - | C36: Capacidad para organizarse:
B37: - | C37: Capacidad para asumir responsabilidades:
B38: - | C38: Necesidad de control:
B39: - | C39: Puntualidad:
B40: - | C40: Tenacidad y constancia:
C41: MEDIA
C42: ESPÍRITU MILITAR
B43: - | C43: Cumplimiento del deber:
B44: - | C44: Abnegación:
B45: - | C45: Respeto hacia sus superiores:
B46: - | C46: Lealtad y franqueza con sus superiores
B47: - | C47: Prestancia militar:
C48: MEDIA
C49: COOPERACIÓN
B50: - | C50: Espíritu de cooperación:
B51: - | C51: Actitud en sus actuaciones:
B52: - | C52: Participación extra o voluntaria:
B53: - | C53: Espíritu de cuerpo:
C54: MEDIA
C55: CONDUCTA
B56: - | C56: Comportamiento social:
B57: - | C57: Cortesía:
B58: - | C58: Dominio de si mismo:
B59: - | C59: Actitud al régimen de la Escuela:
B60: - | C60: Comportamiento, actitud y predisposición en clases:
B61: - | C61: Templanza:
C62: MEDIA
C63: APTITUD FÍSICA
B64: - | C64: Interés por participar en actividades deportivas:
C65: MEDIA
C66: TENIDA, ORDEN Y ASEO
B67: - | C67: Cuidado con su equipo personal:
B68: - | C68: Presentación y aseo personal:
B69: - | C69: Orden con sus elementos personales:
C70: MEDIA
C71: NOTA MEDIA FINAL

Sheet Copia de ASP1
B2: CALIFICACIÓN PRIMER PERIODO 2023
B4: Nombre
B5: =ESCUADRA!C6 -> Edad
B6: =ESCUADRA!C7 -> Empresa
B7: =ESCUADRA!C8 -> Cargo
B9: =ESCUADRA!$D11 -> MANDO
B10: =ESCUADRA!C12 -> Ejemplo que inspira con sus actuaciones: | D10: =ESCUADRA!D12 -> 9
B11: =ESCUADRA!C13 -> Carácter: | D11: =ESCUADRA!D13 -> 8.6
B12: =ESCUADRA!C14 -> Capacidad para aceptar críticas a su actuación | D12: =ESCUADRA!D14 -> 9.6
B13: =ESCUADRA!C15 -> Lealtad: | D13: =ESCUADRA!D15 -> 9.4
B14: =ESCUADRA!C16 -> Fortaleza: | D14: =ESCUADRA!D16 -> 8.8
B15: =ESCUADRA!C17 -> Prudencia: | D15: =ESCUADRA!D17 -> 9.6
B16: =ESCUADRA!C18 -> MEDIA | D16: =ESCUADRA!D18 -> 9.16
B17: =ESCUADRA!$D19 -> INTERÉS PROFESIONAL
B18: =ESCUADRA!C20 -> Conocimiento sobre la carrera y sus tradiciones: | D18: =ESCUADRA!D20 -> 8.8
B19: =ESCUADRA!C21 -> Espíritu Profesional: | D19: =ESCUADRA!D21 -> 8.6
B20: =ESCUADRA!C22 -> Rendimiento en actividades profesionales: | D20: =ESCUADRA!D22 -> 8.4
B21: =ESCUADRA!C23 -> MEDIA | D21: =ESCUADRA!D23 -> 8.6
B22: =ESCUADRA!$D24 -> PERSONALIDAD
B23: =ESCUADRA!C25 -> Capacidad de expresión oral: | D23: =ESCUADRA!D25 -> 8.6
B24: =ESCUADRA!C26 -> Ascendiente con sus compañeros: | D24: =ESCUADRA!D26 -> 9.2
B25: =ESCUADRA!C27 -> Madurez en sus actuaciones: | D25: =ESCUADRA!D27 -> 9
B26: =ESCUADRA!C28 -> Sociabilidad: | D26: =ESCUADRA!D28 -> 8.8
B27: =ESCUADRA!C29 -> Compañerismo, amistad y solidaridad: | D27: =ESCUADRA!D29 -> 9
B28: =ESCUADRA!C30 -> Condiciones de Líder: | D28: =ESCUADRA!D30 -> 8.6
B29: =ESCUADRA!C31 -> Iniciativa: | D29: =ESCUADRA!D31 -> 8.4
B30: =ESCUADRA!C32 -> Tacto y criterio: | D30: =ESCUADRA!D32 -> 9
B31: =ESCUADRA!C33 -> MEDIA | D31: =ESCUADRA!D33 -> 8.82
B32: =ESCUADRA!D34 -> RESPONSABILIDAD
B33: =ESCUADRA!C35 -> Espíritu de superación: | D33: =ESCUADRA!D35 -> 8.6
B34: =ESCUADRA!C36 -> Capacidad para organizarse: | D34: =ESCUADRA!D36 -> 8.4
B35: =ESCUADRA!C37 -> Capacidad para asumir responsabilidades: | D35: =ESCUADRA!D37 -> 9.4
B36: =ESCUADRA!C38 -> Necesidad de control: | D36: =ESCUADRA!D38 -> 8.8
B37: =ESCUADRA!C39 -> Puntualidad: | D37: =ESCUADRA!D39 -> 9.4
B38: =ESCUADRA!C40 -> Tenacidad y constancia: | D38: =ESCUADRA!D40 -> 9
B39: =ESCUADRA!C41 -> MEDIA | D39: =ESCUADRA!D41 -> 8.93
B40: =ESCUADRA!D42 -> ESPÍRITU MILITAR
B41: =ESCUADRA!C43 -> Cumplimiento del deber: | D41: =ESCUADRA!D43 -> 9.4
B42: =ESCUADRA!C44 -> Abnegación: | D42: =ESCUADRA!D44 -> 8.4
B43: =ESCUADRA!C45 -> Respeto hacia sus superiores: | D43: =ESCUADRA!D45 -> 9.6
B44: =ESCUADRA!C46 -> Lealtad y franqueza con sus superiores | D44: =ESCUADRA!D46 -> 9.2
B45: =ESCUADRA!C47 -> Prestancia militar: | D45: =ESCUADRA!D47 -> 9.2
B46: =ESCUADRA!C48 -> MEDIA | D46: =ESCUADRA!D48 -> 9.16
B47: =ESCUADRA!D49 -> COOPERACIÓN
B48: =ESCUADRA!C50 -> Espíritu de cooperación: | D48: =ESCUADRA!D50 -> 9.25
B49: =ESCUADRA!C51 -> Actitud en sus actuaciones: | D49: =ESCUADRA!D51 -> 9.25
B50: =ESCUADRA!C52 -> Participación extra o voluntaria: | D50: =ESCUADRA!D52 -> 8.75
B51: =ESCUADRA!C53 -> Espíritu de cuerpo: | D51: =ESCUADRA!D53 -> 9
B52: =ESCUADRA!C54 -> MEDIA | D52: =ESCUADRA!D54 -> 9.06
B53: =ESCUADRA!D55 -> CONDUCTA
B54: =ESCUADRA!C56 -> Comportamiento social: | D54: =ESCUADRA!D56 -> 9
B55: =ESCUADRA!C57 -> Cortesía: | D55: =ESCUADRA!D57 -> 9.75
B56: =ESCUADRA!C58 -> Dominio de si mismo: | D56: =ESCUADRA!D58 -> 9.25
B57: =ESCUADRA!C59 -> Actitud al régimen de la Escuela: | D57: =ESCUADRA!D59 -> 9.5
B58: =ESCUADRA!C60 -> Comportamiento, actitud y predisposición en clases: | D58: =ESCUADRA!D60 -> 8.25
B59: =ESCUADRA!C61 -> Templanza: | D59: =ESCUADRA!D61 -> 8.75
B60: =ESCUADRA!C62 -> MEDIA | D60: =ESCUADRA!D62 -> 9.08
B61: =ESCUADRA!D63 -> APTITUD FÍSICA
B62: =ESCUADRA!C64 -> Interés por participar en actividades deportivas: | D62: =ESCUADRA!D64 -> 8.75
B63: =ESCUADRA!C65 -> MEDIA | D63: =ESCUADRA!D65 -> 8.75
B64: =ESCUADRA!D66 -> TENIDA, ORDEN Y ASEO
B65: =ESCUADRA!C68 -> Presentación y aseo personal: | D65: =ESCUADRA!D68 -> 9.75
B66: =ESCUADRA!C69 -> Orden con sus elementos personales: | D66: =ESCUADRA!D69 -> 9
B67: =ESCUADRA!C70 -> MEDIA | D67: =ESCUADRA!D70 -> 9.25
C69: NOTA MEDIA FINAL | D69: =ESCUADRA!D71 -> 8.97
B73: TOME CONOCIMIENTO:
C74: FIRMA

Sheet DATOS
A1: Aguilera | B1: Bambach | C1: Benavente | D1: Bolelli | E1: Correa | F1: De la Cruz | G1: Del Favero | H1: Espejo | I1: Fuenzalida | J1: Ibáñez | K1: Ibáñez | L1: Izquierdo | M1: Jones | N1: Jorquera | O1: Junge | P1: Kinast | Q1: Larraín | R1: Leiva | S1: Lopez | T1: Medel | U1: Montes | V1: Ogaz | W1: Osorio | X1: Rivera | Y1: Santis | Z1: Solari | AA1: Solari | AB1: Urrutia | AC1: Valdes | AD1: Vallebona | AE1: Vidaurre | AF1: Wagner | AG1: Wuth
A2: Aguilera, Pablo Alberto | B2: Bambach, Juan Paulo | C2: Benavente, Sergio | D2: Bolelli, Ignacio Octavio | E2: Correa, Cristóbal | F2: De la Cruz , Oscar Ernesto | G2: Del Favero, Andrés | H2: Espejo, Paula Macarena | I2: Fuenzalida, Anita Maria | J2: Ibáñez, María Carolina | K2: Ibáñez, Graciela Antonia María | L2: Izquierdo, José Manuel | M2: Jones, Carlos Andres | N2: Jorquera, Carlos Ricardo | O2: Junge, Cristian Alfredo | P2: Kinast, Juan Pablo | Q2: Larraín, Ignacio José | R2: Leiva, Constanza Isabel | S2: Lopez, Mauricio Alfonso | T2: Medel, Lorena Viviana | U2: Montes, Francisco Javier | V2: Ogaz, Raúl Gustavo | W2: Osorio, Sebastián Alejandro | X2: Rivera, Gianni Mauricio | Y2: Santis, Patricio Esteban | Z2: Solari, Fernando | AA2: Solari, Benjamín | AB2: Urrutia, Martín Ignacio | AC2: Valdes, Hector Raul | AD2: Vallebona, Sebastián | AE2: Vidaurre, Sebastián Matías | AF2: Wagner, Richard Herbert | AG2: Wuth, Enrique Alejandro
A3: 28461 | B3: 23308 | C3: 22211 | D3: 29648 | E3: 28989 | F3: 24965 | G3: 29717 | H3: 29011 | I3: 27740 | J3: 31527 | K3: 28656 | L3: 22903 | M3: 27513 | N3: 31390 | O3: 31543 | P3: 24805 | Q3: 30357 | R3: 32480 | S3: 26766 | T3: 26478 | U3: 28369 | V3: 29347 | W3: 27346 | X3: 30467 | Y3: 26014 | Z3: 30616 | AA3: 29927 | AB3: 25851 | AC3: 21563 | AD3: 31904 | AE3: 27724 | AF3: 25421 | AG3: 28864
A4: =(TODAY()-A3)/365 -> 45.550685 | B4: =(TODAY()-B3)/365 -> 59.668493 | C4: =(TODAY()-C3)/365 -> 62.673973 | D4: =(TODAY()-D3)/365 -> 42.29863 | E4: =(TODAY()-E3)/365 -> 44.10411 | F4: =(TODAY()-F3)/365 -> 55.128767 | G4: =(TODAY()-G3)/365 -> 42.109589 | H4: =(TODAY()-H3)/365 -> 44.043836 | ... AG4: =(TODAY()-AG3)/365 -> 44.446575
A5: Netafim Chile | B5: Estudio Philippi | C5: Bci Asset Management | D5: MBC Abogados | E5: Yamana Gold | F5: AAK Abogados | G5: Lavin Abogados & Consultores | H5: Boldtalk Spa | I5: Antuco Ltda, | J5: Chile Más Hoy | K5: Periodista independiente | L5: Abako | M5: Unio Energy | N5: Jorquera Walsen y Cía | O5: BCG | P5: Alvarez, Azola & Kinast Abogados | Q5: Estudio Philippi | R5: Karün | S5: Clínica Mira | T5: Capital Reputacional | U5: SII | V5: Banco Santander | W5: Freelance | X5: Pontificia Universidad Católica de Valparaíso | Y5: Mainsoft SA | Z5: Inmobiliaria Solari | AA5: Inmobiliaria Solari | AB5: BCI | AC5: Administradora de Centros de Salud y Clinicas SPA | AD5: PCM Abogados | AE5: Pívotal Consultores | AF5: Soluex | AG5: Constructora WL
A6: Agente Zonal Sexta Región | B6: Abogado | C6: Gerente de Riesgo | D6: Socio | E6: Director Legal | F6: Socio | G6: Socio | H6: Fundadora | I6: Gerente finanzas, Consultor | J6: Directora | K6: Periodista independiente | L6: Director | M6: Socio | N6: Abogado | O6: Consultor | P6: Socio | Q6: Socio | R6: Tech Manager | S6: Médico socio | T6: Socia | U6: Profesional - Estudios Económicos / Tributarios | V6: Financial Liquidity Manager | W6: Diseño | X6: Director Relaciones Institucionales | Y6: Jefe Gestión de Personas | Z6: Socio | AA6: Socio | AB6: Gerente Estrategia Comercial Wealth Management | AC6: Medico Socio | AD6: Asociado senior | AE6: Socio Fundador | AF6: Socio | AG6: Socio

Sheet ASP1
B2: CALIFICACIÓN PRIMER PERIODO 2023
B4: Nombre | C4: =ESCUADRA!D4 -> Aguilera, Pablo Alberto
B5: =ESCUADRA!C6 -> Edad | C5: =ESCUADRA!D6 -> 45.550685
B6: =ESCUADRA!C7 -> Empresa | C6: =ESCUADRA!D7 -> Netafim Chile
B7: =ESCUADRA!C8 -> Cargo | C7: =ESCUADRA!D8 -> Agente Zonal Sexta Región
B9: =ESCUADRA!$D11 -> MANDO
B10: =ESCUADRA!C12 -> Ejemplo que inspira con sus actuaciones: | D10: =ESCUADRA!D12 -> 9
B11: =ESCUADRA!C13 -> Carácter: | D11: =ESCUADRA!D13 -> 8.6
B12: =ESCUADRA!C14 -> Capacidad para aceptar críticas a su actuación | D12: =ESCUADRA!D14 -> 9.6
B13: =ESCUADRA!C15 -> Lealtad: | D13: =ESCUADRA!D15 -> 9.4
B14: =ESCUADRA!C16 -> Fortaleza: | D14: =ESCUADRA!D16 -> 8.8
B15: =ESCUADRA!C17 -> Prudencia: | D15: =ESCUADRA!D17 -> 9.6
B16: =ESCUADRA!C18 -> MEDIA | D16: =ESCUADRA!D18 -> 9.16
B17: =ESCUADRA!$D19 -> INTERÉS PROFESIONAL
B18: =ESCUADRA!C20 -> Conocimiento sobre la carrera y sus tradiciones: | D18: =ESCUADRA!D20 -> 8.8
B19: =ESCUADRA!C21 -> Espíritu Profesional: | D19: =ESCUADRA!D21 -> 8.6
B20: =ESCUADRA!C22 -> Rendimiento en actividades profesionales: | D20: =ESCUADRA!D22 -> 8.4
B21: =ESCUADRA!C23 -> MEDIA | D21: =ESCUADRA!D23 -> 8.6
B22: =ESCUADRA!$D24 -> PERSONALIDAD
B23: =ESCUADRA!C25 -> Capacidad de expresión oral: | D23: =ESCUADRA!D25 -> 8.6
B24: =ESCUADRA!C26 -> Ascendiente con sus compañeros: | D24: =ESCUADRA!D26 -> 9.2
B25: =ESCUADRA!C27 -> Madurez en sus actuaciones: | D25: =ESCUADRA!D27 -> 9
B26: =ESCUADRA!C28 -> Sociabilidad: | D26: =ESCUADRA!D28 -> 8.8
B27: =ESCUADRA!C29 -> Compañerismo, amistad y solidaridad: | D27: =ESCUADRA!D29 -> 9
B28: =ESCUADRA!C30 -> Condiciones de Líder: | D28: =ESCUADRA!D30 -> 8.6
B29: =ESCUADRA!C31 -> Iniciativa: | D29: =ESCUADRA!D31 -> 8.4
B30: =ESCUADRA!C32 -> Tacto y criterio: | D30: =ESCUADRA!D32 -> 9
B31: =ESCUADRA!C33 -> MEDIA | D31: =ESCUADRA!D33 -> 8.82
B32: =ESCUADRA!D34 -> RESPONSABILIDAD
B33: =ESCUADRA!C35 -> Espíritu de superación: | D33: =ESCUADRA!D35 -> 8.6
B34: =ESCUADRA!C36 -> Capacidad para organizarse: | D34: =ESCUADRA!D36 -> 8.4
B35: =ESCUADRA!C37 -> Capacidad para asumir responsabilidades: | D35: =ESCUADRA!D37 -> 9.4
B36: =ESCUADRA!C38 -> Necesidad de control: | D36: =ESCUADRA!D38 -> 8.8
B37: =ESCUADRA!C39 -> Puntualidad: | D37: =ESCUADRA!D39 -> 9.4
B38: =ESCUADRA!C40 -> Tenacidad y constancia: | D38: =ESCUADRA!D40 -> 9
B39: =ESCUADRA!C41 -> MEDIA | D39: =ESCUADRA!D41 -> 8.93
B40: =ESCUADRA!D42 -> ESPÍRITU MILITAR
B41: =ESCUADRA!C43 -> Cumplimiento del deber: | D41: =ESCUADRA!D43 -> 9.4
B42: =ESCUADRA!C44 -> Abnegación: | D42: =ESCUADRA!D44 -> 8.4
B43: =ESCUADRA!C45 -> Respeto hacia sus superiores: | D43: =ESCUADRA!D45 -> 9.6
B44: =ESCUADRA!C46 -> Lealtad y franqueza con sus superiores | D44: =ESCUADRA!D46 -> 9.2
B45: =ESCUADRA!C47 -> Prestancia militar: | D45: =ESCUADRA!D47 -> 9.2
B46: =ESCUADRA!C48 -> MEDIA | D46: =ESCUADRA!D48 -> 9.16
B47: =ESCUADRA!D49 -> COOPERACIÓN
B48: =ESCUADRA!C50 -> Espíritu de cooperación: | D48: =ESCUADRA!D50 -> 9.25
B49: =ESCUADRA!C51 -> Actitud en sus actuaciones: | D49: =ESCUADRA!D51 -> 9.25
B50: =ESCUADRA!C52 -> Participación extra o voluntaria: | D50: =ESCUADRA!D52 -> 8.75
B51: =ESCUADRA!C53 -> Espíritu de cuerpo: | D51: =ESCUADRA!D53 -> 9
B52: =ESCUADRA!C54 -> MEDIA | D52: =ESCUADRA!D54 -> 9.06
B53: =ESCUADRA!D55 -> CONDUCTA
B54: =ESCUADRA!C56 -> Comportamiento social: | D54: =ESCUADRA!D56 -> 9
B55: =ESCUADRA!C57 -> Cortesía: | D55: =ESCUADRA!D57 -> 9.75
B56: =ESCUADRA!C58 -> Dominio de si mismo: | D56: =ESCUADRA!D58 -> 9.25
B57: =ESCUADRA!C59 -> Actitud al régimen de la Escuela: | D57: =ESCUADRA!D59 -> 9.5
B58: =ESCUADRA!C60 -> Comportamiento, actitud y predisposición en clases: | D58: =ESCUADRA!D60 -> 8.25
B59: =ESCUADRA!C61 -> Templanza: | D59: =ESCUADRA!D61 -> 8.75
B60: =ESCUADRA!C62 -> MEDIA | D60: =ESCUADRA!D62 -> 9.08
B61: =ESCUADRA!D63 -> APTITUD FÍSICA
B62: =ESCUADRA!C64 -> Interés por participar en actividades deportivas: | D62: =ESCUADRA!D64 -> 8.75
B63: =ESCUADRA!C65 -> MEDIA | D63: =ESCUADRA!D65 -> 8.75
B64: =ESCUADRA!D66 -> TENIDA, ORDEN Y ASEO
B65: =ESCUADRA!C68 -> Presentación y aseo personal: | D65: =ESCUADRA!D68 -> 9.75
B66: =ESCUADRA!C69 -> Orden con sus elementos personales: | D66: =ESCUADRA!D69 -> 9
B67: =ESCUADRA!C70 -> MEDIA | D67: =ESCUADRA!D70 -> 9.25
C69: NOTA MEDIA FINAL | D69: =ESCUADRA!D71 -> 8.97
B73: TOME CONOCIMIENTO:
C74: FIRMA

Sheet ASP2
B2: CALIFICACIÓN PRIMER PERIODO 2023
B4: Nombre | C4: =ESCUADRA!E4 -> Bambach, Juan Paulo
B5: =ESCUADRA!C6 -> Edad | C5: =ESCUADRA!E6 -> 59.668493
B6: =ESCUADRA!C7 -> Empresa | C6: =ESCUADRA!E7 -> Estudio Philippi
B7: =ESCUADRA!C8 -> Cargo | C7: =ESCUADRA!E8 -> Abogado
B9: =ESCUADRA!$D11 -> MANDO
B10: =ESCUADRA!C12 -> Ejemplo que inspira con sus actuaciones: | D10: =ESCUADRA!E12 -> 7
B11: =ESCUADRA!C13 -> Carácter: | D11: =ESCUADRA!E13 -> 8
B12: =ESCUADRA!C14 -> Capacidad para aceptar críticas a su actuación | D12: =ESCUADRA!E14 -> 8.4
B13: =ESCUADRA!C15 -> Lealtad: | D13: =ESCUADRA!E15 -> 8.4
B14: =ESCUADRA!C16 -> Fortaleza: | D14: =ESCUADRA!E16 -> 8
B15: =ESCUADRA!C17 -> Prudencia: | D15: =ESCUADRA!E17 -> 7.2
B16: =ESCUADRA!C18 -> MEDIA | D16: =ESCUADRA!E18 -> 7.83
B17: =ESCUADRA!$D19 -> INTERÉS PROFESIONAL
B18: =ESCUADRA!C20 -> Conocimiento sobre la carrera y sus tradiciones: | D18: =ESCUADRA!E20 -> 6.8
B19: =ESCUADRA!C21 -> Espíritu Profesional: | D19: =ESCUADRA!E21 -> 7.6
B20: =ESCUADRA!C22 -> Rendimiento en actividades profesionales: | D20: =ESCUADRA!E22 -> 7.2
B21: =ESCUADRA!C23 -> MEDIA | D21: =ESCUADRA!E23 -> 7.2
B22: =ESCUADRA!$D24 -> PERSONALIDAD
B23: =ESCUADRA!C25 -> Capacidad de expresión oral: | D23: =ESCUADRA!E25 -> 8.8
B24: =ESCUADRA!C26 -> Ascendiente con sus compañeros: | D24: =ESCUADRA!E26 -> 8.4
B25: =ESCUADRA!C27 -> Madurez en sus actuaciones: | D25: =ESCUADRA!E27 -> 7.4
B26: =ESCUADRA!C28 -> Sociabilidad: | D26: =ESCUADRA!E28 -> 9.2
B27: =ESCUADRA!C29 -> Compañerismo, amistad y solidaridad: | D27: =ESCUADRA!E29 -> 9.4
B28: =ESCUADRA!C30 -> Condiciones de Líder: | D28: =ESCUADRA!E30 -> 7.4
B29: =ESCUADRA!C31 -> Iniciativa: | D29: =ESCUADRA!E31 -> 7.2
B30: =ESCUADRA!C32 -> Tacto y criterio: | D30: =ESCUADRA!E32 -> 7.6
B31: =ESCUADRA!C33 -> MEDIA | D31: =ESCUADRA!E33 -> 8.17
B32: =ESCUADRA!$D34 -> RESPONSABILIDAD
B33: =ESCUADRA!C35 -> Espíritu de superación: | D33: =ESCUADRA!E35 -> 7.8
B34: =ESCUADRA!C36 -> Capacidad para organizarse: | D34: =ESCUADRA!E36 -> 7.6
B35: =ESCUADRA!C37 -> Capacidad para asumir responsabilidades: | D35: =ESCUADRA!E37 -> 7.4
B36: =ESCUADRA!C38 -> Necesidad de control: | D36: =ESCUADRA!E38 -> 7.6
B37: =ESCUADRA!C39 -> Puntualidad: | D37: =ESCUADRA!E39 -> 8.6
B38: =ESCUADRA!C40 -> Tenacidad y constancia: | D38: =ESCUADRA!E40 -> 7.6
B39: =ESCUADRA!C41 -> MEDIA | D39: =ESCUADRA!E41 -> 7.76
B40: =ESCUADRA!$D42 -> ESPÍRITU MILITAR
B41: =ESCUADRA!C43 -> Cumplimiento del deber: | D41: =ESCUADRA!E43 -> 7.8
B42: =ESCUADRA!C44 -> Abnegación: | D42: =ESCUADRA!E44 -> 7.6
B43: =ESCUADRA!C45 -> Respeto hacia sus superiores: | D43: =ESCUADRA!E45 -> 9.2
B44: =ESCUADRA!C46 -> Lealtad y franqueza con sus superiores | D44: =ESCUADRA!E46 -> 9
B45: =ESCUADRA!C47 -> Prestancia militar: | D45: =ESCUADRA!E47 -> 7.2
B46: =ESCUADRA!C48 -> MEDIA | D46: =ESCUADRA!E48 -> 8.16
B47: =ESCUADRA!$D49 -> COOPERACIÓN
B48: =ESCUADRA!C50 -> Espíritu de cooperación: | D48: =ESCUADRA!E50 -> 8
B49: =ESCUADRA!C51 -> Actitud en sus actuaciones: | D49: =ESCUADRA!E51 -> 7.75
B50: =ESCUADRA!C52 -> Participación extra o voluntaria: | D50: =ESCUADRA!E52 -> 7.5
B51: =ESCUADRA!C53 -> Espíritu de cuerpo: | D51: =ESCUADRA!E53 -> 8.5
B52: =ESCUADRA!C54 -> MEDIA | D52: =ESCUADRA!E54 -> 7.93
B53: =ESCUADRA!$D55 -> CONDUCTA
B54: =ESCUADRA!C56 -> Comportamiento social: | D54: =ESCUADRA!E56 -> 8.5
B55: =ESCUADRA!C57 -> Cortesía: | D55: =ESCUADRA!E57 -> 9
B56: =ESCUADRA!C58 -> Dominio de si mismo: | D56: =ESCUADRA!E58 -> 8.25
B57: =ESCUADRA!C59 -> Actitud al régimen de la Escuela: | D57: =ESCUADRA!E59 -> 7.75
B58: =ESCUADRA!C60 -> Comportamiento, actitud y predisposición en clases: | D58: =ESCUADRA!E60 -> 8
B59: =ESCUADRA!C61 -> Templanza: | D59: =ESCUADRA!E61 -> 8
B60: =ESCUADRA!C62 -> MEDIA | D60: =ESCUADRA!E62 -> 8.25
B61: =ESCUADRA!$D63 -> APTITUD FÍSICA
B62: =ESCUADRA!C64 -> Interés por participar en actividades deportivas: | D62: =ESCUADRA!E64 -> 7.25
B63: =ESCUADRA!C65 -> MEDIA | D63: =ESCUADRA!E65 -> 7.25
B64: =ESCUADRA!$D66 -> TENIDA, ORDEN Y ASEO
B65: =ESCUADRA!C68 -> Presentación y aseo personal: | D65: =ESCUADRA!E68 -> 8.5
B66: =ESCUADRA!C69 -> Orden con sus elementos personales: | D66: =ESCUADRA!E69 -> 8
B67: =ESCUADRA!C70 -> MEDIA | D67: =ESCUADRA!E70 -> 8
C69: NOTA MEDIA FINAL | D69: =ESCUADRA!E71 -> 7.83
B73: TOME CONOCIMIENTO:
C74: FIRMA

Sheet ASP3
B2: CALIFICACIÓN PRIMER PERIODO 2023
B4: Nombre | C4: =ESCUADRA!F4 -> Benavente, Sergio
B5: =ESCUADRA!C6 -> Edad | C5: =ESCUADRA!F6 -> 62.673973
B6: =ESCUADRA!C7 -> Empresa | C6: =ESCUADRA!F7 -> Bci Asset Management
B7: =ESCUADRA!C8 -> Cargo | C7: =ESCUADRA!F8 -> Gerente de Riesgo
B9: =ESCUADRA!$D11 -> MANDO
B10: =ESCUADRA!C12 -> Ejemplo que inspira con sus actuaciones: | D10: =ESCUADRA!F12 -> 6.2
B11: =ESCUADRA!C13 -> Carácter: | D11: =ESCUADRA!F13 -> 7
B12: =ESCUADRA!C14 -> Capacidad para aceptar críticas a su actuación | D12: =ESCUADRA!F14 -> 8
B13: =ESCUADRA!C15 -> Lealtad: | D13: =ESCUADRA!F15 -> 8.6
B14: =ESCUADRA!C16 -> Fortaleza: | D14: =ESCUADRA!F16 -> 7.6
B15: =ESCUADRA!C17 -> Prudencia: | D15: =ESCUADRA!F17 -> 8.2
B16: =ESCUADRA!C18 -> MEDIA | D16: =ESCUADRA!F18 -> 7.6
B17: =ESCUADRA!$D19 -> INTERÉS PROFESIONAL
B18: =ESCUADRA!C20 -> Conocimiento sobre la carrera y sus tradiciones: | D18: =ESCUADRA!F20 -> 6.6
B19: =ESCUADRA!C21 -> Espíritu Profesional: | D19: =ESCUADRA!F21 -> 7
B20: =ESCUADRA!C22 -> Rendimiento en actividades profesionales: | D20: =ESCUADRA!F22 -> 7.4
B21: =ESCUADRA!C23 -> MEDIA | D21: =ESCUADRA!F23 -> 7
B22: =ESCUADRA!$D24 -> PERSONALIDAD
B23: =ESCUADRA!C25 -> Capacidad de expresión oral: | D23: =ESCUADRA!F25 -> 7.2
B24: =ESCUADRA!C26 -> Ascendiente con sus compañeros: | D24: =ESCUADRA!F26 -> 6.6
B25: =ESCUADRA!C27 -> Madurez en sus actuaciones: | D25: =ESCUADRA!F27 -> 8.4
B26: =ESCUADRA!C28 -> Sociabilidad: | D26: =ESCUADRA!F28 -> 6.8
B27: =ESCUADRA!C29 -> Compañerismo, amistad y solidaridad: | D27: =ESCUADRA!F29 -> 7.8
B28: =ESCUADRA!C30 -> Condiciones de Líder: | D28: =ESCUADRA!F30 -> 5.2
B29: =ESCUADRA!C31 -> Iniciativa: | D29: =ESCUADRA!F31 -> 6.4
B30: =ESCUADRA!C32 -> Tacto y criterio: | D30: =ESCUADRA!F32 -> 8
B31: =ESCUADRA!C33 -> MEDIA | D31: =ESCUADRA!F33 -> 7.05
B32: =ESCUADRA!$D34 -> RESPONSABILIDAD
B33: =ESCUADRA!C35 -> Espíritu de superación: | D33: =ESCUADRA!F35 -> 7.8
B34: =ESCUADRA!C36 -> Capacidad para organizarse: | D34: =ESCUADRA!F36 -> 8
B35: =ESCUADRA!C37 -> Capacidad para asumir responsabilidades: | D35: =ESCUADRA!F37 -> 7.8
B36: =ESCUADRA!C38 -> Necesidad de control: | D36: =ESCUADRA!F38 -> 8.2
B37: =ESCUADRA!C39 -> Puntualidad: | D37: =ESCUADRA!F39 -> 9.2
B38: =ESCUADRA!C40 -> Tenacidad y constancia: | D38: =ESCUADRA!F40 -> 7.8
B39: =ESCUADRA!C41 -> MEDIA | D39: =ESCUADRA!F41 -> 8.13
B40: =ESCUADRA!$D42 -> ESPÍRITU MILITAR
B41: =ESCUADRA!C43 -> Cumplimiento del deber: | D41: =ESCUADRA!F43 -> 8
B42: =ESCUADRA!C44 -> Abnegación: | D42: =ESCUADRA!F44 -> 7.2
B43: =ESCUADRA!C45 -> Respeto hacia sus superiores: | D43: =ESCUADRA!F45 -> 8.8
B44: =ESCUADRA!C46 -> Lealtad y franqueza con sus superiores | D44: =ESCUADRA!F46 -> 8.8
B45: =ESCUADRA!C47 -> Prestancia militar: | D45: =ESCUADRA!F47 -> 5.2
B46: =ESCUADRA!C48 -> MEDIA | D46: =ESCUADRA!F48 -> 7.6
B47: =ESCUADRA!$D49 -> COOPERACIÓN
B48: =ESCUADRA!C50 -> Espíritu de cooperación: | D48: =ESCUADRA!F50 -> 7
B49: =ESCUADRA!C51 -> Actitud en sus actuaciones: | D49: =ESCUADRA!F51 -> 7.25
B50: =ESCUADRA!C52 -> Participación extra o voluntaria: | D50: =ESCUADRA!F52 -> 6.5
B51: =ESCUADRA!C53 -> Espíritu de cuerpo: | D51: =ESCUADRA!F53 -> 7
B52: =ESCUADRA!C54 -> MEDIA | D52: =ESCUADRA!F54 -> 6.93
B53: =ESCUADRA!$D55 -> CONDUCTA
B54: =ESCUADRA!C56 -> Comportamiento social: | D54: =ESCUADRA!F56 -> 8.5
B55: =ESCUADRA!C57 -> Cortesía: | D55: =ESCUADRA!F57 -> 8.75
B56: =ESCUADRA!C58 -> Dominio de si mismo: | D56: =ESCUADRA!F58 -> 8.5
B57: =ESCUADRA!C59 -> Actitud al régimen de la Escuela: | D57: =ESCUADRA!F59 -> 8.25
B58: =ESCUADRA!C60 -> Comportamiento, actitud y predisposición en clases: | D58: =ESCUADRA!F60 -> 8.75
B59: =ESCUADRA!C61 -> Templanza: | D59: =ESCUADRA!F61 -> 8
B60: =ESCUADRA!C62 -> MEDIA | D60: =ESCUADRA!F62 -> 8.45
B61: =ESCUADRA!$D63 -> APTITUD FÍSICA
B62: =ESCUADRA!C64 -> Interés por participar en actividades deportivas: | D62: =ESCUADRA!F64 -> 8
B63: =ESCUADRA!C65 -> MEDIA | D63: =ESCUADRA!F65 -> 8
B64: =ESCUADRA!$D66 -> TENIDA, ORDEN Y ASEO
B65: =ESCUADRA!C68 -> Presentación y aseo personal: | D65: =ESCUADRA!F68 -> 8.75
B66: =ESCUADRA!C69 -> Orden con sus elementos personales: | D66: =ESCUADRA!F69 -> 8.5
B67: =ESCUADRA!C70 -> MEDIA | D67: =ESCUADRA!F70 -> 8.5
C69: NOTA MEDIA FINAL | D69: =ESCUADRA!F71 -> 7.69
B73: TOME CONOCIMIENTO:
C74: FIRMA

Sheet ASP4
B2: CALIFICACIÓN PRIMER PERIODO 2023
B4: Nombre | C4: =ESCUADRA!G4 -> Bolelli, Ignacio Octavio
B5: =ESCUADRA!C6 -> Edad | C5: =ESCUADRA!G6 -> 42.29863
B6: =ESCUADRA!C7 -> Empresa | C6: =ESCUADRA!G7 -> MBC Abogados
B7: =ESCUADRA!C8 -> Cargo | C7: =ESCUADRA!G8 -> Socio
B9: =ESCUADRA!G11
B10: =ESCUADRA!C12 -> Ejemplo que inspira con sus actuaciones: | D10: =ESCUADRA!G12 -> 7.2
B11: =ESCUADRA!C13 -> Carácter: | D11: =ESCUADRA!G13 -> 7.6
B12: =ESCUADRA!C14 -> Capacidad para aceptar críticas a su actuación | D12: =ESCUADRA!G14 -> 8.2
B13: =ESCUADRA!C15 -> Lealtad: | D13: =ESCUADRA!G15 -> 8.6
B14: =ESCUADRA!C16 -> Fortaleza: | D14: =ESCUADRA!G16 -> 8.2
B15: =ESCUADRA!C17 -> Prudencia: | D15: =ESCUADRA!G17 -> 8.6
B16: =ESCUADRA!C18 -> MEDIA | D16: =ESCUADRA!G18 -> 8.06
B17: =ESCUADRA!G19
B18: =ESCUADRA!C20 -> Conocimiento sobre la carrera y sus tradiciones: | D18: =ESCUADRA!G20 -> 7.8
B19: =ESCUADRA!C21 -> Espíritu Profesional: | D19: =ESCUADRA!G21 -> 7.4
B20: =ESCUADRA!C22 -> Rendimiento en actividades profesionales: | D20: =ESCUADRA!G22 -> 7.8
B21: =ESCUADRA!C23 -> MEDIA | D21: =ESCUADRA!G23 -> 7.66
B22: =ESCUADRA!G24
B23: =ESCUADRA!C25 -> Capacidad de expresión oral: | D23: =ESCUADRA!G25 -> 8.2
B24: =ESCUADRA!C26 -> Ascendiente con sus compañeros: | D24: =ESCUADRA!G26 -> 7.4
B25: =ESCUADRA!C27 -> Madurez en sus actuaciones: | D25: =ESCUADRA!G27 -> 8.2
B26: =ESCUADRA!C28 -> Sociabilidad: | D26: =ESCUADRA!G28 -> 8
B27: =ESCUADRA!C29 -> Compañerismo, amistad y solidaridad: | D27: =ESCUADRA!G29 -> 8.6
B28: =ESCUADRA!C30 -> Condiciones de Líder: | D28: =ESCUADRA!G30 -> 6.8
B29: =ESCUADRA!C31 -> Iniciativa: | D29: =ESCUADRA!G31 -> 7.2
B30: =ESCUADRA!C32 -> Tacto y criterio: | D30: =ESCUADRA!G32 -> 8.4
B31: =ESCUADRA!C33 -> MEDIA | D31: =ESCUADRA!G33 -> 7.85
B32: =ESCUADRA!G34
B33: =ESCUADRA!C35 -> Espíritu de superación: | D33: =ESCUADRA!G35 -> 8
B34: =ESCUADRA!C36 -> Capacidad para organizarse: | D34: =ESCUADRA!G36 -> 7.8
B35: =ESCUADRA!C37 -> Capacidad para asumir responsabilidades: | D35: =ESCUADRA!G37 -> 8.2
B36: =ESCUADRA!C38 -> Necesidad de control: | D36: =ESCUADRA!G38 -> 8
B37: =ESCUADRA!C39 -> Puntualidad: | D37: =ESCUADRA!G39 -> 8.4
B38: =ESCUADRA!C40 -> Tenacidad y constancia: | D38: =ESCUADRA!G40 -> 8.2
B39: =ESCUADRA!C41 -> MEDIA | D39: =ESCUADRA!G41 -> 8.1
B40: =ESCUADRA!G42
B41: =ESCUADRA!C43 -> Cumplimiento del deber: | D41: =ESCUADRA!G43 -> 8
B42: =ESCUADRA!C44 -> Abnegación: | D42: =ESCUADRA!G44 -> 7.6
B43: =ESCUADRA!C45 -> Respeto hacia sus superiores: | D43: =ESCUADRA!G45 -> 8.8
B44: =ESCUADRA!C46 -> Lealtad y franqueza con sus superiores | D44: =ESCUADRA!G46 -> 8.8
B45: =ESCUADRA!C47 -> Prestancia militar: | D45: =ESCUADRA!G47 -> 7.2
B46: =ESCUADRA!C48 -> MEDIA | D46: =ESCUADRA!G48 -> 8.08
B47: =ESCUADRA!G49
B48: =ESCUADRA!C50 -> Espíritu de cooperación: | D48: =ESCUADRA!G50 -> 7.5
B49: =ESCUADRA!C51 -> Actitud en sus actuaciones: | D49: =ESCUADRA!G51 -> 7.25
B50: =ESCUADRA!C52 -> Participación extra o voluntaria: | D50: =ESCUADRA!G52 -> 7.25
B51: =ESCUADRA!C53 -> Espíritu de cuerpo: | D51: =ESCUADRA!G53 -> 7.75
B52: =ESCUADRA!C54 -> MEDIA | D52: =ESCUADRA!G54 -> 7.43
B53: =ESCUADRA!G55
B54: =ESCUADRA!C56 -> Comportamiento social: | D54: =ESCUADRA!G56 -> 8.5
B55: =ESCUADRA!C57 -> Cortesía: | D55: =ESCUADRA!G57 -> 8.5
B56: =ESCUADRA!C58 -> Dominio de si mismo: | D56: =ESCUADRA!G58 -> 8.5
B57: =ESCUADRA!C59 -> Actitud al régimen de la Escuela: | D57: =ESCUADRA!G59 -> 7.75
B58: =ESCUADRA!C60 -> Comportamiento, actitud y predisposición en clases: | D58: =ESCUADRA!G60 -> 8.25
B59: =ESCUADRA!C61 -> Templanza: | D59: =ESCUADRA!G61 -> 8.25
B60: =ESCUADRA!C62 -> MEDIA | D60: =ESCUADRA!G62 -> 8.29
B61: =ESCUADRA!G63
B62: =ESCUADRA!C64 -> Interés por participar en actividades deportivas: | D62: =ESCUADRA!G64 -> 7.75
B63: =ESCUADRA!C65 -> MEDIA | D63: =ESCUADRA!G65 -> 7.75
B64: =ESCUADRA!G66
B65: =ESCUADRA!C68 -> Presentación y aseo personal: | D65: =ESCUADRA!G68 -> 8.75
B66: =ESCUADRA!C69 -> Orden con sus elementos personales: | D66: =ESCUADRA!G69 -> 8.25
B67: =ESCUADRA!C70 -> MEDIA | D67: =ESCUADRA!G70 -> 8.41
C69: NOTA MEDIA FINAL | D69: =ESCUADRA!G71 -> 7.95
B73: TOME CONOCIMIENTO:
C74: FIRMA

Sheet ASP5
B2: CALIFICACIÓN PRIMER PERIODO 2023
B4: Nombre | C4: =ESCUADRA!H4 -> Correa, Cristóbal
B5: =ESCUADRA!C6 -> Edad | C5: =ESCUADRA!H6 -> 44.10411
B6: =ESCUADRA!C7 -> Empresa | C6: =ESCUADRA!H7 -> Yamana Gold
B7: =ESCUADRA!C8 -> Cargo | C7: =ESCUADRA!H8 -> Director Legal
B9: =ESCUADRA!H11
B10: =ESCUADRA!C12 -> Ejemplo que inspira con sus actuaciones: | D10: =ESCUADRA!H12 -> 8.6
B11: =ESCUADRA!C13 -> Carácter: | D11: =ESCUADRA!H13 -> 9.2
B12: =ESCUADRA!C14 -> Capacidad para aceptar críticas a su actuación | D12: =ESCUADRA!H14 -> 9.2
B13: =ESCUADRA!C15 -> Lealtad: | D13: =ESCUADRA!H15 -> 9.2
B14: =ESCUADRA!C16 -> Fortaleza: | D14: =ESCUADRA!H16 -> 9
B15: =ESCUADRA!C17 -> Prudencia: | D15: =ESCUADRA!H17 -> 9.2
B16: =ESCUADRA!C18 -> MEDIA | D16: =ESCUADRA!H18 -> 9.06
B17: =ESCUADRA!H19
B18: =ESCUADRA!C20 -> Conocimiento sobre la carrera y sus tradiciones: | D18: =ESCUADRA!H20 -> 8
B19: =ESCUADRA!C21 -> Espíritu Profesional: | D19: =ESCUADRA!H21 -> 9
B20: =ESCUADRA!C22 -> Rendimiento en actividades profesionales: | D20: =ESCUADRA!H22 -> 8.6
B21: =ESCUADRA!C23 -> MEDIA | D21: =ESCUADRA!H23 -> 8.53
B22: =ESCUADRA!H24
B23: =ESCUADRA!C25 -> Capacidad de expresión oral: | D23: =ESCUADRA!H25 -> 9.4
B24: =ESCUADRA!C26 -> Ascendiente con sus compañeros: | D24: =ESCUADRA!H26 -> 9
B25: =ESCUADRA!C27 -> Madurez en sus actuaciones: | D25: =ESCUADRA!H27 -> 9
B26: =ESCUADRA!C28 -> Sociabilidad: | D26: =ESCUADRA!H28 -> 9
B27: =ESCUADRA!C29 -> Compañerismo, amistad y solidaridad: | D27: =ESCUADRA!H29 -> 9
B28: =ESCUADRA!C30 -> Condiciones de Líder: | D28: =ESCUADRA!H30 -> 8.6
B29: =ESCUADRA!C31 -> Iniciativa: | D29: =ESCUADRA!H31 -> 8.2
B30: =ESCUADRA!C32 -> Tacto y criterio: | D30: =ESCUADRA!H32 -> 8.8
B31: =ESCUADRA!C33 -> MEDIA | D31: =ESCUADRA!H33 -> 8.87
B32: =ESCUADRA!H34
B33: =ESCUADRA!C35 -> Espíritu de superación: | D33: =ESCUADRA!H35 -> 8.6
B34: =ESCUADRA!C36 -> Capacidad para organizarse: | D34: =ESCUADRA!H36 -> 8.4
B35: =ESCUADRA!C37 -> Capacidad para asumir responsabilidades: | D35: =ESCUADRA!H37 -> 8.8
B36: =ESCUADRA!C38 -> Necesidad de control: | D36: =ESCUADRA!H38 -> 8.4
B37: =ESCUADRA!C39 -> Puntualidad: | D37: =ESCUADRA!H39 -> 8.8
B38: =ESCUADRA!C40 -> Tenacidad y constancia: | D38: =ESCUADRA!H40 -> 9
B39: =ESCUADRA!C41 -> MEDIA | D39: =ESCUADRA!H41 -> 8.66
B40: =ESCUADRA!H42
B41: =ESCUADRA!C43 -> Cumplimiento del deber: | D41: =ESCUADRA!H43 -> 9
B42: =ESCUADRA!C44 -> Abnegación: | D42: =ESCUADRA!H44 -> 8.6
B43: =ESCUADRA!C45 -> Respeto hacia sus superiores: | D43: =ESCUADRA!H45 -> 9.6
B44: =ESCUADRA!C46 -> Lealtad y franqueza con sus superiores | D44: =ESCUADRA!H46 -> 9.2
B45: =ESCUADRA!C47 -> Prestancia militar: | D45: =ESCUADRA!H47 -> 9.2
B46: =ESCUADRA!C48 -> MEDIA | D46: =ESCUADRA!H48 -> 9.12
B47: =ESCUADRA!H49
B48: =ESCUADRA!C50 -> Espíritu de cooperación: | D48: =ESCUADRA!H50 -> 9
B49: =ESCUADRA!C51 -> Actitud en sus actuaciones: | D49: =ESCUADRA!H51 -> 8.75
B50: =ESCUADRA!C52 -> Participación extra o voluntaria: | D50: =ESCUADRA!H52 -> 8.25
B51: =ESCUADRA!C53 -> Espíritu de cuerpo: | D51: =ESCUADRA!H53 -> 9.25
B52: =ESCUADRA!C54 -> MEDIA | D52: =ESCUADRA!H54 -> 8.81
B53: =ESCUADRA!H55
B54: =ESCUADRA!C56 -> Comportamiento social: | D54: =ESCUADRA!H56 -> 9
B55: =ESCUADRA!C57 -> Cortesía: | D55: =ESCUADRA!H57 -> 9
B56: =ESCUADRA!C58 -> Dominio de si mismo: | D56: =ESCUADRA!H58 -> 9
B57: =ESCUADRA!C59 -> Actitud al régimen de la Escuela: | D57: =ESCUADRA!H59 -> 9
B58: =ESCUADRA!C60 -> Comportamiento, actitud y predisposición en clases: | D58: =ESCUADRA!H60 -> 9
B59: =ESCUADRA!C61 -> Templanza: | D59: =ESCUADRA!H61 -> 9
B60: =ESCUADRA!C62 -> MEDIA | D60: =ESCUADRA!H62 -> 9
B61: =ESCUADRA!H63
B62: =ESCUADRA!C64 -> Interés por participar en actividades deportivas: | D62: =ESCUADRA!H64 -> 8.5
B63: =ESCUADRA!C65 -> MEDIA | D63: =ESCUADRA!H65 -> 8.5
B64: =ESCUADRA!H66
B65: =ESCUADRA!C68 -> Presentación y aseo personal: | D65: =ESCUADRA!H68 -> 9.25
B66: =ESCUADRA!C69 -> Orden con sus elementos personales: | D66: =ESCUADRA!H69 -> 8.75
B67: =ESCUADRA!C70 -> MEDIA | D67: =ESCUADRA!H70 -> 8.83
C69: NOTA MEDIA FINAL | D69: =ESCUADRA!H71 -> 8.82
B73: TOME CONOCIMIENTO:
C74: FIRMA

Sheet ASP6
B2: CALIFICACIÓN PRIMER PERIODO 2023
B4: Nombre | C4: =ESCUADRA!I4 -> De la Cruz , Oscar Ernesto
B5: =ESCUADRA!C6 -> Edad | C5: =ESCUADRA!I6 -> 55.128767
B6: =ESCUADRA!C7 -> Empresa | C6: =ESCUADRA!I7 -> AAK Abogados
B7: =ESCUADRA!C8 -> Cargo | C7: =ESCUADRA!I8 -> Socio
B9: =ESCUADRA!$D11 -> MANDO
B10: =ESCUADRA!C12 -> Ejemplo que inspira con sus actuaciones: | D10: =ESCUADRA!I12 -> #DIV/0!
B11: =ESCUADRA!C13 -> Carácter: | D11: =ESCUADRA!I13 -> #DIV/0!
B12: =ESCUADRA!C14 -> Capacidad para aceptar críticas a su actuación | D12: =ESCUADRA!I14 -> #DIV/0!
B13: =ESCUADRA!C15 -> Lealtad: | D13: =ESCUADRA!I15 -> #DIV/0!
B14: =ESCUADRA!C16 -> Fortaleza: | D14: =ESCUADRA!I16 -> #DIV/0!
B15: =ESCUADRA!C17 -> Prudencia: | D15: =ESCUADRA!I17 -> #DIV/0!
B16: =ESCUADRA!C18 -> MEDIA | D16: =ESCUADRA!I18 -> 0
B17: =ESCUADRA!$D19 -> INTERÉS PROFESIONAL
B18: =ESCUADRA!C20 -> Conocimiento sobre la carrera y sus tradiciones: | D18: =ESCUADRA!I20 -> #DIV/0!
B19: =ESCUADRA!C21 -> Espíritu Profesional: | D19: =ESCUADRA!I21 -> #DIV/0!
B20: =ESCUADRA!C22 -> Rendimiento en actividades profesionales: | D20: =ESCUADRA!I22 -> #DIV/0!
B21: =ESCUADRA!C23 -> MEDIA | D21: =ESCUADRA!I23 -> 0
B22: =ESCUADRA!$D24 -> PERSONALIDAD
B23: =ESCUADRA!C25 -> Capacidad de expresión oral: | D23: =ESCUADRA!I25 -> #DIV/0!
B24: =ESCUADRA!C26 -> Ascendiente con sus compañeros: | D24: =ESCUADRA!I26 -> #DIV/0!
B25: =ESCUADRA!C27 -> Madurez en sus actuaciones: | D25: =ESCUADRA!I27 -> #DIV/0!
B26: =ESCUADRA!C28 -> Sociabilidad: | D26: =ESCUADRA!I28 -> #DIV/0!
B27: =ESCUADRA!C29 -> Compañerismo, amistad y solidaridad: | D27: =ESCUADRA!I29 -> #DIV/0!
