Workbook
Name LAB_1: Hoja2!$G$4:$G$156
Name LAB_2: Hoja2!$I$4:$I$156
Name NOMBRES: Hoja2!$E$4:$E$181
Name profes: Hoja2!$E$4:$E$126
Name profesores: Hoja2!$E$4:$E$149
Name SISTEMATICAS1: Hoja2!$F$4:$F$149
Name SISTEMATICAS2: Hoja2!$H$4:$H$149

Sheet COS
A1: Escuela Naval "A. Prat"
A2: Departamento Educación
A3: Unidad de Coordinación Académica
A5: HORAS DE CLASES POR CURSO - PROFESOR
A6: AÑO ACADÉMICO 2025
A7: CÁTEDRA : | D7: C.O.S.
D8: HORAS SEMANALES
A9: CURSO | C9: CÁTEDRA | D9: ASIGNATURAS | E9: 1er SEM. | G9: 2º SEM. | I9: PROFESOR
E10: SIST. | F10: LAB | G10: SIST. | H10: LAB
K11: 0 | L11: 0 | M11: 0 | N11: 0
A12: COS | D12: ÉTICA Y PROBIDAD | E12: 2 | K12: =E12 -> 2 | L12: =F12 -> 0 | M12: =G12 -> 0 | N12: =H12 -> 0
A13: COS | D13: REGLAMENTO | E13: 4 | K13: =E13 -> 4 | L13: =F13 -> 0 | M13: =G13 -> 0 | N13: =H13 -> 0
A14: COS | C14: ED FÍSICA | D14: EDUCACIÓN FÍSICA | E14: 6
A15: COS | D15: CEREMONIAL NAVAL | E15: 2 | K15: =E15 -> 2 | L15: =F15 -> 0 | M15: =G15 -> 0 | N15: =H15 -> 0
A16: COS | C16: MANDO Y LIDERAZGO | D16: MANDO Y LIDERAZGO | E16: 2 | K16: =E16 -> 2 | L16: =F16 -> 0 | M16: =G16 -> 0 | N16: =H16 -> 0
A17: COS | D17: INSTRUCCIÓN MILITAR | E17: 6 | K17: =E17 -> 6 | L17: =F17 -> 0 | M17: =G17 -> 0 | N17: =H17 -> 0
A18: COS | D18: PROCEDIMIENTOS ADMINISTRATIVOS | E18: 3 | K18: =E18 -> 3 | L18: =F18 -> 0 | M18: =G18 -> 0 | N18: =H18 -> 0
A19: COS | D19: SERVICIO NAVAL A BORDO Y EN TIERRA | E19: 6 | K19: =E19 -> 6 | L19: =F19 -> 0 | M19: =G19 -> 0 | N19: =H19 -> 0
A20: COS | C20: FORMACIÓN NAVAL | D20: SEGURIDAD | E20: 3 | K20: =E20 -> 3 | L20: =F20 -> 0 | M20: =G20 -> 0 | N20: =H20 -> 0
A21: COS | D21: GUERRA NAVAL | E21: 4 | K21: =E21 -> 4 | L21: =F21 -> 0 | M21: =G21 -> 0 | N21: =H21 -> 0
A22: COS | D22: ORIENTACIÓN Y ORGANIZACIÓN NAVAL | E22: 4 | K22: =E22 -> 4 | L22: =F22 -> 0 | M22: =G22 -> 0 | N22: =H22 -> 0
E25: =+SUM(E12:E24) -> 42
I26: RESUMEN
K27: =SUMIF($I$13:$N$24,I27,$M$13:$M$24) -> 0
K28: =SUMIF($I$13:$N$24,I28,$M$13:$M$24) -> 0
K29: =SUMIF($I$13:$N$24,I29,$M$13:$M$24) -> 0
K30: =SUMIF($I$13:$N$24,I30,$M$13:$M$24) -> 0
K31: =SUMIF($I$13:$N$24,I31,$M$13:$M$24) -> 0
K32: =SUMIF($I$13:$N$24,I32,$M$13:$M$24) -> 0
K33: =SUMIF($I$13:$N$24,I33,$M$13:$M$24) -> 0
K34: =SUMIF($I$13:$N$24,I34,$M$13:$M$24) -> 0
K35: =SUMIF($I$13:$N$24,I35,$M$13:$M$24) -> 0
K36: =SUMIF($I$13:$N$24,I36,$M$13:$M$24) -> 0
K38: =SUM(K27:K37) -> 0

Sheet OM
A1: Escuela Naval "A. Prat"
A2: Departamento Educación
A3: Unidad de Coordinación Académica
A5: HORAS DE CLASES POR CURSO - PROFESOR
A6: AÑO ACADÉMICO 2025
A7: CÁTEDRA O CURSO: | D7: OFICIAL DE MAR
D8: HORAS SEMANALES
A9: CURSO | C9: CÁTEDRA | D9: ASIGNATURAS | E9: 1er SEM. | G9: 2º SEM. | I9: PROFESOR
E10: SIST. | F10: LAB | G10: SIST. | H10: LAB
A11: OM
A12: OM | C12: LENGUA CASTELLANA | D12: LENGUA CASTELLANA Y COMUNICACIÓN OM .1 | E12: 6 | I12: ARENTSEN CHRISTIANE
A13: OM | C13: LENGUA CASTELLANA | D13: LENGUA CASTELLANA Y COMUNICACIÓN OM .2 | G13: 6 | I13: NUÑEZ MIGUEL
A14: OM | C14: CS SOCIALES | D14: HISTORIA NAVAL APLICADA | E14: 2 | G14: 0 | I14: SORIA_GALVARRO
A15: OM | C15: CS SOCIALES | D15: ANÁLISIS REALIDAD NACIONAL E INTERNACIONAL | E15: 0 | G15: 2 | I15: ROMÁN LORENA
A16: OM | C16: PSICOLOGÍA, FILO, ÉTI Y MORAL | D16: FUNDAMENTO ÉTICO DEL MANDO | E16: 2 | G16: 0 | I16: MUÑOZ JAIME
A17: OM | C17: PSICOLOGÍA, FILO, ÉTI Y MORAL | D17: PSICOLOGÍA APLICADA AL MANDO | E17: 0 | G17: 2 | I17: LUCERO ANDRÉS
A18: OM | C18: CS SOCIALES | D18: DERECHO | E18: 4 | G18: 0 | I18: CELIS ALEJANDRO
A19: OM | C19: CS SOCIALES | D19: EDUCACIÓN CÍVICA | E19: 0 | G19: 2 | I19: ROMÁN LORENA
A20: OM | C20: ADMINISTRACIÓN | D20: ADMINISTRACIÓN NAVAL | E20: 4 | G20: 0 | I20: GUNDLACH HÉCTOR
A21: OM | C21: ADMINISTRACIÓN | D21: ECONOMÍA | E21: 0 | G21: 4 | I21: GUNDLACH HÉCTOR
A22: OM | C22: MANDO Y LIDERAZGO | D22: MANDO Y LIDERAZGO | E22: 4 | G22: 0 | I22: SIMS EDUARDO
A23: OM | C23: MANDO Y LIDERAZGO | D23: REGLAMENTACIÓN | E23: 0 | G23: 4 | I23: SIMS EDUARDO
A24: OM | C24: FORMACIÓN NAVAL | D24: ÉTICA Y PROBIDAD | E24: 0 | G24: 2 | I24: QUIROGA CÉSAR
A25: OM | C25: INGLÉS | D25: INGLÉS | E25: 4 | G25: 4
A26: OM | C26: ED. FÍSICA | D26: EDUCACIÓN FÍSICA | E26: 4 | G26: 4
E27: =+SUM(E11:E24) -> 22 | G27: =+SUM(G11:G24) -> 22 | I27: =+SUM(E27:G27) -> 44
I30: RESUMEN | J30: 1°Sem | L30: 2° Sem
I31: ARENTSEN CHRISTIANE | J31: =SUMIF($I$12:$I$26,I31,$E$12:$E$26) -> 6 | L31: =SUMIF($I$12:$I$26,I31,$G$12:$G$26) -> 0
I32: NUÑEZ MIGUEL | J32: =SUMIF($I$12:$I$26,I32,$E$12:$E$26) -> 0 | L32: =SUMIF($I$12:$I$26,I32,$G$12:$G$26) -> 6
I33: LUCERO ANDRÉS | J33: =SUMIF($I$12:$I$26,I33,$E$12:$E$26) -> 0 | L33: =SUMIF($I$12:$I$26,I33,$G$12:$G$26) -> 2
I34: CELIS ALEJANDRO | J34: =SUMIF($I$12:$I$26,I34,$E$12:$E$26) -> 4 | L34: =SUMIF($I$12:$I$26,I34,$G$12:$G$26) -> 0
I35: MUÑOZ JAIME | J35: =SUMIF($I$12:$I$26,I35,$E$12:$E$26) -> 2 | L35: =SUMIF($I$12:$I$26,I35,$G$12:$G$26) -> 0
I36: GUNDLACH HÉCTOR | J36: =SUMIF($I$12:$I$26,I36,$E$12:$E$26) -> 4 | L36: =SUMIF($I$12:$I$26,I36,$G$12:$G$26) -> 4
I37: QUIROGA CÉSAR | J37: =SUMIF($I$12:$I$26,I37,$E$12:$E$26) -> 0 | L37: =SUMIF($I$12:$I$26,I37,$G$12:$G$26) -> 2
I38: ROMÁN LORENA | J38: =SUMIF($I$12:$I$26,I38,$E$12:$E$26) -> 0 | L38: =SUMIF($I$12:$I$26,I38,$G$12:$G$26) -> 4
I39: SORIA-GALVARRO RODOLFO | J39: =SUMIF($I$12:$I$26,I39,$E$12:$E$26) -> 0 | L39: =SUMIF($I$12:$I$26,I39,$G$12:$G$26) -> 0
I40: SIMS EDUARDO | J40: =SUMIF($I$12:$I$26,I40,$E$12:$E$26) -> 4 | L40: =SUMIF($I$12:$I$26,I40,$G$12:$G$26) -> 4
I41: KEITEL JORGE | J41: =SUMIF($I$12:$I$26,I41,$E$12:$E$26) -> 0 | L41: =SUMIF($I$12:$I$26,I41,$G$12:$G$26) -> 0
J43: =SUM(J31:L41) -> 42

Sheet SIST ARM
A1: Escuela Naval "A. Prat"
A2: Departamento Educación
A3: Unidad de Coordinación Académica
A5: HORAS DE CLASES POR CURSO - PROFESOR
A6: AÑO ACADÉMICO 2025
A7: CÁTEDRA : | D7: SISTEMAS DE ARMAS
D8: HORAS SEMANALES
A9: CURSO | C9: CÁTEDRA | D9: ASIGNATURAS | E9: 1er SEM. | G9: 2º SEM. | I9: PROFESOR
E10: SIST. | F10: LAB | G10: SIST. | H10: LAB
A12: 4to AB | C12: SIST DE ARMAS | D12: SISTEMA DE ARMAS / INGENIERÍA | G12: 3 | I12: T1 TEICHELMAN
A13: 3ro EJ | B13: A | C13: SIST DE ARMAS | D13: SISTEMAS DE ARMAS | G13: 6 | I13: T1 JOFRÉ
A14: 3ro EJ | B14: B | C14: SIST DE ARMAS | D14: SISTEMAS DE ARMAS | G14: 6 | I14: CC POBLETE
A15: 3ro EJ | B15: C | C15: SIST DE ARMAS | D15: SISTEMAS DE ARMAS | G15: 6 | I15: CC GALLEGOS
A16: 3ro EJ | B16: D | C16: SIST DE ARMAS | D16: SISTEMAS DE ARMAS | G16: 6 | I16: CC SORO
A17: 4to LT | C17: SIST DE ARMAS | D17: SISTEMAS DE ARMAS | E17: 4 | I17: PC ZANELLI
D19: CARGA 2025 | E19: =+SUM(E12:E17) -> 4 | G19: =+SUM(G12:G17) -> 27 | I19: =+SUM(E19:G19) -> 31
D20: CARGA 2024 | E20: 4 | G20: 27 | I20: 31
I23: RESUMEN | J23: 1° Sem | L23: 2° Sem
I24: OFDIV 1 | J24: =SUMIF($I$11:$I$17,I24,$E$11:$E$17) -> 0 | L24: =SUMIF($I$11:$I$17,I24,$G$11:$G$17) -> 0
I25: NN SIST DE ARMAS | J25: =SUMIF($I$11:$I$17,I25,$E$11:$E$17) -> 0 | L25: =SUMIF($I$11:$I$17,I25,$G$11:$G$17) -> 0
I26: OFDIV 2 | J26: =SUMIF($I$11:$I$17,I26,$E$11:$E$17) -> 0 | L26: =SUMIF($I$11:$I$17,I26,$G$11:$G$17) -> 0
I27: POBLETE EDUARDO CC | J27: =SUMIF($I$11:$I$17,I27,$E$11:$E$17) -> 0 | L27: =SUMIF($I$11:$I$17,I27,$G$11:$G$17) -> 0
J28: =SUMIF($I$11:$I$17,I28,$E$11:$E$17) -> 0 | L28: =SUMIF($I$11:$I$17,I28,$G$11:$G$17) -> 0
F29: ,
L30: =SUM(J24:L28) -> 0

Sheet NAVEG
A1: Escuela Naval "A. Prat"
A2: Departamento Educación
A3: Unidad de Coordinación Académica
A5: HORAS DE CLASES POR CURSO - PROFESOR
A6: AÑO ACADÉMICO 2025
A7: CÁTEDRA : | D7: NAVEGACIÓN Y METEOROLOGÍA
D8: HORAS SEMANALES
A9: CURSO | C9: CÁTEDRA | D9: ASIGNATURAS | E9: 1er SEM. | G9: 2º SEM. | I9: PROFESOR
E10: SIST. | F10: LAB | G10: SIST. | H10: LAB
A11: 2do EJ | B11: A | C11: NAVEGACIÓN Y METEOROLOGÍA | D11: METEOROLOGÍA | G11: 2 | I11: GONZÁLEZ FABIÁN
A12: 2do EJ | B12: B | C12: NAVEGACIÓN Y METEOROLOGÍA | D12: METEOROLOGÍA | G12: 2 | I12: GONZÁLEZ FABIÁN
A13: 2do EJ | B13: C | C13: NAVEGACIÓN Y METEOROLOGÍA | D13: METEOROLOGÍA | G13: 2 | I13: GONZÁLEZ FABIÁN
A14: 2do EJ | B14: D | C14: NAVEGACIÓN Y METEOROLOGÍA | D14: METEOROLOGÍA | G14: 2 | I14: GONZÁLEZ FABIÁN
A15: 2do EJ | B15: E | C15: NAVEGACIÓN Y METEOROLOGÍA | D15: METEOROLOGÍA | G15: 2 | I15: ROCA PEDRO | J15: 2E
A16: 2do EJ | B16: A | C16: NAVEGACIÓN Y METEOROLOGÍA | D16: NAVEGACIÓN COSTERA I .1 | E16: 4 | I16: ZANELLI VICTOR
A17: 2do EJ | B17: A | C17: NAVEGACIÓN Y METEOROLOGÍA | D17: NAVEGACIÓN COSTERA I .2 | G17: 4 | I17: ZANELLI VICTOR
A18: 2do EJ | B18: B | C18: NAVEGACIÓN Y METEOROLOGÍA | D18: NAVEGACIÓN COSTERA I .1 | E18: 4 | I18: ZANELLI VICTOR
A19: 2do EJ | B19: B | C19: NAVEGACIÓN Y METEOROLOGÍA | D19: NAVEGACIÓN COSTERA I .2 | G19: 4 | I19: ZANELLI VICTOR
A20: 2do EJ | B20: C | C20: NAVEGACIÓN Y METEOROLOGÍA | D20: NAVEGACIÓN COSTERA I .1 | E20: 4 | I20: ZANELLI VICTOR
A21: 2do EJ | B21: C | C21: NAVEGACIÓN Y METEOROLOGÍA | D21: NAVEGACIÓN COSTERA I .2 | G21: 4 | I21: ZANELLI VICTOR
A22: 2do EJ | B22: D | C22: NAVEGACIÓN Y METEOROLOGÍA | D22: NAVEGACIÓN COSTERA I .1 | E22: 4 | I22: ZANELLI VICTOR
A23: 2do EJ | B23: D | C23: NAVEGACIÓN Y METEOROLOGÍA | D23: NAVEGACIÓN COSTERA I .2 | G23: 4 | I23: ZANELLI VICTOR
A24: 2do EJ | B24: E | C24: NAVEGACIÓN Y METEOROLOGÍA | D24: NAVEGACIÓN COSTERA I .1 | E24: 4 | I24: ZANELLI VICTOR | J24: 2E
A25: 2do EJ | B25: E | C25: NAVEGACIÓN Y METEOROLOGÍA | D25: NAVEGACIÓN COSTERA I .2 | G25: 4 | I25: ZANELLI VICTOR | J25: 2E
A26: 2do LT | C26: NAVEGACIÓN Y METEOROLOGÍA | D26: NAVEGACIÓN COSTERA I .1 | E26: 4 | I26: ZANELLI VICTOR
A27: 2do LT | C27: NAVEGACIÓN Y METEOROLOGÍA | D27: NAVEGACIÓN COSTERA I .2 | G27: 4 | I27: ZANELLI VICTOR
A28: 3ro EJ | B28: A | C28: NAVEGACIÓN Y METEOROLOGÍA | D28: NAVEGACIÓN COSTERA II (CINEMÁTICA) | E28: 2 | I28: COLOMA MANUEL
A29: 3ro EJ | B29: B | C29: NAVEGACIÓN Y METEOROLOGÍA | D29: NAVEGACIÓN COSTERA II (CINEMÁTICA) | E29: 2 | I29: ROJAS MARIANO
A30: 3ro EJ | B30: C | C30: NAVEGACIÓN Y METEOROLOGÍA | D30: NAVEGACIÓN COSTERA II (CINEMÁTICA) | E30: 2 | I30: ROJAS MARIANO
A31: 3ro EJ | B31: D | C31: NAVEGACIÓN Y METEOROLOGÍA | D31: NAVEGACIÓN COSTERA II (CINEMÁTICA) | E31: 2 | I31: ROJAS MARIANO
A32: 3ro EJ | B32: A | C32: NAVEGACIÓN Y METEOROLOGÍA | D32: NAVEGACIÓN COSTERA II | G32: 4 | I32: COLOMA MANUEL
A33: 3ro EJ | B33: B | C33: NAVEGACIÓN Y METEOROLOGÍA | D33: NAVEGACIÓN COSTERA II | G33: 4 | I33: ROJAS MARIANO
A34: 3ro EJ | B34: C | C34: NAVEGACIÓN Y METEOROLOGÍA | D34: NAVEGACIÓN COSTERA II | G34: 4 | I34: ROJAS MARIANO
A35: 3ro EJ | B35: D | C35: NAVEGACIÓN Y METEOROLOGÍA | D35: NAVEGACIÓN COSTERA II | G35: 4 | I35: ROJAS MARIANO
A36: 3ro LT | C36: NAVEGACIÓN Y METEOROLOGÍA | D36: NAVEGACIÓN COSTERA II LT | E36: 4 | I36: COLOMA MANUEL
A37: 4to EJ | B37: A | C37: NAVEGACIÓN Y METEOROLOGÍA | D37: NAVEGACIÓN ASTRONÓMICA | E37: 2 | G37: 4 | I37: COLOMA MANUEL
A38: 4to EJ | B38: B | C38: NAVEGACIÓN Y METEOROLOGÍA | D38: NAVEGACIÓN ASTRONÓMICA | E38: 2 | G38: 4 | I38: COLOMA MANUEL
A39: 4to EJ | B39: C | C39: NAVEGACIÓN Y METEOROLOGÍA | D39: NAVEGACIÓN ASTRONÓMICA | E39: 2 | G39: 4 | I39: COLOMA MANUEL
A40: 4to AB | C40: NAVEGACIÓN Y METEOROLOGÍA | D40: NAVEGACIÓN COSTERA Y METEOROLOGÍA .1 | E40: 5 | I40: COLOMA MANUEL
A41: 4to AB | C41: NAVEGACIÓN Y METEOROLOGÍA | D41: NAVEGACIÓN COSTERA Y METEOROLOGÍA .2 | E41: 1 | I41: GONZÁLEZ FABIÁN
A42: 4to IM | C42: NAVEGACIÓN Y METEOROLOGÍA | D42: NAVEGACIÓN COSTERA Y METEOROLOGÍA IM .1 | G42: 1 | I42: COLOMA MANUEL
A43: 4to IM | C43: NAVEGACIÓN Y METEOROLOGÍA | D43: NAVEGACIÓN COSTERA Y METEOROLOGÍA IM .2 | G43: 1 | I43: COLOMA MANUEL
A44: 4to LT | C44: NAVEGACIÓN Y METEOROLOGÍA | D44: NAVEGACIÓN ASTRONÓMICA | E44: 2 | G44: 4 | I44: COLOMA MANUEL
D46: CARGA 2025 | E46: =+SUM(E11:F44) -> 50 | G46: =+SUM(G11:H44) -> 68 | I46: =+SUM(E46:G46) -> 118
D47: CARGA 2024 | E47: 44 | G47: 58 | I47: =E47+G47 -> 102
A48: no tiene esta asignatura en el primer semestre
I49: RESUMEN | J49: 1 Sem | L49: 2 Sem
I50: COLOMA MANUEL | J50: =SUMIF($I$11:$I44,I50,$E$11:$E$44) -> 19 | L50: =SUMIF($I$11:$I$44,I50,$G$11:$G$44) -> 22
I51: GONZÁLEZ FABIÁN | J51: =SUMIF($I$11:$I$44,I51,$E$11:$E$44) -> 1 | L51: =SUMIF($I$11:$I$44,I51,$G$11:$G$44) -> 8
I52: ROCA PEDRO | J52: =SUMIF($I$11:$I$44,I52,$E$11:$E$44) -> 0 | L52: =SUMIF($I$11:$I$44,I52,$G$11:$G$44) -> 2
I53: ROJAS MARIANO | J53: =SUMIF($I$11:$I$44,I53,$E$11:$E$44) -> 6 | L53: =SUMIF($I$11:$I$44,I53,$G$11:$G$44) -> 12
I54: ZANELLI VICTOR | J54: =SUMIF($I$11:$I$44,I54,$E$11:$E$44) -> 24 | L54: =SUMIF($I$11:$I$44,I54,$G$11:$G$44) -> 24
L56: =SUM(J50:L54) -> 118

Sheet OP NAV
A1: Escuela Naval "A. Prat"
A2: Departamento Educación
A3: Unidad de Coordinación Académica
A5: HORAS DE CLASES POR CURSO - PROFESOR
A6: AÑO ACADÉMICO 2025
A7: CÁTEDRA : | D7: PLANIFICACIÓN Y OPERACIONES NAVALES
D8: HORAS SEMANALES
A9: CURSO | C9: CÁTEDRA | D9: ASIGNATURAS | E9: 1er SEM. | G9: 2º SEM. | I9: PROFESOR
E10: SIST. | F10: LAB | G10: SIST. | H10: LAB
A12: 4to Ej | B12: A | C12: OPERACIONES NAVALES | D12: PLANIFICACIÓN Y OPERACIONES NAVALES | E12: 4 | G12: 4 | I12: ROJAS MARIANO
A13: 4to Ej | B13: B | C13: OPERACIONES NAVALES | D13: PLANIFICACIÓN Y OPERACIONES NAVALES | E13: 4 | G13: 4 | I13: ROJAS MARIANO
A14: 4to Ej | B14: C | C14: OPERACIONES NAVALES | D14: PLANIFICACIÓN Y OPERACIONES NAVALES | E14: 4 | G14: 4 | I14: ROJAS MARIANO
D16: CARGA 2025 | E16: =SUM(E12:E14) -> 12 | G16: =SUM(G12:G14) -> 12 | I16: =+SUM(E16:G16) -> 24
D17: CARGA 2024 | E17: 12 | G17: 12 | I17: =E17+G17 -> 24
I19: RESUMEN | J19: 1 Sem | L19: 2 Sem
I20: ROJAS MARIANO | J20: =SUMIF($I$11:$I$14,$I20,E$11:E$14) -> 12 | L20: =SUMIF($I$11:$I$14,$I20,G$11:G$14) -> 12
L23: =SUM(J20:L21) -> 24

Sheet SIST  ING
A1: Escuela Naval "A. Prat"
A2: Departamento Educación
A3: Unidad de Coordinación Académica
A5: HORAS DE CLASES POR CURSO - PROFESOR
A6: AÑO ACADÉMICO 2025
A7: CÁTEDRA : | D7: SISTEMAS DE INGENIERÍA
D8: HORAS SEMANALES
A9: CURSO | C9: CÁTEDRA | D9: ASIGNATURAS | E9: 1er SEM. | G9: 2º SEM. | I9: PROFESOR
E10: SIST. | F10: LAB | G10: SIST. | H10: LAB
L11: 0 | M11: 0 | N11: 0 | O11: 0
A12: 3ro LT | C12: SIST DE INGENIERÍA | D12: SISTEMAS DE INGENIERÍA LT | G12: 4 | I12: GARCÍA ALBERTO | O12: =H12 -> 0
A13: 4to AB | C13: SIST DE INGENIERÍA | D13: SISTEMA DE ARMAS / INGENIERÍA | G13: 3 | I13: GARCÍA ALBERTO | O13: =H13 -> 0
A14: 3ro EJ | B14: A | C14: SIST DE INGENIERÍA | D14: FUNDAMENTOS DE ESTABILIDAD | E14: 2 | I14: GARCÍA ALBERTO | O14: =H14 -> 0
A15: 3ro EJ | B15: B | C15: SIST DE INGENIERÍA | D15: FUNDAMENTOS DE ESTABILIDAD | E15: 2 | I15: GARCÍA ALBERTO | O15: =H15 -> 0
A16: 3ro EJ | B16: C | C16: SIST DE INGENIERÍA | D16: FUNDAMENTOS DE ESTABILIDAD | E16: 2 | I16: FISCHER MATIAS | O16: =H16 -> 0
A17: 3ro EJ | B17: D | C17: SIST DE INGENIERÍA | D17: FUNDAMENTOS DE ESTABILIDAD | E17: 2 | I17: FISCHER MATIAS | O17: =H17 -> 0
A18: 4to EJ | B18: A | C18: SIST DE INGENIERÍA | D18: SISTEMAS DE INGENIERÍA | E18: 6 | I18: GARCÍA ALBERTO | O18: =H18 -> 0
A19: 4to EJ | B19: B | C19: SIST DE INGENIERÍA | D19: SISTEMAS DE INGENIERÍA | E19: 6 | I19: ULLOA VÍCTOR | O19: =H19 -> 0
A20: 4to EJ | B20: C | C20: SIST DE INGENIERÍA | D20: SISTEMAS DE INGENIERÍA | E20: 6 | I20: ROBERT VERGARA JOHN | O20: =H20 -> 0
D22: CARGA 2025 | E22: =+SUM(E12:E20) -> 26 | G22: =+SUM(G12:G20) -> 7 | I22: =+SUM(E22:G22) -> 33
D23: CARGA 2024 | E23: 32 | G23: 7 | I23: 39
I25: RESUMEN | J25: 1° Sem | L25: 2° Sem
I26: FISCHER MATIAS | J26: =SUMIF($I$11:$I$20,$I26,E$11:E$20) -> 4 | L26: =SUMIF($I$11:$I$20,$I26,G$11:G$20) -> 0
I27: GARCÍA ALBERTO | J27: =SUMIF($I$11:$I$20,$I27,E$11:E$20) -> 10 | L27: =SUMIF($I$11:$I$20,$I27,G$11:G$20) -> 7
I28: ROBERT VERGARA JOHN | J28: =SUMIF($I$11:$I$20,$I28,E$11:E$20) -> 6 | L28: =SUMIF($I$11:$I$20,$I28,G$11:G$20) -> 0
I29: ULLOA VÍCTOR | J29: =SUMIF($I$11:$I$20,$I29,E$11:E$20) -> 6 | L29: =SUMIF($I$11:$I$20,$I29,G$11:G$20) -> 0
L31: =SUM(J26:L29) -> 33

Sheet ADMINIST 
A1: Escuela Naval "A. Prat"
A2: Departamento Educación
A3: Unidad de Coordinación Académica
A5: HORAS DE CLASES POR CURSO - PROFESOR
A6: AÑO ACADÉMICO 2025
A7: CÁTEDRA : | D7: ADMINISTRACIÓN
D8: HORAS SEMANALES
A9: CURSO | C9: CÁTEDRA | D9: ASIGNATURAS | E9: 1er SEM. | G9: 2º SEM. | I9: PROFESOR
E10: SIST. | F10: LAB | G10: SIST. | H10: LAB
A11: 2do AB | C11: ADMINISTRACIÓN | D11: ADMINISTRACIÓN .1 | E11: 2 | I11: GUNDLACH HÉCTOR
A12: 2do AB | C12: ADMINISTRACIÓN | D12: ADMINISTRACIÓN .2 | G12: 2 | I12: GUNDLACH HÉCTOR
A13: 2do IM | C13: ADMINISTRACIÓN | D13: ADMINISTRACIÓN DEL CARGO | G13: 4 | I13: GUNDLACH HÉCTOR
A14: 4to EJ | B14: A | C14: ADMINISTRACIÓN | D14: ADMINISTRACIÓN DEL CARGO .1 | E14: 2 | I14: GUNDLACH HÉCTOR
A15: 4to EJ | B15: A | C15: ADMINISTRACIÓN | D15: ADMINISTRACIÓN DEL CARGO .2. | G15: 2 | I15: GUNDLACH HÉCTOR
A16: 4to EJ | B16: B | C16: ADMINISTRACIÓN | D16: ADMINISTRACIÓN DEL CARGO .1 | E16: 2 | I16: GUNDLACH HÉCTOR
A17: 4to EJ | B17: B | C17: ADMINISTRACIÓN | D17: ADMINISTRACIÓN DEL CARGO .2. | G17: 2 | I17: GUNDLACH HÉCTOR
A18: 4to EJ | B18: C | C18: ADMINISTRACIÓN | D18: ADMINISTRACIÓN DEL CARGO .1 | E18: 2 | I18: GUNDLACH HÉCTOR
A19: 4to EJ | B19: C | C19: ADMINISTRACIÓN | D19: ADMINISTRACIÓN DEL CARGO .2. | G19: 2 | I19: GUNDLACH HÉCTOR
A20: 4to LT | C20: ADMINISTRACIÓN | D20: ADMINISTRACIÓN DEL CARGO | E20: 2 | G20: 2 | I20: GUNDLACH HÉCTOR
D23: CARGA 2025 | E23: =SUM(E11:E20) -> 10 | G23: =+SUM(G11:G20) -> 14 | I23: =+E23+G23 -> 24
D24: CARGA 2024 | E24: 10 | G24: 14 | I24: =E24+G24 -> 24
I26: RESUMEN | J26: 1° Sem | L26: 2° Sem
I27: GUNDLACH HÉCTOR | J27: =SUMIF($I$11:$I$21,$I27,E$11:E$21) -> 10 | L27: =SUMIF($I$11:$I$22,$I27,G$11:G$21) -> 14
L30: =SUM(J27:L28) -> 24

Sheet ESP IM
A1: Escuela Naval "A. Prat"
A2: Departamento Educación
A3: Unidad de Coordinación Académica
A5: HORAS DE CLASES POR CURSO - PROFESOR
A6: AÑO ACADÉMICO 2025
A7: CÁTEDRA : | D7: ESP INF MARINA
D8: HORAS SEMANALES
A9: CURSO | C9: CÁTEDRA | D9: ASIGNATURAS | E9: 1er SEM. | G9: 2º SEM. | I9: PROFESOR
E10: SIST. | F10: LAB | G10: SIST. | H10: LAB
A12: 2do IM Mod | C12: ESP IM | D12: TÁCTICA I .1 Mod | E12: 3 | I12: SIELFELD JUAN
A13: 2do IM | C13: ESP IM | D13: TÁCTICA I .2 | G13: 4 | I13: SIELFELD JUAN
A14: 3ro IM | C14: ESP IM | D14: INTELIGENCIA IM | E14: 6 | I14: OSORIO MATIAS T1
A15: 3ro IM | C15: ESP IM | D15: TÁCTICA II .1 | E15: 5 | I15: VON DER WETH FIEDRICH
A16: 3ro IM | C16: ESP IM | D16: TÁCTICA II .2 | G16: 5 | I16: VON DER WETH FIEDRICH
A17: 3ro IM | C17: ESP IM | D17: APOYO COMBATE I .1 | E17: 3 | I17: SIELFELD JUAN
A18: 3ro IM | C18: ESP IM | D18: APOYO COMBATE I .2 | G18: 3 | I18: SIELFELD JUAN
A19: 3ro IM | C19: ESP IM | D19: APOYO SERVICIO COMBATE | E19: 4 | I19: SIELFELD JUAN
A20: 3ro IM | C20: ESP IM | D20: COMUNICACIONES | G20: 4 | I20: LAGOS ALFREDO T1 IM TC | J20: T1 HERRERA
A21: 3ro IM | C21: ESP IM | D21: MATERIAL IM | G21: 4 | I21: T1 OSORIO
A22: 4to IM | C22: ESP IM | D22: TÁCTICA III .1 | E22: 4 | I22: VON DER WETH FIEDRICH
A23: 4to IM | C23: ESP IM | D23: TÁCTICA III .2 | G23: 4 | I23: VON DER WETH FIEDRICH
A24: 4to IM | C24: ESP IM | D24: APOYO COMBATE II .1 | E24: 4 | I24: T1 OSORIO
A25: 4to IM | C25: ESP IM | D25: APOYO COMBATE II .2 | G25: 4 | I25: T1 OSORIO
A26: 4to IM | C26: ESP IM | D26: OPERACIONES ANFIBIAS .1 | E26: 4 | I26: SIELFELD JUAN
A27: 4to IM | C27: ESP IM | D27: OPERACIONES ANFIBIAS .2 | G27: 4 | I27: SIELFELD JUAN
D29: CARGA 2025 | E29: =+SUM(E12:E27) -> 33 | G29: =+SUM(G12:G27) -> 32 | I29: =+G29+E29 -> 65
D30: CARGA 2024 | E30: 33 | G30: 32 | I30: =E30+G30 -> 65
I32: RESUMEN | J32: 1 Sem | L32: 2 Sem
I33: OSORIO MATIAS T1 | J33: =SUMIF($I$11:$I$27,$I33,E$11:E$27) -> 6 | L33: =SUMIF($I$11:$I$27,$I33,G$11:G$27) -> 0
I34: SIELFELD JUAN | J34: =SUMIF($I$11:$I$27,$I34,E$11:E$27) -> 14 | L34: =SUMIF($I$11:$I$27,$I34,G$11:G$27) -> 11
I35: VON DER WETH FIEDRICH | J35: =SUMIF($I$11:$I$27,$I35,E$11:E$27) -> 9 | L35: =SUMIF($I$11:$I$27,$I35,G$11:G$27) -> 9
I36: SOLIS GONZALO T1 IM | J36: =SUMIF($I$11:$I$27,$I36,E$11:E$27) -> 0 | L36: =SUMIF($I$11:$I$27,$I36,G$11:G$27) -> 0
I37: LAGOS ALFREDO T1 IM TC | J37: =SUMIF($I$11:$I$27,$I37,E$11:E$27) -> 0 | L37: =SUMIF($I$11:$I$27,$I37,G$11:G$27) -> 4
I38: ORTEGA CC IM | J38: =SUMIF($I$11:$I$27,$I38,E$11:E$27) -> 0 | L38: =SUMIF($I$11:$I$27,$I38,G$11:G$27) -> 0
I39: KEITEL JORGE | J39: =SUMIF($I$11:$I$27,$I39,E$11:E$27) -> 0 | L39: =SUMIF($I$11:$I$27,$I39,G$11:G$27) -> 0
L40: =SUM(J33:L39) -> 53

Sheet ESP AB
A1: Escuela Naval "A. Prat"
A2: Departamento Educación
A3: Unidad de Coordinación Académica
A5: HORAS DE CLASES POR CURSO - PROFESOR
A6: AÑO ACADÉMICO 2025
A7: CÁTEDRA : | D7: ESPECIALIDAD ABASTECIMIENTO
D8: HORAS SEMANALES
A9: CURSO | C9: CÁTEDRA | D9: ASIGNATURAS | E9: 1er SEM. | G9: 2º SEM. | I9: PROFESOR
E10: SIST. | F10: LAB | G10: SIST. | H10: LAB
K11: 0 | L11: 0 | M11: 0 | N11: 0
A12: 2do AB | C12: ESP AB | D12: ABASTECIMIENTO .1 | E12: 4 | I12: VALENZUELA CONSTANZA T1 AB
A13: 2do AB | C13: ESP AB | D13: ABASTECIMIENTO .2 | G13: 4 | I13: VALENZUELA CONSTANZA T1 AB
A14: 2do AB | C14: ESP AB | D14: CONTABILIDAD .1 | E14: 6 | I14: RODRÍGUEZ NORMAN
A15: 2do AB | C15: ESP AB | D15: CONTABILIDAD .2 | G15: 6 | I15: RODRÍGUEZ NORMAN
A16: 3ro AB | C16: ESP AB | D16: ADM. LOGÍSTICA DEL MATERIAL.1 | E16: 4 | I16: GARCÍA QUIROGA CARLOS
A17: 3ro AB | C17: ESP AB | D17: ADM. LOGÍSTICA DEL MATERIAL.2 | G17: 4 | I17: GARCÍA QUIROGA CARLOS
A18: 3ro AB | C18: ESP AB | D18: TEORÍA DE LA ORGANIZACIÓN | E18: 4 | I18: VIDAL CARLOS
A19: 3ro AB | C19: ESP AB | D19: MICROECONOMÍA | E19: 4 | I19: VIDAL CARLOS
A20: 3ro AB | C20: ESP AB | D20: MACROECONOMÍA | G20: 4 | I20: VIDAL CARLOS
A21: 3ro AB | C21: ESP AB | D21: COSTOS | G21: 4 | I21: RODRÍGUEZ NORMAN
A22: 3ro LT | C22: ESP AB | D22: CONTABILIDAD Y FINANZAS | E22: 4 | I22: RODRÍGUEZ NORMAN
A23: 4to AB | C23: ESP AB | D23: ADMINISTRACIÓN PÚBLICA | E23: 4 | I23: GARCÍA QUIROGA CARLOS
A24: 4to AB | C24: ESP AB | D24: SEGURIDAD SANITARIA DE ALIMENTACIÓN Y NUTRICIÓN | E24: 4 | I24: OBERMOLLER HILDE
A25: 4to AB | C25: ESP AB | D25: FINANZAS | E25: 3 | I25: GARCÍA QUIROGA CARLOS
A26: 4to AB | C26: ESP AB | D26: INVESTIGACIÓN DE OPERACIONES | G26: 4 | I26: BASTIDAS CC DIRISNAV
A27: 4to AB | C27: ESP AB | D27: SISTEMAS DE INFORMACIÓN LOGÍSTICA .1 | E27: 3 | I27: CC AB MELKONIAN
A28: 4to AB | C28: ESP AB | D28: SISTEMAS DE INFORMACIÓN LOGÍSTICA .2 | G28: 4 | I28: CC AB MELKONIAN
A29: 4to AB | C29: ESP AB | D29: FINANZAS PÚBLICAS | G29: 4 | I29: GARCÍA QUIROGA CARLOS
D31: CARGA 2025 | E31: =+SUM(E12:E29) -> 40 | G31: =+SUM(G12:G29) -> 34 | I31: =+G31+E31 -> 74
D32: CARGA 2024 | E32: 40 | G32: 34 | I32: =E32+G32 -> 74
I34: RESUMEN | J34: 1 Sem | L34: 2 Sem
I35: VALENZUELA CONSTANZA T1 AB | J35: =SUMIF($I$11:$I$29,$I35,E$11:E$29) -> 4 | L35: =SUMIF($I$11:$I$29,$I35,G$11:G$29) -> 4
I36: VIDAL CARLOS | J36: =SUMIF($I$11:$I$29,$I36,E$11:E$29) -> 8 | L36: =SUMIF($I$11:$I$29,$I36,G$11:G$29) -> 4
I37: RODRÍGUEZ NORMAN | J37: =SUMIF($I$11:$I$29,$I37,E$11:E$29) -> 10 | L37: =SUMIF($I$11:$I$29,$I37,G$11:G$29) -> 10
I38: OBERMOLLER HILDE | J38: =SUMIF($I$11:$I$29,$I38,E$11:E$29) -> 4 | L38: =SUMIF($I$11:$I$29,$I38,G$11:G$29) -> 0
I39: BASTIDAS CC DIRISNAV | J39: =SUMIF($I$11:$I$29,$I39,E$11:E$29) -> 0 | L39: =SUMIF($I$11:$I$29,$I39,G$11:G$29) -> 4
I40: CC AB CRUZ ANDÍA, CARLOS | J40: =SUMIF($I$11:$I$29,$I40,E$11:E$29) -> 0 | L40: =SUMIF($I$11:$I$29,$I40,G$11:G$29) -> 0
I41: GARCÍA QUIROGA CARLOS | J41: =SUMIF($I$11:$I$29,$I41,E$11:E$29) -> 11 | L41: =SUMIF($I$11:$I$29,$I41,G$11:G$29) -> 8
L44: =SUM(J35:L41) -> 67

Sheet ESP LT
A1: Escuela Naval "A. Prat"
A2: Departamento Educación
A3: Unidad de Coordinación Académica
A5: HORAS DE CLASES POR CURSO - PROFESOR
A6: AÑO ACADÉMICO 2025
A7: CÁTEDRA : | D7: ESPECIALIDAD LITORAL
D8: HORAS SEMANALES
A9: CURSO | C9: CÁTEDRA | D9: ASIGNATURAS | E9: 1er SEM. | G9: 2º SEM. | I9: PROFESOR
E10: SIST. | F10: LAB | G10: SIST. | H10: LAB
A12: 2do LT | C12: ESP LT | D12: LEGISLACIÓN MARÍTIMA (Malla ingreso 2024) | E12: 4 | G12: 4 | I12: MUNITA JUAN CARLOS
A13: 3ro LT | C13: ESP LT | D13: ESTABILIDAD Y ESTIBA .1 | E13: 4 | I13: GARCÍA ALBERTO
A14: 3ro LT | C14: ESP LT | D14: ESTABILIDAD Y ESTIBA .2 | G14: 4 | I14: GARCÍA ALBERTO
A15: 3ro LT | C15: ESP LT | D15: APLICACIONES COMPUTACIONALES | G15: 4 | I15: CONCHA CLAUDIO
A16: 3ro LT | C16: ESP LT | D16: LEGISLACIÓN MARÍTIMA (Malla ingreso 2023) | E16: 0 | G16: 6 | I16: MUNITA JUAN CARLOS
A17: 4to LT | C17: ESP LT | D17: COMUNICACIÓN Y RR.PP. | E17: 4 | I17: BUCCAREY FRANCIS
A18: 4to LT | C18: ESP LT | D18: INT. MARÍTIMOS Y DESARROLLO SUSTENTABLE | E18: 0 | G18: 4 | I18: BAROS ANTONIO | J18: RUIZ T1 LT
A19: 4to LT | C19: ESP LT | D19: OPERACIONES MARÍTIMAS I | G19: 6 | I19: CF ORTIZ (XO)
A20: 4to LT | C20: ESP LT | D20: POLICÍA MARÍTIMA | E20: 6 | I20: CERDA PABLO CC LT
A21: 4to LT | C21: ESP LT | D21: POLICÍA MARÍTIMA (Malla ingreso 2022-2023) | E21: 2 | I21: CERDA PABLO CC LT
D23: CARGA 2025 | E23: =+SUM(E12:E21) -> 20 | G23: =+SUM(G12:G21) -> 28 | I23: =+G23+E23 -> 48
D24: CARGA 2023 | E24: 14 | G24: 24 | I24: =E24+G24 -> 38
I26: RESUMEN | J26: 1 Sem | L26: 2 Sem
I27: GARCÍA ALBERTO | J27: =SUMIF($I$11:$I$22,$I27,E$11:E$22) -> 4 | L27: =SUMIF($I$11:$I$21,$I27,G$11:G$21) -> 4
I28: CONCHA CLAUDIO | J28: =SUMIF($I$11:$I$22,$I28,E$11:E$22) -> 0 | L28: =SUMIF($I$11:$I$21,$I28,G$11:G$21) -> 4
I29: MUNITA JUAN CARLOS | J29: =SUMIF($I$11:$I$22,$I29,E$11:E$22) -> 4 | L29: =SUMIF($I$11:$I$21,$I29,G$11:G$21) -> 10
I30: BUCCAREY FRANCIS | J30: =SUMIF($I$11:$I$22,$I30,E$11:E$22) -> 4 | L30: =SUMIF($I$11:$I$21,$I30,G$11:G$21) -> 0
I31: BAROS ANTONIO | J31: =SUMIF($I$11:$I$22,$I31,E$11:E$22) -> 0 | L31: =SUMIF($I$11:$I$21,$I31,G$11:G$21) -> 4
I32: CERDA PABLO CC LT | J32: =SUMIF($I$11:$I$22,$I32,E$11:E$22) -> 8 | L32: =SUMIF($I$11:$I$21,$I32,G$11:G$21) -> 0
I33: RUIZ T1 LT | J33: =SUMIF($I$11:$I$22,$I33,E$11:E$22) -> 0 | L33: =SUMIF($I$11:$I$21,$I33,G$11:G$21) -> 0
L35: =SUM(J27:L33) -> 42

Sheet METOD INV
A1: Escuela Naval "A. Prat"
A2: Departamento Educación
A3: Unidad de Coordinación Académica
A5: HORAS DE CLASES POR CURSO - PROFESOR
A6: AÑO ACADÉMICO 2024
A7: CÁTEDRA : | D7: METODOLOGÍA DE LA INVESTIGACIÓN
D8: HORAS SEMANALES
A9: CURSO | C9: CÁTEDRA | D9: ASIGNATURAS | E9: 1er SEM. | G9: 2º SEM. | I9: PROFESOR
E10: SIST. | F10: LAB | G10: SIST. | H10: LAB
K11: 0 | L11: 0 | M11: 0 | N11: 0
A12: 4to EJ | B12: A | C12: MET DE LA INVESTIGACIÓN | D12: METODOLOGÍA DE LA INVESTIGACIÓN I | E12: 2 | I12: RÍOS JORGE | J12: NO VA | K12: =E12 -> 2 | L12: =F12 -> 0 | M12: =G12 -> 0 | N12: =H12 -> 0
A13: 4to EJ | B13: B | C13: MET DE LA INVESTIGACIÓN | D13: METODOLOGÍA DE LA INVESTIGACIÓN I | E13: 2 | I13: RÍOS JORGE | J13: NO VA | K13: =E13 -> 2 | L13: =F13 -> 0 | M13: =G13 -> 0 | N13: =H13 -> 0
A14: 4to EJ | B14: C | C14: MET DE LA INVESTIGACIÓN | D14: METODOLOGÍA DE LA INVESTIGACIÓN I | E14: 2 | I14: RÍOS JORGE | J14: NO VA | K14: =E14 -> 2 | L14: =F14 -> 0 | M14: =G14 -> 0 | N14: =H14 -> 0
A15: 4to EJ | B15: D | C15: MET DE LA INVESTIGACIÓN | D15: METODOLOGÍA DE LA INVESTIGACIÓN I | E15: 2 | I15: RÍOS JORGE | J15: NO VA | K15: =E15 -> 2 | L15: =F15 -> 0 | M15: =G15 -> 0 | N15: =H15 -> 0
A16: 4to AB | C16: MET DE LA INVESTIGACIÓN | D16: METODOLOGÍA DE LA INVESTIGACIÓN I | G16: 2 | I16: RÍOS JORGE | J16: NO VA | K16: =E16 -> 0 | L16: =F16 -> 0 | M16: =G16 -> 2 | N16: =H16 -> 0
A17: 4to IM | C17: MET DE LA INVESTIGACIÓN | D17: METODOLOGÍA DE LA INVESTIGACIÓN I | G17: 2 | I17: RÍOS JORGE | J17: NO VA | K17: =E17 -> 0 | L17: =F17 -> 0 | M17: =G17 -> 2 | N17: =H17 -> 0
A18: 4to LT | C18: MET DE LA INVESTIGACIÓN | D18: METODOLOGÍA DE LA INVESTIGACIÓN I | G18: 2 | I18: RAMÍREZ BLANCA | J18: NO VA | K18: =E18 -> 0 | L18: =F18 -> 0 | M18: =G18 -> 2 | N18: =H18 -> 0
D20: CARGA 2024 | E20: =SUM(E12:E18) -> 0 | G20: =SUM(G12:G18) -> 0 | I20: =+E20+G20 -> 0
D21: CARGA 2023 | E21: 8 | G21: 6 | I21: =E21+G21 -> 14
I22: =I20-I21 -> -14
I24: RESUMEN | J24: 1 Sem | L24: 2 Sem
I25: RÍOS JORGE | J25: =SUMIF($I$11:$N$18,$I25,K$11:K$18) -> 0 | L25: =SUMIF($I$11:$N$18,$I25,M$11:M$18) -> 0
I26: RAMÍREZ BLANCA | J26: =SUMIF($I$11:$N$18,$I26,K$11:K$18) -> 0 | L26: =SUMIF($I$11:$N$18,$I26,M$11:M$18) -> 0
J27: =SUMIF($I$11:$N$18,$I27,K$11:K$18) -> 0 | L27: =SUMIF($I$11:$N$18,$I27,M$11:M$18) -> 0

Sheet NÁUTICA
A1: Escuela Naval "A. Prat"
A2: Departamento Educación
A3: Unidad de Coordinación Académica
A5: HORAS DE CLASES POR CURSO - PROFESOR
A6: AÑO ACADÉMICO 2025
A7: CÁTEDRA : | D7: NÁUTICA
D8: HORAS SEMANALES
A9: CURSO | C9: CÁTEDRA | D9: ASIGNATURAS | E9: 1er SEM. | G9: 2º SEM. | I9: PROFESOR
E10: SIST. | F10: LAB | G10: SIST. | H10: LAB
A12: 1ro | B12: A | C12: NÁUTICA | D12: NÁUTICA .1 | E12: 2 | I12: ROJAS MARIANO
A13: 1ro | B13: A | C13: NÁUTICA | D13: NÁUTICA .2 | G13: 2 | I13: MILAN
A14: 1ro | B14: B | C14: NÁUTICA | D14: NÁUTICA .1 | E14: 2 | I14: ROJAS MARIANO
A15: 1ro | B15: B | C15: NÁUTICA | D15: NÁUTICA .2 | G15: 2 | I15: SEPÚLVEDA RODRIGO
A16: 1ro | B16: C | C16: NÁUTICA | D16: NÁUTICA .1 | E16: 2 | I16: SEPÚLVEDA RODRIGO
A17: 1ro | B17: C | C17: NÁUTICA | D17: NÁUTICA .2 | G17: 2 | I17: MILAN
A18: 1ro | B18: D | C18: NÁUTICA | D18: NÁUTICA .1 | E18: 2 | I18: SIMS EDUARDO
A19: 1ro | B19: D | C19: NÁUTICA | D19: NÁUTICA .2 | G19: 2 | I19: SEPÚLVEDA RODRIGO
A20: 1ro | B20: E | C20: NÁUTICA | D20: NÁUTICA .1 | E20: 2 | I20: SIMS EDUARDO
A21: 1ro | B21: E | C21: NÁUTICA | D21: NÁUTICA .2 | G21: 2 | I21: SEPÚLVEDA RODRIGO
A22: 1ro | B22: H | C22: NÁUTICA | D22: NÁUTICA .1 | E22: 2 | I22: SIMS EDUARDO
A23: 1ro | B23: H | C23: NÁUTICA | D23: NÁUTICA .2 | G23: 2 | I23: SEPÚLVEDA RODRIGO
A24: 1ro | B24: K | C24: NÁUTICA | D24: NÁUTICA .1 | E24: 2 | I24: SEPÚLVEDA RODRIGO
A25: 1ro | B25: K | C25: NÁUTICA | D25: NÁUTICA .2 | G25: 2 | I25: MILAN
D27: CARGA 2025 | E27: =+SUM(E12:E25) -> 14 | G27: =+SUM(G12:G25) -> 14 | I27: =+G27+E27 -> 28
D28: CARGA 2024 | E28: 12 | G28: 12 | I28: =E28+G28 -> 24
I30: RESUMEN | J30: 1 Sem | L30: 2 Sem
I32: ROJAS MARIANO | J32: =SUMIF($I$11:$I$25,$I32,E$11:E$25) -> 4 | L32: =SUMIF($I$11:$I$25,$I32,G$11:G$25) -> 0
I33: SEPÚLVEDA RODRIGO | J33: =SUMIF($I$11:$I$25,$I33,E$11:E$25) -> 4 | L33: =SUMIF($I$11:$I$25,$I33,G$11:G$25) -> 8
I34: SIMS EDUARDO | J34: =SUMIF($I$11:$I$25,$I34,E$11:E$25) -> 6 | L34: =SUMIF($I$11:$I$25,$I34,G$11:G$25) -> 0
L37: =SUM(J32:L35) -> 22

Sheet FOR NAVAL
B1: Escuela Naval "A. Prat"
B2: Departamento Educación
B3: Unidad de Coordinación Académica
B5: HORAS DE CLASES POR CURSO - PROFESOR
B6: AÑO ACADÉMICO 2025
B7: CÁTEDRA : | E7: FORMACIÓN NAVAL
E8: HORAS SEMANALES
F9: 1er SEM. | H9: 2º SEM.
B10: CURSO | D10: CÁTEDRA | E10: ASIGNATURAS | F10: SIST. | G10: LAB | H10: SIST. | I10: LAB | J10: PROFESOR | K10: Unidad Temática
A11: 1 | B11: 2do AB | D11: FORMACIÓN NAVAL | E11: FORMACIÓN NAVAL I .1 | F11: 2 | J11: MALHUEN T1 | K11: BUCEO
A12: 1 | B12: 2do AB | D12: FORMACIÓN NAVAL | E12: FORMACIÓN NAVAL I .2 | H12: 2 | J12: MALHUEN T1 | K12: BUCEO
A13: 1 | B13: 2do IM | D13: FORMACIÓN NAVAL | E13: FORMACIÓN NAVAL I .1 | F13: 2 | J13: PÉREZ SO IM | K13: Liderazgo terreno (IM)
A14: 1 | B14: 2do IM | D14: FORMACIÓN NAVAL | E14: FORMACIÓN NAVAL I .2 | H14: 2 | J14: PÉREZ SO IM | K14: Liderazgo terreno (IM)
A15: 1 | B15: 2do LT | D15: FORMACIÓN NAVAL | E15: FORMACIÓN NAVAL I .1 | F15: 2 | J15: MALDONADO VALDES GONZALO | K15: BUCEO
A16: 1 | B16: 2do LT | D16: FORMACIÓN NAVAL | E16: FORMACIÓN NAVAL I .2 | H16: 2 | J16: MALDONADO VALDES GONZALO | K16: BUCEO
A17: 1 | B17: 2do EJ | C17: A | D17: FORMACIÓN NAVAL | E17: FORMACIÓN NAVAL I .1 | F17: 2 | J17: SEPÚLVEDA GARABITO OSCAR SO | K17: BUCEO
A18: 1 | B18: 2do EJ | C18: A | D18: FORMACIÓN NAVAL | E18: FORMACIÓN NAVAL I .2 | H18: 2 | J18: SEPÚLVEDA GARABITO OSCAR SO | K18: BUCEO
A19: 1 | B19: 2do EJ | C19: B | D19: FORMACIÓN NAVAL | E19: FORMACIÓN NAVAL I .1 | F19: 2 | J19: BELLO DANIEL | K19: TIRO
A20: 1 | B20: 2do EJ | C20: B | D20: FORMACIÓN NAVAL | E20: FORMACIÓN NAVAL I .2 | H20: 2 | J20: BELLO DANIEL | K20: TIRO
A21: 2 | B21: 2do EJ | C21: C | D21: FORMACIÓN NAVAL | E21: FORMACIÓN NAVAL I .1 | F21: 2 | J21: BUCCAREY FRANCIS | K21: Comunicaciones y RRPP
A22: 2 | B22: 2do EJ | C22: C | D22: FORMACIÓN NAVAL | E22: FORMACIÓN NAVAL I .2 | H22: 2 | J22: BUCCAREY FRANCIS | K22: Comunicaciones y RRPP
A23: 3 | B23: 2do EJ | C23: D | D23: FORMACIÓN NAVAL | E23: FORMACIÓN NAVAL I .1 | F23: 2 | J23: ACUÑA PAC SO | K23: BUCEO | L23: NO SE ASIGNAN
A24: 3 | B24: 2do EJ | C24: D | D24: FORMACIÓN NAVAL | E24: FORMACIÓN NAVAL I .2 | H24: 2 | J24: ACUÑA PAC SO | K24: BUCEO
A25: 4 | B25: 2do EJ | C25: E | D25: FORMACIÓN NAVAL | E25: FORMACIÓN NAVAL I .1 | F25: 2 | J25: T1 LT RUIZ | K25: Liderazgo Terreno
A26: 4 | B26: 2do EJ | C26: E | D26: FORMACIÓN NAVAL | E26: FORMACIÓN NAVAL I .2 | H26: 2 | J26: T1 LT RUIZ | K26: Liderazgo Terreno
A27: 5 | B27: 3ro IM | D27: FORMACIÓN NAVAL | E27: FORMACIÓN NAVAL II .1 | F27: 2 | J27: MALHUEN T1 | K27: BUCEO
A28: 5 | B28: 3ro IM | D28: FORMACIÓN NAVAL | E28: FORMACIÓN NAVAL II .2 | H28: 2 | J28: MALHUEN T1 | K28: BUCEO
A29: 5 | B29: 3ro LT | D29: FORMACIÓN NAVAL | E29: FORMACIÓN NAVAL II .1 | F29: 2 | J29: SEPÚLVEDA GARABITO OSCAR SO | K29: BUCEO
A30: 5 | B30: 3ro LT | D30: FORMACIÓN NAVAL | E30: FORMACIÓN NAVAL II .2 | H30: 2 | J30: SEPÚLVEDA GARABITO OSCAR SO | K30: BUCEO
A31: 5 | B31: 3ro AB | D31: FORMACIÓN NAVAL | E31: FORMACIÓN NAVAL II .1 | F31: 2 | J31: LUCERO ANDRÉS | K31: DEBATE
A32: 5 | B32: 3ro AB | D32: FORMACIÓN NAVAL | E32: FORMACIÓN NAVAL II .2 | H32: 2 | J32: LUCERO ANDRÉS | K32: DEBATE
A33: 5 | B33: 3ro EJ | C33: A | D33: FORMACIÓN NAVAL | E33: FORMACIÓN NAVAL II .1 | F33: 2 | J33: SIELFELD JUAN | K33: Liderazgo Terreno
A34: 5 | B34: 3ro EJ | C34: A | D34: FORMACIÓN NAVAL | E34: FORMACIÓN NAVAL II .2 | H34: 2 | J34: SIELFELD JUAN | K34: Liderazgo Terreno
A35: 6 | B35: 3ro EJ | C35: B | D35: FORMACIÓN NAVAL | E35: FORMACIÓN NAVAL II .1 | F35: 2 | J35: ROJAS MARIANO | K35: Liderazgo Simulador
A36: 6 | B36: 3ro EJ | C36: B | D36: FORMACIÓN NAVAL | E36: FORMACIÓN NAVAL II .2 | H36: 2 | J36: ROJAS MARIANO | K36: Liderazgo Simulador
A37: 7 | B37: 3ro EJ | C37: C | D37: FORMACIÓN NAVAL | E37: FORMACIÓN NAVAL II .1 | F37: 2 | J37: ZANELLI VÍCTOR | K37: Liderazgo Simulador
A38: 7 | B38: 3ro EJ | C38: C | D38: FORMACIÓN NAVAL | E38: FORMACIÓN NAVAL II .2 | H38: 2 | J38: ZANELLI VÍCTOR | K38: Liderazgo Simulador
A39: 8 | B39: 3ro EJ | C39: D | D39: FORMACIÓN NAVAL | E39: FORMACIÓN NAVAL II .1 | F39: 2 | J39: SEPÚLVEDA RODRIGO | K39: Patrón Deportivo Bahía
A40: 8 | B40: 3ro EJ | C40: D | D40: FORMACIÓN NAVAL | E40: FORMACIÓN NAVAL II .2 | H40: 2 | J40: SEPÚLVEDA RODRIGO | K40: Patrón Deportivo Bahía
A41: 9 | B41: 4to AB | D41: FORMACIÓN NAVAL | E41: FORMACIÓN NAVAL III .1 | F41: 2 | J41: CAMPOS MANUEL | K41: Defensa personal
A42: 9 | B42: 4to AB | D42: FORMACIÓN NAVAL | E42: FORMACIÓN NAVAL III .2 | H42: 2 | J42: CAMPOS MANUEL | K42: Defensa personal
A43: 9 | B43: 4to IM | D43: FORMACIÓN NAVAL | E43: FORMACIÓN NAVAL III .1 | F43: 2 | J43: RÍOS JORGE | K43: DEBATE
A44: 9 | B44: 4to IM | D44: FORMACIÓN NAVAL | E44: FORMACIÓN NAVAL III .2 | H44: 2 | J44: RÍOS JORGE | K44: DEBATE
B45: 4to IM | D45: FORMACIÓN NAVAL | E45: FORMACIÓN NAVAL III .1 | F45: 2 | J45: VALDIVIA S1° | K45: BUCEO
A46: 9 | B46: 4to IM | D46: FORMACIÓN NAVAL | E46: FORMACIÓN NAVAL III .2 | H46: 2 | J46: VALDIVIA S1° | K46: BUCEO
A47: 9 | B47: 4to LT | D47: FORMACIÓN NAVAL | E47: FORMACIÓN NAVAL III .1 | F47: 2 | J47: SEPÚLVEDA GARABITO OSCAR SO | K47: BUCEO
A48: 9 | B48: 4to LT | D48: FORMACIÓN NAVAL | E48: FORMACIÓN NAVAL III .2 | H48: 2 | J48: SEPÚLVEDA GARABITO OSCAR SO | K48: BUCEO
A49: 9 | B49: 4to LT | D49: FORMACIÓN NAVAL | E49: FORMACIÓN NAVAL III .2 | H49: 2 | J49: SEPÚLVEDA GARABITO OSCAR SO | K49: BUCEO
A50: 9 | B50: 4to LT | D50: FORMACIÓN NAVAL | E50: FORMACIÓN NAVAL III .1 | F50: 2 | J50: VALDIVIA S1° | K50: BUCEO
A51: 9 | B51: 4to EJ | C51: A | D51: FORMACIÓN NAVAL | E51: FORMACIÓN NAVAL III .2 | H51: 2 | J51: ACUÑA PAC SO | K51: BUCEO | L51: NO SE ASIGNAN
A52: 9 | B52: 4to EJ | C52: A | D52: FORMACIÓN NAVAL | E52: FORMACIÓN NAVAL III .1 | F52: 2 | J52: SEPÚLVEDA GARABITO OSCAR SO | K52: BUCEO
A53: 9 | B53: 4to EJ | C53: A | D53: FORMACIÓN NAVAL | E53: FORMACIÓN NAVAL III .1 | F53: 2 | J53: QUIROGA CÉSAR | K53: PROBIDAD Y ETICA
A54: A | B54: 4to EJ | C54: A | D54: FORMACIÓN NAVAL | E54: FORMACIÓN NAVAL III .2 | H54: 2 | J54: QUIROGA CÉSAR | K54: PROBIDAD Y ETICA
A55: A | B55: 4to EJ | C55: B | D55: FORMACIÓN NAVAL | E55: FORMACIÓN NAVAL III .1 | F55: 2 | J55: ACUÑA PAC SO | K55: BUCEO | L55: NO SE ASIGNAN
A56: A | B56: 4to EJ | C56: B | D56: FORMACIÓN NAVAL | E56: FORMACIÓN NAVAL III .2 | H56: 2 | J56: ACUÑA PAC SO | K56: BUCEO
A57: B | B57: 4to EJ | C57: B | D57: FORMACIÓN NAVAL | E57: FORMACIÓN NAVAL III .1 | F57: 2 | J57: SORIA - GALVARRO RODOLFO | K57: ARGUMENTACIÓN
A58: B | B58: 4to EJ | C58: B | D58: FORMACIÓN NAVAL | E58: FORMACIÓN NAVAL III .2 | H58: 2 | J58: SORIA - GALVARRO RODOLFO | K58: ARGUMENTACIÓN
A59: C | B59: 4to EJ | C59: C | D59: FORMACIÓN NAVAL | E59: FORMACIÓN NAVAL III .1 | F59: 2 | J59: ACUÑA PAC SO | K59: BUCEO | L59: NO SE ASIGNAN
A60: C | B60: 4to EJ | C60: C | D60: FORMACIÓN NAVAL | E60: FORMACIÓN NAVAL III .1 | F60: 2 | J60: SIMS EDUARDO | K60: Liderazgo Terreno
A61: C | B61: 4to EJ | C61: C | D61: FORMACIÓN NAVAL | E61: FORMACIÓN NAVAL III .2 | H61: 2 | J61: OFICIAL DE DIVISION | K61: Liderazgo Terreno
A62: C | B62: 4to EJ | C62: C | D62: FORMACIÓN NAVAL | E62: FORMACIÓN NAVAL III .2 | H62: 2 | J62: VALDIVIA S1° | K62: BUCEO
A63: Z
A64: Z | D64: FORMACIÓN NAVAL | E64: ACTIVIDADES PROFESIONALES | G64: 8 | J64: BIERWIRTH | K64: Patrón Deportivo Bahía
A65: Z | D65: FORMACIÓN NAVAL | E65: ACTIVIDADES PROFESIONALES | I65: 8 | J65: BIERWIRTH | K65: Patrón Deportivo Bahía
A66: Z | D66: FORMACIÓN NAVAL | E66: ACTIVIDADES PROFESIONALES BUCEO | G66: 2 | J66: MALHUEN T1 | K66: BUCEO
D67: FORMACIÓN NAVAL | E67: ACTIVIDADES PROFESIONALES BUCEO | I67: 2 | J67: MALHUEN T1 | K67: BUCEO
D68: FORMACIÓN NAVAL | E68: ACTIVIDADES PROFESIONALES BUCEO | G68: 2 | J68: OF DIV 1 | K68: Liderazgo Simulador | L68: T1 SILVA
D69: FORMACIÓN NAVAL | E69: ACTIVIDADES PROFESIONALES BUCEO | I69: 2 | J69: OF DIV 1 | K69: Liderazgo Simulador
D70: FORMACIÓN NAVAL | E70: ACTIVIDADES PROFESIONALES | I70: 6 | J70: SEPÚLVEDA RODRIGO | K70: Patrón Deportivo Bahía
D71: FORMACIÓN NAVAL | E71: ACTIVIDADES PROFESIONALES | G71: 6 | J71: SEPÚLVEDA RODRIGO | K71: Patrón Deportivo Bahía
D72: FORMACIÓN NAVAL | E72: ACTIVIDADES PROFESIONALES BUCEO | G72: 2 | J72: VALDIVIA S1° | K72: BUCEO
D73: FORMACIÓN NAVAL | E73: ACTIVIDADES PROFESIONALES BUCEO | I73: 2 | J73: VALDIVIA S1° | K73: BUCEO
E76: CARGA 2025 | F76: =+SUM(F11:F73) -> 52 | G76: =+SUM(G11:G73) -> 20 | H76: =+SUM(H11:H73) -> 52 | I76: =+SUM(I11:I73) -> 20 | J76: =+F76+G76+H76+I76 -> 144
K78: RESUMEN | L78: 1 Sem | M78: LAB | N78: 2 Sem | O78: LAB
K79: ACUÑA PAC SO | L79: =SUMIF($J$11:$J$74,$K79,F$11:F$74) -> 6 | M79: =SUMIF($J$11:$J$74,$K79,G$11:G$74) -> 0 | N79: =SUMIF($J$11:$J$74,$K79,H$11:H$74) -> 6 | O79: =SUMIF($J$11:$J$74,$K79,I$11:I$74) -> 0
K80: BELLO DANIEL | L80: =SUMIF($J$11:$J$74,$K80,F$11:F$74) -> 2 | M80: =SUMIF($J$11:$J$74,$K80,G$11:G$74) -> 0 | N80: =SUMIF($J$11:$J$74,$K80,H$11:H$74) -> 2 | O80: =SUMIF($J$11:$J$74,$K80,I$11:I$74) -> 0
K81: BIERWIRTH | L81: =SUMIF($J$11:$J$74,$K81,F$11:F$74) -> 0 | M81: =SUMIF($J$11:$J$74,$K81,G$11:G$74) -> 8 | N81: =SUMIF($J$11:$J$74,$K81,H$11:H$74) -> 0 | O81: =SUMIF($J$11:$J$74,$K81,I$11:I$74) -> 8
K82: BUCCAREY FRANCIS | L82: =SUMIF($J$11:$J$74,$K82,F$11:F$74) -> 2 | M82: =SUMIF($J$11:$J$74,$K82,G$11:G$74) -> 0 | N82: =SUMIF($J$11:$J$74,$K82,H$11:H$74) -> 2 | O82: =SUMIF($J$11:$J$74,$K82,I$11:I$74) -> 0
K83: CAMPOS MANUEL | L83: =SUMIF($J$11:$J$74,$K83,F$11:F$74) -> 2 | M83: =SUMIF($J$11:$J$74,$K83,G$11:G$74) -> 0 | N83: =SUMIF($J$11:$J$74,$K83,H$11:H$74) -> 2 | O83: =SUMIF($J$11:$J$74,$K83,I$11:I$74) -> 0
K84: LUCERO ANDRÉS | L84: =SUMIF($J$11:$J$74,$K84,F$11:F$74) -> 2 | M84: =SUMIF($J$11:$J$74,$K84,G$11:G$74) -> 0 | N84: =SUMIF($J$11:$J$74,$K84,H$11:H$74) -> 2 | O84: =SUMIF($J$11:$J$74,$K84,I$11:I$74) -> 0
K85: MALDONADO VALDES GONZALO | L85: =SUMIF($J$11:$J$74,$K85,F$11:F$74) -> 2 | M85: =SUMIF($J$11:$J$74,$K85,G$11:G$74) -> 0 | N85: =SUMIF($J$11:$J$74,$K85,H$11:H$74) -> 2 | O85: =SUMIF($J$11:$J$74,$K85,I$11:I$74) -> 0
K86: MALHUEN T1 | L86: =SUMIF($J$11:$J$74,$K86,F$11:F$74) -> 4 | M86: =SUMIF($J$11:$J$74,$K86,G$11:G$74) -> 2 | N86: =SUMIF($J$11:$J$74,$K86,H$11:H$74) -> 4 | O86: =SUMIF($J$11:$J$74,$K86,I$11:I$74) -> 2
K87: OF DIV 1 | L87: =SUMIF($J$11:$J$74,$K87,F$11:F$74) -> 0 | M87: =SUMIF($J$11:$J$74,$K87,G$11:G$74) -> 2 | N87: =SUMIF($J$11:$J$74,$K87,H$11:H$74) -> 0 | O87: =SUMIF($J$11:$J$74,$K87,I$11:I$74) -> 2
K88: PÉREZ SO IM | L88: =SUMIF($J$11:$J$74,$K88,F$11:F$74) -> 2 | M88: =SUMIF($J$11:$J$74,$K88,G$11:G$74) -> 0 | N88: =SUMIF($J$11:$J$74,$K88,H$11:H$74) -> 2 | O88: =SUMIF($J$11:$J$74,$K88,I$11:I$74) -> 0
K89: QUIROGA CÉSAR | L89: =SUMIF($J$11:$J$74,$K89,F$11:F$74) -> 2 | M89: =SUMIF($J$11:$J$74,$K89,G$11:G$74) -> 0 | N89: =SUMIF($J$11:$J$74,$K89,H$11:H$74) -> 2 | O89: =SUMIF($J$11:$J$74,$K89,I$11:I$74) -> 0
K90: RÍOS JORGE | L90: =SUMIF($J$11:$J$74,$K90,F$11:F$74) -> 2 | M90: =SUMIF($J$11:$J$74,$K90,G$11:G$74) -> 0 | N90: =SUMIF($J$11:$J$74,$K90,H$11:H$74) -> 2 | O90: =SUMIF($J$11:$J$74,$K90,I$11:I$74) -> 0
... K99: ZANELLI VÍCTOR | L99: =SUMIF($J$11:$J$74,$K99,F$11:F$74) -> 2 | M99: =SUMIF($J$11:$J$74,$K99,G$11:G$74) -> 0 | N99: =SUMIF($J$11:$J$74,$K99,H$11:H$74) -> 2 | O99: =SUMIF($J$11:$J$74,$K99,I$11:I$74) -> 0
L101: =SUM(L79:O99) -> 138

Sheet SEGURIDAD
B1: Escuela Naval "A. Prat"
B2: Departamento Educación
B3: Unidad de Coordinación Académica
B5: HORAS DE CLASES POR CURSO - PROFESOR
B6: AÑO ACADÉMICO 2025
B7: CÁTEDRA : | E7: FORMACIÓN NAVAL
E8: HORAS SEMANALES
F9: 1er SEM. | H9: 2º SEM.
B10: CURSO | D10: CÁTEDRA | E10: ASIGNATURAS | F10: SIST. | G10: LAB | H10: SIST. | I10: LAB | J10: PROFESOR
B11: 4to EJ | C11: A | D11: FORMACIÓN NAVAL | E11: SEGURIDAD | H11: 2 | J11: NN 2 SEGURIDAD
B12: 4to EJ | C12: B | D12: FORMACIÓN NAVAL | E12: SEGURIDAD | H12: 2 | J12: PIZARRO T1
B13: 4to EJ | C13: C | D13: FORMACIÓN NAVAL | E13: SEGURIDAD | H13: 2 | J13: NN 1 SEGURIDAD
H15: =SUM(H11:H14) -> 6
K17: RESUMEN | L17: 1 Sem | M17: LAB | N17: 2 Sem | O17: LAB
K18: NN 2 SEGURIDAD | L18: =SUMIF($J$11:$J$13,$K18,F$11:F$13) -> 0 | M18: =SUMIF($J$11:$J$13,$K18,G$11:G$13) -> 0 | N18: =SUMIF($J$11:$J$13,$K18,H$11:H$13) -> 2 | O18: =SUMIF($J$11:$J$13,$K18,I$11:I$13) -> 0
K19: PIZARRO T1 | L19: =SUMIF($J$11:$J$13,$K19,F$11:F$13) -> 0 | M19: =SUMIF($J$11:$J$13,$K19,G$11:G$13) -> 0 | N19: =SUMIF($J$11:$J$13,$K19,H$11:H$13) -> 2 | O19: =SUMIF($J$11:$J$13,$K19,I$11:I$13) -> 0
K20: NN 1 SEGURIDAD | L20: =SUMIF($J$11:$J$13,$K20,F$11:F$13) -> 0 | M20: =SUMIF($J$11:$J$13,$K20,G$11:G$13) -> 0 | N20: =SUMIF($J$11:$J$13,$K20,H$11:H$13) -> 2 | O20: =SUMIF($J$11:$J$13,$K20,I$11:I$13) -> 0
O24: =SUM(L18:O21) -> 6

Sheet LENGUAJE
A1: Escuela Naval "A. Prat"
A2: Departamento Educación
A3: Unidad de Coordinación Académica
A5: HORAS DE CLASES POR CURSO - PROFESOR
A6: AÑO ACADÉMICO 2025
A7: CÁTEDRA : | D7: LENGUA CASTELLANA
D8: HORAS SEMANALES
A9: CURSO | C9: CÁTEDRA | D9: ASIGNATURAS | E9: 1er SEM. | G9: 2º SEM. | I9: PROFESOR
E10: SIST. | F10: LAB | G10: SIST. | H10: LAB
K11: 0 | L11: 0 | M11: 0 | N11: 0
A12: 1ro | B12: A | C12: LENGUAJE | D12: ESCRITURA, ORALIDAD Y ARGUMENTACION I (PHI) .1 | E12: 6 | I12: CAMPOS VALESKA | K12: =E12 -> 6 | L12: =F12 -> 0 | M12: =G12 -> 0 | N12: =H12 -> 0
A13: 1ro | B13: A | C13: LENGUAJE | D13: ESCRITURA, ORALIDAD Y ARGUMENTACION I (PHI) .2 | G13: 4 | I13: CAMPOS VALESKA | K13: =E13 -> 0 | L13: =F13 -> 0 | M13: =G13 -> 4 | N13: =H13 -> 0
A14: 1ro | B14: B | C14: LENGUAJE | D14: ESCRITURA, ORALIDAD Y ARGUMENTACION I (PHI) .1 | E14: 6 | I14: ARENTSEN CHRISTIANE | K14: =E14 -> 6 | L14: =F14 -> 0 | M14: =G14 -> 0 | N14: =H14 -> 0
A15: 1ro | B15: B | C15: LENGUAJE | D15: ESCRITURA, ORALIDAD Y ARGUMENTACION I (PHI) .2 | G15: 4 | I15: ARENTSEN CHRISTIANE | K15: =E15 -> 0 | L15: =F15 -> 0 | M15: =G15 -> 4 | N15: =H15 -> 0
A16: 1ro | B16: C | C16: LENGUAJE | D16: ESCRITURA, ORALIDAD Y ARGUMENTACION I (PHI) .1 | E16: 6 | I16: CAMPOS VALESKA | K16: =E16 -> 6 | L16: =F16 -> 0 | M16: =G16 -> 0 | N16: =H16 -> 0
A17: 1ro | B17: C | C17: LENGUAJE | D17: ESCRITURA, ORALIDAD Y ARGUMENTACION I (PHI) .2 | G17: 4 | I17: CAMPOS VALESKA | K17: =E17 -> 0 | L17: =F17 -> 0 | M17: =G17 -> 4 | N17: =H17 -> 0
A18: 1ro | B18: D | C18: LENGUAJE | D18: ESCRITURA, ORALIDAD Y ARGUMENTACION I (PHI) .1 | E18: 6 | I18: ARENTSEN CHRISTIANE | K18: =E18 -> 6 | L18: =F18 -> 0 | M18: =G18 -> 0 | N18: =H18 -> 0
A19: 1ro | B19: D | C19: LENGUAJE | D19: ESCRITURA, ORALIDAD Y ARGUMENTACION I (PHI) .2 | G19: 4 | I19: ARENTSEN CHRISTIANE | K19: =E19 -> 0 | L19: =F19 -> 0 | M19: =G19 -> 4 | N19: =H19 -> 0
A20: 1ro | B20: E | C20: LENGUAJE | D20: ESCRITURA, ORALIDAD Y ARGUMENTACION I (PHI) .1 | E20: 6 | I20: CAMPOS VALESKA | K20: =E20 -> 6 | L20: =F20 -> 0 | M20: =G20 -> 0 | N20: =H20 -> 0
A21: 1ro | B21: E | C21: LENGUAJE | D21: ESCRITURA, ORALIDAD Y ARGUMENTACION I (PHI) .2 | G21: 4 | I21: CAMPOS VALESKA | K21: =E21 -> 0 | L21: =F21 -> 0 | M21: =G21 -> 4 | N21: =H21 -> 0
A22: 1ro | B22: H | C22: LENGUAJE | D22: ESCRITURA, ORALIDAD Y ARGUMENTACION I (PHI) .1 | E22: 6 | I22: ARENTSEN CHRISTIANE | K22: =E22 -> 6 | L22: =F22 -> 0 | M22: =G22 -> 0 | N22: =H22 -> 0
A23: 1ro | B23: H | C23: LENGUAJE | D23: ESCRITURA, ORALIDAD Y ARGUMENTACION I (PHI) .2 | G23: 4 | I23: ARENTSEN CHRISTIANE | K23: =E23 -> 0 | L23: =F23 -> 0 | M23: =G23 -> 4 | N23: =H23 -> 0
A24: 1ro | B24: K | C24: LENGUAJE | D24: ESCRITURA, ORALIDAD Y ARGUMENTACION I (PHI) .1 | E24: 6 | I24: NUÑEZ MIGUEL | K24: =E24 -> 6 | L24: =F24 -> 0 | M24: =G24 -> 0 | N24: =H24 -> 0
A25: 1ro | B25: K | C25: LENGUAJE | D25: ESCRITURA, ORALIDAD Y ARGUMENTACION I (PHI) .2 | G25: 4 | I25: ARENTSEN CHRISTIANE | K25: =E25 -> 0 | L25: =F25 -> 0 | M25: =G25 -> 4 | N25: =H25 -> 0
A26: 2do EJ | B26: A | C26: LENGUAJE | D26: HABILIDADES LINGÜÍSTICAS II | E26: 2 | I26: CAMPOS VALESKA | K26: =E26 -> 2 | L26: =F26 -> 0 | M26: =G26 -> 0 | N26: =H26 -> 0
A27: 2do EJ | B27: B | C27: LENGUAJE | D27: HABILIDADES LINGÜÍSTICAS II | E27: 2 | I27: CAMPOS VALESKA | K27: =E27 -> 2 | L27: =F27 -> 0 | M27: =G27 -> 0 | N27: =H27 -> 0
A28: 2do EJ | B28: C | C28: LENGUAJE | D28: HABILIDADES LINGÜÍSTICAS II | E28: 2 | I28: CAMPOS VALESKA | K28: =E28 -> 2 | L28: =F28 -> 0 | M28: =G28 -> 0 | N28: =H28 -> 0
A29: 2do EJ | B29: D | C29: LENGUAJE | D29: HABILIDADES LINGÜÍSTICAS II | E29: 2 | I29: ARENTSEN CHRISTIANE | K29: =E29 -> 2 | L29: =F29 -> 0 | M29: =G29 -> 0 | N29: =H29 -> 0
A30: 2do EJ | B30: E | C30: LENGUAJE | D30: HABILIDADES LINGÜÍSTICAS II | E30: 2 | I30: CAMPOS VALESKA | J30: 2E | K30: =E30 -> 2 | L30: =F30 -> 0 | M30: =G30 -> 0 | N30: =H30 -> 0
A31: 2do AB | C31: LENGUAJE | D31: HABILIDADES LINGÜÍSTICAS II | G31: 2 | I31: CAMPOS VALESKA | K31: =E31 -> 0 | L31: =F31 -> 0 | M31: =G31 -> 2 | N31: =H31 -> 0
A32: 2do IM | C32: LENGUAJE | D32: HABILIDADES LINGÜÍSTICAS II | G32: 2 | I32: CAMPOS VALESKA | K32: =E32 -> 0 | L32: =F32 -> 0 | M32: =G32 -> 2 | N32: =H32 -> 0
A33: 2do LT | C33: LENGUAJE | D33: HABILIDADES LINGÜÍSTICAS II | G33: 2 | I33: ARENTSEN CHRISTIANE | K33: =E33 -> 0 | L33: =F33 -> 0 | M33: =G33 -> 2 | N33: =H33 -> 0
K34: =E34 -> 0 | L34: =F34 -> 0 | M34: =G34 -> 0 | N34: =H34 -> 0
D35: CARGA 2025 | E35: =+SUM(E12:E33) -> 52 | G35: =+SUM(G12:G33) -> 34 | I35: =+G35+E35 -> 86
D36: CARGA 2024 | E36: 46 | G36: 28 | I36: 74
I38: RESUMEN | J38: 1° Sem | L38: 2° Sem | BN38: 0 | BO38: 0
I39: ARENTSEN CHRISTIANE | J39: =SUMIF($I$11:$N$33,$I39,K$11:K$33) -> 20 | L39: =SUMIF($I$11:$N$33,$I39,M$11:M$33) -> 18
I40: CAMPOS VALESKA | J40: =SUMIF($I$11:$N$33,$I40,K$11:K$33) -> 26 | L40: =SUMIF($I$11:$N$33,$I40,M$11:M$33) -> 16
I41: NUÑEZ MIGUEL | J41: =SUMIF($I$11:$N$33,$I41,K$11:K$33) -> 6 | L41: =SUMIF($I$11:$N$33,$I41,M$11:M$33) -> 0
J45: =SUM(J39:L43) -> 86

Sheet HISTORIA
A1: Escuela Naval "A. Prat"
A2: Departamento Educación
A3: Unidad de Coordinación Académica
A5: HORAS DE CLASES POR CURSO - PROFESOR
A6: AÑO ACADÉMICO 2025
A7: CÁTEDRA : | D7: HISTORIA
D8: HORAS SEMANALES
A9: CURSO | C9: CÁTEDRA | D9: ASIGNATURAS | E9: 1er SEM. | G9: 2º SEM. | I9: PROFESOR
E10: SIST. | F10: LAB | G10: SIST. | H10: LAB
A12: 1ro | B12: A | C12: HISTORIA | D12: GEOGRAFÍA MARÍTIMA E HISTORIA DE LA CULTURA .1 | E12: 2 | I12: ROMÁN LORENA
A13: 1ro | B13: A | C13: HISTORIA | D13: GEOGRAFÍA MARÍTIMA E HISTORIA DE LA CULTURA .1 | G13: 2 | I13: RÍOS JORGE
A14: 1ro | B14: B | C14: HISTORIA | D14: GEOGRAFÍA MARÍTIMA E HISTORIA DE LA CULTURA .1 | E14: 2 | I14: ROMÁN LORENA
A15: 1ro | B15: B | C15: HISTORIA | D15: GEOGRAFÍA MARÍTIMA E HISTORIA DE LA CULTURA .1 | G15: 2 | I15: RÍOS JORGE
A16: 1ro | B16: C | C16: HISTORIA | D16: GEOGRAFÍA MARÍTIMA E HISTORIA DE LA CULTURA .1 | E16: 2 | I16: RÍOS JORGE
A17: 1ro | B17: C | C17: HISTORIA | D17: GEOGRAFÍA MARÍTIMA E HISTORIA DE LA CULTURA .2 | G17: 2 | I17: RÍOS JORGE
A18: 1ro | B18: D | C18: HISTORIA | D18: GEOGRAFÍA MARÍTIMA E HISTORIA DE LA CULTURA .1 | E18: 2 | I18: RÍOS JORGE
A19: 1ro | B19: D | C19: HISTORIA | D19: GEOGRAFÍA MARÍTIMA E HISTORIA DE LA CULTURA .2 | G19: 2 | I19: RÍOS JORGE
A20: 1ro | B20: E | C20: HISTORIA | D20: GEOGRAFÍA MARÍTIMA E HISTORIA DE LA CULTURA .1 | E20: 2 | I20: RÍOS JORGE
A21: 1ro | B21: E | C21: HISTORIA | D21: GEOGRAFÍA MARÍTIMA E HISTORIA DE LA CULTURA .2 | G21: 2 | I21: RÍOS JORGE
A22: 1ro | B22: H | C22: HISTORIA | D22: GEOGRAFÍA MARÍTIMA E HISTORIA DE LA CULTURA .1 | E22: 2 | I22: RÍOS JORGE
A23: 1ro | B23: H | C23: HISTORIA | D23: GEOGRAFÍA MARÍTIMA E HISTORIA DE LA CULTURA .2 | G23: 2 | I23: RÍOS JORGE
A24: 1ro | B24: K | C24: HISTORIA | D24: GEOGRAFÍA MARÍTIMA E HISTORIA DE LA CULTURA .1 | E24: 2 | I24: ROMÁN LORENA
A25: 1ro | B25: K | C25: HISTORIA | D25: GEOGRAFÍA MARÍTIMA E HISTORIA DE LA CULTURA .2 | G25: 2 | I25: RÍOS JORGE
A26: 2do AB | C26: HISTORIA | D26: CHILE: HISTORIA Y SOBERANÍA | E26: 4 | I26: ROMÁN LORENA
A27: 2do LT | C27: HISTORIA | D27: CHILE: HISTORIA Y SOBERANÍA | G27: 4 | I27: RÍOS JORGE
A28: 3ro EJ | B28: A | C28: HISTORIA | D28: CHILE: HISTORIA Y SOBERANÍA | E28: 4 | I28: RÍOS JORGE
A29: 3ro EJ | B29: B | C29: HISTORIA | D29: CHILE: HISTORIA Y SOBERANÍA | E29: 4 | I29: ROMÁN LORENA
A30: 3ro EJ | B30: C | C30: HISTORIA | D30: CHILE: HISTORIA Y SOBERANÍA | E30: 4 | I30: ROMÁN LORENA
A31: 3ro EJ | B31: D | C31: HISTORIA | D31: CHILE: HISTORIA Y SOBERANÍA | E31: 4 | I31: ROMÁN LORENA
A32: 4to EJ | B32: A | C32: HISTORIA | D32: ANÁLISIS DE LA REALIDAD NACIONAL E INTERNACIONAL | E32: 2 | I32: RAMÍREZ BLANCA
A33: 4to EJ | B33: B | C33: HISTORIA | D33: ANÁLISIS DE LA REALIDAD NACIONAL E INTERNACIONAL | E33: 2 | I33: RÍOS JORGE
A34: 4to EJ | B34: C | C34: HISTORIA | D34: ANÁLISIS DE LA REALIDAD NACIONAL E INTERNACIONAL | E34: 2 | I34: RÍOS JORGE
A35: 4to IM | C35: HISTORIA | D35: CHILE: HISTORIA Y SOBERANÍA | E35: 4 | I35: RAMÍREZ BLANCA
A36: 4to IM | C36: HISTORIA | D36: ANÁLISIS DE LA REALIDAD NACIONAL E INTERNACIONAL | G36: 2 | I36: RAMÍREZ BLANCA
A37: 4to AB | C37: HISTORIA | D37: ANÁLISIS DE LA REALIDAD NACIONAL E INTERNACIONAL | E37: 2 | I37: RÍOS JORGE
A38: 4to LT | C38: HISTORIA | D38: ANÁLISIS DE LA REALIDAD NACIONAL E INTERNACIONAL | E38: 0 | G38: 2 | I38: RÍOS JORGE
D40: CARGA 2025 | E40: =+SUM(E12:E38) -> 46 | G40: =+SUM(G12:G38) -> 22 | I40: =+SUM(E40:G40) -> 68
D41: CARGA 2024 | E41: 46 | G41: 20 | I41: 66
I43: RESUMEN | J43: 1 Sem | L43: 2 Sem
I45: RAMÍREZ BLANCA | J45: =SUMIF($I$11:$I$38,$I45,E$11:E$38) -> 6 | L45: =SUMIF($I$11:$I$38,$I45,G$11:G$38) -> 2
I46: RÍOS JORGE | J46: =SUMIF($I$11:$I$38,$I46,E$11:E$38) -> 18 | L46: =SUMIF($I$11:$I$38,$I46,G$11:G$38) -> 20
I47: ROMÁN LORENA | J47: =SUMIF($I$11:$I$38,$I47,E$11:E$38) -> 22 | L47: =SUMIF($I$11:$I$38,$I47,G$11:G$38) -> 0
J48: =SUMIF($I$11:$I$38,$I48,E$11:E$38) -> 0 | L48: =SUMIF($I$11:$I$38,$I48,G$11:G$38) -> 0
L50: =SUM(J44:L48) -> 68

Sheet HIST NAV 
A1: Escuela Naval "A. Prat"
A2: Departamento Educación
A3: Unidad de Coordinación Académica
A5: HORAS DE CLASES POR CURSO - PROFESOR
A6: AÑO ACADÉMICO 2025
A7: CÁTEDRA : | D7: HISTORIA
D8: HORAS SEMANALES
A9: CURSO | C9: CÁTEDRA | D9: ASIGNATURAS | E9: 1er SEM. | G9: 2º SEM. | I9: PROFESOR
E10: SIST. | F10: LAB | G10: SIST. | H10: LAB
A12: 3ro Ej | B12: A | C12: HISTORIA | D12: HISTORIA NAVAL APLICADA .1 | E12: 4 | I12: SORIA-GALVARRO RODOLFO
A13: 3ro Ej | B13: A | C13: HISTORIA | D13: HISTORIA NAVAL APLICADA .2 | G13: 2 | I13: SORIA-GALVARRO RODOLFO
A14: 3ro Ej | B14: B | C14: HISTORIA | D14: HISTORIA NAVAL APLICADA .1 | E14: 4 | I14: SORIA-GALVARRO RODOLFO
A15: 3ro Ej | B15: B | C15: HISTORIA | D15: HISTORIA NAVAL APLICADA .2 | G15: 2 | I15: SORIA-GALVARRO RODOLFO
A16: 3ro Ej | B16: C | C16: HISTORIA | D16: HISTORIA NAVAL APLICADA .1 | E16: 4 | I16: SORIA-GALVARRO RODOLFO
A17: 3ro Ej | B17: C | C17: HISTORIA | D17: HISTORIA NAVAL APLICADA .2 | G17: 2 | I17: SORIA-GALVARRO RODOLFO
A18: 3ro Ej | B18: D | C18: HISTORIA | D18: HISTORIA NAVAL APLICADA .1 | E18: 4 | I18: SORIA-GALVARRO RODOLFO
A19: 3ro Ej | B19: D | C19: HISTORIA | D19: HISTORIA NAVAL APLICADA .2 | G19: 2 | I19: SORIA-GALVARRO RODOLFO
A20: 3ro IM | C20: HISTORIA | D20: HISTORIA NAVAL APLICADA IM .1 | E20: 2 | I20: SORIA-GALVARRO RODOLFO
A21: 3ro IM | C21: HISTORIA | D21: HISTORIA NAVAL APLICADA IM .2 | G21: 4 | I21: SORIA-GALVARRO RODOLFO
A22: 3ro AB | C22: HISTORIA | D22: HISTORIA NAVAL APLICADA .1 | E22: 2 | I22: SORIA-GALVARRO RODOLFO
A23: 3ro AB | C23: HISTORIA | D23: HISTORIA NAVAL APLICADA .2 | G23: 4 | I23: SORIA-GALVARRO RODOLFO
A24: 3ro LT | C24: HISTORIA | D24: HISTORIA NAVAL APLICADA .1 | E24: 4 | I24: QUIROGA CESAR
A25: 3ro LT | C25: HISTORIA | D25: HISTORIA NAVAL APLICADA .2 | G25: 2 | I25: QUIROGA CESAR
D28: CARGA 2025 | E28: =+SUM(E12:E25) -> 24 | G28: =+SUM(G12:G25) -> 18 | I28: =+SUM(E28:G28) -> 42
D29: CARGA 2024 | E29: 24 | G29: 18 | I29: 42
I31: RESUMEN | J31: 1° Sem | L31: 2° Sem
I32: SORIA-GALVARRO RODOLFO | J32: =SUMIF($I$11:$I$25,$I32,E$11:E$25) -> 20 | L32: =SUMIF($I$11:$I$25,$I32,G$11:G$25) -> 16
I33: QUIROGA CESAR | J33: =SUMIF($I$11:$I$25,$I33,E$11:E$25) -> 4 | L33: =SUMIF($I$11:$I$25,$I33,G$11:G$25) -> 2
L35: =SUM(J32:L33) -> 42

Sheet DEREC
A1: Escuela Naval "A. Prat"
A2: Departamento Educación
A3: Unidad de Coordinación Académica
A5: HORAS DE CLASES POR CURSO - PROFESOR
A6: AÑO ACADÉMICO 2025
A7: CÁTEDRA : | D7: EDUCACIÓN CÍVICA Y DERECHO
D8: HORAS SEMANALES
A9: CURSO | C9: CÁTEDRA | D9: ASIGNATURAS | E9: 1er SEM. | G9: 2º SEM. | I9: PROFESOR
E10: SIST. | F10: LAB | G10: SIST. | H10: LAB
A12: 4to EJ | B12: A | C12: DERECHO | D12: DERECHO | G12: 4 | I12: SILVA DIEGO
A13: 4to EJ | B13: B | C13: DERECHO | D13: DERECHO | G13: 4 | I13: SILVA DIEGO
A14: 4to EJ | B14: C | C14: DERECHO | D14: DERECHO | G14: 4 | I14: CELIS ALEJANDRO
A15: 4to AB | C15: DERECHO | D15: DERECHO | G15: 4 | I15: SILVA DIEGO
A16: 4to IM | C16: DERECHO | D16: DERECHO | G16: 4 | I16: MELLA HERNÁN
A17: 4to LT | C17: DERECHO | D17: DERECHO I LT | E17: 4 | I17: SILVA DIEGO | J17: cambios en contenidos
A18: 4to EJ | B18: A | C18: DERECHO | D18: ED CÍVICA | G18: 2 | I18: SIMS EDUARDO
A19: 4to EJ | B19: B | C19: DERECHO | D19: ED CÍVICA | G19: 2 | I19: ROMÁN LORENA
A20: 4to EJ | B20: C | C20: DERECHO | D20: ED CÍVICA | G20: 2 | I20: ROMÁN LORENA
A21: 4to AB | C21: DERECHO | D21: ED CÍVICA | G21: 2 | I21: ROMÁN LORENA
A22: 4to IM | C22: DERECHO | D22: ED CÍVICA | G22: 2 | I22: RAMÍREZ BLANCA
A23: 4to LT | C23: DERECHO | D23: ED CÍVICA | G23: 2 | I23: RAMÍREZ BLANCA
E25: =+SUM(E12:E23) -> 4 | G25: =+SUM(G12:G23) -> 32 | I25: =+SUM(E25:G25) -> 36
D26: CARGA 2024 | E26: 4 | G26: 32 | I26: 36
I28: RESUMEN | J28: 1° Sem | L28: 2° Sem
I29: CELIS ALEJANDRO | J29: =SUMIF($I$11:$I$23,$I29,E$11:E$23) -> 0 | L29: =SUMIF($I$11:$I$23,$I29,G$11:G$23) -> 4
I30: MELLA HERNÁN | J30: =SUMIF($I$11:$I$23,$I30,E$11:E$23) -> 0 | L30: =SUMIF($I$11:$I$23,$I30,G$11:G$23) -> 4
I31: RAMÍREZ BLANCA | J31: =SUMIF($I$11:$I$23,$I31,E$11:E$23) -> 0 | L31: =SUMIF($I$11:$I$23,$I31,G$11:G$23) -> 4
I32: ROMÁN LORENA | J32: =SUMIF($I$11:$I$23,$I32,E$11:E$23) -> 0 | L32: =SUMIF($I$11:$I$23,$I32,G$11:G$23) -> 6
I33: SILVA DIEGO | J33: =SUMIF($I$11:$I$23,$I33,E$11:E$23) -> 4 | L33: =SUMIF($I$11:$I$23,$I33,G$11:G$23) -> 12
I34: SIMS EDUARDO | J34: =SUMIF($I$11:$I$23,$I34,E$11:E$23) -> 0 | L34: =SUMIF($I$11:$I$23,$I34,G$11:G$23) -> 2
L36: =SUM(J29:L34) -> 36

Sheet FILOSOF
A1: Escuela Naval "A. Prat"
A2: Departamento Educación
A3: Unidad de Coordinación Académica
A5: HORAS DE CLASES POR CURSO - PROFESOR
A6: AÑO ACADÉMICO 2025
A7: CÁTEDRA : | D7: FILOSOFÍA, ÉTICA Y MORAL
D8: HORAS SEMANALES
A9: CURSO | C9: CÁTEDRA | D9: ASIGNATURAS | E9: 1er SEM. | G9: 2º SEM. | I9: PROFESOR
E10: SIST. | F10: LAB | G10: SIST. | H10: LAB
A12: 1ro | B12: A | C12: =+$D$7 -> FILOSOFÍA, ÉTICA Y MORAL | D12: FILOSOFÍA, ÉTICA Y MORAL (PHI) .1 | E12: 4 | I12: MAYNE-NICHOLLS MICHAEL
A13: 1ro | B13: A | C13: =+$D$7 -> FILOSOFÍA, ÉTICA Y MORAL | D13: FILOSOFÍA, ÉTICA Y MORAL (PHI) .2 | G13: 4 | I13: MAYNE-NICHOLLS MICHAEL
A14: 1ro | B14: B | C14: =+$D$7 -> FILOSOFÍA, ÉTICA Y MORAL | D14: FILOSOFÍA, ÉTICA Y MORAL (PHI) .1 | E14: 4 | I14: MAYNE-NICHOLLS MICHAEL
A15: 1ro | B15: B | C15: =+$D$7 -> FILOSOFÍA, ÉTICA Y MORAL | D15: FILOSOFÍA, ÉTICA Y MORAL (PHI) .2 | G15: 4 | I15: MAYNE-NICHOLLS MICHAEL
A16: 1ro | B16: C | C16: =+$D$7 -> FILOSOFÍA, ÉTICA Y MORAL | D16: FILOSOFÍA, ÉTICA Y MORAL (PHI) .1 | E16: 4 | I16: MAYNE-NICHOLLS MICHAEL
A17: 1ro | B17: C | C17: =+$D$7 -> FILOSOFÍA, ÉTICA Y MORAL | D17: FILOSOFÍA, ÉTICA Y MORAL (PHI) .2 | G17: 4 | I17: MAYNE-NICHOLLS MICHAEL
A18: 1ro | B18: D | C18: =+$D$7 -> FILOSOFÍA, ÉTICA Y MORAL | D18: FILOSOFÍA, ÉTICA Y MORAL (PHI) .1 | E18: 4 | I18: MAYNE-NICHOLLS MICHAEL
A19: 1ro | B19: D | C19: =+$D$7 -> FILOSOFÍA, ÉTICA Y MORAL | D19: FILOSOFÍA, ÉTICA Y MORAL (PHI) .2 | G19: 4 | I19: MAYNE-NICHOLLS MICHAEL
A20: 1ro | B20: K | C20: =+$D$7 -> FILOSOFÍA, ÉTICA Y MORAL | D20: FILOSOFÍA, ÉTICA Y MORAL (PHI) .1 | E20: 4 | I20: MAYNE-NICHOLLS MICHAEL
A21: 1ro | B21: K | C21: =+$D$7 -> FILOSOFÍA, ÉTICA Y MORAL | D21: FILOSOFÍA, ÉTICA Y MORAL (PHI) .2 | G21: 4 | I21: MAYNE-NICHOLLS MICHAEL
A22: 1ro | B22: H | C22: =+$D$7 -> FILOSOFÍA, ÉTICA Y MORAL | D22: FILOSOFÍA, ÉTICA Y MORAL (PHI) .1 | E22: 4 | I22: MAYNE-NICHOLLS MICHAEL
A23: 1ro | B23: H | C23: =+$D$7 -> FILOSOFÍA, ÉTICA Y MORAL | D23: FILOSOFÍA, ÉTICA Y MORAL (PHI) .2 | G23: 4 | I23: MAYNE-NICHOLLS MICHAEL
A24: 1ro | B24: E | C24: =+$D$7 -> FILOSOFÍA, ÉTICA Y MORAL | D24: FILOSOFÍA, ÉTICA Y MORAL (PHI) .1 | E24: 4 | I24: MAYNE-NICHOLLS MICHAEL
A25: 1ro | B25: E | C25: =+$D$7 -> FILOSOFÍA, ÉTICA Y MORAL | D25: FILOSOFÍA, ÉTICA Y MORAL (PHI) .2 | G25: 4 | I25: MAYNE-NICHOLLS MICHAEL
D27: CARGA 2025 | E27: =+SUM(E12:E25) -> 28 | G27: =+SUM(G12:G25) -> 28 | I27: =+G27+E27 -> 56
D28: CARGA 2024 | E28: 26 | G28: 26 | I28: =+G28+E28 -> 52
I30: RESUMEN | J30: 1° Sem | L30: 2° Sem
I31: MAYNE-NICHOLLS MICHAEL | J31: =SUMIF($I$11:$I$25,$I31,E$11:E$25) -> 28 | L31: =SUMIF($I$11:$I$25,$I31,G$11:G$25) -> 28
L35: =SUM(J31:L33) -> 56

Sheet PSICOL 
A1: Escuela Naval "A. Prat"
A2: Departamento Educación
A3: Unidad de Coordinación Académica
A5: HORAS DE CLASES POR CURSO - PROFESOR
A6: AÑO ACADÉMICO 2025
A7: CÁTEDRA : | D7: PSICOLOGÍA
D8: HORAS SEMANALES
A9: CURSO | C9: CÁTEDRA | D9: ASIGNATURAS | E9: 1er SEM. | G9: 2º SEM. | I9: PROFESOR
E10: SIST. | F10: LAB | G10: SIST. | H10: LAB
K11: 0 | L11: 0 | M11: 0 | N11: 0
A12: 2do EJ | B12: A | C12: PSICOLOGÍA | D12: PSICOLOGÍA APLICADA AL MANDO A | E12: 2 | G12: 2 | I12: LUCERO ANDRÉS
A13: 2do EJ | B13: B | C13: PSICOLOGÍA | D13: PSICOLOGÍA APLICADA AL MANDO | E13: 2 | G13: 2 | I13: LUCERO ANDRÉS
A14: 2do EJ | B14: C | C14: PSICOLOGÍA | D14: PSICOLOGÍA APLICADA AL MANDO | E14: 2 | G14: 2 | I14: LUCERO ANDRÉS
A15: 2do EJ | B15: D | C15: PSICOLOGÍA | D15: PSICOLOGÍA APLICADA AL MANDO | E15: 2 | G15: 2 | I15: LUCERO ANDRÉS
A16: 2do EJ | B16: E | C16: PSICOLOGÍA | D16: PSICOLOGÍA APLICADA AL MANDO | G16: 2 | I16: LUCERO ANDRÉS | J16: 2E
A17: 2do IM Mod | C17: PSICOLOGÍA | D17: PSICOLOGÍA APLICADA AL MANDO IM | E17: 6 | I17: LUCERO ANDRÉS
A18: 2do AB | C18: PSICOLOGÍA | D18: PSICOLOGÍA APLICADA AL MANDO | E18: 2 | G18: 2 | I18: LUCERO ANDRÉS
A19: 2do LT | C19: PSICOLOGÍA | D19: PSICOLOGÍA APLICADA AL MANDO | G19: 4 | I19: LUCERO ANDRÉS
D21: CARGA 2025 | E21: =+SUM(E12:E19) -> 16 | G21: =+SUM(G12:G19) -> 16 | I21: =+SUM(E21:G21) -> 32
D22: CARGA 2024 | E22: 18 | G22: 14 | I22: =+SUM(E22:G22) -> 32
I24: RESUMEN | J24: 1° Sem | L24: 2° Sem
I25: LUCERO ANDRÉS | J25: =SUMIF($I$11:$I$19,$I25,E$11:E$19) -> 16 | L25: =SUMIF($I$11:$I$19,$I25,G$11:G$19) -> 16
J26: =SUMIF($I$11:$N$19,$I26,K$11:K$19) -> 0 | L26: =SUMIF($I$11:$N$19,$I26,M$11:M$19) -> 0
L28: =SUM(J25:L26) -> 32

Sheet MANDO
A1: Escuela Naval "A. Prat"
A2: Departamento Educación
A3: Unidad de Coordinación Académica
A5: HORAS DE CLASES POR CURSO - PROFESOR
A6: AÑO ACADÉMICO 2025
A7: CÁTEDRA : | D7: MANDO Y LIDERAZGO
D8: HORAS SEMANALES
A9: CURSO | C9: CÁTEDRA | D9: ASIGNATURAS | E9: 1er SEM. | G9: 2º SEM. | I9: PROFESOR
E10: SIST. | F10: LAB | G10: SIST. | H10: LAB
A11: 1ro | B11: A | C11: MANDO Y LIDERAZGO | D11: FUNDAMENTOS NAVALES A .1 | E11: 2 | I11: OFICIAL DE DIVISIÓN | J11: T1 SANCHEZ
A12: 1ro | B12: A | C12: MANDO Y LIDERAZGO | D12: FUNDAMENTOS NAVALES A .2 | G12: 2 | I12: MALDONADO GONZALO
A13: 1ro | B13: B | C13: MANDO Y LIDERAZGO | D13: FUNDAMENTOS NAVALES .1 | E13: 2 | I13: MALDONADO GONZALO
A14: 1ro | B14: B | C14: MANDO Y LIDERAZGO | D14: FUNDAMENTOS NAVALES .2 | G14: 2 | I14: OFICIAL DE DIVISIÓN | J14: T1 SANCHEZ
A15: 1ro | B15: C | C15: MANDO Y LIDERAZGO | D15: FUNDAMENTOS NAVALES .1 | E15: 2 | I15: OFICIAL DE DIVISIÓN | J15: T1 CASAS-CORDERO
A16: 1ro | B16: C | C16: MANDO Y LIDERAZGO | D16: FUNDAMENTOS NAVALES .2 | G16: 2 | I16: MALDONADO GONZALO
A17: 1ro | B17: D | C17: MANDO Y LIDERAZGO | D17: FUNDAMENTOS NAVALES .1 | E17: 2 | I17: MALDONADO GONZALO
A18: 1ro | B18: D | C18: MANDO Y LIDERAZGO | D18: FUNDAMENTOS NAVALES .2 | G18: 2 | I18: OFICIAL DE DIVISIÓN | J18: T1 SILVA
A19: 1ro | B19: E | C19: MANDO Y LIDERAZGO | D19: FUNDAMENTOS NAVALES .1 | E19: 2 | I19: OFICIAL DE DIVISIÓN | J19: T1 SILVA
A20: 1ro | B20: E | C20: MANDO Y LIDERAZGO | D20: FUNDAMENTOS NAVALES .2 | G20: 2 | I20: MALDONADO GONZALO
A21: 1ro | B21: H | C21: MANDO Y LIDERAZGO | D21: FUNDAMENTOS NAVALES .1 | E21: 2 | I21: MALDONADO GONZALO
A22: 1ro | B22: H | C22: MANDO Y LIDERAZGO | D22: FUNDAMENTOS NAVALES .2 | G22: 2 | I22: OFICIAL DE DIVISIÓN
A23: 1ro | B23: K | C23: MANDO Y LIDERAZGO | D23: FUNDAMENTOS NAVALES .1 | E23: 2 | I23: MALDONADO GONZALO
A24: 1ro | B24: K | C24: MANDO Y LIDERAZGO | D24: FUNDAMENTOS NAVALES .2 | G24: 2 | I24: OFICIAL DE DIVISIÓN | J24: T1 CASAS-CORDERO
A25: 3ro Ej | B25: A | C25: MANDO Y LIDERAZGO | D25: MANDO Y LIDERAZGO I .1 | E25: 4 | I25: KEITEL JORGE
A26: 3ro Ej | B26: A | C26: MANDO Y LIDERAZGO | D26: MANDO Y LIDERAZGO I .2 | G26: 4 | I26: SIMS EDUARDO
A27: 3ro Ej | B27: B | C27: MANDO Y LIDERAZGO | D27: MANDO Y LIDERAZGO I .1 | E27: 4 | I27: KEITEL JORGE
A28: 3ro Ej | B28: B | C28: MANDO Y LIDERAZGO | D28: MANDO Y LIDERAZGO I .2 | G28: 4 | I28: SIMS EDUARDO
A29: 3ro Ej | B29: C | C29: MANDO Y LIDERAZGO | D29: MANDO Y LIDERAZGO I .1 | E29: 4 | I29: SIMS EDUARDO
A30: 3ro Ej | B30: C | C30: MANDO Y LIDERAZGO | D30: MANDO Y LIDERAZGO I .2 | G30: 4 | I30: KEITEL JORGE | J30: SIMS
A31: 3ro Ej | B31: D | C31: MANDO Y LIDERAZGO | D31: MANDO Y LIDERAZGO I .1 | E31: 4 | I31: SIMS EDUARDO
A32: 3ro Ej | B32: D | C32: MANDO Y LIDERAZGO | D32: MANDO Y LIDERAZGO I .2 | G32: 4 | I32: KEITEL JORGE | J32: SIMS AD-HONOREM
A33: 3ro AB | C33: MANDO Y LIDERAZGO | D33: MANDO Y LIDERAZGO I .1 | E33: 4 | I33: SIMS EDUARDO
A34: 3ro AB | C34: MANDO Y LIDERAZGO | D34: MANDO Y LIDERAZGO I .2 | G34: 4 | I34: SIMS EDUARDO
A35: 3ro IM | C35: MANDO Y LIDERAZGO | D35: MANDO Y LIDERAZGO I .1 | E35: 4 | I35: KEITEL JORGE
A36: 3ro IM | C36: MANDO Y LIDERAZGO | D36: MANDO Y LIDERAZGO I .2 | G36: 4 | I36: KEITEL JORGE | J36: SIMS AD-HONOREM
A37: 3ro LT | C37: MANDO Y LIDERAZGO | D37: MANDO Y LIDERAZGO I .1 | E37: 4 | I37: KEITEL JORGE
A38: 3ro LT | C38: MANDO Y LIDERAZGO | D38: MANDO Y LIDERAZGO I .2 | G38: 4 | I38: KEITEL JORGE | J38: SIMS AD-HONOREM
A39: 4to Ej | B39: A | C39: MANDO Y LIDERAZGO | D39: MANDO Y LIDERAZGO II | G39: 2 | I39: CASTRO
A40: 4to Ej | B40: B | C40: MANDO Y LIDERAZGO | D40: MANDO Y LIDERAZGO II | G40: 2 | I40: UGARTE
A41: 4to Ej | B41: C | C41: MANDO Y LIDERAZGO | D41: MANDO Y LIDERAZGO II | G41: 2 | I41: SIMS EDUARDO | J41: CF HUIDOBRO | L41: T1 STOCK
A42: 4to AB | C42: MANDO Y LIDERAZGO | D42: MANDO Y LIDERAZGO II | E42: 2 | I42: KEITEL JORGE
A43: 4to IM | C43: MANDO Y LIDERAZGO | D43: MANDO Y LIDERAZGO II | E43: 2 | I43: KEITEL JORGE
A44: 4to LT | C44: MANDO Y LIDERAZGO | D44: MANDO Y LIDERAZGO II | G44: 2 | I44: KEITEL JORGE | J44: CF HUIDOBRO | L44: T1 STOCK
D47: CARGA 2025 | E47: =+SUM(E11:E45) -> 46 | G47: =+SUM(G11:G45) -> 50 | I47: =+SUM(E47:G47) -> 96
D48: CARGA 2024 | E48: 44 | G48: 48 | I48: =+SUM(E48:G48) -> 92
I50: RESUMEN | J50: 1 Sem | L50: 2 Sem
I52: OFICIAL DE DIVISIÓN | J52: =SUMIF($I$11:$I$45,$I52,E$11:E$45) -> 6 | L52: =SUMIF($I$11:$I$45,$I52,G$11:G$45) -> 8
I53: UGARTE | J53: =SUMIF($I$11:$I$45,$I53,E$11:E$45) -> 0 | L53: =SUMIF($I$11:$I$45,$I53,G$11:G$45) -> 2
I54: MALDONADO GONZALO | J54: =SUMIF($I$11:$I$45,$I54,E$11:E$45) -> 8 | L54: =SUMIF($I$11:$I$45,$I54,G$11:G$45) -> 6
I55: SIMS EDUARDO | J55: =SUMIF($I$11:$I$45,$I55,E$11:E$45) -> 12 | L55: =SUMIF($I$11:$I$45,$I55,G$11:G$45) -> 14
I56: KEITEL JORGE | J56: =SUMIF($I$11:$I$45,$I56,E$11:E$45) -> 20 | L56: =SUMIF($I$11:$I$45,$I56,G$11:G$45) -> 18
I57: CASTRO | J57: =SUMIF($I$11:$I$45,$I57,E$11:E$45) -> 0 | L57: =SUMIF($I$11:$I$45,$I57,G$11:G$45) -> 2
L59: =SUM(J51:L57) -> 96

Sheet MATEM 
A1: Escuela Naval "A. Prat"
A2: Departamento Educación
A3: Unidad de Coordinación Académica
A5: HORAS DE CLASES POR CURSO - PROFESOR
A6: AÑO ACADÉMICO 2025
A7: CÁTEDRA : | D7: MATEMÁTICAS
D8: HORAS SEMANALES
A9: CURSO | C9: CÁTEDRA | D9: ASIGNATURAS | E9: 1er SEM. | G9: 2º SEM. | I9: PROFESOR
E10: SIST. | F10: LAB | G10: SIST. | H10: LAB
A12: 1ro | B12: A | C12: MATEMÁTICAS | D12: MATEMÁTICAS I .1ge | E12: 4 | I12: LEIVA YANINA
A13: 1ro | B13: A | C13: MATEMÁTICAS | D13: MATEMÁTICAS I .2ge | G13: 4 | I13: LEIVA YANINA
A14: 1ro | B14: A | C14: MATEMÁTICAS | D14: MATEMÁTICAS I .1al | E14: 4 | I14: BAQUEDANO SOLEDAD
A15: 1ro | B15: A | C15: MATEMÁTICAS | D15: MATEMÁTICAS I .2al | G15: 4 | I15: BAQUEDANO SOLEDAD
A16: 1ro | B16: B | C16: MATEMÁTICAS | D16: MATEMÁTICAS I .1ge | E16: 4 | I16: BARRERA CLAUDIA
A17: 1ro | B17: B | C17: MATEMÁTICAS | D17: MATEMÁTICAS I .2ge | G17: 4 | I17: BARRERA CLAUDIA
A18: 1ro | B18: B | C18: MATEMÁTICAS | D18: MATEMÁTICAS I .1al | E18: 4 | I18: LEIVA YANINA
A19: 1ro | B19: B | C19: MATEMÁTICAS | D19: MATEMÁTICAS I .2al | G19: 4 | I19: LEIVA YANINA
A20: 1ro | B20: C | C20: MATEMÁTICAS | D20: MATEMÁTICAS I .1al | E20: 4 | I20: HARDY CATHERINE
A21: 1ro | B21: C | C21: MATEMÁTICAS | D21: MATEMÁTICAS I .2al | G21: 4 | I21: HARDY CATHERINE
A22: 1ro | B22: C | C22: MATEMÁTICAS | D22: MATEMÁTICAS I .1ge | E22: 4 | I22: DE LA BARRERA FRANCISCO
A23: 1ro | B23: C | C23: MATEMÁTICAS | D23: MATEMÁTICAS I .2ge | G23: 4 | I23: DE LA BARRERA FRANCISCO
A24: 1ro | B24: D | C24: MATEMÁTICAS | D24: MATEMÁTICAS I .1al | E24: 4 | I24: RAUCH ALFRED
A25: 1ro | B25: D | C25: MATEMÁTICAS | D25: MATEMÁTICAS I .2al | G25: 4 | I25: RAUCH ALFRED
A26: 1ro | B26: D | C26: MATEMÁTICAS | D26: MATEMÁTICAS I .1ge | E26: 4 | I26: BARRERA CLAUDIA
A27: 1ro | B27: D | C27: MATEMÁTICAS | D27: MATEMÁTICAS I .2ge | G27: 4 | I27: BARRERA CLAUDIA
A28: 1ro | B28: E | C28: MATEMÁTICAS | D28: MATEMÁTICAS I .1ge | E28: 4 | I28: DE LA BARRERA FRANCISCO
A29: 1ro | B29: E | C29: MATEMÁTICAS | D29: MATEMÁTICAS I .2ge | G29: 4 | I29: DE LA BARRERA FRANCISCO
A30: 1ro | B30: E | C30: MATEMÁTICAS | D30: MATEMÁTICAS I .1al | E30: 4 | I30: RAUCH ALFRED
A31: 1ro | B31: E | C31: MATEMÁTICAS | D31: MATEMÁTICAS I .2al | G31: 4 | I31: RAUCH ALFRED
A32: 1ro | B32: H | C32: MATEMÁTICAS | D32: MATEMÁTICAS I .1ge | E32: 4 | I32: DE LA BARRERA FRANCISCO
A33: 1ro | B33: H | C33: MATEMÁTICAS | D33: MATEMÁTICAS I .2ge | G33: 4 | I33: DE LA BARRERA FRANCISCO
A34: 1ro | B34: H | C34: MATEMÁTICAS | D34: MATEMÁTICAS I .1al | E34: 4 | I34: HARDY CATHERINE
A35: 1ro | B35: H | C35: MATEMÁTICAS | D35: MATEMÁTICAS I .2al | G35: 4 | I35: HARDY CATHERINE
A36: 1ro | B36: K | C36: MATEMÁTICAS | D36: MATEMÁTICAS I .1ge | E36: 4 | I36: DE LA BARRERA FRANCISCO
A37: 1ro | B37: K | C37: MATEMÁTICAS | D37: MATEMÁTICAS I .2ge | G37: 4 | I37: HARDY CATHERINE
A38: 1ro | B38: K | C38: MATEMÁTICAS | D38: MATEMÁTICAS I .1al | E38: 4 | I38: RAUCH ALFRED
A39: 1ro | B39: K | C39: MATEMÁTICAS | D39: MATEMÁTICAS I .2al | G39: 4 | I39: RAUCH ALFRED
A40: 2do EJ | B40: A | C40: MATEMÁTICAS | D40: MATEMÁTICAS II .1 | E40: 6 | I40: BAQUEDANO SOLEDAD
A41: 2do EJ | B41: A | C41: MATEMÁTICAS | D41: MATEMÁTICAS II .2 | G41: 6 | I41: BAQUEDANO SOLEDAD
A42: 2do EJ | B42: B | C42: MATEMÁTICAS | D42: MATEMÁTICAS II .1 | E42: 6 | I42: BARRERA CLAUDIA
A43: 2do EJ | B43: B | C43: MATEMÁTICAS | D43: MATEMÁTICAS II .2 | G43: 6 | I43: BARRERA CLAUDIA
A44: 2do EJ | B44: C | C44: MATEMÁTICAS | D44: MATEMÁTICAS II .1 | E44: 6 | I44: BAQUEDANO SOLEDAD
A45: 2do EJ | B45: C | C45: MATEMÁTICAS | D45: MATEMÁTICAS II .2 | G45: 6 | I45: BAQUEDANO SOLEDAD
A46: 2do EJ | B46: D | C46: MATEMÁTICAS | D46: MATEMÁTICAS II .1 | E46: 6 | I46: BAQUEDANO SOLEDAD
A47: 2do EJ | B47: D | C47: MATEMÁTICAS | D47: MATEMÁTICAS II .2 | G47: 6 | I47: BAQUEDANO SOLEDAD
A48: 2do EJ | B48: E | C48: MATEMÁTICAS | D48: MATEMÁTICAS II .1 | E48: 6 | I48: BARRERA CLAUDIA | J48: 2E
A49: 2do EJ | B49: E | C49: MATEMÁTICAS | D49: MATEMÁTICAS II .2 | G49: 6 | I49: BARRERA CLAUDIA | J49: 2E
A50: 2do AB | C50: MATEMÁTICAS | D50: MATEMÁTICAS II AB .1 | E50: 6 | I50: LEIVA YANINA
A51: 2do AB | C51: MATEMÁTICAS | D51: MATEMÁTICAS II AB .2 | G51: 4 | I51: LEIVA YANINA
A52: 2do IM Mod | C52: MATEMÁTICAS | D52: MATEMÁTICAS II IM .1 Mod | E52: 2 | I52: RAUCH ALFRED
A53: 2do IM | C53: MATEMÁTICAS | D53: MATEMÁTICAS II IM .2 | G53: 6 | I53: RAUCH ALFRED
A54: 2do LT | C54: MATEMÁTICAS | D54: MATEMÁTICAS II .1 | E54: 6 | I54: DE LA BARRERA FRANCISCO
A55: 2do LT | C55: MATEMÁTICAS | D55: MATEMÁTICAS II .2 | G55: 6 | I55: DE LA BARRERA FRANCISCO
A56: 3ro EJ | B56: A | C56: MATEMÁTICAS | D56: MATEMÁTICAS III .1 | E56: 4 | I56: RAUCH ALFRED
A57: 3ro EJ | B57: A | C57: MATEMÁTICAS | D57: MATEMÁTICAS III .2 | G57: 4 | I57: RAUCH ALFRED
A58: 3ro EJ | B58: B | C58: MATEMÁTICAS | D58: MATEMÁTICAS III .1 | E58: 4 | I58: HARDY CATHERINE
A59: 3ro EJ | B59: B | C59: MATEMÁTICAS | D59: MATEMÁTICAS III .2 | G59: 4 | I59: HARDY CATHERINE
A60: 3ro EJ | B60: C | C60: MATEMÁTICAS | D60: MATEMÁTICAS III .1 | E60: 4 | I60: HARDY CATHERINE
A61: 3ro EJ | B61: C | C61: MATEMÁTICAS | D61: MATEMÁTICAS III .2 | G61: 4 | I61: HARDY CATHERINE
A62: 3ro EJ | B62: D | C62: MATEMÁTICAS | D62: MATEMÁTICAS III .1 | E62: 4 | I62: RAUCH ALFRED
A63: 3ro EJ | B63: D | C63: MATEMÁTICAS | D63: MATEMÁTICAS III .2 | G63: 4 | I63: RAUCH ALFRED
A64: 3ro AB | C64: MATEMÁTICAS | D64: MATEMÁTICAS III AB .1 | E64: 6 | I64: LEIVA YANINA
A65: 3ro AB | C65: MATEMÁTICAS | D65: MATEMÁTICAS III AB .2 | G65: 4 | I65: LEIVA YANINA
A66: 3ro LT | C66: MATEMÁTICAS | D66: MATEMÁTICAS III LT | E66: 4 | I66: RAUCH ALFRED
A67: 4to EJ | B67: A | C67: MATEMÁTICAS | D67: MATEMÁTICAS IV 1. | E67: 2 | I67: BAQUEDANO SOLEDAD
A68: 4to EJ | B68: A | C68: MATEMÁTICAS | D68: MATEMÁTICAS IV 2. | G68: 2 | I68: BAQUEDANO SOLEDAD
A69: 4to EJ | B69: B | C69: MATEMÁTICAS | D69: MATEMÁTICAS IV 1. | E69: 2 | I69: BARRERA CLAUDIA
A70: 4to EJ | B70: B | C70: MATEMÁTICAS | D70: MATEMÁTICAS IV 2. | G70: 2 | I70: BARRERA CLAUDIA
A71: 4to EJ | B71: C | C71: MATEMÁTICAS | D71: MATEMÁTICAS IV 1. | E71: 2 | I71: BAQUEDANO SOLEDAD
A72: 4to EJ | B72: C | C72: MATEMÁTICAS | D72: MATEMÁTICAS IV 2. | G72: 2 | I72: BAQUEDANO SOLEDAD
A73: 4to IM | C73: MATEMÁTICAS | D73: MATEMÁTICAS III IM | E73: 4 | I73: HARDY CATHERINE
D75: CARGA 2025 | E75: =+SUM(E12:E73) -> 136 | G75: =+SUM(G12:G73) -> 128 | I75: =+G75+E75 -> 264
D76: CARGA 2024 | E76: 128 | G76: 120 | I76: =+G76+E76 -> 248
I78: RESUMEN | J78: 1 Sem | L78: 2 Sem
I80: BAQUEDANO SOLEDAD | J80: =SUMIF($I$11:$I$73,$I80,E$11:E$73) -> 26 | L80: =SUMIF($I$11:$I$73,$I80,G$11:G$73) -> 26
I81: BARRERA CLAUDIA | J81: =SUMIF($I$11:$I$73,$I81,E$11:E$73) -> 22 | L81: =SUMIF($I$11:$I$73,$I81,G$11:G$73) -> 22
I82: DE LA BARRERA FRANCISCO | J82: =SUMIF($I$11:$I$73,$I82,E$11:E$73) -> 22 | L82: =SUMIF($I$11:$I$73,$I82,G$11:G$73) -> 18
I83: HARDY CATHERINE | J83: =SUMIF($I$11:$I$73,$I83,E$11:E$73) -> 20 | L83: =SUMIF($I$11:$I$73,$I83,G$11:G$73) -> 20
I84: LEIVA YANINA | J84: =SUMIF($I$11:$I$73,$I84,E$11:E$73) -> 20 | L84: =SUMIF($I$11:$I$73,$I84,G$11:G$73) -> 16
I85: RAUCH ALFRED | J85: =SUMIF($I$11:$I$73,$I85,E$11:E$73) -> 26 | L85: =SUMIF($I$11:$I$73,$I85,G$11:G$73) -> 26
L89: =SUM(J79:L87) -> 264

Sheet nnnnnnnnn
A1: Escuela Naval "A. Prat"
A2: Departamento Educación
A3: Unidad de Coordinación Académica
A5: HORAS DE CLASES POR CURSO - PROFESOR
A6: AÑO ACADÉMICO 2025
A7: CÁTEDRA : | D7: MATEMÁTICAS
D8: HORAS SEMANALES
A9: CURSO | C9: CÁTEDRA | D9: ASIGNATURAS | E9: 1er SEM. | G9: 2º SEM. | I9: PROFESOR
E10: SIST. | F10: LAB | G10: SIST. | H10: LAB
A12: 1ro | B12: A | C12: MATEMÁTICAS | D12: MATEMÁTICAS I .1ge | E12: 4 | I12: LEIVA YANINA
A13: 1ro | B13: A | C13: MATEMÁTICAS | D13: MATEMÁTICAS I .2ge | G13: 4 | I13: LEIVA YANINA | J13: ingresadas 6 hrs anuales
A14: 1ro | B14: A | C14: MATEMÁTICAS | D14: MATEMÁTICAS I .1al | E14: 4 | I14: BAQUEDANO SOLEDAD | J14: 8 hrs anuales ingresadas
A15: 1ro | B15: A | C15: MATEMÁTICAS | D15: MATEMÁTICAS I .2al | G15: 4 | I15: BAQUEDANO SOLEDAD
A16: 1ro | B16: B | C16: MATEMÁTICAS | D16: MATEMÁTICAS I .1ge | E16: 4 | I16: BARRERA CLAUDIA
A17: 1ro | B17: B | C17: MATEMÁTICAS | D17: MATEMÁTICAS I .2ge | G17: 4 | I17: BARRERA CLAUDIA
A18: 1ro | B18: B | C18: MATEMÁTICAS | D18: MATEMÁTICAS I .1al | E18: 4 | I18: LEIVA YANINA
A19: 1ro | B19: B | C19: MATEMÁTICAS | D19: MATEMÁTICAS I .2al | G19: 4 | I19: LEIVA YANINA
A20: 1ro | B20: C | C20: MATEMÁTICAS | D20: MATEMÁTICAS I .1al | E20: 4 | I20: HARDY CATHERINE
A21: 1ro | B21: C | C21: MATEMÁTICAS | D21: MATEMÁTICAS I .2al | G21: 4 | I21: HARDY CATHERINE
A22: 1ro | B22: C | C22: MATEMÁTICAS | D22: MATEMÁTICAS I .1ge | E22: 4 | I22: DE LA BARRERA FRANCISCO
A23: 1ro | B23: C | C23: MATEMÁTICAS | D23: MATEMÁTICAS I .2ge | G23: 4 | I23: DE LA BARRERA FRANCISCO
A24: 1ro | B24: D | C24: MATEMÁTICAS | D24: MATEMÁTICAS I .1al | E24: 4 | I24: RAUCH ALFRED
A25: 1ro | B25: D | C25: MATEMÁTICAS | D25: MATEMÁTICAS I .2al | G25: 4 | I25: RAUCH ALFRED
A26: 1ro | B26: D | C26: MATEMÁTICAS | D26: MATEMÁTICAS I .1ge | E26: 4 | I26: BARRERA CLAUDIA
A27: 1ro | B27: D | C27: MATEMÁTICAS | D27: MATEMÁTICAS I .2ge | G27: 4 | I27: BARRERA CLAUDIA
A28: 1ro | B28: E | C28: MATEMÁTICAS | D28: MATEMÁTICAS I .1ge | E28: 4 | I28: DE LA BARRERA FRANCISCO
A29: 1ro | B29: E | C29: MATEMÁTICAS | D29: MATEMÁTICAS I .2ge | G29: 4 | I29: DE LA BARRERA FRANCISCO
A30: 1ro | B30: E | C30: MATEMÁTICAS | D30: MATEMÁTICAS I .1al | E30: 4 | I30: RAUCH ALFRED
A31: 1ro | B31: E | C31: MATEMÁTICAS | D31: MATEMÁTICAS I .2al | G31: 4 | I31: RAUCH ALFRED | J31: 10 hrs anuales ingresadas
A32: 1ro | B32: H | C32: MATEMÁTICAS | D32: MATEMÁTICAS I .1ge | E32: 4 | I32: DE LA BARRERA FRANCISCO
A33: 1ro | B33: H | C33: MATEMÁTICAS | D33: MATEMÁTICAS I .2ge | G33: 4 | I33: DE LA BARRERA FRANCISCO
A34: 1ro | B34: H | C34: MATEMÁTICAS | D34: MATEMÁTICAS I .1al | E34: 4 | I34: HARDY CATHERINE
A35: 1ro | B35: H | C35: MATEMÁTICAS | D35: MATEMÁTICAS I .2al | G35: 4 | I35: HARDY CATHERINE
A36: 1ro | B36: K | C36: MATEMÁTICAS | D36: MATEMÁTICAS I .1ge | E36: 4 | I36: DE LA BARRERA FRANCISCO
A37: 1ro | B37: K | C37: MATEMÁTICAS | D37: MATEMÁTICAS I .2ge | G37: 4 | I37: HARDY CATHERINE
A38: 1ro | B38: K | C38: MATEMÁTICAS | D38: MATEMÁTICAS I .1al | E38: 4 | I38: RAUCH ALFRED
A39: 1ro | B39: K | C39: MATEMÁTICAS | D39: MATEMÁTICAS I .2al | G39: 4 | I39: RAUCH ALFRED
A40: 2do EJ | B40: A | C40: MATEMÁTICAS | D40: MATEMÁTICAS II .1 | E40: 6 | I40: BAQUEDANO SOLEDAD
A41: 2do EJ | B41: A | C41: MATEMÁTICAS | D41: MATEMÁTICAS II .2 | G41: 6 | I41: BAQUEDANO SOLEDAD
A42: 2do EJ | B42: B | C42: MATEMÁTICAS | D42: MATEMÁTICAS II .1 | E42: 6 | I42: BARRERA CLAUDIA
A43: 2do EJ | B43: B | C43: MATEMÁTICAS | D43: MATEMÁTICAS II .2 | G43: 6 | I43: BARRERA CLAUDIA
A44: 2do EJ | B44: C | C44: MATEMÁTICAS | D44: MATEMÁTICAS II .1 | E44: 6 | I44: BAQUEDANO SOLEDAD
A45: 2do EJ | B45: C | C45: MATEMÁTICAS | D45: MATEMÁTICAS II .2 | G45: 6 | I45: BAQUEDANO SOLEDAD
A46: 2do EJ | B46: D | C46: MATEMÁTICAS | D46: MATEMÁTICAS II .1 | E46: 6 | I46: BAQUEDANO SOLEDAD
A47: 2do EJ | B47: D | C47: MATEMÁTICAS | D47: MATEMÁTICAS II .2 | G47: 6 | I47: BAQUEDANO SOLEDAD
A48: 2do EJ | B48: E | C48: MATEMÁTICAS | D48: MATEMÁTICAS II .1 | E48: 6 | I48: BARRERA CLAUDIA
A49: 2do EJ | B49: E | C49: MATEMÁTICAS | D49: MATEMÁTICAS II .2 | G49: 6 | I49: BARRERA CLAUDIA
A50: 2do AB | C50: MATEMÁTICAS | D50: MATEMÁTICAS II AB .1 | E50: 6 | I50: LEIVA YANINA | J50: ingresadas 4 hrs
A51: 2do AB | C51: MATEMÁTICAS | D51: MATEMÁTICAS II AB .2 | G51: 4 | I51: LEIVA YANINA
A52: 2do IM Mod | C52: MATEMÁTICAS | D52: MATEMÁTICAS II IM .1 Mod | E52: 2 | I52: RAUCH ALFRED
A53: 2do IM | C53: MATEMÁTICAS | D53: MATEMÁTICAS II IM .2 | G53: 6 | I53: RAUCH ALFRED
A54: 2do LT | C54: MATEMÁTICAS | D54: MATEMÁTICAS II .1 | E54: 6 | I54: DE LA BARRERA FRANCISCO
A55: 2do LT | C55: MATEMÁTICAS | D55: MATEMÁTICAS II .2 | G55: 6 | I55: DE LA BARRERA FRANCISCO
A56: 3ro EJ | B56: A | C56: MATEMÁTICAS | D56: MATEMÁTICAS III .1 | E56: 4 | I56: RAUCH ALFRED
A57: 3ro EJ | B57: A | C57: MATEMÁTICAS | D57: MATEMÁTICAS III .2 | G57: 4 | I57: RAUCH ALFRED
A58: 3ro EJ | B58: B | C58: MATEMÁTICAS | D58: MATEMÁTICAS III .1 | E58: 4 | I58: HARDY CATHERINE
A59: 3ro EJ | B59: B | C59: MATEMÁTICAS | D59: MATEMÁTICAS III .2 | G59: 4 | I59: HARDY CATHERINE
A60: 3ro EJ | B60: C | C60: MATEMÁTICAS | D60: MATEMÁTICAS III .1 | E60: 4 | I60: HARDY CATHERINE
A61: 3ro EJ | B61: C | C61: MATEMÁTICAS | D61: MATEMÁTICAS III .2 | G61: 4 | I61: HARDY CATHERINE
A62: 3ro EJ | B62: D | C62: MATEMÁTICAS | D62: MATEMÁTICAS III .1 | E62: 4 | I62: RAUCH ALFRED
A63: 3ro EJ | B63: D | C63: MATEMÁTICAS | D63: MATEMÁTICAS III .2 | G63: 4 | I63: RAUCH ALFRED
A64: 3ro AB | C64: MATEMÁTICAS | D64: MATEMÁTICAS III AB .1 | E64: 6 | I64: LEIVA YANINA | J64: ingresadas 4 hrs
A65: 3ro AB | C65: MATEMÁTICAS | D65: MATEMÁTICAS III AB .2 | G65: 4 | I65: LEIVA YANINA
A66: 3ro LT | C66: MATEMÁTICAS | D66: MATEMÁTICAS III LT | E66: 4 | I66: RAUCH ALFRED
A67: 4to EJ | B67: A | C67: MATEMÁTICAS | D67: MATEMÁTICAS IV 1. | E67: 2 | I67: BAQUEDANO SOLEDAD
A68: 4to EJ | B68: A | C68: MATEMÁTICAS | D68: MATEMÁTICAS IV 2. | G68: 2 | I68: BAQUEDANO SOLEDAD | J68: 5 hrs anuales ingresadas
A69: 4to EJ | B69: B | C69: MATEMÁTICAS | D69: MATEMÁTICAS IV 1. | E69: 2 | I69: BARRERA CLAUDIA | J69: ingresada 1 hora
A70: 4to EJ | B70: B | C70: MATEMÁTICAS | D70: MATEMÁTICAS IV 2. | G70: 2 | I70: BARRERA CLAUDIA
A71: 4to EJ | B71: C | C71: MATEMÁTICAS | D71: MATEMÁTICAS IV 1. | E71: 2 | I71: BAQUEDANO SOLEDAD
A72: 4to EJ | B72: C | C72: MATEMÁTICAS | D72: MATEMÁTICAS IV 2. | G72: 2 | I72: BAQUEDANO SOLEDAD
A73: 4to IM | C73: MATEMÁTICAS | D73: MATEMÁTICAS III IM | E73: 4 | I73: HARDY CATHERINE
D75: CARGA 2025 | E75: =+SUM(E12:E73) -> 136 | G75: =+SUM(G12:G73) -> 128 | I75: =+G75+E75 -> 264
D76: CARGA 2024 | E76: 128 | G76: 120 | I76: =+G76+E76 -> 248
I78: RESUMEN | J78: 1 Sem | L78: 2 Sem
I80: BAQUEDANO SOLEDAD | J80: =SUMIF($I$11:$I$73,$I80,E$11:E$73) -> 26 | L80: =SUMIF($I$11:$I$73,$I80,G$11:G$73) -> 26
I81: BARRERA CLAUDIA | J81: =SUMIF($I$11:$I$73,$I81,E$11:E$73) -> 22 | L81: =SUMIF($I$11:$I$73,$I81,G$11:G$73) -> 22
I82: DE LA BARRERA FRANCISCO | J82: =SUMIF($I$11:$I$73,$I82,E$11:E$73) -> 22 | L82: =SUMIF($I$11:$I$73,$I82,G$11:G$73) -> 18
I83: HARDY CATHERINE | J83: =SUMIF($I$11:$I$73,$I83,E$11:E$73) -> 20 | L83: =SUMIF($I$11:$I$73,$I83,G$11:G$73) -> 20
I84: LEIVA YANINA | J84: =SUMIF($I$11:$I$73,$I84,E$11:E$73) -> 20 | L84: =SUMIF($I$11:$I$73,$I84,G$11:G$73) -> 16
I85: RAUCH ALFRED | J85: =SUMIF($I$11:$I$73,$I85,E$11:E$73) -> 26 | L85: =SUMIF($I$11:$I$73,$I85,G$11:G$73) -> 26
L89: =SUM(J79:L87) -> 264

Sheet HERR TEC 
A1: Escuela Naval "A. Prat"
A2: Departamento Educación
A3: Unidad de Coordinación Académica
A5: HORAS DE CLASES POR CURSO - PROFESOR
A6: AÑO ACADÉMICO 2025
A7: CÁTEDRA : | D7: HERRAMIENTAS TECNOLÓGICAS
D8: HORAS SEMANALES
A9: CURSO | C9: CÁTEDRA | D9: ASIGNATURAS | E9: 1er SEM. | G9: 2º SEM. | I9: PROFESOR
E10: SIST. | F10: LAB | G10: SIST. | H10: LAB
A11: 1ro | B11: A | C11: HERRAMIENTAS TECNOLÓGICAS | D11: HERRAMIENTAS TECNOLÓGICAS | E11: 2 | I11: DE LA BARRERA FRANCISCO
A12: 1ro | B12: A | C12: HERRAMIENTAS TECNOLÓGICAS | D12: LABORATORIO HERR TEC 1A | F12: 2 | I12: PUENTES MÓNICA
A13: 1ro | B13: B | C13: HERRAMIENTAS TECNOLÓGICAS | D13: HERRAMIENTAS TECNOLÓGICAS | E13: 2 | I13: DE LA BARRERA FRANCISCO
A14: 1ro | B14: B | C14: HERRAMIENTAS TECNOLÓGICAS | D14: LABORATORIO HERR TEC 1B | F14: 2 | I14: PIZARRO LORENA
A15: 1ro | B15: C | C15: HERRAMIENTAS TECNOLÓGICAS | D15: HERRAMIENTAS TECNOLÓGICAS | E15: 2 | I15: HARDY CATHERINE
A16: 1ro | B16: C | C16: HERRAMIENTAS TECNOLÓGICAS | D16: LABORATORIO HERR TEC 1C | F16: 2 | I16: PIZARRO LORENA
A17: 1ro | B17: D | C17: HERRAMIENTAS TECNOLÓGICAS | D17: HERRAMIENTAS TECNOLÓGICAS | E17: 2 | I17: HARDY CATHERINE
A18: 1ro | B18: D | C18: HERRAMIENTAS TECNOLÓGICAS | D18: LABORATORIO HERR TEC 1D | F18: 2 | I18: PUENTES MÓNICA
A19: 1ro | B19: E | C19: HERRAMIENTAS TECNOLÓGICAS | D19: HERRAMIENTAS TECNOLÓGICAS | E19: 2 | I19: PUENTES MÓNICA
A20: 1ro | B20: E | C20: HERRAMIENTAS TECNOLÓGICAS | D20: LABORATORIO HERR TEC 1E | F20: 2 | I20: RÍOS NELSON
A21: 1ro | B21: H | C21: HERRAMIENTAS TECNOLÓGICAS | D21: HERRAMIENTAS TECNOLÓGICAS | E21: 2 | I21: LUCERO ANDRÉS
A22: 1ro | B22: H | C22: HERRAMIENTAS TECNOLÓGICAS | D22: LABORATORIO HERR TEC 1H | F22: 2 | I22: PUENTES MÓNICA
A23: 1ro | B23: K | C23: HERRAMIENTAS TECNOLÓGICAS | D23: HERRAMIENTAS TECNOLÓGICAS | E23: 2 | I23: HARDY CATHERINE
A24: 1ro | B24: K | C24: HERRAMIENTAS TECNOLÓGICAS | D24: LABORATORIO HERR TEC 1K | F24: 2 | I24: RÍOS NELSON
D26: CARGA 2025 | E26: =+SUM(E11:E24) -> 14 | F26: =+SUM(F11:F24) -> 14 | I26: =+E26+F26 -> 28
D27: CARGA 2024 | E27: 12 | F27: 12 | I27: =+E27+F27+H27 -> 24
I29: RESUMEN | J29: 1 Sem | K29: LAB
I30: HARDY CATHERINE | J30: =SUMIF($I$11:$I$24,$I30,E$11:E$24) -> 6 | K30: =SUMIF($I$11:$I$24,$I30,F$11:F$24) -> 0
I31: DE LA BARRERA FRANCISCO | J31: =SUMIF($I$11:$I$24,$I31,E$11:E$24) -> 4 | K31: =SUMIF($I$11:$I$24,$I31,F$11:F$24) -> 0
I32: PIZARRO LORENA | J32: =SUMIF($I$11:$I$24,$I32,E$11:E$24) -> 0 | K32: =SUMIF($I$11:$I$24,$I32,F$11:F$24) -> 4
I33: LUCERO ANDRÉS | J33: =SUMIF($I$11:$I$24,$I33,E$11:E$24) -> 2 | K33: =SUMIF($I$11:$I$24,$I33,F$11:F$24) -> 0
I34: PUENTES MÓNICA | J34: =SUMIF($I$11:$I$24,$I34,E$11:E$24) -> 2 | K34: =SUMIF($I$11:$I$24,$I34,F$11:F$24) -> 6
I35: RÍOS NELSON | J35: =SUMIF($I$11:$I$24,$I35,E$11:E$24) -> 0 | K35: =SUMIF($I$11:$I$24,$I35,F$11:F$24) -> 4
K38: =SUM(J30:K35) -> 28

Sheet FISICA
A1: Escuela Naval "A. Prat"
A2: Departamento Educación
A3: Unidad de Coordinación Académica
A5: HORAS DE CLASES POR CURSO - PROFESOR
A6: AÑO ACADÉMICO 2025
A7: CÁTEDRA : | D7: FÍSICA
D8: HORAS SEMANALES
A9: CURSO | C9: CÁTEDRA | D9: ASIGNATURAS | E9: 1er SEM. | G9: 2º SEM. | I9: PROFESOR
E10: SIST. | F10: LAB | G10: SIST. | H10: LAB | L10: SIST | M10: LAB
A11: 1ro | B11: A | C11: FÍSICA | D11: FÍSICA I | G11: 4 | I11: RÍOS PACHECO, NELSON | K11: =E11 -> 0 | L11: =F11 -> 0 | M11: =G11 -> 4 | N11: =H11 -> 0
A12: 1ro | B12: A | C12: FÍSICA | D12: LABORATORIO FÍSICA I | H12: 2 | I12: ARANCIBIA BACELLI DAMARIS | K12: =E12 -> 0 | L12: =F12 -> 0 | M12: =G12 -> 0 | N12: =H12 -> 2
A13: 1ro | B13: B | C13: FÍSICA | D13: FÍSICA I | G13: 4 | I13: JAIME FUENZALIDA, HECTOR | K13: =E13 -> 0 | L13: =F13 -> 0 | M13: =G13 -> 4 | N13: =H13 -> 0
A14: 1ro | B14: B | C14: FÍSICA | D14: LABORATORIO FÍSICA I | H14: 2 | I14: ARANCIBIA BACELLI DAMARIS | K14: =E14 -> 0 | L14: =F14 -> 0 | M14: =G14 -> 0 | N14: =H14 -> 2
A15: 1ro | B15: C | C15: FÍSICA | D15: FÍSICA I | G15: 4 | I15: RÍOS PACHECO, NELSON | K15: =E15 -> 0 | L15: 2 | M15: 2 | N15: =H15 -> 0
A16: 1ro | B16: C | C16: FÍSICA | D16: LABORATORIO FÍSICA I | H16: 2 | I16: ARANCIBIA BACELLI DAMARIS | K16: =E16 -> 0 | L16: =F16 -> 0 | M16: =G16 -> 0 | N16: =H16 -> 2
A17: 1ro | B17: D | C17: FÍSICA | D17: FÍSICA I | G17: 4 | I17: GARRIDO MATÍAS | K17: =E17 -> 0 | L17: =F17 -> 0 | M17: =G17 -> 4 | N17: =H17 -> 0
A18: 1ro | B18: D | C18: FÍSICA | D18: LABORATORIO FÍSICA I | H18: 2 | I18: ARANCIBIA BACELLI DAMARIS | K18: =E18 -> 0 | L18: =F18 -> 0 | M18: =G18 -> 0 | N18: =H18 -> 2
A19: 1ro | B19: E | C19: FÍSICA | D19: FÍSICA I | G19: 4 | I19: JAIME FUENZALIDA, HECTOR | K19: =E19 -> 0 | L19: =F19 -> 0 | M19: =G19 -> 4 | N19: =H19 -> 0
A20: 1ro | B20: E | C20: FÍSICA | D20: LABORATORIO FÍSICA I | H20: 2 | I20: ARANCIBIA BACELLI DAMARIS | K20: =E20 -> 0 | L20: =F20 -> 0 | M20: =G20 -> 0 | N20: =H20 -> 2
A21: 1ro | B21: H | C21: FÍSICA | D21: FÍSICA I | G21: 4 | I21: RÍOS PACHECO, NELSON | K21: =E21 -> 0 | L21: =F21 -> 0 | M21: =G21 -> 4 | N21: =H21 -> 0
A22: 1ro | B22: H | C22: FÍSICA | D22: LABORATORIO FÍSICA I | H22: 2 | I22: GARRIDO MATÍAS | K22: =E22 -> 0 | L22: =F22 -> 0 | M22: =G22 -> 0 | N22: =H22 -> 2
A23: 1ro | B23: K | C23: FÍSICA | D23: FÍSICA I | G23: 4 | I23: GARRIDO MATÍAS | K23: =E23 -> 0 | L23: =F23 -> 0 | M23: =G23 -> 4 | N23: =H23 -> 0
A24: 1ro | B24: K | C24: FÍSICA | D24: LABORATORIO FÍSICA I | H24: 2 | I24: RÍOS PACHECO, NELSON | K24: =E24 -> 0 | L24: =F24 -> 0 | M24: =G24 -> 0 | N24: =H24 -> 2
A25: 2do EJ | B25: A | C25: FÍSICA | D25: FÍSICA II .1 | E25: 6 | I25: RÍOS PACHECO, NELSON | J25: ASESOR | K25: =E25 -> 6 | L25: =F25 -> 0 | M25: =G25 -> 0 | N25: =H25 -> 0
A26: 2do EJ | B26: A | C26: FÍSICA | D26: LABORATORIO FÍSICA II .1 | F26: 2 | I26: JAIME FUENZALIDA, HECTOR | K26: =E26 -> 0 | L26: =F26 -> 2 | M26: =G26 -> 0 | N26: =H26 -> 0
A27: 2do EJ | B27: A | C27: FÍSICA | D27: FÍSICA II .2 | G27: 6 | I27: RÍOS PACHECO, NELSON | J27: ASESOR | K27: =E27 -> 0 | L27: =F27 -> 0 | M27: =G27 -> 6 | N27: =H27 -> 0
A28: 2do EJ | B28: A | C28: FÍSICA | D28: LABORATORIO FÍSICA II .2 | H28: 2 | I28: JAIME FUENZALIDA, HECTOR | K28: =E28 -> 0 | L28: =F28 -> 0 | M28: =G28 -> 0 | N28: =H28 -> 2
A29: 2do EJ | B29: B | C29: FÍSICA | D29: FÍSICA II .1 | E29: 6 | I29: JAIME FUENZALIDA, HECTOR | K29: =E29 -> 6 | L29: =F29 -> 0 | M29: =G29 -> 0 | N29: =H29 -> 0
A30: 2do EJ | B30: B | C30: FÍSICA | D30: LABORATORIO FÍSICA II .1 | F30: 2 | I30: GARRIDO MATÍAS | J30: REEMPLAZO JAVIERA | K30: =E30 -> 0 | L30: =F30 -> 2 | M30: =G30 -> 0 | N30: =H30 -> 0
A31: 2do EJ | B31: B | C31: FÍSICA | D31: FÍSICA II .2 | G31: 6 | I31: JAIME FUENZALIDA, HECTOR | K31: =E31 -> 0 | L31: =F31 -> 0 | M31: =G31 -> 6 | N31: =H31 -> 0
A32: 2do EJ | B32: B | C32: FÍSICA | D32: LABORATORIO FÍSICA II .2 | H32: 2 | I32: RÍOS PACHECO, NELSON | K32: =E32 -> 0 | L32: =F32 -> 0 | M32: =G32 -> 0 | N32: =H32 -> 2
A33: 2do EJ | B33: C | C33: FÍSICA | D33: FÍSICA II .1 | E33: 6 | I33: ARANCIBIA BACELLI DAMARIS | K33: =E33 -> 6 | L33: =F33 -> 0 | M33: =G33 -> 0 | N33: =H33 -> 0
A34: 2do EJ | B34: C | C34: FÍSICA | D34: LABORATORIO FÍSICA II .1 | F34: 2 | I34: JAIME FUENZALIDA, HECTOR | K34: =E34 -> 0 | L34: =F34 -> 2 | M34: =G34 -> 0 | N34: =H34 -> 0
A35: 2do EJ | B35: C | C35: FÍSICA | D35: FÍSICA II .2 | G35: 6 | I35: ARANCIBIA BACELLI DAMARIS | K35: =E35 -> 0 | L35: =F35 -> 0 | M35: =G35 -> 6 | N35: =H35 -> 0
A36: 2do EJ | B36: C | C36: FÍSICA | D36: LABORATORIO FÍSICA II .2 | H36: 2 | I36: JAIME FUENZALIDA, HECTOR | K36: =E36 -> 0 | L36: =F36 -> 0 | M36: =G36 -> 0 | N36: =H36 -> 2
A37: 2do EJ | B37: D | C37: FÍSICA | D37: FÍSICA II .1 | E37: 6 | I37: PLAZA BOMBAL MANUEL | K37: =E37 -> 6 | L37: =F37 -> 0 | M37: =G37 -> 0 | N37: =H37 -> 0
A38: 2do EJ | B38: D | C38: FÍSICA | D38: LABORATORIO FÍSICA II .1 | F38: 2 | I38: ARANCIBIA BACELLI DAMARIS | K38: =E38 -> 0 | L38: =F38 -> 2 | M38: =G38 -> 0 | N38: =H38 -> 0
A39: 2do EJ | B39: D | C39: FÍSICA | D39: FÍSICA II .2 | G39: 6 | I39: PLAZA BOMBAL MANUEL | K39: =E39 -> 0 | L39: =F39 -> 0 | M39: =G39 -> 6 | N39: =H39 -> 0
A40: 2do EJ | B40: D | C40: FÍSICA | D40: LABORATORIO FÍSICA II .2 | H40: 2 | I40: ARANCIBIA BACELLI DAMARIS | K40: =E40 -> 0 | L40: =F40 -> 0 | M40: =G40 -> 0 | N40: =H40 -> 2
A41: 2do EJ | B41: E | C41: FÍSICA | D41: FÍSICA II .1 | K41: =E41 -> 0 | L41: =F41 -> 0 | M41: =G41 -> 0 | N41: =H41 -> 0
A42: 2do EJ | B42: E | C42: FÍSICA | D42: LABORATORIO FÍSICA II .1 | K42: =E42 -> 0 | L42: =F42 -> 0 | M42: =G42 -> 0 | N42: =H42 -> 0
A43: 2do EJ | B43: E | C43: FÍSICA | D43: FÍSICA II .2 | K43: =E43 -> 0 | L43: =F43 -> 0 | M43: =G43 -> 0 | N43: =H43 -> 0
A44: 2do EJ | B44: E | C44: FÍSICA | D44: LABORATORIO FÍSICA II .2 | K44: =E44 -> 0 | L44: =F44 -> 0 | M44: =G44 -> 0 | N44: =H44 -> 0
A45: 2do IM Mod | C45: FÍSICA | D45: FÍSICA II IM .1 Mod | E45: 4 | I45: ARANCIBIA BACELLI DAMARIS | K45: =E45 -> 4 | L45: =F45 -> 0 | M45: =G45 -> 0 | N45: =H45 -> 0
A46: 2do IM Mod | C46: FÍSICA | D46: LABORATORIO FÍSICA II IM .1 Mod | F46: 2 | I46: RÍOS PACHECO, NELSON | K46: =E46 -> 0 | L46: =F46 -> 2 | M46: =G46 -> 0 | N46: =H46 -> 0
A47: 2do IM | C47: FÍSICA | D47: FÍSICA II IM .2 | G47: 4 | I47: ARANCIBIA BACELLI DAMARIS | K47: =E47 -> 0 | L47: =F47 -> 0 | M47: =G47 -> 4 | N47: =H47 -> 0
A48: 2do IM | C48: FÍSICA | D48: LABORATORIO FÍSICA II IM .2 | H48: 2 | I48: GARRIDO MATÍAS | K48: =E48 -> 0 | L48: =F48 -> 0 | M48: =G48 -> 0 | N48: =H48 -> 2
A49: 2do LT | C49: FÍSICA | D49: FÍSICA II LT | E49: 4 | I49: JAIME FUENZALIDA, HECTOR | J49: Cambio en Malla LT | K49: =E49 -> 4 | L49: =F49 -> 0 | M49: =G49 -> 0 | N49: =H49 -> 0
A50: 2do LT | C50: FÍSICA | D50: LABORATORIO FÍSICA II LT | F50: 2 | I50: ARANCIBIA BACELLI DAMARIS | K50: =E50 -> 0 | L50: =F50 -> 2 | M50: =G50 -> 0 | N50: =H50 -> 0
A51: 3ro EJ | B51: A | C51: FÍSICA | D51: FÍSICA III .1 | E51: 4 | I51: JAIME FUENZALIDA, HECTOR | K51: =E51 -> 4 | L51: =F51 -> 0 | M51: =G51 -> 0 | N51: =H51 -> 0
A52: 3ro EJ | B52: A | C52: FÍSICA | D52: LABORATORIO FÍSICA III .1 | F52: 2 | I52: GARRIDO MATÍAS | J52: REEMPLAZO JAVIERA | K52: =E52 -> 0 | L52: =F52 -> 2 | M52: =G52 -> 0 | N52: =H52 -> 0
A53: 3ro EJ | B53: A | C53: FÍSICA | D53: FÍSICA III .2 | G53: 4 | I53: JAIME FUENZALIDA, HECTOR | K53: =E53 -> 0 | L53: =F53 -> 0 | M53: =G53 -> 4 | N53: =H53 -> 0
A54: 3ro EJ | B54: A | C54: FÍSICA | D54: LABORATORIO FÍSICA III .2 | H54: 2 | I54: SANCHEZ ESPINOZA, JAVIERA | K54: =E54 -> 0 | L54: =F54 -> 0 | M54: =G54 -> 0 | N54: =H54 -> 2
A55: 3ro EJ | B55: B | C55: FÍSICA | D55: FÍSICA III | E55: 4 | I55: JAIME FUENZALIDA, HECTOR | K55: =E55 -> 4 | L55: =F55 -> 0 | M55: =G55 -> 0 | N55: =H55 -> 0
A56: 3ro EJ | B56: B | C56: FÍSICA | D56: LABORATORIO FÍSICA III | F56: 2 | I56: GARRIDO MATÍAS | K56: =E56 -> 0 | L56: =F56 -> 2 | M56: =G56 -> 0 | N56: =H56 -> 0
A57: 3ro EJ | B57: B | C57: FÍSICA | D57: FÍSICA III | G57: 4 | I57: JAIME FUENZALIDA, HECTOR | K57: =E57 -> 0 | L57: =F57 -> 0 | M57: =G57 -> 4 | N57: =H57 -> 0
A58: 3ro EJ | B58: B | C58: FÍSICA | D58: LABORATORIO FÍSICA III | H58: 2 | I58: SANCHEZ ESPINOZA, JAVIERA | K58: =E58 -> 0 | L58: =F58 -> 0 | M58: =G58 -> 0 | N58: =H58 -> 2
A59: 3ro EJ | B59: C | C59: FÍSICA | D59: FÍSICA III .1 | E59: 4 | I59: GARRIDO MATÍAS | J59: REEMPLAZO JAVIERA | K59: =E59 -> 4 | L59: =F59 -> 0 | M59: =G59 -> 0 | N59: =H59 -> 0
A60: 3ro EJ | B60: C | C60: FÍSICA | D60: LABORATORIO FÍSICA III .1 | F60: 2 | I60: ARANCIBIA BACELLI DAMARIS | K60: =E60 -> 0 | L60: =F60 -> 2 | M60: =G60 -> 0 | N60: =H60 -> 0
A61: 3ro EJ | B61: C | C61: FÍSICA | D61: FÍSICA III .2 | G61: 4 | I61: SANCHEZ ESPINOZA, JAVIERA | J61: otorgadas 12 de laboratorio | K61: =E61 -> 0 | L61: =F61 -> 0 | M61: =G61 -> 4 | N61: =H61 -> 0
A62: 3ro EJ | B62: C | C62: FÍSICA | D62: LABORATORIO FÍSICA III .2 | H62: 2 | I62: GARRIDO MATÍAS | K62: =E62 -> 0 | L62: =F62 -> 0 | M62: =G62 -> 0 | N62: =H62 -> 2
A63: 3ro EJ | B63: D | C63: FÍSICA | D63: FÍSICA III .1 | E63: 4 | I63: GARRIDO MATÍAS | J63: REEMPLAZO JAVIERA | K63: =E63 -> 4 | L63: =F63 -> 0 | M63: =G63 -> 0 | N63: =H63 -> 0
A64: 3ro EJ | B64: D | C64: FÍSICA | D64: LABORATORIO FÍSICA III .1 | F64: 2 | I64: RÍOS PACHECO, NELSON | K64: =E64 -> 0 | L64: =F64 -> 2 | M64: =G64 -> 0 | N64: =H64 -> 0
A65: 3ro EJ | B65: D | C65: FÍSICA | D65: FÍSICA III .2 | G65: 4 | I65: SANCHEZ ESPINOZA, JAVIERA | K65: =E65 -> 0 | L65: =F65 -> 0 | M65: =G65 -> 4 | N65: =H65 -> 0
A66: 3ro EJ | B66: D | C66: FÍSICA | D66: LABORATORIO FÍSICA III .2 | H66: 2 | I66: RÍOS PACHECO, NELSON | K66: =E66 -> 0 | L66: =F66 -> 0 | M66: =G66 -> 0 | N66: =H66 -> 2
K67: =E67 -> 0 | L67: =F67 -> 0 | M67: =G67 -> 0 | N67: =H67 -> 0
D69: CARGA 2025 | E69: =+SUM(E11:E67) -> 48 | F69: =+SUM(F11:F67) -> 20 | G69: =+SUM(G11:G67) -> 72 | H69: =+SUM(H11:H67) -> 32 | I69: =+SUM(E69:H69) -> 172
D70: CARGA 2024 | E70: 60 | F70: 25 | G70: 78 | H70: 35 | I70: =+SUM(E70:H70) -> 198
I72: RESUMEN | J72: 1 Sem | K72: LAB | L72: 2 Sem | M72: LAB
I73: ARANCIBIA BACELLI DAMARIS | J73: =SUMIF($I$11:$N$67,$I73,K$11:K$67) -> 10 | K73: =SUMIF($I$11:$N$67,$I73,L$11:L$67) -> 6 | L73: =SUMIF($I$11:$N$67,$I73,M$11:M$67) -> 10 | M73: =SUMIF($I$11:$N$67,$I73,N$11:N$67) -> 12
I74: DE LA FUENTE, VICTOR | J74: =SUMIF($I$11:$N$67,$I74,K$11:K$67) -> 0 | K74: =SUMIF($I$11:$N$67,$I74,L$11:L$67) -> 0 | L74: =SUMIF($I$11:$N$67,$I74,M$11:M$67) -> 0 | M74: =SUMIF($I$11:$N$67,$I74,N$11:N$67) -> 0
I75: JAIME FUENZALIDA, HECTOR | J75: =SUMIF($I$11:$N$67,$I75,K$11:K$67) -> 18 | K75: =SUMIF($I$11:$N$67,$I75,L$11:L$67) -> 4 | L75: =SUMIF($I$11:$N$67,$I75,M$11:M$67) -> 22 | M75: =SUMIF($I$11:$N$67,$I75,N$11:N$67) -> 4
I76: PLAZA BOMBAL MANUEL | J76: =SUMIF($I$11:$N$67,$I76,K$11:K$67) -> 6 | K76: =SUMIF($I$11:$N$67,$I76,L$11:L$67) -> 0 | L76: =SUMIF($I$11:$N$67,$I76,M$11:M$67) -> 6 | M76: =SUMIF($I$11:$N$67,$I76,N$11:N$67) -> 0
I77: RÍOS PACHECO, NELSON | J77: =SUMIF($I$11:$N$67,$I77,K$11:K$67) -> 6 | K77: =SUMIF($I$11:$N$67,$I77,L$11:L$67) -> 6 | L77: =SUMIF($I$11:$N$67,$I77,M$11:M$67) -> 16 | M77: =SUMIF($I$11:$N$67,$I77,N$11:N$67) -> 6
I78: SANCHEZ ESPINOZA, JAVIERA | J78: =SUMIF($I$11:$N$67,$I78,K$11:K$67) -> 0 | K78: =SUMIF($I$11:$N$67,$I78,L$11:L$67) -> 0 | L78: =SUMIF($I$11:$N$67,$I78,M$11:M$67) -> 8 | M78: =SUMIF($I$11:$N$67,$I78,N$11:N$67) -> 4
I79: GARRIDO MATÍAS | J79: =SUMIF($I$11:$N$67,$I79,K$11:K$67) -> 8 | K79: =SUMIF($I$11:$N$67,$I79,L$11:L$67) -> 6 | L79: =SUMIF($I$11:$N$67,$I79,M$11:M$67) -> 8 | M79: =SUMIF($I$11:$N$67,$I79,N$11:N$67) -> 6
J81: =SUM(J73:M79) -> 172
I87: RESUMEN | J87: 1 Sem | K87: LAB | L87: 2 Sem | M87: LAB
I88: ARANCIBIA BACELLI DAMARIS | J88: =SUMIF($I$11:$N$67,$I88,K$11:K$67) -> 10 | K88: =SUMIF($I$11:$N$67,$I88,L$11:L$67) -> 6 | L88: =SUMIF($I$11:$N$67,$I88,M$11:M$67) -> 10 | M88: 16 | N88: 4 MAS DE LABORATORIO
I89: DE LA FUENTE, VICTOR | J89: =SUMIF($I$11:$N$67,$I89,K$11:K$67) -> 0 | K89: =SUMIF($I$11:$N$67,$I89,L$11:L$67) -> 0 | L89: =SUMIF($I$11:$N$67,$I89,M$11:M$67) -> 0 | M89: 2 | N89: 2 MAS DE LABORATORIO
I90: JAIME FUENZALIDA, HECTOR | J90: =SUMIF($I$11:$N$67,$I90,K$11:K$67) -> 18 | K90: =SUMIF($I$11:$N$67,$I90,L$11:L$67) -> 4 | L90: =SUMIF($I$11:$N$67,$I90,M$11:M$67) -> 22 | M90: 4 | N90: SE MANTIENE IGUAL
I91: PLAZA BOMBAL MANUEL | J91: =SUMIF($I$11:$N$67,$I91,K$11:K$67) -> 6 | K91: =SUMIF($I$11:$N$67,$I91,L$11:L$67) -> 0 | L91: =SUMIF($I$11:$N$67,$I91,M$11:M$67) -> 6 | M91: =SUMIF($I$11:$N$67,$I91,N$11:N$67) -> 0 | N91: SIGUE IGUAL
I92: RÍOS PACHECO, NELSON | J92: =SUMIF($I$11:$N$67,$I92,K$11:K$67) -> 6 | K92: =SUMIF($I$11:$N$67,$I92,L$11:L$67) -> 6 | L92: =SUMIF($I$11:$N$67,$I92,M$11:M$67) -> 16 | M92: 8 | N92: 2 MAS DE LABORATORIO
I93: SANCHEZ ESPINOZA, JAVIERA | J93: =SUMIF($I$11:$N$67,$I93,K$11:K$67) -> 0 | K93: =SUMIF($I$11:$N$67,$I93,L$11:L$67) -> 0
I94: GARRIDO MATÍAS | J94: =SUMIF($I$11:$N$67,$I94,K$11:K$67) -> 8 | K94: =SUMIF($I$11:$N$67,$I94,L$11:L$67) -> 6 | L94: 16 | M94: 2 | N94: 8 MAS DE CLASES / 4 MENOS DE LABORATORIO
L95: PRIMERO Y TERCERO
J96: =SUM(J88:M94) -> 172

Sheet ELECTR 
A1: Escuela Naval "A. Prat"
A2: Departamento Educación
A3: Unidad de Coordinación Académica
A5: HORAS DE CLASES POR CURSO - PROFESOR
A6: AÑO ACADÉMICO 2025
A7: CÁTEDRA : | D7: ELECTROTECNIA
D8: HORAS SEMANALES
A9: CURSO | C9: CÁTEDRA | D9: ASIGNATURAS | E9: 1er SEM. | G9: 2º SEM. | I9: PROFESOR
E10: SIST. | F10: LAB | G10: SIST. | H10: LAB
A11: 2do IM Mod | C11: ELECTROTECNIA | D11: ELECTROTECNIA IM | E11: 3 | I11: DE LA FUENTE VÍCTOR
A12: 2do IM Mod | C12: ELECTROTECNIA | D12: LABORATORIO ELECTROTECNIA IM | F12: 1 | I12: ARANCIBIA DAMARIS
A13: 4to A | C13: ELECTROTECNIA | D13: ELECTROTECNIA | E13: 4 | I13: DE LA FUENTE VÍCTOR
A14: 4to A | C14: ELECTROTECNIA | D14: LABORATORIO ELECTROTECNIA | F14: 2 | I14: ARANCIBIA DAMARIS
A15: 4to B | C15: ELECTROTECNIA | D15: ELECTROTECNIA | E15: 4 | I15: DE LA FUENTE VÍCTOR
A16: 4to B | C16: ELECTROTECNIA | D16: LABORATORIO ELECTROTECNIA | F16: 2 | I16: ARANCIBIA DAMARIS
A17: 4to C | C17: ELECTROTECNIA | D17: ELECTROTECNIA | E17: 4 | I17: DE LA FUENTE VÍCTOR
A18: 4to C | C18: ELECTROTECNIA | D18: LABORATORIO ELECTROTECNIA | F18: 2 | I18: ARANCIBIA DAMARIS
K20: =E12 -> 0 | L20: =F12 -> 1 | M20: =G12 -> 0 | N20: =H12 -> 0
D22: CARGA 2025 | E22: =+SUM(E11:E18) -> 15 | F22: =+SUM(F11:F18) -> 7 | G22: =+SUM(G11:G18) -> 0 | H22: =+SUM(H11:H18) -> 0 | I22: =SUM(E22:H22) -> 22
D23: CARGA 2024 | E23: 3 | F23: 1 | G23: 4 | H23: 1 | I23: =SUM(E23:H23) -> 9
I25: RESUMEN | J25: 1 Sem | K25: LAB | L25: 2 Sem | M25: LAB
I26: DE LA FUENTE VÍCTOR | J26: =SUMIF($I$11:$I$19,$I26,E$11:E$19) -> 15 | K26: =SUMIF($I$11:$I$19,$I26,F$11:F$19) -> 0 | L26: =SUMIF($I$11:$N$20,$I26,M$11:M$20) -> 0 | M26: =SUMIF($I$11:$N$20,$I26,N$11:N$20) -> 0
I27: ARANCIBIA DAMARIS | J27: =SUMIF($I$11:$I$19,$I27,E$11:E$19) -> 0 | K27: =SUMIF($I$11:$I$19,$I27,F$11:F$19) -> 7 | L27: =SUMIF($I$11:$N$20,$I27,M$11:M$20) -> 0 | M27: =SUMIF($I$11:$N$20,$I27,N$11:N$20) -> 0
J28: =SUMIF($I$11:$I$19,$I28,E$11:E$19) -> 0 | K28: =SUMIF($I$11:$I$19,$I28,E$11:E$19) -> 0 | L28: =SUMIF($I$11:$N$20,$I28,M$11:M$20) -> 0 | M28: =SUMIF($I$11:$N$20,$I28,N$11:N$20) -> 0
J30: =SUM(J26:M28) -> 22

Sheet QUÍM
A1: Escuela Naval "A. Prat"
A2: Departamento Educación
A3: Unidad de Coordinación Académica
A5: HORAS DE CLASES POR CURSO - PROFESOR
A6: AÑO ACADÉMICO 2025
A7: CÁTEDRA : | D7: QUÍMICA
D8: HORAS SEMANALES
A9: CURSO | C9: CÁTEDRA | D9: ASIGNATURAS | E9: 1er SEM. | G9: 2º SEM. | I9: PROFESOR
E10: SIST. | F10: LAB | G10: SIST. | H10: LAB
A11: 2do EJ | B11: A | C11: QUÍMICA | D11: QUÍMICA APLICADA .1 | E11: 4 | I11: GALLARDO FELIPE
A12: 2do EJ | B12: A | C12: QUÍMICA | D12: LABORATORIO QUÍMICA APLICADA .1 | F12: 2 | I12: PIZARRO LORENA
A13: 2do EJ | B13: A | C13: QUÍMICA | D13: QUÍMICA APLICADA .2 | G13: 2 | I13: GALLARDO FELIPE
A14: 2do EJ | B14: A | C14: QUÍMICA | D14: LABORATORIO QUÍMICA APLICADA .2 | H14: 1 | I14: PUENTES MÓNICA
A15: 2do EJ | B15: B | C15: QUÍMICA | D15: QUÍMICA APLICADA .1 | E15: 4 | I15: GALLARDO FELIPE
A16: 2do EJ | B16: B | C16: QUÍMICA | D16: LABORATORIO QUÍMICA APLICADA .1 | F16: 2 | I16: PUENTES MÓNICA
A17: 2do EJ | B17: B | C17: QUÍMICA | D17: QUÍMICA APLICADA .2 | G17: 2 | I17: GALLARDO FELIPE
A18: 2do EJ | B18: B | C18: QUÍMICA | D18: LABORATORIO QUÍMICA APLICADA .2 | H18: 1 | I18: PIZARRO LORENA
A19: 2do EJ | B19: C | C19: QUÍMICA | D19: QUÍMICA APLICADA .1 | E19: 4 | I19: PIZARRO LORENA
A20: 2do EJ | B20: C | C20: QUÍMICA | D20: LABORATORIO QUÍMICA APLICADA .1 | F20: 2 | I20: PUENTES MÓNICA
A21: 2do EJ | B21: C | C21: QUÍMICA | D21: QUÍMICA APLICADA .2 | G21: 2 | I21: PIZARRO LORENA
A22: 2do EJ | B22: C | C22: QUÍMICA | D22: LABORATORIO QUÍMICA APLICADA .2 | H22: 1 | I22: GALLARDO FELIPE
A23: 2do EJ | B23: D | C23: QUÍMICA | D23: QUÍMICA APLICADA .1 | E23: 4 | I23: PIZARRO LORENA
A24: 2do EJ | B24: D | C24: QUÍMICA | D24: LABORATORIO QUÍMICA APLICADA .1 | F24: 2 | I24: GALLARDO FELIPE
A25: 2do EJ | B25: D | C25: QUÍMICA | D25: QUÍMICA APLICADA .2 | G25: 2 | I25: PIZARRO LORENA
A26: 2do EJ | B26: D | C26: QUÍMICA | D26: LABORATORIO QUÍMICA APLICADA .2 | H26: 1 | I26: GALLARDO FELIPE
A27: 2do EJ | B27: E | C27: QUÍMICA | D27: QUÍMICA APLICADA .1 | E27: 4 | I27: PUENTES MÓNICA
A28: 2do EJ | B28: E | C28: QUÍMICA | D28: LABORATORIO QUÍMICA APLICADA .1 | F28: 2 | I28: GALLARDO FELIPE | J28: 2E
A29: 2do EJ | B29: E | C29: QUÍMICA | D29: QUÍMICA APLICADA .2 | G29: 2 | I29: PUENTES MÓNICA
A30: 2do EJ | B30: E | C30: QUÍMICA | D30: LABORATORIO QUÍMICA APLICADA .2 | H30: 1 | I30: PIZARRO LORENA | J30: 2E
A31: 2do IM Mod | C31: QUÍMICA | D31: QUÍMICA APLICADA IM .1 | E31: 6 | I31: PIZARRO LORENA
A32: 2do IM Mod | C32: QUÍMICA | D32: LABORATORIO QUÍMICA APLICADA IM .1 | F32: 2 | I32: GALLARDO FELIPE
A33: 2do IM | C33: QUÍMICA | D33: QUÍMICA APLICADA IM .2 | G33: 4 | I33: PIZARRO LORENA
A34: 2do IM | C34: QUÍMICA | D34: LABORATORIO QUÍMICA APLICADA IM .2 | H34: 2 | I34: GALLARDO FELIPE
A35: 2do AB | C35: QUÍMICA | D35: QUÍMICA APLICADA AB | G35: 4 | I35: PUENTES MÓNICA
A36: 2do AB | C36: QUÍMICA | D36: LABORATORIO QUÍMICA APLICADA AB | H36: 2 | I36: PIZARRO LORENA
A37: 2do LT | C37: QUÍMICA | D37: QUÍMICA APLICADA LT | E37: 6 | I37: GALLARDO FELIPE
A38: 2do LT | C38: QUÍMICA | D38: LABORATORIO QUÍMICA APLICADA LT | F38: 2 | I38: PIZARRO LORENA
D40: CARGA 2025 | E40: =+SUM(E11:E38) -> 32 | F40: =+SUM(F11:F38) -> 14 | G40: =+SUM(G11:G38) -> 18 | H40: =+SUM(H11:H38) -> 9 | I40: =+H40+G40+F40+E40 -> 73
D41: CARGA 2024 | E41: 32 | F41: 14 | G41: 18 | H41: 9 | I41: =+H41+G41+F41+E41 -> 73
I43: RESUMEN | J43: 1 Sem | K43: LAB | L43: 2 Sem | M43: LAB
I44: GALLARDO FELIPE | J44: =SUMIF($I$11:$I$38,$I44,E$11:E$38) -> 14 | K44: =SUMIF($I$11:$I$38,$I44,F$11:F$38) -> 6 | L44: 4 | M44: =SUMIF($I$11:$I$38,$I44,H$11:H$38) -> 4
I45: PIZARRO LORENA | J45: =SUMIF($I$11:$I$38,$I45,E$11:E$38) -> 14 | K45: =SUMIF($I$11:$I$38,$I45,F$11:F$38) -> 4 | L45: =SUMIF($I$11:$I$38,$I45,M$11:M$38) -> 0 | M45: =SUMIF($I$11:$I$38,$I45,H$11:H$38) -> 4
I46: PUENTES MÓNICA | J46: =SUMIF($I$11:$I$38,$I46,E$11:E$38) -> 4 | K46: =SUMIF($I$11:$I$38,$I46,F$11:F$38) -> 4 | L46: =SUMIF($I$11:$I$38,$I46,M$11:M$38) -> 0 | M46: =SUMIF($I$11:$I$38,$I46,H$11:H$38) -> 1
J50: =SUM(J44:M46) -> 59

Sheet MOD SIST
A1: Escuela Naval "A. Prat"
A2: Departamento Educación
A3: Unidad de Coordinación Académica
A5: HORAS DE CLASES POR CURSO - PROFESOR
A6: AÑO ACADÉMICO 2025
A7: CÁTEDRA : | D7: MODELAMIENTO DE SISTEMAS
D8: HORAS SEMANALES
A9: CURSO | C9: CÁTEDRA | D9: ASIGNATURAS | E9: 1er SEM. | G9: 2º SEM. | I9: PROFESOR
E10: SIST. | F10: LAB | G10: SIST. | H10: LAB
A11: 2do EJ | B11: A | C11: MODELAMIENTO DE SISTEMAS | D11: MODELAMIENTO DE SISTEMAS I | G11: 2 | I11: GALLARDO FELIPE
A12: 2do EJ | B12: B | C12: MODELAMIENTO DE SISTEMAS | D12: MODELAMIENTO DE SISTEMAS I | G12: 2 | I12: GALLARDO FELIPE
A13: 2do EJ | B13: C | C13: MODELAMIENTO DE SISTEMAS | D13: MODELAMIENTO DE SISTEMAS I | G13: 2 | I13: GALLARDO FELIPE
A14: 2do EJ | B14: D | C14: MODELAMIENTO DE SISTEMAS | D14: MODELAMIENTO DE SISTEMAS I | G14: 2 | I14: DE LA FUENTE VÍCTOR
A15: 2do EJ | B15: E | C15: MODELAMIENTO DE SISTEMAS | D15: MODELAMIENTO DE SISTEMAS I | G15: 2 | I15: GALLARDO FELIPE | J15: 2E
A16: 4to EJ | B16: A | C16: MODELAMIENTO DE SISTEMAS | D16: MODELAMIENTO DE SISTEMAS II | G16: 2 | I16: DE LA FUENTE VÍCTOR
A17: 4to EJ | B17: B | C17: MODELAMIENTO DE SISTEMAS | D17: MODELAMIENTO DE SISTEMAS II | G17: 2 | I17: DE LA FUENTE VÍCTOR
A18: 4to EJ | B18: C | C18: MODELAMIENTO DE SISTEMAS | D18: MODELAMIENTO DE SISTEMAS II | G18: 2 | I18: DE LA FUENTE VÍCTOR
D20: CARGA 2025 | E20: =+SUM(E11:E18) -> 0 | G20: =+SUM(G11:G18) -> 16 | I20: =+G20+E20 -> 16
D21: CARGA 2024 | E21: 0 | G21: 16 | I21: =+G21+E21 -> 16
I23: RESUMEN | J23: 1 Sem | K23: LAB | L23: 2 Sem | M23: LAB
I24: GALLARDO FELIPE | J24: =SUMIF($I$11:$I$18,$I24,E$11:E$18) -> 0 | L24: =SUMIF($I$11:$I$18,$I24,G$11:G$18) -> 8
I25: DE LA FUENTE VÍCTOR | J25: =SUMIF($I$11:$I$18,$I25,E$11:E$18) -> 0 | L25: =SUMIF($I$11:$I$18,$I25,G$11:G$18) -> 8
J28: =SUM(L24:L26) -> 16

Sheet CÍRCULOS
A1: Escuela Naval "A. Prat"
A2: Departamento Educación
A3: Unidad de Coordinación Académica
A5: HORAS DE CLASES POR CURSO - PROFESOR
A6: AÑO ACADÉMICO 2025
A7: CÁTEDRA : | D7: CÍRCULOS
D8: HORAS SEMANALES
A9: CURSO | C9: CÁTEDRA | D9: ASIGNATURAS | E9: 1er SEM. | G9: 2º SEM. | I9: PROFESOR
E10: SIST. | F10: LAB | G10: SIST. | H10: LAB
C11: CÍRCULO CULTURAL | D11: PERIODISMO Y FOGONAZO | F11: 2 | H11: 2 | I11: BUCCAREY FRANCIS
C12: CÍRCULO CULTURAL | D12: REGISTROS AUDIOVISUALES Y DIFUSION | F12: 2 | H12: 2 | I12: COFRÉ WILLIAMS
C13: CÍRCULO CULTURAL | D13: BAILE Y FOLKLORE | F13: 3 | H13: 3 | I13: CARVACHO KISSY
C14: CÍRCULO CULTURAL | D14: TEATRO | F14: 3 | H14: 3 | I14: MENDEZ CONSTANZA
C15: CÍRCULO CULTURAL | D15: PINTURA | F15: 3 | H15: 3 | I15: TURENNE CLAUDINA
C16: CÍRCULO CULTURAL | D16: MÚSICA | F16: 3 | H16: 3 | I16: ORDOÑEZ VERÓNICO
C17: CÍRCULO CULTURAL | D17: HISTORIA Y REALIDAD INTERNACIONAL | F17: 2 | H17: 2 | I17: RÍOS JORGE
C18: CÍRCULO CULTURAL | D18: CIENCIA, TECNOLOGÍA E INNOVACIÓN | F18: 2 | H18: 2 | I18: DE LA FUENTE VÍCTOR
C19: CÍRCULO CULTURAL | D19: PASTORAL | F19: 0 | H19: 0 | I19: CAPELLÁN
C20: CÍRCULO CULTURAL | D20: DEBATE | F20: 3 | H20: 3 | I20: CARRASCO GONZALO
C21: ASESOR CULTURAL | F21: 28 | H21: 28 | I21: DIETERT CARLOS
E23: =+SUM(E11:E21) -> 0 | F23: =SUM(F11:F21) -> 51 | G23: =+SUM(G11:G21) -> 0 | H23: =SUM(H11:H21) -> 51 | I23: =F23+H23 -> 102
K24: 1 Sem | M24: 2 Sem
I25: BUCCAREY FRANCIS | K25: =SUMIF($I$11:$I$21,$I25,F$11:F$21) -> 2 | M25: =SUMIF($I$11:$I$21,$I25,H$11:H$21) -> 2
I26: CARVACHO KISSY | K26: =SUMIF($I$11:$I$21,$I26,F$11:F$21) -> 3 | M26: =SUMIF($I$11:$I$21,$I26,H$11:H$21) -> 3
I27: RÍOS JORGE | K27: =SUMIF($I$11:$I$21,$I27,F$11:F$21) -> 2 | M27: =SUMIF($I$11:$I$21,$I27,H$11:H$21) -> 2
I28: TURENNE CLAUDINA | K28: =SUMIF($I$11:$I$21,$I28,F$11:F$21) -> 3 | M28: =SUMIF($I$11:$I$21,$I28,H$11:H$21) -> 3
I29: ORDOÑEZ VERÓNICO | K29: =SUMIF($I$11:$I$21,$I29,F$11:F$21) -> 3 | M29: =SUMIF($I$11:$I$21,$I29,H$11:H$21) -> 3
I30: DE LA FUENTE VÍCTOR | K30: =SUMIF($I$11:$I$21,$I30,F$11:F$21) -> 2 | M30: =SUMIF($I$11:$I$21,$I30,H$11:H$21) -> 2
I31: CAPELLÁN | K31: =SUMIF($I$11:$I$21,$I31,F$11:F$21) -> 0 | M31: =SUMIF($I$11:$I$21,$I31,H$11:H$21) -> 0
I32: CARRASCO GONZALO | K32: =SUMIF($I$11:$I$21,$I32,F$11:F$21) -> 3 | M32: =SUMIF($I$11:$I$21,$I32,H$11:H$21) -> 3
I33: COFRÉ WILLIAMS | K33: =SUMIF($I$11:$I$21,$I33,F$11:F$21) -> 2 | M33: =SUMIF($I$11:$I$21,$I33,H$11:H$21) -> 2
I34: DIETERT CARLOS | K34: =SUMIF($I$11:$I$21,$I34,F$11:F$21) -> 28 | M34: =SUMIF($I$11:$I$21,$I34,H$11:H$21) -> 28
I35: MENDEZ CONSTANZA | K35: =SUMIF($I$11:$I$21,$I35,F$11:F$21) -> 3 | M35: =SUMIF($I$11:$I$21,$I35,H$11:H$21) -> 3
K38: =SUM(K25:M35) -> 102

Sheet CONSULTORÍAS
C4: CONSULTORÍAS SEGÚN PLAN DE ESTUDIO 2025
E7: HORAS PLAN DE ESTUDIO | F7: PROFESOR | G7: ASIGNADAS
C8: FÍSICA | D8: CONS_FIS1 | E8: 4 | F8: RIOS NELSON | G8: 3 | H8: 0 | I8: *
D9: CONS_FIS2 | E9: 4 | F9: HÉCTOR JAIME | G9: 2 | H9: 2 | I9: *
D10: CONS_FIS3 | E10: 4 | F10: GARRIDO MATÍAS | G10: 2 | H10: 2
C11: QUÍMICA | D11: CONS_QUI1 | E11: 2 | F11: FELIPE GALLARDO | G11: 2 | H11: 4 | I11: *
D12: CONS_QUI2 | E12: 2 | F12: LORENA PIZARRO | G12: 2 | I12: *
D13: CONS_QUI3 | E13: 2 | F13: MONICA PUENTES | G13: 2 | I13: *
C14: NAVEGACIÓN | D14: CONS_NAV1 | E14: 2 | F14: ENRIQUE COLOMA | G14: 3 | H14: 1 | I14: *
D15: CONS_NAV2 | E15: 2 | F15: ROJAS BUSTOS | G15: 1 | H15: 1 | I15: *
C16: LENGUAJE | D16: CONS_LEN1 | E16: 4 | F16: CAMPOS VALESKA | G16: 4 | H16: 2 | I16: 2*
D17: CONS_LEN1
C18: HISTORIA | D18: CONS_HIS1 | E18: 2 | F18: JORGE RÍOS | G18: 2 | H18: 1 | I18: *
D19: CONS_HIS2 | F19: ROMÁN LORENA | G19: 2 | I19: *
C21: ELECTRO y MODELAMIENTO | D21: CONS_ELEC | E21: 1 | F21: DE LA FUENTE VÍCTOR | G21: 2 | H21: 2 | I21: *
C22: MATEMÁTICAS | D22: CONS_MAT1 | E22: 4 | F22: FRANCISCO DE LA BARRERA | G22: 2 | H22: 3 | I22: *
D23: CONS_MAT2 | E23: 4 | H23: 2
D24: CONS_MAT3 | E24: 8 | H24: 3
C25: INGLÉS | D25: CONS_INGL2 | E25: 4 | F25: GONZÁLEZ DORIS | G25: 6 | H25: 4 | I25: *
D27: NIVEL_TAE | E27: 2 | H27: 2
F28: KEITEL JORGE | G28: 4
D29: TOTALES | E29: =SUM(E8:E28) -> 51 | G29: =SUM(G8:G28) -> 39 | H29: =SUM(H8:H28) -> 29
H31: =+H29-21 -> 8

Sheet ED FÍSICA 1ER AÑO
A1: Escuela Naval "A. Prat"
A2: Departamento Educación
A3: Unidad de Coordinación Académica
A5: HORAS DE CLASES POR CURSO - PROFESOR
A6: AÑO ACADÉMICO 2019
A7: CÁTEDRA : | D7: EDUCACIÓN FÍSICA
D8: HORAS SEMANALES
A9: CURSO | C9: CÁTEDRA | D9: ASIGNATURAS | E9: 1er SEM. | G9: 2º SEM. | I9: PROFESOR
E10: SIST. | F10: LAB | G10: SIST. | H10: LAB
A11: 1ro | B11: A | C11: EDUCACIÓN FÍSICA | D11: NATACIÓN I.1
A12: 1ro | B12: A | C12: EDUCACIÓN FÍSICA | D12: NATACIÓN I.2
A13: 1ro | B13: A | C13: EDUCACIÓN FÍSICA | D13: FORMACIÓN FÍSICA BASE
A14: 1ro | B14: A | C14: EDUCACIÓN FÍSICA | D14: ATLETISMO I
A15: 1ro | B15: B | C15: EDUCACIÓN FÍSICA | D15: NATACIÓN I.1
A16: 1ro | B16: B | C16: EDUCACIÓN FÍSICA | D16: NATACIÓN I.2
A17: 1ro | B17: B | C17: EDUCACIÓN FÍSICA | D17: FORMACIÓN FÍSICA BASE
A18: 1ro | B18: B | C18: EDUCACIÓN FÍSICA | D18: ATLETISMO I
A19: 1ro | B19: C | C19: EDUCACIÓN FÍSICA | D19: NATACIÓN I.1
A20: 1ro | B20: C | C20: EDUCACIÓN FÍSICA | D20: NATACIÓN I.2
A21: 1ro | B21: C | C21: EDUCACIÓN FÍSICA | D21: FORMACIÓN FÍSICA BASE
A22: 1ro | B22: C | C22: EDUCACIÓN FÍSICA | D22: ATLETISMO I
... A50: 1ro | B50: E | C50: EDUCACIÓN FÍSICA | D50: ATLETISMO I
E53: =+SUM(E11:E28) -> 0 | F53: =+SUM(F11:F28) -> 0 | I53: =+E53+F53 -> 0
J55: 1 Sem | K55: 2 Sem | L55: HORAS SISTEMÁTICAS | M55: HORAS SISTEMÁTICAS | N55: LABORATORIO | O55: LABORATORIO ANUALIZADO
I56: HARDY CATHERINE | J56: 4 | K56: 0 | L56: =+AVERAGE(J56:K56) -> 2 | M56: =+ROUND(L56,0) -> 2 | N56: 4 | O56: =ROUND(+N56/2,0) -> 2
I57: DE LA BARRERA FRANCISCO | J57: 4 | K57: 0 | L57: =+AVERAGE(J57:K57) -> 2 | M57: =+ROUND(L57,0) -> 2 | N57: 6 | O57: =ROUND(+N57/2,0) -> 3
I58: LEIVA YANINA | J58: 2 | K58: 0 | L58: =+AVERAGE(J58:K58) -> 1 | M58: =+ROUND(L58,0) -> 1 | N58: 0 | O58: =ROUND(+N58/2,0) -> 0

Sheet ED FÍSICA 2DO AÑO
A1: Escuela Naval "A. Prat"
A2: Departamento Educación
A3: Unidad de Coordinación Académica
A5: HORAS DE CLASES POR CURSO - PROFESOR
A6: AÑO ACADÉMICO 2019
A7: CÁTEDRA : | D7: EDUCACIÓN FÍSICA
D8: HORAS SEMANALES
A9: CURSO | C9: CÁTEDRA | D9: ASIGNATURAS | E9: 1er SEM. | G9: 2º SEM. | I9: PROFESOR
E10: SIST. | F10: LAB | G10: SIST. | H10: LAB
A11: 2do | B11: A | C11: EDUCACIÓN FÍSICA | D11: BÁSQUETBOL I
A12: 2do | B12: A | C12: EDUCACIÓN FÍSICA | D12: ACONDICIONAMIENTO FÍSICO
A13: 2do | B13: A | C13: EDUCACIÓN FÍSICA | D13: GIMNASIA I
A14: 2do | B14: A | C14: EDUCACIÓN FÍSICA | D14: NATACIÓN II
A15: 2do | B15: B | C15: EDUCACIÓN FÍSICA | D15: BÁSQUETBOL I
A16: 2do | B16: B | C16: EDUCACIÓN FÍSICA | D16: ACONDICIONAMIENTO FÍSICO
A17: 2do | B17: B | C17: EDUCACIÓN FÍSICA | D17: GIMNASIA I
A18: 2do | B18: B | C18: EDUCACIÓN FÍSICA | D18: NATACIÓN II
A19: 2do | B19: C | C19: EDUCACIÓN FÍSICA | D19: BÁSQUETBOL I
A20: 2do | B20: C | C20: EDUCACIÓN FÍSICA | D20: ACONDICIONAMIENTO FÍSICO
A21: 2do | B21: C | C21: EDUCACIÓN FÍSICA | D21: GIMNASIA I
A22: 2do | B22: C | C22: EDUCACIÓN FÍSICA | D22: NATACIÓN II
... A50: 2do | B50: E | C50: EDUCACIÓN FÍSICA | D50: NATACIÓN II
E53: =+SUM(E11:E28) -> 0 | F53: =+SUM(F11:F28) -> 0 | I53: =+E53+F53 -> 0
J55: 1 Sem | K55: 2 Sem | L55: HORAS SISTEMÁTICAS | M55: HORAS SISTEMÁTICAS | N55: LABORATORIO | O55: LABORATORIO ANUALIZADO
I56: HARDY CATHERINE | J56: 4 | K56: 0 | L56: =+AVERAGE(J56:K56) -> 2 | M56: =+ROUND(L56,0) -> 2 | N56: 4 | O56: =ROUND(+N56/2,0) -> 2
I57: DE LA BARRERA FRANCISCO | J57: 4 | K57: 0 | L57: =+AVERAGE(J57:K57) -> 2 | M57: =+ROUND(L57,0) -> 2 | N57: 6 | O57: =ROUND(+N57/2,0) -> 3
I58: LEIVA YANINA | J58: 2 | K58: 0 | L58: =+AVERAGE(J58:K58) -> 1 | M58: =+ROUND(L58,0) -> 1 | N58: 0 | O58: =ROUND(+N58/2,0) -> 0

Sheet ED FISICA
B5: HORAS ED. FÍSICA Y SELECCIONADOS
E7: 2019 | I7: IDEAL 2020
G8: HORAS SEMANALES asignadas | J8: HORAS SEMANALES Necesarias | L8: OBSERVACIONES | M8: PLAN DE ESTUDIO Propuesto | N8: Cambio a PROPUESTA PLAN DE ESTUDIO para 2020
B9: SELECCIONADO OLÍMPICO | C9: 10 hr semanales cada Seleccionado | E9: 14 PROFESORES 1 POR C/SELECCIONADO | F9: 14 Seleccionados | G9: =14*10 -> 140 | I9: 16 | J9: =16*10 -> 160 | L9: Se aumenta en 2 horas porque hay 2 seleccionados en donde es necesario dos profesores, por la cantidad de alumnos. | M9: 180 | N9: 160
B10: SELECCIONADO AFICIONADO | C10: 8hr semanales cada Seleccionado | E10: 9 PROFESORES 5 SELECCIONADOS NO CUBIERTOS para AFICIONADOS | F10: 14 Seleccionados | G10: 62 | I10: 14 | J10: =14*8 -> 112 | L10: En 5 seleccionados se trabajo Olímpico y Aficionado juntos | M10: 90 | N10: 112
B11: NIVELACIÓN | C11: 15 Atletismo 15 Natación 15 Gimnasia 7 Cooper, semanal | G11: 51 | J11: 52 | M11: 62 | N11: 52
B12: Competencia y Entrenamiento Especial | G12: 47 | J12: 75 | L12: Con las 75 horas se compensa en algo las horas fuera de la Escuela, en horas nocturnas, o los sábados y domingos. | M12: 60 | N12: 64
B13: REFORZAMIENTO FÍSICO | E13: Los profesores de Nivelación acogen a los de reforzamiento Físico a comienzo de año | G13: 0 | J13: 9 | L13: Solo por los meses de Marzo Abril y Mayo. 27 horas en total , equivalen a 2,25 anual | M13: 0
F14: TOTAL | G14: =+G12+G11+G10+G9 -> 300 | J14: =+J13/12+J12+J11+J10+J9 -> 399.75 | M14: =+M13+M12+M11+M10+M9+L7 -> 392 | N14: =+N13+N12+N11+N10+N9 -> 388

Sheet PROF ED. FISC.
A1: PROFESORES ED. FÍSICA
A3: NOMBRE | B3: VALOR HR. | C3: CANT HR. | D3: DURACION | E3: VALOR TOTAL
A4: NN ATLETISMO 3 (PC CARMONA) | B4: 23313 | C4: 8 | D4: 10 | E4: =D4*C4*B4 -> 1865040
A5: NN ATLETISMO NIVEL (PC ORTIZ) | B5: 23313 | C5: 10 | D5: 10 | E5: =D5*C5*B5 -> 2331300
A6: NN REMO 2 | B6: 37301 | C6: 8 | D6: 10 | E6: =D6*C6*B6 -> 2984080

Sheet ASESOR DE CURSO
B2: ESCUELA NAVAL ARTURO PRAT
B3: DEPARTAMENTO DE EDUCACIÓN
C7: ASESORES ÁREA ACADÉMICA 2025
C8: 1ER SEMESTRE | D8: 2DO SEMESTRE | F8: 2024 | K8: 2025
A9: 1ro | B9: A | C9: CAMPOS VALEZKA | D9: CAMPOS VALEZKA | F9: 1 | H9: CAMPOS VALEZKA | I9: =COUNTIF($C$9:$C$37,H9) -> 1 | J9: =COUNTIF($D$9:$D$37,H9) -> 1 | K9: =(I9+J9)/2 -> 1
A10: 1ro | B10: B | C10: ARENTSEN CHRISTIANE | D10: ARENTSEN CHRISTIANE | F10: 1 | H10: ARENTSEN CHRISTIANE | I10: =COUNTIF($C$9:$C$37,H10) -> 1 | J10: =COUNTIF($D$9:$D$37,H10) -> 1 | K10: =(I10+J10)/2 -> 1
A11: 1ro | B11: C | C11: RÍOS JORGE | D11: RÍOS JORGE | F11: 3 | H11: RÍOS JORGE | I11: =COUNTIF($C$9:$C$37,H11) -> 2 | J11: =COUNTIF($D$9:$D$37,H11) -> 2 | K11: =(I11+J11)/2 -> 2
A12: 1ro | B12: D | C12: DE LA BARRERA FRANCISCO | D12: DE LA BARRERA FRANCISCO | F12: 1 | H12: DE LA BARRERA FRANCISCO | I12: =COUNTIF($C$9:$C$37,H12) -> 1 | J12: =COUNTIF($D$9:$D$37,H12) -> 1 | K12: =(I12+J12)/2 -> 1
A13: 1ro | B13: E | C13: RÍOS JORGE | D13: RÍOS JORGE | F13: 2 | H13: HARDY CATHERINE | I13: =COUNTIF($C$9:$C$37,H13) -> 2 | J13: =COUNTIF($D$9:$D$37,H13) -> 2 | K13: =(I13+J13)/2 -> 2
A14: 1ro | B14: H | C14: HARDY CATHERINE | D14: HARDY CATHERINE | F14: 1 | H14: MAYNE_NICOLLS MICHAEL | I14: =COUNTIF($C$9:$C$37,H14) -> 1 | J14: =COUNTIF($D$9:$D$37,H14) -> 1 | K14: =(I14+J14)/2 -> 1
A15: 1ro | B15: K | C15: MAYNE_NICOLLS MICHAEL | D15: MAYNE_NICOLLS MICHAEL | F15: 2 | H15: RÍOS NELSON | I15: =COUNTIF($C$9:$C$37,H15) -> 1 | J15: =COUNTIF($D$9:$D$37,H15) -> 1 | K15: =(I15+J15)/2 -> 1
A16: 2do | B16: AB | C16: ROMÁN LORENA | D16: GUNDLACH HÉCTOR | F16: 2 | H16: JAIME HÉCTOR | I16: =COUNTIF($C$9:$C$37,H16) -> 2 | J16: =COUNTIF($D$9:$D$37,H16) -> 2 | K16: =(I16+J16)/2 -> 2
A17: 2do | B17: IM | C17: SIELFELD JUAN | D17: SIELFELD JUAN | F17: 2 | H17: PIZARRO LORENA | I17: =COUNTIF($C$9:$C$37,H17) -> 2 | J17: =COUNTIF($D$9:$D$37,H17) -> 2 | K17: =(I17+J17)/2 -> 2
A18: 2do | B18: LT | C18: MUNITA JUAN CARLOS | D18: MUNITA JUAN CARLOS | F18: 3 | H18: ROMÁN LORENA | I18: =COUNTIF($C$9:$C$37,H18) -> 3 | J18: =COUNTIF($D$9:$D$37,H18) -> 3 | K18: =(I18+J18)/2 -> 3
A19: 2do | B19: A | C19: RÍOS NELSON | D19: RÍOS NELSON | F19: 1 | H19: PUENTES MÓNICA | I19: =COUNTIF($C$9:$C$37,H19) -> 1 | J19: =COUNTIF($D$9:$D$37,H19) -> 1 | K19: =(I19+J19)/2 -> 1
A20: 2do | B20: B | C20: JAIME HÉCTOR | D20: JAIME HÉCTOR | F20: 3 | H20: SIELFELD JUAN | I20: =COUNTIF($C$9:$C$37,H20) -> 3 | J20: =COUNTIF($D$9:$D$37,H20) -> 3 | K20: =(I20+J20)/2 -> 3
... A23: 2do | B23: E | C23: PUENTES MÓNICA | D23: PUENTES MÓNICA | F23: 2 | H23: BAQUEDANO SOLEDAD | I23: =COUNTIF($C$9:$C$37,H23) -> 1 | J23: =COUNTIF($D$9:$D$37,H23) -> 1 | K23: =(I23+J23)/2 -> 1
A24: 3ro | B24: AB | C24: SIMS EDUARDO | D24: SIMS EDUARDO
A25: 3ro | B25: IM | C25: SIELFELD JUAN | D25: SIELFELD JUAN | F25: 1 | H25: GARCÍA CARLOS | I25: =COUNTIF($C$9:$C$37,H25) -> 1 | J25: =COUNTIF($D$9:$D$37,H25) -> 1 | K25: =(I25+J25)/2 -> 1
A26: 3ro | B26: LT | C26: KEITEL JORGE | D26: KEITEL JORGE | F26: 2 | H26: GUNDLACH HÉCTOR | I26: =COUNTIF($C$9:$C$37,H26) -> 2 | J26: =COUNTIF($D$9:$D$37,H26) -> 2 | K26: =(I26+J26)/2 -> 2
A27: 3ro | B27: A | C27: JAIME HÉCTOR | D27: JAIME HÉCTOR | F27: 1 | H27: ROJAS MARIANO | I27: =COUNTIF($C$9:$C$37,H27) -> 1 | J27: =COUNTIF($D$9:$D$37,H27) -> 1 | K27: =(I27+J27)/2 -> 1
A28: 3ro | B28: B | C28: HARDY CATHERINE | D28: HARDY CATHERINE | F28: 1 | H28: COLOMA ENRIQUE | I28: =COUNTIF($C$9:$C$37,H28) -> 1 | J28: =COUNTIF($D$9:$D$37,H28) -> 1 | K28: =(I28+J28)/2 -> 1
A29: 3ro | B29: C | C29: ROMÁN LORENA | D29: ROMÁN LORENA | H29: KEITEL JORGE | K29: 1
A30: 3ro | B30: D | C30: ROMÁN LORENA | D30: ROMÁN LORENA | F30: =SUM(F9:F29) -> 30 | K30: =SUM(K9:K29) -> 29
A31: 4to | B31: AB | C31: GARCÍA CARLOS | D31: GARCÍA CARLOS
A32: 4to | B32: IM | C32: SIELFELD JUAN | D32: SIELFELD JUAN
A33: 4to | B33: LT | C33: COLOMA ENRIQUE | D33: COLOMA ENRIQUE
A34: 4to | B34: A | C34: BAQUEDANO SOLEDAD | D34: BAQUEDANO SOLEDAD
A35: 4to | B35: B | C35: GUNDLACH HÉCTOR | D35: ROMÁN LORENA
A36: 4to | B36: C | C36: ROJAS MARIANO | D36: ROJAS MARIANO
A37: OM | C37: GUNDLACH HÉCTOR | D37: GUNDLACH HÉCTOR
D42: FELIPE GONZÁLEZ FUSTER
D43: CAPITÁN DE CORBETA IM
D44: JEFE DEPARTAMENTO DE EDUCACIÓN

Sheet CONSOLIDADO
AL1: mov | AM1: mov+rancho | AN1: sdo imp
H2: HORAS SISTEMÁTICAS | L2: HORAS LABORATORIO | AL2: 7127 | AM2: 21110 | AN2: 0.035
B3: NOMBRE | C3: VALOR HORA | D3: PC: CIVIL PM:MILIT | E3: CA:CAPRE | F3: CB FP FH CI EF | G3: A:ANUAL S:SEME | H3: 1 Sem | I3: 2 Sem | J3: HORAS SISTEMÁTICAS | K3: HORAS SISTEMÁTICAS | L3: 1 Sem | M3: 2 Sem | N3: HORAS LABORATORIO | O3: MANTENCIÓN LABORATORIO | P3: ACT. CULTURALES | Q3: ACTIVIDAD DOCENTE | R3: SELECCIONADO OLÍMPICO | S3: SELECCIONADO AFICIONADO | T3: COMPETENCIA Y ENTREN. ESPECIAL | U3: NIVELACIÓN | V3: TUTORÍA O CONSULTORÍA | W3: COORDINADOR ACTIVIDADES PROFESIONALES | X3: ACT. PATRÓN DEP. BAHIA | Y3: ACT. PRÁCTICAS SIMULADOR | Z3: ACTIVIDADES PROFESIONALES | AA3: ACT. PROF. FORMACIÓN NAVAL | AB3: MOODLE | AC3: ASESOR DE CURSO ACADÉMICO | AD3: ASESOR DE CURSO ED. FÍSICA | AE3: JEFE DE CÁTEDRA | AF3: JEFE DE CÁTEDRA ED. FÍSICA | AG3: JEFE DE FACULTAD | AH3: ASESOR DOCENTE AC | AI3: ASESOR DOCENTE ED. FÍSICA | AJ3: TOTAL HORAS 2025 | AL3: ASIGNACIÓN LOCOMOCIÓN | AM3: ASIGNACIÓN DE RANCHO | AN3: BONIFICACIÓN COMPESATORIA DE SALUD | AO3: MESES | AP3: ÁREA ACADÉMICA | AQ3: =+AL3 -> ASIGNACIÓN LOCOMOCIÓN | AR3: =+AM3 -> ASIGNACIÓN DE RANCHO | AS3: =+AN3 -> BONIFICACIÓN COMPESATORIA DE SALUD | AT3: SUELDO BRUTO MENSUAL 2025 | AU3: Merma Mensual
A4: 4 | B4: A | N4: =TRUNC(SUM(L4:M4)/2,0) -> 0 | Q4: =TRUNC(IF(D4="PM",0,IF(E4="CA",(K4)/6,(K4)/3)),0) -> 0
A5: 6 | B5: AGUAD NICOLÁS | C5: 76800 | D5: PC | F5: EF | G5: A | H5: 6 | I5: 6 | J5: =IF(G5="A",(H5+I5)/2,H5+I5) -> 6 | K5: =TRUNC(J5,0) -> 6 | N5: =TRUNC(SUM(L5:M5)/2,0) -> 0 | Q5: =TRUNC(IF(D5="PM",0,IF(E5="CA",(K5)/6,(K5)/3)),0) -> 2 | U5: 10 | AD5: 1 | AI5: 18 | AJ5: =SUM(N5:AI5)+K5 -> 37 | AL5: =+IF(D5="PC",1,0) -> 1 | AM5: =IF(D5="PC", +IF(AJ5>17,1,0),0) -> 1 | AN5: =IF(E5="CA",1,0) -> 0 | AO5: =+IF(G5="S",5,+IF(D5="PM",10,12)) -> 12 | AP5: =+C5*AO5*AJ5 -> 34099200 | AQ5: 115008 | AR5: 340620 | AS5: =AP5*$AN$2*AN5 -> 0 | AT5: =SUM(AP5:AS5)/AO5 -> 2879569 | AU5: =AT5*5/44 -> 327223.75 | AV5: =AP5+AQ5+AR5 -> 34554828
B6: ALTAMIRANO MARTA | C6: 49600 | D6: PC | F6: UAC | G6: A | AH6: 36 | AJ6: =SUM(N6:AI6)+K6 -> 36 | AL6: 1 | AM6: 1 | AN6: 0 | AO6: 12 | AP6: =+C6*AO6*AJ6 -> 21427200 | AQ6: 115008 | AR6: 340620 | AT6: =SUM(AP6:AS6)/AO6 -> 1823569
A7: 7 | B7: ARANCIBIA DAMARIS | C7: 68800 | D7: PC | F7: CB | G7: A | H7: 10 | I7: 10 | J7: =IF(G7="A",(H7+I7)/2,H7+I7) -> 10 | K7: =TRUNC(J7,0) -> 10 | L7: 15 | M7: 14 | N7: =TRUNC(SUM(L7:M7)/2,0) -> 14 | O7: 7 | Q7: =TRUNC(IF(D7="PM",0,IF(E7="CA",(K7)/6,(K7)/3)),0) -> 3 | AJ7: 33 | AL7: =+IF(D7="PC",1,0) -> 1 | AM7: =IF(D7="PC", +IF(AJ7>17,1,0),0) -> 1 | AN7: =IF(I7="CA",1,0) -> 0 | AO7: =+IF(G7="S",5,+IF(D7="PM",10,12)) -> 12 | AP7: =+C7*AO7*AJ7 -> 27244800 | AQ7: 115008 | AR7: 340620 | AS7: =AP7*$AN$2*AN7 -> 0 | AT7: =SUM(AP7:AS7)/AO7 -> 2308369 | AU7: =AT7*5/44 -> 262314.66
A8: 9 | B8: ARELLANO IGNACIO | C8: 51200 | D8: PC | F8: EF | G8: A | J8: =IF(G8="A",(H8+I8)/2,H8+I8) -> 0 | K8: =TRUNC(J8,0) -> 0 | N8: =TRUNC(SUM(L8:M8)/2,0) -> 0 | Q8: =TRUNC(IF(D8="PM",0,IF(E8="CA",(K8)/6,(K8)/3)),0) -> 0 | R8: 10 | T8: 1 | AJ8: =SUM(N8:AI8)+K8 -> 11 | AL8: =+IF(D8="PC",1,0) -> 1 | AM8: =IF(D8="PC", +IF(AJ8>17,1,0),0) -> 0 | AN8: =IF(E8="CA",1,0) -> 0 | AO8: =+IF(G8="S",5,+IF(D8="PM",10,12)) -> 12 | AP8: =+C8*AO8*AJ8 -> 6758400 | AQ8: 115008 | AR8: =AM8*$AM$2*AO8 -> 0 | AS8: =AP8*$AN$2*AN8 -> 0 | AT8: =SUM(AP8:AS8)/AO8 -> 572784 | AU8: =AT8*5/44 -> 65089.091
A9: 10 | B9: ARENTSEN CHRISTIANE | C9: 65600 | D9: PC | F9: FH | G9: A | H9: 26 | I9: 18 | J9: =IF(G9="A",(H9+I9)/2,H9+I9) -> 22 | K9: =TRUNC(J9,0) -> 22 | L9: 0 | M9: 0 | N9: =TRUNC(SUM(L9:M9)/2,0) -> 0 | Q9: =TRUNC(IF(D9="PM",0,IF(E9="CA",(K9)/6,(K9)/3)),0) -> 7 | AC9: 1 | AE9: 2 | AJ9: =SUM(N9:AI9)+K9 -> 32 | AL9: =+IF(D9="PC",1,0) -> 1 | AM9: =IF(D9="PC", +IF(AJ9>17,1,0),0) -> 1 | AN9: =IF(I9="CA",1,0) -> 0 | AO9: =+IF(G9="S",5,+IF(D9="PM",10,12)) -> 12 | AP9: =+C9*AO9*AJ9 -> 25190400 | AQ9: 115008 | AR9: 340620 | AS9: =AP9*$AN$2*AN9 -> 0 | AT9: =SUM(AP9:AS9)/AO9 -> 2137169 | AU9: =AT9*5/44 -> 242860.11
A10: 11 | B10: B | N10: =TRUNC(SUM(L10:M10)/2,0) -> 0 | Q10: =TRUNC(IF(D10="PM",0,IF(E10="CA",(K10)/6,(K10)/3)),0) -> 0
A11: 13 | B11: BAQUEDANO SOLEDAD | C11: 75200 | D11: PC | F11: CB | G11: A | H11: 26 | I11: 26 | J11: =IF(G11="A",(H11+I11)/2,H11+I11) -> 26 | K11: =TRUNC(J11,0) -> 26 | N11: =TRUNC(SUM(L11:M11)/2,0) -> 0 | Q11: =TRUNC(IF(D11="PM",0,IF(E11="CA",(K11)/6,(K11)/3)),0) -> 8 | AC11: 1 | AJ11: =SUM(N11:AI11)+K11 -> 35 | AL11: =+IF(D11="PC",1,0) -> 1 | AM11: =IF(D11="PC", +IF(AJ11>17,1,0),0) -> 1 | AN11: =IF(E11="CA",1,0) -> 0 | AO11: =+IF(G11="S",5,+IF(D11="PM",10,12)) -> 12 | AP11: =+C11*AO11*AJ11 -> 31584000 | AQ11: 115008 | AR11: 340620 | AS11: =AP11*$AN$2*AN11 -> 0 | AT11: =SUM(AP11:AS11)/AO11 -> 2669969 | AU11: =AT11*5/44 -> 303405.57
A12: 0 | B12: BARRERA CLAUDIA | C12: 75200 | D12: PC | F12: CB | G12: A | H12: 22 | I12: 22 | J12: =IF(G12="A",(H12+I12)/2,H12+I12) -> 22 | K12: =TRUNC(J12,0) -> 22 | N12: =TRUNC(SUM(L12:M12)/2,0) -> 0 | Q12: =TRUNC(IF(D12="PM",0,IF(E12="CA",(K12)/6,(K12)/3)),0) -> 7 | AJ12: =SUM(N12:AI12)+K12 -> 29 | AL12: =+IF(D12="PC",1,0) -> 1 | AM12: =IF(D12="PC", +IF(AJ12>17,1,0),0) -> 1 | AN12: =IF(E12="CA",1,0) -> 0 | AO12: =+IF(G12="S",5,+IF(D12="PM",10,12)) -> 12 | AP12: =+C12*AO12*AJ12 -> 26169600 | AQ12: 115008 | AR12: 340620 | AS12: =AP12*$AN$2*AN12 -> 0 | AT12: =SUM(AP12:AS12)/AO12 -> 2218769 | AU12: =AT12*5/44 -> 252132.84
A13: 16 | B13: BASELLI GIULIO | C13: 62400 | D13: PC | F13: EF | G13: A | J13: =IF(G13="A",(H13+I13)/2,H13+I13) -> 0 | K13: =TRUNC(J13,0) -> 0 | N13: =TRUNC(SUM(L13:M13)/2,0) -> 0 | Q13: =TRUNC(IF(D13="PM",0,IF(E13="CA",(K13)/6,(K13)/3)),0) -> 0 | S13: 10 | AJ13: =SUM(N13:AI13)+K13 -> 10 | AL13: =+IF(D13="PC",1,0) -> 1 | AM13: =IF(D13="PC", +IF(AJ13>17,1,0),0) -> 0 | AN13: =IF(E13="CA",1,0) -> 0 | AO13: =+IF(G13="S",5,+IF(D13="PM",10,12)) -> 12 | AP13: =+C13*AO13*AJ13 -> 7488000 | AQ13: 115008 | AR13: =AM13*$AM$2*AO13 -> 0 | AS13: =AP13*$AN$2*AN13 -> 0 | AT13: =SUM(AP13:AS13)/AO13 -> 633584 | AU13: =AT13*5/44 -> 71998.182
A14: 17 | B14: BASTIDAS CC DIRISNAV | C14: 25631 | D14: PM | F14: FP | G14: S | I14: 4 | J14: =IF(G14="A",(H14+I14)/2,H14+I14) -> 4 | K14: =TRUNC(J14,0) -> 4 | N14: =TRUNC(SUM(L14:M14)/2,0) -> 0 | Q14: =TRUNC(IF(D14="PM",0,IF(E14="CA",(K14)/6,(K14)/3)),0) -> 0 | AJ14: =SUM(N14:AI14)+K14 -> 4 | AL14: =+IF(D14="PC",1,0) -> 0 | AO14: =+IF(G14="S",5,+IF(D14="PM",10,12)) -> 5 | AQ14: =+AL14*AO14*$AL$2 -> 0
A15: 18 | B15: BELLO DANIEL | C15: 73600 | D15: PC | E15: CA | F15: EF | G15: A | H15: 2 | I15: 2 | J15: =IF(G15="A",(H15+I15)/2,H15+I15) -> 2 | K15: =TRUNC(J15,0) -> 2 | N15: =TRUNC(SUM(L15:M15)/2,0) -> 0 | Q15: =TRUNC(IF(D15="PM",0,IF(E15="CA",(K15)/6,(K15)/3)),0) -> 0 | R15: 9 | S15: 1 | T15: 1 | Z15: 16 | AJ15: =SUM(N15:AI15)+K15 -> 29 | AL15: =+IF(D15="PC",1,0) -> 1 | AM15: =IF(D15="PC", +IF(AJ15>17,1,0),0) -> 1 | AN15: =IF(E15="CA",1,0) -> 1 | AO15: =+IF(G15="S",5,+IF(D15="PM",10,12)) -> 12 | AP15: =+C15*AO15*AJ15 -> 25612800 | AQ15: 115008 | AR15: 340620 | AS15: =AP15*$AN$2*AN15 -> 896448 | AT15: =SUM(AP15:AS15)/AO15 -> 2247073 | AU15: =AT15*5/44 -> 255349.2
A16: 20 | B16: BIERWIRTH PATRON BAHÍA (ForNaval) | C16: 41600 | D16: PC | F16: FP | G16: S | J16: =IF(G16="A",(H16+I16)/2,H16+I16) -> 0 | K16: =TRUNC(J16,0) -> 0 | N16: =TRUNC(SUM(L16:M16)/2,0) -> 0 | Q16: =TRUNC(IF(D16="PM",0,IF(E16="CA",(K16)/6,(K16)/3)),0) -> 0 | S16: 8 | T16: 2 | AA16: 8 | AJ16: =SUM(N16:AI16)+K16 -> 18 | AL16: =+IF(D16="PC",1,0) -> 1 | AO16: =+IF(G16="S",5,+IF(D16="PM",10,12)) -> 5 | AP16: =+C16*AO16*AJ16 -> 3744000 | AQ16: 115008
A17: 19 | B17: BUCCAREY FRANCIS | C17: 29732 | D17: PM | F17: CI | G17: A | H17: 6 | I17: 2 | J17: =IF(G17="A",(H17+I17)/2,H17+I17) -> 4 | K17: =TRUNC(J17,0) -> 4 | N17: =TRUNC(SUM(L17:M17)/2,0) -> 0 | P17: 2 | Q17: =TRUNC(IF(D17="PM",0,IF(E17="CA",(K17)/6,(K17)/3)),0) -> 0 | AJ17: =SUM(N17:AI17)+K17 -> 6 | AL17: =+IF(D17="PC",1,0) -> 0 | AM17: =IF(D17="PC", +IF(AJ17>17,1,0),0) -> 0 | AN17: =IF(E17="CA",1,0) -> 0 | AO17: =+IF(G17="S",5,+IF(D17="PM",10,12)) -> 10 | AP17: =+C17*AO17*AJ17 -> 1783920 | AQ17: =+AL17*AO17*$AL$2 -> 0 | AR17: =AM17*$AM$2*AO17 -> 0 | AS17: =AP17*$AN$2*AN17 -> 0 | AT17: =SUM(AP17:AS17)/AO17 -> 178392 | AU17: =AT17*5/44 -> 20271.818
A18: 22 | B18: CAMPOS GARRIDO MANUEL | C18: 73600 | D18: PC | E18: CA | F18: FP | G18: A | H18: 2 | I18: 2 | J18: =IF(G18="A",(H18+I18)/2,H18+I18) -> 2 | K18: =TRUNC(J18,0) -> 2 | N18: =TRUNC(SUM(L18:M18)/2,0) -> 0 | Q18: =TRUNC(IF(D18="PM",0,IF(E18="CA",(K18)/6,(K18)/3)),0) -> 0 | S18: 10 | AJ18: =SUM(N18:AI18)+K18 -> 12 | AL18: =+IF(D18="PC",1,0) -> 1 | AM18: =IF(D18="PC", +IF(AJ18>17,1,0),0) -> 0 | AN18: =IF(E18="CA",1,0) -> 1 | AO18: =+IF(G18="S",5,+IF(D18="PM",10,12)) -> 12 | AP18: =+C18*AO18*AJ18 -> 10598400 | AQ18: 115008 | AR18: =AM18*$AM$2*AO18 -> 0 | AS18: =AP18*$AN$2*AN18 -> 370944 | AT18: =SUM(AP18:AS18)/AO18 -> 923696 | AU18: =AT18*5/44 -> 104965.45
A19: 26 | B19: CAMPOS VALESKA | C19: 59200 | D19: PC | F19: FH | G19: A | H19: 26 | I19: 16 | J19: =IF(G19="A",(H19+I19)/2,H19+I19) -> 21 | K19: =TRUNC(J19,0) -> 21 | N19: =TRUNC(SUM(L19:M19)/2,0) -> 0 | Q19: =TRUNC(IF(D19="PM",0,IF(E19="CA",(K19)/6,(K19)/3)),0) -> 7 | V19: 4 | AC19: 1 | AJ19: =SUM(N19:AI19)+K19 -> 33 | AL19: =+IF(D19="PC",1,0) -> 1 | AM19: =IF(D19="PC", +IF(AJ19>17,1,0),0) -> 1 | AN19: =IF(E19="CA",1,0) -> 0 | AO19: =+IF(G19="S",5,+IF(D19="PM",10,12)) -> 12 | AP19: =+C19*AO19*AJ19 -> 23443200 | AQ19: 115008 | AR19: 340620 | AS19: =AP19*$AN$2*AN19 -> 0 | AT19: =SUM(AP19:AS19)/AO19 -> 1991569 | AU19: =AT19*5/44 -> 226314.66
A20: 25 | B20: CARRASCO GONZALO | C20: 48000 | D20: PC | F20: FP | G20: A | J20: =IF(G20="A",(H20+I20)/2,H20+I20) -> 0 | K20: =TRUNC(J20,0) -> 0 | N20: =TRUNC(SUM(L20:M20)/2,0) -> 0 | P20: 3 | Q20: =TRUNC(IF(D20="PM",0,IF(E20="CA",(K20)/6,(K20)/3)),0) -> 0 | AJ20: =SUM(N20:AI20)+K20 -> 3 | AL20: =+IF(D20="PC",1,0) -> 1 | AM20: =IF(D20="PC", +IF(AJ20>17,1,0),0) -> 0 | AN20: =IF(E20="CA",1,0) -> 0 | AO20: =+IF(G20="S",5,+IF(D20="PM",10,12)) -> 12 | AP20: =+C20*AO20*AJ20 -> 1728000 | AQ20: 115008 | AR20: =AM20*$AM$2*AO20 -> 0 | AS20: =AP20*$AN$2*AN20 -> 0 | AT20: =SUM(AP20:AS20)/AO20 -> 153584 | AU20: =AT20*5/44 -> 17452.727
A21: 24 | B21: CARVACHO KISSY (FOLKLORE) | C21: 41600 | D21: PC | F21: CI | G21: A | J21: =IF(G21="A",(H21+I21)/2,H21+I21) -> 0 | K21: =TRUNC(J21,0) -> 0 | N21: =TRUNC(SUM(L21:M21)/2,0) -> 0 | P21: 3 | Q21: =TRUNC(IF(D21="PM",0,IF(E21="CA",(K21)/6,(K21)/3)),0) -> 0 | AJ21: =SUM(N21:AI21)+K21 -> 3 | AQ21: 115008
B22: CASTRO JUAN PABLO CN | D22: PM | F22: FP | G22: S | I22: 2 | J22: =IF(G22="A",(H22+I22)/2,H22+I22) -> 2 | K22: =TRUNC(J22,0) -> 2 | Q22: =TRUNC(IF(D22="PM",0,IF(E22="CA",(K22)/6,(K22)/3)),0) -> 0 | AJ22: =SUM(N22:AI22)+K22 -> 2
A23: 27 | B23: CELIS ALEJANDRO | C23: 56000 | D23: PC | F23: FH | G23: A | H23: 4 | I23: 4 | J23: =IF(G23="A",(H23+I23)/2,H23+I23) -> 4 | K23: =TRUNC(J23,0) -> 4 | N23: =TRUNC(SUM(L23:M23)/2,0) -> 0 | Q23: =TRUNC(IF(D23="PM",0,IF(E23="CA",(K23)/6,(K23)/3)),0) -> 1 | AJ23: =SUM(N23:AI23)+K23 -> 5 | AL23: =+IF(D23="PC",1,0) -> 1 | AM23: =IF(D23="PC", +IF(AJ23>17,1,0),0) -> 0 | AN23: =IF(E23="CA",1,0) -> 0 | AO23: =+IF(G23="S",5,+IF(D23="PM",10,12)) -> 12 | AP23: =+C23*AO23*AJ23 -> 3360000 | AQ23: 115008 | AR23: =AM23*$AM$2*AO23 -> 0 | AS23: =AP23*$AN$2*AN23 -> 0 | AT23: =SUM(AP23:AS23)/AO23 -> 289584 | AU23: =AT23*5/44 -> 32907.273
B24: CERDA PABLO CC LT | D24: PM | G24: S | H24: 8 | AJ24: =SUM(N24:AI24)+K24 -> 0 | AL24: =+IF(D24="PC",1,0) -> 0 | AM24: =IF(D24="PC", +IF(AJ24>17,1,0),0) -> 0 | AO24: =+IF(G24="S",5,+IF(D24="PM",10,12)) -> 5
A25: 28 | B25: CHAGAY DRAGO | C25: 81600 | D25: PC | F25: EF | G25: A | H25: 10 | I25: 10 | J25: =IF(G25="A",(H25+I25)/2,H25+I25) -> 10 | K25: =TRUNC(J25,0) -> 10 | N25: =TRUNC(SUM(L25:M25)/2,0) -> 0 | Q25: =TRUNC(IF(D25="PM",0,IF(E25="CA",(K25)/6,(K25)/3)),0) -> 3 | U25: 11 | AD25: 2 | AI25: 18 | AJ25: =SUM(N25:AI25)+K25 -> 44 | AL25: =+IF(D25="PC",1,0) -> 1 | AM25: =IF(D25="PC", +IF(AJ25>17,1,0),0) -> 1 | AN25: =IF(E25="CA",1,0) -> 0 | AO25: =+IF(G25="S",5,+IF(D25="PM",10,12)) -> 12 | AP25: =+C25*AO25*AJ25 -> 43084800 | AQ25: 115008 | AR25: 340620 | AS25: =AP25*$AN$2*AN25 -> 0 | AT25: =SUM(AP25:AS25)/AO25 -> 3628369 | AU25: =AT25*5/44 -> 412314.66
A26: 29 | B26: CHASSIN-TRUBERT CORREA JEAN PAUL | C26: 81600 | D26: PC | E26: CA | G26: A | J26: =IF(G26="A",(H26+I26)/2,H26+I26) -> 0 | K26: =TRUNC(J26,0) -> 0 | N26: =TRUNC(SUM(L26:M26)/2,0) -> 0 | Q26: =TRUNC(IF(D26="PM",0,IF(E26="CA",(K26)/6,(K26)/3)),0) -> 0 | Y26: 8 | Z26: 26 | AJ26: =SUM(N26:AI26)+K26 -> 34 | AL26: =+IF(D26="PC",1,0) -> 1 | AM26: 1 | AN26: =IF(E26="CA",1,0) -> 1 | AO26: =+IF(G26="S",5,+IF(D26="PM",10,12)) -> 12 | AP26: =+C26*AO26*AJ26 -> 33292800 | AQ26: 115008 | AR26: 340620 | AS26: =AP26*$AN$2*AN26 -> 1165248 | AT26: =SUM(AP26:AS26)/AO26 -> 2909473 | AU26: =AT26*5/44 -> 330621.93
B27: COFRÉ WILLIAMS | D27: PM | P27: 2 | AJ27: =SUM(N27:AI27)+K27 -> 2 | AL27: =+IF(D27="PC",1,0) -> 0
A28: 32 | B28: COLOMA ENRIQUE | C28: 81600 | D28: PC | E28: CA | F28: FP | G28: A | H28: 19 | I28: 22 | J28: =IF(G28="A",(H28+I28)/2,H28+I28) -> 20.5 | K28: =TRUNC(J28,0) -> 20 | N28: =TRUNC(SUM(L28:M28)/2,0) -> 0 | Q28: =TRUNC(IF(D28="PM",0,IF(E28="CA",(K28)/6,(K28)/3)),0) -> 3 | V28: 3 | AC28: 1 | AE28: 4 | AJ28: =SUM(N28:AI28)+K28 -> 31 | AL28: =+IF(D28="PC",1,0) -> 1 | AM28: =IF(D28="PC", +IF(AJ28>17,1,0),0) -> 1 | AN28: =IF(E28="CA",1,0) -> 1 | AO28: =+IF(G28="S",5,+IF(D28="PM",10,12)) -> 12 | AP28: =+C28*AO28*AJ28 -> 30355200 | AQ28: 115008 | AR28: 340620 | AS28: =AP28*$AN$2*AN28 -> 1062432 | AT28: =SUM(AP28:AS28)/AO28 -> 2656105 | AU28: =AT28*5/44 -> 301830.11
A29: 33 | B29: CONCHA CLAUDIO ZAPATA (Aplic Comp) | C29: 28707 | D29: PM | F29: FP | G29: S | I29: 4 | J29: =IF(G29="A",(H29+I29)/2,H29+I29) -> 4 | K29: =TRUNC(J29,0) -> 4 | N29: =TRUNC(SUM(L29:M29)/2,0) -> 0 | Q29: =TRUNC(IF(D29="PM",0,IF(E29="CA",(K29)/6,(K29)/3)),0) -> 0 | AJ29: =SUM(N29:AI29)+K29 -> 4 | AL29: =+IF(D29="PC",1,0) -> 0 | AM29: =IF(D29="PC", +IF(AJ29>17,1,0),0) -> 0 | AN29: =IF(E29="CA",1,0) -> 0 | AO29: =+IF(G29="S",5,+IF(D29="PM",10,12)) -> 5 | AP29: =+C29*AO29*AJ29 -> 574140 | AQ29: =+AL29*AO29*$AL$2 -> 0 | AR29: =AM29*$AM$2*AO29 -> 0 | AS29: =AP29*$AN$2*AN29 -> 0 | AT29: =SUM(AP29:AS29)/AO29 -> 114828 | AU29: =AT29*5/44 -> 13048.636
A30: 34 | B30: CORDOVEZ RICARDO | C30: 67200 | D30: PC | F30: EF | G30: A | H30: 8 | I30: 8 | J30: =IF(G30="A",(H30+I30)/2,H30+I30) -> 8 | K30: =TRUNC(J30,0) -> 8 | N30: =TRUNC(SUM(L30:M30)/2,0) -> 0 | Q30: =TRUNC(IF(D30="PM",0,IF(E30="CA",(K30)/6,(K30)/3)),0) -> 2 | R30: 10 | T30: 2 | AD30: 2 | AJ30: =SUM(N30:AI30)+K30 -> 24 | AL30: =+IF(D30="PC",1,0) -> 1 | AM30: =IF(D30="PC", +IF(AJ30>17,1,0),0) -> 1 | AN30: =IF(E30="CA",1,0) -> 0 | AO30: =+IF(G30="S",5,+IF(D30="PM",10,12)) -> 12 | AP30: =+C30*AO30*AJ30 -> 19353600 | AQ30: 115008 | AR30: 340620 | AS30: =AP30*$AN$2*AN30 -> 0 | AT30: =SUM(AP30:AS30)/AO30 -> 1650769 | AU30: =AT30*5/44 -> 187587.39
A31: 35 | B31: CORONADO WALTER | C31: 59200 | D31: PC | F31: EF | G31: A | J31: =IF(G31="A",(H31+I31)/2,H31+I31) -> 0 | K31: =TRUNC(J31,0) -> 0 | N31: =TRUNC(SUM(L31:M31)/2,0) -> 0 | Q31: =TRUNC(IF(D31="PM",0,IF(E31="CA",(K31)/6,(K31)/3)),0) -> 0 | R31: 9 | S31: 1 | T31: 7 | AJ31: =SUM(N31:AI31)+K31 -> 17 | AL31: =+IF(D31="PC",1,0) -> 1 | AM31: =IF(D31="PC", +IF(AJ31>17,1,0),0) -> 0 | AN31: =IF(E31="CA",1,0) -> 0 | AO31: =+IF(G31="S",5,+IF(D31="PM",10,12)) -> 12 | AP31: =+C31*AO31*AJ31 -> 12076800 | AQ31: 115008 | AR31: =AM31*$AM$2*AO31 -> 0 | AS31: =AP31*$AN$2*AN31 -> 0 | AT31: =SUM(AP31:AS31)/AO31 -> 1015984 | AU31: =AT31*5/44 -> 115452.73
B32: CRUZ ANDÍA, CARLOS CC AB | D32: PM | F32: FP | G32: A | H32: 3 | I32: 4 | J32: =IF(G32="A",(H32+I32)/2,H32+I32) -> 3.5 | K32: =TRUNC(J32,0) -> 3 | Q32: =TRUNC(IF(D32="PM",0,IF(E32="CA",(K32)/6,(K32)/3)),0) -> 0 | AJ32: =SUM(N32:AI32)+K32 -> 3
A33: 37 | B33: D | N33: =TRUNC(SUM(L33:M33)/2,0) -> 0 | Q33: =TRUNC(IF(D33="PM",0,IF(E33="CA",(K33)/6,(K33)/3)),0) -> 0
A34: 7 | B34: DE LA BARRERA FRANCISCO | C34: 75200 | D34: PC | F34: CB | G34: A | H34: 26 | I34: 18 | J34: =IF(G34="A",(H34+I34)/2,H34+I34) -> 22 | K34: =TRUNC(J34,0) -> 22 | N34: =TRUNC(SUM(L34:M34)/2,0) -> 0 | Q34: =TRUNC(IF(D34="PM",0,IF(E34="CA",(K34)/6,(K34)/3)),0) -> 7 | V34: 2 | AC34: 1 | AJ34: =SUM(N34:AI34)+K34 -> 32 | AL34: =+IF(D34="PC",1,0) -> 1 | AM34: =IF(D34="PC", +IF(AJ34>17,1,0),0) -> 1 | AN34: =IF(E34="CA",1,0) -> 0 | AO34: =+IF(G34="S",5,+IF(D34="PM",10,12)) -> 12 | AP34: =+C34*AO34*AJ34 -> 28876800 | AQ34: 115008 | AR34: 340620 | AS34: =AP34*$AN$2*AN34 -> 0 | AT34: =SUM(AP34:AS34)/AO34 -> 2444369 | AU34: =AT34*5/44 -> 277769.2
A35: 39 | B35: DE LA FUENTE VÍCTOR | C35: 57600 | D35: PC | F35: CB | G35: A | H35: 15 | I35: 8 | J35: =IF(G35="A",(H35+I35)/2,H35+I35) -> 11.5 | K35: =TRUNC(J35,0) -> 11 | N35: =TRUNC(SUM(L35:M35)/2,0) -> 0 | P35: 2 | Q35: =TRUNC(IF(D35="PM",0,IF(E35="CA",(K35)/6,(K35)/3)),0) -> 3 | V35: 2 | AE35: 1 | AJ35: =SUM(N35:AI35)+K35 -> 19 | AL35: =+IF(D35="PC",1,0) -> 1 | AM35: =IF(D35="PC", +IF(AJ35>17,1,0),0) -> 1 | AN35: =IF(E35="CA",1,0) -> 0 | AO35: =+IF(G35="S",5,+IF(D35="PM",10,12)) -> 12 | AP35: =+C35*AO35*AJ35 -> 13132800 | AQ35: 115008 | AR35: 340620 | AS35: =AP35*$AN$2*AN35 -> 0 | AT35: =SUM(AP35:AS35)/AO35 -> 1132369 | AU35: =AT35*5/44 -> 128678.3
A36: 41 | B36: DIETERT CARLOS | C36: 81600 | D36: PC | E36: CA | F36: CI | G36: A | J36: =IF(G36="A",(H36+I36)/2,H36+I36) -> 0 | K36: =TRUNC(J36,0) -> 0 | N36: =TRUNC(SUM(L36:M36)/2,0) -> 0 | P36: 16 | Q36: =TRUNC(IF(D36="PM",0,IF(E36="CA",(K36)/6,(K36)/3)),0) -> 0 | AJ36: =SUM(N36:AI36)+K36 -> 16 | AL36: =+IF(D36="PC",1,0) -> 1 | AQ36: 115008 | AR36: 340620
A37: 42 | B37: DONOSO RODRIGO | C37: 73600 | D37: PC | F37: FH | G37: A | H37: 4 | I37: 4 | J37: =IF(G37="A",(H37+I37)/2,H37+I37) -> 4 | K37: =TRUNC(J37,0) -> 4 | N37: =TRUNC(SUM(L37:M37)/2,0) -> 0 | Q37: =TRUNC(IF(D37="PM",0,IF(E37="CA",(K37)/6,(K37)/3)),0) -> 1 | AA37: 36 | AJ37: =SUM(N37:AI37)+K37 -> 41 | AL37: =+IF(D37="PC",1,0) -> 1 | AM37: =IF(D37="PC", +IF(AJ37>17,1,0),0) -> 1 | AN37: =IF(E37="CA",1,0) -> 0 | AO37: =+IF(G37="S",5,+IF(D37="PM",10,12)) -> 12 | AP37: =+C37*AO37*AJ37 -> 36211200 | AQ37: 115008 | AR37: =AM37*$AM$2*AO37 -> 253320 | AS37: =AP37*$AN$2*AN37 -> 0 | AT37: =SUM(AP37:AS37)/AO37 -> 3048294 | AU37: =AT37*5/44 -> 346397.05
A38: 43 | B38: DUFEY SERGIO | C38: 29732 | D38: PM | F38: EF | G38: S | J38: =IF(G38="A",(H38+I38)/2,H38+I38) -> 0 | K38: =TRUNC(J38,0) -> 0 | N38: =TRUNC(SUM(L38:M38)/2,0) -> 0 | Q38: =TRUNC(IF(D38="PM",0,IF(E38="CA",(K38)/6,(K38)/3)),0) -> 0 | S38: 8 | AJ38: =SUM(N38:AI38)+K38 -> 8 | AL38: =+IF(D38="PC",1,0) -> 0 | AM38: =IF(D38="PC", +IF(AJ38>17,1,0),0) -> 0 | AN38: =IF(E38="CA",1,0) -> 0 | AO38: 10 | AP38: =+C38*AO38*AJ38 -> 2378560 | AQ38: =+AL38*AO38*$AL$2 -> 0 | AR38: =AM38*$AM$2*AO38 -> 0 | AS38: =AP38*$AN$2*AN38 -> 0 | AT38: =SUM(AP38:AS38)/AO38 -> 237856 | AU38: =AT38*5/44 -> 27029.091
A39: 44 | B39: E | N39: =TRUNC(SUM(L39:M39)/2,0) -> 0 | Q39: =TRUNC(IF(D39="PM",0,IF(E39="CA",(K39)/6,(K39)/3)),0) -> 0
B40: F | N40: =TRUNC(SUM(L40:M40)/2,0) -> 0
B41: FISCHER MATIAS | D41: PM | G41: S | H41: 4 | J41: =IF(G41="A",(H41+I41)/2,H41+I41) -> 4 | K41: =TRUNC(J41,0) -> 4 | N41: =TRUNC(SUM(L41:M41)/2,0) -> 0 | AJ41: =SUM(N41:AI41)+K41 -> 4
A42: 47 | B42: G | N42: =TRUNC(SUM(L42:M42)/2,0) -> 0 | Q42: =TRUNC(IF(D42="PM",0,IF(E42="CA",(K42)/6,(K42)/3)),0) -> 0
A43: 48 | B43: GALDAMES SERGIO ATLET 3 | C43: 62400 | D43: PC | F43: EF | G43: A | J43: =IF(G43="A",(H43+I43)/2,H43+I43) -> 0 | K43: =TRUNC(J43,0) -> 0 | N43: =TRUNC(SUM(L43:M43)/2,0) -> 0 | Q43: =TRUNC(IF(D43="PM",0,IF(E43="CA",(K43)/6,(K43)/3)),0) -> 0 | R43: 9 | T43: 1 | AJ43: =SUM(N43:AI43)+K43 -> 10 | AL43: =+IF(D43="PC",1,0) -> 1 | AM43: =IF(D43="PC", +IF(AJ43>17,1,0),0) -> 0 | AN43: =IF(E43="CA",1,0) -> 0 | AO43: 10 | AP43: =+C43*AO43*AJ43 -> 6240000 | AQ43: 115008 | AR43: =AM43*$AM$2*AO43 -> 0 | AS43: =AP43*$AN$2*AN43 -> 0 | AT43: =SUM(AP43:AS43)/AO43 -> 635500.8 | AU43: =AT43*5/44 -> 72216
A44: 49 | B44: GALLARDO FELIPE | C44: 59200 | D44: PC | F44: CB | G44: A | H44: 14 | I44: 12 | J44: =IF(G44="A",(H44+I44)/2,H44+I44) -> 13 | K44: =TRUNC(J44,0) -> 13 | L44: 6 | M44: 4 | N44: =TRUNC(SUM(L44:M44)/2,0) -> 5 | Q44: =TRUNC(IF(D44="PM",0,IF(E44="CA",(K44)/6,(K44)/3)),0) -> 4 | V44: 2 | AJ44: =SUM(N44:AI44)+K44 -> 24 | AL44: =+IF(D44="PC",1,0) -> 1 | AM44: =IF(D44="PC", +IF(AJ44>17,1,0),0) -> 1 | AN44: =IF(E44="CA",1,0) -> 0 | AO44: =+IF(G44="S",5,+IF(D44="PM",10,12)) -> 12 | AP44: =+C44*AO44*AJ44 -> 17049600 | AQ44: 115008 | AR44: 340620 | AS44: =AP44*$AN$2*AN44 -> 0 | AT44: =SUM(AP44:AS44)/AO44 -> 1458769 | AU44: =AT44*5/44 -> 165769.2
A45: 50 | B45: GALLARDO JOSÉ | C45: 48000 | D45: PC | F45: EF | G45: A | J45: =IF(G45="A",(H45+I45)/2,H45+I45) -> 0 | K45: =TRUNC(J45,0) -> 0 | N45: =TRUNC(SUM(L45:M45)/2,0) -> 0 | Q45: =TRUNC(IF(D45="PM",0,IF(E45="CA",(K45)/6,(K45)/3)),0) -> 0 | S45: 10 | T45: 3 | AJ45: =SUM(N45:AI45)+K45 -> 13 | AL45: =+IF(D45="PC",1,0) -> 1 | AM45: =IF(D45="PC", +IF(AJ49>17,1,0),0) -> 0 | AN45: =IF(E45="CA",1,0) -> 0 | AO45: =+IF(G45="S",5,+IF(D45="PM",10,12)) -> 12 | AP45: =+C45*AO45*AJ45 -> 7488000 | AQ45: 115008 | AS45: =AP45*$AN$2*AN45 -> 0
A46: 52 | B46: GARCÍA ALBERTO | C46: 81600 | D46: PC | E46: CA | F46: FP | G46: A | H46: 14 | I46: 11 | J46: =IF(G46="A",(H46+I46)/2,H46+I46) -> 12.5 | K46: =TRUNC(J46,0) -> 12 | N46: =TRUNC(SUM(L46:M46)/2,0) -> 0 | Q46: =TRUNC(IF(D46="PM",0,IF(E46="CA",(K46)/6,(K46)/3)),0) -> 2 | AE46: 1 | AJ46: =SUM(N46:AI46)+K46 -> 15 | AL46: =+IF(D46="PC",1,0) -> 1 | AM46: =IF(D46="PC", +IF(AJ46>17,1,0),0) -> 0 | AN46: =IF(E46="CA",1,0) -> 1 | AO46: =+IF(G46="S",5,+IF(D46="PM",10,12)) -> 12 | AP46: =+C46*AO46*AJ46 -> 14688000 | AQ46: 115008 | AR46: =AM46*$AM$2*AO46 -> 0 | AS46: =AP46*$AN$2*AN46 -> 514080 | AT46: =SUM(AP46:AS46)/AO46 -> 1276424 | AU46: =AT46*5/44 -> 145048.18
A47: 53 | B47: GARCÍA ORLANDO | C47: 73600 | D47: PC | F47: EF | G47: A | H47: 13 | I47: 13 | J47: =IF(G47="A",(H47+I47)/2,H47+I47) -> 13 | K47: =TRUNC(J47,0) -> 13 | N47: =TRUNC(SUM(L47:M47)/2,0) -> 0 | Q47: =TRUNC(IF(D47="PM",0,IF(E47="CA",(K47)/6,(K47)/3)),0) -> 4 | R47: 9 | T47: 4 | AD47: 3 | AJ47: =SUM(N47:AI47)+K47 -> 33 | AL47: =+IF(D47="PC",1,0) -> 1 | AM47: =IF(D47="PC", +IF(AJ47>17,1,0),0) -> 1 | AN47: =IF(E47="CA",1,0) -> 0 | AO47: =+IF(G47="S",5,+IF(D47="PM",10,12)) -> 12 | AP47: =+C47*AO47*AJ47 -> 29145600 | AQ47: 115008 | AR47: 340620 | AS47: =AP47*$AN$2*AN47 -> 0 | AT47: =SUM(AP47:AS47)/AO47 -> 2466769 | AU47: =AT47*5/44 -> 280314.66
A48: 54 | B48: GARCÍA QUIROGA CARLOS | C48: 81600 | D48: PC | E48: CA | F48: FP | G48: A | H48: 11 | I48: 8 | J48: =IF(G48="A",(H48+I48)/2,H48+I48) -> 9.5 | K48: =TRUNC(J48,0) -> 9 | N48: =TRUNC(SUM(L48:M48)/2,0) -> 0 | Q48: =TRUNC(IF(D48="PM",0,IF(E48="CA",(K48)/6,(K48)/3)),0) -> 1 | AC48: 1 | AE48: 1 | AJ48: =SUM(N48:AI48)+K48 -> 12 | AL48: =+IF(D48="PC",1,0) -> 1 | AO48: =+IF(G48="S",5,+IF(D48="PM",10,12)) -> 12 | AP48: =+C48*AO48*AJ48 -> 11750400 | AQ48: 115008
B49: GARRIDO MATÍAS | C49: 41600 | F49: CB | G49: A | H49: 0 | I49: 4 | J49: =IF(G49="A",(H49+I49)/2,H49+I49) -> 2 | K49: =TRUNC(J49,0) -> 2 | L49: 0 | M49: 16 | N49: =TRUNC(SUM(L49:M49)/2,0) -> 8 | Q49: =TRUNC(IF(D49="PM",0,IF(E49="CA",(K49)/6,(K49)/3)),0) -> 0 | V49: 2 | AJ49: =SUM(N49:AI49)+K49 -> 12
B50: GARRIDO MATÍAS (Reemplazo) | C50: 41600 | F50: CB | G50: A | H50: 8 | J50: =IF(G50="A",(H50+I50)/2,H50+I50) -> 4 | K50: =TRUNC(J50,0) -> 4 | L50: 4 | N50: =TRUNC(SUM(L50:M50)/2,0) -> 2 | Q50: =TRUNC(IF(D50="PM",0,IF(E50="CA",(K50)/6,(K50)/3)),0) -> 1 | AJ50: =SUM(N50:AI50)+K50 -> 7
A51: 55 | B51: GONZÁLEZ DORIS | C51: 73600 | D51: PC | F51: FH | G51: A | J51: =IF(G51="A",(H51+I51)/2,H51+I51) -> 0 | K51: =TRUNC(J51,0) -> 0 | N51: =TRUNC(SUM(L51:M51)/2,0) -> 0 | Q51: =TRUNC(IF(D51="PM",0,IF(E51="CA",(K51)/6,(K51)/3)),0) -> 0 | V51: 6 | AE51: 0 | AH51: 36 | AJ51: =SUM(N51:AI51)+K51 -> 42 | AL51: =+IF(D51="PC",1,0) -> 1 | AM51: =IF(D51="PC", +IF(AJ51>17,1,0),0) -> 1 | AN51: =IF(E51="CA",1,0) -> 0 | AO51: =+IF(G51="S",5,+IF(D51="PM",10,12)) -> 12 | AP51: =+C51*AO51*AJ51 -> 37094400 | AQ51: 115008 | AR51: 340620 | AS51: =AP51*$AN$2*AN51 -> 0 | AT51: =SUM(AP51:AS51)/AO51 -> 3129169 | AU51: =AT51*5/44 -> 355587.39
A52: 56 | B52: GONZÁLEZ FABIÁN | C52: 76800 | D52: PC | E52: CA | F52: FP | G52: A | H52: 1 | I52: 8 | J52: =IF(G52="A",(H52+I52)/2,H52+I52) -> 4.5 | K52: =TRUNC(J52,0) -> 4 | N52: =TRUNC(SUM(L52:M52)/2,0) -> 0 | Q52: =TRUNC(IF(D52="PM",0,IF(E52="CA",(K52)/6,(K52)/3)),0) -> 0 | AJ52: =SUM(N52:AI52)+K52 -> 4 | AL52: =+IF(D52="PC",1,0) -> 1 | AM52: =IF(D52="PC", +IF(AJ52>17,1,0),0) -> 0 | AN52: =IF(E52="CA",1,0) -> 1 | AO52: =+IF(G52="S",5,+IF(D52="PM",10,12)) -> 12 | AP52: =+C52*AO52*AJ52 -> 3686400 | AQ52: 115008 | AR52: =AM52*$AM$2*AO52 -> 0 | AS52: =AP52*$AN$2*AN52 -> 129024 | AT52: =SUM(AP52:AS52)/AO52 -> 327536 | AU52: =AT52*5/44 -> 37220
A53: 58 | B53: GONZÁLEZ V. MIGUEL | C53: 78400 | D53: PC | F53: EF | G53: A | H53: 10 | I53: 10 | J53: =IF(G53="A",(H53+I53)/2,H53+I53) -> 10 | K53: =TRUNC(J53,0) -> 10 | N53: =TRUNC(SUM(L53:M53)/2,0) -> 0 | Q53: =TRUNC(IF(D53="PM",0,IF(E53="CA",(K53)/6,(K53)/3)),0) -> 3 | R53: 9 | T53: 3 | U53: 1 | AD53: 2 | AG53: 12 | AJ53: =SUM(N53:AI53)+K53 -> 40 | AL53: =+IF(D53="PC",1,0) -> 1 | AM53: =IF(D53="PC", +IF(AJ53>17,1,0),0) -> 1 | AN53: =IF(E53="CA",1,0) -> 0 | AO53: =+IF(G53="S",5,+IF(D53="PM",10,12)) -> 12 | AP53: =+C53*AO53*AJ53 -> 37632000 | AQ53: 115008 | AR53: 340620 | AS53: =AP53*$AN$2*AN53 -> 0 | AT53: =SUM(AP53:AS53)/AO53 -> 3173969 | AU53: =AT53*5/44 -> 360678.3
A54: 81 | B54: GUNDLACH HÉCTOR | C54: 62400 | D54: PC | F54: FP | G54: A | H54: 14 | I54: 18 | J54: =IF(G54="A",(H54+I54)/2,H54+I54) -> 16 | K54: =TRUNC(J54,0) -> 16 | N54: =TRUNC(SUM(L54:M54)/2,0) -> 0 | Q54: =TRUNC(IF(D54="PM",0,IF(E54="CA",(K54)/6,(K54)/3)),0) -> 5 | AC54: 2 | AE54: 1 | AJ54: =SUM(N54:AI54)+K54 -> 24 | AL54: =+IF(D54="PC",1,0) -> 1 | AM54: =IF(D54="PC", +IF(AJ54>17,1,0),0) -> 1 | AN54: =IF(E54="CA",1,0) -> 0 | AO54: =+IF(G54="S",5,+IF(D54="PM",10,12)) -> 12 | AP54: =+C54*AO54*AJ54 -> 17971200 | AQ54: 115008 | AR54: 340620 | AS54: =AP54*$AN$2*AN54 -> 0 | AT54: =SUM(AP54:AS54)/AO54 -> 1535569 | AU54: =AT54*5/44 -> 174496.48
A55: 60 | B55: GUZMÁN MARCELA | C55: 65600 | D55: PC | F55: EF | G55: A | H55: 7 | I55: 7 | J55: =IF(G55="A",(H55+I55)/2,H55+I55) -> 7 | K55: =TRUNC(J55,0) -> 7 | N55: =TRUNC(SUM(L55:M55)/2,0) -> 0 | Q55: =TRUNC(IF(D55="PM",0,IF(E55="CA",(K55)/6,(K55)/3)),0) -> 2 | R55: 9 | T55: 2 | U55: 4 | AD55: 2 | AI55: 18 | AJ55: =SUM(N55:AI55)+K55 -> 44 | AL55: =+IF(D55="PC",1,0) -> 1 | AM55: =IF(D55="PC", +IF(AJ55>17,1,0),0) -> 1 | AN55: =IF(E55="CA",1,0) -> 0 | AO55: 10 | AP55: =+C55*AO55*AJ55 -> 28864000 | AQ55: 115008 | AR55: 340620 | AS55: =AP55*$AN$2*AN55 -> 0 | AT55: =SUM(AP55:AS55)/AO55 -> 2931962.8 | AU55: =AT55*5/44 -> 333177.59
A56: 61 | B56: H | N56: =TRUNC(SUM(L56:M56)/2,0) -> 0 | Q56: =TRUNC(IF(D56="PM",0,IF(E56="CA",(K56)/6,(K56)/3)),0) -> 0
A57: 62 | B57: HARDY CATHERINE | C57: 72000 | D57: PC | F57: CB | G57: A | H57: 26 | I57: 20 | J57: =IF(G57="A",(H57+I57)/2,H57+I57) -> 23 | K57: =TRUNC(J57,0) -> 23 | N57: =TRUNC(SUM(L57:M57)/2,0) -> 0 | Q57: =TRUNC(IF(D57="PM",0,IF(E57="CA",(K57)/6,(K57)/3)),0) -> 7 | AC57: 2 | AE57: 4 | AG57: 0 | AJ57: =SUM(N57:AI57)+K57 -> 36 | AL57: =+IF(D57="PC",1,0) -> 1 | AM57: =IF(D57="PC", +IF(AJ57>17,1,0),0) -> 1 | AN57: =IF(E57="CA",1,0) -> 0 | AO57: =+IF(G57="S",5,+IF(D57="PM",10,12)) -> 12 | AP57: =+C57*AO57*AJ57 -> 31104000 | AQ57: 115008 | AR57: 340620 | AS57: =AP57*$AN$2*AN57 -> 0 | AT57: =SUM(AP57:AS57)/AO57 -> 2629969 | AU57: =AT57*5/44 -> 298860.11
A58: 65 | B58: J | N58: =TRUNC(SUM(L58:M58)/2,0) -> 0 | Q58: =TRUNC(IF(D58="PM",0,IF(E58="CA",(K58)/6,(K58)/3)),0) -> 0
A59: 66 | B59: JAIME HÉCTOR | C59: 62400 | D59: PC | F59: CB | G59: A | H59: 14 | I59: 22 | J59: 20 | K59: =TRUNC(J59,0) -> 20 | L59: 6 | M59: 2 | N59: =TRUNC(SUM(L59:M59)/2,0) -> 4 | Q59: =TRUNC(IF(D59="PM",0,IF(E59="CA",(K59)/6,(K59)/3)),0) -> 6 | V59: 2 | AC59: 2 | AE59: 4 | AJ59: =SUM(N59:AI59)+K59 -> 38 | AL59: =+IF(D59="PC",1,0) -> 1 | AM59: =IF(D59="PC", +IF(AJ59>17,1,0),0) -> 1 | AN59: =IF(E59="CA",1,0) -> 0 | AO59: =+IF(G59="S",5,+IF(D59="PM",10,12)) -> 12 | AP59: =+C59*AO59*AJ59 -> 28454400 | AQ59: 115008 | AR59: 340620 | AS59: =AP59*$AN$2*AN59 -> 0 | AT59: =SUM(AP59:AS59)/AO59 -> 2409169 | AU59: =AT59*5/44 -> 273769.2
A60: 67 | B60: JARA MANUEL | C60: 73600 | D60: PC | E60: CA | F60: EF | G60: A | H60: 5 | I60: 5 | J60: =IF(G60="A",(H60+I60)/2,H60+I60) -> 5 | K60: =TRUNC(J60,0) -> 5 | N60: =TRUNC(SUM(L60:M60)/2,0) -> 0 | Q60: =TRUNC(IF(D60="PM",0,IF(E60="CA",(K60)/6,(K60)/3)),0) -> 0 | R60: 10 | T60: 3 | AJ60: =SUM(N60:AI60)+K60 -> 18 | AL60: =+IF(D60="PC",1,0) -> 1 | AM60: =IF(D60="PC", +IF(AJ60>17,1,0),0) -> 1 | AN60: =IF(E60="CA",1,0) -> 1 | AO60: =+IF(G60="S",5,+IF(D60="PM",10,12)) -> 12 | AP60: =+C60*AO60*AJ60 -> 15897600 | AQ60: 115008 | AR60: 340620 | AS60: =AP60*$AN$2*AN60 -> 556416 | AT60: =SUM(AP60:AS60)/AO60 -> 1409137 | AU60: =AT60*5/44 -> 160129.2
B61: K | J61: =IF(G61="A",(H61+I61)/2,H61+I61) -> 0 | K61: =TRUNC(J61,0) -> 0 | Q61: =TRUNC(IF(D61="PM",0,IF(E61="CA",(K61)/6,(K61)/3)),0) -> 0
B62: KEITEL JORGE | C62: 81600 | D62: PC | E62: CA | F62: FP | G62: A | H62: 24 | I62: 26 | J62: =IF(G62="A",(H62+I62)/2,H62+I62) -> 25 | K62: =TRUNC(J62,0) -> 25 | Q62: =TRUNC(IF(D62="PM",0,IF(E62="CA",(K62)/6,(K62)/3)),0) -> 4 | V62: 6 | AC62: 1 | AE62: 8 | AJ62: =SUM(N62:AI62)+K62 -> 44
A63: 69 | B63: L | N63: =TRUNC(SUM(L63:M63)/2,0) -> 0 | Q63: =TRUNC(IF(D63="PM",0,IF(E63="CA",(K63)/6,(K63)/3)),0) -> 0
B64: LAGOS ALFREDO T1 IM TC | D64: PM | F64: FP | G64: S | I64: 4 | J64: =IF(G64="A",(H64+I64)/2,H64+I64) -> 4 | K64: =TRUNC(J64,0) -> 4 | Q64: =TRUNC(IF(D64="PM",0,IF(E64="CA",(K64)/6,(K64)/3)),0) -> 0 | AJ64: =SUM(N64:AI64)+K64 -> 4
A65: 70 | B65: LEIVA YANINA | C65: 81600 | D65: PC | F65: CB | G65: A | H65: 20 | I65: 16 | J65: =IF(G65="A",(H65+I65)/2,H65+I65) -> 18 | K65: =TRUNC(J65,0) -> 18 | N65: =TRUNC(SUM(L65:M65)/2,0) -> 0 | Q65: =TRUNC(IF(D65="PM",0,IF(E65="CA",(K65)/6,(K65)/3)),0) -> 6 | V65: 8 | AG65: 12 | AJ65: =SUM(N65:AI65)+K65 -> 44 | AL65: =+IF(D65="PC",1,0) -> 1 | AM65: =IF(D65="PC", +IF(AJ65>17,1,0),0) -> 1 | AN65: =IF(E65="CA",1,0) -> 0 | AO65: =+IF(G65="S",5,+IF(D65="PM",10,12)) -> 12 | AP65: =+C65*AO65*AJ65 -> 43084800 | AQ65: 115008 | AR65: 340620 | AS65: =AP65*$AN$2*AN65 -> 0 | AT65: =SUM(AP65:AS65)/AO65 -> 3628369 | AU65: =AT65*5/44 -> 412314.66
A66: 71 | B66: LUCERO ANDRÉS | C66: 72000 | D66: PC | F66: FH | G66: A | H66: 20 | I66: 20 | J66: =IF(G66="A",(H66+I66)/2,H66+I66) -> 20 | K66: =TRUNC(J66,0) -> 20 | N66: =TRUNC(SUM(L66:M66)/2,0) -> 0 | Q66: =TRUNC(IF(D66="PM",0,IF(E66="CA",(K66)/6,(K66)/3)),0) -> 6 | AB66: 3 | AJ66: =SUM(N66:AI66)+K66 -> 29 | AL66: =+IF(D66="PC",1,0) -> 1 | AM66: =IF(D66="PC", +IF(AJ66>17,1,0),0) -> 1 | AN66: =IF(E66="CA",1,0) -> 0 | AO66: =+IF(G66="S",5,+IF(D66="PM",10,12)) -> 12 | AP66: =+C66*AO66*AJ66 -> 25056000 | AQ66: 115008 | AR66: 340620 | AS66: =AP66*$AN$2*AN66 -> 0 | AT66: =SUM(AP66:AS66)/AO66 -> 2125969 | AU66: =AT66*5/44 -> 241587.39
A67: 72 | B67: M | N67: =TRUNC(SUM(L67:M67)/2,0) -> 0 | Q67: =TRUNC(IF(D67="PM",0,IF(E67="CA",(K67)/6,(K67)/3)),0) -> 0
A68: 73 | B68: MALDONADO GONZALO | C68: 81600 | D68: PC | E68: CA | F68: FH | G68: A | H68: 10 | I68: 8 | J68: =IF(G68="A",(H68+I68)/2,H68+I68) -> 9 | K68: =TRUNC(J68,0) -> 9 | N68: =TRUNC(SUM(L68:M68)/2,0) -> 0 | Q68: =TRUNC(IF(D68="PM",0,IF(E68="CA",(K68)/6,(K68)/3)),0) -> 1 | W68: 28 | Z68: 6 | AE68: 0 | AJ68: =SUM(N68:AI68)+K68 -> 44 | AL68: =+IF(D68="PC",1,0) -> 1 | AM68: =IF(D68="PC", +IF(AJ68>17,1,0),0) -> 1 | AN68: =IF(E68="CA",1,0) -> 1 | AO68: =+IF(G68="S",5,+IF(D68="PM",10,12)) -> 12 | AP68: =+C68*AO68*AJ68 -> 43084800 | AQ68: 115008 | AR68: 340620 | AS68: =AP68*$AN$2*AN68 -> 1507968 | AT68: =SUM(AP68:AS68)/AO68 -> 3754033 | AU68: =AT68*5/44 -> 426594.66
A69: 74 | B69: MALHUEN HECTOR (BUCEO) | C69: 28707 | D69: PM | F69: FH | G69: A | H69: 4 | I69: 4 | J69: =IF(G69="A",(H69+I69)/2,H69+I69) -> 4 | K69: =TRUNC(J69,0) -> 4 | N69: =TRUNC(SUM(L69:M69)/2,0) -> 0 | Q69: =TRUNC(IF(D69="PM",0,IF(E69="CA",(K69)/6,(K69)/3)),0) -> 0 | AA69: 2 | AJ69: =SUM(N69:AI69)+K69 -> 6 | AL69: =+IF(D69="PC",1,0) -> 0 | AM69: =IF(D69="PC", +IF(AJ69>17,1,0),0) -> 0 | AN69: =IF(E69="CA",1,0) -> 0 | AO69: =+IF(G69="S",5,+IF(D69="PM",10,12)) -> 10 | AP69: =+C69*AO69*AJ69 -> 1722420 | AQ69: =+AL69*AO69*$AL$2 -> 0 | AR69: =AM69*$AM$2*AO69 -> 0 | AS69: =AP69*$AN$2*AN69 -> 0 | AT69: =SUM(AP69:AS69)/AO69 -> 172242 | AU69: =AT69*5/44 -> 19572.955
A70: 75 | B70: MAYNE-NICHOLLS MICHAEL | C70: 73600 | D70: PC | F70: FH | G70: A | H70: 28 | I70: 28 | J70: =IF(G70="A",(H70+I70)/2,H70+I70) -> 28 | K70: =TRUNC(J70,0) -> 28 | N70: =TRUNC(SUM(L70:M70)/2,0) -> 0 | Q70: =TRUNC(IF(D70="PM",0,IF(E70="CA",(K70)/6,(K70)/3)),0) -> 9 | AC70: 1 | AE70: 2 | AJ70: =SUM(N70:AI70)+K70 -> 40 | AL70: =+IF(D70="PC",1,0) -> 1 | AM70: =IF(D70="PC", +IF(AJ70>17,1,0),0) -> 1 | AN70: =IF(E70="CA",1,0) -> 0 | AO70: =+IF(G70="S",5,+IF(D70="PM",10,12)) -> 12 | AP70: =+C70*AO70*AJ70 -> 35328000 | AQ70: 115008 | AR70: 340620 | AS70: =AP70*$AN$2*AN70 -> 0 | AT70: =SUM(AP70:AS70)/AO70 -> 2981969 | AU70: =AT70*5/44 -> 338860.11
B71: MELLA HERNÁN | D71: PM | F71: FH | G71: S | I71: 4 | J71: =IF(G71="A",(H71+I71)/2,H71+I71) -> 4 | K71: =TRUNC(J71,0) -> 4 | Q71: =TRUNC(IF(D71="PM",0,IF(E71="CA",(K71)/6,(K71)/3)),0) -> 0 | AJ71: =SUM(N71:AI71)+K71 -> 4 | AL71: =+IF(D71="PC",1,0) -> 0 | AO71: =+IF(G71="S",5,+IF(D71="PM",10,12)) -> 5
A72: 76 | B72: MENDEZ CONSTANZA | C72: 48000 | D72: PC | F72: CI | G72: A | J72: =IF(G72="A",(H72+I72)/2,H72+I72) -> 0 | K72: =TRUNC(J72,0) -> 0 | N72: =TRUNC(SUM(L72:M72)/2,0) -> 0 | P72: 3 | Q72: =TRUNC(IF(D72="PM",0,IF(E72="CA",(K72)/6,(K72)/3)),0) -> 0 | AJ72: =SUM(N72:AI72)+K72 -> 3 | AL72: =+IF(D72="PC",1,0) -> 1 | AM72: =IF(D72="PC", +IF(AJ72>17,1,0),0) -> 0 | AN72: =IF(E72="CA",1,0) -> 0 | AO72: =+IF(G72="S",5,+IF(D72="PM",10,12)) -> 12 | AP72: =+C72*AO72*AJ72 -> 1728000 | AQ72: 115008 | AR72: =AM72*$AM$2*AO72 -> 0 | AS72: =AP72*$AN$2*AN72 -> 0 | AT72: =SUM(AP72:AS72)/AO72 -> 153584 | AU72: =AT72*5/44 -> 17452.727
B73: MONTECINO ULE MARCO | C73: 73600 | D73: PC | G73: A | J73: =IF(G73="A",(H73+I73)/2,H73+I73) -> 0 | K73: =TRUNC(J73,0) -> 0 | Q73: =TRUNC(IF(D73="PM",0,IF(E73="CA",(K73)/6,(K73)/3)),0) -> 0 | AL73: =+IF(D73="PC",1,0) -> 1 | AO73: =+IF(G73="S",5,+IF(D73="PM",10,12)) -> 12 | AQ73: 115008 | AR73: 340620
A74: 78 | B74: MUNITA JUAN CARLOS | C74: 73600 | D74: PC | E74: CA | F74: FP | G74: A | H74: 4 | I74: 10 | J74: =IF(G74="A",(H74+I74)/2,H74+I74) -> 7 | K74: =TRUNC(J74,0) -> 7 | N74: =TRUNC(SUM(L74:M74)/2,0) -> 0 | Q74: =TRUNC(IF(D74="PM",0,IF(E74="CA",(K74)/6,(K74)/3)),0) -> 1 | AC74: 1 | AE74: 2 | AJ74: =SUM(N74:AI74)+K74 -> 11 | AL74: =+IF(D74="PC",1,0) -> 1 | AM74: =IF(D74="PC", +IF(AJ74>17,1,0),0) -> 0 | AN74: =IF(E74="CA",1,0) -> 1 | AO74: =+IF(G74="S",5,+IF(D74="PM",10,12)) -> 12 | AP74: =+C74*AO74*AJ74 -> 9715200 | AQ74: 115008 | AR74: =AM74*$AM$2*AO74 -> 0 | AS74: =AP74*$AN$2*AN74 -> 340032 | AT74: =SUM(AP74:AS74)/AO74 -> 847520 | AU74: =AT74*5/44 -> 96309.091
B75: MUÑOZ JAIME | D75: PM | F75: FH | G75: S | H75: 2 | J75: =IF(G75="A",(H75+I75)/2,H75+I75) -> 2 | K75: =TRUNC(J75,0) -> 2 | Q75: =TRUNC(IF(D75="PM",0,IF(E75="CA",(K75)/6,(K75)/3)),0) -> 0 | AJ75: =SUM(N75:AI75)+K75 -> 2 | AL75: =+IF(D75="PC",1,0) -> 0 | AO75: =+IF(G75="S",5,+IF(D75="PM",10,12)) -> 5 | AQ75: =+AL75*AO75*$AL$2 -> 0
A76: 79 | B76: N | J76: =IF(G76="A",(H76+I76)/2,H76+I76) -> 0 | K76: =TRUNC(J76,0) -> 0 | N76: =TRUNC(SUM(L76:M76)/2,0) -> 0 | Q76: =TRUNC(IF(D76="PM",0,IF(E76="CA",(K76)/6,(K76)/3)),0) -> 0
B77: NN 1 SEGURIDAD | I77: 2 | J77: =IF(G77="A",(H77+I77)/2,H77+I77) -> 2 | K77: =TRUNC(J77,0) -> 2 | Q77: =TRUNC(IF(D77="PM",0,IF(E77="CA",(K77)/6,(K77)/3)),0) -> 0 | AJ77: =SUM(N77:AI77)+K77 -> 2
B78: NN 2 SEGURIDAD | I78: 2 | J78: =IF(G78="A",(H78+I78)/2,H78+I78) -> 2 | K78: =TRUNC(J78,0) -> 2 | Q78: =TRUNC(IF(D78="PM",0,IF(E78="CA",(K78)/6,(K78)/3)),0) -> 0 | AJ78: =SUM(N78:AI78)+K78 -> 2
B79: NN LIDERAZGO Form Naval | I79: 2 | J79: =IF(G79="A",(H79+I79)/2,H79+I79) -> 2 | K79: =TRUNC(J79,0) -> 2 | Q79: =TRUNC(IF(D79="PM",0,IF(E79="CA",(K79)/6,(K79)/3)),0) -> 0 | AJ79: =SUM(N79:AI79)+K79 -> 2
A80: 12 | B80: NN SIST DE ARMAS | C80: 65359 | D80: PC | E80: CA | F80: FP | G80: s | I80: 12 | J80: =IF(G80="A",(H80+I80)/2,H80+I80) -> 12 | K80: =TRUNC(J80,0) -> 12 | N80: =TRUNC(SUM(L80:M80)/2,0) -> 0 | Q80: =TRUNC(IF(D80="PM",0,IF(E80="CA",(K80)/6,(K80)/3)),0) -> 2 | AE80: 1 | AJ80: =SUM(N80:AI80)+K80 -> 15 | AL80: =+IF(D80="PC",1,0) -> 1 | AM80: =IF(D80="PC", +IF(AJ80>17,1,0),0) -> 0 | AN80: =IF(E80="CA",1,0) -> 1 | AO80: =+IF(G80="S",5,+IF(D80="PM",10,12)) -> 5 | AP80: =+C80*AO80*AJ80 -> 4901925 | AR80: =AM80*$AM$2*AO80 -> 0 | AS80: =AP80*$AN$2*AN80 -> 171567.38 | AT80: =SUM(AP80:AS80)/AO80 -> 1014698.5 | AU80: =AT80*5/44 -> 115306.64
A81: 82 | B81: NUÑEZ MIGUEL | C81: 49600 | D81: PC | F81: FH | G81: A | H81: 6 | I81: 6 | J81: =IF(G81="A",(H81+I81)/2,H81+I81) -> 6 | K81: =TRUNC(J81,0) -> 6 | N81: =TRUNC(SUM(L81:M81)/2,0) -> 0 | Q81: =TRUNC(IF(D81="PM",0,IF(E81="CA",(K81)/6,(K81)/3)),0) -> 2 | AH81: 36 | AJ81: =SUM(N81:AI81)+K81 -> 44 | AL81: =+IF(D81="PC",1,0) -> 1 | AO81: =+IF(G81="S",5,+IF(D81="PM",10,12)) -> 12 | AP81: =+C81*AO81*AJ81 -> 26188800 | AQ81: 115008 | AR81: 340620
A82: 83 | B82: O | N82: =TRUNC(SUM(L82:M82)/2,0) -> 0 | Q82: =TRUNC(IF(D82="PM",0,IF(E82="CA",(K82)/6,(K82)/3)),0) -> 0
A83: 84 | B83: OBERMOLLER HILDE | C83: 59200 | D83: PC | F83: FP | G83: S | H83: 4 | J83: =IF(G83="A",(H83+I83)/2,H83+I83) -> 4 | K83: =TRUNC(J83,0) -> 4 | N83: =TRUNC(SUM(L83:M83)/2,0) -> 0 | Q83: =TRUNC(IF(D83="PM",0,IF(E83="CA",(K83)/6,(K83)/3)),0) -> 1 | AJ83: =SUM(N83:AI83)+K83 -> 5 | AL83: =+IF(D83="PC",1,0) -> 1 | AM83: =IF(D83="PC", +IF(AJ83>17,1,0),0) -> 0 | AN83: =IF(E83="CA",1,0) -> 0 | AO83: =+IF(G83="S",5,+IF(D83="PM",10,12)) -> 5 | AP83: =+C83*AO83*AJ83 -> 1480000 | AQ83: 115008 | AR83: =AM83*$AM$2*AO83 -> 0 | AS83: =AP83*$AN$2*AN83 -> 0 | AT83: =SUM(AP83:AS83)/AO83 -> 319001.6 | AU83: =AT83*5/44 -> 36250.182
B84: OF DIV 1 Formación Naval | D84: PM | F84: FP | G84: A | H84: 2 | I84: 2 | J84: =IF(G84="A",(H84+I84)/2,H84+I84) -> 2 | K84: =TRUNC(J84,0) -> 2 | Q84: =TRUNC(IF(D84="PM",0,IF(E84="CA",(K84)/6,(K84)/3)),0) -> 0 | AJ84: =SUM(N84:AI84)+K84 -> 2 | AL84: =+IF(D84="PC",1,0) -> 0 | AO84: =+IF(G84="S",5,+IF(D84="PM",10,12)) -> 10 | AQ84: =+AL84*AO84*$AL$2 -> 0
B85: OFDIV 1 Sist Armas | D85: PM | F85: FP | G85: S | I85: 9 | J85: =IF(G85="A",(H85+I85)/2,H85+I85) -> 9 | K85: =TRUNC(J85,0) -> 9 | Q85: =TRUNC(IF(D85="PM",0,IF(E85="CA",(K85)/6,(K85)/3)),0) -> 0 | AJ85: =SUM(N85:AI85)+K85 -> 9 | AL85: =+IF(D85="PC",1,0) -> 0 | AO85: =+IF(G85="S",5,+IF(D85="PM",10,12)) -> 5 | AQ85: =+AL85*AO85*$AL$2 -> 0
B86: OFDIV 2 Siste Armas | D86: PM | F86: FP | G86: S | I86: 6 | J86: =IF(G86="A",(H86+I86)/2,H86+I86) -> 6 | K86: =TRUNC(J86,0) -> 6 | Q86: =TRUNC(IF(D86="PM",0,IF(E86="CA",(K86)/6,(K86)/3)),0) -> 0 | AJ86: =SUM(N86:AI86)+K86 -> 6 | AL86: =+IF(D86="PC",1,0) -> 0 | AO86: =+IF(G86="S",5,+IF(D86="PM",10,12)) -> 5 | AQ86: =+AL86*AO86*$AL$2 -> 0
A87: 88 | B87: OFICIAL DE DIVISIÓN Mando | C87: 25631 | D87: PM | F87: FH | G87: A | H87: 6 | I87: 8 | J87: =IF(G87="A",(H87+I87)/2,H87+I87) -> 7 | K87: =TRUNC(J87,0) -> 7 | N87: =TRUNC(SUM(L87:M87)/2,0) -> 0 | Q87: =TRUNC(IF(D87="PM",0,IF(E87="CA",(K87)/6,(K87)/3)),0) -> 0 | AJ87: =SUM(N87:AI87)+K87 -> 7 | AL87: =+IF(D87="PC",1,0) -> 0 | AO87: =+IF(G87="S",5,+IF(D87="PM",10,12)) -> 10 | AQ87: =+AL87*AO87*$AL$2 -> 0
B88: OLGUIN MERCADO ANIBAL | C88: 41600 | D88: PC | F88: EF | G88: A
A89: 85 | B89: ORDOÑEZ VERÓNICO | C89: 73600 | D89: PC | F89: CI | G89: A | J89: =IF(G89="A",(H89+I89)/2,H89+I89) -> 0 | K89: =TRUNC(J89,0) -> 0 | N89: =TRUNC(SUM(L89:M89)/2,0) -> 0 | P89: 3 | Q89: =TRUNC(IF(D89="PM",0,IF(E89="CA",(K89)/6,(K89)/3)),0) -> 0 | AJ89: =SUM(N89:AI89)+K89 -> 3 | AL89: =+IF(D89="PC",1,0) -> 1 | AM89: =IF(D89="PC", +IF(AJ89>17,1,0),0) -> 0 | AN89: =IF(E89="CA",1,0) -> 0 | AO89: =+IF(G89="S",5,+IF(D89="PM",10,12)) -> 12 | AP89: =+C89*AO89*AJ89 -> 2649600 | AQ89: 115008 | AR89: =AM89*$AM$2*AO89 -> 0 | AS89: =AP89*$AN$2*AN89 -> 0 | AT89: =SUM(AP89:AS89)/AO89 -> 230384 | AU89: =AT89*5/44 -> 26180
A90: 86 | B90: ORELLANA RIVERA MANUEL | C90: 59200 | D90: PC | F90: EF | G90: A | J90: =IF(G90="A",(H90+I90)/2,H90+I90) -> 0 | K90: =TRUNC(J90,0) -> 0 | N90: =TRUNC(SUM(L90:M90)/2,0) -> 0 | Q90: =TRUNC(IF(D90="PM",0,IF(E90="CA",(K90)/6,(K90)/3)),0) -> 0 | S90: 10 | T90: 1 | AJ90: =SUM(N90:AI90)+K90 -> 11 | AL90: =+IF(D90="PC",1,0) -> 1 | AM90: =IF(D90="PC", +IF(AJ90>17,1,0),0) -> 0 | AN90: =IF(E90="CA",1,0) -> 0 | AO90: =+IF(G90="S",5,+IF(D90="PM",10,12)) -> 12 | AP90: =+C90*AO90*AJ90 -> 7814400 | AQ90: 115008 | AR90: =AM90*$AM$2*AO90 -> 0 | AS90: =AP90*$AN$2*AN90 -> 0 | AT90: =SUM(AP90:AS90)/AO90 -> 660784 | AU90: =AT90*5/44 -> 75089.091
B91: ORTEGA CC IM | D91: PM | F91: FP | G91: A | H91: 4 | I91: 4 | J91: =IF(G91="A",(H91+I91)/2,H91+I91) -> 4 | K91: =TRUNC(J91,0) -> 4 | Q91: =TRUNC(IF(D91="PM",0,IF(E91="CA",(K91)/6,(K91)/3)),0) -> 0 | AJ91: =SUM(N91:AI91)+K91 -> 4 | AL91: =+IF(D91="PC",1,0) -> 0 | AO91: =+IF(G91="S",5,+IF(D91="PM",10,12)) -> 10 | AQ91: =+AL91*AO91*$AL$2 -> 0
B92: OSORIO MATIAS T1 | D92: PM | F92: FP | G92: S | H92: 6 | J92: =IF(G92="A",(H92+I92)/2,H92+I92) -> 6 | K92: =TRUNC(J92,0) -> 6 | Q92: =TRUNC(IF(D92="PM",0,IF(E92="CA",(K92)/6,(K92)/3)),0) -> 0 | AJ92: =SUM(N92:AI92)+K92 -> 6 | AL92: =+IF(D92="PC",1,0) -> 0 | AO92: =+IF(G92="S",5,+IF(D92="PM",10,12)) -> 5 | AQ92: =+AL92*AO92*$AL$2 -> 0
A93: 87 | B93: OTSU YASUJI | C93: 70400 | D93: PC | F93: EF | G93: A | H93: 10 | I93: 10 | J93: =IF(G93="A",(H93+I93)/2,H93+I93) -> 10 | K93: =TRUNC(J93,0) -> 10 | N93: =TRUNC(SUM(L93:M93)/2,0) -> 0 | Q93: =TRUNC(IF(D93="PM",0,IF(E93="CA",(K93)/6,(K93)/3)),0) -> 3 | R93: 9 | U93: 6 | AD93: 3 | AJ93: =SUM(N93:AI93)+K93 -> 31 | AL93: =+IF(D93="PC",1,0) -> 1 | AM93: =IF(D93="PC", +IF(AJ93>17,1,0),0) -> 1 | AN93: =IF(E93="CA",1,0) -> 0 | AO93: =+IF(G93="S",5,+IF(D93="PM",10,12)) -> 12 | AP93: =+C93*AO93*AJ93 -> 26188800 | AQ93: 115008 | AR93: 340620 | AS93: =AP93*$AN$2*AN93 -> 0 | AT93: =SUM(AP93:AS93)/AO93 -> 2220369 | AU93: =AT93*5/44 -> 252314.66
A94: 89 | B94: P | N94: =TRUNC(SUM(L94:M94)/2,0) -> 0 | Q94: =TRUNC(IF(D94="PM",0,IF(E94="CA",(K94)/6,(K94)/3)),0) -> 0
A95: 91 | B95: PÉREZ PATRICIO SO | C95: 25631 | D95: PM | F95: FP | G95: A | H95: 2 | I95: 2 | J95: =IF(G95="A",(H95+I95)/2,H95+I95) -> 2 | K95: =TRUNC(J95,0) -> 2 | N95: =TRUNC(SUM(L95:M95)/2,0) -> 0 | Q95: =TRUNC(IF(D95="PM",0,IF(E95="CA",(K95)/6,(K95)/3)),0) -> 0 | S95: 9 | AJ95: =SUM(N95:AI95)+K95 -> 11 | AL95: =+IF(D95="PC",1,0) -> 0 | AO95: =+IF(G95="S",5,+IF(D95="PM",10,12)) -> 10 | AQ95: =+AL95*AO95*$AL$2 -> 0
A96: 92 | B96: PERUCCI CASTRO FRANCISCA | C96: 48000 | D96: PC | F96: EF | G96: A | H96: 4 | I96: 4 | J96: =IF(G96="A",(H96+I96)/2,H96+I96) -> 4 | K96: =TRUNC(J96,0) -> 4 | N96: =TRUNC(SUM(L96:M96)/2,0) -> 0 | Q96: =TRUNC(IF(D96="PM",0,IF(E96="CA",(K96)/6,(K96)/3)),0) -> 1 | U96: 12 | AD96: 1 | AF96: 4 | AJ96: =SUM(N96:AI96)+K96 -> 22 | AL96: =+IF(D96="PC",1,0) -> 1 | AM96: 1 | AN96: =IF(E96="CA",1,0) -> 0 | AO96: 10 | AP96: =+C96*AO96*AJ96 -> 10560000 | AQ96: 115008 | AS96: =AP96*$AN$2*AN96 -> 0
A97: 93 | B97: PINTO BORIS | C97: 62400 | D97: PC | F97: EF | G97: A | H97: 9 | I97: 9 | J97: =IF(G97="A",(H97+I97)/2,H97+I97) -> 9 | K97: =TRUNC(J97,0) -> 9 | N97: =TRUNC(SUM(L97:M97)/2,0) -> 0 | Q97: =TRUNC(IF(D97="PM",0,IF(E97="CA",(K97)/6,(K97)/3)),0) -> 3 | S97: 10 | U97: 1 | AD97: 3 | AF97: 4 | AJ97: =SUM(N97:AI97)+K97 -> 30 | AL97: =+IF(D97="PC",1,0) -> 1 | AM97: =IF(D97="PC", +IF(AJ97>17,1,0),0) -> 1 | AN97: =IF(E97="CA",1,0) -> 0 | AO97: =+IF(G97="S",5,+IF(D97="PM",10,12)) -> 12 | AP97: =+C97*AO97*AJ97 -> 22464000 | AQ97: 115008 | AR97: 340620 | AS97: =AP97*$AN$2*AN97 -> 0 | AT97: =SUM(AP97:AS97)/AO97 -> 1909969 | AU97: =AT97*5/44 -> 217041.93
A98: 95 | B98: PIZARRO LORENA | C98: 59200 | D98: PC | F98: CB | G98: A | H98: 14 | I98: 0 | J98: =IF(G98="A",(H98+I98)/2,H98+I98) -> 7 | K98: =TRUNC(J98,0) -> 7 | L98: 8 | M98: 4 | N98: =TRUNC(SUM(L98:M98)/2,0) -> 6 | Q98: =TRUNC(IF(D98="PM",0,IF(E98="CA",(K98)/6,(K98)/3)),0) -> 2 | V98: 2 | AC98: 2 | AE98: 2 | AJ98: =SUM(N98:AI98)+K98 -> 21 | AL98: =+IF(D98="PC",1,0) -> 1 | AM98: =IF(D98="PC", +IF(AJ98>17,1,0),0) -> 1 | AN98: =IF(E98="CA",1,0) -> 0 | AO98: =+IF(G98="S",5,+IF(D98="PM",10,12)) -> 12 | AP98: =+C98*AO98*AJ98 -> 14918400 | AQ98: 115008 | AR98: 340620 | AS98: =AP98*$AN$2*AN98 -> 0 | AT98: =SUM(AP98:AS98)/AO98 -> 1281169 | AU98: =AT98*5/44 -> 145587.39
A99: 96 | B99: PLAZA MANUEL | C99: 83200 | D99: PC | F99: CB | G99: A | H99: 6 | I99: 6 | J99: =IF(G99="A",(H99+I99)/2,H99+I99) -> 6 | K99: =TRUNC(J99,0) -> 6 | N99: =TRUNC(SUM(L99:M99)/2,0) -> 0 | Q99: =TRUNC(IF(D99="PM",0,IF(E99="CA",(K99)/6,(K99)/3)),0) -> 2 | AH99: 36 | AJ99: =SUM(N99:AI99)+K99 -> 44 | AL99: =+IF(D99="PC",1,0) -> 1 | AM99: =IF(D99="PC", +IF(AJ99>17,1,0),0) -> 1 | AN99: =IF(E99="CA",1,0) -> 0 | AO99: =+IF(G99="S",5,+IF(D99="PM",10,12)) -> 12 | AP99: =+C99*AO99*AJ99 -> 43929600 | AQ99: 115008 | AR99: 340620 | AS99: =AP99*$AN$2*AN99 -> 0 | AT99: =SUM(AP99:AS99)/AO99 -> 3698769 | AU99: =AT99*5/44 -> 420314.66
B100: POBLETE EDUARDO | D100: PM | F100: FP | G100: S | H100: 4 | J100: =IF(G100="A",(H100+I100)/2,H100+I100) -> 4 | K100: =TRUNC(J100,0) -> 4 | Q100: =TRUNC(IF(D100="PM",0,IF(E100="CA",(K100)/6,(K100)/3)),0) -> 0 | AJ100: =SUM(N100:AI100)+K100 -> 4 | AL100: =+IF(D100="PC",1,0) -> 0 | AO100: =+IF(G100="S",5,+IF(D100="PM",10,12)) -> 5 | AQ100: =+AL100*AO100*$AL$2 -> 0
...

Sheet JEFE CATEDRA
B4: JEFE FH | C4: FACULTAD HUMÍSTICA | E4: SIMS EDUARDO
B5: FH | C5: LENGUA CASTELLANA | D5: 2 | E5: ARENTSEN CHRISTIANE
C6: CS SOCIALES | D6: 4 | E6: RÍOS JORGE
C7: PSICOLOGÍA, FILO, ÉTICA Y MORAL | D7: 2 | E7: MAYNE_NICOLLS MICHAEL
C8: MANDO Y LIDERAZGO | D8: 4 | E8: KEITEL JORGE
C9: INGLÉS | D9: 0 | E9: GONZÁLEZ DORIS
B11: JEFE CB | C11: FACULTAD CIENCIAS BÁSICAS Y APLICADAS | E11: LEIVA YANINA
B12: CB | C12: MATEMÁTICAS Y HERR TEC | D12: 4 | E12: HARDY CATHERINE
C13: FÍSICA Y ELECTRO | D13: 4 | E13: JAIME HÉCTOR
C14: QUÍMICA | D14: 2 | E14: PIZARRO LORENA
C15: MOD DE SIST | D15: 1 | E15: DE LA FUENTE VÍCTOR
B17: JEFE FP | C17: FACULTAD FORMACIÓN PROFESIONAL | E17: SIELFELD JUAN
B18: FP | C18: FORMACIÓN NAVAL, NÁUTICA Y SEGURIDAD | D18: 4 | E18: KEITEL JORGE
C19: OP NAVALES, NAVEGACIÓN, METEO | D19: 4 | E19: COLOMA MANUEL
C20: SISTEMAS DE ARMAS | D20: 1 | E20: NN
C21: SISTEMAS DE INGENIERÍA | D21: 1 | E21: GARCÍA ALBERTO
C22: ADMINISTRACIÓN | D22: 1 | E22: GUNDLACH HÉCTOR
C23: ESPECIALIDAD IM | D23: 0 | E23: SIELFELD JUAN
C24: ESPECIALIDAD AB | D24: 3 | E24: VIDAL CARLOS
C25: ESPECIALIDAD LT | D25: 2 | E25: MUNITA JUAN CARLOS

Sheet Hoja3
C3: PROFESOR | D3: SEM1 | E3: SEM 2 | F3: LAB1 | G3: LAB2 | H3: CIRCULO | I3: CONSULTORIAS
C4: ACUÑA PAC SO | D4: =SUMIF(Hoja2!$E$4:$E$176,Hoja3!$C4,Hoja2!$F$4:$F$176) -> 6 | E4: =SUMIF(Hoja2!$E$4:$E$176,Hoja3!$C4,Hoja2!$H$4:$H$176) -> 6 | F4: =SUMIF(Hoja2!$E$4:$E$176,Hoja3!$C4,Hoja2!$G$4:$G$176) -> 0 | G4: =SUMIF(Hoja2!$E$4:$E$176,Hoja3!$C4,Hoja2!$I$4:$I$176) -> 0 | H4: =SUMIF(Hoja2!$E$4:$E$176,Hoja3!$C4,Hoja2!$J$4:$J$176) -> 0 | I4: =SUMIF(Hoja2!$E$4:$E$176,Hoja3!$C4,Hoja2!$K$4:$K$176) -> 0
C5: ARANCIBIA DAMARIS | D5: =SUMIF(Hoja2!$E$4:$E$176,Hoja3!$C5,Hoja2!$F$4:$F$176) -> #REF! | E5: =SUMIF(Hoja2!$E$4:$E$176,Hoja3!$C5,Hoja2!$H$4:$H$176) -> #REF! | F5: =SUMIF(Hoja2!$E$4:$E$176,Hoja3!$C5,Hoja2!$G$4:$G$176) -> #REF! | G5: =SUMIF(Hoja2!$E$4:$E$176,Hoja3!$C5,Hoja2!$I$4:$I$176) -> #REF! | H5: =SUMIF(Hoja2!$E$4:$E$176,Hoja3!$C5,Hoja2!$J$4:$J$176) -> 0 | I5: =SUMIF(Hoja2!$E$4:$E$176,Hoja3!$C5,Hoja2!$K$4:$K$176) -> 0
C6: ARENTSEN CHRISTIANE | D6: =SUMIF(Hoja2!$E$4:$E$176,Hoja3!$C6,Hoja2!$F$4:$F$176) -> 26 | E6: =SUMIF(Hoja2!$E$4:$E$176,Hoja3!$C6,Hoja2!$H$4:$H$176) -> 18 | F6: =SUMIF(Hoja2!$E$4:$E$176,Hoja3!$C6,Hoja2!$G$4:$G$176) -> 0 | G6: =SUMIF(Hoja2!$E$4:$E$176,Hoja3!$C6,Hoja2!$I$4:$I$176) -> 0 | H6: =SUMIF(Hoja2!$E$4:$E$176,Hoja3!$C6,Hoja2!$J$4:$J$176) -> 0 | I6: =SUMIF(Hoja2!$E$4:$E$176,Hoja3!$C6,Hoja2!$K$4:$K$176) -> 0
C7: BAQUEDANO SOLEDAD | D7: =SUMIF(Hoja2!$E$4:$E$176,Hoja3!$C7,Hoja2!$F$4:$F$176) -> 26 | E7: =SUMIF(Hoja2!$E$4:$E$176,Hoja3!$C7,Hoja2!$H$4:$H$176) -> 26 | F7: =SUMIF(Hoja2!$E$4:$E$176,Hoja3!$C7,Hoja2!$G$4:$G$176) -> 0 | G7: =SUMIF(Hoja2!$E$4:$E$176,Hoja3!$C7,Hoja2!$I$4:$I$176) -> 0 | H7: =SUMIF(Hoja2!$E$4:$E$176,Hoja3!$C7,Hoja2!$J$4:$J$176) -> 0 | I7: =SUMIF(Hoja2!$E$4:$E$176,Hoja3!$C7,Hoja2!$K$4:$K$176) -> 0
C8: BAROS ANTONIO | D8: =SUMIF(Hoja2!$E$4:$E$176,Hoja3!$C8,Hoja2!$F$4:$F$176) -> 0 | E8: =SUMIF(Hoja2!$E$4:$E$176,Hoja3!$C8,Hoja2!$H$4:$H$176) -> 4 | F8: =SUMIF(Hoja2!$E$4:$E$176,Hoja3!$C8,Hoja2!$G$4:$G$176) -> 0 | G8: =SUMIF(Hoja2!$E$4:$E$176,Hoja3!$C8,Hoja2!$I$4:$I$176) -> 0 | H8: =SUMIF(Hoja2!$E$4:$E$176,Hoja3!$C8,Hoja2!$J$4:$J$176) -> 0 | I8: =SUMIF(Hoja2!$E$4:$E$176,Hoja3!$C8,Hoja2!$K$4:$K$176) -> 0
C9: BARRERA CLAUDIA | D9: =SUMIF(Hoja2!$E$4:$E$176,Hoja3!$C9,Hoja2!$F$4:$F$176) -> 22 | E9: =SUMIF(Hoja2!$E$4:$E$176,Hoja3!$C9,Hoja2!$H$4:$H$176) -> 22 | F9: =SUMIF(Hoja2!$E$4:$E$176,Hoja3!$C9,Hoja2!$G$4:$G$176) -> 0 | G9: =SUMIF(Hoja2!$E$4:$E$176,Hoja3!$C9,Hoja2!$I$4:$I$176) -> 0 | H9: =SUMIF(Hoja2!$E$4:$E$176,Hoja3!$C9,Hoja2!$J$4:$J$176) -> 0 | I9: =SUMIF(Hoja2!$E$4:$E$176,Hoja3!$C9,Hoja2!$K$4:$K$176) -> 0
C10: BASTIDAS CC DIRISNAV | D10: =SUMIF(Hoja2!$E$4:$E$176,Hoja3!$C10,Hoja2!$F$4:$F$176) -> 0 | E10: =SUMIF(Hoja2!$E$4:$E$176,Hoja3!$C10,Hoja2!$H$4:$H$176) -> 4 | F10: =SUMIF(Hoja2!$E$4:$E$176,Hoja3!$C10,Hoja2!$G$4:$G$176) -> 0 | G10: =SUMIF(Hoja2!$E$4:$E$176,Hoja3!$C10,Hoja2!$I$4:$I$176) -> 0 | H10: =SUMIF(Hoja2!$E$4:$E$176,Hoja3!$C10,Hoja2!$J$4:$J$176) -> 0 | I10: =SUMIF(Hoja2!$E$4:$E$176,Hoja3!$C10,Hoja2!$K$4:$K$176) -> 0
C11: BELLO DANIEL | D11: =SUMIF(Hoja2!$E$4:$E$176,Hoja3!$C11,Hoja2!$F$4:$F$176) -> 2 | E11: =SUMIF(Hoja2!$E$4:$E$176,Hoja3!$C11,Hoja2!$H$4:$H$176) -> 2 | F11: =SUMIF(Hoja2!$E$4:$E$176,Hoja3!$C11,Hoja2!$G$4:$G$176) -> 0 | G11: =SUMIF(Hoja2!$E$4:$E$176,Hoja3!$C11,Hoja2!$I$4:$I$176) -> 0 | H11: =SUMIF(Hoja2!$E$4:$E$176,Hoja3!$C11,Hoja2!$J$4:$J$176) -> 0 | I11: =SUMIF(Hoja2!$E$4:$E$176,Hoja3!$C11,Hoja2!$K$4:$K$176) -> 0
C12: BIERWIRTH | D12: =SUMIF(Hoja2!$E$4:$E$176,Hoja3!$C12,Hoja2!$F$4:$F$176) -> 0 | E12: =SUMIF(Hoja2!$E$4:$E$176,Hoja3!$C12,Hoja2!$H$4:$H$176) -> 0 | F12: =SUMIF(Hoja2!$E$4:$E$176,Hoja3!$C12,Hoja2!$G$4:$G$176) -> 8 | G12: =SUMIF(Hoja2!$E$4:$E$176,Hoja3!$C12,Hoja2!$I$4:$I$176) -> 8 | H12: =SUMIF(Hoja2!$E$4:$E$176,Hoja3!$C12,Hoja2!$J$4:$J$176) -> 0 | I12: =SUMIF(Hoja2!$E$4:$E$176,Hoja3!$C12,Hoja2!$K$4:$K$176) -> 0
C13: BUCCAREY FRANCIS | D13: =SUMIF(Hoja2!$E$4:$E$176,Hoja3!$C13,Hoja2!$F$4:$F$176) -> 6 | E13: =SUMIF(Hoja2!$E$4:$E$176,Hoja3!$C13,Hoja2!$H$4:$H$176) -> 2 | F13: =SUMIF(Hoja2!$E$4:$E$176,Hoja3!$C13,Hoja2!$G$4:$G$176) -> 0 | G13: =SUMIF(Hoja2!$E$4:$E$176,Hoja3!$C13,Hoja2!$I$4:$I$176) -> 0 | H13: =SUMIF(Hoja2!$E$4:$E$176,Hoja3!$C13,Hoja2!$J$4:$J$176) -> 2 | I13: =SUMIF(Hoja2!$E$4:$E$176,Hoja3!$C13,Hoja2!$K$4:$K$176) -> 0
C14: CAMPOS MANUEL | D14: =SUMIF(Hoja2!$E$4:$E$176,Hoja3!$C14,Hoja2!$F$4:$F$176) -> 2 | E14: =SUMIF(Hoja2!$E$4:$E$176,Hoja3!$C14,Hoja2!$H$4:$H$176) -> 2 | F14: =SUMIF(Hoja2!$E$4:$E$176,Hoja3!$C14,Hoja2!$G$4:$G$176) -> 0 | G14: =SUMIF(Hoja2!$E$4:$E$176,Hoja3!$C14,Hoja2!$I$4:$I$176) -> 0 | H14: =SUMIF(Hoja2!$E$4:$E$176,Hoja3!$C14,Hoja2!$J$4:$J$176) -> 0 | I14: =SUMIF(Hoja2!$E$4:$E$176,Hoja3!$C14,Hoja2!$K$4:$K$176) -> 0
C15: CAMPOS VALESKA | D15: =SUMIF(Hoja2!$E$4:$E$176,Hoja3!$C15,Hoja2!$F$4:$F$176) -> 26 | E15: =SUMIF(Hoja2!$E$4:$E$176,Hoja3!$C15,Hoja2!$H$4:$H$176) -> 16 | F15: =SUMIF(Hoja2!$E$4:$E$176,Hoja3!$C15,Hoja2!$G$4:$G$176) -> 0 | G15: =SUMIF(Hoja2!$E$4:$E$176,Hoja3!$C15,Hoja2!$I$4:$I$176) -> 0 | H15: =SUMIF(Hoja2!$E$4:$E$176,Hoja3!$C15,Hoja2!$J$4:$J$176) -> 0 | I15: =SUMIF(Hoja2!$E$4:$E$176,Hoja3!$C15,Hoja2!$K$4:$K$176) -> 4
... C95: ZANELLI VÍCTOR | D95: =SUMIF(Hoja2!$E$4:$E$176,Hoja3!$C95,Hoja2!$F$4:$F$176) -> 26 | E95: =SUMIF(Hoja2!$E$4:$E$176,Hoja3!$C95,Hoja2!$H$4:$H$176) -> 26 | F95: =SUMIF(Hoja2!$E$4:$E$176,Hoja3!$C95,Hoja2!$G$4:$G$176) -> 0 | G95: =SUMIF(Hoja2!$E$4:$E$176,Hoja3!$C95,Hoja2!$I$4:$I$176) -> 0 | H95: =SUMIF(Hoja2!$E$4:$E$176,Hoja3!$C95,Hoja2!$J$4:$J$176) -> 0 | I95: =SUMIF(Hoja2!$E$4:$E$176,Hoja3!$C95,Hoja2!$K$4:$K$176) -> 0
D96: =SUMIF(Hoja2!$E$4:$E$176,Hoja3!$C110,Hoja2!$F$4:$F$176) -> 0 | E96: =SUMIF(Hoja2!$E$4:$E$176,Hoja3!$C110,Hoja2!$H$4:$H$176) -> 0 | F96: =SUMIF(Hoja2!$E$4:$E$176,Hoja3!$C110,Hoja2!$G$4:$G$176) -> 0 | G96: =SUMIF(Hoja2!$E$4:$E$176,Hoja3!$C110,Hoja2!$I$4:$I$176) -> 0 | H96: =SUMIF(Hoja2!$E$4:$E$176,Hoja3!$C110,Hoja2!$J$4:$J$176) -> 0 | I96: =SUMIF(Hoja2!$E$4:$E$176,Hoja3!$C110,Hoja2!$K$4:$K$176) -> 0
I97: =SUM(D4:J95) -> #REF!

Sheet Hoja2
B3: ORDEN | C3: CÁTEDRA | D3: PROFESOR | E3: PROFESOR | F3: 1 SEM | G3: LAB 1 | H3: 2 SEM | I3: LAB 2
B4: 1 | C4: OM | D4: =OM!I31 -> ARENTSEN CHRISTIANE | E4: ARENTSEN CHRISTIANE | F4: =OM!J31 -> 6 | G4: =OM!K31 -> 0 | H4: =OM!L31 -> 0 | I4: =OM!M31 -> 0 | J4: 0 | K4: 0
B5: 2 | C5: OM | D5: =OM!I32 -> NUÑEZ MIGUEL | E5: NUÑEZ MIGUEL | F5: =OM!J32 -> 0 | G5: =OM!K32 -> 0 | H5: =OM!L32 -> 6 | I5: =OM!M32 -> 0 | J5: 0 | K5: 0
B6: 3 | C6: OM | D6: =OM!I33 -> LUCERO ANDRÉS | E6: LUCERO ANDRÉS | F6: =OM!J33 -> 0 | G6: =OM!K33 -> 0 | H6: =OM!L33 -> 2 | I6: =OM!M33 -> 0 | J6: 0 | K6: 0
B7: 4 | C7: OM | D7: =OM!I34 -> CELIS ALEJANDRO | E7: CELIS ALEJANDRO | F7: =OM!J34 -> 4 | G7: =OM!K34 -> 0 | H7: =OM!L34 -> 0 | I7: =OM!M34 -> 0 | J7: 0 | K7: 0
B8: 5 | C8: OM | D8: =OM!I35 -> MUÑOZ JAIME | E8: MUÑOZ JAIME | F8: =OM!J35 -> 2 | G8: =OM!K35 -> 0 | H8: =OM!L35 -> 0 | I8: =OM!M35 -> 0 | J8: 0 | K8: 0
B9: 6 | C9: OM | D9: =OM!I36 -> GUNDLACH HÉCTOR | E9: GUNDLACH HÉCTOR | F9: =OM!J36 -> 4 | G9: =OM!K36 -> 0 | H9: =OM!L36 -> 4 | I9: =OM!M36 -> 0 | J9: 0 | K9: 0
B10: 7 | C10: OM | D10: =OM!I37 -> QUIROGA CÉSAR | E10: QUIROGA CÉSAR | F10: =OM!J37 -> 0 | G10: =OM!K37 -> 0 | H10: =OM!L37 -> 2 | I10: =OM!M37 -> 0 | J10: 0 | K10: 0
B11: 8 | C11: OM | D11: =OM!I38 -> ROMÁN LORENA | E11: ROMÁN LORENA | F11: =OM!J38 -> 0 | G11: =OM!K38 -> 0 | H11: =OM!L38 -> 4 | I11: =OM!M38 -> 0 | J11: 0 | K11: 0
B12: 9 | C12: OM | D12: =OM!I39 -> SORIA-GALVARRO RODOLFO | E12: SORIA-GALVARRO RODOLFO | F12: =OM!J39 -> 0 | G12: =OM!K39 -> 0 | H12: =OM!L39 -> 0 | I12: =OM!M39 -> 0 | J12: 0 | K12: 0 | M12: =SUM(F4:I14) -> 42
B13: 10 | C13: OM | D13: =OM!I40 -> SIMS EDUARDO | E13: SIMS EDUARDO | F13: =OM!J40 -> 4 | G13: =OM!K40 -> 0 | H13: =OM!L40 -> 4 | I13: =OM!M40 -> 0 | J13: 0 | K13: 0
B14: 11 | D14: =OM!I41 -> KEITEL JORGE | E14: KEITEL JORGE | F14: =OM!J41 -> 0 | G14: =OM!K41 -> 0 | H14: =OM!L41 -> 0 | I14: =OM!M41 -> 0 | J14: 0 | K14: 0
B15: 12 | J15: 0 | K15: 0
B16: 13 | C16: SIST ARMAS | D16: ='SIST ARM'!I24 -> OFDIV 1 | E16: OFDIV 1 Sist Armas | F16: ='SIST ARM'!J24 -> 0 | G16: ='SIST ARM'!K24 -> 0 | H16: ='SIST ARM'!L24 -> 0 | I16: ='SIST ARM'!M24 -> 0 | J16: 0 | K16: 0
B17: 14 | C17: SIST ARMAS | D17: ='SIST ARM'!I25 -> NN SIST DE ARMAS | E17: NN SIST DE ARMAS | F17: ='SIST ARM'!J25 -> 0 | G17: ='SIST ARM'!K25 -> 0 | H17: ='SIST ARM'!L25 -> 0 | I17: ='SIST ARM'!M25 -> 0 | J17: 0 | K17: 0
B18: 15 | C18: SIST ARMAS | D18: ='SIST ARM'!I26 -> OFDIV 2 | E18: OFDIV 2 Siste Armas | F18: ='SIST ARM'!J26 -> 0 | G18: ='SIST ARM'!K26 -> 0 | H18: ='SIST ARM'!L26 -> 0 | I18: ='SIST ARM'!M26 -> 0 | J18: 0 | K18: 0 | M18: =SUM(F16:I19) -> 0
B19: 16 | C19: SIST ARMAS | D19: ='SIST ARM'!I27 -> POBLETE EDUARDO CC | E19: POBLETE EDUARDO CC | F19: ='SIST ARM'!J27 -> 0 | G19: ='SIST ARM'!K27 -> 0 | H19: ='SIST ARM'!L27 -> 0 | I19: ='SIST ARM'!M27 -> 0 | J19: 0 | K19: 0
B20: 17 | J20: 0 | K20: 0
B21: 18 | C21: NAVEGACIÓN | D21: =NAVEG!I50 -> COLOMA MANUEL | E21: COLOMA MANUEL | F21: =NAVEG!J50 -> 19 | G21: =NAVEG!K50 -> 0 | H21: =NAVEG!L50 -> 22 | I21: =NAVEG!M50 -> 0 | J21: 0 | K21: 0
B22: 19 | C22: NAVEGACIÓN | D22: =NAVEG!I51 -> GONZÁLEZ FABIÁN | E22: GONZÁLEZ FABIÁN | F22: =NAVEG!J51 -> 1 | G22: =NAVEG!K51 -> 0 | H22: =NAVEG!L51 -> 8 | I22: =NAVEG!M51 -> 0 | J22: 0 | K22: 0
B23: 20 | C23: NAVEGACIÓN | D23: =NAVEG!I52 -> ROCA PEDRO | E23: ROCA PEDRO | F23: =NAVEG!J52 -> 0 | G23: =NAVEG!K52 -> 0 | H23: =NAVEG!L52 -> 2 | I23: =NAVEG!M52 -> 0 | J23: 0 | K23: 0
B24: 21 | C24: NAVEGACIÓN | D24: =NAVEG!I53 -> ROJAS MARIANO | E24: ROJAS MARIANO | F24: =NAVEG!J53 -> 6 | G24: =NAVEG!K53 -> 0 | H24: =NAVEG!L53 -> 12 | I24: =NAVEG!M53 -> 0 | J24: 0 | K24: 0 | M24: =SUM(F21:I25) -> 118
B25: 22 | C25: NAVEGACIÓN | D25: =NAVEG!I54 -> ZANELLI VICTOR | E25: ZANELLI VÍCTOR | F25: =NAVEG!J54 -> 24 | G25: =NAVEG!K54 -> 0 | H25: =NAVEG!L54 -> 24 | I25: =NAVEG!M54 -> 0 | J25: 0 | K25: 0
B26: 23 | J26: 0 | K26: 0
B27: 24 | C27: PLAN OP NAVALES | D27: ='OP NAV'!I20 -> ROJAS MARIANO | E27: ROJAS MARIANO | F27: ='OP NAV'!J20 -> 12 | G27: ='OP NAV'!K20 -> 0 | H27: ='OP NAV'!L20 -> 12 | I27: ='OP NAV'!M20 -> 0 | J27: 0 | K27: 0 | M27: =SUM(F27:I27) -> 24
B28: 25 | I28: =SUM(F26:I26) -> 0 | J28: 0 | K28: 0
B29: 26 | C29: SISTEMAS DE ING | D29: ='SIST ING'!I26 -> FISCHER MATIAS | E29: FISCHER MATIAS | F29: ='SIST ING'!J26 -> 4 | G29: ='SIST ING'!K26 -> 0 | H29: ='SIST ING'!L26 -> 0 | I29: ='SIST ING'!M26 -> 0 | J29: 0 | K29: 0
B30: 27 | C30: SISTEMAS DE ING | D30: ='SIST ING'!I27 -> GARCÍA ALBERTO | E30: GARCÍA ALBERTO | F30: ='SIST ING'!J27 -> 10 | G30: ='SIST ING'!K27 -> 0 | H30: ='SIST ING'!L27 -> 7 | I30: ='SIST ING'!M27 -> 0 | J30: 0 | K30: 0
B31: 28 | C31: SISTEMAS DE ING | D31: ='SIST ING'!I28 -> ROBERT VERGARA JOHN | E31: ROBERT VERGARA JOHN | F31: ='SIST ING'!J28 -> 6 | G31: ='SIST ING'!K28 -> 0 | H31: ='SIST ING'!L28 -> 0 | I31: ='SIST ING'!M28 -> 0 | J31: 0 | K31: 0 | M31: =SUM(F29:I32) -> 33
B32: 29 | C32: SISTEMAS DE ING | D32: ='SIST ING'!I29 -> ULLOA VÍCTOR | E32: ULLOA VÍCTOR | F32: ='SIST ING'!J29 -> 6 | G32: ='SIST ING'!K29 -> 0 | H32: ='SIST ING'!L29 -> 0 | I32: ='SIST ING'!M29 -> 0 | J32: 0 | K32: 0
B33: 30 | J33: 0 | K33: 0
B34: 31 | C34: ADMINISTRACIÓN | D34: ='ADMINIST '!I27 -> GUNDLACH HÉCTOR | E34: GUNDLACH HÉCTOR | F34: ='ADMINIST '!J27 -> 10 | G34: ='ADMINIST '!K27 -> 0 | H34: ='ADMINIST '!L27 -> 14 | I34: ='ADMINIST '!M27 -> 0 | J34: 0 | K34: 0 | M34: =SUM(F34:I34) -> 24
B35: 32 | J35: 0 | K35: 0
B36: 33 | C36: ESP IM | D36: ='ESP IM'!I33 -> OSORIO MATIAS T1 | E36: OSORIO MATIAS T1 | F36: ='ESP IM'!J33 -> 6 | G36: ='ESP IM'!K33 -> 0 | H36: ='ESP IM'!L33 -> 0 | I36: ='ESP IM'!M33 -> 0 | J36: 0 | K36: 0
B37: 34 | C37: ESP IM | D37: ='ESP IM'!I34 -> SIELFELD JUAN | E37: SIELFELD JUAN | F37: ='ESP IM'!J34 -> 14 | G37: ='ESP IM'!K34 -> 0 | H37: ='ESP IM'!L34 -> 11 | I37: ='ESP IM'!M34 -> 0 | J37: 0 | K37: 0
B38: 35 | C38: ESP IM | D38: ='ESP IM'!I35 -> VON DER WETH FIEDRICH | E38: VON DER WETH FIEDRICH | F38: ='ESP IM'!J35 -> 9 | G38: ='ESP IM'!K35 -> 0 | H38: ='ESP IM'!L35 -> 9 | I38: ='ESP IM'!M35 -> 0 | J38: 0 | K38: 0
B39: 36 | C39: ESP IM | D39: ='ESP IM'!I36 -> SOLIS GONZALO T1 IM | E39: SOLIS GONZALO T1 IM | F39: ='ESP IM'!J36 -> 0 | G39: ='ESP IM'!K36 -> 0 | H39: ='ESP IM'!L36 -> 0 | I39: ='ESP IM'!M36 -> 0 | J39: 0 | K39: 0
B40: 37 | C40: ESP IM | D40: ='ESP IM'!I37 -> LAGOS ALFREDO T1 IM TC | E40: LAGOS ALFREDO T1 IM TC | F40: ='ESP IM'!J37 -> 0 | G40: ='ESP IM'!K37 -> 0 | H40: ='ESP IM'!L37 -> 4 | I40: ='ESP IM'!M37 -> 0 | J40: 0 | K40: 0 | M40: =SUM(F36:I42) -> 53
B41: 38 | C41: ESP IM | D41: ='ESP IM'!I38 -> ORTEGA CC IM | E41: ORTEGA CC IM | F41: ='ESP IM'!J38 -> 0 | G41: ='ESP IM'!K38 -> 0 | H41: ='ESP IM'!L38 -> 0 | I41: ='ESP IM'!M38 -> 0 | J41: 0 | K41: 0
B42: 39 | C42: ESP IM | D42: ='ESP IM'!I39 -> KEITEL JORGE | E42: KEITEL JORGE | F42: ='ESP IM'!J39 -> 0 | G42: ='ESP IM'!K39 -> 0 | H42: ='ESP IM'!L39 -> 0 | I42: ='ESP IM'!M39 -> 0 | J42: 0 | K42: 0
B43: 40 | J43: 0 | K43: 0
B44: 41 | C44: ESP AB | D44: ='ESP AB'!I35 -> VALENZUELA CONSTANZA T1 AB | E44: VALENZUELA CONSTANZA T1 AB | F44: ='ESP AB'!J35 -> 4 | G44: ='ESP AB'!K35 -> 0 | H44: ='ESP AB'!L35 -> 4 | I44: ='ESP AB'!M35 -> 0 | J44: 0 | K44: 0
B45: 42 | C45: ESP AB | D45: ='ESP AB'!I36 -> VIDAL CARLOS | E45: VIDAL CARLOS | F45: ='ESP AB'!J36 -> 8 | G45: ='ESP AB'!K36 -> 0 | H45: ='ESP AB'!L36 -> 4 | I45: ='ESP AB'!M36 -> 0 | J45: 0 | K45: 0
B46: 43 | C46: ESP AB | D46: ='ESP AB'!I37 -> RODRÍGUEZ NORMAN | E46: RODRÍGUEZ NORMAN | F46: ='ESP AB'!J37 -> 10 | G46: ='ESP AB'!K37 -> 0 | H46: ='ESP AB'!L37 -> 10 | I46: ='ESP AB'!M37 -> 0 | J46: 0 | K46: 0
B47: 44 | C47: ESP AB | D47: ='ESP AB'!I38 -> OBERMOLLER HILDE | E47: OBERMOLLER HILDE | F47: ='ESP AB'!J38 -> 4 | G47: ='ESP AB'!K38 -> 0 | H47: ='ESP AB'!L38 -> 0 | I47: ='ESP AB'!M38 -> 0 | J47: 0 | K47: 0
B48: 45 | C48: ESP AB | D48: ='ESP AB'!I39 -> BASTIDAS CC DIRISNAV | E48: BASTIDAS CC DIRISNAV | F48: ='ESP AB'!J39 -> 0 | G48: ='ESP AB'!K39 -> 0 | H48: ='ESP AB'!L39 -> 4 | I48: ='ESP AB'!M39 -> 0 | J48: 0 | K48: 0
B49: 46 | C49: ESP AB | D49: ='ESP AB'!I40 -> CC AB CRUZ ANDÍA, CARLOS | E49: CC AB CRUZ ANDÍA, CARLOS | F49: ='ESP AB'!J40 -> 0 | G49: ='ESP AB'!K40 -> 0 | H49: ='ESP AB'!L40 -> 0 | I49: ='ESP AB'!M40 -> 0 | J49: 0 | K49: 0
B50: 47 | C50: ESP AB | D50: ='ESP AB'!I41 -> GARCÍA QUIROGA CARLOS | E50: GARCÍA QUIROGA CARLOS | F50: ='ESP AB'!J41 -> 11 | G50: ='ESP AB'!K41 -> 0 | H50: ='ESP AB'!L41 -> 8 | I50: ='ESP AB'!M41 -> 0 | J50: 0 | K50: 0 | M50: =SUM(F44:I50) -> 67
B51: 48 | J51: 0 | K51: 0
B52: 49 | C52: ESP LT | D52: ='ESP LT'!I27 -> GARCÍA ALBERTO | E52: GARCÍA ALBERTO | F52: ='ESP LT'!J27 -> 4 | G52: ='ESP LT'!K27 -> 0 | H52: ='ESP LT'!L27 -> 4 | I52: ='ESP LT'!M27 -> 0 | J52: 0 | K52: 0
B53: 50 | C53: ESP LT | D53: ='ESP LT'!I28 -> CONCHA CLAUDIO | E53: CONCHA CLAUDIO | F53: ='ESP LT'!J28 -> 0 | G53: ='ESP LT'!K28 -> 0 | H53: ='ESP LT'!L28 -> 4 | I53: ='ESP LT'!M28 -> 0 | J53: 0 | K53: 0
B54: 51 | C54: ESP LT | D54: ='ESP LT'!I29 -> MUNITA JUAN CARLOS | E54: MUNITA JUAN CARLOS | F54: ='ESP LT'!J29 -> 4 | G54: ='ESP LT'!K29 -> 0 | H54: ='ESP LT'!L29 -> 10 | I54: ='ESP LT'!M29 -> 0 | J54: 0 | K54: 0
B55: 52 | C55: ESP LT | D55: ='ESP LT'!I30 -> BUCCAREY FRANCIS | E55: BUCCAREY FRANCIS | F55: ='ESP LT'!J30 -> 4 | G55: ='ESP LT'!K30 -> 0 | H55: ='ESP LT'!L30 -> 0 | I55: ='ESP LT'!M30 -> 0 | J55: 0 | K55: 0
B56: 53 | C56: ESP LT | D56: ='ESP LT'!I31 -> BAROS ANTONIO | E56: BAROS ANTONIO | F56: ='ESP LT'!J31 -> 0 | G56: ='ESP LT'!K31 -> 0 | H56: ='ESP LT'!L31 -> 4 | I56: ='ESP LT'!M31 -> 0 | J56: 0 | K56: 0
B57: 54 | C57: ESP LT | D57: ='ESP LT'!I32 -> CERDA PABLO CC LT | E57: CERDA PABLO CC LT | F57: ='ESP LT'!J32 -> 8 | G57: ='ESP LT'!K32 -> 0 | H57: ='ESP LT'!L32 -> 0 | I57: ='ESP LT'!M32 -> 0 | J57: 0 | K57: 0
B58: 55 | C58: ESP LT | D58: ='ESP LT'!I33 -> RUIZ T1 LT | E58: RUIZ T1 LT | F58: ='ESP LT'!J33 -> 0 | G58: ='ESP LT'!K33 -> 0 | H58: ='ESP LT'!L33 -> 0 | I58: ='ESP LT'!M33 -> 0 | J58: 0 | K58: 0 | M58: =SUM(F52:I58) -> 42
B59: 56 | J59: 0 | K59: 0
B60: 57 | C60: NÁUTICA | D60: =NÁUTICA!I32 -> ROJAS MARIANO | E60: ROJAS MARIANO | F60: =NÁUTICA!J32 -> 4 | G60: =NÁUTICA!K32 -> 0 | H60: =NÁUTICA!L32 -> 0 | I60: =NÁUTICA!M32 -> 0 | J60: 0 | K60: 0
B61: 58 | C61: NÁUTICA | D61: =NÁUTICA!I33 -> SEPÚLVEDA RODRIGO | E61: SEPÚLVEDA RODRIGO | F61: =NÁUTICA!J33 -> 4 | G61: =NÁUTICA!K33 -> 0 | H61: =NÁUTICA!L33 -> 8 | I61: =NÁUTICA!M33 -> 0 | J61: 0 | K61: 0
B62: 59 | C62: NÁUTICA | D62: =NÁUTICA!I34 -> SIMS EDUARDO | E62: SIMS EDUARDO | F62: =NÁUTICA!J34 -> 6 | G62: =NÁUTICA!K34 -> 0 | H62: =NÁUTICA!L34 -> 0 | I62: =NÁUTICA!M34 -> 0 | J62: 0 | K62: 0 | M62: =SUM(F60:I62) -> 22
B63: 60 | J63: 0 | K63: 0
B64: 61 | C64: FORM NAVAL | D64: ='FOR NAVAL'!K79 -> ACUÑA PAC SO | E64: ACUÑA PAC SO | F64: ='FOR NAVAL'!L79 -> 6 | G64: ='FOR NAVAL'!M79 -> 0 | H64: ='FOR NAVAL'!N79 -> 6 | I64: ='FOR NAVAL'!O79 -> 0 | J64: 0 | K64: 0
B65: 62 | C65: FORM NAVAL | D65: ='FOR NAVAL'!K80 -> BELLO DANIEL | E65: BELLO DANIEL | F65: ='FOR NAVAL'!L80 -> 2 | G65: ='FOR NAVAL'!M80 -> 0 | H65: ='FOR NAVAL'!N80 -> 2 | I65: ='FOR NAVAL'!O80 -> 0 | J65: 0 | K65: 0
B66: 63 | C66: FORM NAVAL | D66: ='FOR NAVAL'!K81 -> BIERWIRTH | E66: BIERWIRTH | F66: ='FOR NAVAL'!L81 -> 0 | G66: ='FOR NAVAL'!M81 -> 8 | H66: ='FOR NAVAL'!N81 -> 0 | I66: ='FOR NAVAL'!O81 -> 8 | J66: 0 | K66: 0
B67: 64 | C67: FORM NAVAL | D67: ='FOR NAVAL'!K82 -> BUCCAREY FRANCIS | E67: BUCCAREY FRANCIS | F67: ='FOR NAVAL'!L82 -> 2 | G67: ='FOR NAVAL'!M82 -> 0 | H67: ='FOR NAVAL'!N82 -> 2 | I67: ='FOR NAVAL'!O82 -> 0 | J67: 0 | K67: 0
B68: 65 | C68: FORM NAVAL | D68: ='FOR NAVAL'!K83 -> CAMPOS MANUEL | E68: CAMPOS MANUEL | F68: ='FOR NAVAL'!L83 -> 2 | G68: ='FOR NAVAL'!M83 -> 0 | H68: ='FOR NAVAL'!N83 -> 2 | I68: ='FOR NAVAL'!O83 -> 0 | J68: 0 | K68: 0
B69: 66 | C69: FORM NAVAL | D69: ='FOR NAVAL'!K84 -> LUCERO ANDRÉS | E69: LUCERO ANDRÉS | F69: ='FOR NAVAL'!L84 -> 2 | G69: ='FOR NAVAL'!M84 -> 0 | H69: ='FOR NAVAL'!N84 -> 2 | I69: ='FOR NAVAL'!O84 -> 0 | J69: 0 | K69: 0
B70: 67 | C70: FORM NAVAL | D70: ='FOR NAVAL'!K85 -> MALDONADO VALDES GONZALO | E70: MALDONADO GONZALO | F70: ='FOR NAVAL'!L85 -> 2 | G70: ='FOR NAVAL'!M85 -> 0 | H70: ='FOR NAVAL'!N85 -> 2 | I70: ='FOR NAVAL'!O85 -> 0 | J70: 0 | K70: 0
B71: 68 | C71: FORM NAVAL | D71: ='FOR NAVAL'!K86 -> MALHUEN T1 | E71: MALHUEN T1 | F71: ='FOR NAVAL'!L86 -> 4 | G71: ='FOR NAVAL'!M86 -> 2 | H71: ='FOR NAVAL'!N86 -> 4 | I71: ='FOR NAVAL'!O86 -> 2 | J71: 0 | K71: 0
B72: 69 | C72: FORM NAVAL | D72: ='FOR NAVAL'!K87 -> OF DIV 1 | E72: OF DIV 1 | F72: ='FOR NAVAL'!L87 -> 0 | G72: ='FOR NAVAL'!M87 -> 2 | H72: ='FOR NAVAL'!N87 -> 0 | I72: ='FOR NAVAL'!O87 -> 2 | J72: 0 | K72: 0
B73: 70 | C73: FORM NAVAL | D73: ='FOR NAVAL'!K88 -> PÉREZ SO IM | E73: PÉREZ SO IM | F73: ='FOR NAVAL'!L88 -> 2 | G73: ='FOR NAVAL'!M88 -> 0 | H73: ='FOR NAVAL'!N88 -> 2 | I73: ='FOR NAVAL'!O88 -> 0 | J73: 0 | K73: 0
B74: 71 | C74: FORM NAVAL | D74: ='FOR NAVAL'!K89 -> QUIROGA CÉSAR | E74: QUIROGA CÉSAR | F74: ='FOR NAVAL'!L89 -> 2 | G74: ='FOR NAVAL'!M89 -> 0 | H74: ='FOR NAVAL'!N89 -> 2 | I74: ='FOR NAVAL'!O89 -> 0 | J74: 0 | K74: 0
B75: 72 | C75: FORM NAVAL | D75: ='FOR NAVAL'!K90 -> RÍOS JORGE | E75: RÍOS JORGE | F75: ='FOR NAVAL'!L90 -> 2 | G75: ='FOR NAVAL'!M90 -> 0 | H75: ='FOR NAVAL'!N90 -> 2 | I75: ='FOR NAVAL'!O90 -> 0 | J75: 0 | K75: 0
... B83: 80 | C83: FORM NAVAL | D83: ='FOR NAVAL'!K98 -> WELDT JORGE | E83: WELDT JORGE | F83: ='FOR NAVAL'!L98 -> 0 | G83: ='FOR NAVAL'!M98 -> 0 | H83: ='FOR NAVAL'!N98 -> 0 | I83: ='FOR NAVAL'!O98 -> 0 | J83: 0 | K83: 0
B84: 81 | C84: FORM NAVAL | D84: ='FOR NAVAL'!K99 -> ZANELLI VÍCTOR | E84: ZANELLI VÍCTOR | F84: ='FOR NAVAL'!L99 -> 2 | G84: ='FOR NAVAL'!M99 -> 0 | H84: ='FOR NAVAL'!N99 -> 2 | I84: ='FOR NAVAL'!O99 -> 0 | J84: 0 | K84: 0 | M84: =SUM(F64:I84) -> 138
B85: 82 | J85: 0 | K85: 0
B86: 83 | C86: SEGURIDAD | D86: =SEGURIDAD!K18 -> NN 2 SEGURIDAD | E86: NN 2 SEGURIDAD | F86: =SEGURIDAD!L18 -> 0 | G86: =SEGURIDAD!M18 -> 0 | H86: =SEGURIDAD!N18 -> 2 | I86: =SEGURIDAD!O18 -> 0 | J86: 0 | K86: 0
B87: 84 | C87: SEGURIDAD | D87: =SEGURIDAD!K19 -> PIZARRO T1 | E87: PIZARRO T1 | F87: =SEGURIDAD!L19 -> 0 | G87: =SEGURIDAD!M19 -> 0 | H87: =SEGURIDAD!N19 -> 2 | I87: =SEGURIDAD!O19 -> 0 | J87: 0 | K87: 0
B88: 85 | C88: SEGURIDAD | D88: =SEGURIDAD!K20 -> NN 1 SEGURIDAD | E88: NN 1 SEGURIDAD | F88: =SEGURIDAD!L20 -> 0 | G88: =SEGURIDAD!M20 -> 0 | H88: =SEGURIDAD!N20 -> 2 | I88: =SEGURIDAD!O20 -> 0 | J88: 0 | K88: 0 | M88: =SUM(F86:I88) -> 6
B89: 86 | J89: 0 | K89: 0
B90: 87 | C90: LENGUAJE | D90: =LENGUAJE!I39 -> ARENTSEN CHRISTIANE | E90: ARENTSEN CHRISTIANE | F90: =LENGUAJE!J39 -> 20 | G90: =LENGUAJE!K39 -> 0 | H90: =LENGUAJE!L39 -> 18 | I90: =LENGUAJE!M39 -> 0 | J90: 0 | K90: 0
B91: 88 | C91: LENGUAJE | D91: =LENGUAJE!I40 -> CAMPOS VALESKA | E91: CAMPOS VALESKA | F91: =LENGUAJE!J40 -> 26 | G91: =LENGUAJE!K40 -> 0 | H91: =LENGUAJE!L40 -> 16 | I91: =LENGUAJE!M40 -> 0 | J91: 0 | K91: 0
B92: 89 | C92: LENGUAJE | D92: =LENGUAJE!I41 -> NUÑEZ MIGUEL | E92: NUÑEZ MIGUEL | F92: =LENGUAJE!J41 -> 6 | G92: =LENGUAJE!K41 -> 0 | H92: =LENGUAJE!L41 -> 0 | I92: =LENGUAJE!M41 -> 0 | J92: 0 | K92: 0 | M92: =SUM(F90:I92) -> 86
B93: 90 | J93: 0 | K93: 0
B94: 91 | C94: HISTORIA | D94: =HISTORIA!I45 -> RAMÍREZ BLANCA | E94: RAMÍREZ BLANCA | F94: =HISTORIA!J45 -> 6 | G94: =HISTORIA!K45 -> 0 | H94: =HISTORIA!L45 -> 2 | I94: =HISTORIA!M45 -> 0 | J94: 0 | K94: 0
B95: 92 | C95: HISTORIA | D95: =HISTORIA!I46 -> RÍOS JORGE | E95: RÍOS JORGE | F95: =HISTORIA!J46 -> 18 | G95: =HISTORIA!K46 -> 0 | H95: =HISTORIA!L46 -> 20 | I95: =HISTORIA!M46 -> 0 | J95: 0 | K95: 0
B96: 93 | C96: HISTORIA | D96: =HISTORIA!I47 -> ROMÁN LORENA | E96: ROMÁN LORENA | F96: =HISTORIA!J47 -> 22 | G96: =HISTORIA!K47 -> 0 | H96: =HISTORIA!L47 -> 0 | I96: =HISTORIA!M47 -> 0 | J96: 0 | K96: 0 | M96: =SUM(F94:I96) -> 68
B97: 94 | J97: 0 | K97: 0
B98: 95 | C98: HISTORIA NAVAL | D98: ='HIST NAV '!I32 -> SORIA-GALVARRO RODOLFO | E98: SORIA-GALVARRO RODOLFO | F98: ='HIST NAV '!J32 -> 20 | G98: ='HIST NAV '!K32 -> 0 | H98: ='HIST NAV '!L32 -> 16 | I98: ='HIST NAV '!M32 -> 0 | J98: 0 | K98: 0
B99: 96 | C99: HISTORIA NAVAL | D99: ='HIST NAV '!I33 -> QUIROGA CESAR | E99: QUIROGA CÉSAR | F99: ='HIST NAV '!J33 -> 4 | G99: ='HIST NAV '!K33 -> 0 | H99: ='HIST NAV '!L33 -> 2 | I99: ='HIST NAV '!M33 -> 0 | J99: 0 | K99: 0 | M99: =SUM(F98:I99) -> 42
B100: 97 | J100: 0 | K100: 0
B101: 98 | C101: DERECHO | D101: =DEREC!I29 -> CELIS ALEJANDRO | E101: CELIS ALEJANDRO | F101: =DEREC!J29 -> 0 | G101: =DEREC!K29 -> 0 | H101: =DEREC!L29 -> 4 | I101: =DEREC!M29 -> 0 | J101: 0 | K101: 0
B102: 99 | C102: DERECHO | D102: =DEREC!I30 -> MELLA HERNÁN | E102: MELLA HERNÁN | F102: =DEREC!J30 -> 0 | G102: =DEREC!K30 -> 0 | H102: =DEREC!L30 -> 4 | I102: =DEREC!M30 -> 0 | J102: 0 | K102: 0
B103: 100 | C103: DERECHO | D103: =DEREC!I31 -> RAMÍREZ BLANCA | E103: RAMÍREZ BLANCA | F103: =DEREC!J31 -> 0 | G103: =DEREC!K31 -> 0 | H103: =DEREC!L31 -> 4 | I103: =DEREC!M31 -> 0 | J103: 0 | K103: 0
B104: 101 | C104: DERECHO | D104: =DEREC!I32 -> ROMÁN LORENA | E104: ROMÁN LORENA | F104: =DEREC!J32 -> 0 | G104: =DEREC!K32 -> 0 | H104: =DEREC!L32 -> 6 | I104: =DEREC!M32 -> 0 | J104: 0 | K104: 0
B105: 102 | C105: DERECHO | D105: =DEREC!I33 -> SILVA DIEGO | E105: SILVA DIEGO | F105: =DEREC!J33 -> 4 | G105: =DEREC!K33 -> 0 | H105: =DEREC!L33 -> 12 | I105: =DEREC!M33 -> 0 | J105: 0 | K105: 0
B106: 103 | C106: DERECHO | D106: =DEREC!I34 -> SIMS EDUARDO | E106: SIMS EDUARDO | F106: =DEREC!J34 -> 0 | G106: =DEREC!K34 -> 0 | H106: =DEREC!L34 -> 2 | I106: =DEREC!M34 -> 0 | J106: 0 | K106: 0 | M106: =SUM(F101:I106) -> 36
B107: 104 | J107: 0 | K107: 0
B108: 105 | C108: FILOSOFÍA | D108: =FILOSOF!I31 -> MAYNE-NICHOLLS MICHAEL | E108: MAYNE-NICHOLLS MICHAEL | F108: =FILOSOF!J31 -> 28 | G108: =FILOSOF!K31 -> 0 | H108: =FILOSOF!L31 -> 28 | I108: =FILOSOF!M31 -> 0 | J108: 0 | K108: 0 | M108: =SUM(F108:I109) -> 56
B109: 106 | J109: 0 | K109: 0
...
