Workbook
Name LAB_1: Hoja2!$G$4:$G$156
Name LAB_2: Hoja2!$I$4:$I$156
Name NOMBRES: Hoja2!$E$4:$E$181
Name profes: Hoja2!$E$4:$E$126
Name profesores: Hoja2!$E$4:$E$149
Name SISTEMATICAS1: Hoja2!$F$4:$F$149
Name SISTEMATICAS2: Hoja2!$H$4:$H$149

Sheet COS
A1: Escuela Naval "A. Prat"
A2: Departamento Educación
A3: Unidad de Coordinación Académica
A5: HORAS DE CLASES POR CURSO - PROFESOR
A6: AÑO ACADÉMICO 2025
A7: CÁTEDRA : | D7: C.O.S.
D8: HORAS SEMANALES
A9: CURSO | C9: CÁTEDRA | D9: ASIGNATURAS | E9: 1er SEM. | G9: 2º SEM. | I9: PROFESOR
E10: SIST. | F10: LAB | G10: SIST. | H10: LAB
K11: 0 | L11: 0 | M11: 0 | N11: 0
A12: COS | D12: ÉTICA Y PROBIDAD | E12: 2 | K12: =E12 -> 2 | L12: =F12 -> 0 | M12: =G12 -> 0 | N12: =H12 -> 0
A13: COS | D13: REGLAMENTO | E13: 4 | K13: =E13 -> 4 | L13: =F13 -> 0 | M13: =G13 -> 0 | N13: =H13 -> 0
A14: COS | C14: ED FÍSICA | D14: EDUCACIÓN FÍSICA | E14: 6
A15: COS | D15: CEREMONIAL NAVAL | E15: 2 | K15: =E15 -> 2 | L15: =F15 -> 0 | M15: =G15 -> 0 | N15: =H15 -> 0
A16: COS | C16: MANDO Y LIDERAZGO | D16: MANDO Y LIDERAZGO | E16: 2 | K16: =E16 -> 2 | L16: =F16 -> 0 | M16: =G16 -> 0 | N16: =H16 -> 0
A17: COS | D17: INSTRUCCIÓN MILITAR | E17: 6 | K17: =E17 -> 6 | L17: =F17 -> 0 | M17: =G17 -> 0 | N17: =H17 -> 0
A18: COS | D18: PROCEDIMIENTOS ADMINISTRATIVOS | E18: 3 | K18: =E18 -> 3 | L18: =F18 -> 0 | M18: =G18 -> 0 | N18: =H18 -> 0
A19: COS | D19: SERVICIO NAVAL A BORDO Y EN TIERRA | E19: 6 | K19: =E19 -> 6 | L19: =F19 -> 0 | M19: =G19 -> 0 | N19: =H19 -> 0
A20: COS | C20: FORMACIÓN NAVAL | D20: SEGURIDAD | E20: 3 | K20: =E20 -> 3 | L20: =F20 -> 0 | M20: =G20 -> 0 | N20: =H20 -> 0
A21: COS | D21: GUERRA NAVAL | E21: 4 | K21: =E21 -> 4 | L21: =F21 -> 0 | M21: =G21 -> 0 | N21: =H21 -> 0
A22: COS | D22: ORIENTACIÓN Y ORGANIZACIÓN NAVAL | E22: 4 | K22: =E22 -> 4 | L22: =F22 -> 0 | M22: =G22 -> 0 | N22: =H22 -> 0
E25: =+SUM(E12:E24) -> 42
I26: RESUMEN
K27: =SUMIF($I$13:$N$24,I27,$M$13:$M$24) -> 0
K28: =SUMIF($I$13:$N$24,I28,$M$13:$M$24) -> 0
K29: =SUMIF($I$13:$N$24,I29,$M$13:$M$24) -> 0
K30: =SUMIF($I$13:$N$24,I30,$M$13:$M$24) -> 0
K31: =SUMIF($I$13:$N$24,I31,$M$13:$M$24) -> 0
K32: =SUMIF($I$13:$N$24,I32,$M$13:$M$24) -> 0
K33: =SUMIF($I$13:$N$24,I33,$M$13:$M$24) -> 0
K34: =SUMIF($I$13:$N$24,I34,$M$13:$M$24) -> 0
K35: =SUMIF($I$13:$N$24,I35,$M$13:$M$24) -> 0
K36: =SUMIF($I$13:$N$24,I36,$M$13:$M$24) -> 0
K38: =SUM(K27:K37) -> 0

Sheet OM
A1: Escuela Naval "A. Prat"
A2: Departamento Educación
A3: Unidad de Coordinación Académica
A5: HORAS DE CLASES POR CURSO - PROFESOR
A6: AÑO ACADÉMICO 2025
A7: CÁTEDRA O CURSO: | D7: OFICIAL DE MAR
D8: HORAS SEMANALES
A9: CURSO | C9: CÁTEDRA | D9: ASIGNATURAS | E9: 1er SEM. | G9: 2º SEM. | I9: PROFESOR
E10: SIST. | F10: LAB | G10: SIST. | H10: LAB
A11: OM
A12: OM | C12: LENGUA CASTELLANA | D12: LENGUA CASTELLANA Y COMUNICACIÓN OM .1 | E12: 6 | I12: ARENTSEN CHRISTIANE
A13: OM | C13: LENGUA CASTELLANA | D13: LENGUA CASTELLANA Y COMUNICACIÓN OM .2 | G13: 6 | I13: NUÑEZ MIGUEL
A14: OM | C14: CS SOCIALES | D14: HISTORIA NAVAL APLICADA | E14: 2 | G14: 0 | I14: SORIA_GALVARRO
A15: OM | C15: CS SOCIALES | D15: ANÁLISIS REALIDAD NACIONAL E INTERNACIONAL | E15: 0 | G15: 2 | I15: ROMÁN LORENA
A16: OM | C16: PSICOLOGÍA, FILO, ÉTI Y MORAL | D16: FUNDAMENTO ÉTICO DEL MANDO | E16: 2 | G16: 0 | I16: MUÑOZ JAIME
A17: OM | C17: PSICOLOGÍA, FILO, ÉTI Y MORAL | D17: PSICOLOGÍA APLICADA AL MANDO | E17: 0 | G17: 2 | I17: LUCERO ANDRÉS
A18: OM | C18: CS SOCIALES | D18: DERECHO | E18: 4 | G18: 0 | I18: CELIS ALEJANDRO
A19: OM | C19: CS SOCIALES | D19: EDUCACIÓN CÍVICA | E19: 0 | G19: 2 | I19: ROMÁN LORENA
A20: OM | C20: ADMINISTRACIÓN | D20: ADMINISTRACIÓN NAVAL | E20: 4 | G20: 0 | I20: GUNDLACH HÉCTOR
A21: OM | C21: ADMINISTRACIÓN | D21: ECONOMÍA | E21: 0 | G21: 4 | I21: GUNDLACH HÉCTOR
A22: OM | C22: MANDO Y LIDERAZGO | D22: MANDO Y LIDERAZGO | E22: 4 | G22: 0 | I22: SIMS EDUARDO
A23: OM | C23: MANDO Y LIDERAZGO | D23: REGLAMENTACIÓN | E23: 0 | G23: 4 | I23: SIMS EDUARDO
A24: OM | C24: FORMACIÓN NAVAL | D24: ÉTICA Y PROBIDAD | E24: 0 | G24: 2 | I24: QUIROGA CÉSAR
A25: OM | C25: INGLÉS | D25: INGLÉS | E25: 4 | G25: 4
A26: OM | C26: ED. FÍSICA | D26: EDUCACIÓN FÍSICA | E26: 4 | G26: 4
E27: =+SUM(E11:E24) -> 22 | G27: =+SUM(G11:G24) -> 22 | I27: =+SUM(E27:G27) -> 44
I30: RESUMEN | J30: 1°Sem | L30: 2° Sem
I31: ARENTSEN CHRISTIANE | J31: =SUMIF($I$12:$I$26,I31,$E$12:$E$26) -> 6 | L31: =SUMIF($I$12:$I$26,I31,$G$12:$G$26) -> 0
I32: NUÑEZ MIGUEL | J32: =SUMIF($I$12:$I$26,I32,$E$12:$E$26) -> 0 | L32: =SUMIF($I$12:$I$26,I32,$G$12:$G$26) -> 6
I33: LUCERO ANDRÉS | J33: =SUMIF($I$12:$I$26,I33,$E$12:$E$26) -> 0 | L33: =SUMIF($I$12:$I$26,I33,$G$12:$G$26) -> 2
I34: CELIS ALEJANDRO | J34: =SUMIF($I$12:$I$26,I34,$E$12:$E$26) -> 4 | L34: =SUMIF($I$12:$I$26,I34,$G$12:$G$26) -> 0
I35: MUÑOZ JAIME | J35: =SUMIF($I$12:$I$26,I35,$E$12:$E$26) -> 2 | L35: =SUMIF($I$12:$I$26,I35,$G$12:$G$26) -> 0
I36: GUNDLACH HÉCTOR | J36: =SUMIF($I$12:$I$26,I36,$E$12:$E$26) -> 4 | L36: =SUMIF($I$12:$I$26,I36,$G$12:$G$26) -> 4
I37: QUIROGA CÉSAR | J37: =SUMIF($I$12:$I$26,I37,$E$12:$E$26) -> 0 | L37: =SUMIF($I$12:$I$26,I37,$G$12:$G$26) -> 2
I38: ROMÁN LORENA | J38: =SUMIF($I$12:$I$26,I38,$E$12:$E$26) -> 0 | L38: =SUMIF($I$12:$I$26,I38,$G$12:$G$26) -> 4
I39: SORIA-GALVARRO RODOLFO | J39: =SUMIF($I$12:$I$26,I39,$E$12:$E$26) -> 0 | L39: =SUMIF($I$12:$I$26,I39,$G$12:$G$26) -> 0
I40: SIMS EDUARDO | J40: =SUMIF($I$12:$I$26,I40,$E$12:$E$26) -> 4 | L40: =SUMIF($I$12:$I$26,I40,$G$12:$G$26) -> 4
I41: KEITEL JORGE | J41: =SUMIF($I$12:$I$26,I41,$E$12:$E$26) -> 0 | L41: =SUMIF($I$12:$I$26,I41,$G$12:$G$26) -> 0
J43: =SUM(J31:L41) -> 42

Sheet SIST ARM
A1: Escuela Naval "A. Prat"
A2: Departamento Educación
A3: Unidad de Coordinación Académica
A5: HORAS DE CLASES POR CURSO - PROFESOR
A6: AÑO ACADÉMICO 2025
A7: CÁTEDRA : | D7: SISTEMAS DE ARMAS
D8: HORAS SEMANALES
A9: CURSO | C9: CÁTEDRA | D9: ASIGNATURAS | E9: 1er SEM. | G9: 2º SEM. | I9: PROFESOR
E10: SIST. | F10: LAB | G10: SIST. | H10: LAB
A12: 4to AB | C12: SIST DE ARMAS | D12: SISTEMA DE ARMAS / INGENIERÍA | G12: 3 | I12: T1 TEICHELMAN
A13: 3ro EJ | B13: A | C13: SIST DE ARMAS | D13: SISTEMAS DE ARMAS | G13: 6 | I13: T1 JOFRÉ
A14: 3ro EJ | B14: B | C14: SIST DE ARMAS | D14: SISTEMAS DE ARMAS | G14: 6 | I14: CC POBLETE
A15: 3ro EJ | B15: C | C15: SIST DE ARMAS | D15: SISTEMAS DE ARMAS | G15: 6 | I15: CC GALLEGOS
A16: 3ro EJ | B16: D | C16: SIST DE ARMAS | D16: SISTEMAS DE ARMAS | G16: 6 | I16: CC SORO
A17: 4to LT | C17: SIST DE ARMAS | D17: SISTEMAS DE ARMAS | E17: 4 | I17: PC ZANELLI
D19: CARGA 2025 | E19: =+SUM(E12:E17) -> 4 | G19: =+SUM(G12:G17) -> 27 | I19: =+SUM(E19:G19) -> 31
D20: CARGA 2024 | E20: 4 | G20: 27 | I20: 31
I23: RESUMEN | J23: 1° Sem | L23: 2° Sem
I24: OFDIV 1 | J24: =SUMIF($I$11:$I$17,I24,$E$11:$E$17) -> 0 | L24: =SUMIF($I$11:$I$17,I24,$G$11:$G$17) -> 0
I25: NN SIST DE ARMAS | J25: =SUMIF($I$11:$I$17,I25,$E$11:$E$17) -> 0 | L25: =SUMIF($I$11:$I$17,I25,$G$11:$G$17) -> 0
I26: OFDIV 2 | J26: =SUMIF($I$11:$I$17,I26,$E$11:$E$17) -> 0 | L26: =SUMIF($I$11:$I$17,I26,$G$11:$G$17) -> 0
I27: POBLETE EDUARDO CC | J27: =SUMIF($I$11:$I$17,I27,$E$11:$E$17) -> 0 | L27: =SUMIF($I$11:$I$17,I27,$G$11:$G$17) -> 0
J28: =SUMIF($I$11:$I$17,I28,$E$11:$E$17) -> 0 | L28: =SUMIF($I$11:$I$17,I28,$G$11:$G$17) -> 0
F29: ,
L30: =SUM(J24:L28) -> 0

Sheet NAVEG
A1: Escuela Naval "A. Prat"
A2: Departamento Educación
A3: Unidad de Coordinación Académica
A5: HORAS DE CLASES POR CURSO - PROFESOR
A6: AÑO ACADÉMICO 2025
A7: CÁTEDRA : | D7: NAVEGACIÓN Y METEOROLOGÍA
D8: HORAS SEMANALES
A9: CURSO | C9: CÁTEDRA | D9: ASIGNATURAS | E9: 1er SEM. | G9: 2º SEM. | I9: PROFESOR
E10: SIST. | F10: LAB | G10: SIST. | H10: LAB
A11: 2do EJ | B11: A | C11: NAVEGACIÓN Y METEOROLOGÍA | D11: METEOROLOGÍA | G11: 2 | I11: GONZÁLEZ FABIÁN
A12: 2do EJ | B12: B | C12: NAVEGACIÓN Y METEOROLOGÍA | D12: METEOROLOGÍA | G12: 2 | I12: GONZÁLEZ FABIÁN
A13: 2do EJ | B13: C | C13: NAVEGACIÓN Y METEOROLOGÍA | D13: METEOROLOGÍA | G13: 2 | I13: GONZÁLEZ FABIÁN
A14: 2do EJ | B14: D | C14: NAVEGACIÓN Y METEOROLOGÍA | D14: METEOROLOGÍA | G14: 2 | I14: GONZÁLEZ FABIÁN
A15: 2do EJ | B15: E | C15: NAVEGACIÓN Y METEOROLOGÍA | D15: METEOROLOGÍA | G15: 2 | I15: ROCA PEDRO | J15: 2E
A16: 2do EJ | B16: A | C16: NAVEGACIÓN Y METEOROLOGÍA | D16: NAVEGACIÓN COSTERA I .1 | E16: 4 | I16: ZANELLI VICTOR
A17: 2do EJ | B17: A | C17: NAVEGACIÓN Y METEOROLOGÍA | D17: NAVEGACIÓN COSTERA I .2 | G17: 4 | I17: ZANELLI VICTOR
A18: 2do EJ | B18: B | C18: NAVEGACIÓN Y METEOROLOGÍA | D18: NAVEGACIÓN COSTERA I .1 | E18: 4 | I18: ZANELLI VICTOR
A19: 2do EJ | B19: B | C19: NAVEGACIÓN Y METEOROLOGÍA | D19: NAVEGACIÓN COSTERA I .2 | G19: 4 | I19: ZANELLI VICTOR
A20: 2do EJ | B20: C | C20: NAVEGACIÓN Y METEOROLOGÍA | D20: NAVEGACIÓN COSTERA I .1 | E20: 4 | I20: ZANELLI VICTOR
A21: 2do EJ | B21: C | C21: NAVEGACIÓN Y METEOROLOGÍA | D21: NAVEGACIÓN COSTERA I .2 | G21: 4 | I21: ZANELLI VICTOR
A22: 2do EJ | B22: D | C22: NAVEGACIÓN Y METEOROLOGÍA | D22: NAVEGACIÓN COSTERA I .1 | E22: 4 | I22: ZANELLI VICTOR
A23: 2do EJ | B23: D | C23: NAVEGACIÓN Y METEOROLOGÍA | D23: NAVEGACIÓN COSTERA I .2 | G23: 4 | I23: ZANELLI VICTOR
A24: 2do EJ | B24: E | C24: NAVEGACIÓN Y METEOROLOGÍA | D24: NAVEGACIÓN COSTERA I .1 | E24: 4 | I24: ZANELLI VICTOR | J24: 2E
A25: 2do EJ | B25: E | C25: NAVEGACIÓN Y METEOROLOGÍA | D25: NAVEGACIÓN COSTERA I .2 | G25: 4 | I25: ZANELLI VICTOR | J25: 2E
A26: 2do LT | C26: NAVEGACIÓN Y METEOROLOGÍA | D26: NAVEGACIÓN COSTERA I .1 | E26: 4 | I26: ZANELLI VICTOR
A27: 2do LT | C27: NAVEGACIÓN Y METEOROLOGÍA | D27: NAVEGACIÓN COSTERA I .2 | G27: 4 | I27: ZANELLI VICTOR
A28: 3ro EJ | B28: A | C28: NAVEGACIÓN Y METEOROLOGÍA | D28: NAVEGACIÓN COSTERA II (CINEMÁTICA) | E28: 2 | I28: COLOMA MANUEL
A29: 3ro EJ | B29: B | C29: NAVEGACIÓN Y METEOROLOGÍA | D29: NAVEGACIÓN COSTERA II (CINEMÁTICA) | E29: 2 | I29: ROJAS MARIANO
A30: 3ro EJ | B30: C | C30: NAVEGACIÓN Y METEOROLOGÍA | D30: NAVEGACIÓN COSTERA II (CINEMÁTICA) | E30: 2 | I30: ROJAS MARIANO
A31: 3ro EJ | B31: D | C31: NAVEGACIÓN Y METEOROLOGÍA | D31: NAVEGACIÓN COSTERA II (CINEMÁTICA) | E31: 2 | I31: ROJAS MARIANO
A32: 3ro EJ | B32: A | C32: NAVEGACIÓN Y METEOROLOGÍA | D32: NAVEGACIÓN COSTERA II | G32: 4 | I32: COLOMA MANUEL
A33: 3ro EJ | B33: B | C33: NAVEGACIÓN Y METEOROLOGÍA | D33: NAVEGACIÓN COSTERA II | G33: 4 | I33: ROJAS MARIANO
A34: 3ro EJ | B34: C | C34: NAVEGACIÓN Y METEOROLOGÍA | D34: NAVEGACIÓN COSTERA II | G34: 4 | I34: ROJAS MARIANO
A35: 3ro EJ | B35: D | C35: NAVEGACIÓN Y METEOROLOGÍA | D35: NAVEGACIÓN COSTERA II | G35: 4 | I35: ROJAS MARIANO
A36: 3ro LT | C36: NAVEGACIÓN Y METEOROLOGÍA | D36: NAVEGACIÓN COSTERA II LT | E36: 4 | I36: COLOMA MANUEL
A37: 4to EJ | B37: A | C37: NAVEGACIÓN Y METEOROLOGÍA | D37: NAVEGACIÓN ASTRONÓMICA | E37: 2 | G37: 4 | I37: COLOMA MANUEL
A38: 4to EJ | B38: B | C38: NAVEGACIÓN Y METEOROLOGÍA | D38: NAVEGACIÓN ASTRONÓMICA | E38: 2 | G38: 4 | I38: COLOMA MANUEL
A39: 4to EJ | B39: C | C39: NAVEGACIÓN Y METEOROLOGÍA | D39: NAVEGACIÓN ASTRONÓMICA | E39: 2 | G39: 4 | I39: COLOMA MANUEL
A40: 4to AB | C40: NAVEGACIÓN Y METEOROLOGÍA | D40: NAVEGACIÓN COSTERA Y METEOROLOGÍA .1 | E40: 5 | I40: COLOMA MANUEL
A41: 4to AB | C41: NAVEGACIÓN Y METEOROLOGÍA | D41: NAVEGACIÓN COSTERA Y METEOROLOGÍA .2 | E41: 1 | I41: GONZÁLEZ FABIÁN
...

Sheet OP NAV
A1: Escuela Naval "A. Prat"
A2: Departamento Educación
A3: Unidad de Coordinación Académica
A5: HORAS DE CLASES POR CURSO - PROFESOR
A6: AÑO ACADÉMICO 2025
A7: CÁTEDRA : | D7: PLANIFICACIÓN Y OPERACIONES NAVALES
D8: HORAS SEMANALES
A9: CURSO | C9: CÁTEDRA | D9: ASIGNATURAS | E9: 1er SEM. | G9: 2º SEM. | I9: PROFESOR
E10: SIST. | F10: LAB | G10: SIST. | H10: LAB
A12: 4to Ej | B12: A | C12: OPERACIONES NAVALES | D12: PLANIFICACIÓN Y OPERACIONES NAVALES | E12: 4 | G12: 4 | I12: ROJAS MARIANO
A13: 4to Ej | B13: B | C13: OPERACIONES NAVALES | D13: PLANIFICACIÓN Y OPERACIONES NAVALES | E13: 4 | G13: 4 | I13: ROJAS MARIANO
A14: 4to Ej | B14: C | C14: OPERACIONES NAVALES | D14: PLANIFICACIÓN Y OPERACIONES NAVALES | E14: 4 | G14: 4 | I14: ROJAS MARIANO
D16: CARGA 2025 | E16: =SUM(E12:E14) -> 12 | G16: =SUM(G12:G14) -> 12 | I16: =+SUM(E16:G16) -> 24
D17: CARGA 2024 | E17: 12 | G17: 12 | I17: =E17+G17 -> 24
I19: RESUMEN | J19: 1 Sem | L19: 2 Sem
I20: ROJAS MARIANO | J20: =SUMIF($I$11:$I$14,$I20,E$11:E$14) -> 12 | L20: =SUMIF($I$11:$I$14,$I20,G$11:G$14) -> 12
L23: =SUM(J20:L21) -> 24

Sheet SIST  ING
A1: Escuela Naval "A. Prat"
A2: Departamento Educación
A3: Unidad de Coordinación Académica
A5: HORAS DE CLASES POR CURSO - PROFESOR
A6: AÑO ACADÉMICO 2025
A7: CÁTEDRA : | D7: SISTEMAS DE INGENIERÍA
D8: HORAS SEMANALES
A9: CURSO | C9: CÁTEDRA | D9: ASIGNATURAS | E9: 1er SEM. | G9: 2º SEM. | I9: PROFESOR
E10: SIST. | F10: LAB | G10: SIST. | H10: LAB
L11: 0 | M11: 0 | N11: 0 | O11: 0
A12: 3ro LT | C12: SIST DE INGENIERÍA | D12: SISTEMAS DE INGENIERÍA LT | G12: 4 | I12: GARCÍA ALBERTO | O12: =H12 -> 0
A13: 4to AB | C13: SIST DE INGENIERÍA | D13: SISTEMA DE ARMAS / INGENIERÍA | G13: 3 | I13: GARCÍA ALBERTO | O13: =H13 -> 0
A14: 3ro EJ | B14: A | C14: SIST DE INGENIERÍA | D14: FUNDAMENTOS DE ESTABILIDAD | E14: 2 | I14: GARCÍA ALBERTO | O14: =H14 -> 0
A15: 3ro EJ | B15: B | C15: SIST DE INGENIERÍA | D15: FUNDAMENTOS DE ESTABILIDAD | E15: 2 | I15: GARCÍA ALBERTO | O15: =H15 -> 0
A16: 3ro EJ | B16: C | C16: SIST DE INGENIERÍA | D16: FUNDAMENTOS DE ESTABILIDAD | E16: 2 | I16: FISCHER MATIAS | O16: =H16 -> 0
A17: 3ro EJ | B17: D | C17: SIST DE INGENIERÍA | D17: FUNDAMENTOS DE ESTABILIDAD | E17: 2 | I17: FISCHER MATIAS | O17: =H17 -> 0
A18: 4to EJ | B18: A | C18: SIST DE INGENIERÍA | D18: SISTEMAS DE INGENIERÍA | E18: 6 | I18: GARCÍA ALBERTO | O18: =H18 -> 0
A19: 4to EJ | B19: B | C19: SIST DE INGENIERÍA | D19: SISTEMAS DE INGENIERÍA | E19: 6 | I19: ULLOA VÍCTOR | O19: =H19 -> 0
A20: 4to EJ | B20: C | C20: SIST DE INGENIERÍA | D20: SISTEMAS DE INGENIERÍA | E20: 6 | I20: ROBERT VERGARA JOHN | O20: =H20 -> 0
D22: CARGA 2025 | E22: =+SUM(E12:E20) -> 26 | G22: =+SUM(G12:G20) -> 7 | I22: =+SUM(E22:G22) -> 33
D23: CARGA 2024 | E23: 32 | G23: 7 | I23: 39
I25: RESUMEN | J25: 1° Sem | L25: 2° Sem
I26: FISCHER MATIAS | J26: =SUMIF($I$11:$I$20,$I26,E$11:E$20) -> 4 | L26: =SUMIF($I$11:$I$20,$I26,G$11:G$20) -> 0
I27: GARCÍA ALBERTO | J27: =SUMIF($I$11:$I$20,$I27,E$11:E$20) -> 10 | L27: =SUMIF($I$11:$I$20,$I27,G$11:G$20) -> 7
I28: ROBERT VERGARA JOHN | J28: =SUMIF($I$11:$I$20,$I28,E$11:E$20) -> 6 | L28: =SUMIF($I$11:$I$20,$I28,G$11:G$20) -> 0
I29: ULLOA VÍCTOR | J29: =SUMIF($I$11:$I$20,$I29,E$11:E$20) -> 6 | L29: =SUMIF($I$11:$I$20,$I29,G$11:G$20) -> 0
L31: =SUM(J26:L29) -> 33

Sheet ADMINIST 
A1: Escuela Naval "A. Prat"
A2: Departamento Educación
A3: Unidad de Coordinación Académica
A5: HORAS DE CLASES POR CURSO - PROFESOR
A6: AÑO ACADÉMICO 2025
A7: CÁTEDRA : | D7: ADMINISTRACIÓN
D8: HORAS SEMANALES
A9: CURSO | C9: CÁTEDRA | D9: ASIGNATURAS | E9: 1er SEM. | G9: 2º SEM. | I9: PROFESOR
E10: SIST. | F10: LAB | G10: SIST. | H10: LAB
A11: 2do AB | C11: ADMINISTRACIÓN | D11: ADMINISTRACIÓN .1 | E11: 2 | I11: GUNDLACH HÉCTOR
A12: 2do AB | C12: ADMINISTRACIÓN | D12: ADMINISTRACIÓN .2 | G12: 2 | I12: GUNDLACH HÉCTOR
A13: 2do IM | C13: ADMINISTRACIÓN | D13: ADMINISTRACIÓN DEL CARGO | G13: 4 | I13: GUNDLACH HÉCTOR
A14: 4to EJ | B14: A | C14: ADMINISTRACIÓN | D14: ADMINISTRACIÓN DEL CARGO .1 | E14: 2 | I14: GUNDLACH HÉCTOR
A15: 4to EJ | B15: A | C15: ADMINISTRACIÓN | D15: ADMINISTRACIÓN DEL CARGO .2. | G15: 2 | I15: GUNDLACH HÉCTOR
A16: 4to EJ | B16: B | C16: ADMINISTRACIÓN | D16: ADMINISTRACIÓN DEL CARGO .1 | E16: 2 | I16: GUNDLACH HÉCTOR
A17: 4to EJ | B17: B | C17: ADMINISTRACIÓN | D17: ADMINISTRACIÓN DEL CARGO .2. | G17: 2 | I17: GUNDLACH HÉCTOR
A18: 4to EJ | B18: C | C18: ADMINISTRACIÓN | D18: ADMINISTRACIÓN DEL CARGO .1 | E18: 2 | I18: GUNDLACH HÉCTOR
A19: 4to EJ | B19: C | C19: ADMINISTRACIÓN | D19: ADMINISTRACIÓN DEL CARGO .2. | G19: 2 | I19: GUNDLACH HÉCTOR
A20: 4to LT | C20: ADMINISTRACIÓN | D20: ADMINISTRACIÓN DEL CARGO | E20: 2 | G20: 2 | I20: GUNDLACH HÉCTOR
D23: CARGA 2025 | E23: =SUM(E11:E20) -> 10 | G23: =+SUM(G11:G20) -> 14 | I23: =+E23+G23 -> 24
D24: CARGA 2024 | E24: 10 | G24: 14 | I24: =E24+G24 -> 24
I26: RESUMEN | J26: 1° Sem | L26: 2° Sem
I27: GUNDLACH HÉCTOR | J27: =SUMIF($I$11:$I$21,$I27,E$11:E$21) -> 10 | L27: =SUMIF($I$11:$I$22,$I27,G$11:G$21) -> 14
L30: =SUM(J27:L28) -> 24

Sheet ESP IM
A1: Escuela Naval "A. Prat"
A2: Departamento Educación
A3: Unidad de Coordinación Académica
A5: HORAS DE CLASES POR CURSO - PROFESOR
A6: AÑO ACADÉMICO 2025
A7: CÁTEDRA : | D7: ESP INF MARINA
D8: HORAS SEMANALES
A9: CURSO | C9: CÁTEDRA | D9: ASIGNATURAS | E9: 1er SEM. | G9: 2º SEM. | I9: PROFESOR
E10: SIST. | F10: LAB | G10: SIST. | H10: LAB
A12: 2do IM Mod | C12: ESP IM | D12: TÁCTICA I .1 Mod | E12: 3 | I12: SIELFELD JUAN
A13: 2do IM | C13: ESP IM | D13: TÁCTICA I .2 | G13: 4 | I13: SIELFELD JUAN
A14: 3ro IM | C14: ESP IM | D14: INTELIGENCIA IM | E14: 6 | I14: OSORIO MATIAS T1
A15: 3ro IM | C15: ESP IM | D15: TÁCTICA II .1 | E15: 5 | I15: VON DER WETH FIEDRICH
A16: 3ro IM | C16: ESP IM | D16: TÁCTICA II .2 | G16: 5 | I16: VON DER WETH FIEDRICH
A17: 3ro IM | C17: ESP IM | D17: APOYO COMBATE I .1 | E17: 3 | I17: SIELFELD JUAN
A18: 3ro IM | C18: ESP IM | D18: APOYO COMBATE I .2 | G18: 3 | I18: SIELFELD JUAN
A19: 3ro IM | C19: ESP IM | D19: APOYO SERVICIO COMBATE | E19: 4 | I19: SIELFELD JUAN
A20: 3ro IM | C20: ESP IM | D20: COMUNICACIONES | G20: 4 | I20: LAGOS ALFREDO T1 IM TC | J20: T1 HERRERA
A21: 3ro IM | C21: ESP IM | D21: MATERIAL IM | G21: 4 | I21: T1 OSORIO
A22: 4to IM | C22: ESP IM | D22: TÁCTICA III .1 | E22: 4 | I22: VON DER WETH FIEDRICH
A23: 4to IM | C23: ESP IM | D23: TÁCTICA III .2 | G23: 4 | I23: VON DER WETH FIEDRICH
A24: 4to IM | C24: ESP IM | D24: APOYO COMBATE II .1 | E24: 4 | I24: T1 OSORIO
A25: 4to IM | C25: ESP IM | D25: APOYO COMBATE II .2 | G25: 4 | I25: T1 OSORIO
A26: 4to IM | C26: ESP IM | D26: OPERACIONES ANFIBIAS .1 | E26: 4 | I26: SIELFELD JUAN
A27: 4to IM | C27: ESP IM | D27: OPERACIONES ANFIBIAS .2 | G27: 4 | I27: SIELFELD JUAN
D29: CARGA 2025 | E29: =+SUM(E12:E27) -> 33 | G29: =+SUM(G12:G27) -> 32 | I29: =+G29+E29 -> 65
D30: CARGA 2024 | E30: 33 | G30: 32 | I30: =E30+G30 -> 65
I32: RESUMEN | J32: 1 Sem | L32: 2 Sem
I33: OSORIO MATIAS T1 | J33: =SUMIF($I$11:$I$27,$I33,E$11:E$27) -> 6 | L33: =SUMIF($I$11:$I$27,$I33,G$11:G$27) -> 0
I34: SIELFELD JUAN | J34: =SUMIF($I$11:$I$27,$I34,E$11:E$27) -> 14 | L34: =SUMIF($I$11:$I$27,$I34,G$11:G$27) -> 11
I35: VON DER WETH FIEDRICH | J35: =SUMIF($I$11:$I$27,$I35,E$11:E$27) -> 9 | L35: =SUMIF($I$11:$I$27,$I35,G$11:G$27) -> 9
I36: SOLIS GONZALO T1 IM | J36: =SUMIF($I$11:$I$27,$I36,E$11:E$27) -> 0 | L36: =SUMIF($I$11:$I$27,$I36,G$11:G$27) -> 0
I37: LAGOS ALFREDO T1 IM TC | J37: =SUMIF($I$11:$I$27,$I37,E$11:E$27) -> 0 | L37: =SUMIF($I$11:$I$27,$I37,G$11:G$27) -> 4
I38: ORTEGA CC IM | J38: =SUMIF($I$11:$I$27,$I38,E$11:E$27) -> 0 | L38: =SUMIF($I$11:$I$27,$I38,G$11:G$27) -> 0
I39: KEITEL JORGE | J39: =SUMIF($I$11:$I$27,$I39,E$11:E$27) -> 0 | L39: =SUMIF($I$11:$I$27,$I39,G$11:G$27) -> 0
L40: =SUM(J33:L39) -> 53

Sheet ESP AB
A1: Escuela Naval "A. Prat"
A2: Departamento Educación
A3: Unidad de Coordinación Académica
A5: HORAS DE CLASES POR CURSO - PROFESOR
A6: AÑO ACADÉMICO 2025
A7: CÁTEDRA : | D7: ESPECIALIDAD ABASTECIMIENTO
D8: HORAS SEMANALES
A9: CURSO | C9: CÁTEDRA | D9: ASIGNATURAS | E9: 1er SEM. | G9: 2º SEM. | I9: PROFESOR
E10: SIST. | F10: LAB | G10: SIST. | H10: LAB
K11: 0 | L11: 0 | M11: 0 | N11: 0
A12: 2do AB | C12: ESP AB | D12: ABASTECIMIENTO .1 | E12: 4 | I12: VALENZUELA CONSTANZA T1 AB
A13: 2do AB | C13: ESP AB | D13: ABASTECIMIENTO .2 | G13: 4 | I13: VALENZUELA CONSTANZA T1 AB
A14: 2do AB | C14: ESP AB | D14: CONTABILIDAD .1 | E14: 6 | I14: RODRÍGUEZ NORMAN
A15: 2do AB | C15: ESP AB | D15: CONTABILIDAD .2 | G15: 6 | I15: RODRÍGUEZ NORMAN
A16: 3ro AB | C16: ESP AB | D16: ADM. LOGÍSTICA DEL MATERIAL.1 | E16: 4 | I16: GARCÍA QUIROGA CARLOS
A17: 3ro AB | C17: ESP AB | D17: ADM. LOGÍSTICA DEL MATERIAL.2 | G17: 4 | I17: GARCÍA QUIROGA CARLOS
A18: 3ro AB | C18: ESP AB | D18: TEORÍA DE LA ORGANIZACIÓN | E18: 4 | I18: VIDAL CARLOS
A19: 3ro AB | C19: ESP AB | D19: MICROECONOMÍA | E19: 4 | I19: VIDAL CARLOS
A20: 3ro AB | C20: ESP AB | D20: MACROECONOMÍA | G20: 4 | I20: VIDAL CARLOS
A21: 3ro AB | C21: ESP AB | D21: COSTOS | G21: 4 | I21: RODRÍGUEZ NORMAN
A22: 3ro LT | C22: ESP AB | D22: CONTABILIDAD Y FINANZAS | E22: 4 | I22: RODRÍGUEZ NORMAN
A23: 4to AB | C23: ESP AB | D23: ADMINISTRACIÓN PÚBLICA | E23: 4 | I23: GARCÍA QUIROGA CARLOS
A24: 4to AB | C24: ESP AB | D24: SEGURIDAD SANITARIA DE ALIMENTACIÓN Y NUTRICIÓN | E24: 4 | I24: OBERMOLLER HILDE
A25: 4to AB | C25: ESP AB | D25: FINANZAS | E25: 3 | I25: GARCÍA QUIROGA CARLOS
A26: 4to AB | C26: ESP AB | D26: INVESTIGACIÓN DE OPERACIONES | G26: 4 | I26: BASTIDAS CC DIRISNAV
A27: 4to AB | C27: ESP AB | D27: SISTEMAS DE INFORMACIÓN LOGÍSTICA .1 | E27: 3 | I27: CC AB MELKONIAN
A28: 4to AB | C28: ESP AB | D28: SISTEMAS DE INFORMACIÓN LOGÍSTICA .2 | G28: 4 | I28: CC AB MELKONIAN
A29: 4to AB | C29: ESP AB | D29: FINANZAS PÚBLICAS | G29: 4 | I29: GARCÍA QUIROGA CARLOS
D31: CARGA 2025 | E31: =+SUM(E12:E29) -> 40 | G31: =+SUM(G12:G29) -> 34 | I31: =+G31+E31 -> 74
D32: CARGA 2024 | E32: 40 | G32: 34 | I32: =E32+G32 -> 74
I34: RESUMEN | J34: 1 Sem | L34: 2 Sem
I35: VALENZUELA CONSTANZA T1 AB | J35: =SUMIF($I$11:$I$29,$I35,E$11:E$29) -> 4 | L35: =SUMIF($I$11:$I$29,$I35,G$11:G$29) -> 4
I36: VIDAL CARLOS | J36: =SUMIF($I$11:$I$29,$I36,E$11:E$29) -> 8 | L36: =SUMIF($I$11:$I$29,$I36,G$11:G$29) -> 4
I37: RODRÍGUEZ NORMAN | J37: =SUMIF($I$11:$I$29,$I37,E$11:E$29) -> 10 | L37: =SUMIF($I$11:$I$29,$I37,G$11:G$29) -> 10
I38: OBERMOLLER HILDE | J38: =SUMIF($I$11:$I$29,$I38,E$11:E$29) -> 4 | L38: =SUMIF($I$11:$I$29,$I38,G$11:G$29) -> 0
I39: BASTIDAS CC DIRISNAV | J39: =SUMIF($I$11:$I$29,$I39,E$11:E$29) -> 0 | L39: =SUMIF($I$11:$I$29,$I39,G$11:G$29) -> 4
I40: CC AB CRUZ ANDÍA, CARLOS | J40: =SUMIF($I$11:$I$29,$I40,E$11:E$29) -> 0 | L40: =SUMIF($I$11:$I$29,$I40,G$11:G$29) -> 0
I41: GARCÍA QUIROGA CARLOS | J41: =SUMIF($I$11:$I$29,$I41,E$11:E$29) -> 11 | L41: =SUMIF($I$11:$I$29,$I41,G$11:G$29) -> 8
L44: =SUM(J35:L41) -> 67

Sheet ESP LT
A1: Escuela Naval "A. Prat"
A2: Departamento Educación
A3: Unidad de Coordinación Académica
A5: HORAS DE CLASES POR CURSO - PROFESOR
A6: AÑO ACADÉMICO 2025
A7: CÁTEDRA : | D7: ESPECIALIDAD LITORAL
D8: HORAS SEMANALES
A9: CURSO | C9: CÁTEDRA | D9: ASIGNATURAS | E9: 1er SEM. | G9: 2º SEM. | I9: PROFESOR
E10: SIST. | F10: LAB | G10: SIST. | H10: LAB
A12: 2do LT | C12: ESP LT | D12: LEGISLACIÓN MARÍTIMA (Malla ingreso 2024) | E12: 4 | G12: 4 | I12: MUNITA JUAN CARLOS
A13: 3ro LT | C13: ESP LT | D13: ESTABILIDAD Y ESTIBA .1 | E13: 4 | I13: GARCÍA ALBERTO
A14: 3ro LT | C14: ESP LT | D14: ESTABILIDAD Y ESTIBA .2 | G14: 4 | I14: GARCÍA ALBERTO
A15: 3ro LT | C15: ESP LT | D15: APLICACIONES COMPUTACIONALES | G15: 4 | I15: CONCHA CLAUDIO
A16: 3ro LT | C16: ESP LT | D16: LEGISLACIÓN MARÍTIMA (Malla ingreso 2023) | E16: 0 | G16: 6 | I16: MUNITA JUAN CARLOS
A17: 4to LT | C17: ESP LT | D17: COMUNICACIÓN Y RR.PP. | E17: 4 | I17: BUCCAREY FRANCIS
A18: 4to LT | C18: ESP LT | D18: INT. MARÍTIMOS Y DESARROLLO SUSTENTABLE | E18: 0 | G18: 4 | I18: BAROS ANTONIO | J18: RUIZ T1 LT
A19: 4to LT | C19: ESP LT | D19: OPERACIONES MARÍTIMAS I | G19: 6 | I19: CF ORTIZ (XO)
A20: 4to LT | C20: ESP LT | D20: POLICÍA MARÍTIMA | E20: 6 | I20: CERDA PABLO CC LT
A21: 4to LT | C21: ESP LT | D21: POLICÍA MARÍTIMA (Malla ingreso 2022-2023) | E21: 2 | I21: CERDA PABLO CC LT
D23: CARGA 2025 | E23: =+SUM(E12:E21) -> 20 | G23: =+SUM(G12:G21) -> 28 | I23: =+G23+E23 -> 48
D24: CARGA 2023 | E24: 14 | G24: 24 | I24: =E24+G24 -> 38
I26: RESUMEN | J26: 1 Sem | L26: 2 Sem
I27: GARCÍA ALBERTO | J27: =SUMIF($I$11:$I$22,$I27,E$11:E$22) -> 4 | L27: =SUMIF($I$11:$I$21,$I27,G$11:G$21) -> 4
I28: CONCHA CLAUDIO | J28: =SUMIF($I$11:$I$22,$I28,E$11:E$22) -> 0 | L28: =SUMIF($I$11:$I$21,$I28,G$11:G$21) -> 4
I29: MUNITA JUAN CARLOS | J29: =SUMIF($I$11:$I$22,$I29,E$11:E$22) -> 4 | L29: =SUMIF($I$11:$I$21,$I29,G$11:G$21) -> 10
I30: BUCCAREY FRANCIS | J30: =SUMIF($I$11:$I$22,$I30,E$11:E$22) -> 4 | L30: =SUMIF($I$11:$I$21,$I30,G$11:G$21) -> 0
I31: BAROS ANTONIO | J31: =SUMIF($I$11:$I$22,$I31,E$11:E$22) -> 0 | L31: =SUMIF($I$11:$I$21,$I31,G$11:G$21) -> 4
I32: CERDA PABLO CC LT | J32: =SUMIF($I$11:$I$22,$I32,E$11:E$22) -> 8 | L32: =SUMIF($I$11:$I$21,$I32,G$11:G$21) -> 0
I33: RUIZ T1 LT | J33: =SUMIF($I$11:$I$22,$I33,E$11:E$22) -> 0 | L33: =SUMIF($I$11:$I$21,$I33,G$11:G$21) -> 0
L35: =SUM(J27:L33) -> 42

Sheet METOD INV
A1: Escuela Naval "A. Prat"
A2: Departamento Educación
A3: Unidad de Coordinación Académica
A5: HORAS DE CLASES POR CURSO - PROFESOR
A6: AÑO ACADÉMICO 2024
A7: CÁTEDRA : | D7: METODOLOGÍA DE LA INVESTIGACIÓN
D8: HORAS SEMANALES
A9: CURSO | C9: CÁTEDRA | D9: ASIGNATURAS | E9: 1er SEM. | G9: 2º SEM. | I9: PROFESOR
E10: SIST. | F10: LAB | G10: SIST. | H10: LAB
K11: 0 | L11: 0 | M11: 0 | N11: 0
A12: 4to EJ | B12: A | C12: MET DE LA INVESTIGACIÓN | D12: METODOLOGÍA DE LA INVESTIGACIÓN I | E12: 2 | I12: RÍOS JORGE | J12: NO VA | K12: =E12 -> 2 | L12: =F12 -> 0 | M12: =G12 -> 0 | N12: =H12 -> 0
A13: 4to EJ | B13: B | C13: MET DE LA INVESTIGACIÓN | D13: METODOLOGÍA DE LA INVESTIGACIÓN I | E13: 2 | I13: RÍOS JORGE | J13: NO VA | K13: =E13 -> 2 | L13: =F13 -> 0 | M13: =G13 -> 0 | N13: =H13 -> 0
A14: 4to EJ | B14: C | C14: MET DE LA INVESTIGACIÓN | D14: METODOLOGÍA DE LA INVESTIGACIÓN I | E14: 2 | I14: RÍOS JORGE | J14: NO VA | K14: =E14 -> 2 | L14: =F14 -> 0 | M14: =G14 -> 0 | N14: =H14 -> 0
A15: 4to EJ | B15: D | C15: MET DE LA INVESTIGACIÓN | D15: METODOLOGÍA DE LA INVESTIGACIÓN I | E15: 2 | I15: RÍOS JORGE | J15: NO VA | K15: =E15 -> 2 | L15: =F15 -> 0 | M15: =G15 -> 0 | N15: =H15 -> 0
A16: 4to AB | C16: MET DE LA INVESTIGACIÓN | D16: METODOLOGÍA DE LA INVESTIGACIÓN I | G16: 2 | I16: RÍOS JORGE | J16: NO VA | K16: =E16 -> 0 | L16: =F16 -> 0 | M16: =G16 -> 2 | N16: =H16 -> 0
A17: 4to IM | C17: MET DE LA INVESTIGACIÓN | D17: METODOLOGÍA DE LA INVESTIGACIÓN I | G17: 2 | I17: RÍOS JORGE | J17: NO VA | K17: =E17 -> 0 | L17: =F17 -> 0 | M17: =G17 -> 2 | N17: =H17 -> 0
A18: 4to LT | C18: MET DE LA INVESTIGACIÓN | D18: METODOLOGÍA DE LA INVESTIGACIÓN I | G18: 2 | I18: RAMÍREZ BLANCA | J18: NO VA | K18: =E18 -> 0 | L18: =F18 -> 0 | M18: =G18 -> 2 | N18: =H18 -> 0
D20: CARGA 2024 | E20: =SUM(E12:E18) -> 0 | G20: =SUM(G12:G18) -> 0 | I20: =+E20+G20 -> 0
D21: CARGA 2023 | E21: 8 | G21: 6 | I21: =E21+G21 -> 14
I22: =I20-I21 -> -14
I24: RESUMEN | J24: 1 Sem | L24: 2 Sem
I25: RÍOS JORGE | J25: =SUMIF($I$11:$N$18,$I25,K$11:K$18) -> 0 | L25: =SUMIF($I$11:$N$18,$I25,M$11:M$18) -> 0
I26: RAMÍREZ BLANCA | J26: =SUMIF($I$11:$N$18,$I26,K$11:K$18) -> 0 | L26: =SUMIF($I$11:$N$18,$I26,M$11:M$18) -> 0
J27: =SUMIF($I$11:$N$18,$I27,K$11:K$18) -> 0 | L27: =SUMIF($I$11:$N$18,$I27,M$11:M$18) -> 0

Sheet NÁUTICA
A1: Escuela Naval "A. Prat"
A2: Departamento Educación
A3: Unidad de Coordinación Académica
A5: HORAS DE CLASES POR CURSO - PROFESOR
A6: AÑO ACADÉMICO 2025
A7: CÁTEDRA : | D7: NÁUTICA
D8: HORAS SEMANALES
A9: CURSO | C9: CÁTEDRA | D9: ASIGNATURAS | E9: 1er SEM. | G9: 2º SEM. | I9: PROFESOR
E10: SIST. | F10: LAB | G10: SIST. | H10: LAB
A12: 1ro | B12: A | C12: NÁUTICA | D12: NÁUTICA .1 | E12: 2 | I12: ROJAS MARIANO
A13: 1ro | B13: A | C13: NÁUTICA | D13: NÁUTICA .2 | G13: 2 | I13: MILAN
A14: 1ro | B14: B | C14: NÁUTICA | D14: NÁUTICA .1 | E14: 2 | I14: ROJAS MARIANO
A15: 1ro | B15: B | C15: NÁUTICA | D15: NÁUTICA .2 | G15: 2 | I15: SEPÚLVEDA RODRIGO
A16: 1ro | B16: C | C16: NÁUTICA | D16: NÁUTICA .1 | E16: 2 | I16: SEPÚLVEDA RODRIGO
A17: 1ro | B17: C | C17: NÁUTICA | D17: NÁUTICA .2 | G17: 2 | I17: MILAN
A18: 1ro | B18: D | C18: NÁUTICA | D18: NÁUTICA .1 | E18: 2 | I18: SIMS EDUARDO
A19: 1ro | B19: D | C19: NÁUTICA | D19: NÁUTICA .2 | G19: 2 | I19: SEPÚLVEDA RODRIGO
A20: 1ro | B20: E | C20: NÁUTICA | D20: NÁUTICA .1 | E20: 2 | I20: SIMS EDUARDO
A21: 1ro | B21: E | C21: NÁUTICA | D21: NÁUTICA .2 | G21: 2 | I21: SEPÚLVEDA RODRIGO
A22: 1ro | B22: H | C22: NÁUTICA | D22: NÁUTICA .1 | E22: 2 | I22: SIMS EDUARDO
A23: 1ro | B23: H | C23: NÁUTICA | D23: NÁUTICA .2 | G23: 2 | I23: SEPÚLVEDA RODRIGO
A24: 1ro | B24: K | C24: NÁUTICA | D24: NÁUTICA .1 | E24: 2 | I24: SEPÚLVEDA RODRIGO
A25: 1ro | B25: K | C25: NÁUTICA | D25: NÁUTICA .2 | G25: 2 | I25: MILAN
D27: CARGA 2025 | E27: =+SUM(E12:E25) -> 14 | G27: =+SUM(G12:G25) -> 14 | I27: =+G27+E27 -> 28
D28: CARGA 2024 | E28: 12 | G28: 12 | I28: =E28+G28 -> 24
I30: RESUMEN | J30: 1 Sem | L30: 2 Sem
I32: ROJAS MARIANO | J32: =SUMIF($I$11:$I$25,$I32,E$11:E$25) -> 4 | L32: =SUMIF($I$11:$I$25,$I32,G$11:G$25) -> 0
I33: SEPÚLVEDA RODRIGO | J33: =SUMIF($I$11:$I$25,$I33,E$11:E$25) -> 4 | L33: =SUMIF($I$11:$I$25,$I33,G$11:G$25) -> 8
I34: SIMS EDUARDO | J34: =SUMIF($I$11:$I$25,$I34,E$11:E$25) -> 6 | L34: =SUMIF($I$11:$I$25,$I34,G$11:G$25) -> 0
L37: =SUM(J32:L35) -> 22

Sheet FOR NAVAL
B1: Escuela Naval "A. Prat"
B2: Departamento Educación
B3: Unidad de Coordinación Académica
B5: HORAS DE CLASES POR CURSO - PROFESOR
B6: AÑO ACADÉMICO 2025
B7: CÁTEDRA : | E7: FORMACIÓN NAVAL
E8: HORAS SEMANALES
F9: 1er SEM. | H9: 2º SEM.
B10: CURSO | D10: CÁTEDRA | E10: ASIGNATURAS | F10: SIST. | G10: LAB | H10: SIST. | I10: LAB | J10: PROFESOR | K10: Unidad Temática
A11: 1 | B11: 2do AB | D11: FORMACIÓN NAVAL | E11: FORMACIÓN NAVAL I .1 | F11: 2 | J11: MALHUEN T1 | K11: BUCEO
A12: 1 | B12: 2do AB | D12: FORMACIÓN NAVAL | E12: FORMACIÓN NAVAL I .2 | H12: 2 | J12: MALHUEN T1 | K12: BUCEO
A13: 1 | B13: 2do IM | D13: FORMACIÓN NAVAL | E13: FORMACIÓN NAVAL I .1 | F13: 2 | J13: PÉREZ SO IM | K13: Liderazgo terreno (IM)
A14: 1 | B14: 2do IM | D14: FORMACIÓN NAVAL | E14: FORMACIÓN NAVAL I .2 | H14: 2 | J14: PÉREZ SO IM | K14: Liderazgo terreno (IM)
A15: 1 | B15: 2do LT | D15: FORMACIÓN NAVAL | E15: FORMACIÓN NAVAL I .1 | F15: 2 | J15: MALDONADO VALDES GONZALO | K15: BUCEO
A16: 1 | B16: 2do LT | D16: FORMACIÓN NAVAL | E16: FORMACIÓN NAVAL I .2 | H16: 2 | J16: MALDONADO VALDES GONZALO | K16: BUCEO
A17: 1 | B17: 2do EJ | C17: A | D17: FORMACIÓN NAVAL | E17: FORMACIÓN NAVAL I .1 | F17: 2 | J17: SEPÚLVEDA GARABITO OSCAR SO | K17: BUCEO
A18: 1 | B18: 2do EJ | C18: A | D18: FORMACIÓN NAVAL | E18: FORMACIÓN NAVAL I .2 | H18: 2 | J18: SEPÚLVEDA GARABITO OSCAR SO | K18: BUCEO
A19: 1 | B19: 2do EJ | C19: B | D19: FORMACIÓN NAVAL | E19: FORMACIÓN NAVAL I .1 | F19: 2 | J19: BELLO DANIEL | K19: TIRO
A20: 1 | B20: 2do EJ | C20: B | D20: FORMACIÓN NAVAL | E20: FORMACIÓN NAVAL I .2 | H20: 2 | J20: BELLO DANIEL | K20: TIRO
A21: 2 | B21: 2do EJ | C21: C | D21: FORMACIÓN NAVAL | E21: FORMACIÓN NAVAL I .1 | F21: 2 | J21: BUCCAREY FRANCIS | K21: Comunicaciones y RRPP
A22: 2 | B22: 2do EJ | C22: C | D22: FORMACIÓN NAVAL | E22: FORMACIÓN NAVAL I .2 | H22: 2 | J22: BUCCAREY FRANCIS | K22: Comunicaciones y RRPP
A23: 3 | B23: 2do EJ | C23: D | D23: FORMACIÓN NAVAL | E23: FORMACIÓN NAVAL I .1 | F23: 2 | J23: ACUÑA PAC SO | K23: BUCEO | L23: NO SE ASIGNAN
A24: 3 | B24: 2do EJ | C24: D | D24: FORMACIÓN NAVAL | E24: FORMACIÓN NAVAL I .2 | H24: 2 | J24: ACUÑA PAC SO | K24: BUCEO
A25: 4 | B25: 2do EJ | C25: E | D25: FORMACIÓN NAVAL | E25: FORMACIÓN NAVAL I .1 | F25: 2 | J25: T1 LT RUIZ | K25: Liderazgo Terreno
A26: 4 | B26: 2do EJ | C26: E | D26: FORMACIÓN NAVAL | E26: FORMACIÓN NAVAL I .2 | H26: 2 | J26: T1 LT RUIZ | K26: Liderazgo Terreno
A27: 5 | B27: 3ro IM | D27: FORMACIÓN NAVAL | E27: FORMACIÓN NAVAL II .1 | F27: 2 | J27: MALHUEN T1 | K27: BUCEO
A28: 5 | B28: 3ro IM | D28: FORMACIÓN NAVAL | E28: FORMACIÓN NAVAL II .2 | H28: 2 | J28: MALHUEN T1 | K28: BUCEO
A29: 5 | B29: 3ro LT | D29: FORMACIÓN NAVAL | E29: FORMACIÓN NAVAL II .1 | F29: 2 | J29: SEPÚLVEDA GARABITO OSCAR SO | K29: BUCEO
A30: 5 | B30: 3ro LT | D30: FORMACIÓN NAVAL | E30: FORMACIÓN NAVAL II .2 | H30: 2 | J30: SEPÚLVEDA GARABITO OSCAR SO | K30: BUCEO
A31: 5 | B31: 3ro AB | D31: FORMACIÓN NAVAL | E31: FORMACIÓN NAVAL II .1 | F31: 2 | J31: LUCERO ANDRÉS | K31: DEBATE
A32: 5 | B32: 3ro AB | D32: FORMACIÓN NAVAL | E32: FORMACIÓN NAVAL II .2 | H32: 2 | J32: LUCERO ANDRÉS | K32: DEBATE
A33: 5 | B33: 3ro EJ | C33: A | D33: FORMACIÓN NAVAL | E33: FORMACIÓN NAVAL II .1 | F33: 2 | J33: SIELFELD JUAN | K33: Liderazgo Terreno
A34: 5 | B34: 3ro EJ | C34: A | D34: FORMACIÓN NAVAL | E34: FORMACIÓN NAVAL II .2 | H34: 2 | J34: SIELFELD JUAN | K34: Liderazgo Terreno
A35: 6 | B35: 3ro EJ | C35: B | D35: FORMACIÓN NAVAL | E35: FORMACIÓN NAVAL II .1 | F35: 2 | J35: ROJAS MARIANO | K35: Liderazgo Simulador
A36: 6 | B36: 3ro EJ | C36: B | D36: FORMACIÓN NAVAL | E36: FORMACIÓN NAVAL II .2 | H36: 2 | J36: ROJAS MARIANO | K36: Liderazgo Simulador
A37: 7 | B37: 3ro EJ | C37: C | D37: FORMACIÓN NAVAL | E37: FORMACIÓN NAVAL II .1 | F37: 2 | J37: ZANELLI VÍCTOR | K37: Liderazgo Simulador
A38: 7 | B38: 3ro EJ | C38: C | D38: FORMACIÓN NAVAL | E38: FORMACIÓN NAVAL II .2 | H38: 2 | J38: ZANELLI VÍCTOR | K38: Liderazgo Simulador
A39: 8 | B39: 3ro EJ | C39: D | D39: FORMACIÓN NAVAL | E39: FORMACIÓN NAVAL II .1 | F39: 2 | J39: SEPÚLVEDA RODRIGO | K39: Patrón Deportivo Bahía
A40: 8 | B40: 3ro EJ | C40: D | D40: FORMACIÓN NAVAL | E40: FORMACIÓN NAVAL II .2 | H40: 2 | J40: SEPÚLVEDA RODRIGO | K40: Patrón Deportivo Bahía
A41: 9 | B41: 4to AB | D41: FORMACIÓN NAVAL | E41: FORMACIÓN NAVAL III .1 | F41: 2 | J41: CAMPOS MANUEL | K41: Defensa personal
...

Sheet SEGURIDAD
B1: Escuela Naval "A. Prat"
B2: Departamento Educación
B3: Unidad de Coordinación Académica
B5: HORAS DE CLASES POR CURSO - PROFESOR
B6: AÑO ACADÉMICO 2025
B7: CÁTEDRA : | E7: FORMACIÓN NAVAL
E8: HORAS SEMANALES
F9: 1er SEM. | H9: 2º SEM.
B10: CURSO | D10: CÁTEDRA | E10: ASIGNATURAS | F10: SIST. | G10: LAB | H10: SIST. | I10: LAB | J10: PROFESOR
B11: 4to EJ | C11: A | D11: FORMACIÓN NAVAL | E11: SEGURIDAD | H11: 2 | J11: NN 2 SEGURIDAD
B12: 4to EJ | C12: B | D12: FORMACIÓN NAVAL | E12: SEGURIDAD | H12: 2 | J12: PIZARRO T1
B13: 4to EJ | C13: C | D13: FORMACIÓN NAVAL | E13: SEGURIDAD | H13: 2 | J13: NN 1 SEGURIDAD
H15: =SUM(H11:H14) -> 6
K17: RESUMEN | L17: 1 Sem | M17: LAB | N17: 2 Sem | O17: LAB
K18: NN 2 SEGURIDAD | L18: =SUMIF($J$11:$J$13,$K18,F$11:F$13) -> 0 | M18: =SUMIF($J$11:$J$13,$K18,G$11:G$13) -> 0 | N18: =SUMIF($J$11:$J$13,$K18,H$11:H$13) -> 2 | O18: =SUMIF($J$11:$J$13,$K18,I$11:I$13) -> 0
K19: PIZARRO T1 | L19: =SUMIF($J$11:$J$13,$K19,F$11:F$13) -> 0 | M19: =SUMIF($J$11:$J$13,$K19,G$11:G$13) -> 0 | N19: =SUMIF($J$11:$J$13,$K19,H$11:H$13) -> 2 | O19: =SUMIF($J$11:$J$13,$K19,I$11:I$13) -> 0
K20: NN 1 SEGURIDAD | L20: =SUMIF($J$11:$J$13,$K20,F$11:F$13) -> 0 | M20: =SUMIF($J$11:$J$13,$K20,G$11:G$13) -> 0 | N20: =SUMIF($J$11:$J$13,$K20,H$11:H$13) -> 2 | O20: =SUMIF($J$11:$J$13,$K20,I$11:I$13) -> 0
O24: =SUM(L18:O21) -> 6

Sheet LENGUAJE
A1: Escuela Naval "A. Prat"
A2: Departamento Educación
A3: Unidad de Coordinación Académica
A5: HORAS DE CLASES POR CURSO - PROFESOR
A6: AÑO ACADÉMICO 2025
A7: CÁTEDRA : | D7: LENGUA CASTELLANA
D8: HORAS SEMANALES
A9: CURSO | C9: CÁTEDRA | D9: ASIGNATURAS | E9: 1er SEM. | G9: 2º SEM. | I9: PROFESOR
E10: SIST. | F10: LAB | G10: SIST. | H10: LAB
K11: 0 | L11: 0 | M11: 0 | N11: 0
A12: 1ro | B12: A | C12: LENGUAJE | D12: ESCRITURA, ORALIDAD Y ARGUMENTACION I (PHI) .1 | E12: 6 | I12: CAMPOS VALESKA | K12: =E12 -> 6 | L12: =F12 -> 0 | M12: =G12 -> 0 | N12: =H12 -> 0
A13: 1ro | B13: A | C13: LENGUAJE | D13: ESCRITURA, ORALIDAD Y ARGUMENTACION I (PHI) .2 | G13: 4 | I13: CAMPOS VALESKA | K13: =E13 -> 0 | L13: =F13 -> 0 | M13: =G13 -> 4 | N13: =H13 -> 0
A14: 1ro | B14: B | C14: LENGUAJE | D14: ESCRITURA, ORALIDAD Y ARGUMENTACION I (PHI) .1 | E14: 6 | I14: ARENTSEN CHRISTIANE | K14: =E14 -> 6 | L14: =F14 -> 0 | M14: =G14 -> 0 | N14: =H14 -> 0
A15: 1ro | B15: B | C15: LENGUAJE | D15: ESCRITURA, ORALIDAD Y ARGUMENTACION I (PHI) .2 | G15: 4 | I15: ARENTSEN CHRISTIANE | K15: =E15 -> 0 | L15: =F15 -> 0 | M15: =G15 -> 4 | N15: =H15 -> 0
A16: 1ro | B16: C | C16: LENGUAJE | D16: ESCRITURA, ORALIDAD Y ARGUMENTACION I (PHI) .1 | E16: 6 | I16: CAMPOS VALESKA | K16: =E16 -> 6 | L16: =F16 -> 0 | M16: =G16 -> 0 | N16: =H16 -> 0
A17: 1ro | B17: C | C17: LENGUAJE | D17: ESCRITURA, ORALIDAD Y ARGUMENTACION I (PHI) .2 | G17: 4 | I17: CAMPOS VALESKA | K17: =E17 -> 0 | L17: =F17 -> 0 | M17: =G17 -> 4 | N17: =H17 -> 0
A18: 1ro | B18: D | C18: LENGUAJE | D18: ESCRITURA, ORALIDAD Y ARGUMENTACION I (PHI) .1 | E18: 6 | I18: ARENTSEN CHRISTIANE | K18: =E18 -> 6 | L18: =F18 -> 0 | M18: =G18 -> 0 | N18: =H18 -> 0
A19: 1ro | B19: D | C19: LENGUAJE | D19: ESCRITURA, ORALIDAD Y ARGUMENTACION I (PHI) .2 | G19: 4 | I19: ARENTSEN CHRISTIANE | K19: =E19 -> 0 | L19: =F19 -> 0 | M19: =G19 -> 4 | N19: =H19 -> 0
A20: 1ro | B20: E | C20: LENGUAJE | D20: ESCRITURA, ORALIDAD Y ARGUMENTACION I (PHI) .1 | E20: 6 | I20: CAMPOS VALESKA | K20: =E20 -> 6 | L20: =F20 -> 0 | M20: =G20 -> 0 | N20: =H20 -> 0
A21: 1ro | B21: E | C21: LENGUAJE | D21: ESCRITURA, ORALIDAD Y ARGUMENTACION I (PHI) .2 | G21: 4 | I21: CAMPOS VALESKA | K21: =E21 -> 0 | L21: =F21 -> 0 | M21: =G21 -> 4 | N21: =H21 -> 0
A22: 1ro | B22: H | C22: LENGUAJE | D22: ESCRITURA, ORALIDAD Y ARGUMENTACION I (PHI) .1 | E22: 6 | I22: ARENTSEN CHRISTIANE | K22: =E22 -> 6 | L22: =F22 -> 0 | M22: =G22 -> 0 | N22: =H22 -> 0
A23: 1ro | B23: H | C23: LENGUAJE | D23: ESCRITURA, ORALIDAD Y ARGUMENTACION I (PHI) .2 | G23: 4 | I23: ARENTSEN CHRISTIANE | K23: =E23 -> 0 | L23: =F23 -> 0 | M23: =G23 -> 4 | N23: =H23 -> 0
A24: 1ro | B24: K | C24: LENGUAJE | D24: ESCRITURA, ORALIDAD Y ARGUMENTACION I (PHI) .1 | E24: 6 | I24: NUÑEZ MIGUEL | K24: =E24 -> 6 | L24: =F24 -> 0 | M24: =G24 -> 0 | N24: =H24 -> 0
A25: 1ro | B25: K | C25: LENGUAJE | D25: ESCRITURA, ORALIDAD Y ARGUMENTACION I (PHI) .2 | G25: 4 | I25: ARENTSEN CHRISTIANE | K25: =E25 -> 0 | L25: =F25 -> 0 | M25: =G25 -> 4 | N25: =H25 -> 0
A26: 2do EJ | B26: A | C26: LENGUAJE | D26: HABILIDADES LINGÜÍSTICAS II | E26: 2 | I26: CAMPOS VALESKA | K26: =E26 -> 2 | L26: =F26 -> 0 | M26: =G26 -> 0 | N26: =H26 -> 0
A27: 2do EJ | B27: B | C27: LENGUAJE | D27: HABILIDADES LINGÜÍSTICAS II | E27: 2 | I27: CAMPOS VALESKA | K27: =E27 -> 2 | L27: =F27 -> 0 | M27: =G27 -> 0 | N27: =H27 -> 0
A28: 2do EJ | B28: C | C28: LENGUAJE | D28: HABILIDADES LINGÜÍSTICAS II | E28: 2 | I28: CAMPOS VALESKA | K28: =E28 -> 2 | L28: =F28 -> 0 | M28: =G28 -> 0 | N28: =H28 -> 0
A29: 2do EJ | B29: D | C29: LENGUAJE | D29: HABILIDADES LINGÜÍSTICAS II | E29: 2 | I29: ARENTSEN CHRISTIANE | K29: =E29 -> 2 | L29: =F29 -> 0 | M29: =G29 -> 0 | N29: =H29 -> 0
A30: 2do EJ | B30: E | C30: LENGUAJE | D30: HABILIDADES LINGÜÍSTICAS II | E30: 2 | I30: CAMPOS VALESKA | J30: 2E | K30: =E30 -> 2 | L30: =F30 -> 0 | M30: =G30 -> 0 | N30: =H30 -> 0
A31: 2do AB | C31: LENGUAJE | D31: HABILIDADES LINGÜÍSTICAS II | G31: 2 | I31: CAMPOS VALESKA | K31: =E31 -> 0 | L31: =F31 -> 0 | M31: =G31 -> 2 | N31: =H31 -> 0
A32: 2do IM | C32: LENGUAJE | D32: HABILIDADES LINGÜÍSTICAS II | G32: 2 | I32: CAMPOS VALESKA | K32: =E32 -> 0 | L32: =F32 -> 0 | M32: =G32 -> 2 | N32: =H32 -> 0
A33: 2do LT | C33: LENGUAJE | D33: HABILIDADES LINGÜÍSTICAS II | G33: 2 | I33: ARENTSEN CHRISTIANE | K33: =E33 -> 0 | L33: =F33 -> 0 | M33: =G33 -> 2 | N33: =H33 -> 0
K34: =E34 -> 0 | L34: =F34 -> 0 | M34: =G34 -> 0 | N34: =H34 -> 0
D35: CARGA 2025 | E35: =+SUM(E12:E33) -> 52 | G35: =+SUM(G12:G33) -> 34 | I35: =+G35+E35 -> 86
D36: CARGA 2024 | E36: 46 | G36: 28 | I36: 74
I38: RESUMEN | J38: 1° Sem | L38: 2° Sem | BN38: 0 | BO38: 0
I39: ARENTSEN CHRISTIANE | J39: =SUMIF($I$11:$N$33,$I39,K$11:K$33) -> 20 | L39: =SUMIF($I$11:$N$33,$I39,M$11:M$33) -> 18
I40: CAMPOS VALESKA | J40: =SUMIF($I$11:$N$33,$I40,K$11:K$33) -> 26 | L40: =SUMIF($I$11:$N$33,$I40,M$11:M$33) -> 16
I41: NUÑEZ MIGUEL | J41: =SUMIF($I$11:$N$33,$I41,K$11:K$33) -> 6 | L41: =SUMIF($I$11:$N$33,$I41,M$11:M$33) -> 0
J45: =SUM(J39:L43) -> 86

Sheet HISTORIA
A1: Escuela Naval "A. Prat"
A2: Departamento Educación
A3: Unidad de Coordinación Académica
A5: HORAS DE CLASES POR CURSO - PROFESOR
A6: AÑO ACADÉMICO 2025
A7: CÁTEDRA : | D7: HISTORIA
D8: HORAS SEMANALES
A9: CURSO | C9: CÁTEDRA | D9: ASIGNATURAS | E9: 1er SEM. | G9: 2º SEM. | I9: PROFESOR
E10: SIST. | F10: LAB | G10: SIST. | H10: LAB
A12: 1ro | B12: A | C12: HISTORIA | D12: GEOGRAFÍA MARÍTIMA E HISTORIA DE LA CULTURA .1 | E12: 2 | I12: ROMÁN LORENA
A13: 1ro | B13: A | C13: HISTORIA | D13: GEOGRAFÍA MARÍTIMA E HISTORIA DE LA CULTURA .1 | G13: 2 | I13: RÍOS JORGE
A14: 1ro | B14: B | C14: HISTORIA | D14: GEOGRAFÍA MARÍTIMA E HISTORIA DE LA CULTURA .1 | E14: 2 | I14: ROMÁN LORENA
A15: 1ro | B15: B | C15: HISTORIA | D15: GEOGRAFÍA MARÍTIMA E HISTORIA DE LA CULTURA .1 | G15: 2 | I15: RÍOS JORGE
A16: 1ro | B16: C | C16: HISTORIA | D16: GEOGRAFÍA MARÍTIMA E HISTORIA DE LA CULTURA .1 | E16: 2 | I16: RÍOS JORGE
A17: 1ro | B17: C | C17: HISTORIA | D17: GEOGRAFÍA MARÍTIMA E HISTORIA DE LA CULTURA .2 | G17: 2 | I17: RÍOS JORGE
A18: 1ro | B18: D | C18: HISTORIA | D18: GEOGRAFÍA MARÍTIMA E HISTORIA DE LA CULTURA .1 | E18: 2 | I18: RÍOS JORGE
A19: 1ro | B19: D | C19: HISTORIA | D19: GEOGRAFÍA MARÍTIMA E HISTORIA DE LA CULTURA .2 | G19: 2 | I19: RÍOS JORGE
A20: 1ro | B20: E | C20: HISTORIA | D20: GEOGRAFÍA MARÍTIMA E HISTORIA DE LA CULTURA .1 | E20: 2 | I20: RÍOS JORGE
A21: 1ro | B21: E | C21: HISTORIA | D21: GEOGRAFÍA MARÍTIMA E HISTORIA DE LA CULTURA .2 | G21: 2 | I21: RÍOS JORGE
A22: 1ro | B22: H | C22: HISTORIA | D22: GEOGRAFÍA MARÍTIMA E HISTORIA DE LA CULTURA .1 | E22: 2 | I22: RÍOS JORGE
A23: 1ro | B23: H | C23: HISTORIA | D23: GEOGRAFÍA MARÍTIMA E HISTORIA DE LA CULTURA .2 | G23: 2 | I23: RÍOS JORGE
A24: 1ro | B24: K | C24: HISTORIA | D24: GEOGRAFÍA MARÍTIMA E HISTORIA DE LA CULTURA .1 | E24: 2 | I24: ROMÁN LORENA
A25: 1ro | B25: K | C25: HISTORIA | D25: GEOGRAFÍA MARÍTIMA E HISTORIA DE LA CULTURA .2 | G25: 2 | I25: RÍOS JORGE
A26: 2do AB | C26: HISTORIA | D26: CHILE: HISTORIA Y SOBERANÍA | E26: 4 | I26: ROMÁN LORENA
A27: 2do LT | C27: HISTORIA | D27: CHILE: HISTORIA Y SOBERANÍA | G27: 4 | I27: RÍOS JORGE
A28: 3ro EJ | B28: A | C28: HISTORIA | D28: CHILE: HISTORIA Y SOBERANÍA | E28: 4 | I28: RÍOS JORGE
A29: 3ro EJ | B29: B | C29: HISTORIA | D29: CHILE: HISTORIA Y SOBERANÍA | E29: 4 | I29: ROMÁN LORENA
A30: 3ro EJ | B30: C | C30: HISTORIA | D30: CHILE: HISTORIA Y SOBERANÍA | E30: 4 | I30: ROMÁN LORENA
A31: 3ro EJ | B31: D | C31: HISTORIA | D31: CHILE: HISTORIA Y SOBERANÍA | E31: 4 | I31: ROMÁN LORENA
A32: 4to EJ | B32: A | C32: HISTORIA | D32: ANÁLISIS DE LA REALIDAD NACIONAL E INTERNACIONAL | E32: 2 | I32: RAMÍREZ BLANCA
A33: 4to EJ | B33: B | C33: HISTORIA | D33: ANÁLISIS DE LA REALIDAD NACIONAL E INTERNACIONAL | E33: 2 | I33: RÍOS JORGE
A34: 4to EJ | B34: C | C34: HISTORIA | D34: ANÁLISIS DE LA REALIDAD NACIONAL E INTERNACIONAL | E34: 2 | I34: RÍOS JORGE
A35: 4to IM | C35: HISTORIA | D35: CHILE: HISTORIA Y SOBERANÍA | E35: 4 | I35: RAMÍREZ BLANCA
A36: 4to IM | C36: HISTORIA | D36: ANÁLISIS DE LA REALIDAD NACIONAL E INTERNACIONAL | G36: 2 | I36: RAMÍREZ BLANCA
A37: 4to AB | C37: HISTORIA | D37: ANÁLISIS DE LA REALIDAD NACIONAL E INTERNACIONAL | E37: 2 | I37: RÍOS JORGE
A38: 4to LT | C38: HISTORIA | D38: ANÁLISIS DE LA REALIDAD NACIONAL E INTERNACIONAL | E38: 0 | G38: 2 | I38: RÍOS JORGE
D40: CARGA 2025 | E40: =+SUM(E12:E38) -> 46 | G40: =+SUM(G12:G38) -> 22 | I40: =+SUM(E40:G40) -> 68
D41: CARGA 2024 | E41: 46 | G41: 20 | I41: 66
I43: RESUMEN | J43: 1 Sem | L43: 2 Sem
I45: RAMÍREZ BLANCA | J45: =SUMIF($I$11:$I$38,$I45,E$11:E$38) -> 6 | L45: =SUMIF($I$11:$I$38,$I45,G$11:G$38) -> 2
...

Sheet HIST NAV 
A1: Escuela Naval "A. Prat"
A2: Departamento Educación
A3: Unidad de Coordinación Académica
A5: HORAS DE CLASES POR CURSO - PROFESOR
A6: AÑO ACADÉMICO 2025
A7: CÁTEDRA : | D7: HISTORIA
D8: HORAS SEMANALES
A9: CURSO | C9: CÁTEDRA | D9: ASIGNATURAS | E9: 1er SEM. | G9: 2º SEM. | I9: PROFESOR
E10: SIST. | F10: LAB | G10: SIST. | H10: LAB
A12: 3ro Ej | B12: A | C12: HISTORIA | D12: HISTORIA NAVAL APLICADA .1 | E12: 4 | I12: SORIA-GALVARRO RODOLFO
A13: 3ro Ej | B13: A | C13: HISTORIA | D13: HISTORIA NAVAL APLICADA .2 | G13: 2 | I13: SORIA-GALVARRO RODOLFO
A14: 3ro Ej | B14: B | C14: HISTORIA | D14: HISTORIA NAVAL APLICADA .1 | E14: 4 | I14: SORIA-GALVARRO RODOLFO
A15: 3ro Ej | B15: B | C15: HISTORIA | D15: HISTORIA NAVAL APLICADA .2 | G15: 2 | I15: SORIA-GALVARRO RODOLFO
A16: 3ro Ej | B16: C | C16: HISTORIA | D16: HISTORIA NAVAL APLICADA .1 | E16: 4 | I16: SORIA-GALVARRO RODOLFO
A17: 3ro Ej | B17: C | C17: HISTORIA | D17: HISTORIA NAVAL APLICADA .2 | G17: 2 | I17: SORIA-GALVARRO RODOLFO
A18: 3ro Ej | B18: D | C18: HISTORIA | D18: HISTORIA NAVAL APLICADA .1 | E18: 4 | I18: SORIA-GALVARRO RODOLFO
A19: 3ro Ej | B19: D | C19: HISTORIA | D19: HISTORIA NAVAL APLICADA .2 | G19: 2 | I19: SORIA-GALVARRO RODOLFO
A20: 3ro IM | C20: HISTORIA | D20: HISTORIA NAVAL APLICADA IM .1 | E20: 2 | I20: SORIA-GALVARRO RODOLFO
A21: 3ro IM | C21: HISTORIA | D21: HISTORIA NAVAL APLICADA IM .2 | G21: 4 | I21: SORIA-GALVARRO RODOLFO
A22: 3ro AB | C22: HISTORIA | D22: HISTORIA NAVAL APLICADA .1 | E22: 2 | I22: SORIA-GALVARRO RODOLFO
A23: 3ro AB | C23: HISTORIA | D23: HISTORIA NAVAL APLICADA .2 | G23: 4 | I23: SORIA-GALVARRO RODOLFO
A24: 3ro LT | C24: HISTORIA | D24: HISTORIA NAVAL APLICADA .1 | E24: 4 | I24: QUIROGA CESAR
A25: 3ro LT | C25: HISTORIA | D25: HISTORIA NAVAL APLICADA .2 | G25: 2 | I25: QUIROGA CESAR
D28: CARGA 2025 | E28: =+SUM(E12:E25) -> 24 | G28: =+SUM(G12:G25) -> 18 | I28: =+SUM(E28:G28) -> 42
D29: CARGA 2024 | E29: 24 | G29: 18 | I29: 42
I31: RESUMEN | J31: 1° Sem | L31: 2° Sem
I32: SORIA-GALVARRO RODOLFO | J32: =SUMIF($I$11:$I$25,$I32,E$11:E$25) -> 20 | L32: =SUMIF($I$11:$I$25,$I32,G$11:G$25) -> 16
I33: QUIROGA CESAR | J33: =SUMIF($I$11:$I$25,$I33,E$11:E$25) -> 4 | L33: =SUMIF($I$11:$I$25,$I33,G$11:G$25) -> 2
L35: =SUM(J32:L33) -> 42

Sheet DEREC
A1: Escuela Naval "A. Prat"
A2: Departamento Educación
A3: Unidad de Coordinación Académica
A5: HORAS DE CLASES POR CURSO - PROFESOR
A6: AÑO ACADÉMICO 2025
A7: CÁTEDRA : | D7: EDUCACIÓN CÍVICA Y DERECHO
D8: HORAS SEMANALES
A9: CURSO | C9: CÁTEDRA | D9: ASIGNATURAS | E9: 1er SEM. | G9: 2º SEM. | I9: PROFESOR
E10: SIST. | F10: LAB | G10: SIST. | H10: LAB
A12: 4to EJ | B12: A | C12: DERECHO | D12: DERECHO | G12: 4 | I12: SILVA DIEGO
A13: 4to EJ | B13: B | C13: DERECHO | D13: DERECHO | G13: 4 | I13: SILVA DIEGO
A14: 4to EJ | B14: C | C14: DERECHO | D14: DERECHO | G14: 4 | I14: CELIS ALEJANDRO
A15: 4to AB | C15: DERECHO | D15: DERECHO | G15: 4 | I15: SILVA DIEGO
A16: 4to IM | C16: DERECHO | D16: DERECHO | G16: 4 | I16: MELLA HERNÁN
A17: 4to LT | C17: DERECHO | D17: DERECHO I LT | E17: 4 | I17: SILVA DIEGO | J17: cambios en contenidos
A18: 4to EJ | B18: A | C18: DERECHO | D18: ED CÍVICA | G18: 2 | I18: SIMS EDUARDO
A19: 4to EJ | B19: B | C19: DERECHO | D19: ED CÍVICA | G19: 2 | I19: ROMÁN LORENA
A20: 4to EJ | B20: C | C20: DERECHO | D20: ED CÍVICA | G20: 2 | I20: ROMÁN LORENA
A21: 4to AB | C21: DERECHO | D21: ED CÍVICA | G21: 2 | I21: ROMÁN LORENA
A22: 4to IM | C22: DERECHO | D22: ED CÍVICA | G22: 2 | I22: RAMÍREZ BLANCA
A23: 4to LT | C23: DERECHO | D23: ED CÍVICA | G23: 2 | I23: RAMÍREZ BLANCA
E25: =+SUM(E12:E23) -> 4 | G25: =+SUM(G12:G23) -> 32 | I25: =+SUM(E25:G25) -> 36
D26: CARGA 2024 | E26: 4 | G26: 32 | I26: 36
I28: RESUMEN | J28: 1° Sem | L28: 2° Sem
I29: CELIS ALEJANDRO | J29: =SUMIF($I$11:$I$23,$I29,E$11:E$23) -> 0 | L29: =SUMIF($I$11:$I$23,$I29,G$11:G$23) -> 4
I30: MELLA HERNÁN | J30: =SUMIF($I$11:$I$23,$I30,E$11:E$23) -> 0 | L30: =SUMIF($I$11:$I$23,$I30,G$11:G$23) -> 4
I31: RAMÍREZ BLANCA | J31: =SUMIF($I$11:$I$23,$I31,E$11:E$23) -> 0 | L31: =SUMIF($I$11:$I$23,$I31,G$11:G$23) -> 4
I32: ROMÁN LORENA | J32: =SUMIF($I$11:$I$23,$I32,E$11:E$23) -> 0 | L32: =SUMIF($I$11:$I$23,$I32,G$11:G$23) -> 6
I33: SILVA DIEGO | J33: =SUMIF($I$11:$I$23,$I33,E$11:E$23) -> 4 | L33: =SUMIF($I$11:$I$23,$I33,G$11:G$23) -> 12
I34: SIMS EDUARDO | J34: =SUMIF($I$11:$I$23,$I34,E$11:E$23) -> 0 | L34: =SUMIF($I$11:$I$23,$I34,G$11:G$23) -> 2
L36: =SUM(J29:L34) -> 36

Sheet FILOSOF
A1: Escuela Naval "A. Prat"
A2: Departamento Educación
A3: Unidad de Coordinación Académica
A5: HORAS DE CLASES POR CURSO - PROFESOR
A6: AÑO ACADÉMICO 2025
A7: CÁTEDRA : | D7: FILOSOFÍA, ÉTICA Y MORAL
D8: HORAS SEMANALES
A9: CURSO | C9: CÁTEDRA | D9: ASIGNATURAS | E9: 1er SEM. | G9: 2º SEM. | I9: PROFESOR
E10: SIST. | F10: LAB | G10: SIST. | H10: LAB
A12: 1ro | B12: A | C12: =+$D$7 -> FILOSOFÍA, ÉTICA Y MORAL | D12: FILOSOFÍA, ÉTICA Y MORAL (PHI) .1 | E12: 4 | I12: MAYNE-NICHOLLS MICHAEL
A13: 1ro | B13: A | C13: =+$D$7 -> FILOSOFÍA, ÉTICA Y MORAL | D13: FILOSOFÍA, ÉTICA Y MORAL (PHI) .2 | G13: 4 | I13: MAYNE-NICHOLLS MICHAEL
A14: 1ro | B14: B | C14: =+$D$7 -> FILOSOFÍA, ÉTICA Y MORAL | D14: FILOSOFÍA, ÉTICA Y MORAL (PHI) .1 | E14: 4 | I14: MAYNE-NICHOLLS MICHAEL
A15: 1ro | B15: B | C15: =+$D$7 -> FILOSOFÍA, ÉTICA Y MORAL | D15: FILOSOFÍA, ÉTICA Y MORAL (PHI) .2 | G15: 4 | I15: MAYNE-NICHOLLS MICHAEL
A16: 1ro | B16: C | C16: =+$D$7 -> FILOSOFÍA, ÉTICA Y MORAL | D16: FILOSOFÍA, ÉTICA Y MORAL (PHI) .1 | E16: 4 | I16: MAYNE-NICHOLLS MICHAEL
A17: 1ro | B17: C | C17: =+$D$7 -> FILOSOFÍA, ÉTICA Y MORAL | D17: FILOSOFÍA, ÉTICA Y MORAL (PHI) .2 | G17: 4 | I17: MAYNE-NICHOLLS MICHAEL
A18: 1ro | B18: D | C18: =+$D$7 -> FILOSOFÍA, ÉTICA Y MORAL | D18: FILOSOFÍA, ÉTICA Y MORAL (PHI) .1 | E18: 4 | I18: MAYNE-NICHOLLS MICHAEL
A19: 1ro | B19: D | C19: =+$D$7 -> FILOSOFÍA, ÉTICA Y MORAL | D19: FILOSOFÍA, ÉTICA Y MORAL (PHI) .2 | G19: 4 | I19: MAYNE-NICHOLLS MICHAEL
A20: 1ro | B20: K | C20: =+$D$7 -> FILOSOFÍA, ÉTICA Y MORAL | D20: FILOSOFÍA, ÉTICA Y MORAL (PHI) .1 | E20: 4 | I20: MAYNE-NICHOLLS MICHAEL
A21: 1ro | B21: K | C21: =+$D$7 -> FILOSOFÍA, ÉTICA Y MORAL | D21: FILOSOFÍA, ÉTICA Y MORAL (PHI) .2 | G21: 4 | I21: MAYNE-NICHOLLS MICHAEL
A22: 1ro | B22: H | C22: =+$D$7 -> FILOSOFÍA, ÉTICA Y MORAL | D22: FILOSOFÍA, ÉTICA Y MORAL (PHI) .1 | E22: 4 | I22: MAYNE-NICHOLLS MICHAEL
A23: 1ro | B23: H | C23: =+$D$7 -> FILOSOFÍA, ÉTICA Y MORAL | D23: FILOSOFÍA, ÉTICA Y MORAL (PHI) .2 | G23: 4 | I23: MAYNE-NICHOLLS MICHAEL
A24: 1ro | B24: E | C24: =+$D$7 -> FILOSOFÍA, ÉTICA Y MORAL | D24: FILOSOFÍA, ÉTICA Y MORAL (PHI) .1 | E24: 4 | I24: MAYNE-NICHOLLS MICHAEL
A25: 1ro | B25: E | C25: =+$D$7 -> FILOSOFÍA, ÉTICA Y MORAL | D25: FILOSOFÍA, ÉTICA Y MORAL (PHI) .2 | G25: 4 | I25: MAYNE-NICHOLLS MICHAEL
D27: CARGA 2025 | E27: =+SUM(E12:E25) -> 28 | G27: =+SUM(G12:G25) -> 28 | I27: =+G27+E27 -> 56
D28: CARGA 2024 | E28: 26 | G28: 26 | I28: =+G28+E28 -> 52
I30: RESUMEN | J30: 1° Sem | L30: 2° Sem
I31: MAYNE-NICHOLLS MICHAEL | J31: =SUMIF($I$11:$I$25,$I31,E$11:E$25) -> 28 | L31: =SUMIF($I$11:$I$25,$I31,G$11:G$25) -> 28
L35: =SUM(J31:L33) -> 56

Sheet PSICOL 
A1: Escuela Naval "A. Prat"
A2: Departamento Educación
A3: Unidad de Coordinación Académica
A5: HORAS DE CLASES POR CURSO - PROFESOR
A6: AÑO ACADÉMICO 2025
A7: CÁTEDRA : | D7: PSICOLOGÍA
D8: HORAS SEMANALES
A9: CURSO | C9: CÁTEDRA | D9: ASIGNATURAS | E9: 1er SEM. | G9: 2º SEM. | I9: PROFESOR
E10: SIST. | F10: LAB | G10: SIST. | H10: LAB
K11: 0 | L11: 0 | M11: 0 | N11: 0
A12: 2do EJ | B12: A | C12: PSICOLOGÍA | D12: PSICOLOGÍA APLICADA AL MANDO A | E12: 2 | G12: 2 | I12: LUCERO ANDRÉS
A13: 2do EJ | B13: B | C13: PSICOLOGÍA | D13: PSICOLOGÍA APLICADA AL MANDO | E13: 2 | G13: 2 | I13: LUCERO ANDRÉS
A14: 2do EJ | B14: C | C14: PSICOLOGÍA | D14: PSICOLOGÍA APLICADA AL MANDO | E14: 2 | G14: 2 | I14: LUCERO ANDRÉS
A15: 2do EJ | B15: D | C15: PSICOLOGÍA | D15: PSICOLOGÍA APLICADA AL MANDO | E15: 2 | G15: 2 | I15: LUCERO ANDRÉS
A16: 2do EJ | B16: E | C16: PSICOLOGÍA | D16: PSICOLOGÍA APLICADA AL MANDO | G16: 2 | I16: LUCERO ANDRÉS | J16: 2E
A17: 2do IM Mod | C17: PSICOLOGÍA | D17: PSICOLOGÍA APLICADA AL MANDO IM | E17: 6 | I17: LUCERO ANDRÉS
A18: 2do AB | C18: PSICOLOGÍA | D18: PSICOLOGÍA APLICADA AL MANDO | E18: 2 | G18: 2 | I18: LUCERO ANDRÉS
A19: 2do LT | C19: PSICOLOGÍA | D19: PSICOLOGÍA APLICADA AL MANDO | G19: 4 | I19: LUCERO ANDRÉS
D21: CARGA 2025 | E21: =+SUM(E12:E19) -> 16 | G21: =+SUM(G12:G19) -> 16 | I21: =+SUM(E21:G21) -> 32
D22: CARGA 2024 | E22: 18 | G22: 14 | I22: =+SUM(E22:G22) -> 32
I24: RESUMEN | J24: 1° Sem | L24: 2° Sem
I25: LUCERO ANDRÉS | J25: =SUMIF($I$11:$I$19,$I25,E$11:E$19) -> 16 | L25: =SUMIF($I$11:$I$19,$I25,G$11:G$19) -> 16
J26: =SUMIF($I$11:$N$19,$I26,K$11:K$19) -> 0 | L26: =SUMIF($I$11:$N$19,$I26,M$11:M$19) -> 0
L28: =SUM(J25:L26) -> 32

Sheet MANDO
A1: Escuela Naval "A. Prat"
A2: Departamento Educación
A3: Unidad de Coordinación Académica
A5: HORAS DE CLASES POR CURSO - PROFESOR
A6: AÑO ACADÉMICO 2025
A7: CÁTEDRA : | D7: MANDO Y LIDERAZGO
D8: HORAS SEMANALES
A9: CURSO | C9: CÁTEDRA | D9: ASIGNATURAS | E9: 1er SEM. | G9: 2º SEM. | I9: PROFESOR
E10: SIST. | F10: LAB | G10: SIST. | H10: LAB
A11: 1ro | B11: A | C11: MANDO Y LIDERAZGO | D11: FUNDAMENTOS NAVALES A .1 | E11: 2 | I11: OFICIAL DE DIVISIÓN | J11: T1 SANCHEZ
A12: 1ro | B12: A | C12: MANDO Y LIDERAZGO | D12: FUNDAMENTOS NAVALES A .2 | G12: 2 | I12: MALDONADO GONZALO
A13: 1ro | B13: B | C13: MANDO Y LIDERAZGO | D13: FUNDAMENTOS NAVALES .1 | E13: 2 | I13: MALDONADO GONZALO
A14: 1ro | B14: B | C14: MANDO Y LIDERAZGO | D14: FUNDAMENTOS NAVALES .2 | G14: 2 | I14: OFICIAL DE DIVISIÓN | J14: T1 SANCHEZ
A15: 1ro | B15: C | C15: MANDO Y LIDERAZGO | D15: FUNDAMENTOS NAVALES .1 | E15: 2 | I15: OFICIAL DE DIVISIÓN | J15: T1 CASAS-CORDERO
A16: 1ro | B16: C | C16: MANDO Y LIDERAZGO | D16: FUNDAMENTOS NAVALES .2 | G16: 2 | I16: MALDONADO GONZALO
A17: 1ro | B17: D | C17: MANDO Y LIDERAZGO | D17: FUNDAMENTOS NAVALES .1 | E17: 2 | I17: MALDONADO GONZALO
A18: 1ro | B18: D | C18: MANDO Y LIDERAZGO | D18: FUNDAMENTOS NAVALES .2 | G18: 2 | I18: OFICIAL DE DIVISIÓN | J18: T1 SILVA
A19: 1ro | B19: E | C19: MANDO Y LIDERAZGO | D19: FUNDAMENTOS NAVALES .1 | E19: 2 | I19: OFICIAL DE DIVISIÓN | J19: T1 SILVA
A20: 1ro | B20: E | C20: MANDO Y LIDERAZGO | D20: FUNDAMENTOS NAVALES .2 | G20: 2 | I20: MALDONADO GONZALO
A21: 1ro | B21: H | C21: MANDO Y LIDERAZGO | D21: FUNDAMENTOS NAVALES .1 | E21: 2 | I21: MALDONADO GONZALO
A22: 1ro | B22: H | C22: MANDO Y LIDERAZGO | D22: FUNDAMENTOS NAVALES .2 | G22: 2 | I22: OFICIAL DE DIVISIÓN
A23: 1ro | B23: K | C23: MANDO Y LIDERAZGO | D23: FUNDAMENTOS NAVALES .1 | E23: 2 | I23: MALDONADO GONZALO
A24: 1ro | B24: K | C24: MANDO Y LIDERAZGO | D24: FUNDAMENTOS NAVALES .2 | G24: 2 | I24: OFICIAL DE DIVISIÓN | J24: T1 CASAS-CORDERO
A25: 3ro Ej | B25: A | C25: MANDO Y LIDERAZGO | D25: MANDO Y LIDERAZGO I .1 | E25: 4 | I25: KEITEL JORGE
A26: 3ro Ej | B26: A | C26: MANDO Y LIDERAZGO | D26: MANDO Y LIDERAZGO I .2 | G26: 4 | I26: SIMS EDUARDO
A27: 3ro Ej | B27: B | C27: MANDO Y LIDERAZGO | D27: MANDO Y LIDERAZGO I .1 | E27: 4 | I27: KEITEL JORGE
A28: 3ro Ej | B28: B | C28: MANDO Y LIDERAZGO | D28: MANDO Y LIDERAZGO I .2 | G28: 4 | I28: SIMS EDUARDO
A29: 3ro Ej | B29: C | C29: MANDO Y LIDERAZGO | D29: MANDO Y LIDERAZGO I .1 | E29: 4 | I29: SIMS EDUARDO
A30: 3ro Ej | B30: C | C30: MANDO Y LIDERAZGO | D30: MANDO Y LIDERAZGO I .2 | G30: 4 | I30: KEITEL JORGE | J30: SIMS
A31: 3ro Ej | B31: D | C31: MANDO Y LIDERAZGO | D31: MANDO Y LIDERAZGO I .1 | E31: 4 | I31: SIMS EDUARDO
A32: 3ro Ej | B32: D | C32: MANDO Y LIDERAZGO | D32: MANDO Y LIDERAZGO I .2 | G32: 4 | I32: KEITEL JORGE | J32: SIMS AD-HONOREM
A33: 3ro AB | C33: MANDO Y LIDERAZGO | D33: MANDO Y LIDERAZGO I .1 | E33: 4 | I33: SIMS EDUARDO
A34: 3ro AB | C34: MANDO Y LIDERAZGO | D34: MANDO Y LIDERAZGO I .2 | G34: 4 | I34: SIMS EDUARDO
A35: 3ro IM | C35: MANDO Y LIDERAZGO | D35: MANDO Y LIDERAZGO I .1 | E35: 4 | I35: KEITEL JORGE
A36: 3ro IM | C36: MANDO Y LIDERAZGO | D36: MANDO Y LIDERAZGO I .2 | G36: 4 | I36: KEITEL JORGE | J36: SIMS AD-HONOREM
A37: 3ro LT | C37: MANDO Y LIDERAZGO | D37: MANDO Y LIDERAZGO I .1 | E37: 4 | I37: KEITEL JORGE
A38: 3ro LT | C38: MANDO Y LIDERAZGO | D38: MANDO Y LIDERAZGO I .2 | G38: 4 | I38: KEITEL JORGE | J38: SIMS AD-HONOREM
A39: 4to Ej | B39: A | C39: MANDO Y LIDERAZGO | D39: MANDO Y LIDERAZGO II | G39: 2 | I39: CASTRO
A40: 4to Ej | B40: B | C40: MANDO Y LIDERAZGO | D40: MANDO Y LIDERAZGO II | G40: 2 | I40: UGARTE
A41: 4to Ej | B41: C | C41: MANDO Y LIDERAZGO | D41: MANDO Y LIDERAZGO II | G41: 2 | I41: SIMS EDUARDO | J41: CF HUIDOBRO | L41: T1 STOCK
...

Sheet MATEM 
A1: Escuela Naval "A. Prat"
A2: Departamento Educación
A3: Unidad de Coordinación Académica
A5: HORAS DE CLASES POR CURSO - PROFESOR
A6: AÑO ACADÉMICO 2025
A7: CÁTEDRA : | D7: MATEMÁTICAS
D8: HORAS SEMANALES
A9: CURSO | C9: CÁTEDRA | D9: ASIGNATURAS | E9: 1er SEM. | G9: 2º SEM. | I9: PROFESOR
E10: SIST. | F10: LAB | G10: SIST. | H10: LAB
A12: 1ro | B12: A | C12: MATEMÁTICAS | D12: MATEMÁTICAS I .1ge | E12: 4 | I12: LEIVA YANINA
A13: 1ro | B13: A | C13: MATEMÁTICAS | D13: MATEMÁTICAS I .2ge | G13: 4 | I13: LEIVA YANINA
A14: 1ro | B14: A | C14: MATEMÁTICAS | D14: MATEMÁTICAS I .1al | E14: 4 | I14: BAQUEDANO SOLEDAD
A15: 1ro | B15: A | C15: MATEMÁTICAS | D15: MATEMÁTICAS I .2al | G15: 4 | I15: BAQUEDANO SOLEDAD
A16: 1ro | B16: B | C16: MATEMÁTICAS | D16: MATEMÁTICAS I .1ge | E16: 4 | I16: BARRERA CLAUDIA
A17: 1ro | B17: B | C17: MATEMÁTICAS | D17: MATEMÁTICAS I .2ge | G17: 4 | I17: BARRERA CLAUDIA
A18: 1ro | B18: B | C18: MATEMÁTICAS | D18: MATEMÁTICAS I .1al | E18: 4 | I18: LEIVA YANINA
A19: 1ro | B19: B | C19: MATEMÁTICAS | D19: MATEMÁTICAS I .2al | G19: 4 | I19: LEIVA YANINA
A20: 1ro | B20: C | C20: MATEMÁTICAS | D20: MATEMÁTICAS I .1al | E20: 4 | I20: HARDY CATHERINE
A21: 1ro | B21: C | C21: MATEMÁTICAS | D21: MATEMÁTICAS I .2al | G21: 4 | I21: HARDY CATHERINE
A22: 1ro | B22: C | C22: MATEMÁTICAS | D22: MATEMÁTICAS I .1ge | E22: 4 | I22: DE LA BARRERA FRANCISCO
A23: 1ro | B23: C | C23: MATEMÁTICAS | D23: MATEMÁTICAS I .2ge | G23: 4 | I23: DE LA BARRERA FRANCISCO
A24: 1ro | B24: D | C24: MATEMÁTICAS | D24: MATEMÁTICAS I .1al | E24: 4 | I24: RAUCH ALFRED
A25: 1ro | B25: D | C25: MATEMÁTICAS | D25: MATEMÁTICAS I .2al | G25: 4 | I25: RAUCH ALFRED
A26: 1ro | B26: D | C26: MATEMÁTICAS | D26: MATEMÁTICAS I .1ge | E26: 4 | I26: BARRERA CLAUDIA
A27: 1ro | B27: D | C27: MATEMÁTICAS | D27: MATEMÁTICAS I .2ge | G27: 4 | I27: BARRERA CLAUDIA
A28: 1ro | B28: E | C28: MATEMÁTICAS | D28: MATEMÁTICAS I .1ge | E28: 4 | I28: DE LA BARRERA FRANCISCO
A29: 1ro | B29: E | C29: MATEMÁTICAS | D29: MATEMÁTICAS I .2ge | G29: 4 | I29: DE LA BARRERA FRANCISCO
A30: 1ro | B30: E | C30: MATEMÁTICAS | D30: MATEMÁTICAS I .1al | E30: 4 | I30: RAUCH ALFRED
A31: 1ro | B31: E | C31: MATEMÁTICAS | D31: MATEMÁTICAS I .2al | G31: 4 | I31: RAUCH ALFRED
A32: 1ro | B32: H | C32: MATEMÁTICAS | D32: MATEMÁTICAS I .1ge | E32: 4 | I32: DE LA BARRERA FRANCISCO
A33: 1ro | B33: H | C33: MATEMÁTICAS | D33: MATEMÁTICAS I .2ge | G33: 4 | I33: DE LA BARRERA FRANCISCO
A34: 1ro | B34: H | C34: MATEMÁTICAS | D34: MATEMÁTICAS I .1al | E34: 4 | I34: HARDY CATHERINE
A35: 1ro | B35: H | C35: MATEMÁTICAS | D35: MATEMÁTICAS I .2al | G35: 4 | I35: HARDY CATHERINE
A36: 1ro | B36: K | C36: MATEMÁTICAS | D36: MATEMÁTICAS I .1ge | E36: 4 | I36: DE LA BARRERA FRANCISCO
A37: 1ro | B37: K | C37: MATEMÁTICAS | D37: MATEMÁTICAS I .2ge | G37: 4 | I37: HARDY CATHERINE
A38: 1ro | B38: K | C38: MATEMÁTICAS | D38: MATEMÁTICAS I .1al | E38: 4 | I38: RAUCH ALFRED
A39: 1ro | B39: K | C39: MATEMÁTICAS | D39: MATEMÁTICAS I .2al | G39: 4 | I39: RAUCH ALFRED
A40: 2do EJ | B40: A | C40: MATEMÁTICAS | D40: MATEMÁTICAS II .1 | E40: 6 | I40: BAQUEDANO SOLEDAD
A41: 2do EJ | B41: A | C41: MATEMÁTICAS | D41: MATEMÁTICAS II .2 | G41: 6 | I41: BAQUEDANO SOLEDAD
A42: 2do EJ | B42: B | C42: MATEMÁTICAS | D42: MATEMÁTICAS II .1 | E42: 6 | I42: BARRERA CLAUDIA
...

Sheet nnnnnnnnn
A1: Escuela Naval "A. Prat"
A2: Departamento Educación
A3: Unidad de Coordinación Académica
A5: HORAS DE CLASES POR CURSO - PROFESOR
A6: AÑO ACADÉMICO 2025
A7: CÁTEDRA : | D7: MATEMÁTICAS
D8: HORAS SEMANALES
A9: CURSO | C9: CÁTEDRA | D9: ASIGNATURAS | E9: 1er SEM. | G9: 2º SEM. | I9: PROFESOR
E10: SIST. | F10: LAB | G10: SIST. | H10: LAB
A12: 1ro | B12: A | C12: MATEMÁTICAS | D12: MATEMÁTICAS I .1ge | E12: 4 | I12: LEIVA YANINA
