Workbook

Sheet Maestro
A1: Origen invitación | B1: Tribuna | C1: N° | D1: Grado | E1: Vocativo | F1: Apellido 1 | G1: Apellido 2 | H1: Nombres | I1: Cargo | J1: asistencia invitado | K1: Señora | L1: asistencia acompañante | M1: REPRESENTANTE | N1: VINCULOS
A2: OPA | B2: VIP | C2: 1 | D2: Su Excelencia | E2: Señor | F2: Kast | G2: Rist | H2: José Antonio | I2: Presidente de la República | J2: SI | K2: ADRIASOLA DE KAST, MARÍA PÍA | L2: SI
A3: OPA | B3: VIP | C3: 2 | D3: Ministro | E3: Señor | F3: Barros | G3: Tocornal | H3: Fernando | I3: Ministro de Defensa Nacional | J3: SI | K3: VIAL ECHEVERRÍA, NATALIA | L3: SI
A4: OPA | B4: VIP | C4: 3 | D4: Almirante | E4: Señor | F4: Cabrera | G4: Salazar | H4: Fernando | I4: Comandante en Jefe de la Armada | J4: SI | K4: MERY DE CABRERA, ROXANA | L4: SI
A5: OPA | B5: VIP | C5: 4 | D5: Su Excelencia | E5: Señor | F5: Bukele | G5: Ortez | H5: Nayib | I5: Presidente de la República de El Salvador | J5: NO | K5: RODRÍGUEZ DE BUKELE, GABRIELA | L5: NO
A6: OPA | B6: VIP | C6: 5 | D6: Honorable Senadora | E6: Señora | F6: Nuñez | G6: Urrutia | H6: Paulina | I6: Presidenta del Senado | J6: SI | K6: MONCKEBERG BRUNER, CRISTIÁN | L6: SI
A7: OPA | B7: VIP | C7: 6 | D7: Excelentísima | E7: Señora | F7: Chevesich (Quevesich) | G7: Ruíz | H7: Gloria Ana | I7: Presidenta Excelentísima Corte Suprema de Justicia | J7: SI | K7: GAJARDO (PAREJA), CARLOS | L7: SI
A8: OPA | B8: VIP | C8: 7 | D8: Honorable Diputado | E8: Señor | F8: Alessandri | G8: Vergara | H8: Jorge | I8: Presidenta de la Cámara de Diputadas y Diputados | J8: SI | K8: GARCÍA DE LA HUERTA DE ALESSANDRI, TERESITA | L8: NO | N8: VER ASISTEN
A9: OPA | B9: VIP | C9: 8 | D9: Arzobispo | E9: Monseñor | F9: Chomali | G9: Garib | H9: Fernando | I9: Arzobispo de Santiago | J9: SI | L9: NO
A10: OPA | B10: VIP | C10: 9 | D10: Obispo | E10: Señor | F10: Cancino | G10: del Valle | H10: Héctor | I10: Alto Representante de las Iglesias Evangélicas | J10: SI | L10: NO
A11: OPA | B11: VIP | C11: 10 | E11: Señora | F11: Marzi | G11: Muñoz | H11: Daniela | I11: Presidente del Tribunal Constitucional | J11: SI | L11: SI
A12: OPA | B12: VIP | C12: 11 | E12: Señora | F12: Pérez | G12: Gutiérrez | H12: Dorothy | I12: Contralor General de la República | J12: SI | K12: LÓPEZ PAREDES, FABIÁN | L12: SI
A13: OPA | B13: VIP | C13: 12 | E13: Señor | F13: Valencia Garrido Bedwell, Roberto | G13: Vásquez | H13: Ángel | I13: Fiscal Nacional del Ministerio Público | J13: SI | K13: TALADRIZ DE VALENCIA, MARÍA JOSÉ | L13: NO | M13: Garrido Bedwell, Roberto
A14: OPA | B14: VIP | C14: 13 | E14: Señor | F14: Prado | G14: Puga | H14: Arturo | I14: Presidente del Tribunal Calificador de Elecciones | J14: NO | K14: CASADO | L14: NO
A15: OPA | B15: VIP | C15: 14 | E15: Señor | F15: Figueroa | G15: Rubio | H15: Pamela | I15: Presidenta del Consejo Directivo del Servicio Electoral | K15: JORDÁN, TOMÁS
A16: OPA | B16: VIP | C16: 15 | D16: Ministro Vicealmirante | E16: Señor | F16: Merino | G16: Monroy | H16: René | I16: Ministro de Defensa de El Salvador | J16: NO | L16: NO
A17: OPA | B17: VIP | C17: 16 | D17: General de Ejército | E17: Señor | F17: Varela | G17: Sabando | H17: Pedro | I17: Comandante en Jefe del Ejército | J17: SI | K17: THIBAUT DE VARELA, PAOLA | L17: SI
A18: OPA | B18: VIP | C18: 17 | D18: General del Aire | E18: Señor | F18: Rodríguez | G18: González | H18: Hugo | I18: Comandante en Jefe de la Fuerza Aérea | J18: SI | K18: ARAUJO DE RODRÍGUEZ, LOUISE MARÍA | L18: SI
A19: OPA | B19: VIP | C19: 18 | D19: General Director | E19: Señor | F19: Araya | G19: Zapata | H19: Marcelo | I19: General Director de Carabineros | J19: SI | K19: MORALES DE ARAYA, JANET | L19: SI | N19: VER ASISTEN CON ACOMPANANTE
A20: OPA | B20: VIP | C20: 19 | D20: Director General | E20: Señor | F20: Cerna | G20: Lozano | H20: Eduardo | I20: Director General Policía de Investigacionesss | J20: SI | K20: CALDERA FIGUEROA, LEILA | L20: SI
A21: OPA | B21: VIP | C21: 20 | D21: VA | E21: Señor | F21: Romay | H21: Juan Carlos | I21: Jefe del Estado Mayor General de la Armada de la Argentina | J21: SI | K21: BEATRIZ TRIPLE, CC. SRA. LILIANA | L21: SI
A22: OPA | B22: VIP | C22: 21 | D22: Almirante | E22: Señor | F22: Rozo | G22: Obregón | H22: Juan Ricardo | I22: Comandante de la Armada de Colombia | J22: SI | K22: ANDREA RIVAS, MARÍA | L22: SI
A23: OPA | B23: VIP | C23: 22 | D23: General de Aviación | E23: Señor | F23: Romanini | G23: Gutiérrez | H23: Leonardo | I23: Jefe del Estado Mayor Conjunto de las Fuerzas Armadas | J23: SI | K23: JOFRÉ DE ROMANINI, VERÓNICA
A24: OPA | B24: ROJA | C24: 1 | D24: Ministro | E24: Señor | F24: Alvarado | G24: Andrade | H24: Claudio | I24: Ministro del Interior | J24: NO | K24: ANDRADE DE ALVARADO, ÁNGELA | L24: NO
A25: OPA | B25: ROJA | C25: 2 | D25: Ministro | E25: Señor | F25: Pérez | G25: Mackenna | H25: José Francisco | I25: Ministro de Relaciones Exteriores | J25: SI | K25: OJEDA DE PÉREZ, MARÍA TERESA | L25: SI
A26: OPA | B26: ROJA | C26: 3 | D26: Ministro | E26: Señor | F26: Quiroz | G26: Castro | H26: Jorge | I26: Ministro de Hacienda | K26: RÍOS DE QUIROZ, MÓNICA
A27: OPA | B27: ROJA | C27: 4 | D27: Ministra | E27: Señora | F27: Steinert | G27: Herrera | H27: María Trinidad | I27: Ministra de Seguridad Pública | J27: SI | K27: JEFE GABINETE | L27: SI
A28: OPA | B28: ROJA | C28: 5 | D28: Ministro | E28: Señor | F28: García | G28: Ruminot | H28: José | I28: Ministro Secretario General de la Presidencia | J28: NO | K28: ESCOBAR DE GARCÍA, DORALISA | L28: NO
A29: OPA | B29: ROJA | C29: 6 | D29: Ministra | E29: Señora | F29: Sedini | G29: Viancos | H29: Mara | I29: Ministra Secretaria General de Gobierno | J29: SI | K29: KRAUSS, MARTÍN | L29: SI
A30: OPA | B30: ROJA | C30: 7 | D30: Ministro | E30: Señor | F30: Mas | G30: Valdés | H30: Daniel | I30: Ministro de Economía y Minería | J30: NO | K30: PIZARRO DE MAS, MACARENA | L30: NO
A31: OPA | B31: ROJA | C31: 8 | D31: Ministra | E31: Señora | F31: Wulf | G31: Le May | H31: María Jesús | I31: Ministra de Desarrollo Social y Familia | J31: NO | K31: CASADA | L31: NO
A32: OPA | B32: ROJA | C32: 9 | D32: Ministro | E32: Señor | F32: Arzola | G32: González | H32: María Paz | I32: Ministro de Educación | J32: SI | K32: CASADA | L32: NO
A33: OPA | B33: ROJA | C33: 10 | D33: Ministro | E33: Señor | F33: Rabat | G33: Celis | H33: Fernando | I33: Ministro de Justicia y Derechos Humanos | J33: SI | K33: HIJO | L33: SI
A34: OPA | B34: ROJA | C34: 11 | D34: Ministro | E34: Señor | F34: Rau | G34: Binder | H34: Tomás | I34: Ministro del Trabajo y Previsión Social | J34: SI | L34: NO
A35: OPA | B35: ROJA | C35: 12 | D35: Ministro | E35: Señor | F35: Arrau | G35: García-Huidobro | H35: Martin | I35: Ministra de Obras Públicas | J35: NO | K35: IZQUIERDO DE ARRAU, LUZ MARÍA | L35: NO
A36: OPA | B36: ROJA | C36: 13 | D36: Ministra | E36: Señora | F36: Chomalí | G36: Garib | H36: May | I36: Ministra de Salud | J36: SI | K36: ATAL, FERNANDO
A37: OPA | B37: ROJA | C37: 14 | D37: Ministro | E37: Señor | F37: Poduje | G37: Capdeville | H37: Iván | I37: Ministro de la Vivienda y Urbanismo | K37: IRIBARNE DE PODUJE, CAROLINE
A38: OPA | B38: ROJA | C38: 15 | D38: Ministro | E38: Señor | F38: Campos | G38: Quiroga | H38: Jaime | I38: Ministra de Agricultura | J38: NO | K38: ABAD DE CAMPOS, YASMÍN | L38: NO
A39: OPA | B39: ROJA | C39: 16 | D39: Ministro | E39: Señor | F39: De Grange | G39: Concha | H39: Louis | I39: Ministro de Transportes y Telecomunicacionesss | J39: SI | L39: NO
A40: OPA | B40: ROJA | C40: 17 | D40: Ministra | E40: Señora | F40: Parot | G40: Donoso | H40: Catalina | I40: Ministro de Bienes Nacionales | J40: SI | K40: TORO HARNECKER, GUILLERMO | L40: SI
A41: OPA | B41: ROJA | C41: 18 | D41: Ministra | E41: Señora | F41: Rincón | G41: González | H41: Ximena | I41: Ministro de Energía | K41: DIVORCIADA
A42: OPA | B42: ROJA | C42: 19 | D42: Ministra | E42: Señora | F42: Toledo | G42: Echegaray | H42: Francisca | I42: Ministra del Medio Ambiente | K42: CASADA
A43: OPA | B43: ROJA | C43: 20 | D43: Ministra | E43: Señora | F43: Duco | G43: Soler | H43: Natalia | I43: Ministra del Deporte | J43: SI
A44: OPA | B44: ROJA | C44: 21 | D44: Ministra | E44: Señora | F44: Marín | G44: Morales | H44: Judith | I44: Ministra de la Mujer y Equidad de Género | K44: PÉREZ, ESTEBAN
A45: OPA | B45: ROJA | C45: 22 | D45: Ministro | E45: Señor | F45: Undurraga | G45: Gazitúa | H45: Francisco | I45: Ministro de la Cultura, las Artes y el Patrimonio | J45: SI | K45: DRESSEL DE UNDURRAGA, PAULINA | L45: NO
A46: OPA | B46: ROJA | C46: 23 | D46: Ministra | E46: Señora | F46: Lincolao | G46: Pilquian | H46: Ximena | I46: Ministro Ciencia, Tecnología, Conocimiento e Innovación | K46: CASADA
A47: OPA | B47: ROJA | C47: 24 | D47: Excelentísima | E47: Señora | F47: Fries-Gaier | H47: Susanne | I47: Embajadora de Alemania en Chile | J47: SI | K47: SOLOS | L47: NO
A48: OPA | B48: ROJA | C48: 25 | D48: Excelentísimo | E48: Señor | F48: Faurie Consul de Argentina | H48: Jorge Marcelo | I48: Embajador de Argentina en Chile | J48: NO | K48: SOLOS | L48: NO | M48: Consul de Argentina
A49: OPA | B49: ROJA | C49: 26 | D49: Excelentísimo | E49: Señor | F49: Barrit | G49: Martin | H49: Andrew James | I49: Embajador de Australia en Chile | J49: SI | K49: SOLOS | L49: NO
A50: OPA | B50: ROJA | C50: 27 | D50: Excelentísimo | E50: Señor | F50: Senfter | H50: Werner | I50: Embajador de Austria en Chile | J50: NO | K50: SOLOS | L50: NO
A51: OPA | B51: ROJA | C51: 28 | D51: Excelentísimo | E51: Señor | F51: De Lannoy Leclerq, Martine (Consejoro) | H51: Cristian | I51: Embajador de Bélgica en Chile | J51: SI | K51: SOLOS | L51: NO | M51: Leclerq, Martine (Consejoro)
A52: OPA | B52: ROJA | C52: 29 | D52: Excelentísimo | E52: Señor | F52: Soares | G52: Pacheco | H52: Paulo | I52: Embajador de Brasil en Chile | J52: SI | K52: SOLOS | L52: NO
A53: OPA | B53: ROJA | C53: 30 | D53: Excelentísima | E53: Señora | F53: Guay | H53: Karolina Linda | I53: Embajadora de Canadá en Chile | J53: SI | K53: SOLOS | L53: NO
A54: OPA | B54: ROJA | C54: 31 | D54: Excelentísimo | E54: Señor | F54: Guanumen | G54: Parra | H54: Sebastián | I54: Embajador de Colombia en Chile | K54: SOLOS | L54: NO
A55: OPA | B55: ROJA | C55: 32 | D55: Excelentísimo | E55: Señor | F55: Jae Kim | H55: Hak | I55: Embajador de Corea en Chile | J55: SI | K55: SOLOS | L55: NO
A56: OPA | B56: ROJA | C56: 33 | D56: Excelentísima | E56: Señora | F56: Martinec | H56: Mira | I56: Embajadora de Croacia en Chile | J56: NO | K56: SOLOS | L56: NO
A57: OPA | B57: ROJA | C57: 34 | D57: Excelentísimo | E57: Señor | F57: Bramsen | G57: Hahn | H57: Henrik | I57: Embajador de Dinamarca en Chile | J57: NO | K57: SOLOS | L57: NO
A58: OPA | B58: ROJA | C58: 35 | D58: Excelentísima | E58: Señora | F58: Andrade | G58: Abdo | H58: Lotty Farah | I58: Embajadora de Ecuador en Chile | K58: SOLOS | L58: NO
A59: OPA | B59: ROJA | C59: 36 | D59: Excelentísima | E59: Señora | F59: Oroz | G59: Ulibarri | H59: Laura | I59: Embajadora de España en Chile | J59: SI | K59: SOLOS | L59: NO
A60: OPA | B60: ROJA | C60: 37 | D60: Excelentísimo | E60: Señor | F60: Judd | H60: Brandon | I60: Embajador de Estados Unidos de América en Chile | J60: SI | K60: SOLOS | L60: NO
A61: OPA | B61: ROJA | C61: 38 | D61: Excelentísima | E61: Señora | F61: Vinzon-Balatbat | H61: Celeste | I61: Embajadora de Filipinas en Chile | K61: SOLOS | L61: NO
A62: OPA | B62: ROJA | C62: 39 | D62: Excelentísima | E62: Señora | F62: Kotkajarvi Kauttonen, Antti (Primer secretario) | H62: Johanna | I62: Embajadora de Finlandia de Chile | J62: SI | K62: SOLOS | L62: NO | M62: Kauttonen, Antti (Primer secretario)
A63: OPA | B63: ROJA | C63: 40 | D63: Excelentísimo | E63: Señor | F63: Rogeau | H63: Cyrille | I63: Embajador de Francia en Chile | J63: SI | K63: SOLOS | L63: NO
A64: OPA | B64: ROJA | C64: 41 | D64: Excelentísimo | E64: Señor | F64: Piperigkos | H64: Nikolaos | I64: Embajador de Grecia en Chile | J64: SI | K64: SOLOS | L64: NO
A65: OPA | B65: ROJA | C65: 42 | D65: Excelentísima | E65: Señora | F65: Joshi | H65: Abhilasha | I65: Embajadora de la República de la India en Chile | J65: NO | K65: SOLOS | L65: NO
A66: OPA | B66: ROJA | C66: 43 | D66: Excelentísimo | E66: Señor | F66: Lewi | H66: Peleg | I66: Embajador de Israel en Chile | J66: SI | K66: SOLOS | L66: NO
A67: OPA | B67: ROJA | C67: 44 | D67: Honorable Ministro Consejero | E67: Señor | F67: Badrul | G67: Jamal | H67: Agus | I67: Encargado de Asuntos Políticos y Jefe de Cancillería de Indonesia en Chile | K67: SOLOS | L67: NO
A68: OPA | B68: ROJA | C68: 45 | D68: Excelentísimo | E68: Señor | F68: Hatchell | H68: Colum | I68: Embajador de Irlanda en Chile | K68: SOLOS | L68: NO
A69: OPA | B69: ROJA | C69: 46 | D69: Excelentísima | E69: Señora | F69: Biagiotti | H69: Valeria | I69: Embajadora de Italia en Chile | J69: NO | K69: SOLOS | L69: NO
A70: OPA | B70: ROJA | C70: 47 | D70: Excelentísimo | E70: Señor | F70: Kenko | H70: Sone | I70: Embajador de Japón en Chile | J70: SI | K70: SOLOS | L70: NO
A71: OPA | B71: ROJA | C71: 48 | D71: Honorable | E71: Señor | F71: Rasyid Bing Abang Yusop | H71: Abang Abdul | I71: Primer Secretario Encargado de Negocios A.I. de Malasia en Chile | K71: SOLOS | L71: NO
A72: OPA | B72: ROJA | C72: 49 | D72: Excelentísima | E72: Señora | F72: El Ghali | H72: Kenza | I72: Embajadora de Marruecos en Chile | K72: SOLOS | L72: NO
A73: OPA | B73: ROJA | C73: 50 | D73: Excelentísima | E73: Señora | F73: Moreno Mendosa, Carlos Ivan | G73: Rodríguez | H73: Laura Beatriz | I73: Embajadora de México en Chile | J73: SI | K73: SOLOS | L73: NO | M73: Mendosa, Carlos Ivan
A74: OPA | B74: ROJA | C74: 51 | D74: Excelentísimo | E74: Señor | F74: Pollen | G74: Nilsen | H74: Per | I74: Embajador de Noruega en Chile | J74: SI | K74: SOLOS | L74: NO
A75: OPA | B75: ROJA | C75: 52 | D75: Excelentísima | E75: Señora | F75: Rigoli Rouse, Courtny | H75: Daniela | I75: Embajadora de Nueva Zelandia en Chile | J75: SI | K75: SOLOS | L75: NO | M75: Rouse, Courtny
A76: OPA | B76: ROJA | C76: 53 | D76: Excelentísima | E76: Señora | F76: Schaapveld | G76: E/V Merks | H76: Elke | I76: Embajadora de Los Países Bajos en Chile | J76: SI | K76: SOLOS | L76: NO
A77: OPA | B77: ROJA | C77: 54 | D77: Excelentísimo | E77: Señor | F77: Jiménez | G77: Boyd | H77: Enrique | I77: Embajador de Panamá en Chile | J77: SI | K77: SOLOS | L77: NO
A78: OPA | B78: ROJA | C78: 55 | D78: Excelentísimo | E78: Señor | F78: Camino | G78: Cannock | H78: John Peter | I78: Embajador de Perú en Chile | J78: SI | K78: SOLOS | L78: NO
A79: OPA | B79: ROJA | C79: 56 | D79: Excelentísima | E79: Señora | F79: De Oliveira | G79: Bicho | H79: María Helena | I79: Embajador de Portugal en Chile | J79: NO | K79: SOLOS | L79: NO
A80: OPA | B80: ROJA | C80: 57 | D80: Excelentísimo | E80: Señor | F80: Concar Kenedy, Nicholas | H80: David William | I80: Embajador del Reino Unido de Gran Bretaña e Irlanda del Norte en Chile | J80: SI | K80: SOLOS | L80: NO | M80: Kenedy, Nicholas
A81: OPA | B81: ROJA | C81: 58 | D81: Excelentísimo | E81: Señor | F81: Cohen | G81: Sander | H81: Juan Alberto | I81: Embajador de la República Dominicana en Chile | J81: SI | K81: SOLOS | L81: NO
A82: OPA | B82: ROJA | C82: 59 | D82: Excelentísimo | E82: Señor | F82: Qingbao | H82: Niu | I82: Embajador de la República Popular China en Chile | K82: SOLOS | L82: NO
A83: OPA | B83: ROJA | C83: 60 | D83: Excelentísima | E83: Señora | F83: Kotlajic | H83: Mirjana | I83: Embajadora de Serbia en Chile | K83: SOLOS | L83: NO
A84: OPA | B84: ROJA | C84: 61 | D84: Excelentísimo | E84: Señor | F84: Monyemangene | H84: George | I84: Embajador de la República de Sudáfrica en Chile | K84: SOLOS | L84: NO
A85: OPA | B85: ROJA | C85: 62 | D85: Excelentísimo | E85: Señor | F85: Wiklund | H85: Tomas | I85: Embajador del Reino de Suecia en Chile | J85: NO | K85: SOLOS | L85: NO
A86: OPA | B86: ROJA | C86: 63 | D86: Excelentísima | E86: Señora | F86: Ruksakiati | H86: Vimolbajra | I86: Embajadora de Tailandia en Chile | J86: NO | K86: SOLOS | L86: NO
A87: OPA | B87: ROJA | C87: 64 | D87: Excelentísimo | E87: Señor | F87: Ihsan | G87: Kiziltan | H87: Ahmet | I87: Embajador de la República de Türkiye en Chile | J87: SI | K87: SOLOS | L87: NO
A88: OPA | B88: ROJA | C88: 65 | D88: Excelentísima | E88: Señora | F88: Monika | G88: Gintersdorfer | H88: Claudia | I88: Embajadora de la Delegación de la Unión Europea | K88: SOLOS | L88: NO
A89: OPA | B89: ROJA | C89: 66 | D89: Excelentísima | E89: Señora | F89: Rocanova | G89: Rodríguez | H89: Ana Inés | I89: Embajadora de la República Oriental del Uruguay en Chile | J89: SI | K89: SOLOS | L89: NO
A90: OPA | B90: ROJA | C90: 67 | D90: Honorable Senador | E90: Señor | F90: Cariola | G90: Oliva | H90: Karol | I90: Senadora V región Costa | J90: SI | K90: Rementeria, Tomas | L90: SI
A91: OPA | B91: ROJA | C91: 68 | D91: Honorable Senador | E91: Señor | F91: Flores | G91: Oporto | H91: Camila | I91: Senadora V región Cordillera
A92: OPA | B92: ROJA | C92: 69 | D92: Honorable Senador | E92: Señor | F92: Ibáñez | G92: Cotroneo | H92: Diego | I92: Senador V región Costa | J92: SI | L92: NO
A93: OPA | B93: ROJA | C93: 70 | D93: Honorable Senador | E93: Señor | F93: Longton | G93: Herrera | H93: Andrés | I93: Senador V región Cordillera | K93: MARI GUAÑABENS, AGOSTINA
A94: OPA | B94: ROJA | C94: 71 | D94: Honorable Senador | E94: Señor | F94: Squella | G94: Ovalle | H94: Arturo | I94: Senador V región Costa | J94: SI | K94: DE LOS ÁNGELES VIAL DE AQUELLA, MA. | L94: SI
A95: OPA | B95: ROJA | C95: 72 | D95: Honorable Senador | E95: Señor | F95: Huenchumilla | G95: Jaramillo | H95: Francisco | I95: Comisión de Defensa Nacional | J95: NO | K95: SUAREZ DE HUENCHUMILLA, MA. ANTONIETA | L95: NO
A96: OPA | B96: ROJA | C96: 73 | D96: Honorable Senador | E96: Señor | F96: Araya | G96: Guerrero | H96: Pedro | I96: Comisión de Defensa Nacional | J96: NO | L96: NO
A97: OPA | B97: ROJA | C97: 74 | D97: Honorable Senador | E97: Señor | F97: Saavedra | G97: Chandía | H97: Gastón | I97: Comisión de Defensa Nacional | J97: NO | K97: BACHMANN DE SAAVEDRA, PATRICIA | L97: NO
A98: OPA | B98: ROJA | C98: 75 | D98: Honorable Senador | E98: Señor | F98: Vial | G98: Maceratta | H98: Cristián | I98: Comisión de Defensa Nacional | K98: MIRANDA DE VIAL, DANICA
A99: OPA | B99: ROJA | C99: 76 | D99: Honorable Diputada | E99: Señora | F99: Barchiesi | G99: Chávez | H99: Chiara | I99: Diputada Región Valparaíso | J99: SI | K99: CABRERA VARGAS, FELIPE | L99: SI
A100: OPA | B100: ROJA | C100: 77 | D100: Honorable Diputada | E100: Señorita | F100: Bello | G100: Campos | H100: María Francisca | I100: Diputada Región Valparaíso
...

Sheet Control Totales
A1: CONTROL GENERAL DE ASISTENCIA 21 DE MAYO
A4: TOTAL INVITADOS | B4: INVITADOS ASISTEN | C4: INVITADOS NO ASISTEN | D4: INVITADOS PENDIENTES | E4: ACOMPAÑANTES ASISTEN | F4: ACOMPAÑANTES NO ASISTEN | G4: ACOMPAÑANTES PENDIENTES | H4: TOTAL PERSONAS ASISTENTES
A5: =COUNTIF(Maestro!$A:$A,"<>")-1 -> 286 | B5: =COUNTIF(Maestro!$J:$J,"SI") -> 137 | C5: =COUNTIF(Maestro!$J:$J,"NO") -> 39 | D5: =A5-B5-C5 -> 110 | E5: =COUNTIF(Maestro!$L:$L,"SI") -> 56 | F5: =COUNTIF(Maestro!$L:$L,"NO") -> 150 | G5: =A5-E5-F5 -> 80 | H5: =B5+E5 -> 193
A6: DESGLOSE POR ORIGEN DE INVITACIÓN Y TRIBUNA
A7: ORIGEN | B7: TRIBUNA | C7: TOTAL INVITADOS | D7: INVITADO SI | E7: INVITADO NO | F7: INVITADO PENDIENTE | G7: ACOMPAÑANTE SI | H7: ACOMPAÑANTE NO | I7: ACOMPAÑANTE PENDIENTE | J7: TOTAL PERSONAS ASISTENTES
A8: OPA | B8: VIP | C8: =COUNTIFS(Maestro!$A:$A,$A8,Maestro!$B:$B,$B8) -> 22 | D8: =COUNTIFS(Maestro!$A:$A,$A8,Maestro!$B:$B,$B8,Maestro!$J:$J,"SI") -> 18 | E8: =COUNTIFS(Maestro!$A:$A,$A8,Maestro!$B:$B,$B8,Maestro!$J:$J,"NO") -> 3 | F8: =C8-D8-E8 -> 1 | G8: =COUNTIFS(Maestro!$A:$A,$A8,Maestro!$B:$B,$B8,Maestro!$L:$L,"SI") -> 13 | H8: =COUNTIFS(Maestro!$A:$A,$A8,Maestro!$B:$B,$B8,Maestro!$L:$L,"NO") -> 7 | I8: =C8-G8-H8 -> 2 | J8: =D8+G8 -> 31
A9: OPA | B9: ROJA | C9: =COUNTIFS(Maestro!$A:$A,$A9,Maestro!$B:$B,$B9) -> 105 | D9: =COUNTIFS(Maestro!$A:$A,$A9,Maestro!$B:$B,$B9,Maestro!$J:$J,"SI") -> 48 | E9: =COUNTIFS(Maestro!$A:$A,$A9,Maestro!$B:$B,$B9,Maestro!$J:$J,"NO") -> 19 | F9: =C9-D9-E9 -> 38 | G9: =COUNTIFS(Maestro!$A:$A,$A9,Maestro!$B:$B,$B9,Maestro!$L:$L,"SI") -> 13 | H9: =COUNTIFS(Maestro!$A:$A,$A9,Maestro!$B:$B,$B9,Maestro!$L:$L,"NO") -> 62 | I9: =C9-G9-H9 -> 30 | J9: =D9+G9 -> 61
A10: OPA | B10: VERDE | C10: =COUNTIFS(Maestro!$A:$A,$A10,Maestro!$B:$B,$B10) -> 0 | D10: =COUNTIFS(Maestro!$A:$A,$A10,Maestro!$B:$B,$B10,Maestro!$J:$J,"SI") -> 0 | E10: =COUNTIFS(Maestro!$A:$A,$A10,Maestro!$B:$B,$B10,Maestro!$J:$J,"NO") -> 0 | F10: =C10-D10-E10 -> 0 | G10: =COUNTIFS(Maestro!$A:$A,$A10,Maestro!$B:$B,$B10,Maestro!$L:$L,"SI") -> 0 | H10: =COUNTIFS(Maestro!$A:$A,$A10,Maestro!$B:$B,$B10,Maestro!$L:$L,"NO") -> 0 | I10: =C10-G10-H10 -> 0 | J10: =D10+G10 -> 0
A11: OPA | B11: CELESTE | C11: =COUNTIFS(Maestro!$A:$A,$A11,Maestro!$B:$B,$B11) -> 31 | D11: =COUNTIFS(Maestro!$A:$A,$A11,Maestro!$B:$B,$B11,Maestro!$J:$J,"SI") -> 16 | E11: =COUNTIFS(Maestro!$A:$A,$A11,Maestro!$B:$B,$B11,Maestro!$J:$J,"NO") -> 4 | F11: =C11-D11-E11 -> 11 | G11: =COUNTIFS(Maestro!$A:$A,$A11,Maestro!$B:$B,$B11,Maestro!$L:$L,"SI") -> 11 | H11: =COUNTIFS(Maestro!$A:$A,$A11,Maestro!$B:$B,$B11,Maestro!$L:$L,"NO") -> 7 | I11: =C11-G11-H11 -> 13 | J11: =D11+G11 -> 27
A12: PRIZONA | B12: VIP | C12: =COUNTIFS(Maestro!$A:$A,$A12,Maestro!$B:$B,$B12) -> 0 | D12: =COUNTIFS(Maestro!$A:$A,$A12,Maestro!$B:$B,$B12,Maestro!$J:$J,"SI") -> 0 | E12: =COUNTIFS(Maestro!$A:$A,$A12,Maestro!$B:$B,$B12,Maestro!$J:$J,"NO") -> 0 | F12: =C12-D12-E12 -> 0 | G12: =COUNTIFS(Maestro!$A:$A,$A12,Maestro!$B:$B,$B12,Maestro!$L:$L,"SI") -> 0 | H12: =COUNTIFS(Maestro!$A:$A,$A12,Maestro!$B:$B,$B12,Maestro!$L:$L,"NO") -> 0 | I12: =C12-G12-H12 -> 0 | J12: =D12+G12 -> 0
A13: PRIZONA | B13: ROJA | C13: =COUNTIFS(Maestro!$A:$A,$A13,Maestro!$B:$B,$B13) -> 16 | D13: =COUNTIFS(Maestro!$A:$A,$A13,Maestro!$B:$B,$B13,Maestro!$J:$J,"SI") -> 5 | E13: =COUNTIFS(Maestro!$A:$A,$A13,Maestro!$B:$B,$B13,Maestro!$J:$J,"NO") -> 1 | F13: =C13-D13-E13 -> 10 | G13: =COUNTIFS(Maestro!$A:$A,$A13,Maestro!$B:$B,$B13,Maestro!$L:$L,"SI") -> 0 | H13: =COUNTIFS(Maestro!$A:$A,$A13,Maestro!$B:$B,$B13,Maestro!$L:$L,"NO") -> 1 | I13: =C13-G13-H13 -> 15 | J13: =D13+G13 -> 5
A14: PRIZONA | B14: VERDE | C14: =COUNTIFS(Maestro!$A:$A,$A14,Maestro!$B:$B,$B14) -> 55 | D14: =COUNTIFS(Maestro!$A:$A,$A14,Maestro!$B:$B,$B14,Maestro!$J:$J,"SI") -> 17 | E14: =COUNTIFS(Maestro!$A:$A,$A14,Maestro!$B:$B,$B14,Maestro!$J:$J,"NO") -> 0 | F14: =C14-D14-E14 -> 38 | G14: =COUNTIFS(Maestro!$A:$A,$A14,Maestro!$B:$B,$B14,Maestro!$L:$L,"SI") -> 0 | H14: =COUNTIFS(Maestro!$A:$A,$A14,Maestro!$B:$B,$B14,Maestro!$L:$L,"NO") -> 55 | I14: =C14-G14-H14 -> 0 | J14: =D14+G14 -> 17
A15: PRIZONA | B15: CELESTE | C15: =COUNTIFS(Maestro!$A:$A,$A15,Maestro!$B:$B,$B15) -> 56 | D15: =COUNTIFS(Maestro!$A:$A,$A15,Maestro!$B:$B,$B15,Maestro!$J:$J,"SI") -> 33 | E15: =COUNTIFS(Maestro!$A:$A,$A15,Maestro!$B:$B,$B15,Maestro!$J:$J,"NO") -> 12 | F15: =C15-D15-E15 -> 11 | G15: =COUNTIFS(Maestro!$A:$A,$A15,Maestro!$B:$B,$B15,Maestro!$L:$L,"SI") -> 19 | H15: =COUNTIFS(Maestro!$A:$A,$A15,Maestro!$B:$B,$B15,Maestro!$L:$L,"NO") -> 18 | I15: =C15-G15-H15 -> 19 | J15: =D15+G15 -> 52
A16: TOTAL | B16: GENERAL | C16: =SUM(C8:C15) -> 285 | D16: =SUM(D8:D15) -> 137 | E16: =SUM(E8:E15) -> 39 | F16: =SUM(F8:F15) -> 109 | G16: =SUM(G8:G15) -> 56 | H16: =SUM(H8:H15) -> 150 | I16: =SUM(I8:I15) -> 79 | J16: =SUM(J8:J15) -> 193
A18: RESUMEN POR TRIBUNA
A19: TRIBUNA | B19: TOTAL INVITADOS | C19: INVITADO SI | D19: INVITADO NO | E19: INVITADO PENDIENTE | F19: ACOMPAÑANTE SI | G19: ACOMPAÑANTE NO | H19: ACOMPAÑANTE PENDIENTE | I19: TOTAL PERSONAS ASISTENTES | J19: % CONFIRMACIÓN INVITADO
A20: VIP | B20: =COUNTIF(Maestro!$B:$B,$A20) -> 22 | C20: =COUNTIFS(Maestro!$B:$B,$A20,Maestro!$J:$J,"SI") -> 18 | D20: =COUNTIFS(Maestro!$B:$B,$A20,Maestro!$J:$J,"NO") -> 3 | E20: =B20-C20-D20 -> 1 | F20: =COUNTIFS(Maestro!$B:$B,$A20,Maestro!$L:$L,"SI") -> 13 | G20: =COUNTIFS(Maestro!$B:$B,$A20,Maestro!$L:$L,"NO") -> 7 | H20: =B20-F20-G20 -> 2 | I20: =C20+F20 -> 31 | J20: =IFERROR(C20/B20,0) -> 0.81818182
A21: ROJA | B21: =COUNTIF(Maestro!$B:$B,$A21) -> 121 | C21: =COUNTIFS(Maestro!$B:$B,$A21,Maestro!$J:$J,"SI") -> 53 | D21: =COUNTIFS(Maestro!$B:$B,$A21,Maestro!$J:$J,"NO") -> 20 | E21: =B21-C21-D21 -> 48 | F21: =COUNTIFS(Maestro!$B:$B,$A21,Maestro!$L:$L,"SI") -> 13 | G21: =COUNTIFS(Maestro!$B:$B,$A21,Maestro!$L:$L,"NO") -> 63 | H21: =B21-F21-G21 -> 45 | I21: =C21+F21 -> 66 | J21: =IFERROR(C21/B21,0) -> 0.43801653
A22: VERDE | B22: =COUNTIF(Maestro!$B:$B,$A22) -> 55 | C22: =COUNTIFS(Maestro!$B:$B,$A22,Maestro!$J:$J,"SI") -> 17 | D22: =COUNTIFS(Maestro!$B:$B,$A22,Maestro!$J:$J,"NO") -> 0 | E22: =B22-C22-D22 -> 38 | F22: =COUNTIFS(Maestro!$B:$B,$A22,Maestro!$L:$L,"SI") -> 0 | G22: =COUNTIFS(Maestro!$B:$B,$A22,Maestro!$L:$L,"NO") -> 55 | H22: =B22-F22-G22 -> 0 | I22: =C22+F22 -> 17 | J22: =IFERROR(C22/B22,0) -> 0.30909091
A23: CELESTE | B23: =COUNTIF(Maestro!$B:$B,$A23) -> 87 | C23: =COUNTIFS(Maestro!$B:$B,$A23,Maestro!$J:$J,"SI") -> 49 | D23: =COUNTIFS(Maestro!$B:$B,$A23,Maestro!$J:$J,"NO") -> 16 | E23: =B23-C23-D23 -> 22 | F23: =COUNTIFS(Maestro!$B:$B,$A23,Maestro!$L:$L,"SI") -> 30 | G23: =COUNTIFS(Maestro!$B:$B,$A23,Maestro!$L:$L,"NO") -> 25 | H23: =B23-F23-G23 -> 32 | I23: =C23+F23 -> 79 | J23: =IFERROR(C23/B23,0) -> 0.56321839
A24: TOTAL | B24: =SUM(B20:B23) -> 285 | C24: =SUM(C20:C23) -> 137 | D24: =SUM(D20:D23) -> 39 | E24: =SUM(E20:E23) -> 109 | F24: =SUM(F20:F23) -> 56 | G24: =SUM(G20:G23) -> 150 | H24: =SUM(H20:H23) -> 79 | I24: =SUM(I20:I23) -> 193 | J24: =IFERROR(C24/B24,0) -> 0.48070175
A26: RESUMEN POR ORIGEN DE INVITACIÓN
A27: ORIGEN | B27: TOTAL INVITADOS | C27: INVITADO SI | D27: INVITADO NO | E27: INVITADO PENDIENTE | F27: ACOMPAÑANTE SI | G27: ACOMPAÑANTE NO | H27: ACOMPAÑANTE PENDIENTE | I27: TOTAL PERSONAS ASISTENTES | J27: % CONFIRMACIÓN INVITADO
A28: OPA | B28: =COUNTIF(Maestro!$A:$A,$A28) -> 159 | C28: =COUNTIFS(Maestro!$A:$A,$A28,Maestro!$J:$J,"SI") -> 82 | D28: =COUNTIFS(Maestro!$A:$A,$A28,Maestro!$J:$J,"NO") -> 26 | E28: =B28-C28-D28 -> 51 | F28: =COUNTIFS(Maestro!$A:$A,$A28,Maestro!$L:$L,"SI") -> 37 | G28: =COUNTIFS(Maestro!$A:$A,$A28,Maestro!$L:$L,"NO") -> 76 | H28: =B28-F28-G28 -> 46 | I28: =C28+F28 -> 119 | J28: =IFERROR(C28/B28,0) -> 0.51572327
A29: PRIZONA | B29: =COUNTIF(Maestro!$A:$A,$A29) -> 127 | C29: =COUNTIFS(Maestro!$A:$A,$A29,Maestro!$J:$J,"SI") -> 55 | D29: =COUNTIFS(Maestro!$A:$A,$A29,Maestro!$J:$J,"NO") -> 13 | E29: =B29-C29-D29 -> 59 | F29: =COUNTIFS(Maestro!$A:$A,$A29,Maestro!$L:$L,"SI") -> 19 | G29: =COUNTIFS(Maestro!$A:$A,$A29,Maestro!$L:$L,"NO") -> 74 | H29: =B29-F29-G29 -> 34 | I29: =C29+F29 -> 74 | J29: =IFERROR(C29/B29,0) -> 0.43307087
A30: TOTAL | B30: =SUM(B28:B29) -> 286 | C30: =SUM(C28:C29) -> 137 | D30: =SUM(D28:D29) -> 39 | E30: =SUM(E28:E29) -> 110 | F30: =SUM(F28:F29) -> 56 | G30: =SUM(G28:G29) -> 150 | H30: =SUM(H28:H29) -> 80 | I30: =SUM(I28:I29) -> 193 | J30: =IFERROR(C30/B30,0) -> 0.47902098
