Workbook

Sheet PLAN SOSTENIMIENTO
B2: PLAN DE SOSTENIMIENTO INFRAESTRUCTURA ESNAVAL
B3: VALOR ANUAL EN UF.
B4: Valor UF 09-01-2026 | C4: 39762.52
B6: SECTOR | C6: TIPO DE TRABAJO | D6: TAREA | E6: AÑO 2026 | I6: AÑO 2027 | M6: AÑO 2028 | Q6: AÑO 2029 | R6: AÑO 2030 | S6: AÑO 2031 | T6: AÑO 2032 | U6: AÑO 2033 | V6: AÑO 2034 | W6: AÑO 2025 | X6: TOTAL EN 10 AÑOS | Y6: PERIOCIDAD AÑOS | Z6: PRIORIDAD EJECUCIÓN | AA6: OBSERVACIONES
B7: Edificio Habitabilidad Block 1 | C7: Mantención techumbre y azotea. | D7: Limpiar, revisar y cambiar sellos en cubirta de techo, canaletas y bajadas de aguas lluvias. | E7: 823 | F7: 800 | G7: =+F7*E7 -> 658400 | H7: =+G7/$C$4 -> 16.558307 | I7: =+E7 -> 823 | J7: =+F7 -> 800 | K7: =+G7 -> 658400 | L7: =+K7/$C$4 -> 16.558307 | M7: =+E7 -> 823 | N7: =+F7 -> 800 | O7: =+G7 -> 658400 | P7: =+O7/$C$4 -> 16.558307 | Q7: 16.665827 | R7: 16.665827 | S7: 16.665827 | T7: 16.665827 | U7: 16.665827 | V7: 16.665827 | W7: 16.665827 | X7: =+H7+L7+P7+Q7+R7+S7+T7+U7+V7+W7 -> 166.33571 | Y7: 1 | Z7: B | AA7: Se requere impermeabilizar azoteas sector cajas de escalas, trabajos considerados en proyectos de recuperación de la infraestructura.
C8: Pintado exterior del edificio. | D8: Reparar fisuras, preparación de superficies y aplicación de esquemas de pintura en muros y pilares metálicos. | E8: 1950 | F8: 29347.056 | G8: =F8*E8 -> 57226759 | H8: =+G8/$C$4 -> 1439.2136 | L8: =+K8/$C$4 -> 0 | P8: =+O8/$C$4 -> 0 | Q8: 1448.559 | R8: 0 | S8: 0 | T8: 1448.559 | U8: 0 | V8: 0 | W8: 1448.559 | X8: =+H8+L8+P8+Q8+R8+S8+T8+U8+V8+W8 -> 5784.8907 | Y8: 3 | Z8: A | AA8: La fachada norte del edifiico se pintó el año 2019 y la fachada sur el año 2013, condición que genera oxidación en las estructuras metálicas y muros permeables a las aguas lluvias.
C9: Montacargas. | D9: Incluye inspecciones, ajustes, lubricación, limpieza y reparaciones preventivas de componentes como cables, puertas y frenos. | E9: 12 | F9: 120000 | G9: =F9*E9 -> 1440000 | H9: =+G9/$C$4 -> 36.215009 | I9: =+E9 -> 12 | J9: =+F9 -> 120000 | K9: =+G9 -> 1440000 | L9: =+K9/$C$4 -> 36.215009 | M9: =+E9 -> 12 | N9: =+F9 -> 120000 | O9: =+G9 -> 1440000 | P9: =+O9/$C$4 -> 36.215009 | Q9: 36.450169 | R9: 36.450169 | S9: 36.450169 | T9: 36.450169 | U9: 36.450169 | V9: 36.450169 | W9: 36.450169 | X9: =+H9+L9+P9+Q9+R9+S9+T9+U9+V9+W9 -> 363.79621 | Y9: 1 | Z9: D
C10: Mantención y pintado de Cielo entrepuentes H-13, H-24, H-12 y H-23. | D10: Reparar fisuras, preparación de superficies y aplicación de esquemas de pintura. | E10: 1200 | F10: 4200 | G10: =+F10*E10 -> 5040000 | H10: =+G10/$C$4 -> 126.75253 | L10: =+K10/$C$4 -> 0 | M10: =+E10 -> 1200 | N10: =+F10 -> 4200 | O10: =+G10 -> 5040000 | P10: =+O10/$C$4 -> 126.75253 | Q10: 127.57559 | R10: 0 | S10: 127.57559 | T10: 127.57559 | U10: 0 | V10: 127.57559 | W10: 127.57559 | X10: =+H10+L10+P10+Q10+R10+S10+T10+U10+V10+W10 -> 891.38301 | Y10: 2 | Z10: D
C11: Pintado de muros, roperos, baños y duchas en entrepuentes H-13, H-24, H-12 y H-23. | D11: Reparar fisuras, preparación de superficies y aplicación de esquemas de pintura. | E11: 7000 | F11: 4200 | G11: =+F11*E11 -> 29400000 | H11: =+G11/$C$4 -> 739.38976 | I11: =+E11 -> 7000 | J11: =+F11 -> 4200 | K11: =+G11 -> 29400000 | L11: =+K11/$C$4 -> 739.38976 | M11: =+E11 -> 7000 | N11: =+F11 -> 4200 | O11: =+G11 -> 29400000 | P11: =+O11/$C$4 -> 739.38976 | Q11: 744.19094 | R11: 744.19094 | S11: 744.19094 | T11: 744.19094 | U11: 744.19094 | V11: 744.19094 | W11: 744.19094 | X11: =+H11+L11+P11+Q11+R11+S11+T11+U11+V11+W11 -> 7427.5059 | Y11: 1 | Z11: D
C12: Mantención roperos de entrepuentes H-13, H-24, H-12 y H-23. | D12: Reparación de puertas, cerraduras, cajones y rieles para garantizar el correcto funcionamiento. | E12: 1 | F12: 680000 | G12: =+F12*E12 -> 680000 | H12: =+G12/$C$4 -> 17.101532 | I12: =+E12 -> 1 | J12: =+F12 -> 680000 | K12: =+G12 -> 680000 | L12: =+K12/$C$4 -> 17.101532 | M12: =+E12 -> 1 | N12: =+F12 -> 680000 | O12: =+G12 -> 680000 | P12: =+O12/$C$4 -> 17.101532 | Q12: 17.21258 | R12: 17.21258 | S12: 17.21258 | T12: 17.21258 | U12: 17.21258 | V12: 17.21258 | W12: 17.21258 | X12: =+H12+L12+P12+Q12+R12+S12+T12+U12+V12+W12 -> 171.79265 | Y12: 1 | Z12: D
C13: Mantención de pisos en baños entrepuentes H-13, H-24, H-12 y H-23. | D13: Limpieza de frague e impermeabilizar canales de recolección aguas duchas. | E13: =188*4 -> 752 | F13: 500 | G13: =+F13*E13 -> 376000 | H13: =+G13/$C$4 -> 9.4561411 | I13: =+E13 -> 752 | J13: =+F13 -> 500 | K13: =+G13 -> 376000 | L13: =+K13/$C$4 -> 9.4561411 | M13: =+E13 -> 752 | N13: =+F13 -> 500 | O13: =+G13 -> 376000 | P13: =+O13/$C$4 -> 9.4561411 | Q13: 9.517544 | R13: 9.517544 | S13: 9.517544 | T13: 9.517544 | U13: 9.517544 | V13: 9.517544 | W13: 9.517544 | X13: =+H13+L13+P13+Q13+R13+S13+T13+U13+V13+W13 -> 94.991232 | Y13: 1 | Z13: D
C14: Mantención de pisos en entrepuentes H-13, H-24, H-12 y H-23. | D14: Reparar parquet dañado, pulido y vitrificado. | E14: =556*4 -> 2224 | F14: 10000 | G14: =+F14*E14 -> 22240000 | H14: =+G14/$C$4 -> 559.32069 | L14: =+K14/$C$4 -> 0 | M14: =+E14 -> 2224 | N14: =+F14 -> 10000 | O14: =+G14 -> 22240000 | P14: =+O14/$C$4 -> 559.32069 | Q14: 562.95261 | R14: 0 | S14: 562.95261 | T14: 562.95261 | U14: 0 | V14: 562.95261 | W14: 562.95261 | X14: =+H14+L14+P14+Q14+R14+S14+T14+U14+V14+W14 -> 3933.4044 | Y14: 2 | Z14: D
C15: Mantención y pintado guardia de cadetes y sala de visitas. | D15: Reparar fisuras, preparación de superficies y aplicación de esquemas de pintura en muros, cielo y pilares metálicos. Reparar parquet dañado en el piso, pulido y vitrificado. | E15: 480 | F15: 1100 | G15: =+F15*E15 -> 528000 | H15: =+G15/$C$4 -> 13.278836 | L15: =+K15/$C$4 -> 0 | M15: =+E15 -> 480 | N15: =+F15 -> 1100 | O15: =+G15 -> 528000 | P15: =+O15/$C$4 -> 13.278836 | Q15: 13.365062 | R15: 0 | S15: 13.365062 | T15: 13.365062 | U15: 0 | V15: 13.365062 | W15: 13.365062 | X15: =+H15+L15+P15+Q15+R15+S15+T15+U15+V15+W15 -> 93.382982 | Y15: 2 | Z15: D
C16: Mantención y pintado de sastrería y sala de planchado. | D16: Reparar fisuras, preparación de superficies y aplicación de esquemas de pintura. | E16: 410 | F16: 1100 | G16: =+F16*E16 -> 451000 | H16: =+G16/$C$4 -> 11.342339 | L16: =+K16/$C$4 -> 0 | M16: =+E16 -> 410 | N16: =+F16 -> 1100 | O16: =+G16 -> 451000 | P16: =+O16/$C$4 -> 11.342339 | Q16: 11.41599 | R16: 0 | S16: 11.41599 | T16: 11.41599 | U16: 0 | V16: 11.41599 | W16: 11.41599 | X16: =+H16+L16+P16+Q16+R16+S16+T16+U16+V16+W16 -> 79.764631 | Y16: 2 | Z16: D
C17: Mantención y pintado de lavandería. | D17: Reparar fisuras, preparación de superficies y aplicación de esquemas de pintura. | E17: 520 | F17: 1100 | G17: =+F17*E17 -> 572000 | H17: =+G17/$C$4 -> 14.385406 | L17: =+K17/$C$4 -> 0 | M17: =+E17 -> 520 | N17: =+F17 -> 1100 | O17: =+G17 -> 572000 | P17: =+O17/$C$4 -> 14.385406 | Q17: 14.478817 | R17: 0 | S17: 14.478817 | T17: 14.478817 | U17: 0 | V17: 14.478817 | W17: 14.478817 | X17: =+H17+L17+P17+Q17+R17+S17+T17+U17+V17+W17 -> 101.1649 | Y17: 2 | Z17: D
C18: Mantención instalaciones sanitarias. | D18: Limpieza de la red de alcantarillado, piletas y sifones, verificar el correcto funcionamiento de artefactos sanitarios y cambio de sellos, revision y reparación de llaves de paso y monomandos, revision y reparación de filtraciones en red de agua potable. | E18: 1 | F18: 8766000 | G18: =+F18*E18 -> 8766000 | H18: =+G18/$C$4 -> 220.45886 | I18: =+E18 -> 1 | J18: =+F18 -> 8766000 | K18: =+G18 -> 8766000 | L18: =+K18/$C$4 -> 220.45886 | M18: =+E18 -> 1 | N18: =+F18 -> 8766000 | O18: =+G18 -> 8766000 | P18: =+O18/$C$4 -> 220.45886 | Q18: 221.8904 | R18: 221.8904 | S18: 221.8904 | T18: 221.8904 | U18: 221.8904 | V18: 221.8904 | W18: 221.8904 | X18: =+H18+L18+P18+Q18+R18+S18+T18+U18+V18+W18 -> 2214.6094 | Y18: 1 | Z18: D
C19: Mantención a puertas y ventanas. | D19: Revisar y lubricar los mecanismos de funcionamiento, limpiar drenes, despiches y canales de ventanales. Revisar funcionamiento, apriete y lubricar quincalleria, bisagras y cerraduras. | E19: 1 | F19: 250000 | G19: =+F19*E19 -> 250000 | H19: =+G19/$C$4 -> 6.2873279 | I19: =+E19 -> 1 | J19: =+F19 -> 250000 | K19: =+G19 -> 250000 | L19: =+K19/$C$4 -> 6.2873279 | M19: =+E19 -> 1 | N19: =+F19 -> 250000 | O19: =+G19 -> 250000 | P19: =+O19/$C$4 -> 6.2873279 | Q19: 6.3281543 | R19: 6.3281543 | S19: 6.3281543 | T19: 6.3281543 | U19: 6.3281543 | V19: 6.3281543 | W19: 6.3281543 | X19: =+H19+L19+P19+Q19+R19+S19+T19+U19+V19+W19 -> 63.159064 | Y19: 1 | Z19: D
B20: Eddificio Habitabilidad Block 2 | C20: Mantención techumbre. | D20: Limpiar, revisar y cambiar sellos en cubirta de techo, canaletas y bajadas de aguas lluvias. | E20: 823 | F20: 800 | G20: =+F20*E20 -> 658400 | H20: =+G20/$C$4 -> 16.558307 | I20: =+E20 -> 823 | J20: =+F20 -> 800 | K20: =+G20 -> 658400 | L20: =+K20/$C$4 -> 16.558307 | M20: =+E20 -> 823 | N20: =+F20 -> 800 | O20: =+G20 -> 658400 | P20: =+O20/$C$4 -> 16.558307 | Q20: 16.665827 | R20: 16.665827 | S20: 16.665827 | T20: 16.665827 | U20: 16.665827 | V20: 16.665827 | W20: 16.665827 | X20: =+H20+L20+P20+Q20+R20+S20+T20+U20+V20+W20 -> 166.33571 | Y20: 1 | Z20: B | AA20: Se requere impermeabilizar azoteas sector cajas de escalas, trabajos considerados en proyectos de recuperación de la infraestructura.
C21: Pintado exterior del edificio. | D21: Reparar fisuras, preparación de superficies y aplicación de esquemas de pintura en muros y pilares metálicos | E21: 1950 | F21: 29347.056 | G21: =F21*E21 -> 57226759 | H21: =+G21/$C$4 -> 1439.2136 | L21: =+K21/$C$4 -> 0 | P21: =+O21/$C$4 -> 0 | Q21: 1448.559 | R21: 0 | S21: 0 | T21: 1448.559 | U21: 0 | V21: 0 | W21: 1448.559 | X21: =+H21+L21+P21+Q21+R21+S21+T21+U21+V21+W21 -> 5784.8907 | Y21: 3 | Z21: A | AA21: La fachada norte del edifiico se pintó el año 2019 y la fachada sur el año 2013, condición que genera oxidación en las estructuras metálicas y muros permeables a las aguas lluvias.
C22: Montacargas. | D22: Incluye inspecciones, ajustes, lubricación, limpieza y reparaciones preventivas de componentes como cables, puertas y frenos. | E22: 12 | F22: 120000 | G22: =F22*E22 -> 1440000 | H22: =+G22/$C$4 -> 36.215009 | I22: =+E22 -> 12 | J22: =+F22 -> 120000 | K22: =+G22 -> 1440000 | L22: =+K22/$C$4 -> 36.215009 | M22: =+E22 -> 12 | N22: =+F22 -> 120000 | O22: =+G22 -> 1440000 | P22: =+O22/$C$4 -> 36.215009 | Q22: 36.450169 | R22: 36.450169 | S22: 36.450169 | T22: 36.450169 | U22: 36.450169 | V22: 36.450169 | W22: 36.450169 | X22: =+H22+L22+P22+Q22+R22+S22+T22+U22+V22+W22 -> 363.79621 | Y22: 1 | Z22: D
C23: Cámaras frigoríficas. | D23: Limpiezas periódicas de paneles y suelos, revisiones de aislamiento, juntas y cierres, así como el control de los componentes del sistema de refrigeración como el evaporador, el condensador y las válvulas | E23: 1 | F23: 10247351 | G23: =F23*E23 -> 10247351 | H23: =+G23/$C$4 -> 257.71383 | I23: =+E23 -> 1 | J23: =+F23 -> 10247351 | K23: =+G23 -> 10247351 | L23: =+K23/$C$4 -> 257.71383 | M23: =+E23 -> 1 | N23: =+F23 -> 10247351 | O23: =+G23 -> 10247351 | P23: =+O23/$C$4 -> 257.71383 | Q23: 259.38728 | R23: 259.38728 | S23: 259.38728 | T23: 259.38728 | U23: 259.38728 | V23: 259.38728 | W23: 259.38728 | X23: =+H23+L23+P23+Q23+R23+S23+T23+U23+V23+W23 -> 2588.8524 | Y23: 1 | Z23: D
C24: Mantención y pintado Cielo entrepuentes H-34, H-43,H-33 y H-42. | D24: Reparar fisuras, preparación de superficies y aplicación de esquemas de pintura en muros y pilares metálicos | E24: 1200 | F24: 4200 | G24: =+F24*E24 -> 5040000 | H24: =+G24/$C$4 -> 126.75253 | L24: =+K24/$C$4 -> 0 | M24: =+E24 -> 1200 | N24: =+F24 -> 4200 | O24: =+G24 -> 5040000 | P24: =+O24/$C$4 -> 126.75253 | Q24: 127.57559 | R24: 0 | S24: 127.57559 | T24: 127.57559 | U24: 0 | V24: 127.57559 | W24: 127.57559 | X24: =+H24+L24+P24+Q24+R24+S24+T24+U24+V24+W24 -> 891.38301 | Y24: 2 | Z24: D
C25: Pintado entrepuente, roperos, baños y duchas H-34, H-43, H-33 y H-42. | D25: Reparar fisuras, preparación de superficies y aplicación de esquemas de pintura en muros y pilares metálicos | E25: 7000 | F25: 4200 | G25: =+F25*E25 -> 29400000 | H25: =+G25/$C$4 -> 739.38976 | I25: =+E25 -> 7000 | J25: =+F25 -> 4200 | K25: =+G25 -> 29400000 | L25: =+K25/$C$4 -> 739.38976 | M25: =+E25 -> 7000 | N25: =+F25 -> 4200 | O25: =+G25 -> 29400000 | P25: =+O25/$C$4 -> 739.38976 | Q25: 744.19094 | R25: 744.19094 | S25: 744.19094 | T25: 744.19094 | U25: 744.19094 | V25: 744.19094 | W25: 744.19094 | X25: =+H25+L25+P25+Q25+R25+S25+T25+U25+V25+W25 -> 7427.5059 | Y25: 1 | Z25: D
C26: Mantención roperos de entrepuentes H-34, H-43, H-33 y H-42. | D26: Reparación de puertas, cerraduras, cajones y rieles para garantizar el correcto funcionamiento. | E26: 1 | F26: 680000 | G26: =+F26*E26 -> 680000 | H26: =+G26/$C$4 -> 17.101532 | I26: =+E26 -> 1 | J26: =+F26 -> 680000 | K26: =+G26 -> 680000 | L26: =+K26/$C$4 -> 17.101532 | M26: =+E26 -> 1 | N26: =+F26 -> 680000 | O26: =+G26 -> 680000 | P26: =+O26/$C$4 -> 17.101532 | Q26: 17.21258 | R26: 17.21258 | S26: 17.21258 | T26: 17.21258 | U26: 17.21258 | V26: 17.21258 | W26: 17.21258 | X26: =+H26+L26+P26+Q26+R26+S26+T26+U26+V26+W26 -> 171.79265 | Y26: 1 | Z26: D
C27: Mantención pisos de baños H-34, H-43, H-33 y H-42. | D27: Limpieza de frague e impermeabilizar canales de recolección aguas duchas. | E27: =188*4 -> 752 | F27: 500 | G27: =+F27*E27 -> 376000 | H27: =+G27/$C$4 -> 9.4561411 | I27: =+E27 -> 752 | J27: =+F27 -> 500 | K27: =+G27 -> 376000 | L27: =+K27/$C$4 -> 9.4561411 | M27: =+E27 -> 752 | N27: =+F27 -> 500 | O27: =+G27 -> 376000 | P27: =+O27/$C$4 -> 9.4561411 | Q27: 9.517544 | R27: 9.517544 | S27: 9.517544 | T27: 9.517544 | U27: 9.517544 | V27: 9.517544 | W27: 9.517544 | X27: =+H27+L27+P27+Q27+R27+S27+T27+U27+V27+W27 -> 94.991232 | Y27: 1 | Z27: D
C28: Mantención pisos de entrepuentes H-34, H-43, H-33 y H-42. | D28: Reparar parquet dañado, pulido y vitrificado. | E28: =556*4 -> 2224 | F28: 10000 | G28: =+F28*E28 -> 22240000 | H28: =+G28/$C$4 -> 559.32069 | L28: =+K28/$C$4 -> 0 | M28: =+E28 -> 2224 | N28: =+F28 -> 10000 | O28: =+G28 -> 22240000 | P28: =+O28/$C$4 -> 559.32069 | Q28: 562.95261 | R28: 0 | S28: 562.95261 | T28: 562.95261 | U28: 0 | V28: 562.95261 | W28: 562.95261 | X28: =+H28+L28+P28+Q28+R28+S28+T28+U28+V28+W28 -> 3933.4044 | Y28: 2 | Z28: D
C29: Mantención y pintado entrepiso y peluquerías. | D29: Preparación de superficie y aplicación de esquemas de pintura a pilares y marcos de ventanales fabricados en estructura metálica. | E29: 1750 | F29: 1100 | G29: =+F29*E29 -> 1925000 | H29: =+G29/$C$4 -> 48.412425 | L29: =+K29/$C$4 -> 0 | M29: =+E29 -> 1750 | N29: =+F29 -> 1100 | O29: =+G29 -> 1925000 | P29: =+O29/$C$4 -> 48.412425 | Q29: 48.726788 | R29: 0 | S29: 48.726788 | T29: 48.726788 | U29: 0 | V29: 48.726788 | W29: 48.726788 | X29: =+H29+L29+P29+Q29+R29+S29+T29+U29+V29+W29 -> 340.45879 | Y29: 2 | Z29: D
C30: Mantención y pintado de casino y baños de Cadetes. | D30: Preparación de superficie y aplicación de esquemas de pintura a pilares y marcos de ventanales fabricados en estructura metálica. | E30: 3500 | F30: 1100 | G30: =+F30*E30 -> 3850000 | H30: =+G30/$C$4 -> 96.824849 | I30: =+E30 -> 3500 | J30: =+F30 -> 1100 | K30: =+G30 -> 3850000 | L30: =+K30/$C$4 -> 96.824849 | M30: =+E30 -> 3500 | N30: =+F30 -> 1100 | O30: =+G30 -> 3850000 | P30: =+O30/$C$4 -> 96.824849 | Q30: 97.453576 | R30: 97.453576 | S30: 97.453576 | T30: 97.453576 | U30: 97.453576 | V30: 97.453576 | W30: 97.453576 | X30: =+H30+L30+P30+Q30+R30+S30+T30+U30+V30+W30 -> 972.64958 | Y30: 1 | Z30: D
C31: Mantención a puertas y ventanas. | D31: Revisar y lubricar los mecanismos de funcionamiento, limpiar drenes, despiches y canales de ventanales. Revisar funcionamiento, apriete y lubricar quincalleria, bisagras y cerraduras. | E31: 1 | F31: 850000 | G31: =+F31*E31 -> 850000 | H31: =+G31/$C$4 -> 21.376915 | I31: =+E31 -> 1 | J31: =+F31 -> 850000 | K31: =+G31 -> 850000 | L31: =+K31/$C$4 -> 21.376915 | M31: =+E31 -> 1 | N31: =+F31 -> 850000 | O31: =+G31 -> 850000 | P31: =+O31/$C$4 -> 21.376915 | Q31: 21.515725 | R31: 21.515725 | S31: 21.515725 | T31: 21.515725 | U31: 21.515725 | V31: 21.515725 | W31: 21.515725 | X31: =+H31+L31+P31+Q31+R31+S31+T31+U31+V31+W31 -> 214.74082 | Y31: 1 | Z31: D
C32: Mantención y pintado pasillo de los Servicios Alimentación. | D32: Preparación de superficie y aplicación de esquemas de pintura a pilares y marcos de ventanales fabricados en estructura metálica. | E32: 4200 | F32: 1100 | G32: =+F32*E32 -> 4620000 | H32: =+G32/$C$4 -> 116.18982 | I32: =+E32 -> 4200 | J32: =+F32 -> 1100 | K32: =+G32 -> 4620000 | L32: =+K32/$C$4 -> 116.18982 | M32: =+E32 -> 4200 | N32: =+F32 -> 1100 | O32: =+G32 -> 4620000 | P32: =+O32/$C$4 -> 116.18982 | Q32: 116.94429 | R32: 116.94429 | S32: 116.94429 | T32: 116.94429 | U32: 116.94429 | V32: 116.94429 | W32: 116.94429 | X32: =+H32+L32+P32+Q32+R32+S32+T32+U32+V32+W32 -> 1167.1795 | Y32: 1 | Z32: D
C33: Mantención y pintado interior enfermería de Cadetes femeninos. | D33: Preparación de superficie y aplicación de esquemas de pintura a pilares y marcos de ventanales fabricados en estructura metálica. | E33: 3500 | F33: 1100 | G33: =+F33*E33 -> 3850000 | H33: =+G33/$C$4 -> 96.824849 | L33: =+K33/$C$4 -> 0 | M33: =+E33 -> 3500 | N33: =+F33 -> 1100 | O33: =+G33 -> 3850000 | P33: =+O33/$C$4 -> 96.824849 | Q33: 97.453576 | R33: 0 | S33: 97.453576 | T33: 97.453576 | U33: 0 | V33: 97.453576 | W33: 97.453576 | X33: =+H33+L33+P33+Q33+R33+S33+T33+U33+V33+W33 -> 680.91758 | Y33: 2 | Z33: D
C34: Mantención instalaciones sanitarias. | D34: Limpieza de la red de alcantarillado, piletas y sifones, verificar el correcto funcionamiento de artefactos sanitarios y cambio de sellos, revision y reparación de llaves de paso y monomandos, revision y reparación de filtraciones en red de agua potable. | E34: 1 | F34: 8766000 | G34: =+F34*E34 -> 8766000 | H34: =+G34/$C$4 -> 220.45886 | I34: =+E34 -> 1 | J34: =+F34 -> 8766000 | K34: =+G34 -> 8766000 | L34: =+K34/$C$4 -> 220.45886 | M34: =+E34 -> 1 | N34: =+F34 -> 8766000 | O34: =+G34 -> 8766000 | P34: =+O34/$C$4 -> 220.45886 | Q34: 221.8904 | R34: 221.8904 | S34: 221.8904 | T34: 221.8904 | U34: 221.8904 | V34: 221.8904 | W34: 221.8904 | X34: =+H34+L34+P34+Q34+R34+S34+T34+U34+V34+W34 -> 2214.6094 | Y34: 1 | Z34: D
C35: Mantención y pintado de baños enfermería de Cadetes femeninos. | D35: Preparación de superficie y aplicación de esquemas de pintura en muros, cielo, marcos de puertas y puertas. | E35: 60 | F35: 1100 | G35: =+F35*E35 -> 66000 | H35: =+G35/$C$4 -> 1.6598546 | I35: =+E35 -> 60 | J35: =+F35 -> 1100 | K35: =+G35 -> 66000 | L35: =+K35/$C$4 -> 1.6598546 | M35: =+E35 -> 60 | N35: =+F35 -> 1100 | O35: =+G35 -> 66000 | P35: =+O35/$C$4 -> 1.6598546 | Q35: 1.6706327 | R35: 1.6706327 | S35: 1.6706327 | T35: 1.6706327 | U35: 1.6706327 | V35: 1.6706327 | W35: 1.6706327 | X35: =+H35+L35+P35+Q35+R35+S35+T35+U35+V35+W35 -> 16.673993 | Y35: 1 | Z35: D
C36: Pintado de entrepuente y baño de visitas. | D36: Preparación de superficie y aplicación de esquemas de pintura a pilares y marcos de ventanales fabricados en estructura metálica. | E36: 880 | F36: 1100 | G36: =+F36*E36 -> 968000 | H36: =+G36/$C$4 -> 24.344533 | I36: =+E36 -> 880 | J36: =+F36 -> 1100 | K36: =+G36 -> 968000 | L36: =+K36/$C$4 -> 24.344533 | M36: =+E36 -> 880 | N36: =+F36 -> 1100 | O36: =+G36 -> 968000 | P36: =+O36/$C$4 -> 24.344533 | Q36: 24.502613 | R36: 24.502613 | S36: 24.502613 | T36: 24.502613 | U36: 24.502613 | V36: 24.502613 | W36: 24.502613 | X36: =+H36+L36+P36+Q36+R36+S36+T36+U36+V36+W36 -> 244.55189 | Y36: 1 | Z36: D
C37: Mantención, pintado oficinas y pasillos de Mantención y Servicios. | D37: Preparación de superficie y aplicación de esquemas de pintura a pilares y marcos de ventanales fabricados en estructura metálica. | E37: 3200 | F37: 1100 | G37: =+F37*E37 -> 3520000 | H37: =+G37/$C$4 -> 88.525576 | L37: =+K37/$C$4 -> 0 | M37: =+E37 -> 3200 | N37: =+F37 -> 1100 | O37: =+G37 -> 3520000 | P37: =+O37/$C$4 -> 88.525576 | Q37: 89.100412 | R37: 0 | S37: 89.100412 | T37: 89.100412 | U37: 0 | V37: 89.100412 | W37: 89.100412 | X37: =+H37+L37+P37+Q37+R37+S37+T37+U37+V37+W37 -> 622.55321 | Y37: 2 | Z37: D
B38: Edificio Habitabilidad Block 3 | C38: Mantención techumbre. | D38: Limpiar, revisar y cambiar sellos en cubirta de techo, canaletas y bajadas de aguas lluvias. | E38: 823 | F38: 800 | G38: =+F38*E38 -> 658400 | H38: =+G38/$C$4 -> 16.558307 | I38: =+E38 -> 823 | J38: =+F38 -> 800 | K38: =+G38 -> 658400 | L38: =+K38/$C$4 -> 16.558307 | M38: =+E38 -> 823 | N38: =+F38 -> 800 | O38: =+G38 -> 658400 | P38: =+O38/$C$4 -> 16.558307 | Q38: 16.665827 | R38: 16.665827 | S38: 16.665827 | T38: 16.665827 | U38: 16.665827 | V38: 16.665827 | W38: 16.665827 | X38: =+H38+L38+P38+Q38+R38+S38+T38+U38+V38+W38 -> 166.33571 | Y38: 1 | Z38: B | AA38: Se requere impermeabilizar azoteas sector cajas de escalas, trabajos considerados en proyectos de recuperación de la infraestructura.
C39: Pintado exterior del edificio. | D39: Reparar fisuras, preparación de superficies y aplicación de esquemas de pintura en muros y pilares metálicos. | E39: 1950 | F39: 29347.056 | G39: =F39*E39 -> 57226759 | H39: =+G39/$C$4 -> 1439.2136 | L39: =+K39/$C$4 -> 0 | P39: =+O39/$C$4 -> 0 | Q39: 1448.559 | R39: 0 | S39: 0 | T39: 1448.559 | U39: 0 | V39: 0 | W39: 1448.559 | X39: =+H39+L39+P39+Q39+R39+S39+T39+U39+V39+W39 -> 5784.8907 | Y39: 3 | Z39: A | AA39: La fachada norte del edifiico se pintó el año 2019 y la fachada sur el año 2013, condición que genera oxidación en las estructuras metálicas y muros permeables a las aguas lluvias.
C40: Montacargas. | D40: Incluye inspecciones, ajustes, lubricación, limpieza y reparaciones preventivas de componentes como cables, puertas y frenos. | E40: 12 | F40: 120000 | G40: =F40*E40 -> 1440000 | H40: =+G40/$C$4 -> 36.215009 | I40: =+E40 -> 12 | J40: =+F40 -> 120000 | K40: =+G40 -> 1440000 | L40: =+K40/$C$4 -> 36.215009 | M40: =+E40 -> 12 | N40: =+F40 -> 120000 | O40: =+G40 -> 1440000 | P40: =+O40/$C$4 -> 36.215009 | Q40: 36.450169 | R40: 36.450169 | S40: 36.450169 | T40: 36.450169 | U40: 36.450169 | V40: 36.450169 | W40: 36.450169 | X40: =+H40+L40+P40+Q40+R40+S40+T40+U40+V40+W40 -> 363.79621 | Y40: 1 | Z40: D
C41: Mantención instalaciones sanitarias. | D41: Limpieza de la red de alcantarillado, piletas y sifones, verificar el correcto funcionamiento de artefactos sanitarios, cambio de sellos, revision y reparación de llaves de paso y monomandos, revision y reparación de filtraciones en red de agua potable. | E41: 1 | F41: 10200000 | G41: =+F41*E41 -> 10200000 | H41: =+G41/$C$4 -> 256.52298 | I41: =+E41 -> 1 | J41: =+F41 -> 10200000 | K41: =+G41 -> 10200000 | L41: =+K41/$C$4 -> 256.52298 | M41: =+E41 -> 1 | N41: =+F41 -> 10200000 | O41: =+G41 -> 10200000 | P41: =+O41/$C$4 -> 256.52298 | Q41: 258.18869 | R41: 258.18869 | S41: 258.18869 | T41: 258.18869 | U41: 258.18869 | V41: 258.18869 | W41: 258.18869 | X41: =+H41+L41+P41+Q41+R41+S41+T41+U41+V41+W41 -> 2576.8898 | Y41: 1 | Z41: D
C42: Mantención roperos entrepuentes de Suboficiales, Sargentos, Femenino, Cabos y Marineros. | D42: Reparación de puertas, cerraduras, cajones y rieles para garantizar el correcto funcionamiento. | E42: 1 | F42: 680000 | G42: =+F42*E42 -> 680000 | H42: =+G42/$C$4 -> 17.101532 | I42: =+E42 -> 1 | J42: =+F42 -> 680000 | K42: =+G42 -> 680000 | L42: =+K42/$C$4 -> 17.101532 | M42: =+E42 -> 1 | N42: =+F42 -> 680000 | O42: =+G42 -> 680000 | P42: =+O42/$C$4 -> 17.101532 | Q42: 17.21258 | R42: 17.21258 | S42: 17.21258 | T42: 17.21258 | U42: 17.21258 | V42: 17.21258 | W42: 17.21258 | X42: =+H42+L42+P42+Q42+R42+S42+T42+U42+V42+W42 -> 171.79265 | Y42: 1 | Z42: D
...

Sheet PLAN RECUPERACIÓN 
C2: PLAN DE RECUPERACIÓN DE LA INFRAESTRUCTURA ESNAVAL
C4: Valor UF 09-01-2026 | E4: 39762.52
B6: PRIORIDAD | C6: SECTOR | D6: CONCEPTOS BASICOS | E6: TIPO DE TRABAJO | F6: Unidad de medida | G6: Cantidad | H6: Valor unitario | I6: Valor total $ | J6: Valor uf. | K6: AÑO 2026 | L6: AÑO 2027 | M6: AÑO 2028 | N6: AÑO 2029 | O6: AÑO 2030 | P6: AÑO 2031 | Q6: AÑO 2032 | R6: AÑO 2033 | S6: AÑO 2034 | T6: AÑO 2035 | U6: TOTAL EN 10 AÑOS | V6: OBSERVACIONES
B7: 1 | C7: Complejo deportivo | D7: Prevenir colapso estructural. | E7: Análisis estructural. | F7: GL | G7: 1 | H7: 3183030317 | I7: =+H7*G7 -> 3183030317 | J7: =+I7/$E$4 -> 80051.021 | V7: Techo en muy malas condiciones, con grandes filtraciones de agua al interior del edificio y riesgo de caidas de estructuras desde las alturas.
E8: Recuperación estructural. | V8: Revestimiento sector piscina olímpica, en muy malas condicones, con riesgo de desprendimiento de estructuras desde las alturas.
D9: Soportar embates de la lluvia y viento. | E9: Cambio cubierta de techo. | V9: Valor estimado sería reducido, si es que se adjudican los fondos del IND.
E10: Impermeabilización y pintura de fachadas.
E11: Cambio de ventanales.
D12: Cumplir con Normativa Chilena vigente. | E12: Vías de evacuación.
E13: Normalización eléctrica
E14: Instalación de gas.
E15: Instalaciones sanitarias.
E16: Red húmeda incendio.
E17: Accesibilidad universal.
D18: Modernización de artefactos o equipos por vetustez o falla. | E18: Calderas.
E19: Equipos deshumidificadores
E20: Equipos de aire acondicionado.
E21: Sistemas de filtrado
E22: Artefactos sanitarios.
E23: Cabinas de WC y duchas.
E24: Vaso piscinas
E25: Mantención de graderías.
H26: VALOR TOTAL | I26: =SUM(I7:I25) -> 3183030317 | J26: =+I26/$E$4 -> 80051.021 | K26: =+J26 -> 80051.021 | L26: 0 | M26: 0 | N26: 0 | O26: 0 | P26: 0 | Q26: 0 | R26: 0 | S26: 0 | T26: 0 | U26: =SUM(K26:T26) -> 80051.021
B27: 2 | C27: Edificio Dirección | D27: Prevenir colapso estructural. | E27: Análisis estructural. | F27: GL | G27: 4561 | H27: 5360 | I27: =+H27*G27 -> 24446960 | J27: =+I27/$E$4 -> 614.82421
E28: Recuperación estructural. | F28: GL | G28: Por definir según resultados del estudio | I28: 0 | J28: =+I28/$E$4 -> 0 | V28: Se requere impermeabilizar azotea, trabajos considerados en proyectos de recuperación de la infraestructura.
D29: Soportar embates de la lluvia y viento. | E29: Cambio cubierta de techo. | F29: M2 | G29: 62 | H29: 48000 | I29: =+H29*G29 -> 2976000 | J29: =+I29/$E$4 -> 74.844351
E30: Impermeabilización de azotea. | F30: M2 | G30: 350 | H30: 50000 | I30: =+H30*G30 -> 17500000 | J30: =+I30/$E$4 -> 440.11295
E31: Impermeabilización y pintura de fachadas. | F31: M2 | G31: 1500 | H31: 45760 | I31: =+H31*G31 -> 68640000 | J31: =+I31/$E$4 -> 1726.2487
E32: Cambio de ventanales. | F32: M2 | G32: 1300 | H32: 379000 | I32: =+H32*G32 -> 492700000 | J32: =+I32/$E$4 -> 12391.066 | V32: Ventanales suelto y desajustados, permitiendo el ingreso de viento y polvo desde el exterior al interior de ñas oficinas, requere un pronto cambio, trabajo considerado en proyecto de recuperacion de la infraestructura ESNAVAL.
D33: Cumplir con Normativa Chilena vigente. | E33: Vías de evacuación.. | F33: GL | G33: 1 | I33: =+H33*G33 -> 0 | J33: =+I33/$E$4 -> 0
E34: Normalización eléctrica | F34: M2 | G34: 4561 | H34: 23350 | I34: =+H34*G34 -> 106499350 | J34: =+I34/$E$4 -> 2678.3853
E35: Instalaciones sanitarias. | F35: GL | G35: 1 | I35: =+H35*G35 -> 0 | J35: =+I35/$E$4 -> 0
E36: Red húmeda incendio. | F36: GL | G36: 1 | I36: =+H36*G36 -> 0 | J36: =+I36/$E$4 -> 0
E37: Accesibilidad universal. | F37: GL | G37: 1 | H37: 14500000 | I37: =+H37*G37 -> 14500000 | J37: =+I37/$E$4 -> 364.66502
D38: Modernización de artefactos o equipos por vetustez o falla. | E38: Ascensores | F38: NR | G38: 2 | H38: 60000000 | I38: =+H38*G38 -> 120000000 | J38: =+I38/$E$4 -> 3017.9174
E39: Equipos de aire acondicionado 36000 BTU. | F39: NR | G39: 1 | H39: 3000000 | I39: =+H39*G39 -> 3000000 | J39: =+I39/$E$4 -> 75.447934
E40: WC institucional | F40: NR | G40: 16 | H40: 380000 | I40: =+H40*G40 -> 6080000 | J40: =+I40/$E$4 -> 152.90781 | M40: 74.
E41: Lavamanos | F41: NR | G41: 16 | H41: 120000 | I41: =+H41*G41 -> 1920000 | J41: =+I41/$E$4 -> 48.286678
E42: Vanitorios | F42: M2 | G42: 10 | H42: 712530 | I42: =+H42*G42 -> 7125300 | J42: =+I42/$E$4 -> 179.19639
E43: Cabinas de WC y duchas. | F43: NR | G43: =2*7 -> 14 | H43: 695000 | I43: =+H43*G43 -> 9730000 | J43: =+I43/$E$4 -> 244.7028
...

Sheet RESUMEN RECUP. POR EDIFICIO
B2: PLAN DE RECUPERACIÓN DE LA INFRAESTRUCTURA ESNAVAL
B4: Valor UF 09-01-2026 | E4: 39762.52
H5: TRABAJOS NECESARIOS PARA SOPORTAR ENBASTE VIENTO Y LLUVIA
B6: PRIORIDAD | C6: EDIFICIO | D6: VALOR POR EDIFICIO EN $ | E6: VALOR UF. | F6: VALOR AUMENTADO POR EDIIFICIO | H6: TECHO Y AZOTEAS | I6: MUROS O FACHADAS | J6: VENTANALES | K6: VALOR TOTAL | L6: VALOR AUMENTADO POR EDIIFICIO
B7: 1 | C7: Complejo deportivo. | D7: =+'PLAN RECUPERACIÓN '!I26 -> 3183030317 | E7: =+D7/E4 -> 80051.021 | F7: =+D7 -> 3183030317
B8: 2 | C8: Edificio Dirección. | D8: =+'PLAN RECUPERACIÓN '!I44 -> 875117610 | E8: =+D8/E4 -> 22008.605 | F8: =+D8+F7 -> 4058147927 | H8: =+'PLAN RECUPERACIÓN '!I29+'PLAN RECUPERACIÓN '!I30 -> 20476000 | I8: =+'PLAN RECUPERACIÓN '!I31 -> 68640000 | J8: =+'PLAN RECUPERACIÓN '!I32 -> 492700000 | K8: =+J8+I8+H8 -> 581816000 | L8: =+K8 -> 581816000
B9: 3 | C9: Casa de Yates. | D9: =+'PLAN RECUPERACIÓN '!I63 -> 229390060 | E9: =+D9/E4 -> 5769.0021 | F9: =+D9+F8 -> 4287537987 | H9: =+'PLAN RECUPERACIÓN '!I47 -> 45600000 | I9: =+'PLAN RECUPERACIÓN '!I48 -> 54912000 | J9: =+'PLAN RECUPERACIÓN '!I49 -> 45480000 | K9: =+J9+I9+H9 -> 145992000 | L9: =+K9+L8 -> 727808000
B10: 4 | C10: Brigada Escuela y Garage. | D10: =+'PLAN RECUPERACIÓN '!I78 -> 83639520 | E10: =+D10/E4 -> 2103.4763 | F10: =+D10+F9 -> 4371177507 | H10: =+'PLAN RECUPERACIÓN '!I66+'PLAN RECUPERACIÓN '!I67 -> 34240000 | I10: =+'PLAN RECUPERACIÓN '!I68 -> 3136000 | J10: =+'PLAN RECUPERACIÓN '!I69 -> 22740000 | K10: =+J10+I10+H10 -> 60116000 | L10: =+K10+L9 -> 787924000
B11: 5 | C11: Salas de clases, 3 pabellones de 2 pisos cada uno. | D11: =+'PLAN RECUPERACIÓN '!I94 -> 489254150 | E11: =+D11/E4 -> 12304.405 | F11: =+D11+F10 -> 4860431657 | H11: =+'PLAN RECUPERACIÓN '!I81 -> 42000000 | I11: =+'PLAN RECUPERACIÓN '!I82 -> 60480000 | J11: =+'PLAN RECUPERACIÓN '!I83 -> 246350000 | K11: =+J11+I11+H11 -> 348830000 | L11: =+K11+L10 -> 1136754000
B12: 6 | C12: Comedores de Cadetes. | D12: =+'PLAN RECUPERACIÓN '!I104 -> 499807702 | E12: =+D12/E4 -> 12569.82 | F12: =+D12+F11 -> 5360239359 | H12: =+'PLAN RECUPERACIÓN '!I97+'PLAN RECUPERACIÓN '!I96 -> 245861652 | I12: =+'PLAN RECUPERACIÓN '!I98 -> 4860000 | J12: =+'PLAN RECUPERACIÓN '!I99 -> 207313000 | K12: =+J12+I12+H12 -> 458034652 | L12: =+K12+L11 -> 1594788652
B13: 7 | C13: Edificio Habitabilidad. | D13: =+'PLAN RECUPERACIÓN '!I128 -> 2409573820 | E13: =+D13/E4 -> 60599.122 | F13: =+D13+F12 -> 7769813179 | H13: =+'PLAN RECUPERACIÓN '!I107+'PLAN RECUPERACIÓN '!I108 -> 224240000 | I13: =+'PLAN RECUPERACIÓN '!I109 -> 163800000 | J13: =+'PLAN RECUPERACIÓN '!I110 -> 833800000 | K13: =+J13+I13+H13 -> 1221840000 | L13: =+K13+L12 -> 2816628652
B14: 8 | C14: Laboratorios y salas especiales. | D14: =+'PLAN RECUPERACIÓN '!I145 -> 779034920 | E14: =+D14/E4 -> 19592.192 | F14: =+D14+F13 -> 8548848099 | H14: =+'PLAN RECUPERACIÓN '!I131+'PLAN RECUPERACIÓN '!I132 -> 93970000 | I14: =+'PLAN RECUPERACIÓN '!I133 -> 165200000 | J14: =+'PLAN RECUPERACIÓN '!I134 -> 341100000 | K14: =+J14+I14+H14 -> 600270000 | L14: =+K14+L13 -> 3416898652
B15: 9 | C15: Talabartería y Sala de armas. | D15: =+'PLAN RECUPERACIÓN '!I156 -> 70877250 | E15: =+D15/E4 -> 1782.514 | F15: =+D15+F14 -> 8619725349 | H15: =+'PLAN RECUPERACIÓN '!I148 -> 27500000 | I15: =+'PLAN RECUPERACIÓN '!I149 -> 6580000 | J15: =+'PLAN RECUPERACIÓN '!I150 -> 15160000 | K15: =+J15+I15+H15 -> 49240000 | L15: =+K15+L14 -> 3466138652
B16: 10 | C16: Polígono de tiro. | D16: =+'PLAN RECUPERACIÓN '!I173 -> 88860180 | E16: =+D16/E4 -> 2234.7723 | F16: =+D16+F15 -> 8708585529 | H16: =+'PLAN RECUPERACIÓN '!I159 -> 9600000 | I16: =+'PLAN RECUPERACIÓN '!I160 -> 6440000 | J16: =+'PLAN RECUPERACIÓN '!I161 -> 3790000 | K16: =+J16+I16+H16 -> 19830000 | L16: =+K16+L15 -> 3485968652
B17: 11 | C17: Salas de Estudios, 4 pabellones de 2 pisos cada uno. | D17: =+'PLAN RECUPERACIÓN '!I189 -> 325549420 | E17: =+D17/E4 -> 8187.3438 | F17: =+D17+F16 -> 9034134949 | H17: =+'PLAN RECUPERACIÓN '!I176 -> 26880000 | I17: =+'PLAN RECUPERACIÓN '!I177 -> 77000000 | J17: =+'PLAN RECUPERACIÓN '!I178 -> 159180000 | K17: =+J17+I17+H17 -> 263060000 | L17: =+K17+L16 -> 3749028652
B18: 12 | C18: Capilla. | D18: =+'PLAN RECUPERACIÓN '!I204 -> 112214540 | E18: =+D18/E4 -> 2822.1184 | F18: =+D18+F17 -> 9146349489 | H18: =+'PLAN RECUPERACIÓN '!I192 -> 32640000 | I18: =+'PLAN RECUPERACIÓN '!I193 -> 8960000 | J18: =+'PLAN RECUPERACIÓN '!I194 -> 56850000 | K18: =+J18+I18+H18 -> 98450000 | L18: =+K18+L17 -> 3847478652
B19: 13 | C19: Sala de caldera. | D19: =+'PLAN RECUPERACIÓN '!I218 -> 531074440 | E19: =+D19/E4 -> 13356.157 | F19: =+D19+F18 -> 9677423929 | H19: =+'PLAN RECUPERACIÓN '!I207+'PLAN RECUPERACIÓN '!I208 -> 10710000 | I19: =+'PLAN RECUPERACIÓN '!I209 -> 560000 | J19: =+'PLAN RECUPERACIÓN '!I210 -> 12507000 | K19: =+J19+I19+H19 -> 23777000 | L19: =+K19+L18 -> 3871255652
B20: 14 | C20: Casino de Oficiales. | D20: =+'PLAN RECUPERACIÓN '!I238 -> 243770040 | E20: =+D20/E4 -> 6130.6487 | F20: =+D20+F19 -> 9921193969 | H20: =+'PLAN RECUPERACIÓN '!I221+'PLAN RECUPERACIÓN '!I222 -> 27604000 | I20: =+'PLAN RECUPERACIÓN '!I223 -> 6160000 | J20: =+'PLAN RECUPERACIÓN '!I224 -> 125070000 | K20: =+J20+I20+H20 -> 158834000 | L20: =+K20+L19 -> 4030089652
B21: 15 | C21: Chutera. (Valor ventanal corresponde a nivelar piso) | D21: =+'PLAN RECUPERACIÓN '!I242 -> 7875000 | E21: =+D21/E4 -> 198.05083 | F21: =+D21+F20 -> 9929068969 | H21: =+'PLAN RECUPERACIÓN '!I239 -> 960000 | I21: =+'PLAN RECUPERACIÓN '!I240 -> 675000 | J21: =+'PLAN RECUPERACIÓN '!I241 -> 6240000 | K21: =+J21+I21+H21 -> 7875000 | L21: =+K21+L20 -> 4037964652
B22: 16 | C22: Estadio. | D22: =+'PLAN RECUPERACIÓN '!I249 -> 577130000 | E22: =+D22/E4 -> 14514.422 | F22: =+D22+F21 -> 10506198969
B23: 17 | C23: Palo Araucano. | D23: =+'PLAN RECUPERACIÓN '!I252 -> 5450000 | E23: =+D23/E4 -> 137.06375 | F23: =+D23+F22 -> 10511648969
B24: 18 | C24: Talleres y maestranzas. | D24: =+'PLAN RECUPERACIÓN '!I268 -> 291057660 | E24: =+D24/E4 -> 7319.8997 | F24: =+D24+F23 -> 10802706629 | H24: =+'PLAN RECUPERACIÓN '!I255 -> 59400000 | I24: =+'PLAN RECUPERACIÓN '!I256 -> 41160000 | J24: =+'PLAN RECUPERACIÓN '!I257 -> 140230000 | K24: =+J24+I24+H24 -> 240790000 | L24: =+K24+L21 -> 4278754652
B25: 19 | C25: Guardias de acceso. | D25: =+'PLAN RECUPERACIÓN '!I273 -> 18811600 | E25: =+D25/E4 -> 473.09879 | F25: =+D25+F24 -> 10821518229 | H25: =+'PLAN RECUPERACIÓN '!I269 -> 2688000 | I25: =+'PLAN RECUPERACIÓN '!I271 -> 2688000 | J25: =+'PLAN RECUPERACIÓN '!I272 -> 12128000 | K25: =+J25+I25+H25 -> 17504000 | L25: =+K25+L24 -> 4296258652
B26: 20 | C26: Casa de botes Curauma. | D26: =+'PLAN RECUPERACIÓN '!I290 -> 70323180 | E26: =+D26/E4 -> 1768.5796 | F26: =+D26+F25 -> 10891841409 | H26: =+'PLAN RECUPERACIÓN '!I276 -> 14400000 | I26: =+'PLAN RECUPERACIÓN '!I278 -> 8960000 | J26: =+'PLAN RECUPERACIÓN '!I279 -> 13265000 | K26: =+J26+I26+H26 -> 36625000 | L26: =+K26+L25 -> 4332883652
B27: 21 | C27: Quincho. | D27: =+'PLAN RECUPERACIÓN '!I302 -> 44995290 | E27: =+D27/E4 -> 1131.6006 | F27: =+D27+F26 -> 10936836699 | H27: =+'PLAN RECUPERACIÓN '!I293 -> 9552000 | I27: =+'PLAN RECUPERACIÓN '!I294 -> 3200000 | J27: =+'PLAN RECUPERACIÓN '!I295 -> 26530000 | K27: =+J27+I27+H27 -> 39282000 | L27: =+K27+L26 -> 4372165652
B28: 22 | C28: Instalaciones sanitarias de urbanización. | D28: =+'PLAN RECUPERACIÓN '!I309 -> 114750000 | E28: =+D28/E4 -> 2885.8835 | F28: =+D28+F27 -> 11051586699
B29: 23 | C29: Instalaciones eléctricas de urbanización. | D29: Por definir | E29: 0 | F29: 0
B30: 24 | C30: Instalaciones de gas. | D30: Por definir | E30: 0 | F30: 0
B31: 25 | C31: Generales. | D31: =+'PLAN RECUPERACIÓN '!I332 -> 368000000 | E31: =+D31/E4 -> 9254.9466 | F31: =+D31+F28 -> 11419586699
C32: VALOR TOTAL IVA INCLUIDO | D32: =SUM(D7:D31) -> 11419586699 | E32: =SUM(E7:E31) -> 287194.74 | H32: =SUM(H8:H31) -> 928321652 | I32: =SUM(I8:I31) -> 683411000 | J32: =SUM(J8:J31) -> 2760433000
B37: ITEM | C37: DESCRIPCIÓN | D37: VALOR $ | E37: VALOR UF
B38: 1 | C38: PLAN DE SOSTENIMIENTO ANUAL PROMEDIO A 10 AÑOS | D38: 591858697 | E38: 14925
B39: 2 | C39: PLAN DE RECUPERACIÓN DE LA INFRAESTRUCTURA VALOR TOTAL | D39: =+D32 -> 11419586699 | E39: =+E32 -> 287194.74
C42: =+B4 -> Valor UF 09-01-2026
C43: =+E4 -> 39762.52

Sheet TABLA DE COMPARACIÓN CD
B2: PROYECTO: RECUPERACIÓN COMPLEJO DEPORTIVO
B4: TABLA DE COMPARACIÓN DE ALTERNATIVAS
J5: DESCRIPCIÓN PROPUESTAS
B6: DESCRIPCIÓN | C6: SECTOR | D6: ESTRUCTURAS | E6: UNIDAD DE MEDIA | F6: CANTIDAD | G6: PRECIO UNITARIO | H6: VALOR ESTIMADO TOTAL | I6: VALOR ESTIMADO POR ESNAVAL CD | J6: IND (SERVICONS) | K6: ARTECO / BUTLER (FABRICANTE) | L6: COINVA | M6: PADILLA (ASMAR)
B7: PISCINAS | C7: TECHUMBRE | D7: CAMBIO COSTANERAS | E7: M2 | F7: 1922 | I7: SI | J7: SI | K7: SI | L7: SI | M7: NO
D8: CAMBIO CUBIERTA DE TECHO | E8: M2 | F8: 1922 | I8: SI | J8: SI | K8: SI | L8: SI | M8: NO
C9: MUROS | D9: CAMBIO DE COSTANERAS | E9: M2 | F9: =320+340 -> 660 | I9: SI | J9: SI | K9: SI | L9: SI | M9: NO
D10: CAMBIO DE REVESTIMIENTOS | E10: M2 | F10: =+F9 -> 660 | I10: SI | J10: SI | K10: SI | L10: SI | M10: NO
D11: CAMBIO DE VENTANALES | E11: M2 | F11: =330+215+54+50+106+3.2+43+18 -> 819.2 | G11: 379000 | H11: =+G11*F11 -> 310476800 | I11: SI | J11: PARCIAL | K11: PARCIAL 280 M2 | L11: PARCIAL | M11: NO
B12: GIMNASIO | C12: TECHUMBRE | D12: MANTENCIÓN DE COSTANERAS | E12: M2 | F12: =373+364+630 -> 1367 | H12: 932362560 | I12: SI | J12: NO | K12: SI | L12: SI | M12: SI
D13: CAMBIO CUBIERTA DE TECHO | E13: M2 | F13: =+F12 -> 1367 | I13: SI | J13: NO | K13: SI | L13: SI | M13: SI
C14: MUROS | D14: MANTENIMIENTO DE COSTANERAS | E14: M2 | F14: 3104 | I14: SI | J14: NO | K14: SI | L14: NO | M14: SI
D15: REVESTIMIENTO MUROS | E15: M2 | F15: 3104 | I15: SI | J15: NO | K15: SI | L15: NO | M15: SI
D16: CAMBIO DE VENTANALES | E16: M2 | F16: =3.8+3.8+10.8+6.3+4.2+3.2+15+11+16+0.7+64+11+13+4.2+0.6+4.2 -> 171.8 | G16: 379000 | H16: =+G16*F16 -> 65112200 | I16: SI | J16: NO | K16: NO | L16: NO | M16: NO
B17: NORMALIZACIÓN INSTALACIÓN ELÉCTRICA | C17: PISCINAS | D17: INSTALACIONES ELÉCTRICAS | E17: GL. | F17: 1 | G17: 171333344 | H17: =+G17*F17 -> 171333344 | I17: SI | J17: SI | K17: NO | L17: NO | M17: NO
D18: ILUMINACIÓN | I18: SI | J18: SI | K18: NO | L18: NO | M18: NO
D19: CLIMATIZACIÓN | I19: SI | J19: SI | K19: NO | L19: NO | M19: NO
C20: GIMNASIO | D20: INSTALACIONES ELÉCTRICAS | E20: GL. | F20: 1 | G20: =1367*23450 -> 32056150 | H20: =+G20*F20 -> 32056150 | I20: SI | J20: NO | K20: NO | L20: NO | M20: NO
D21: ILUMINACIÓN | I21: SI | J21: NO | K21: SI | L21: NO | M21: NO
B22: CLIMATIZACIÓN | C22: PISCINAS | D22: CLIMATIZACIÓN RECINTOS NIVEL 1 Y -1 | E22: GL. | F22: 1 | G22: 650602993 | H22: =+G22*F22 -> 650602993 | I22: SI | J22: PARCIAL | K22: NO | L22: NO | M22: NO
D23: CALEFACCIÓN AGUAS | I23: SI | J23: PARCIAL | K23: NO | L23: NO | M23: NO
D24: SALA DE CALDERAS | E24: GL. | F24: 1 | G24: 35000000 | H24: =+F24*G24 -> 35000000 | I24: SI | J24: PARCIAL | K24: NO | L24: NO | M24: NO
B25: ACCESIBILIDAD UNIVERSAL | C25: PISCINA OLÍMPICA | D25: VIAS DE CIRCULACIÓN | E25: M2 | F25: 1 | I25: SI | J25: SI | K25: NO | L25: NO | M25: NO
D26: BAÑOS VISITAS | E26: M2 | I26: SI | J26: SI | K26: NO | L26: NO | M26: NO
D27: 2 CAMARINES DE 7 | E27: M2 | I27: SI | J27: SI | K27: NO | L27: NO | M27: NO
B28: PISCINAS | C28: VARIOS | D28: EQUIPAMIENTO | E28: M2 | F28: 1 | G28: 920993 | H28: =+G28*F28 -> 920993 | I28: SI | J28: SI | K28: NO | L28: NO | M28: NO
D29: EQUIPOS | E29: M2 | F29: 1 | G29: 124189402 | H29: =+G29*F29 -> 124189402 | I29: SI | J29: SI | K29: NO | L29: NO | M29: NO
D30: CIRCUITO DE RECIRCULACIÓN | E30: M2 | F30: 1 | I30: SI | J30: SI | K30: NO | L30: NO | M30: NO
D31: SISTEMA DE BOMBAS Y FILTROS | E31: GL. | F31: 1 | I31: SI | J31: SI | K31: NO | L31: SI | M31: SI
D32: MANTENIMIENTO VASOS PISCINAS | E32: GL. | F32: 1 | I32: SI | J32: SI | K32: NO | L32: SOLO LIMPIEZA, NO CONSIDERA REPARACIÓN, PINTADO Y DEMARCACIONES. | M32: NO
H33: VALORES ESTIMADOS IVA INCLUIDO | I33: =+J33+M33 -> 3183030317 | J33: =2119557362+H28+H29 -> 2244667757 | K33: 3352029075 | L33: 2237065353 | M33: 938362560
J34: =+J33+H24+H22+H17+H11 -> 3412080894
H35: PLAZOS EN MESES | I35: 6 MESES | J35: 6 MESES | K35: 7 MESES | L35: 4 MESES | M35: 4 MESES
K36: 3,5 MESES SON POR IMPORTACIÓN
