Workbook
Name datos: #REF!
Name datos: #REF!
Name datos: #REF!
Name datos: #REF!
Name datos: #REF!
Name datos: #REF!
Name datos: #REF!
Name datos: #REF!
Name datos: #REF!
Name datos: #REF!
Name datos: #REF!
Name datos: #REF!
Name datos: #REF!
Name datos: #REF!
Name datos: #REF!
Name datos: #REF!
Name datos: #REF!
Name Imprimir1: #REF!
Name Imprimir1: #REF!
Name Imprimir1: #REF!
Name Imprimir1: #REF!
Name Imprimir1: #REF!
Name Imprimir1: #REF!
Name Imprimir1: #REF!
Name Imprimir1: #REF!
Name Imprimir1: #REF!
Name Imprimir1: #REF!
Name Imprimir1: #REF!
Name Imprimir1: #REF!
Name Imprimir1: #REF!
Name Imprimir1: #REF!
Name Imprimir1: #REF!
Name Imprimir1: #REF!
Name Imprimir1: #REF!
Name Imprimir2: #REF!
Name Imprimir2: #REF!
Name Imprimir2: #REF!
Name Imprimir2: #REF!
Name Imprimir2: #REF!
Name Imprimir2: #REF!
Name Imprimir2: #REF!
Name Imprimir2: #REF!
Name Imprimir2: #REF!
Name Imprimir2: #REF!
Name Imprimir2: #REF!
Name Imprimir2: #REF!
Name Imprimir2: #REF!
Name Imprimir2: #REF!
Name Imprimir2: #REF!
Name Imprimir2: #REF!
Name Imprimir2: #REF!
Name PartsList: '[1]Price List'!$A$2:$A$2849

Sheet tablas y demases
L1: solo efecto cálculo
A2: RESUMEN INVERSIÓN INICIAL FASE 1 Y 2. | J2: =J4+J14+J20+J23+J27+J30+J33+J36+J39+J42+J45+J48 -> 11860336 | K2: =L2 -> 11850000 | L2: =11850000 -> 11850000
J3: SUBTOTALES | K3: SUBTOTALES (c/ factor ajuste)
A4: 1. Comando, Control, Comunicaciones, Computación e Inteligencia | J4: =I5+I8+I13 -> 3554161 | K4: 3550000 | L4: =K4+K14+K20+K23+K27+K30+K33+K36+K39+K42+K45+K48 -> 11850000 | M4: Alternativa única
B5: 1.1 MANDO Y CONTROL | I5: =SUM(H6:H7) -> 1164948 | K5: =1-(K4/J4) -> 0.0011707404 | M5: Adquisición de equipamiento para FF.EE.
C6: 1.1.1. EQUIPAMIENTO PUESTO DE MANDO | H6: =SUM('TABLA GENERAL FASE 1 Y 2'!S5:S15) -> 417551 | K6: =J4-K4 -> 4161 | M6: Año | N6: Valores en USD
C7: 1.1.2. EQUIPAMIENTO SOFTWARE MANDO Y CONTROL | H7: =SUM('TABLA GENERAL FASE 1 Y 2'!S16:S22) -> 747397 | M7: Valor contrato adquisición equipamiento Fuerzas Especiales, financiados por Ley 21.174
B8: 1.2.TELECOMUNICACIONES | I8: =SUM(H9:H12) -> 1538314
C9: 1.2.1. TRANSCEPTOR VHF - UHF | H9: =SUM('TABLA GENERAL FASE 1 Y 2'!S23:S26) -> 877797 | M9: 2021 | N9: 2550000
C10: 1.2.2. VIDEO TÁCTICO | H10: =SUM('TABLA GENERAL FASE 1 Y 2'!S27:S28) -> 63233 | M10: 2022 | N10: 2500000
C11: 1.2.3. TRANSCEPTOR HF | H11: =SUM('TABLA GENERAL FASE 1 Y 2'!S29:S30) -> 409798 | M11: 2023 | N11: 2500000
C12: 1.2.4. SATCOM | H12: =SUM('TABLA GENERAL FASE 1 Y 2'!S31:S33) -> 187486 | M12: 2025 | N12: 4300000
B13: 1.3. INTEGRACIÓN E ILS | I13: =SUM('TABLA GENERAL FASE 1 Y 2'!S34:S38) -> 850899 | M13: Subtotal Ley 21.174 | N13: =SUM(N9:N12) -> 11850000
A14: 2. Equipamiento Militar | J14: =I15+I16+I17 -> 3335223.5 | K14: 3333400 | M14: Mantenimiento de la MOP, financiado por AFL
B15: 2.1. EQUIPAMIENTO INDIVIDUAL FUERZAS ESPECIALES | I15: =SUM('TABLA GENERAL FASE 1 Y 2'!S44:S56) -> 1116128.7 | K15: =1-(K14/J14) -> 0.00054672545 | M15: 2021 | N15: ='CCV TOTAL'!E10 -> 0
B16: 2.2. EQUIPO ESPECIAL FUERZAS ESPECIALES | I16: =SUM('TABLA GENERAL FASE 1 Y 2'!S57:S102) -> 154864.12 | K16: =J14-K14 -> 1823.4515 | M16: 2022 | N16: ='CCV TOTAL'!F10 -> 83186.604
B17: 2.3. EQUIPAMIENTO PARACAIDISMO FUERZAS ESPECIALES | I17: =H18+H19 -> 2064230.6 | M17: 2023 | N17: ='CCV TOTAL'!G10 -> 98014.437
C18: 2.3.1. EQUIPAMIENTO PARAIDISMO LIBRE (H.A.H.O. Y H.A.L.O.) | H18: =SUM('TABLA GENERAL FASE 1 Y 2'!S104:S121) -> 1683929.9 | M18: 2024 | N18: ='CCV TOTAL'!H10 -> 181599.31
C19: 2.3.2. EQUIPAMIENTO PARACAIDISMO BÁSICO MILITAR | H19: =SUM('TABLA GENERAL FASE 1 Y 2'!S122:S131) -> 380300.75 | M19: 2025 | N19: ='CCV TOTAL'!I10 -> 118623.81
A20: 3. Infiltración | J20: =I21+I22 -> 767924.46 | K20: 767000 | M20: 2026 | N20: ='CCV TOTAL'!J10 -> 179622.3
B21: 3.1. EQUIPAMIENTO INDIVIDUAL DE BUCEO | I21: =SUM('TABLA GENERAL FASE 1 Y 2'!S137:S160) -> 647628.46 | K21: =1-(K20/J20) -> 0.0012038444 | M21: 2027 | N21: ='CCV TOTAL'!K10 -> 184460.65
B22: 3.2. EQUIPAMIENTO INSERCIONES ANFIBIA | I22: =SUM('TABLA GENERAL FASE 1 Y 2'!S161:S166) -> 120296 | K22: =J20-K20 -> 924.46154 | M22: 2028 | N22: ='CCV TOTAL'!L10 -> 192338.93
A23: 4. Logística | J23: =I24+I25+I26 -> 2584917.5 | K23: 2584000 | M23: 2029 | N23: ='CCV TOTAL'!M10 -> 184982.04
B24: 4.1. EQUIPAMIENTO TRANSNPORTE TÁCTICO FUERZAS ESPECIALES | I24: =SUM('TABLA GENERAL FASE 1 Y 2'!S172:S179) -> 869189.24 | K24: =1-(K23/J23) -> 0.0003549591 | M24: 2030 | N24: ='CCV TOTAL'!N10 -> 190078.12
B25: 4.2. EQUIPAMIENTO SOPORTE LOGÍSTICO FUERZAS ESPECIALES | I25: =SUM('TABLA GENERAL FASE 1 Y 2'!S180:S191) -> 1482533 | K25: =J23-K23 -> 917.54 | M25: 2031 | N25: ='CCV TOTAL'!O10 -> 195785.23
B26: 4.3. EQUIPAMIENTO SANIDAD FUERZAS ESPECIALES | I26: =SUM('TABLA GENERAL FASE 1 Y 2'!S192:S197) -> 233195.3 | M26: 2032 | N26: ='CCV TOTAL'!P10 -> 183032.69
A27: 5. Obtención de información | J27: =SUM('TABLA GENERAL FASE 1 Y 2'!S202:S211) -> 524362 | K27: 524000 | M27: 2033 | N27: ='CCV TOTAL'!Q10 -> 183979.02
K28: =1-(K27/J27) -> 0.00069036276
K29: =J27-K27 -> 362
A30: 6. Determinación de efectos | J30: =SUM('TABLA GENERAL FASE 1 Y 2'!S216) -> 5000 | K30: 5000 | M30: 2034 | N30: ='CCV TOTAL'!R10 -> 161924.41
K31: =1-(K30/J30) -> 0
K32: =J30-K30 -> 0
A33: 7. Ataque de precisión | J33: =SUM('TABLA GENERAL FASE 1 Y 2'!S221:S231) -> 111245.56 | K33: 111000 | M33: 2035 | N33: ='CCV TOTAL'!S10 -> 197162.49
K34: =1-(K33/J33) -> 0.002207369
K35: =J33-K33 -> 245.56
A36: 8. Operaciones de buceo | J36: =SUM('TABLA GENERAL FASE 1 Y 2'!S237:S239) -> 263522 | K36: 263000 | M36: 2036 | N36: ='CCV TOTAL'!T10 -> 200991.9
K37: =1-(K36/J36) -> 0.0019808593
K38: =J36-K36 -> 522
A39: 9. Operaciones de rebúsqueda | J39: =SUM('TABLA GENERAL FASE 1 Y 2'!S244) -> 172012 | K39: 171000 | M39: 2037 | N39: ='CCV TOTAL'!U10 -> 190572.66
K40: =1-(K39/J39) -> 0.0058833105
...

Sheet Supuestos
A1: Supuestos y documentación de la estimación
A2: Categoría de costo | D2: Supuesto
A3: Inversión inicial
A4: 2.2.- Adquisición | D4: Considera la adquisición de los equipos pertenecientes a los sistemas del Comando de Fuerzas Especiales.
A5: 2.5.- Otras Inversiones | D5: Considera sólo costos de integración del sistema Comando, Control, Comunicacones y Computación (C4I)
A7: Operación y apoyo
A8: 3.1.- Costo de Personal que Opera la MOP | D8: No se consideran estos costos, ya que el Comando de Fuerzas Especiales, mantendrá su dotación y capacidades de personal sin variaciones posterior a la ejecución del proyecto.
A9: 3.2.- Costos de Operación de la MOP | D9: No habrá variaciones incrementales en los presupuestos operacionales del Comfues, ya que los equipos que llegarían no requieren consumos, e insumos específicos extraordinarios. Sólo en el caso del Subsistema C4I, que habrán gastos específicos de banda ancha satelital. seguros infraestructura TI y licencias y antivirus.
A10: 3.3.- Costos de Mantenimiento | D10: 3.3.1.- Mantenimiento Programado: Se utilizó DATA de las Direcciones Técnicas asociadas a cada equipo, además de la estadística existente en el Comfues relacionada con los grados de actividad anualizados.
A11: 3.4.- Costos de Apoyo Directo | D11: No se consideraron costos de apoyo directo.
A13: Retirada y eliminación
A14: 4.3.- Retiro y Eliminación de Materiales Peligrosos | D14: No se consideraron estos costos en la evaluación económica.

Sheet TABLA GENERAL
A2: CAPACIDAD | B2: EQUIPAMIENTO | C2: BRECHA cantidad | D2: VALOR UNITARIO | E2: VALOR TOTAL (USD) | G2: EN AMARILLO LOS VALORES RFI
A3: Comando, Control C4I | B3: Carpa inflable 42 mt2 (7X5,6mts), faja unión, puerta exclusa, liner interior. | C3: 2 | D3: 35321 | E3: =D3*C3 -> 70642
B4: Redes mimetismo carpa. | C4: 2 | D4: 17579 | E4: =D4*C4 -> 35158
B5: Trailer para carpa y accesorios 3,5 ton. | C5: 2 | D5: 24779 | E5: =D5*C5 -> 49558
B6: Mobiliario para carpas, sillas, piso. | C6: 2 | D6: 22458 | E6: =D6*C6 -> 44916
B7: Sist. Eléctrico, banco baterías, generador 8,5 kva, Iluminación exterior, inst. eléctrica. | C7: 2 | D7: 63048 | E7: =D7*C7 -> 126096
B8: Climatización generador eléctrico 22 kva Trifásico, trayler 1,5 ton. | C8: 2 | D8: 81814 | E8: =D8*C8 -> 163628
B9: Teléfonos IP. | C9: 16 | D9: 141 | E9: =D9*C9 -> 2256
B10: Laptop rugerizado puesto mando. | C10: 16 | D10: 6243 | E10: =D10*C10 -> 99888
B11: Laptop rugerizado unidades pedestres. | C11: 10 | D11: 6877 | E11: =D11*C11 -> 68770
B12: Laptop semi-rugerizado. | C12: 10 | D12: 4929 | E12: =D12*C12 -> 49290
B13: Proyector. | C13: 3 | D13: 3450 | E13: =D13*C13 -> 10350
B14: Impresora. | C14: 2 | D14: 821 | E14: =D14*C14 -> 1642
B15: Televisión 60" con atril. | C15: 3 | D15: 1314 | E15: =D15*C15 -> 3942
... B48: Integración C4I. | C48: 1 | D48: 670956 | E48: =D48*C48 -> 670956
B49: TOTAL C4I | E49: =SUM(E3:E48) -> 8040336
A53: CAPACIDAD | B53: EQUIPAMIENTO | C53: BRECHA cantidad | D53: VALOR UNITARIO | E53: VALOR TOTAL (USD)
A54: Equipamiento Militar | B54: Fusil de asalto calibre 5,56 mm. | C54: 65 | D54: 3150 | E54: =D54*C54 -> 204750
B55: Cargadores de 30 tiros cal 5,56 mm (8 por cada armamento). | C55: 1100 | D55: 36.96 | E55: =D55*C55 -> 40656
B56: Supresor de ruido de fusil de asalto calibre 5,56 (solo para 6 unidades). | C56: 42 | D56: 739 | E56: =D56*C56 -> 31038
B57: Designador IR. | C57: 84 | D57: 2300 | E57: =D57*C57 -> 193200
B58: Mira holográfica híbrida (inc. Mira óptica). | C58: 125 | D58: 1690 | E58: =D58*C58 -> 211250
B59: Visor nocturno binocular. | C59: 140 | D59: 13300 | E59: =D59*C59 -> 1862000
B60: Tenida anti IR Fibro Tex (4 por unidad de FF.EE.). | C60: 42 | D60: 314 | E60: =D60*C60 -> 13188
B61: Brújula militar tipo M1 (4 por Unidad). | C61: 70 | D61: 139.67 | E61: =D61*C61 -> 9776.9
B62: Carpa bipersonal (6 por Unidad de FF.EE. mas PPMM y PALE). | C62: 165 | D62: 315 | E62: =D62*C62 -> 51975
B63: GPS (cuatro por Unidad más 2 x PPMM y 2 x PALE). | C63: 6 | D63: 250 | E63: =D63*C63 -> 1500
B64: Lanza Granadas 40 mm (4 por Unidad de FF.EE.). | C64: 21 | D64: 1495 | E64: =D64*C64 -> 31395
B65: Mortero de 60 mm tipo comando. (1 por Unidad de FF.EE.). | C65: 4 | D65: 18118 | E65: =D65*C65 -> 72472
B66: Porta fajas de 100 tiros cal 5,56. | C66: 4 | D66: 34 | E66: =D66*C66 -> 136
... B78: Balaclava. | C78: 56 | D78: 27.57 | E78: =D78*C78 -> 1543.92
B79: Cuerdas estáticas (50 mts). | C79: 12 | D79: =99647/650 -> 153.30308 | E79: =D79*C79 -> 1839.6369
B80: Cuerdas dinámicas (50 mts). | C80: 8 | D80: =99647/650 -> 153.30308 | E80: =D80*C80 -> 1226.4246
B81: Camilla de rescate de altura. | C81: 4 | D81: 3218 | E81: =D81*C81 -> 12872
B82: Pala para nieve. | C82: 56 | D82: 64.36 | E82: =D82*C82 -> 3604.16
B83: Mosquetones con seguro. | C83: 56 | D83: 21.77 | E83: =D83*C83 -> 1219.12
B84: Mosquetón sin seguro. | C84: 56 | D84: 13.49 | E84: =D84*C84 -> 755.44
B85: Cordín (50 mts). | C85: 320 | D85: =99647/650 -> 153.30308 | E85: =D85*C85 -> 49056.985
B86: Pantalón de abrigo 1ra. Capa. | C86: 56 | D86: 12.99 | E86: =D86*C86 -> 727.44
B87: Camisa manga larga 1ra. Capa. | C87: 56 | D87: 10.47 | E87: =D87*C87 -> 586.32
...

Sheet TABLA GENERAL FASE 1 Y 2
B1: Comando, Control C4I
J2: FASE 1 | P2: FASE 2
J3: FASE 1 | P3: FASE 2 | R3: FASE 1 Y 2
A4: CAPACIDAD | F4: EQUIPAMIENTO | G4: BRECHA cantidad | H4: VALOR UNITARIO | I4: VALOR TOTAL (USD) | J4: 2021 | K4: VALOR TOTAL | L4: 2022 | M4: VALOR TOTAL | N4: 2023 | O4: VALOR TOTAL | P4: 2025 | Q4: VALOR TOTAL | R4: CANTIDADES TOTALES FASE 1 Y 2 | S4: VALORES TOTALES FASE 1 Y 2
A5: Comando, Control C4I | B5: 1. SISTEMA COMANDO, CONTROL, COMUNICACIONES Y COMPUTACIÓN (C4I) | C5: 1.1. MANDO Y CONTROL | D5: 1.1.1. EQUIPAMIENTO PUESTO DE MANDO | E5: 1.1.1.1. | F5: Carpa inflable 42 mt2 (7X5,6mts), faja unión, puerta exclusa, liner interior. | G5: 2 | H5: ='TABLA GENERAL'!D3 -> 35321 | I5: 70642 | J5: 0 | K5: =J5*H5 -> 0 | L5: 1 | M5: =L5*H5 -> 35321 | N5: 0 | O5: =N5*H5 -> 0 | P5: 0 | Q5: =P5*H5 -> 0 | R5: =P5+N5+L5+J5 -> 1 | S5: =Q5+O5+M5+K5 -> 35321
E6: 1.1.1.2. | F6: Redes mimetismo carpa. | G6: 2 | H6: ='TABLA GENERAL'!D4 -> 17579 | I6: 35158 | J6: 0 | K6: =J6*H6 -> 0 | L6: 1 | M6: =L6*H6 -> 17579 | N6: 0 | O6: =N6*H6 -> 0 | P6: 0 | Q6: =P6*H6 -> 0 | R6: =P6+N6+L6+J6 -> 1 | S6: =Q6+O6+M6+K6 -> 17579
E7: 1.1.1.3. | F7: Trailer para carpa y accesorios 3,5 ton. | G7: 2 | H7: ='TABLA GENERAL'!D5 -> 24779 | I7: 49558 | J7: 0 | K7: =J7*H7 -> 0 | L7: 1 | M7: =L7*H7 -> 24779 | N7: 0 | O7: =N7*H7 -> 0 | P7: 0 | Q7: =P7*H7 -> 0 | R7: =P7+N7+L7+J7 -> 1 | S7: =Q7+O7+M7+K7 -> 24779
E8: 1.1.1.4. | F8: Mobiliario para carpas, sillas, piso. | G8: 2 | H8: ='TABLA GENERAL'!D6 -> 22458 | I8: 44916 | J8: 0 | K8: =J8*H8 -> 0 | L8: 1 | M8: =L8*H8 -> 22458 | N8: 0 | O8: =N8*H8 -> 0 | P8: 0 | Q8: =P8*H8 -> 0 | R8: =P8+N8+L8+J8 -> 1 | S8: =Q8+O8+M8+K8 -> 22458
E9: 1.1.1.5. | F9: Sist. Eléctrico, banco baterías, generador 8,5 kva, Iluminación exterior, inst. eléctrica. | G9: 2 | H9: ='TABLA GENERAL'!D7 -> 63048 | I9: 126096 | J9: 0 | K9: =J9*H9 -> 0 | L9: 1 | M9: =L9*H9 -> 63048 | N9: 0 | O9: =N9*H9 -> 0 | P9: 0 | Q9: =P9*H9 -> 0 | R9: =P9+N9+L9+J9 -> 1 | S9: =Q9+O9+M9+K9 -> 63048
E10: 1.1.1.6. | F10: Climatización generador eléctrico 22 kva Trifásico, trayler 1,5 ton. | G10: 2 | H10: ='TABLA GENERAL'!D8 -> 81814 | I10: 163628 | J10: 0 | K10: =J10*H10 -> 0 | L10: 1 | M10: =L10*H10 -> 81814 | N10: 0 | O10: =N10*H10 -> 0 | P10: 0 | Q10: =P10*H10 -> 0 | R10: =P10+N10+L10+J10 -> 1 | S10: =Q10+O10+M10+K10 -> 81814
E11: 1.1.1.7. | F11: Teléfonos IP. | G11: 16 | H11: ='TABLA GENERAL'!D9 -> 141 | I11: 2256 | J11: 10 | K11: =J11*H11 -> 1410 | L11: 0 | M11: =L11*H11 -> 0 | N11: 0 | O11: =N11*H11 -> 0 | P11: 0 | Q11: =P11*H11 -> 0 | R11: =P11+N11+L11+J11 -> 10 | S11: =Q11+O11+M11+K11 -> 1410
E12: 1.1.1.8. | F12: Laptop rugerizado puesto mando. | G12: 16 | H12: ='TABLA GENERAL'!D10 -> 6243 | I12: 99888 | J12: 10 | K12: =J12*H12 -> 62430 | L12: 2 | M12: =L12*H12 -> 12486 | N12: 0 | O12: =N12*H12 -> 0 | P12: 0 | Q12: =P12*H12 -> 0 | R12: =P12+N12+L12+J12 -> 12 | S12: =Q12+O12+M12+K12 -> 74916
E13: 1.1.1.9. | F13: Laptop rugerizado unidades pedestres. | G13: 10 | H13: ='TABLA GENERAL'!D11 -> 6877 | I13: 68770 | J13: 10 | K13: =J13*H13 -> 68770 | L13: 0 | M13: =L13*H13 -> 0 | N13: 0 | O13: =N13*H13 -> 0 | P13: 0 | Q13: =P13*H13 -> 0 | R13: =P13+N13+L13+J13 -> 10 | S13: =Q13+O13+M13+K13 -> 68770
E14: 1.1.1.10. | F14: Sistema VCO. | G14: 2 | H14: ='TABLA GENERAL'!D16 -> 27035 | I14: 54070 | J14: 1 | K14: =J14*H14 -> 27035 | L14: 0 | M14: =L14*H14 -> 0 | N14: 0 | O14: =N14*H14 -> 0 | P14: 0 | Q14: =P14*H14 -> 0 | R14: =P14+N14+L14+J14 -> 1 | S14: =Q14+O14+M14+K14 -> 27035
E15: 1.1.1.11. | F15: Carrete eléctricos 25 mts. | G15: 4 | H15: ='TABLA GENERAL'!D17 -> 421 | I15: 1684 | J15: 1 | K15: =J15*H15 -> 421 | L15: 0 | M15: =L15*H15 -> 0 | N15: 0 | O15: =N15*H15 -> 0 | P15: 0 | Q15: =P15*H15 -> 0 | R15: =P15+N15+L15+J15 -> 1 | S15: =Q15+O15+M15+K15 -> 421
D16: 1.1.2. EQUIPAMIENTO SOFTWARE MANDO Y CONTROL | E16: 1.1.2.1, | F16: M&c nivel operacional (nivel pm). | G16: 2 | H16: ='TABLA GENERAL'!D19 -> 27984 | I16: 55968 | J16: 0 | K16: =J16*H16 -> 0 | L16: 1 | M16: =L16*H16 -> 27984 | N16: 0 | O16: =N16*H16 -> 0 | P16: 0 | Q16: =P16*H16 -> 0 | R16: =P16+N16+L16+J16 -> 1 | S16: =Q16+O16+M16+K16 -> 27984
E17: 1.1.2.2. | F17: M&c nivel táctico (unidades tácticas). | G17: 14 | H17: ='TABLA GENERAL'!D20 -> 1655 | I17: 23170 | J17: 14 | K17: =J17*H17 -> 23170 | L17: 0 | M17: =L17*H17 -> 0 | N17: 0 | O17: =N17*H17 -> 0 | P17: 0 | Q17: =P17*H17 -> 0 | R17: =P17+N17+L17+J17 -> 14 | S17: =Q17+O17+M17+K17 -> 23170
E18: 1.1.2.3. | F18: Caja de integración transportable rugged. | G18: 2 | H18: ='TABLA GENERAL'!D21 -> 11477 | I18: 22954 | J18: 1 | K18: =J18*H18 -> 11477 | L18: 0 | M18: =L18*H18 -> 0 | N18: 0 | O18: =N18*H18 -> 0 | P18: 0 | Q18: =P18*H18 -> 0 | R18: =P18+N18+L18+J18 -> 1 | S18: =Q18+O18+M18+K18 -> 11477
E19: 1.1.2.4. | F19: Software de cálculo de propagación. | G19: 1 | H19: ='TABLA GENERAL'!D22 -> 44356 | I19: 44356 | J19: 0 | K19: =J19*H19 -> 0 | L19: 1 | M19: =L19*H19 -> 44356 | N19: 0 | O19: =N19*H19 -> 0 | P19: 0 | Q19: =P19*H19 -> 0 | R19: =P19+N19+L19+J19 -> 1 | S19: =Q19+O19+M19+K19 -> 44356
E20: 1.1.2.5, | F20: Antivirus. | G20: 36 | H20: ='TABLA GENERAL'!D23 -> 107 | I20: 3852 | J20: 10 | K20: =J20*H20 -> 1070 | L20: 2 | M20: =L20*H20 -> 214 | N20: 0 | O20: =N20*H20 -> 0 | P20: 0 | Q20: =P20*H20 -> 0 | R20: =P20+N20+L20+J20 -> 12 | S20: =Q20+O20+M20+K20 -> 1284
E21: 1.1.2.6. | F21: Software chateo táctico (tacchat). | G21: 13 | H21: ='TABLA GENERAL'!D24 -> 1484 | I21: 19292 | J21: 10 | K21: =J21*H21 -> 14840 | L21: 0 | M21: =L21*H21 -> 0 | N21: 0 | O21: =N21*H21 -> 0 | P21: 0 | Q21: =P21*H21 -> 0 | R21: =P21+N21+L21+J21 -> 10 | S21: =Q21+O21+M21+K21 -> 14840
E22: 1.1.2.6. | F22: Tráiler - cargo con generador. | G22: 2 | H22: ='TABLA GENERAL'!D25 -> 312143 | I22: 624286 | J22: 1 | K22: =J22*H22 -> 312143 | L22: 1 | M22: =L22*H22 -> 312143 | N22: 0 | O22: =N22*H22 -> 0 | P22: 0 | Q22: =P22*H22 -> 0 | R22: =P22+N22+L22+J22 -> 2 | S22: =Q22+O22+M22+K22 -> 624286
C23: 1.2. TELECOMUNICACIONES | D23: 1.2.1. TRANSCEPTOR VHF - UHF | E23: 1.2.1.1. | F23: Trans. VHF-UHF Vehicular 50 w desmontable a portátil, caja rugged. | G23: 1 | H23: ='TABLA GENERAL'!D27 -> 68138 | I23: 68138 | J23: 1 | K23: =J23*H23 -> 68138 | L23: 0 | M23: =L23*H23 -> 0 | N23: 0 | O23: =N23*H23 -> 0 | P23: 0 | Q23: =P23*H23 -> 0 | R23: =P23+N23+L23+J23 -> 1 | S23: =Q23+O23+M23+K23 -> 68138
E24: 1.2.1.2. | F24: Trans. VHF-UHF Vehicular 50 w desmontable a portátil. | G24: 11 | H24: ='TABLA GENERAL'!D28 -> 47779 | I24: 525569 | J24: 2 | K24: =J24*H24 -> 95558 | L24: 7 | M24: =L24*H24 -> 334453 | N24: 0 | O24: =N24*H24 -> 0 | P24: 0 | Q24: =P24*H24 -> 0 | R24: =P24+N24+L24+J24 -> 9 | S24: =Q24+O24+M24+K24 -> 430011
E25: 1.2.1.3. | F25: Trans. VHF-UHF Vehicular 50 w. | G25: 4 | H25: ='TABLA GENERAL'!D29 -> 40845 | I25: 163380 | J25: 0 | K25: =J25*H25 -> 0 | L25: 4 | M25: =L25*H25 -> 163380 | N25: 0 | O25: =N25*H25 -> 0 | P25: 0 | Q25: =P25*H25 -> 0 | R25: =P25+N25+L25+J25 -> 4 | S25: =Q25+O25+M25+K25 -> 163380
E26: 1.2.1.4. | F26: Trans. VHF-UHF Portatil hand held 10 w con capacidad de video. | G26: 152 | H26: ='TABLA GENERAL'!D30 -> 16636 | I26: 2528672 | J26: 13 | K26: =J26*H26 -> 216268 | L26: 0 | M26: =L26*H26 -> 0 | N26: 0 | O26: =N26*H26 -> 0 | P26: 0 | Q26: =P26*H26 -> 0 | R26: =P26+N26+L26+J26 -> 13 | S26: =Q26+O26+M26+K26 -> 216268
D27: 1.2.2. VIDEO TÁCTICO | E27: 1.2.2.1. | F27: Procesador de video táctico con batería x2. | G27: 10 | H27: ='TABLA GENERAL'!D32 -> 5231 | I27: 52310 | J27: 10 | K27: =J27*H27 -> 52310 | L27: 0 | M27: =L27*H27 -> 0 | N27: 0 | O27: =N27*H27 -> 0 | P27: 0 | Q27: =P27*H27 -> 0 | R27: =P27+N27+L27+J27 -> 10 | S27: =Q27+O27+M27+K27 -> 52310
E28: 1.2.2.2. | F28: Software de video táctico. | G28: 13 | H28: ='TABLA GENERAL'!D33 -> 3641 | I28: 47333 | J28: 3 | K28: =J28*H28 -> 10923 | L28: 0 | M28: =L28*H28 -> 0 | N28: 0 | O28: =N28*H28 -> 0 | P28: 0 | Q28: =P28*H28 -> 0 | R28: =P28+N28+L28+J28 -> 3 | S28: =Q28+O28+M28+K28 -> 10923
D29: 1.2.3. TRANSCEPTOR HF | E29: 1.2.3.1. | F29: HF vehicular 150w. | G29: 2 | H29: 123893 | I29: 247786 | J29: 1 | K29: =J29*H29 -> 123893 | L29: 0 | M29: =L29*H29 -> 0 | N29: 0 | O29: =N29*H29 -> 0 | P29: 0 | Q29: =P29*H29 -> 0 | R29: =P29+N29+L29+J29 -> 1 | S29: =Q29+O29+M29+K29 -> 123893
E30: 1.2.3.2. | F30: Hf manpack. | G30: 10 | H30: ='TABLA GENERAL'!D36 -> 57181 | I30: 571810 | J30: 5 | K30: =J30*H30 -> 285905 | L30: 0 | M30: =L30*H30 -> 0 | N30: 0 | O30: =N30*H30 -> 0 | P30: 0 | Q30: =P30*H30 -> 0 | R30: =P30+N30+L30+J30 -> 5 | S30: =Q30+O30+M30+K30 -> 285905
D31: 1.2.4. SATCOM | E31: 1.2.4.1 | F31: Terminal transportable ku/x. | G31: 2 | H31: ='TABLA GENERAL'!D39 -> 29368 | I31: 58736 | J31: 1 | K31: =J31*H31 -> 29368 | L31: 0 | M31: =L31*H31 -> 0 | N31: 0 | O31: =N31*H31 -> 0 | P31: 0 | Q31: =P31*H31 -> 0 | R31: =P31+N31+L31+J31 -> 1 | S31: =Q31+O31+M31+K31 -> 29368
E32: 1.2.4.2 | F32: Terminal portátil ku/x. | G32: 1 | H32: ='TABLA GENERAL'!D40 -> 26082 | I32: 26082 | J32: 1 | K32: =J32*H32 -> 26082 | L32: 0 | M32: =L32*H32 -> 0 | N32: 0 | O32: =N32*H32 -> 0 | P32: 0 | Q32: =P32*H32 -> 0 | R32: =P32+N32+L32+J32 -> 1 | S32: =Q32+O32+M32+K32 -> 26082
E33: 1.2.4.3. | F33: Terminal portátil militar data fonÍa. | G33: 10 | H33: ='TABLA GENERAL'!D41 -> 44012 | I33: 440120 | J33: 1 | K33: =J33*H33 -> 44012 | L33: 2 | M33: =L33*H33 -> 88024 | N33: 0 | O33: =N33*H33 -> 0 | P33: 0 | Q33: =P33*H33 -> 0 | R33: =P33+N33+L33+J33 -> 3 | S33: =Q33+O33+M33+K33 -> 132036
C34: 1.3. INTEGRACIÓN E ILS | E34: 1.3.1. | F34: Servidor raqueable. | G34: 2 | H34: ='TABLA GENERAL'!D42 -> 25629 | I34: 51258 | J34: 0 | K34: =J34*H34 -> 0 | L34: 1 | M34: =L34*H34 -> 25629 | N34: 0 | O34: =N34*H34 -> 0 | P34: 0 | Q34: =P34*H34 -> 0 | R34: =P34+N34+L34+J34 -> 1 | S34: =Q34+O34+M34+K34 -> 25629
E35: 1.3.2. | F35: Splitter gps. | G35: 3 | H35: ='TABLA GENERAL'!D45 -> 2744 | I35: 8232 | J35: 1 | K35: =J35*H35 -> 2744 | L35: 0 | M35: =L35*H35 -> 0 | N35: 0 | O35: =N35*H35 -> 0 | P35: 0 | Q35: =P35*H35 -> 0 | R35: =P35+N35+L35+J35 -> 1 | S35: =Q35+O35+M35+K35 -> 2744
E36: 1.3.3. | F36: Sistema de explotación de audio remoto. | G36: 2 | H36: ='TABLA GENERAL'!D46 -> 71054 | I36: 142108 | J36: 0 | K36: =J36*H36 -> 0 | L36: 1 | M36: =L36*H36 -> 71054 | N36: 0 | O36: =N36*H36 -> 0 | P36: 0 | Q36: =P36*H36 -> 0 | R36: =P36+N36+L36+J36 -> 1 | S36: =Q36+O36+M36+K36 -> 71054
E37: 1.3.4. | F37: Integrador automático redes dos vías y públicas | G37: 2 | H37: ='TABLA GENERAL'!D47 -> 80516 | I37: 161032 | J37: 0 | K37: =J37*H37 -> 0 | L37: 1 | M37: =L37*H37 -> 80516 | N37: 0 | O37: =N37*H37 -> 0 | P37: 0 | Q37: =P37*H37 -> 0 | R37: =P37+N37+L37+J37 -> 1 | S37: =Q37+O37+M37+K37 -> 80516
E38: 1.3.5. | F38: Integración C4I e ILS. | G38: 1 | H38: ='TABLA GENERAL'!D48 -> 670956 | I38: 670956 | J38: =0.25+0.1 -> 0.35 | K38: =J38*H38 -> 234834.6 | L38: 0.3 | M38: =L38*H38 -> 201286.8 | N38: 0.2 | O38: =N38*H38 -> 134191.2 | P38: 0.15 | Q38: =P38*H38 -> 100643.4 | R38: =P38+N38+L38+J38 -> 1 | S38: =Q38+O38+M38+K38 -> 670956
F39: TOTAL C4I | I39: =SUM(I5:I38) -> 7274066 | K39: =SUM(K5:K38) -> 1712801.6 | M39: =SUM(M5:M38) -> 1606524.8 | O39: =SUM(O5:O38) -> 134191.2 | Q39: =SUM(Q5:Q38) -> 100643.4 | S39: =Q39+O39+M39+K39 -> 3554161 | T39: =Q39+O39+M39+K39 -> 3554161
F42: Equipamiento Militar | R42: FASE 1 Y 2
...

Sheet ESTIMACIÓN VALOR DE COSTOS
L1: solo efecto cálculo
A2: RESUMEN INVERSIÓN INICIAL FASE 1 Y 2. | K2: =J4+J14+J20+J23+J27+J28+J29+J30+J31+J32+J33+J35 -> 11860336 | L2: =11850000 -> 11850000
J3: SUBTOTALES
A4: 1. COMANDO, CONTROL, COMUNICACIONES Y COMPUTACIÓN | J4: =I5+I8+I13 -> 3554161 | M4: Alternativa única
B5: 1.1 MANDO Y CONTROL | I5: =SUM(H6:H7) -> 1164948 | M5: Adquisición de equipamiento para FF.EE.
C6: 1.1.1. EQUIPAMIENTO PUESTO DE MANDO | H6: =SUM('TABLA GENERAL FASE 1 Y 2'!S5:S15) -> 417551 | M6: Año | N6: Valores en USD
C7: 1.1.2. EQUIPAMIENTO SOFTWARE MANDO Y CONTROL | H7: =SUM('TABLA GENERAL FASE 1 Y 2'!S16:S22) -> 747397 | M7: Valor contrato adquisición equipamiento Fuerzas Especiales, financiados por Ley 21.174
B8: 1.2.TELECOMUNICACIONES | I8: =SUM(H9:H12) -> 1538314
C9: 1.2.1. TRANSCEPTOR VHF - UHF | H9: =SUM('TABLA GENERAL FASE 1 Y 2'!S23:S26) -> 877797 | M9: 2021 | N9: 2550000
C10: 1.2.2. VIDEO TÁCTICO | H10: =SUM('TABLA GENERAL FASE 1 Y 2'!S27:S28) -> 63233 | M10: 2022 | N10: 2500000
C11: 1.2.3. TRANSCEPTOR HF | H11: =SUM('TABLA GENERAL FASE 1 Y 2'!S29:S30) -> 409798 | M11: 2023 | N11: 2500000
C12: 1.2.4. SATCOM | H12: =SUM('TABLA GENERAL FASE 1 Y 2'!S31:S33) -> 187486 | M12: 2025 | N12: 4300000
B13: 1.3. INTEGRACIÓN E ILS | I13: =SUM('TABLA GENERAL FASE 1 Y 2'!S34:S38) -> 850899 | M13: Subtotal Ley 21.174 | N13: =SUM(N9:N12) -> 11850000
A14: 2.0. Equipamiento Militar | J14: =I15+I16+I17 -> 3335223.5 | M14: Mantenimiento de la MOP, financiado por AFL
B15: 2.1. EQUIPAMIENTO INDIVIDUAL FUERZAS ESPECIALES | I15: =SUM('TABLA GENERAL FASE 1 Y 2'!S44:S56) -> 1116128.7 | M15: 2021 | N15: ='CCV TOTAL'!E10 -> 0
B16: 2.2. EQUIPO ESPECIAL FUERZAS ESPECIALES | I16: =SUM('TABLA GENERAL FASE 1 Y 2'!S57:S102) -> 154864.12 | M16: 2022 | N16: ='CCV TOTAL'!F10 -> 83186.604
B17: 2.3. EQUIPAMIENTO PARACAIDISMO FUERZAS ESPECIALES | I17: =H18+H19 -> 2064230.6 | M17: 2023 | N17: ='CCV TOTAL'!G10 -> 98014.437
C18: 2.3.1. EQUIPAMIENTO PARAIDISMO LIBRE (H.A.H.O. Y H.A.L.O.) | H18: =SUM('TABLA GENERAL FASE 1 Y 2'!S104:S121) -> 1683929.9 | M18: 2024 | N18: ='CCV TOTAL'!H10 -> 181599.31
C19: 2.3.2. EQUIPAMIENTO PARACAIDISMO BÁSICO MILITAR | H19: =SUM('TABLA GENERAL FASE 1 Y 2'!S122:S131) -> 380300.75 | M19: 2025 | N19: ='CCV TOTAL'!I10 -> 118623.81
A20: 3.0. INFILTRACIÓN | J20: =I21+I22 -> 767924.46 | M20: 2026 | N20: ='CCV TOTAL'!J10 -> 179622.3
B21: 3.1. EQUIPAMIENTO INDIVIDUAL DE BUCEO | I21: =SUM('TABLA GENERAL FASE 1 Y 2'!S137:S160) -> 647628.46 | M21: 2027 | N21: ='CCV TOTAL'!K10 -> 184460.65
B22: 3.2. EQUIPAMIENTO INSERCIONES ANFIBIA | I22: =SUM('TABLA GENERAL FASE 1 Y 2'!S161:S166) -> 120296 | M22: 2028 | N22: ='CCV TOTAL'!L10 -> 192338.93
A23: 4.0. LOGÍSTICA | J23: =I24+I25+I26 -> 2584917.5 | M23: 2029 | N23: ='CCV TOTAL'!M10 -> 184982.04
B24: 4.1. EQUIPAMIENTO TRANSNPORTE TÁCTICO FUERZAS ESPECIALES | I24: =SUM('TABLA GENERAL FASE 1 Y 2'!S172:S179) -> 869189.24 | M24: 2030 | N24: ='CCV TOTAL'!N10 -> 190078.12
B25: 4.2. EQUIPAMIENTO SOPORTE LOGÍSTICO FUERZAS ESPECIALES | I25: =SUM('TABLA GENERAL FASE 1 Y 2'!S180:S191) -> 1482533 | M25: 2031 | N25: ='CCV TOTAL'!O10 -> 195785.23
B26: 4.3. EQUIPAMIENTO SANIDAD FUERZAS ESPECIALES | I26: =SUM('TABLA GENERAL FASE 1 Y 2'!S192:S197) -> 233195.3 | M26: 2032 | N26: ='CCV TOTAL'!P10 -> 183032.69
A27: 5.0. OBTENCIÓN DE INFORMACIÓN | J27: =SUM('TABLA GENERAL FASE 1 Y 2'!S202:S211) -> 524362 | M27: 2033 | N27: ='CCV TOTAL'!Q10 -> 183979.02
A28: 6.0. DETERMINACIÓN DE EFECTOS | J28: =SUM('TABLA GENERAL FASE 1 Y 2'!S216) -> 5000 | M28: 2034 | N28: ='CCV TOTAL'!R10 -> 161924.41
A29: 7.0. ATAQUE DE PRECISIÓN | J29: =SUM('TABLA GENERAL FASE 1 Y 2'!S221:S231) -> 111245.56 | M29: 2035 | N29: ='CCV TOTAL'!S10 -> 197162.49
A30: 8.0.OPERACIONES DE BUCEO | J30: =SUM('TABLA GENERAL FASE 1 Y 2'!S237:S239) -> 263522 | M30: 2036 | N30: ='CCV TOTAL'!T10 -> 200991.9
A31: 9.0. OPERACIONES DE REBÚSQUEDA | J31: =SUM('TABLA GENERAL FASE 1 Y 2'!S244) -> 172012 | M31: 2037 | N31: ='CCV TOTAL'!U10 -> 190572.66
A32: 10.0. APOYO DE BOMBARDEO Y FAN | J32: =SUM('TABLA GENERAL FASE 1 Y 2'!S249) -> 90850 | M32: 2038 | N32: ='CCV TOTAL'!V10 -> 192793.87
A33: 11.0. VISITA Y ABORDAJE BUQUES | J33: =I34 -> 389449.84 | M33: 2039 | N33: ='CCV TOTAL'!W10 -> 169603.08
B34: 11.1. EQUIPAMIENTO INFILTRACIÓN SUBMARINA | I34: =SUM('TABLA GENERAL FASE 1 Y 2'!S254:S257) -> 389449.84 | M34: 2040 | N34: ='CCV TOTAL'!X10 -> 148731.54
A35: 12.0. APOYO OPERACIONES DE CONTRAMINADO | J35: =SUM('TABLA GENERAL FASE 1 Y 2'!S262:S266) -> 61668 | M35: 2041 | N35: ='CCV TOTAL'!Y10 -> 57592.245
M36: 2042 | N36: ='CCV TOTAL'!Z10 -> 22462.996
K37: =+J32+J28+J29+J27+J14 -> 4066681 | M37: 2043 | N37: ='CCV TOTAL'!AA10 -> 27709.196
M38: 2044 | N38: ='CCV TOTAL'!AB10 -> 18230.596
M39: 2045 | N39: ='CCV TOTAL'!AC10 -> 28185.196
M40: 2046 | N40: ='CCV TOTAL'!AD10 -> 1405.5
...

Sheet CCV TOTAL
A1: Planilla de Costo de Ciclo de Vida Proyecto DECAPFE Alternativa única de solución.- ADQUIRIR EQUIPAMIENTO PARA LAS FFEE Valores en USD, del año 2021.
E2: AÑO 0 | F2: AÑO 1 | G2: AÑO 2 | H2: AÑO 3 | I2: AÑO 4 | J2: AÑO 5 | K2: AÑO 6 | L2: AÑO 7 | M2: AÑO 8 | N2: AÑO 9 | O2: AÑO 10 | P2: AÑO 11 | Q2: AÑO 12 | R2: AÑO 13 | S2: AÑO 14 | T2: AÑO 15 | U2: AÑO 16 | V2: AÑO 17 | W2: AÑO 18 | X2: AÑO 19 | Y2: AÑO 20 | Z2: AÑO 21 | AA2: AÑO 22 | AB2: AÑO 23 | AC2: AÑO 24 | AD2: AÑO 25
A3: ITEM | B3: PARÁMETRO | C3: Fuente recursos | D3: VAC | E3: Año 2021 | F3: Año 2022 | G3: Año 2023 | H3: Año 2024 | I3: Año 2025 | J3: Año 2026 | K3: Año 2027 | L3: Año 2028 | M3: Año 2029 | N3: Año 2030 | O3: Año 2031 | P3: Año 2032 | Q3: Año 2033 | R3: Año 2034 | S3: Año 2035 | T3: Año 2036 | U3: Año 2037 | V3: Año 2038 | W3: Año 2039 | X3: Año 2040 | Y3: Año 2041 | Z3: Año 2042 | AA3: Año 2043 | AB3: Año 2044 | AC3: Año 2045 | AD3: Año 2046
A5: TOTAL ANUAL | D5: =SUM(E5:AD5) -> 15253405 | E5: =E6+E7+E10+E17 -> 2559960.6 | F5: =F6+F7+F10+F17 -> 2667841.5 | G5: =G6+G7+G10+G17 -> 2609639.6 | H5: =H6+H7+H10+H17 -> 181599.31 | I5: =I6+I7+I10+I17 -> 4322719 | J5: =J6+J7+J10+J17 -> 179622.3 | K5: =K6+K7+K10+K17 -> 184460.65 | L5: =L6+L7+L10+L17 -> 192338.93 | ... AD5: =AD6+AD7+AD10+AD17 -> 1405.5
A6: 1.- INVESTIGACIÓN Y DESARROLLO
A7: 2.- INVERSIÓN INICIAL | D7: =SUM(E7:AD7) -> 11860336 | E7: =E8+E9 -> 2559960.6 | F7: =F8+F9 -> 2584654.9 | G7: =G8+G9 -> 2511625.2 | H7: =H8+H9 -> 0 | I7: =I8+I9 -> 4204095.2 | J7: =J8+J9 -> 0 | K7: =K8+K9 -> 0 | L7: =L8+L9 -> 0 | ... AD7: =AD8+AD9 -> 0 | AE7: =SUM(E7:AD7) -> 11860336
A8: 2.1.- Producción | B8: No Corresponden | D8: =SUM(F8:AD8) -> 0
A9: 2.2.- Adquisición | B9: Adquisición de sistemas y equipamientos DECAPFE | C9: Ley 21.174 | D9: =SUM(E9:AD9) -> 11860336 | E9: ='TABLA GENERAL FASE 1 Y 2'!K273 -> 2559960.6 | F9: ='TABLA GENERAL FASE 1 Y 2'!M273 -> 2584654.9 | G9: ='TABLA GENERAL FASE 1 Y 2'!O273 -> 2511625.2 | H9: ='TABLA GENERAL FASE 1 Y 2'!N273 -> 0 | I9: ='TABLA GENERAL FASE 1 Y 2'!Q273 -> 4204095.2 | J9: 0 | K9: 0 | L9: 0 | M9: 0 | N9: 0 | O9: 0 | P9: 0 | Q9: 0 | R9: 0 | S9: 0 | T9: 0 | U9: 0 | V9: 0 | W9: 0 | X9: 0 | Y9: 0 | Z9: 0 | AA9: 0 | AB9: 0 | AC9: 0 | AD9: 0
A10: 3.- OPERACIÓN Y APOYO | D10: =SUM(E10:AD10) -> 3393068.8 | F10: =F11+F12+F13 -> 83186.604 | G10: =G11+G12+G13 -> 98014.437 | H10: =H11+H12+H13 -> 181599.31 | I10: =I11+I12+I13 -> 118623.81 | J10: =J11+J12+J13 -> 179622.3 | K10: =K11+K12+K13 -> 184460.65 | L10: =L11+L12+L13 -> 192338.93 | M10: =M11+M12+M13 -> 184982.04 | ... AD10: =AD11+AD12+AD13 -> 1405.5
A11: 3.1.- Costo de Personal que Opera la MOP | B11: No existen variaciones refente al ST21 COMFUES | C11: AFL Ppto. Armada | D11: =SUM(F11:AD11) -> 0 | E11: =SUM(G11:AD11) -> 0 | F11: =SUM(H11:AE11) -> 0 | G11: =SUM(I11:AF11) -> 0 | H11: =SUM(J11:AG11) -> 0 | I11: =SUM(K11:AH11) -> 0 | J11: =SUM(L11:AI11) -> 0 | K11: =SUM(M11:AJ11) -> 0 | L11: =SUM(N11:AK11) -> 0 | ... AC11: =SUM(AE11:BB11) -> 0 | AD11: =SUM(AE11:BC11) -> 0
A12: 3.2.- Costos de Operación de la MOP | B12: Sólo gastos relacionados al sistemas C4I, en servicios de banda ancha satelital, seguros infraestructura TI y licencias y antivirus. | C12: AFL Ppto. Armada | D12: =SUM(F12:AD12) -> 826344.97 | F12: ='(1) CCV C41'!C7 -> 32900 | G12: ='(1) CCV C41'!D7 -> 33887 | H12: ='(1) CCV C41'!E7 -> 34903.61 | I12: ='(1) CCV C41'!F7 -> 35950.718 | J12: ='(1) CCV C41'!G7 -> 37029.24 | K12: ='(1) CCV C41'!H7 -> 38140.117 | L12: ='(1) CCV C41'!I7 -> 39284.321 | M12: ='(1) CCV C41'!J7 -> 40462.85 | ... AD12: ='(1) CCV C41'!AA7 -> 0
A13: 3.3.- Costos de Mantenimiento | B13: Estimación basada en datos Comfues, proveedores y respectivas DDTT. | C13: AFL Ppto. Armada | D13: =SUM(E13:AD13) -> 2566723.9 | E13: =E14+E15+E16 -> 0 | F13: =F14+F15+F16 -> 50286.604 | G13: =G14+G15+G16 -> 64127.437 | H13: =H14+H15+H16 -> 146695.7 | I13: =I14+I15+I16 -> 82673.09 | J13: =J14+J15+J16 -> 142593.06 | K13: =K14+K15+K16 -> 146320.53 | L13: =L14+L15+L16 -> 153054.61 | ... X13: =X14+X15+X16 -> 92721.495 | Y13: =(X13+Z13)/2 -> 57592.245 | Z13: =Z14+Z15+Z16 -> 22462.996 | AA13: =AA14+AA15+AA16 -> 27709.196 | AB13: =AB14+AB15+AB16 -> 18230.596 | AC13: =AC14+AC15+AC16 -> 28185.196 | AD13: =AD14+AD15+AD16 -> 1405.5
A14: 3.3.1.- Mantenimiento Programado | B14: mantenimiento equipos de acuerdo a datos del proveedor y estadística existente | C14: AFL Ppto. Armada | D14: =SUM(E14:AD14) -> 2566723.9 | F14: ='(1) CCV C41'!D10+'(2) CCV Equip. Militar'!D23+'(2) CCV Equip. Militar'!D53+'(3) CCV Infiltración'!D32+'(4) CCV Logística'!D53+'(4) CCV Logística'!E28+'(4) CCV Logística'!E83+'(4) CCV Logística'!E112+'(5) CCV Obt. Info.'!E25+'(6) CCV Det. Efect.'!E15+'(7) CCV At. Precis.'!E28+'(8)CCV OPER. DE BUCEO'!E24+'(9) CCV OPER. REBÚSQUEDA'!E16+'(10) CCV AP. BOMB. Y FAN'!E16+'(11) CCV VIS. Y ABORDAJE'!E24+'(12) CCV AP. OPER. CONTAMINADO'!E34 -> 50286.604 | G14: ='(1) CCV C41'!E10+'(2) CCV Equip. Militar'!E23+'(2) CCV Equip. Militar'!E53+'(3) CCV Infiltración'!E32+'(4) CCV Logística'!E53+'(4) CCV Logística'!F28+'(4) CCV Logística'!F83+'(4) CCV Logística'!F112+'(5) CCV Obt. Info.'!F25+'(6) CCV Det. Efect.'!F15+'(7) CCV At. Precis.'!F28+'(8)CCV OPER. DE BUCEO'!F24+'(9) CCV OPER. REBÚSQUEDA'!F16+'(10) CCV AP. BOMB. Y FAN'!F16+'(11) CCV VIS. Y ABORDAJE'!F24+'(12) CCV AP. OPER. CONTAMINADO'!F34 -> 64127.437 | H14: ='(1) CCV C41'!F10+'(2) CCV Equip. Militar'!F23+'(2) CCV Equip. Militar'!F53+'(3) CCV Infiltración'!F32+'(4) CCV Logística'!F53+'(4) CCV Logística'!G28+'(4) CCV Logística'!G83+'(4) CCV Logística'!G112+'(5) CCV Obt. Info.'!G25+'(6) CCV Det. Efect.'!G15+'(7) CCV At. Precis.'!G28+'(8)CCV OPER. DE BUCEO'!G24+'(9) CCV OPER. REBÚSQUEDA'!G16+'(10) CCV AP. BOMB. Y FAN'!G16+'(11) CCV VIS. Y ABORDAJE'!G24+'(12) CCV AP. OPER. CONTAMINADO'!G34 -> 146695.7 | I14: ='(1) CCV C41'!G10+'(2) CCV Equip. Militar'!G23+'(2) CCV Equip. Militar'!G53+'(3) CCV Infiltración'!G32+'(4) CCV Logística'!G53+'(4) CCV Logística'!H28+'(4) CCV Logística'!H83+'(4) CCV Logística'!H112+'(5) CCV Obt. Info.'!H25+'(6) CCV Det. Efect.'!H15+'(7) CCV At. Precis.'!H28+'(8)CCV OPER. DE BUCEO'!H24+'(9) CCV OPER. REBÚSQUEDA'!H16+'(10) CCV AP. BOMB. Y FAN'!H16+'(11) CCV VIS. Y ABORDAJE'!H24+'(12) CCV AP. OPER. CONTAMINADO'!H34 -> 82673.09 | J14: ='(1) CCV C41'!H10+'(2) CCV Equip. Militar'!H23+'(2) CCV Equip. Militar'!H53+'(3) CCV Infiltración'!H32+'(4) CCV Logística'!H53+'(4) CCV Logística'!I28+'(4) CCV Logística'!I83+'(4) CCV Logística'!I112+'(5) CCV Obt. Info.'!I25+'(6) CCV Det. Efect.'!I15+'(7) CCV At. Precis.'!I28+'(8)CCV OPER. DE BUCEO'!I24+'(9) CCV OPER. REBÚSQUEDA'!I16+'(10) CCV AP. BOMB. Y FAN'!I16+'(11) CCV VIS. Y ABORDAJE'!I24+'(12) CCV AP. OPER. CONTAMINADO'!I34 -> 142593.06 | K14: ='(1) CCV C41'!I10+'(2) CCV Equip. Militar'!I23+'(2) CCV Equip. Militar'!I53+'(3) CCV Infiltración'!I32+'(4) CCV Logística'!I53+'(4) CCV Logística'!J28+'(4) CCV Logística'!J83+'(4) CCV Logística'!J112+'(5) CCV Obt. Info.'!J25+'(6) CCV Det. Efect.'!J15+'(7) CCV At. Precis.'!J28+'(8)CCV OPER. DE BUCEO'!J24+'(9) CCV OPER. REBÚSQUEDA'!J16+'(10) CCV AP. BOMB. Y FAN'!J16+'(11) CCV VIS. Y ABORDAJE'!J24+'(12) CCV AP. OPER. CONTAMINADO'!J34 -> 146320.53 | L14: ='(1) CCV C41'!J10+'(2) CCV Equip. Militar'!J23+'(2) CCV Equip. Militar'!J53+'(3) CCV Infiltración'!J32+'(4) CCV Logística'!J53+'(4) CCV Logística'!K28+'(4) CCV Logística'!K83+'(4) CCV Logística'!K112+'(5) CCV Obt. Info.'!K25+'(6) CCV Det. Efect.'!K15+'(7) CCV At. Precis.'!K28+'(8)CCV OPER. DE BUCEO'!K24+'(9) CCV OPER. REBÚSQUEDA'!K16+'(10) CCV AP. BOMB. Y FAN'!K16+'(11) CCV VIS. Y ABORDAJE'!K24+'(12) CCV AP. OPER. CONTAMINADO'!K34 -> 153054.61 | M14: ='(1) CCV C41'!K10+'(2) CCV Equip. Militar'!K23+'(2) CCV Equip. Militar'!K53+'(3) CCV Infiltración'!K32+'(4) CCV Logística'!K53+'(4) CCV Logística'!L28+'(4) CCV Logística'!L83+'(4) CCV Logística'!L112+'(5) CCV Obt. Info.'!L25+'(6) CCV Det. Efect.'!L15+'(7) CCV At. Precis.'!L28+'(8)CCV OPER. DE BUCEO'!L24+'(9) CCV OPER. REBÚSQUEDA'!L16+'(10) CCV AP. BOMB. Y FAN'!L16+'(11) CCV VIS. Y ABORDAJE'!L24+'(12) CCV AP. OPER. CONTAMINADO'!L34 -> 144519.18 | ... X14: ='(1) CCV C41'!V10+'(2) CCV Equip. Militar'!V23+'(2) CCV Equip. Militar'!V53+'(3) CCV Infiltración'!V32+'(4) CCV Logística'!V53+'(4) CCV Logística'!W28+'(4) CCV Logística'!W83+'(4) CCV Logística'!W112+'(5) CCV Obt. Info.'!W25+'(6) CCV Det. Efect.'!W15+'(7) CCV At. Precis.'!W28+'(8)CCV OPER. DE BUCEO'!W24+'(9) CCV OPER. REBÚSQUEDA'!W16+'(10) CCV AP. BOMB. Y FAN'!W16+'(11) CCV VIS. Y ABORDAJE'!W24+'(12) CCV AP. OPER. CONTAMINADO'!W34 -> 92721.495 | Y14: =(X14+Z14)/2 -> 57592.245 | Z14: ='(1) CCV C41'!X10+'(2) CCV Equip. Militar'!X23+'(2) CCV Equip. Militar'!X53+'(3) CCV Infiltración'!X32+'(4) CCV Logística'!X53+'(4) CCV Logística'!Y28+'(4) CCV Logística'!Y83+'(4) CCV Logística'!Y112+'(5) CCV Obt. Info.'!Y25+'(6) CCV Det. Efect.'!Y15+'(7) CCV At. Precis.'!Y28+'(8)CCV OPER. DE BUCEO'!Y24+'(9) CCV OPER. REBÚSQUEDA'!Y16+'(10) CCV AP. BOMB. Y FAN'!Y18+'(11) CCV VIS. Y ABORDAJE'!Y26+'(12) CCV AP. OPER. CONTAMINADO'!Y34 -> 22462.996 | AA14: ='(1) CCV C41'!Y10+'(2) CCV Equip. Militar'!Y23+'(2) CCV Equip. Militar'!Y53+'(3) CCV Infiltración'!Y32+'(4) CCV Logística'!Y53+'(4) CCV Logística'!Z28+'(4) CCV Logística'!Z83+'(4) CCV Logística'!Z112+'(5) CCV Obt. Info.'!Z25+'(6) CCV Det. Efect.'!Z15+'(7) CCV At. Precis.'!Z28+'(8)CCV OPER. DE BUCEO'!Z24+'(9) CCV OPER. REBÚSQUEDA'!Z16+'(10) CCV AP. BOMB. Y FAN'!Z16+'(11) CCV VIS. Y ABORDAJE'!Z24+'(12) CCV AP. OPER. CONTAMINADO'!Z34 -> 27709.196 | AB14: ='(1) CCV C41'!Z10+'(2) CCV Equip. Militar'!Z23+'(2) CCV Equip. Militar'!Z53+'(3) CCV Infiltración'!Z32+'(4) CCV Logística'!Z53+'(4) CCV Logística'!AA28+'(4) CCV Logística'!AA83+'(4) CCV Logística'!AA112+'(5) CCV Obt. Info.'!AA25+'(6) CCV Det. Efect.'!AA15+'(7) CCV At. Precis.'!AA28+'(8)CCV OPER. DE BUCEO'!AA24+'(9) CCV OPER. REBÚSQUEDA'!AA16+'(10) CCV AP. BOMB. Y FAN'!AA16+'(11) CCV VIS. Y ABORDAJE'!AA24+'(12) CCV AP. OPER. CONTAMINADO'!AA34 -> 18230.596 | AC14: ='(1) CCV C41'!AA10+'(2) CCV Equip. Militar'!AA23+'(2) CCV Equip. Militar'!AA53+'(3) CCV Infiltración'!AA32+'(4) CCV Logística'!AA53+'(4) CCV Logística'!AB28+'(4) CCV Logística'!AB83+'(4) CCV Logística'!AB112+'(5) CCV Obt. Info.'!AB25+'(6) CCV Det. Efect.'!AB15+'(7) CCV At. Precis.'!AB28+'(8)CCV OPER. DE BUCEO'!AB24+'(9) CCV OPER. REBÚSQUEDA'!AB16+'(10) CCV AP. BOMB. Y FAN'!AB16+'(11) CCV VIS. Y ABORDAJE'!AB24+'(12) CCV AP. OPER. CONTAMINADO'!AB34 -> 28185.196 | AD14: ='(1) CCV C41'!AB10+'(2) CCV Equip. Militar'!AB23+'(2) CCV Equip. Militar'!AB53+'(3) CCV Infiltración'!AB32+'(4) CCV Logística'!AB53+'(4) CCV Logística'!AC28+'(4) CCV Logística'!AC83+'(4) CCV Logística'!AC112+'(5) CCV Obt. Info.'!AC25+'(6) CCV Det. Efect.'!AC15+'(7) CCV At. Precis.'!AC28+'(8)CCV OPER. DE BUCEO'!AC24+'(9) CCV OPER. REBÚSQUEDA'!AC16+'(10) CCV AP. BOMB. Y FAN'!AC16+'(11) CCV VIS. Y ABORDAJE'!AC24+'(12) CCV AP. OPER. CONTAMINADO'!AC34 -> 1405.5
A15: 3.3.2.-Mantenimiento No Programado | B15: No apreciable y asumidos por respectivas DDTT, de acuerdo a su estadística de los sistemas. | C15: AFL Ppto. Armada u otros provenientes de FFG o PDM en el caso corresponda | D15: =SUM(F15:AD15) -> 0
A16: 3.3.4.- Otro Mantenimiento | C16: Por definir, en caso corresponda | D16: =SUM(F16:AD16) -> 0
A17: 4.- RETIRO | D17: =SUM(F17:AD17) -> 0 | F17: 0 | G17: 0 | H17: 0 | I17: 0 | J17: 0 | K17: 0 | L17: 0 | M17: 0 | N17: 0 | O17: 0 | P17: 0 | Q17: 0 | R17: 0 | S17: 0 | T17: 0 | U17: 0 | V17: 0 | W17: 0 | X17: 0 | Y17: 0 | Z17: 0 | AA17: 0 | AB17: 0 | AC17: 0 | AD17: 0
C18: VAC | D18: =D5 -> 15253405
C19: CAE | D19: =PMT(6%,25,-D18) -> 1193223.8

Sheet (1) CCV C41
L2: 2000000
A3: Costos recurentes | B3: Año 1 | C3: Año 2 | D3: Años 3 | E3: Año 3 | F3: Año 5 | G3: Años 6 | H3: Año 7 | I3: Año 8 | J3: Años 9 | K3: Año 10 | L3: Año 11 | M3: Años 12 | N3: Año 13 | O3: Año 14 | P3: Años 15 | Q3: Año 16 | R3: Año 17 | S3: Año 18 | T3: Año 19 | U3: Año 20
A4: Licencias - antivirus | B4: Cubierto por el proyecto | C4: 3500 | D4: =C4*1.03 -> 3605 | E4: =D4*1.03 -> 3713.15 | F4: =E4*1.03 -> 3824.5445 | G4: =F4*1.03 -> 3939.2808 | H4: =G4*1.03 -> 4057.4593 | I4: =H4*1.03 -> 4179.183 | J4: =I4*1.03 -> 4304.5585 | K4: =J4*1.03 -> 4433.6953 | ... U4: =T4*1.03 -> 5958.5157
A5: Seguros infraestructura TI | C5: 4200 | D5: =C5*1.03 -> 4326 | E5: =D5*1.03 -> 4455.78 | F5: =E5*1.03 -> 4589.4534 | G5: =F5*1.03 -> 4727.137 | H5: =G5*1.03 -> 4868.9511 | I5: =H5*1.03 -> 5015.0196 | J5: =I5*1.03 -> 5165.4702 | K5: =J5*1.03 -> 5320.4343 | ... U5: =T5*1.03 -> 7150.2189
A6: Bande Ancha Satelital | C6: =2100*12 -> 25200 | D6: =C6*1.03 -> 25956 | E6: =D6*1.03 -> 26734.68 | F6: =E6*1.03 -> 27536.72 | G6: =F6*1.03 -> 28362.822 | H6: =G6*1.03 -> 29213.707 | I6: =H6*1.03 -> 30090.118 | J6: =I6*1.03 -> 30992.821 | K6: =J6*1.03 -> 31922.606 | ... U6: =T6*1.03 -> 42901.313
C7: =SUM(C4:C6) -> 32900 | D7: =SUM(D4:D6) -> 33887 | E7: =SUM(E4:E6) -> 34903.61 | F7: =SUM(F4:F6) -> 35950.718 | G7: =SUM(G4:G6) -> 37029.24 | H7: =SUM(H4:H6) -> 38140.117 | I7: =SUM(I4:I6) -> 39284.321 | J7: =SUM(J4:J6) -> 40462.85 | ... U7: =SUM(U4:U6) -> 56010.048
A9: Costos ILS | B9: Año 1 | C9: Año 2 | D9: Años 3 | E9: Año 3 | F9: Año 5 | G9: Años 6 | H9: Año 7 | I9: Año 8 | J9: Años 9 | K9: Año 10 | L9: Año 11 | M9: Años 12 | N9: Año 13 | O9: Año 14 | P9: Años 15 | Q9: Año 16 | R9: Año 17 | S9: Año 18 | T9: Año 19 | U9: Año 20
A10: Manteniemiento, repuestos, soporte on-site, capacitación y entrenamiento | B10: Cubierto por el proyecto | C10: =L2*2% -> 40000 | D10: =L2*0.023 -> 46000 | E10: =L2*0.025 -> 50000 | F10: =L2*0.06 -> 120000 | G10: =L2*0.025 -> 50000 | H10: =L2*0.028 -> 56000 | I10: =L2*0.029 -> 58000 | J10: =L2*0.03 -> 60000 | K10: =L2*0.04 -> 80000 | L10: =$L$2*0.025 -> 50000 | M10: =$L$2*0.025 -> 50000 | N10: =$L$2*0.025 -> 50000 | O10: =$L$2*0.025 -> 50000 | P10: =$L$2*0.025 -> 50000 | Q10: =$L$2*0.025 -> 50000 | R10: =$L$2*0.025 -> 50000 | S10: =$L$2*0.025 -> 50000 | ... U10: =$L$2*0.025 -> 50000

Sheet (2) CCV Equip. Militar
C2: EQUIPAMIENTO | D2: VALOR UNITARIO O FACTORES DE CÁLCULO RELACIONADOS | E2: CANTIDAD 2021 | F2: VALOR TOTAL | G2: CANTIDAD 2022 | H2: VALOR TOTAL | I2: CANTIDAD 2023 | J2: VALOR TOTAL | K2: CANTIDAD 2025 | L2: VALOR TOTAL | M2: CANTIDADES TOTALES FASE 1 Y 2 | N2: VALORES TOTALES FASE 1 Y 2
B3: 2.1.3. | C3: Mira holográfica híbrida (inc. Mira óptica). | D3: ='TABLA GENERAL FASE 1 Y 2'!H46 -> 1690 | E3: ='TABLA GENERAL FASE 1 Y 2'!J46 -> 14 | F3: 14400 | G3: ='TABLA GENERAL FASE 1 Y 2'!L46 -> 12 | H3: 14400 | I3: ='TABLA GENERAL FASE 1 Y 2'!N46 -> 12 | J3: 14400 | K3: ='TABLA GENERAL FASE 1 Y 2'!P46 -> 10 | L3: 14400 | M3: 48 | N3: 57600
C4: Costo anual de Insumos para mantenimiento preventivo (OLM) | D4: 0.001 | F4: =$D$4*E3*$D$3 -> 23.66 | H4: =$D$4*G3*$D$3 -> 20.28 | J4: =$D$4*I3*$D$3 -> 20.28 | L4: =$D$4*K3*$D$3 -> 16.9 | N4: =$D$4*M3*$D$3 -> 81.12
C5: Kit anual de repuestos (OLM) | D5: 0.001 | F5: =$D$5*E3*$D$3 -> 23.66 | H5: =$D$5*G3*$D$3 -> 20.28 | J5: =$D$5*I3*$D$3 -> 20.28 | L5: =$D$5*K3*$D$3 -> 16.9 | N5: =$D$5*M3*$D$3 -> 81.12
C6: costos mantenimiento 5 años | D6: 0.03 | F6: =$D$6*E3*$D$3 -> 709.8 | H6: =$D$6*G3*$D$3 -> 608.4 | J6: =$D$6*I3*$D$3 -> 608.4 | L6: =$D$6*K3*$D$3 -> 507 | N6: =$D$6*M3*$D$3 -> 2433.6
B7: 2.1.4. | C7: Visor nocturno binocular. | D7: ='TABLA GENERAL FASE 1 Y 2'!H47 -> 13300 | E7: ='TABLA GENERAL FASE 1 Y 2'!J47 -> 12 | F7: 159600 | G7: ='TABLA GENERAL FASE 1 Y 2'!L47 -> 12 | H7: 159600 | I7: ='TABLA GENERAL FASE 1 Y 2'!N47 -> 12 | J7: 159600 | K7: ='TABLA GENERAL FASE 1 Y 2'!P47 -> 24 | L7: 478800 | M7: 72 | N7: 957600
C8: Costo anual de Insumos para mantenimiento preventivo (OLM) | D8: 0.001 | F8: =$D$9*E7*$D$7 -> 159.6 | H8: =$D$9*G7*$D$7 -> 159.6 | J8: =$D$9*I7*$D$7 -> 159.6 | L8: =$D$9*K7*$D$7 -> 319.2 | N8: =$D$9*M7*$D$7 -> 957.6
C9: Kit anual de repuestos (OLM) | D9: 0.001 | F9: =$D$9*E7*$D$7 -> 159.6 | H9: =$D$9*G7*$D$7 -> 159.6 | J9: =$D$9*I7*$D$7 -> 159.6 | L9: =$D$9*K7*$D$7 -> 319.2 | N9: =$D$9*M7*$D$7 -> 957.6
C10: costos mantenimiento 5 años | D10: 0.02 | F10: =$D$10*E7*$D$7 -> 3192 | H10: =$D$10*G7*$D$7 -> 3192 | J10: =$D$10*I7*$D$7 -> 3192 | L10: =$D$10*K7*$D$7 -> 6384 | N10: =$D$10*M7*$D$7 -> 19152
B11: 2.1.13. | C11: Visor nocturno 4 tubos (Tipo GPNVG-18) (para 2 unidades). | D11: ='TABLA GENERAL FASE 1 Y 2'!H56 -> 52896 | E11: ='TABLA GENERAL FASE 1 Y 2'!J56 -> 0 | F11: 0 | G11: ='TABLA GENERAL FASE 1 Y 2'!L56 -> 0 | H11: 105792 | I11: ='TABLA GENERAL FASE 1 Y 2'!N56 -> 0 | J11: 317376 | K11: ='TABLA GENERAL FASE 1 Y 2'!P56 -> 0 | L11: 211584 | M11: 12 | N11: 634752
C12: Costo anual de Insumos para mantenimiento preventivo (OLM) | D12: 0.001 | F12: =$D$12*E11*$D$11 -> 0 | H12: =$D$12*G11*$D$11 -> 0 | J12: =$D$12*I11*$D$11 -> 0 | L12: =$D$12*K11*$D$11 -> 0 | N12: =$D$12*M11*$D$11 -> 634.752
C13: Kit anual de repuestos (OLM) | D13: 0.001 | F13: =$D$13*E11*$D$11 -> 0 | H13: =$D$13*G11*$D$11 -> 0 | J13: =$D$13*I11*$D$11 -> 0 | L13: =$D$13*K11*$D$11 -> 0 | N13: =$D$13*M11*$D$11 -> 634.752
C14: costos mantenimiento 5 años | D14: 0.02 | F14: =$D$14*E11*$D$11 -> 0 | H14: =$D$14*G11*$D$11 -> 0 | J14: =$D$14*I11*$D$11 -> 0 | L14: =$D$14*K11*$D$11 -> 0 | N14: =$D$14*M11*$D$11 -> 12695.04
D15: 2021 | E15: 1 | F15: =F13+F12+F9+F8+F5+F4 -> 366.52 | G15: 2022 | H15: =H13+H12+H9+H8+H5+H4 -> 359.76 | I15: 2023 | J15: =J13+J12+J9+J8+J5+J4 -> 359.76 | K15: 2025 | L15: =L13+L12+L9+L8+L5+L4 -> 672.2 | N15: =N13+N12+N9+N8+N5+N4 -> 3346.944
E16: 2 | F16: =F14+F10+F6 -> 3901.8 | H16: =H14+H10+H6 -> 3800.4 | J16: =J14+J10+J6 -> 3800.4 | L16: =L14+L10+L6 -> 6891 | N16: =N14+N10+N6 -> 34280.64
C19: 2021 | D19: 2022 | E19: 2023 | F19: 2024 | G19: 2025 | H19: 2026 | I19: 2027 | J19: 2028 | K19: 2029 | L19: 2030 | M19: 2031 | N19: 2032 | O19: 2033 | P19: 2034 | Q19: 2035 | R19: 2036 | S19: 2037 | T19: 2038 | U19: 2039 | V19: 2040 | W19: 2041 | X19: 2042 | Y19: 2043 | Z19: 2044 | AA19: 2045
B20: Costos ILS | C20: Año 0 | D20: Año 1 | E20: Año 2 | F20: Años 3 | G20: Año 4 | H20: Año 5 | I20: Años 6 | J20: Año 7 | K20: Año 8 | L20: Años 9 | M20: Año 10 | N20: Año 11 | O20: Año 12 | P20: Años 13 | Q20: Año 14 | R20: Año 15 | S20: Años 16 | T20: Año 17 | U20: Año 18 | V20: Años 19 | W20: Año 20 | X20: Año 21 | Y20: Año 22 | Z20: Años 23 | AA20: Año 24
B21: mantenimiento programados anualizados | D21: =$F$15 -> 366.52 | E21: =$F$15+$H$15 -> 726.28 | F21: =$F$15+$H$15+$J$15 -> 1086.04 | G21: =$F$15+$H$15+$J$15 -> 1086.04 | H21: =$F$15+$H$15+$J$15+$L$15 -> 1758.24 | I21: =$F$15+$H$15+$J$15+$L$15 -> 1758.24 | J21: =$F$15+$H$15+$J$15+$L$15 -> 1758.24 | K21: =$F$15+$H$15+$J$15+$L$15 -> 1758.24 | L21: =$F$15+$H$15+$J$15+$L$15 -> 1758.24 | M21: =$F$15+$H$15+$J$15+$L$15 -> 1758.24 | N21: =$F$15+$H$15+$J$15+$L$15 -> 1758.24 | O21: =$F$15+$H$15+$J$15+$L$15 -> 1758.24 | ... AA21: =$F$15+$H$15+$J$15+$L$15 -> 1758.24
B22: Manteniemiento cada 5 años, en fábrica autorizada (Famae) | H22: =$F$16 -> 3901.8 | I22: =$H$16 -> 3800.4 | J22: =$J$16 -> 3800.4 | L22: =$L$16 -> 6891 | M22: =$H$22 -> 3901.8 | N22: =$I$22 -> 3800.4 | O22: =$J$22 -> 3800.4 | Q22: =$L$16 -> 6891 | R22: =$M$22 -> 3901.8 | S22: =$N$22 -> 3800.4 | T22: =$O$22 -> 3800.4 | V22: =$L$16 -> 6891 | W22: =$R$22 -> 3901.8 | X22: =$S$22 -> 3800.4 | Y22: =$T$22 -> 3800.4 | AA22: =$L$16 -> 6891
B23: totales | C23: =SUM(C21:C22) -> 0 | D23: =SUM(D21:D22) -> 366.52 | E23: =SUM(E21:E22) -> 726.28 | F23: =SUM(F21:F22) -> 1086.04 | G23: =SUM(G21:G22) -> 1086.04 | H23: =SUM(H21:H22) -> 5660.04 | I23: =SUM(I21:I22) -> 5558.64 | J23: =SUM(J21:J22) -> 5558.64 | ... AA23: =SUM(AA21:AA22) -> 8649.24
C25: EQUIPAMIENTO | D25: VALOR UNITARIO O FACTORES DE CÁLCULO RELACIONADOS | E25: CANTIDAD 2021 | F25: VALOR TOTAL | G25: CANTIDAD 2022 | H25: VALOR TOTAL | I25: CANTIDAD 2023 | J25: VALOR TOTAL | K25: CANTIDAD 2025 | L25: VALOR TOTAL | M25: CANTIDADES TOTALES FASE 1 Y 2 | N25: VALORES TOTALES FASE 1 Y 2
B26: 2.3.1. | C26: Consola de oxígeno colectivo para 8 pd. | D26: ='TABLA GENERAL FASE 1 Y 2'!H104 -> 15700 | E26: ='TABLA GENERAL FASE 1 Y 2'!J104 -> 0 | F26: 0 | G26: ='TABLA GENERAL FASE 1 Y 2'!L104 -> 0 | H26: 0 | I26: ='TABLA GENERAL FASE 1 Y 2'!N104 -> 1 | J26: 22179 | K26: ='TABLA GENERAL FASE 1 Y 2'!P104 -> 3 | L26: 66537 | M26: 4 | N26: 88716
B27: a | C27: Costo anual de Insumos para mantenimiento preventivo (OLM) | D27: 0.005 | J27: =$D$27*$D$26*I26 -> 78.5 | L27: =$D$27*$D$26*K26 -> 235.5
B28: b | C28: Kit anual de repuestos (OLM) | D28: 0.01 | J28: =$D$28*$D$26*I26 -> 157 | L28: =$D$28*$D$26*K26 -> 471
B29: c | C29: Mantenimiento Programado (cada 5 años) | D29: 0.02 | J29: =$D$29*$D$26*I26 -> 314 | L29: =$D$29*$D$26*K26 -> 942
B30: 2.3.2. | C30: Sistema de carga botellas oxígeno personales. | D30: ='TABLA GENERAL FASE 1 Y 2'!H105 -> 45800 | E30: ='TABLA GENERAL FASE 1 Y 2'!J105 -> 0 | F30: 0 | G30: ='TABLA GENERAL FASE 1 Y 2'!L105 -> 0 | H30: 0 | I30: ='TABLA GENERAL FASE 1 Y 2'!N105 -> 1 | J30: 30419 | K30: ='TABLA GENERAL FASE 1 Y 2'!P105 -> 1 | L30: 30419 | M30: 2 | N30: 60838
B31: a | C31: Costo anual de Insumos para mantenimiento preventivo (OLM) | D31: 0.005 | J31: =$D$31*$D$30*I30 -> 229 | L31: =$D$31*$D$30*K30 -> 229
B32: b | C32: Kit anual de repuestos (OLM) | D32: 0.01 | J32: =$D$32*$D$30*I30 -> 458 | L32: =$D$32*$D$30*K30 -> 458
B33: c | C33: Mantenimiento Programado (cada 5 años) | D33: 0.02 | J33: =$D$33*$D$30*I30 -> 916 | L33: =$E$31*$D$30*K30 -> 0
B34: 2.3.3. | C34: Sistema de oxígeno personal. | D34: ='TABLA GENERAL FASE 1 Y 2'!H106 -> 4090 | E34: ='TABLA GENERAL FASE 1 Y 2'!J106 -> 0 | F34: 0 | G34: ='TABLA GENERAL FASE 1 Y 2'!L106 -> 0 | H34: 0 | I34: ='TABLA GENERAL FASE 1 Y 2'!N106 -> 9 | J34: 26262 | K34: ='TABLA GENERAL FASE 1 Y 2'!P106 -> 10 | L34: 29180 | M34: 19 | N34: 55442
B35: a | C35: Costo anual de Insumos para mantenimiento preventivo (OLM) | D35: 0.005 | J35: =$D$35*$D$34*I34 -> 184.05 | L35: =$D$35*$D$34*K34 -> 204.5
B36: b | C36: Kit anual de repuestos (OLM) | D36: 0.01 | J36: =$D$36*$D$34*I34 -> 368.1 | L36: =$D$36*$D$34*K34 -> 409
B37: c | C37: Mantenimiento Programado (cada 5 años) | D37: 0.02 | J37: =$D$37*$D$34*I34 -> 736.2 | L37: =$D$37*$D$34*K34 -> 818
B38: 2.3.16. | C38: Aperturas automáticas Cypres 2 militar. | D38: ='TABLA GENERAL FASE 1 Y 2'!H119 -> 3800 | E38: ='TABLA GENERAL FASE 1 Y 2'!J119 -> 0 | F38: 0 | G38: ='TABLA GENERAL FASE 1 Y 2'!L119 -> 14 | H38: 31080 | I38: ='TABLA GENERAL FASE 1 Y 2'!N119 -> 28 | J38: 62160 | K38: ='TABLA GENERAL FASE 1 Y 2'!P119 -> 14 | L38: 31080 | M38: 56 | N38: 124320
B39: a | C39: Costo anual de Insumos para mantenimiento preventivo (OLM) | D39: 0.005 | H39: =$D$39*$D$38*G38 -> 266 | J39: =$D$39*$D$38*I38 -> 532 | L39: =$D$39*$D$38*K38 -> 266
B40: b | C40: Kit anual de repuestos (OLM) | D40: 0.01 | H40: =$D$40*$D$38*G38 -> 532 | J40: =$D$40*$D$38*I38 -> 1064 | L40: =$D$40*$D$38*K38 -> 532
B41: c | C41: Mantenimiento Programado (cada 8 años) | D41: 0.02 | H41: =$D$41*$D$38*G38 -> 1064 | J41: =$D$41*$D$38*I38 -> 2128 | L41: =$D$41*$D$38*K38 -> 1064
B42: 2.3.2.10. | C42: Sistema reabastecimiento automático a gran altura. | D42: ='TABLA GENERAL FASE 1 Y 2'!H131 -> 3250 | E42: ='TABLA GENERAL FASE 1 Y 2'!J131 -> 0 | F42: 0 | G42: ='TABLA GENERAL FASE 1 Y 2'!L131 -> 1 | H42: 3250 | I42: ='TABLA GENERAL FASE 1 Y 2'!N131 -> 0 | J42: 0 | K42: ='TABLA GENERAL FASE 1 Y 2'!P131 -> 1 | L42: 3250 | M42: 2 | N42: 6500
B43: a | C43: Costo anual de Insumos para mantenimiento preventivo (OLM) | D43: 0.01 | H43: =$D$43*$D$42*G42 -> 32.5 | L43: =$D$43*$D$42*K42 -> 32.5
B44: b | C44: Kit anual de repuestos (OLM) | D44: 0.01 | H44: =$D$44*$D$42*G42 -> 32.5 | L44: =$D$44*$D$42*K42 -> 32.5
...

Sheet (3) CCV Infiltración
C3: EQUIPAMIENTO INDIVIDUAL DE BUCEO | D3: VALOR UNITARIO O FACTORES DE CÁLCULO RELACIONADOS | E3: CANTIDAD 2021 | F3: VALOR TOTAL | G3: CANTIDAD 2022 | H3: VALOR TOTAL | I3: CANTIDAD 2023 | J3: VALOR TOTAL | K3: CANTIDAD 2025 | L3: VALOR TOTAL | M3: CANTIDADES TOTALES FASE 1 Y 2 | N3: VALORES TOTALES FASE 1 Y 2
B4: 3.1.9. | C4: Mochilas estancas con sistema de compensación para 4 unidades. | D4: ='TABLA GENERAL FASE 1 Y 2'!H145 -> 3202 | E4: ='TABLA GENERAL FASE 1 Y 2'!J145 -> 14 | F4: =E4*D4 -> 44828 | G4: ='TABLA GENERAL FASE 1 Y 2'!L145 -> 14 | H4: =G4*D4 -> 44828 | I4: ='TABLA GENERAL FASE 1 Y 2'!N145 -> 14 | J4: =I4*D4 -> 44828 | K4: ='TABLA GENERAL FASE 1 Y 2'!P145 -> 14 | L4: =K4*D4 -> 44828 | M4: =K4+I4+G4+E4 -> 56 | N4: =L4+J4+H4+F4 -> 179312
B5: a | C5: Costo anual de Insumos para mantenimiento preventivo (OLM) | D5: 0.004 | F5: =$D$5*$D$4*E4 -> 179.312 | H5: =$D$5*$D$4*G4 -> 179.312 | J5: =$D$5*$D$4*I4 -> 179.312 | L5: =$D$5*$D$4*K4 -> 179.312 | N5: |
B6: b | C6: Kit anual de repuestos (OLM) | D6: 0.004 | F6: =$D$6*$D$4*E4 -> 179.312 | H6: =$D$6*$D$4*G4 -> 179.312 | J6: =$D$6*$D$4*I4 -> 179.312 | L6: =$D$6*$D$4*K4 -> 179.312
B7: 3.1.10. | C7: Equipo de circuito cerrado. | D7: ='TABLA GENERAL FASE 1 Y 2'!H146 -> 12096 | E7: ='TABLA GENERAL FASE 1 Y 2'!J146 -> 0 | F7: =E7*D7 -> 0 | G7: ='TABLA GENERAL FASE 1 Y 2'!L146 -> 0 | H7: =G7*D7 -> 0 | I7: ='TABLA GENERAL FASE 1 Y 2'!N146 -> 0 | J7: =I7*D7 -> 0 | K7: ='TABLA GENERAL FASE 1 Y 2'!P146 -> 5 | L7: =K7*D7 -> 60480 | M7: =K7+I7+G7+E7 -> 5 | N7: =L7+J7+H7+F7 -> 60480
B8: a | C8: Costo anual de Insumos para mantenimiento preventivo (OLM) | D8: 0.004 | F8: =$D$8*$D$7*E7 -> 0 | H8: =$D$8*$D$7*G7 -> 0 | J8: =$D$8*$D$7*I7 -> 0 | L8: =$D$8*$D$7*K7 -> 241.92
B9: b | C9: Kit anual de repuestos (OLM) | D9: 0.004 | F9: =$D$9*$D$7*E7 -> 0 | H9: =$D$9*$D$7*G7 -> 0 | J9: =$D$9*$D$7*I7 -> 0 | L9: =$D$9*$D$7*K7 -> 241.92
B10: c | C10: Mantenimiento Programado (cada 5 años) | D10: 0.02 | F10: =$D$10*$D$7*E7 -> 0 | H10: =$D$10*$D$7*G7 -> 0 | J10: =$D$10*$D$7*I7 -> 0 | L10: =$D$10*$D$7*K7 -> 1209.6
B11: 3.1.11. | C11: Compensador circuito cerrado. | D11: ='TABLA GENERAL FASE 1 Y 2'!H147 -> 3600 | E11: ='TABLA GENERAL FASE 1 Y 2'!J147 -> 18 | F11: =E11*D11 -> 64800 | G11: ='TABLA GENERAL FASE 1 Y 2'!L147 -> 6 | H11: =G11*D11 -> 21600 | I11: ='TABLA GENERAL FASE 1 Y 2'!N147 -> 22 | J11: =I11*D11 -> 79200 | K11: ='TABLA GENERAL FASE 1 Y 2'!P147 -> 10 | L11: =K11*D11 -> 36000 | M11: =K11+I11+G11+E11 -> 56 | N11: =L11+J11+H11+F11 -> 201600
B12: a | C12: Costo anual de Insumos para mantenimiento preventivo (OLM) | D12: 0.004 | F12: =$D$12*$D$11*E11 -> 259.2 | H12: =$D$12*$D$11*G11 -> 86.4 | J12: =$D$12*$D$11*I11 -> 316.8 | L12: =$D$12*$D$11*K11 -> 144
B13: b | C13: Kit anual de repuestos (OLM) | D13: 0.004 | F13: =$D$13*$D$11*E11 -> 259.2 | H13: =$D$13*$D$11*G11 -> 86.4 | J13: =$D$13*$D$11*I11 -> 316.8 | L13: =$D$13*$D$11*K11 -> 144
B14: c | C14: Mantenimiento Programado (cada 5 años) | D14: 0.02 | F14: =$D$14*$D$11*E11 -> 1296 | H14: =$D$14*$D$11*G11 -> 432 | J14: =$D$14*$D$11*I11 -> 1584 | L14: =$D$14*$D$11*K11 -> 720
B15: 3.1.17. | C15: Reguladores con consola y octupus (12 por Unidad). | D15: ='TABLA GENERAL FASE 1 Y 2'!H153 -> 450 | E15: ='TABLA GENERAL FASE 1 Y 2'!J153 -> 0 | F15: =E15*D15 -> 0 | G15: ='TABLA GENERAL FASE 1 Y 2'!L153 -> 0 | H15: =G15*D15 -> 0 | I15: ='TABLA GENERAL FASE 1 Y 2'!N153 -> 0 | J15: =I15*D15 -> 0 | K15: ='TABLA GENERAL FASE 1 Y 2'!P153 -> 14 | L15: =K15*D15 -> 6300 | M15: =K15+I15+G15+E15 -> 14 | N15: =L15+J15+H15+F15 -> 6300
B16: a | C16: Costo anual de Insumos para mantenimiento preventivo (OLM) | D16: 0.004 | F16: =$D$16*$D$15*E15 -> 0 | H16: =$D$16*$D$15*G15 -> 0 | J16: =$D$16*$D$15*I15 -> 0 | L16: =$D$16*$D$15*K15 -> 25.2
B17: b | C17: Kit anual de repuestos (OLM) | D17: 0.005 | F17: =$D$17*$D$15*E15 -> 0 | H17: =$D$17*$D$15*G15 -> 0 | J17: =$D$17*$D$15*I15 -> 0 | L17: =$D$17*$D$15*K15 -> 31.5
B18: 3.1.24. | C18: Compresor de aire portátil para buceo. | D18: ='TABLA GENERAL FASE 1 Y 2'!H160 -> 5572 | E18: ='TABLA GENERAL FASE 1 Y 2'!J160 -> 0 | F18: =E18*D18 -> 0 | G18: ='TABLA GENERAL FASE 1 Y 2'!L160 -> 0 | H18: =G18*D18 -> 0 | I18: ='TABLA GENERAL FASE 1 Y 2'!N160 -> 0 | J18: =I18*D18 -> 0 | K18: ='TABLA GENERAL FASE 1 Y 2'!P160 -> 4 | L18: =K18*D18 -> 22288 | M18: =K18+I18+G18+E18 -> 4 | N18: =L18+J18+H18+F18 -> 22288
B19: a | C19: Costo anual de Insumos para mantenimiento preventivo (OLM) | D19: 0.005 | F19: =$D$19*$D$18*E18 -> 0 | H19: =$D$19*$D$18*G18 -> 0 | J19: =$D$19*$D$18*I18 -> 0 | L19: =$D$19*$D$18*K18 -> 111.44
B20: b | C20: Kit anual de repuestos (OLM) | D20: 0.005 | F20: =$D$20*$D$18*E18 -> 0 | H20: =$D$20*$D$18*G18 -> 0 | J20: =$D$20*$D$18*I18 -> 0 | L20: =$D$20*$D$18*K18 -> 111.44
B21: 3.1.18. | C21: Traje seco de buceo. | D21: ='TABLA GENERAL FASE 1 Y 2'!H154 -> 3305 | E21: ='TABLA GENERAL FASE 1 Y 2'!J154 -> 14 | F21: =E21*D21 -> 46270 | G21: ='TABLA GENERAL FASE 1 Y 2'!L154 -> 0 | H21: =G21*D21 -> 0 | I21: ='TABLA GENERAL FASE 1 Y 2'!N154 -> 12 | J21: =I21*D21 -> 39660 | K21: ='TABLA GENERAL FASE 1 Y 2'!P154 -> 10 | L21: =K21*D21 -> 33050 | M21: =K21+I21+G21+E21 -> 36 | N21: =L21+J21+H21+F21 -> 118980
B22: a | C22: Costo anual de Insumos para mantenimiento preventivo (OLM) | D22: 0.004 | F22: =$D$22*$D$21*E21 -> 185.08 | H22: =$D$22*$D$21*G21 -> 0 | J22: =$D$22*$D$21*I21 -> 158.64 | L22: =$D$22*$D$21*K21 -> 132.2
B23: b | C23: Kit anual de repuestos (OLM) | D23: 0.004 | F23: =$D$23*$D$21*E21 -> 185.08 | H23: =$D$23*$D$21*G21 -> 0 | J23: =$D$23*$D$21*I21 -> 158.64 | L23: =$D$23*$D$21*K21 -> 132.2
D24: 2021 | E24: 1 | F24: =F5+F6+F12+F13+F16+F17+F8+F9+F19+F20+F22+F23 -> 1247.184 | G24: 2022 | H24: =H5+H6+H12+H13+H16+H17+H8+H9+H19+H20+H22+H23 -> 531.424 | I24: 2023 | J24: =J5+J6+J12+J13+J16+J17+J8+J9+J19+J20+J22+J23 -> 1309.504 | K24: 2025 | L24: =L5+L6+L12+L13+L16+L17+L8+L9+L19+L20+L22+L23 -> 1674.444
E25: 2 | F25: =F10+F14 -> 1296 | H25: =H10+H14 -> 432 | J25: =J10+J14 -> 1584 | L25: =L10+L14 -> 1929.6
C28: 2021 | D28: 2022 | E28: 2023 | F28: 2024 | G28: 2025 | H28: 2026 | I28: 2027 | J28: 2028 | K28: 2029 | L28: 2030 | M28: 2031 | N28: 2032 | O28: 2033 | P28: 2034 | Q28: 2035 | R28: 2036 | S28: 2037 | T28: 2038 | U28: 2039 | V28: 2040 | W28: 2041 | X28: 2042 | Y28: 2043 | Z28: 2044 | AA28: 2045 | AB28: 2046
B29: Costos ILS | C29: Año 0 | D29: Año 1 | E29: Año 2 | F29: Años 3 | G29: Año 4 | H29: Año 5 | I29: Años 6 | J29: Año 7 | K29: Año 8 | L29: Años 9 | M29: Año 10 | N29: Año 11 | O29: Año 12 | P29: Años 13 | Q29: Año 14 | R29: Año 15 | S29: Años 16 | T29: Año 17 | U29: Año 18 | V29: Años 19 | W29: Año 20 | X29: Año 21 | Y29: Año 22 | Z29: Años 23 | AA29: Año 24 | AB29: Años 25 | AC29: TOTAL
A30: 1 | B30: Manteniemiento básico, repuestos,. | D30: =F24 -> 1247.184 | E30: =$F$24+$H$24 -> 1778.608 | F30: =$F$24+$H$24+$J$24 -> 3088.112 | G30: =$F$24+$H$24+$J$24 -> 3088.112 | H30: =$F$24+$H$24+$L$24+$J$24 -> 4762.556 | I30: =$F$24+$H$24+$L$24+$J$24 -> 4762.556 | J30: =$F$24+$H$24+$L$24+$J$24 -> 4762.556 | K30: =$F$24+$H$24+$L$24+$J$24 -> 4762.556 | L30: =$F$24+$H$24+$L$24+$J$24 -> 4762.556 | M30: =$F$24+$H$24+$L$24+$J$24 -> 4762.556 | N30: =$F$24+$H$24+$L$24+$J$24 -> 4762.556 | O30: =$F$24+$H$24+$L$24+$J$24 -> 4762.556 | ... AA30: =$F$24+$H$24+$L$24+$J$24 -> 4762.556 | AB30: =Z24+AB24+AF24+AD24 -> 0 | AC30: =SUM(C30:AB30) -> 104453.14
A31: 2 | B31: mantenimiento programado (inspectivo y correctivo) | C31: =(F8+F9) -> 0 | H31: =$F$25 -> 1296 | I31: =$H$25 -> 432 | J31: =$J$25 -> 1584 | M31: =$F$25 -> 1296 | N31: =$H$25 -> 432 | O31: =$J$25 -> 1584 | R31: =$F$25 -> 1296 | S31: =$H$25 -> 432 | T31: =$J$25 -> 1584 | W31: =$F$25 -> 1296 | X31: =$H$25 -> 432 | Y31: =$J$25 -> 1584 | AB31: =$F$25 -> 1296 | AC31: =SUM(C31:AB31) -> 14544
B32: totales | C32: =SUM(C30:C31) -> 0 | D32: =SUM(D30:D31) -> 1247.184 | E32: =SUM(E30:E31) -> 1778.608 | F32: =SUM(F30:F31) -> 3088.112 | G32: =SUM(G30:G31) -> 3088.112 | H32: =SUM(H30:H31) -> 6058.556 | I32: =SUM(I30:I31) -> 5194.556 | J32: =SUM(J30:J31) -> 6346.556 | ... AB32: =SUM(AB30:AB31) -> 1296 | AC32: =SUM(C32:AB32) -> 118997.14
C35: EQUIPAMIENTO PARA INSERCIONES ANFIBIAS | D35: VALOR UNITARIO O FACTORES DE CÁLCULO RELACIONADOS | E35: CANTIDAD 2021 | F35: VALOR TOTAL | G35: CANTIDAD 2022 | H35: VALOR TOTAL | I35: CANTIDAD 2023 | J35: VALOR TOTAL | K35: CANTIDAD 2025 | L35: VALOR TOTAL | M35: CANTIDADES TOTALES FASE 1 Y 2 | N35: VALORES TOTALES FASE 1 Y 2
B36: 3.2.2. | C36: Bote de goma inflable inc. Kit inflado MK5. | D36: ='TABLA GENERAL FASE 1 Y 2'!H162 -> 19274 | E36: ='TABLA GENERAL FASE 1 Y 2'!J162 -> 0 | F36: =E36*D36 -> 0 | G36: ='TABLA GENERAL FASE 1 Y 2'!L162 -> 0 | H36: =G36*D36 -> 0 | I36: ='TABLA GENERAL FASE 1 Y 2'!N162 -> 0 | J36: =I36*D36 -> 0 | K36: ='TABLA GENERAL FASE 1 Y 2'!P162 -> 1 | L36: =K36*D36 -> 19274 | M36: =K36+I36+G36+E36 -> 1 | N36: =L36+J36+H36+F36 -> 19274
C37: Costo anual de Insumos para mantenimiento preventivo (OLM) | D37: 0.015 | F37: =$D$37*$D$36*E36 -> 0 | H37: =$D$37*$D$36*G36 -> 0 | J37: =$D$37*$D$36*I36 -> 0 | L37: =$D$37*$D$36*K36 -> 289.11
