Workbook

Sheet MAESTRO
A1: NRO. | B1: PRECEDENCIA | C1: CRITERIO DE ORDEN | D1: FUENTE | E1: TRATAMIENTO | F1: TRIBUNA | G1: NOMBRE COMPLETO | H1: NOMBRE | I1: APELLIDO P | J1: APELLIDO M | K1: ASISTENCIA | L1: CARGO | M1: OBSERVACIONES | N1: PRECEDENCIA NUM | O1: DISTRIBUIR | P1: ORDEN ASIGNACION | Q1: UBICACION
A2: =ROW()-1 | B2: 1 | C2: Presidente de la República, precedencia nacional | D2: OPA | E2: Su Excelencia | F2: VIP | G2: Kast Rist, José Antonio | H2: José Antonio | I2: Kast | J2: Rist | K2: Pendiente | L2: Presidente de la República | N2: =IFERROR(VALUE(B2),9999) | O2: =IF(AND(G2<>"",K2<>"NO",OR(PARAMETROS!$B$2="TODAS",F2=PARAMETROS!$B$2),OR(PARAMETROS!$B$3="SI y Pendiente",K2="SI")),"SI","NO") | P2: =IF(O2="SI",COUNTIFS($O:$O,"SI",$N:$N,"<"&N2)+COUNTIFS($O:$O,"SI",$N:$N,N2,$A:$A,"<="&A2),"") | Q2: =IF(O2="SI",IFERROR(INDEX('MAPA ASIENTOS'!$D:$D,MATCH(P2,'MAPA ASIENTOS'!$A:$A,0)),"SIN ASIGNAR"),"")
A3: =ROW()-1 | B3: 1.1 | C3: Acompañante anclada inmediatamente posterior al Presidente | D3: OPA | E3: Primera Dama | F3: VIP | G3: Adriasola Barroihet, María Pía | H3: María Pía | I3: Adriasola | J3: Barroihet | K3: Pendiente | L3: Esposa del Presidente de la República | N3: =IFERROR(VALUE(B3),9999) | O3: =IF(AND(G3<>"",K3<>"NO",OR(PARAMETROS!$B$2="TODAS",F3=PARAMETROS!$B$2),OR(PARAMETROS!$B$3="SI y Pendiente",K3="SI")),"SI","NO") | P3: =IF(O3="SI",COUNTIFS($O:$O,"SI",$N:$N,"<"&N3)+COUNTIFS($O:$O,"SI",$N:$N,N3,$A:$A,"<="&A3),"") | Q3: =IF(O3="SI",IFERROR(INDEX('MAPA ASIENTOS'!$D:$D,MATCH(P3,'MAPA ASIENTOS'!$A:$A,0)),"SIN ASIGNAR"),"")
A4: =ROW()-1 | B4: 1.1 | C4: Precedencia nacional / agrupación por cargo | D4: OPA | F4: VIP | G4: Morel Montes, María Cecilia | H4: María Cecilia | I4: Morel | J4: Montes | K4: Pendiente | L4: Ex - Primera Dama | N4: =IFERROR(VALUE(B4),9999) | O4: =IF(AND(G4<>"",K4<>"NO",OR(PARAMETROS!$B$2="TODAS",F4=PARAMETROS!$B$2),OR(PARAMETROS!$B$3="SI y Pendiente",K4="SI")),"SI","NO") | P4: =IF(O4="SI",COUNTIFS($O:$O,"SI",$N:$N,"<"&N4)+COUNTIFS($O:$O,"SI",$N:$N,N4,$A:$A,"<="&A4),"") | Q4: =IF(O4="SI",IFERROR(INDEX('MAPA ASIENTOS'!$D:$D,MATCH(P4,'MAPA ASIENTOS'!$A:$A,0)),"SIN ASIGNAR"),"")
A5: =ROW()-1 | B5: 2 | C5: Coincidencia exacta PDF: Presidenta del Senado | D5: OPA | E5: Honorable Senador | F5: VIP | G5: Núñez Urrutia, Paulina | H5: Paulina | I5: Núñez | J5: Urrutia | K5: Pendiente | L5: Presidenta del Senado | N5: =IFERROR(VALUE(B5),9999) | O5: =IF(AND(G5<>"",K5<>"NO",OR(PARAMETROS!$B$2="TODAS",F5=PARAMETROS!$B$2),OR(PARAMETROS!$B$3="SI y Pendiente",K5="SI")),"SI","NO") | P5: =IF(O5="SI",COUNTIFS($O:$O,"SI",$N:$N,"<"&N5)+COUNTIFS($O:$O,"SI",$N:$N,N5,$A:$A,"<="&A5),"") | Q5: =IF(O5="SI",IFERROR(INDEX('MAPA ASIENTOS'!$D:$D,MATCH(P5,'MAPA ASIENTOS'!$A:$A,0)),"SIN ASIGNAR"),"")
A6: =ROW()-1 | B6: 4 | C6: Coincidencia exacta PDF: Presidente de la Cámara de Diputados | D6: OPA | E6: Honorable Diputado | F6: VIP | G6: Alessandri Vergara, Jorge | H6: Jorge | I6: Alessandri | J6: Vergara | K6: NO | L6: Presidente de la Cámara de Diputados | N6: =IFERROR(VALUE(B6),9999) | O6: =IF(AND(G6<>"",K6<>"NO",OR(PARAMETROS!$B$2="TODAS",F6=PARAMETROS!$B$2),OR(PARAMETROS!$B$3="SI y Pendiente",K6="SI")),"SI","NO") | P6: =IF(O6="SI",COUNTIFS($O:$O,"SI",$N:$N,"<"&N6)+COUNTIFS($O:$O,"SI",$N:$N,N6,$A:$A,"<="&A6),"") | Q6: =IF(O6="SI",IFERROR(INDEX('MAPA ASIENTOS'!$D:$D,MATCH(P6,'MAPA ASIENTOS'!$A:$A,0)),"SIN ASIGNAR"),"")
A7: =ROW()-1 | B7: 5 | C7: Coincidencia exacta PDF: Ex Presidenta de la República | D7: OPA | F7: VIP | G7: Bachelet Jeria, Michelle | H7: Michelle | I7: Bachelet | J7: Jeria | K7: Pendiente | L7: Ex Presidenta de la República | N7: =IFERROR(VALUE(B7),9999) | O7: =IF(AND(G7<>"",K7<>"NO",OR(PARAMETROS!$B$2="TODAS",F7=PARAMETROS!$B$2),OR(PARAMETROS!$B$3="SI y Pendiente",K7="SI")),"SI","NO") | P7: =IF(O7="SI",COUNTIFS($O:$O,"SI",$N:$N,"<"&N7)+COUNTIFS($O:$O,"SI",$N:$N,N7,$A:$A,"<="&A7),"") | Q7: =IF(O7="SI",IFERROR(INDEX('MAPA ASIENTOS'!$D:$D,MATCH(P7,'MAPA ASIENTOS'!$A:$A,0)),"SIN ASIGNAR"),"")
A8: =ROW()-1 | B8: 5 | C8: Coincidencia exacta PDF: Ex Presidente de la República | D8: OPA | F8: VIP | G8: Frei Ruiz-tagle, Eduardo | H8: Eduardo | I8: Frei | J8: Ruiz-tagle | K8: Pendiente | L8: Ex Presidente de la República | N8: =IFERROR(VALUE(B8),9999) | O8: =IF(AND(G8<>"",K8<>"NO",OR(PARAMETROS!$B$2="TODAS",F8=PARAMETROS!$B$2),OR(PARAMETROS!$B$3="SI y Pendiente",K8="SI")),"SI","NO") | P8: =IF(O8="SI",COUNTIFS($O:$O,"SI",$N:$N,"<"&N8)+COUNTIFS($O:$O,"SI",$N:$N,N8,$A:$A,"<="&A8),"") | Q8: =IF(O8="SI",IFERROR(INDEX('MAPA ASIENTOS'!$D:$D,MATCH(P8,'MAPA ASIENTOS'!$A:$A,0)),"SIN ASIGNAR"),"")
A9: =ROW()-1 | B9: 5 | C9: Coincidencia exacta PDF: Ex Presidente de la República | D9: OPA | F9: VIP | G9: Lagos Escobar, Ricardo | H9: Ricardo | I9: Lagos | J9: Escobar | K9: Pendiente | L9: Ex Presidente de la República | N9: =IFERROR(VALUE(B9),9999) | O9: =IF(AND(G9<>"",K9<>"NO",OR(PARAMETROS!$B$2="TODAS",F9=PARAMETROS!$B$2),OR(PARAMETROS!$B$3="SI y Pendiente",K9="SI")),"SI","NO") | P9: =IF(O9="SI",COUNTIFS($O:$O,"SI",$N:$N,"<"&N9)+COUNTIFS($O:$O,"SI",$N:$N,N9,$A:$A,"<="&A9),"") | Q9: =IF(O9="SI",IFERROR(INDEX('MAPA ASIENTOS'!$D:$D,MATCH(P9,'MAPA ASIENTOS'!$A:$A,0)),"SIN ASIGNAR"),"")
A10: =ROW()-1 | B10: 5 | C10: Coincidencia exacta PDF: Ex Presidente de la República | D10: OPA | F10: VIP | G10: Boric Font, Gabriel | H10: Gabriel | I10: Boric | J10: Font | K10: Pendiente | L10: Ex Presidente de la República | N10: =IFERROR(VALUE(B10),9999) | O10: =IF(AND(G10<>"",K10<>"NO",OR(PARAMETROS!$B$2="TODAS",F10=PARAMETROS!$B$2),OR(PARAMETROS!$B$3="SI y Pendiente",K10="SI")),"SI","NO") | P10: =IF(O10="SI",COUNTIFS($O:$O,"SI",$N:$N,"<"&N10)+COUNTIFS($O:$O,"SI",$N:$N,N10,$A:$A,"<="&A10),"") | Q10: =IF(O10="SI",IFERROR(INDEX('MAPA ASIENTOS'!$D:$D,MATCH(P10,'MAPA ASIENTOS'!$A:$A,0)),"SIN ASIGNAR"),"")
A11: =ROW()-1 | B11: 10 | C11: Coincidencia exacta PDF: Presidenta del Tribunal Constitucional | D11: OPA | F11: VIP | G11: Marzi Muñoz, Daniela | H11: Daniela | I11: Marzi | J11: Muñoz | K11: Pendiente | L11: Presidenta del Tribunal Constitucional | N11: =IFERROR(VALUE(B11),9999) | O11: =IF(AND(G11<>"",K11<>"NO",OR(PARAMETROS!$B$2="TODAS",F11=PARAMETROS!$B$2),OR(PARAMETROS!$B$3="SI y Pendiente",K11="SI")),"SI","NO") | P11: =IF(O11="SI",COUNTIFS($O:$O,"SI",$N:$N,"<"&N11)+COUNTIFS($O:$O,"SI",$N:$N,N11,$A:$A,"<="&A11),"") | Q11: =IF(O11="SI",IFERROR(INDEX('MAPA ASIENTOS'!$D:$D,MATCH(P11,'MAPA ASIENTOS'!$A:$A,0)),"SIN ASIGNAR"),"")
A12: =ROW()-1 | B12: 11 | C12: Coincidencia exacta PDF: Contralora General de la República | D12: OPA | E12: Contralora | F12: VIP | G12: Pérez Gutiérrez, Dorothy | H12: Dorothy | I12: Pérez | J12: Gutiérrez | K12: NO | L12: Contralora General de la República | N12: =IFERROR(VALUE(B12),9999) | O12: =IF(AND(G12<>"",K12<>"NO",OR(PARAMETROS!$B$2="TODAS",F12=PARAMETROS!$B$2),OR(PARAMETROS!$B$3="SI y Pendiente",K12="SI")),"SI","NO") | P12: =IF(O12="SI",COUNTIFS($O:$O,"SI",$N:$N,"<"&N12)+COUNTIFS($O:$O,"SI",$N:$N,N12,$A:$A,"<="&A12),"") | Q12: =IF(O12="SI",IFERROR(INDEX('MAPA ASIENTOS'!$D:$D,MATCH(P12,'MAPA ASIENTOS'!$A:$A,0)),"SIN ASIGNAR"),"")
A13: =ROW()-1 | B13: 12 | C13: Coincidencia exacta PDF: Fiscal Nacional del Ministerio Público | D13: OPA | E13: Fiscal | F13: VIP | G13: Valencia Vásquez, Ángel | H13: Ángel | I13: Valencia | J13: Vásquez | K13: Pendiente | L13: Fiscal Nacional del Ministerio Público | N13: =IFERROR(VALUE(B13),9999) | O13: =IF(AND(G13<>"",K13<>"NO",OR(PARAMETROS!$B$2="TODAS",F13=PARAMETROS!$B$2),OR(PARAMETROS!$B$3="SI y Pendiente",K13="SI")),"SI","NO") | P13: =IF(O13="SI",COUNTIFS($O:$O,"SI",$N:$N,"<"&N13)+COUNTIFS($O:$O,"SI",$N:$N,N13,$A:$A,"<="&A13),"") | Q13: =IF(O13="SI",IFERROR(INDEX('MAPA ASIENTOS'!$D:$D,MATCH(P13,'MAPA ASIENTOS'!$A:$A,0)),"SIN ASIGNAR"),"")
A14: =ROW()-1 | B14: 16 | C14: Coincidencia exacta PDF: Ministro del Interior | D14: OPA | E14: Ministro | F14: VIP | G14: Alvarado Andrade, Claudio | H14: Claudio | I14: Alvarado | J14: Andrade | K14: Pendiente | L14: Biministro del Interior y Secretario General de Gobierno | N14: =IFERROR(VALUE(B14),9999) | O14: =IF(AND(G14<>"",K14<>"NO",OR(PARAMETROS!$B$2="TODAS",F14=PARAMETROS!$B$2),OR(PARAMETROS!$B$3="SI y Pendiente",K14="SI")),"SI","NO") | P14: =IF(O14="SI",COUNTIFS($O:$O,"SI",$N:$N,"<"&N14)+COUNTIFS($O:$O,"SI",$N:$N,N14,$A:$A,"<="&A14),"") | Q14: =IF(O14="SI",IFERROR(INDEX('MAPA ASIENTOS'!$D:$D,MATCH(P14,'MAPA ASIENTOS'!$A:$A,0)),"SIN ASIGNAR"),"")
A15: =ROW()-1 | B15: 17 | C15: Coincidencia exacta PDF: Ministro de Relaciones Exteriores | D15: OPA | E15: Ministro | F15: VIP | G15: Pérez Mackenna, Francisco | H15: Francisco | I15: Pérez | J15: Mackenna | K15: NO | L15: Ministro de Relaciones Exteriores | N15: =IFERROR(VALUE(B15),9999) | O15: =IF(AND(G15<>"",K15<>"NO",OR(PARAMETROS!$B$2="TODAS",F15=PARAMETROS!$B$2),OR(PARAMETROS!$B$3="SI y Pendiente",K15="SI")),"SI","NO") | P15: =IF(O15="SI",COUNTIFS($O:$O,"SI",$N:$N,"<"&N15)+COUNTIFS($O:$O,"SI",$N:$N,N15,$A:$A,"<="&A15),"") | Q15: =IF(O15="SI",IFERROR(INDEX('MAPA ASIENTOS'!$D:$D,MATCH(P15,'MAPA ASIENTOS'!$A:$A,0)),"SIN ASIGNAR"),"")
A16: =ROW()-1 | B16: 18 | C16: Precedencia nacional / agrupación por cargo | D16: OPA | E16: Ministro | F16: VIP | G16: Delpiano Puelma, Adriana | H16: Adriana | I16: Delpiano | J16: Puelma | K16: Pendiente | L16: Ex Ministra de Defensa Nacional | N16: =IFERROR(VALUE(B16),9999) | O16: =IF(AND(G16<>"",K16<>"NO",OR(PARAMETROS!$B$2="TODAS",F16=PARAMETROS!$B$2),OR(PARAMETROS!$B$3="SI y Pendiente",K16="SI")),"SI","NO") | P16: =IF(O16="SI",COUNTIFS($O:$O,"SI",$N:$N,"<"&N16)+COUNTIFS($O:$O,"SI",$N:$N,N16,$A:$A,"<="&A16),"") | Q16: =IF(O16="SI",IFERROR(INDEX('MAPA ASIENTOS'!$D:$D,MATCH(P16,'MAPA ASIENTOS'!$A:$A,0)),"SIN ASIGNAR"),"")
A17: =ROW()-1 | B17: 18 | C17: Precedencia nacional / agrupación por cargo | D17: OPA | E17: Ministro | F17: VIP | G17: Fernández Allende, Maya | H17: Maya | I17: Fernández | J17: Allende | K17: Pendiente | L17: Ex Ministra de Defensa Nacional | N17: =IFERROR(VALUE(B17),9999) | O17: =IF(AND(G17<>"",K17<>"NO",OR(PARAMETROS!$B$2="TODAS",F17=PARAMETROS!$B$2),OR(PARAMETROS!$B$3="SI y Pendiente",K17="SI")),"SI","NO") | P17: =IF(O17="SI",COUNTIFS($O:$O,"SI",$N:$N,"<"&N17)+COUNTIFS($O:$O,"SI",$N:$N,N17,$A:$A,"<="&A17),"") | Q17: =IF(O17="SI",IFERROR(INDEX('MAPA ASIENTOS'!$D:$D,MATCH(P17,'MAPA ASIENTOS'!$A:$A,0)),"SIN ASIGNAR"),"")
A18: =ROW()-1 | B18: 18 | C18: Precedencia nacional / agrupación por cargo | D18: OPA | E18: Ministro | F18: VIP | G18: Burgos Varela, Jorge | H18: Jorge | I18: Burgos | J18: Varela | K18: NO | L18: Ex Ministro de Defensa Nacional | N18: =IFERROR(VALUE(B18),9999) | O18: =IF(AND(G18<>"",K18<>"NO",OR(PARAMETROS!$B$2="TODAS",F18=PARAMETROS!$B$2),OR(PARAMETROS!$B$3="SI y Pendiente",K18="SI")),"SI","NO") | P18: =IF(O18="SI",COUNTIFS($O:$O,"SI",$N:$N,"<"&N18)+COUNTIFS($O:$O,"SI",$N:$N,N18,$A:$A,"<="&A18),"") | Q18: =IF(O18="SI",IFERROR(INDEX('MAPA ASIENTOS'!$D:$D,MATCH(P18,'MAPA ASIENTOS'!$A:$A,0)),"SIN ASIGNAR"),"")
A19: =ROW()-1 | B19: 18 | C19: Precedencia nacional / agrupación por cargo | D19: OPA | E19: Ministro | F19: VIP | G19: Coopman Corral, Javier | H19: Javier | I19: Coopman | J19: Corral | K19: Pendiente | L19: Jefe Gabinete Ministro de Defensa | N19: =IFERROR(VALUE(B19),9999) | O19: =IF(AND(G19<>"",K19<>"NO",OR(PARAMETROS!$B$2="TODAS",F19=PARAMETROS!$B$2),OR(PARAMETROS!$B$3="SI y Pendiente",K19="SI")),"SI","NO") | P19: =IF(O19="SI",COUNTIFS($O:$O,"SI",$N:$N,"<"&N19)+COUNTIFS($O:$O,"SI",$N:$N,N19,$A:$A,"<="&A19),"") | Q19: =IF(O19="SI",IFERROR(INDEX('MAPA ASIENTOS'!$D:$D,MATCH(P19,'MAPA ASIENTOS'!$A:$A,0)),"SIN ASIGNAR"),"")
A20: =ROW()-1 | B20: 18 | C20: Coincidencia exacta PDF: Ministro de Defensa Nacional | D20: OPA | E20: Ministro | F20: VIP | G20: Barros Tocornal, Fernando | H20: Fernando | I20: Barros | J20: Tocornal | K20: Pendiente | L20: Ministro de Defensa Nacional | N20: =IFERROR(VALUE(B20),9999) | O20: =IF(AND(G20<>"",K20<>"NO",OR(PARAMETROS!$B$2="TODAS",F20=PARAMETROS!$B$2),OR(PARAMETROS!$B$3="SI y Pendiente",K20="SI")),"SI","NO") | P20: =IF(O20="SI",COUNTIFS($O:$O,"SI",$N:$N,"<"&N20)+COUNTIFS($O:$O,"SI",$N:$N,N20,$A:$A,"<="&A20),"") | Q20: =IF(O20="SI",IFERROR(INDEX('MAPA ASIENTOS'!$D:$D,MATCH(P20,'MAPA ASIENTOS'!$A:$A,0)),"SIN ASIGNAR"),"")
A21: =ROW()-1 | B21: 19 | C21: Coincidencia exacta PDF: Ministro de Hacienda | D21: OPA | E21: Ministro | F21: VIP | G21: Quiroz Castro, Jorge | H21: Jorge | I21: Quiroz | J21: Castro | K21: Pendiente | L21: Ministro de Hacienda | N21: =IFERROR(VALUE(B21),9999) | O21: =IF(AND(G21<>"",K21<>"NO",OR(PARAMETROS!$B$2="TODAS",F21=PARAMETROS!$B$2),OR(PARAMETROS!$B$3="SI y Pendiente",K21="SI")),"SI","NO") | P21: =IF(O21="SI",COUNTIFS($O:$O,"SI",$N:$N,"<"&N21)+COUNTIFS($O:$O,"SI",$N:$N,N21,$A:$A,"<="&A21),"") | Q21: =IF(O21="SI",IFERROR(INDEX('MAPA ASIENTOS'!$D:$D,MATCH(P21,'MAPA ASIENTOS'!$A:$A,0)),"SIN ASIGNAR"),"")
A22: =ROW()-1 | B22: 20 | C22: Coincidencia PDF por cartera principal: Seguridad Pública / Transporte | D22: OPA | E22: Ministro | F22: VIP | G22: De Grange Concha, Louis | H22: Louis | I22: De Grange | J22: Concha | K22: NO | L22: Biministro de Obras Publicas, Transporte y Telecomunicaciones | N22: =IFERROR(VALUE(B22),9999) | O22: =IF(AND(G22<>"",K22<>"NO",OR(PARAMETROS!$B$2="TODAS",F22=PARAMETROS!$B$2),OR(PARAMETROS!$B$3="SI y Pendiente",K22="SI")),"SI","NO") | P22: =IF(O22="SI",COUNTIFS($O:$O,"SI",$N:$N,"<"&N22)+COUNTIFS($O:$O,"SI",$N:$N,N22,$A:$A,"<="&A22),"") | Q22: =IF(O22="SI",IFERROR(INDEX('MAPA ASIENTOS'!$D:$D,MATCH(P22,'MAPA ASIENTOS'!$A:$A,0)),"SIN ASIGNAR"),"")
A23: =ROW()-1 | B23: 25 | C23: Coincidencia exacta PDF: Ministra de Educación | D23: OPA | E23: Ministro | F23: VIP | G23: Arzola González, María Paz | H23: María Paz | I23: Arzola | J23: González | K23: Pendiente | L23: Ministra de Educación | N23: =IFERROR(VALUE(B23),9999) | O23: =IF(AND(G23<>"",K23<>"NO",OR(PARAMETROS!$B$2="TODAS",F23=PARAMETROS!$B$2),OR(PARAMETROS!$B$3="SI y Pendiente",K23="SI")),"SI","NO") | P23: =IF(O23="SI",COUNTIFS($O:$O,"SI",$N:$N,"<"&N23)+COUNTIFS($O:$O,"SI",$N:$N,N23,$A:$A,"<="&A23),"") | Q23: =IF(O23="SI",IFERROR(INDEX('MAPA ASIENTOS'!$D:$D,MATCH(P23,'MAPA ASIENTOS'!$A:$A,0)),"SIN ASIGNAR"),"")
... A29: =ROW()-1 | B29: 40 | C29: Coincidencia exacta PDF: Ministra de Ciencia, Tecnología, Conocimiento e Innovación | D29: OPA | E29: Ministro | F29: VIP | G29: Lincolao Gates, Ximena | H29: Ximena | I29: Lincolao | J29: Gates | K29: NO | L29: Ministra de Ciencia, Tecnología, Conocimiento e Innovación | N29: =IFERROR(VALUE(B29),9999) | O29: =IF(AND(G29<>"",K29<>"NO",OR(PARAMETROS!$B$2="TODAS",F29=PARAMETROS!$B$2),OR(PARAMETROS!$B$3="SI y Pendiente",K29="SI")),"SI","NO") | P29: =IF(O29="SI",COUNTIFS($O:$O,"SI",$N:$N,"<"&N29)+COUNTIFS($O:$O,"SI",$N:$N,N29,$A:$A,"<="&A29),"") | Q29: =IF(O29="SI",IFERROR(INDEX('MAPA ASIENTOS'!$D:$D,MATCH(P29,'MAPA ASIENTOS'!$A:$A,0)),"SIN ASIGNAR"),"")
A30: =ROW()-1 | B30: 43 | C30: Categoría PDF: Embajadores Extranjeros (orden interno diplomático no informado) | D30: OPA | E30: Excelentísima | F30: VIP | G30: Faurie, Jorge | H30: Jorge | I30: Faurie | K30: NO | L30: Embajador de Argentina en Chile | N30: =IFERROR(VALUE(B30),9999) | O30: =IF(AND(G30<>"",K30<>"NO",OR(PARAMETROS!$B$2="TODAS",F30=PARAMETROS!$B$2),OR(PARAMETROS!$B$3="SI y Pendiente",K30="SI")),"SI","NO") | P30: =IF(O30="SI",COUNTIFS($O:$O,"SI",$N:$N,"<"&N30)+COUNTIFS($O:$O,"SI",$N:$N,N30,$A:$A,"<="&A30),"") | Q30: =IF(O30="SI",IFERROR(INDEX('MAPA ASIENTOS'!$D:$D,MATCH(P30,'MAPA ASIENTOS'!$A:$A,0)),"SIN ASIGNAR"),"")
A31: =ROW()-1 | B31: 43 | C31: Categoría PDF: Embajadores Extranjeros (orden interno diplomático no informado) | D31: OPA | E31: Excelentísima | F31: VIP | G31: Barrit Martin, Andrew James | H31: Andrew James | I31: Barrit | J31: Martin | K31: Pendiente | L31: Embajador de Australia en Chile | N31: =IFERROR(VALUE(B31),9999) | O31: =IF(AND(G31<>"",K31<>"NO",OR(PARAMETROS!$B$2="TODAS",F31=PARAMETROS!$B$2),OR(PARAMETROS!$B$3="SI y Pendiente",K31="SI")),"SI","NO") | P31: =IF(O31="SI",COUNTIFS($O:$O,"SI",$N:$N,"<"&N31)+COUNTIFS($O:$O,"SI",$N:$N,N31,$A:$A,"<="&A31),"") | Q31: =IF(O31="SI",IFERROR(INDEX('MAPA ASIENTOS'!$D:$D,MATCH(P31,'MAPA ASIENTOS'!$A:$A,0)),"SIN ASIGNAR"),"")
A32: =ROW()-1 | B32: 43 | C32: Categoría PDF: Embajadores Extranjeros (orden interno diplomático no informado) | D32: OPA | E32: Excelentísima | F32: VIP | G32: Soares Pacheco, Paulo | H32: Paulo | I32: Soares | J32: Pacheco | K32: Pendiente | L32: Embajador de Brasil en Chile | N32: =IFERROR(VALUE(B32),9999) | O32: =IF(AND(G32<>"",K32<>"NO",OR(PARAMETROS!$B$2="TODAS",F32=PARAMETROS!$B$2),OR(PARAMETROS!$B$3="SI y Pendiente",K32="SI")),"SI","NO") | P32: =IF(O32="SI",COUNTIFS($O:$O,"SI",$N:$N,"<"&N32)+COUNTIFS($O:$O,"SI",$N:$N,N32,$A:$A,"<="&A32),"") | Q32: =IF(O32="SI",IFERROR(INDEX('MAPA ASIENTOS'!$D:$D,MATCH(P32,'MAPA ASIENTOS'!$A:$A,0)),"SIN ASIGNAR"),"")
A33: =ROW()-1 | B33: 43 | C33: Categoría PDF: Embajadores Extranjeros (orden interno diplomático no informado) | D33: OPA | E33: Excelentísima | F33: VIP | G33: Guanumen Parra, Sebastián | H33: Sebastián | I33: Guanumen | J33: Parra | K33: Pendiente | L33: Embajador de Colombia en Chile | N33: =IFERROR(VALUE(B33),9999) | O33: =IF(AND(G33<>"",K33<>"NO",OR(PARAMETROS!$B$2="TODAS",F33=PARAMETROS!$B$2),OR(PARAMETROS!$B$3="SI y Pendiente",K33="SI")),"SI","NO") | P33: =IF(O33="SI",COUNTIFS($O:$O,"SI",$N:$N,"<"&N33)+COUNTIFS($O:$O,"SI",$N:$N,N33,$A:$A,"<="&A33),"") | Q33: =IF(O33="SI",IFERROR(INDEX('MAPA ASIENTOS'!$D:$D,MATCH(P33,'MAPA ASIENTOS'!$A:$A,0)),"SIN ASIGNAR"),"")
A34: =ROW()-1 | B34: 43 | C34: Categoría PDF: Embajadores Extranjeros (orden interno diplomático no informado) | D34: OPA | E34: Excelentísima | F34: VIP | G34: Judd, Brandon | H34: Brandon | I34: Judd | K34: Pendiente | L34: Embajador de Estados Unidos de América en Chile | N34: =IFERROR(VALUE(B34),9999) | O34: =IF(AND(G34<>"",K34<>"NO",OR(PARAMETROS!$B$2="TODAS",F34=PARAMETROS!$B$2),OR(PARAMETROS!$B$3="SI y Pendiente",K34="SI")),"SI","NO") | P34: =IF(O34="SI",COUNTIFS($O:$O,"SI",$N:$N,"<"&N34)+COUNTIFS($O:$O,"SI",$N:$N,N34,$A:$A,"<="&A34),"") | Q34: =IF(O34="SI",IFERROR(INDEX('MAPA ASIENTOS'!$D:$D,MATCH(P34,'MAPA ASIENTOS'!$A:$A,0)),"SIN ASIGNAR"),"")
A35: =ROW()-1 | B35: 43 | C35: Categoría PDF: Embajadores Extranjeros (orden interno diplomático no informado) | D35: OPA | E35: Excelentísima | F35: VIP | G35: Rogeau, Cyrille | H35: Cyrille | I35: Rogeau | K35: SI | L35: Embajador de Francia en Chile | N35: =IFERROR(VALUE(B35),9999) | O35: =IF(AND(G35<>"",K35<>"NO",OR(PARAMETROS!$B$2="TODAS",F35=PARAMETROS!$B$2),OR(PARAMETROS!$B$3="SI y Pendiente",K35="SI")),"SI","NO") | P35: =IF(O35="SI",COUNTIFS($O:$O,"SI",$N:$N,"<"&N35)+COUNTIFS($O:$O,"SI",$N:$N,N35,$A:$A,"<="&A35),"") | Q35: =IF(O35="SI",IFERROR(INDEX('MAPA ASIENTOS'!$D:$D,MATCH(P35,'MAPA ASIENTOS'!$A:$A,0)),"SIN ASIGNAR"),"")
A36: =ROW()-1 | B36: 43 | C36: Precedencia nacional / agrupación por cargo | D36: OPA | E36: Excelentísima | F36: VIP | G36: Qingbao, Niu | H36: Niu | I36: Qingbao | K36: Pendiente | L36: Embajador de la República Popular China en Chile | N36: =IFERROR(VALUE(B36),9999) | O36: =IF(AND(G36<>"",K36<>"NO",OR(PARAMETROS!$B$2="TODAS",F36=PARAMETROS!$B$2),OR(PARAMETROS!$B$3="SI y Pendiente",K36="SI")),"SI","NO") | P36: =IF(O36="SI",COUNTIFS($O:$O,"SI",$N:$N,"<"&N36)+COUNTIFS($O:$O,"SI",$N:$N,N36,$A:$A,"<="&A36),"") | Q36: =IF(O36="SI",IFERROR(INDEX('MAPA ASIENTOS'!$D:$D,MATCH(P36,'MAPA ASIENTOS'!$A:$A,0)),"SIN ASIGNAR"),"")
A37: =ROW()-1 | B37: 43 | C37: Precedencia nacional / agrupación por cargo | D37: OPA | E37: Excelentísima | F37: VIP | G37: El Ghali, Kenza | H37: Kenza | I37: El Ghali | K37: Pendiente | L37: Embajador de Marruecos | N37: =IFERROR(VALUE(B37),9999) | O37: =IF(AND(G37<>"",K37<>"NO",OR(PARAMETROS!$B$2="TODAS",F37=PARAMETROS!$B$2),OR(PARAMETROS!$B$3="SI y Pendiente",K37="SI")),"SI","NO") | P37: =IF(O37="SI",COUNTIFS($O:$O,"SI",$N:$N,"<"&N37)+COUNTIFS($O:$O,"SI",$N:$N,N37,$A:$A,"<="&A37),"") | Q37: =IF(O37="SI",IFERROR(INDEX('MAPA ASIENTOS'!$D:$D,MATCH(P37,'MAPA ASIENTOS'!$A:$A,0)),"SIN ASIGNAR"),"")
A38: =ROW()-1 | B38: 43 | C38: Categoría PDF: Embajadores Extranjeros (orden interno diplomático no informado) | D38: OPA | E38: Excelentísima | F38: VIP | G38: Pollen Nilsen, Per | H38: Per | I38: Pollen | J38: Nilsen | K38: Pendiente | L38: Embajador de Noruega en Chile | N38: =IFERROR(VALUE(B38),9999) | O38: =IF(AND(G38<>"",K38<>"NO",OR(PARAMETROS!$B$2="TODAS",F38=PARAMETROS!$B$2),OR(PARAMETROS!$B$3="SI y Pendiente",K38="SI")),"SI","NO") | P38: =IF(O38="SI",COUNTIFS($O:$O,"SI",$N:$N,"<"&N38)+COUNTIFS($O:$O,"SI",$N:$N,N38,$A:$A,"<="&A38),"") | Q38: =IF(O38="SI",IFERROR(INDEX('MAPA ASIENTOS'!$D:$D,MATCH(P38,'MAPA ASIENTOS'!$A:$A,0)),"SIN ASIGNAR"),"")
A39: =ROW()-1 | B39: 43 | C39: Precedencia nacional / agrupación por cargo | D39: OPA | E39: Excelentísima | F39: VIP | G39: Courtny, Daniela | H39: Daniela | I39: Rigoli | K39: NO | L39: Embajador de Nueva Zelandia en Chile | N39: =IFERROR(VALUE(B39),9999) | O39: =IF(AND(G39<>"",K39<>"NO",OR(PARAMETROS!$B$2="TODAS",F39=PARAMETROS!$B$2),OR(PARAMETROS!$B$3="SI y Pendiente",K39="SI")),"SI","NO") | P39: =IF(O39="SI",COUNTIFS($O:$O,"SI",$N:$N,"<"&N39)+COUNTIFS($O:$O,"SI",$N:$N,N39,$A:$A,"<="&A39),"") | Q39: =IF(O39="SI",IFERROR(INDEX('MAPA ASIENTOS'!$D:$D,MATCH(P39,'MAPA ASIENTOS'!$A:$A,0)),"SIN ASIGNAR"),"")
A40: =ROW()-1 | B40: 43 | C40: Categoría PDF: Embajadores Extranjeros (orden interno diplomático no informado) | D40: OPA | E40: Excelentísima | F40: VIP | G40: Camino Cannock, Peter | H40: Peter | I40: Camino | J40: Cannock | K40: Pendiente | L40: Embajador de Perú en Chile | N40: =IFERROR(VALUE(B40),9999) | O40: =IF(AND(G40<>"",K40<>"NO",OR(PARAMETROS!$B$2="TODAS",F40=PARAMETROS!$B$2),OR(PARAMETROS!$B$3="SI y Pendiente",K40="SI")),"SI","NO") | P40: =IF(O40="SI",COUNTIFS($O:$O,"SI",$N:$N,"<"&N40)+COUNTIFS($O:$O,"SI",$N:$N,N40,$A:$A,"<="&A40),"") | Q40: =IF(O40="SI",IFERROR(INDEX('MAPA ASIENTOS'!$D:$D,MATCH(P40,'MAPA ASIENTOS'!$A:$A,0)),"SIN ASIGNAR"),"")
A41: =ROW()-1 | B41: 43 | C41: Categoría PDF: Embajadores Extranjeros (orden interno diplomático no informado) | D41: OPA | E41: Excelentísima | F41: VIP | G41: Wiklund, Tomás | H41: Eva Sofia | I41: Karlberg | K41: Pendiente | L41: Embajador del Reino de Suecia en Chile | N41: =IFERROR(VALUE(B41),9999) | O41: =IF(AND(G41<>"",K41<>"NO",OR(PARAMETROS!$B$2="TODAS",F41=PARAMETROS!$B$2),OR(PARAMETROS!$B$3="SI y Pendiente",K41="SI")),"SI","NO") | P41: =IF(O41="SI",COUNTIFS($O:$O,"SI",$N:$N,"<"&N41)+COUNTIFS($O:$O,"SI",$N:$N,N41,$A:$A,"<="&A41),"") | Q41: =IF(O41="SI",IFERROR(INDEX('MAPA ASIENTOS'!$D:$D,MATCH(P41,'MAPA ASIENTOS'!$A:$A,0)),"SIN ASIGNAR"),"")
A42: =ROW()-1 | B42: 43 | C42: Categoría PDF: Embajadores Extranjeros (orden interno diplomático no informado) | D42: OPA | E42: Excelentísima | F42: VIP | G42: Concar, David | H42: David | I42: Concar | K42: Pendiente | L42: Embajador del Reino Unido de Gran Bretaña e Irlanda del Norte en Chile | N42: =IFERROR(VALUE(B42),9999) | O42: =IF(AND(G42<>"",K42<>"NO",OR(PARAMETROS!$B$2="TODAS",F42=PARAMETROS!$B$2),OR(PARAMETROS!$B$3="SI y Pendiente",K42="SI")),"SI","NO") | P42: =IF(O42="SI",COUNTIFS($O:$O,"SI",$N:$N,"<"&N42)+COUNTIFS($O:$O,"SI",$N:$N,N42,$A:$A,"<="&A42),"") | Q42: =IF(O42="SI",IFERROR(INDEX('MAPA ASIENTOS'!$D:$D,MATCH(P42,'MAPA ASIENTOS'!$A:$A,0)),"SIN ASIGNAR"),"")
A43: =ROW()-1 | B43: 43 | C43: Precedencia nacional / agrupación por cargo | D43: OPA | E43: Excelentísima | F43: VIP | G43: Fries-gaier, Susanne | H43: Susanne | I43: Fries-gaier | K43: NO | L43: Embajadora de Alemania en Chile | N43: =IFERROR(VALUE(B43),9999) | O43: =IF(AND(G43<>"",K43<>"NO",OR(PARAMETROS!$B$2="TODAS",F43=PARAMETROS!$B$2),OR(PARAMETROS!$B$3="SI y Pendiente",K43="SI")),"SI","NO") | P43: =IF(O43="SI",COUNTIFS($O:$O,"SI",$N:$N,"<"&N43)+COUNTIFS($O:$O,"SI",$N:$N,N43,$A:$A,"<="&A43),"") | Q43: =IF(O43="SI",IFERROR(INDEX('MAPA ASIENTOS'!$D:$D,MATCH(P43,'MAPA ASIENTOS'!$A:$A,0)),"SIN ASIGNAR"),"")
A44: =ROW()-1 | B44: 43 | C44: Categoría PDF: Embajadores Extranjeros (orden interno diplomático no informado) | D44: OPA | E44: Excelentísima | F44: VIP | G44: Guay Guay, Karolina Linda | H44: Karolina Linda | I44: Guay | J44: Guay | K44: SI | L44: Embajadora de Canadá en Chile | N44: =IFERROR(VALUE(B44),9999) | O44: =IF(AND(G44<>"",K44<>"NO",OR(PARAMETROS!$B$2="TODAS",F44=PARAMETROS!$B$2),OR(PARAMETROS!$B$3="SI y Pendiente",K44="SI")),"SI","NO") | P44: =IF(O44="SI",COUNTIFS($O:$O,"SI",$N:$N,"<"&N44)+COUNTIFS($O:$O,"SI",$N:$N,N44,$A:$A,"<="&A44),"") | Q44: =IF(O44="SI",IFERROR(INDEX('MAPA ASIENTOS'!$D:$D,MATCH(P44,'MAPA ASIENTOS'!$A:$A,0)),"SIN ASIGNAR"),"")
A45: =ROW()-1 | B45: 43 | C45: Precedencia nacional / agrupación por cargo | D45: OPA | E45: Excelentísima | F45: VIP | G45: Jae Kim, Hak | H45: Hak | I45: Jae Kim | K45: Pendiente | L45: Embajadora de Corea en Chile | N45: =IFERROR(VALUE(B45),9999) | O45: =IF(AND(G45<>"",K45<>"NO",OR(PARAMETROS!$B$2="TODAS",F45=PARAMETROS!$B$2),OR(PARAMETROS!$B$3="SI y Pendiente",K45="SI")),"SI","NO") | P45: =IF(O45="SI",COUNTIFS($O:$O,"SI",$N:$N,"<"&N45)+COUNTIFS($O:$O,"SI",$N:$N,N45,$A:$A,"<="&A45),"") | Q45: =IF(O45="SI",IFERROR(INDEX('MAPA ASIENTOS'!$D:$D,MATCH(P45,'MAPA ASIENTOS'!$A:$A,0)),"SIN ASIGNAR"),"")
...

Sheet CONTROL ASISTENCIA
A1: FUENTE | F1: % RESPUESTA | H1: RESUMEN GENERAL | I1: VALOR
A2: OPA | B2: =COUNTIF(MAESTRO!$D:$D,A2) | C2: =COUNTIFS(MAESTRO!$D:$D,A2,MAESTRO!$K:$K,"SI") | D2: =COUNTIFS(MAESTRO!$D:$D,A2,MAESTRO!$K:$K,"NO") | E2: =B2-C2-D2 | F2: =IF(B2=0,0,(C2+D2)/B2) | H2: Total invitados | I2: =COUNTA(MAESTRO!$G:$G)-1
A3: Civiles | B3: =COUNTIF(MAESTRO!$D:$D,A3) | C3: =COUNTIFS(MAESTRO!$D:$D,A3,MAESTRO!$K:$K,"SI") | D3: =COUNTIFS(MAESTRO!$D:$D,A3,MAESTRO!$K:$K,"NO") | E3: =B3-C3-D3 | F3: =IF(B3=0,0,(C3+D3)/B3) | H3: Confirmados SI | I3: =COUNTIF(MAESTRO!$K:$K,"SI")
A4: Militares | B4: =COUNTIF(MAESTRO!$D:$D,A4) | C4: =COUNTIFS(MAESTRO!$D:$D,A4,MAESTRO!$K:$K,"SI") | D4: =COUNTIFS(MAESTRO!$D:$D,A4,MAESTRO!$K:$K,"NO") | E4: =B4-C4-D4 | F4: =IF(B4=0,0,(C4+D4)/B4) | H4: No asisten | I4: =COUNTIF(MAESTRO!$K:$K,"NO")
A5: ASMAR Dirección | B5: =COUNTIF(MAESTRO!$D:$D,A5) | C5: =COUNTIFS(MAESTRO!$D:$D,A5,MAESTRO!$K:$K,"SI") | D5: =COUNTIFS(MAESTRO!$D:$D,A5,MAESTRO!$K:$K,"NO") | E5: =B5-C5-D5 | F5: =IF(B5=0,0,(C5+D5)/B5) | H5: Pendientes/blanco | I5: =COUNTA(MAESTRO!$G:$G)-1-COUNTIF(MAESTRO!$K:$K,"SI")-COUNTIF(MAESTRO!$K:$K,"NO")
A6: Proveedores | B6: =COUNTIF(MAESTRO!$D:$D,A6) | C6: =COUNTIFS(MAESTRO!$D:$D,A6,MAESTRO!$K:$K,"SI") | D6: =COUNTIFS(MAESTRO!$D:$D,A6,MAESTRO!$K:$K,"NO") | E6: =B6-C6-D6 | F6: =IF(B6=0,0,(C6+D6)/B6) | H6: A distribuir | I6: =COUNTIF(MAESTRO!$O:$O,"SI")
A7: ASMARtalc | B7: =COUNTIF(MAESTRO!$D:$D,A7) | C7: =COUNTIFS(MAESTRO!$D:$D,A7,MAESTRO!$K:$K,"SI") | D7: =COUNTIFS(MAESTRO!$D:$D,A7,MAESTRO!$K:$K,"NO") | E7: =B7-C7-D7 | F7: =IF(B7=0,0,(C7+D7)/B7) | H7: Capacidad estrado | I7: =PARAMETROS!$B$8
A8: Académicos | B8: =COUNTIF(MAESTRO!$D:$D,A8) | C8: =COUNTIFS(MAESTRO!$D:$D,A8,MAESTRO!$K:$K,"SI") | D8: =COUNTIFS(MAESTRO!$D:$D,A8,MAESTRO!$K:$K,"NO") | E8: =B8-C8-D8 | F8: =IF(B8=0,0,(C8+D8)/B8) | H8: Sin asignar por capacidad | I8: =MAX(0,COUNTIF(MAESTRO!$O:$O,"SI")-PARAMETROS!$B$8)
E9: =B9-C9-D9 | F9: =IF(B9=0,0,(C9+D9)/B9)
E10: =B10-C10-D10 | F10: =IF(B10=0,0,(C10+D10)/B10)
A11: TRIBUNA | B11: TOTAL | C11: SI | D11: NO | E11: PENDIENTE/BLANCO | F11: % RESPUESTA
A12: VIP | B12: =COUNTIF(MAESTRO!$F:$F,A12) | C12: =COUNTIFS(MAESTRO!$F:$F,A12,MAESTRO!$K:$K,"SI") | D12: =COUNTIFS(MAESTRO!$F:$F,A12,MAESTRO!$K:$K,"NO") | E12: =B12-C12-D12 | F12: =IF(B12=0,0,(C12+D12)/B12)
A13: Civiles | B13: =COUNTIF(MAESTRO!$F:$F,A13) | C13: =COUNTIFS(MAESTRO!$F:$F,A13,MAESTRO!$K:$K,"SI") | D13: =COUNTIFS(MAESTRO!$F:$F,A13,MAESTRO!$K:$K,"NO") | E13: =B13-C13-D13 | F13: =IF(B13=0,0,(C13+D13)/B13)
A14: Militares | B14: =COUNTIF(MAESTRO!$F:$F,A14) | C14: =COUNTIFS(MAESTRO!$F:$F,A14,MAESTRO!$K:$K,"SI") | D14: =COUNTIFS(MAESTRO!$F:$F,A14,MAESTRO!$K:$K,"NO") | E14: =B14-C14-D14 | F14: =IF(B14=0,0,(C14+D14)/B14)
A15: ASMAR Dirección | B15: =COUNTIF(MAESTRO!$F:$F,A15) | C15: =COUNTIFS(MAESTRO!$F:$F,A15,MAESTRO!$K:$K,"SI") | D15: =COUNTIFS(MAESTRO!$F:$F,A15,MAESTRO!$K:$K,"NO") | E15: =B15-C15-D15 | F15: =IF(B15=0,0,(C15+D15)/B15)
A16: Lateral | B16: =COUNTIF(MAESTRO!$F:$F,A16) | C16: =COUNTIFS(MAESTRO!$F:$F,A16,MAESTRO!$K:$K,"SI") | D16: =COUNTIFS(MAESTRO!$F:$F,A16,MAESTRO!$K:$K,"NO") | E16: =B16-C16-D16 | F16: =IF(B16=0,0,(C16+D16)/B16)
A17: Asmartalc | B17: =COUNTIF(MAESTRO!$F:$F,A17) | C17: =COUNTIFS(MAESTRO!$F:$F,A17,MAESTRO!$K:$K,"SI") | D17: =COUNTIFS(MAESTRO!$F:$F,A17,MAESTRO!$K:$K,"NO") | E17: =B17-C17-D17 | F17: =IF(B17=0,0,(C17+D17)/B17)
A18: Académicos | B18: =COUNTIF(MAESTRO!$F:$F,A18) | C18: =COUNTIFS(MAESTRO!$F:$F,A18,MAESTRO!$K:$K,"SI") | D18: =COUNTIFS(MAESTRO!$F:$F,A18,MAESTRO!$K:$K,"NO") | E18: =B18-C18-D18 | F18: =IF(B18=0,0,(C18+D18)/B18)

Sheet PARAMETROS
A1: PARAMETROS DE DISTRIBUCION
A2: Tribuna a distribuir | B2: VIP | C2: Modificar aqui si se requiere otra tribuna o TODAS
A3: Estado a considerar | B3: SI y Pendiente | C3: SI y Pendiente = excluye NO / Solo SI = solo confirmados
A4: Centro protocolar | B4: 23 | C4: Silla central indicada por usuario
A5: Sillas por fila | B5: 39 | C5: Numeracion 1 a 39
A6: Fila D sin sillas desde | B6: 15 | C6: Bloque central no asignable
A7: Fila D sin sillas hasta | B7: 27 | C7: Bloque central no asignable
A8: Capacidad disponible | B8: 143 | C8: A, B y C completas; D incompleta
A9: Orden de llenado | B9: A completa, luego B, C y D incompleta

Sheet MAPA ASIENTOS
A1: ORDEN | B1: FILA | C1: SILLA | D1: UBICACION | E1: ESTADO
A2: 1 | B2: A | C2: 23 | D2: A23 | E2: ASIGNABLE
A3: 2 | B3: A | C3: 24 | D3: A24 | E3: ASIGNABLE
A4: 3 | B4: A | C4: 22 | D4: A22 | E4: ASIGNABLE
A5: 4 | B5: A | C5: 25 | D5: A25 | E5: ASIGNABLE
A6: 5 | B6: A | C6: 21 | D6: A21 | E6: ASIGNABLE
A7: 6 | B7: A | C7: 26 | D7: A26 | E7: ASIGNABLE
A8: 7 | B8: A | C8: 20 | D8: A20 | E8: ASIGNABLE
A9: 8 | B9: A | C9: 27 | D9: A27 | E9: ASIGNABLE
A10: 9 | B10: A | C10: 19 | D10: A19 | E10: ASIGNABLE
A11: 10 | B11: A | C11: 28 | D11: A28 | E11: ASIGNABLE
A12: 11 | B12: A | C12: 18 | D12: A18 | E12: ASIGNABLE
A13: 12 | B13: A | C13: 29 | D13: A29 | E13: ASIGNABLE
... A144: 143 | B144: D | C144: 1 | D144: D1 | E144: ASIGNABLE

Sheet ASIGNACION AUTOMATICA
A1: ORDEN | B1: FILA | C1: SILLA | D1: UBICACION | E1: NRO. | F1: PRECEDENCIA | G1: FUENTE | H1: TRATAMIENTO | I1: TRIBUNA | J1: NOMBRE COMPLETO | K1: CARGO | L1: ASISTENCIA | M1: OBSERVACIONES
A2: 1 | B2: A | C2: 23 | D2: A23 | E2: =IFERROR(INDEX(MAESTRO!$A:$A,MATCH($A2,MAESTRO!$P:$P,0)),"") | F2: =IFERROR(INDEX(MAESTRO!$B:$B,MATCH($A2,MAESTRO!$P:$P,0)),"") | G2: =IFERROR(INDEX(MAESTRO!$D:$D,MATCH($A2,MAESTRO!$P:$P,0)),"") | H2: =IFERROR(INDEX(MAESTRO!$E:$E,MATCH($A2,MAESTRO!$P:$P,0)),"") | I2: =IFERROR(INDEX(MAESTRO!$F:$F,MATCH($A2,MAESTRO!$P:$P,0)),"") | J2: =IFERROR(INDEX(MAESTRO!$G:$G,MATCH($A2,MAESTRO!$P:$P,0)),"") | K2: =IFERROR(INDEX(MAESTRO!$L:$L,MATCH($A2,MAESTRO!$P:$P,0)),"") | L2: =IFERROR(INDEX(MAESTRO!$K:$K,MATCH($A2,MAESTRO!$P:$P,0)),"") | M2: =IFERROR(INDEX(MAESTRO!$M:$M,MATCH($A2,MAESTRO!$P:$P,0)),"")
A3: 2 | B3: A | C3: 24 | D3: A24 | E3: =IFERROR(INDEX(MAESTRO!$A:$A,MATCH($A3,MAESTRO!$P:$P,0)),"") | F3: =IFERROR(INDEX(MAESTRO!$B:$B,MATCH($A3,MAESTRO!$P:$P,0)),"") | G3: =IFERROR(INDEX(MAESTRO!$D:$D,MATCH($A3,MAESTRO!$P:$P,0)),"") | H3: =IFERROR(INDEX(MAESTRO!$E:$E,MATCH($A3,MAESTRO!$P:$P,0)),"") | I3: =IFERROR(INDEX(MAESTRO!$F:$F,MATCH($A3,MAESTRO!$P:$P,0)),"") | J3: =IFERROR(INDEX(MAESTRO!$G:$G,MATCH($A3,MAESTRO!$P:$P,0)),"") | K3: =IFERROR(INDEX(MAESTRO!$L:$L,MATCH($A3,MAESTRO!$P:$P,0)),"") | L3: =IFERROR(INDEX(MAESTRO!$K:$K,MATCH($A3,MAESTRO!$P:$P,0)),"") | M3: =IFERROR(INDEX(MAESTRO!$M:$M,MATCH($A3,MAESTRO!$P:$P,0)),"")
A4: 3 | B4: A | C4: 22 | D4: A22 | E4: =IFERROR(INDEX(MAESTRO!$A:$A,MATCH($A4,MAESTRO!$P:$P,0)),"") | F4: =IFERROR(INDEX(MAESTRO!$B:$B,MATCH($A4,MAESTRO!$P:$P,0)),"") | G4: =IFERROR(INDEX(MAESTRO!$D:$D,MATCH($A4,MAESTRO!$P:$P,0)),"") | H4: =IFERROR(INDEX(MAESTRO!$E:$E,MATCH($A4,MAESTRO!$P:$P,0)),"") | I4: =IFERROR(INDEX(MAESTRO!$F:$F,MATCH($A4,MAESTRO!$P:$P,0)),"") | J4: =IFERROR(INDEX(MAESTRO!$G:$G,MATCH($A4,MAESTRO!$P:$P,0)),"") | K4: =IFERROR(INDEX(MAESTRO!$L:$L,MATCH($A4,MAESTRO!$P:$P,0)),"") | L4: =IFERROR(INDEX(MAESTRO!$K:$K,MATCH($A4,MAESTRO!$P:$P,0)),"") | M4: =IFERROR(INDEX(MAESTRO!$M:$M,MATCH($A4,MAESTRO!$P:$P,0)),"")
A5: 4 | B5: A | C5: 25 | D5: A25 | E5: =IFERROR(INDEX(MAESTRO!$A:$A,MATCH($A5,MAESTRO!$P:$P,0)),"") | F5: =IFERROR(INDEX(MAESTRO!$B:$B,MATCH($A5,MAESTRO!$P:$P,0)),"") | G5: =IFERROR(INDEX(MAESTRO!$D:$D,MATCH($A5,MAESTRO!$P:$P,0)),"") | H5: =IFERROR(INDEX(MAESTRO!$E:$E,MATCH($A5,MAESTRO!$P:$P,0)),"") | I5: =IFERROR(INDEX(MAESTRO!$F:$F,MATCH($A5,MAESTRO!$P:$P,0)),"") | J5: =IFERROR(INDEX(MAESTRO!$G:$G,MATCH($A5,MAESTRO!$P:$P,0)),"") | K5: =IFERROR(INDEX(MAESTRO!$L:$L,MATCH($A5,MAESTRO!$P:$P,0)),"") | L5: =IFERROR(INDEX(MAESTRO!$K:$K,MATCH($A5,MAESTRO!$P:$P,0)),"") | M5: =IFERROR(INDEX(MAESTRO!$M:$M,MATCH($A5,MAESTRO!$P:$P,0)),"")
A6: 5 | B6: A | C6: 21 | D6: A21 | E6: =IFERROR(INDEX(MAESTRO!$A:$A,MATCH($A6,MAESTRO!$P:$P,0)),"") | F6: =IFERROR(INDEX(MAESTRO!$B:$B,MATCH($A6,MAESTRO!$P:$P,0)),"") | G6: =IFERROR(INDEX(MAESTRO!$D:$D,MATCH($A6,MAESTRO!$P:$P,0)),"") | H6: =IFERROR(INDEX(MAESTRO!$E:$E,MATCH($A6,MAESTRO!$P:$P,0)),"") | I6: =IFERROR(INDEX(MAESTRO!$F:$F,MATCH($A6,MAESTRO!$P:$P,0)),"") | J6: =IFERROR(INDEX(MAESTRO!$G:$G,MATCH($A6,MAESTRO!$P:$P,0)),"") | K6: =IFERROR(INDEX(MAESTRO!$L:$L,MATCH($A6,MAESTRO!$P:$P,0)),"") | L6: =IFERROR(INDEX(MAESTRO!$K:$K,MATCH($A6,MAESTRO!$P:$P,0)),"") | M6: =IFERROR(INDEX(MAESTRO!$M:$M,MATCH($A6,MAESTRO!$P:$P,0)),"")
A7: 6 | B7: A | C7: 26 | D7: A26 | E7: =IFERROR(INDEX(MAESTRO!$A:$A,MATCH($A7,MAESTRO!$P:$P,0)),"") | F7: =IFERROR(INDEX(MAESTRO!$B:$B,MATCH($A7,MAESTRO!$P:$P,0)),"") | G7: =IFERROR(INDEX(MAESTRO!$D:$D,MATCH($A7,MAESTRO!$P:$P,0)),"") | H7: =IFERROR(INDEX(MAESTRO!$E:$E,MATCH($A7,MAESTRO!$P:$P,0)),"") | I7: =IFERROR(INDEX(MAESTRO!$F:$F,MATCH($A7,MAESTRO!$P:$P,0)),"") | J7: =IFERROR(INDEX(MAESTRO!$G:$G,MATCH($A7,MAESTRO!$P:$P,0)),"") | K7: =IFERROR(INDEX(MAESTRO!$L:$L,MATCH($A7,MAESTRO!$P:$P,0)),"") | L7: =IFERROR(INDEX(MAESTRO!$K:$K,MATCH($A7,MAESTRO!$P:$P,0)),"") | M7: =IFERROR(INDEX(MAESTRO!$M:$M,MATCH($A7,MAESTRO!$P:$P,0)),"")
A8: 7 | B8: A | C8: 20 | D8: A20 | E8: =IFERROR(INDEX(MAESTRO!$A:$A,MATCH($A8,MAESTRO!$P:$P,0)),"") | F8: =IFERROR(INDEX(MAESTRO!$B:$B,MATCH($A8,MAESTRO!$P:$P,0)),"") | G8: =IFERROR(INDEX(MAESTRO!$D:$D,MATCH($A8,MAESTRO!$P:$P,0)),"") | H8: =IFERROR(INDEX(MAESTRO!$E:$E,MATCH($A8,MAESTRO!$P:$P,0)),"") | I8: =IFERROR(INDEX(MAESTRO!$F:$F,MATCH($A8,MAESTRO!$P:$P,0)),"") | J8: =IFERROR(INDEX(MAESTRO!$G:$G,MATCH($A8,MAESTRO!$P:$P,0)),"") | K8: =IFERROR(INDEX(MAESTRO!$L:$L,MATCH($A8,MAESTRO!$P:$P,0)),"") | L8: =IFERROR(INDEX(MAESTRO!$K:$K,MATCH($A8,MAESTRO!$P:$P,0)),"") | M8: =IFERROR(INDEX(MAESTRO!$M:$M,MATCH($A8,MAESTRO!$P:$P,0)),"")
A9: 8 | B9: A | C9: 27 | D9: A27 | E9: =IFERROR(INDEX(MAESTRO!$A:$A,MATCH($A9,MAESTRO!$P:$P,0)),"") | F9: =IFERROR(INDEX(MAESTRO!$B:$B,MATCH($A9,MAESTRO!$P:$P,0)),"") | G9: =IFERROR(INDEX(MAESTRO!$D:$D,MATCH($A9,MAESTRO!$P:$P,0)),"") | H9: =IFERROR(INDEX(MAESTRO!$E:$E,MATCH($A9,MAESTRO!$P:$P,0)),"") | I9: =IFERROR(INDEX(MAESTRO!$F:$F,MATCH($A9,MAESTRO!$P:$P,0)),"") | J9: =IFERROR(INDEX(MAESTRO!$G:$G,MATCH($A9,MAESTRO!$P:$P,0)),"") | K9: =IFERROR(INDEX(MAESTRO!$L:$L,MATCH($A9,MAESTRO!$P:$P,0)),"") | L9: =IFERROR(INDEX(MAESTRO!$K:$K,MATCH($A9,MAESTRO!$P:$P,0)),"") | M9: =IFERROR(INDEX(MAESTRO!$M:$M,MATCH($A9,MAESTRO!$P:$P,0)),"")
A10: 9 | B10: A | C10: 19 | D10: A19 | E10: =IFERROR(INDEX(MAESTRO!$A:$A,MATCH($A10,MAESTRO!$P:$P,0)),"") | F10: =IFERROR(INDEX(MAESTRO!$B:$B,MATCH($A10,MAESTRO!$P:$P,0)),"") | G10: =IFERROR(INDEX(MAESTRO!$D:$D,MATCH($A10,MAESTRO!$P:$P,0)),"") | H10: =IFERROR(INDEX(MAESTRO!$E:$E,MATCH($A10,MAESTRO!$P:$P,0)),"") | I10: =IFERROR(INDEX(MAESTRO!$F:$F,MATCH($A10,MAESTRO!$P:$P,0)),"") | J10: =IFERROR(INDEX(MAESTRO!$G:$G,MATCH($A10,MAESTRO!$P:$P,0)),"") | K10: =IFERROR(INDEX(MAESTRO!$L:$L,MATCH($A10,MAESTRO!$P:$P,0)),"") | L10: =IFERROR(INDEX(MAESTRO!$K:$K,MATCH($A10,MAESTRO!$P:$P,0)),"") | M10: =IFERROR(INDEX(MAESTRO!$M:$M,MATCH($A10,MAESTRO!$P:$P,0)),"")
A11: 10 | B11: A | C11: 28 | D11: A28 | E11: =IFERROR(INDEX(MAESTRO!$A:$A,MATCH($A11,MAESTRO!$P:$P,0)),"") | F11: =IFERROR(INDEX(MAESTRO!$B:$B,MATCH($A11,MAESTRO!$P:$P,0)),"") | G11: =IFERROR(INDEX(MAESTRO!$D:$D,MATCH($A11,MAESTRO!$P:$P,0)),"") | H11: =IFERROR(INDEX(MAESTRO!$E:$E,MATCH($A11,MAESTRO!$P:$P,0)),"") | I11: =IFERROR(INDEX(MAESTRO!$F:$F,MATCH($A11,MAESTRO!$P:$P,0)),"") | J11: =IFERROR(INDEX(MAESTRO!$G:$G,MATCH($A11,MAESTRO!$P:$P,0)),"") | K11: =IFERROR(INDEX(MAESTRO!$L:$L,MATCH($A11,MAESTRO!$P:$P,0)),"") | L11: =IFERROR(INDEX(MAESTRO!$K:$K,MATCH($A11,MAESTRO!$P:$P,0)),"") | M11: =IFERROR(INDEX(MAESTRO!$M:$M,MATCH($A11,MAESTRO!$P:$P,0)),"")
A12: 11 | B12: A | C12: 18 | D12: A18 | E12: =IFERROR(INDEX(MAESTRO!$A:$A,MATCH($A12,MAESTRO!$P:$P,0)),"") | F12: =IFERROR(INDEX(MAESTRO!$B:$B,MATCH($A12,MAESTRO!$P:$P,0)),"") | G12: =IFERROR(INDEX(MAESTRO!$D:$D,MATCH($A12,MAESTRO!$P:$P,0)),"") | H12: =IFERROR(INDEX(MAESTRO!$E:$E,MATCH($A12,MAESTRO!$P:$P,0)),"") | I12: =IFERROR(INDEX(MAESTRO!$F:$F,MATCH($A12,MAESTRO!$P:$P,0)),"") | J12: =IFERROR(INDEX(MAESTRO!$G:$G,MATCH($A12,MAESTRO!$P:$P,0)),"") | K12: =IFERROR(INDEX(MAESTRO!$L:$L,MATCH($A12,MAESTRO!$P:$P,0)),"") | L12: =IFERROR(INDEX(MAESTRO!$K:$K,MATCH($A12,MAESTRO!$P:$P,0)),"") | M12: =IFERROR(INDEX(MAESTRO!$M:$M,MATCH($A12,MAESTRO!$P:$P,0)),"")
A13: 12 | B13: A | C13: 29 | D13: A29 | E13: =IFERROR(INDEX(MAESTRO!$A:$A,MATCH($A13,MAESTRO!$P:$P,0)),"") | F13: =IFERROR(INDEX(MAESTRO!$B:$B,MATCH($A13,MAESTRO!$P:$P,0)),"") | G13: =IFERROR(INDEX(MAESTRO!$D:$D,MATCH($A13,MAESTRO!$P:$P,0)),"") | H13: =IFERROR(INDEX(MAESTRO!$E:$E,MATCH($A13,MAESTRO!$P:$P,0)),"") | I13: =IFERROR(INDEX(MAESTRO!$F:$F,MATCH($A13,MAESTRO!$P:$P,0)),"") | J13: =IFERROR(INDEX(MAESTRO!$G:$G,MATCH($A13,MAESTRO!$P:$P,0)),"") | K13: =IFERROR(INDEX(MAESTRO!$L:$L,MATCH($A13,MAESTRO!$P:$P,0)),"") | L13: =IFERROR(INDEX(MAESTRO!$K:$K,MATCH($A13,MAESTRO!$P:$P,0)),"") | M13: =IFERROR(INDEX(MAESTRO!$M:$M,MATCH($A13,MAESTRO!$P:$P,0)),"")
... A144: 143 | B144: D | C144: 1 | D144: D1 | E144: =IFERROR(INDEX(MAESTRO!$A:$A,MATCH($A144,MAESTRO!$P:$P,0)),"") | F144: =IFERROR(INDEX(MAESTRO!$B:$B,MATCH($A144,MAESTRO!$P:$P,0)),"") | G144: =IFERROR(INDEX(MAESTRO!$D:$D,MATCH($A144,MAESTRO!$P:$P,0)),"") | H144: =IFERROR(INDEX(MAESTRO!$E:$E,MATCH($A144,MAESTRO!$P:$P,0)),"") | I144: =IFERROR(INDEX(MAESTRO!$F:$F,MATCH($A144,MAESTRO!$P:$P,0)),"") | J144: =IFERROR(INDEX(MAESTRO!$G:$G,MATCH($A144,MAESTRO!$P:$P,0)),"") | K144: =IFERROR(INDEX(MAESTRO!$L:$L,MATCH($A144,MAESTRO!$P:$P,0)),"") | L144: =IFERROR(INDEX(MAESTRO!$K:$K,MATCH($A144,MAESTRO!$P:$P,0)),"") | M144: =IFERROR(INDEX(MAESTRO!$M:$M,MATCH($A144,MAESTRO!$P:$P,0)),"")

Sheet PLANO AUTOMATICO
A1: PLANO AUTOMATICO - ESTRADO PRINCIPAL
A2: Silla | B2: 1 | C2: 2 | D2: 3 | E2: 4 | F2: 5 | G2: 6 | H2: 7 | I2: 8 | J2: 9 | K2: 10 | L2: 11 | M2: 12 | N2: 13 | O2: 14 | P2: 15 | Q2: 16 | R2: 17 | S2: 18 | T2: 19 | U2: 20 | V2: 21 | W2: 22 | X2: 23 | Y2: 24 | Z2: 25 | AA2: 26 | AB2: 27 | AC2: 28 | AD2: 29 | AE2: 30 | AF2: 31 | AG2: 32 | AH2: 33 | AI2: 34 | AJ2: 35 | AK2: 36 | AL2: 37 | AM2: 38 | AN2: 39
A3: A | B3: =IF(AND($A3="D",B$2>=PARAMETROS!$B$6,B$2<=PARAMETROS!$B$7),"SIN SILLA",IFERROR(INDEX(MAESTRO!$G:$G,MATCH($A3&B$2,MAESTRO!$Q:$Q,0))&CHAR(10)&INDEX(MAESTRO!$L:$L,MATCH($A3&B$2,MAESTRO!$Q:$Q,0)),"")) | C3: =IF(AND($A3="D",C$2>=PARAMETROS!$B$6,C$2<=PARAMETROS!$B$7),"SIN SILLA",IFERROR(INDEX(MAESTRO!$G:$G,MATCH($A3&C$2,MAESTRO!$Q:$Q,0))&CHAR(10)&INDEX(MAESTRO!$L:$L,MATCH($A3&C$2,MAESTRO!$Q:$Q,0)),"")) | D3: =IF(AND($A3="D",D$2>=PARAMETROS!$B$6,D$2<=PARAMETROS!$B$7),"SIN SILLA",IFERROR(INDEX(MAESTRO!$G:$G,MATCH($A3&D$2,MAESTRO!$Q:$Q,0))&CHAR(10)&INDEX(MAESTRO!$L:$L,MATCH($A3&D$2,MAESTRO!$Q:$Q,0)),"")) | E3: =IF(AND($A3="D",E$2>=PARAMETROS!$B$6,E$2<=PARAMETROS!$B$7),"SIN SILLA",IFERROR(INDEX(MAESTRO!$G:$G,MATCH($A3&E$2,MAESTRO!$Q:$Q,0))&CHAR(10)&INDEX(MAESTRO!$L:$L,MATCH($A3&E$2,MAESTRO!$Q:$Q,0)),"")) | F3: =IF(AND($A3="D",F$2>=PARAMETROS!$B$6,F$2<=PARAMETROS!$B$7),"SIN SILLA",IFERROR(INDEX(MAESTRO!$G:$G,MATCH($A3&F$2,MAESTRO!$Q:$Q,0))&CHAR(10)&INDEX(MAESTRO!$L:$L,MATCH($A3&F$2,MAESTRO!$Q:$Q,0)),"")) | G3: =IF(AND($A3="D",G$2>=PARAMETROS!$B$6,G$2<=PARAMETROS!$B$7),"SIN SILLA",IFERROR(INDEX(MAESTRO!$G:$G,MATCH($A3&G$2,MAESTRO!$Q:$Q,0))&CHAR(10)&INDEX(MAESTRO!$L:$L,MATCH($A3&G$2,MAESTRO!$Q:$Q,0)),"")) | H3: =IF(AND($A3="D",H$2>=PARAMETROS!$B$6,H$2<=PARAMETROS!$B$7),"SIN SILLA",IFERROR(INDEX(MAESTRO!$G:$G,MATCH($A3&H$2,MAESTRO!$Q:$Q,0))&CHAR(10)&INDEX(MAESTRO!$L:$L,MATCH($A3&H$2,MAESTRO!$Q:$Q,0)),"")) | I3: =IF(AND($A3="D",I$2>=PARAMETROS!$B$6,I$2<=PARAMETROS!$B$7),"SIN SILLA",IFERROR(INDEX(MAESTRO!$G:$G,MATCH($A3&I$2,MAESTRO!$Q:$Q,0))&CHAR(10)&INDEX(MAESTRO!$L:$L,MATCH($A3&I$2,MAESTRO!$Q:$Q,0)),"")) | ... AN3: =IF(AND($A3="D",AN$2>=PARAMETROS!$B$6,AN$2<=PARAMETROS!$B$7),"SIN SILLA",IFERROR(INDEX(MAESTRO!$G:$G,MATCH($A3&AN$2,MAESTRO!$Q:$Q,0))&CHAR(10)&INDEX(MAESTRO!$L:$L,MATCH($A3&AN$2,MAESTRO!$Q:$Q,0)),""))
A4: B | B4: =IF(AND($A4="D",B$2>=PARAMETROS!$B$6,B$2<=PARAMETROS!$B$7),"SIN SILLA",IFERROR(INDEX(MAESTRO!$G:$G,MATCH($A4&B$2,MAESTRO!$Q:$Q,0))&CHAR(10)&INDEX(MAESTRO!$L:$L,MATCH($A4&B$2,MAESTRO!$Q:$Q,0)),"")) | C4: =IF(AND($A4="D",C$2>=PARAMETROS!$B$6,C$2<=PARAMETROS!$B$7),"SIN SILLA",IFERROR(INDEX(MAESTRO!$G:$G,MATCH($A4&C$2,MAESTRO!$Q:$Q,0))&CHAR(10)&INDEX(MAESTRO!$L:$L,MATCH($A4&C$2,MAESTRO!$Q:$Q,0)),"")) | D4: =IF(AND($A4="D",D$2>=PARAMETROS!$B$6,D$2<=PARAMETROS!$B$7),"SIN SILLA",IFERROR(INDEX(MAESTRO!$G:$G,MATCH($A4&D$2,MAESTRO!$Q:$Q,0))&CHAR(10)&INDEX(MAESTRO!$L:$L,MATCH($A4&D$2,MAESTRO!$Q:$Q,0)),"")) | E4: =IF(AND($A4="D",E$2>=PARAMETROS!$B$6,E$2<=PARAMETROS!$B$7),"SIN SILLA",IFERROR(INDEX(MAESTRO!$G:$G,MATCH($A4&E$2,MAESTRO!$Q:$Q,0))&CHAR(10)&INDEX(MAESTRO!$L:$L,MATCH($A4&E$2,MAESTRO!$Q:$Q,0)),"")) | F4: =IF(AND($A4="D",F$2>=PARAMETROS!$B$6,F$2<=PARAMETROS!$B$7),"SIN SILLA",IFERROR(INDEX(MAESTRO!$G:$G,MATCH($A4&F$2,MAESTRO!$Q:$Q,0))&CHAR(10)&INDEX(MAESTRO!$L:$L,MATCH($A4&F$2,MAESTRO!$Q:$Q,0)),"")) | G4: =IF(AND($A4="D",G$2>=PARAMETROS!$B$6,G$2<=PARAMETROS!$B$7),"SIN SILLA",IFERROR(INDEX(MAESTRO!$G:$G,MATCH($A4&G$2,MAESTRO!$Q:$Q,0))&CHAR(10)&INDEX(MAESTRO!$L:$L,MATCH($A4&G$2,MAESTRO!$Q:$Q,0)),"")) | H4: =IF(AND($A4="D",H$2>=PARAMETROS!$B$6,H$2<=PARAMETROS!$B$7),"SIN SILLA",IFERROR(INDEX(MAESTRO!$G:$G,MATCH($A4&H$2,MAESTRO!$Q:$Q,0))&CHAR(10)&INDEX(MAESTRO!$L:$L,MATCH($A4&H$2,MAESTRO!$Q:$Q,0)),"")) | I4: =IF(AND($A4="D",I$2>=PARAMETROS!$B$6,I$2<=PARAMETROS!$B$7),"SIN SILLA",IFERROR(INDEX(MAESTRO!$G:$G,MATCH($A4&I$2,MAESTRO!$Q:$Q,0))&CHAR(10)&INDEX(MAESTRO!$L:$L,MATCH($A4&I$2,MAESTRO!$Q:$Q,0)),"")) | ... AN4: =IF(AND($A4="D",AN$2>=PARAMETROS!$B$6,AN$2<=PARAMETROS!$B$7),"SIN SILLA",IFERROR(INDEX(MAESTRO!$G:$G,MATCH($A4&AN$2,MAESTRO!$Q:$Q,0))&CHAR(10)&INDEX(MAESTRO!$L:$L,MATCH($A4&AN$2,MAESTRO!$Q:$Q,0)),""))
A5: C | B5: =IF(AND($A5="D",B$2>=PARAMETROS!$B$6,B$2<=PARAMETROS!$B$7),"SIN SILLA",IFERROR(INDEX(MAESTRO!$G:$G,MATCH($A5&B$2,MAESTRO!$Q:$Q,0))&CHAR(10)&INDEX(MAESTRO!$L:$L,MATCH($A5&B$2,MAESTRO!$Q:$Q,0)),"")) | C5: =IF(AND($A5="D",C$2>=PARAMETROS!$B$6,C$2<=PARAMETROS!$B$7),"SIN SILLA",IFERROR(INDEX(MAESTRO!$G:$G,MATCH($A5&C$2,MAESTRO!$Q:$Q,0))&CHAR(10)&INDEX(MAESTRO!$L:$L,MATCH($A5&C$2,MAESTRO!$Q:$Q,0)),"")) | D5: =IF(AND($A5="D",D$2>=PARAMETROS!$B$6,D$2<=PARAMETROS!$B$7),"SIN SILLA",IFERROR(INDEX(MAESTRO!$G:$G,MATCH($A5&D$2,MAESTRO!$Q:$Q,0))&CHAR(10)&INDEX(MAESTRO!$L:$L,MATCH($A5&D$2,MAESTRO!$Q:$Q,0)),"")) | E5: =IF(AND($A5="D",E$2>=PARAMETROS!$B$6,E$2<=PARAMETROS!$B$7),"SIN SILLA",IFERROR(INDEX(MAESTRO!$G:$G,MATCH($A5&E$2,MAESTRO!$Q:$Q,0))&CHAR(10)&INDEX(MAESTRO!$L:$L,MATCH($A5&E$2,MAESTRO!$Q:$Q,0)),"")) | F5: =IF(AND($A5="D",F$2>=PARAMETROS!$B$6,F$2<=PARAMETROS!$B$7),"SIN SILLA",IFERROR(INDEX(MAESTRO!$G:$G,MATCH($A5&F$2,MAESTRO!$Q:$Q,0))&CHAR(10)&INDEX(MAESTRO!$L:$L,MATCH($A5&F$2,MAESTRO!$Q:$Q,0)),"")) | G5: =IF(AND($A5="D",G$2>=PARAMETROS!$B$6,G$2<=PARAMETROS!$B$7),"SIN SILLA",IFERROR(INDEX(MAESTRO!$G:$G,MATCH($A5&G$2,MAESTRO!$Q:$Q,0))&CHAR(10)&INDEX(MAESTRO!$L:$L,MATCH($A5&G$2,MAESTRO!$Q:$Q,0)),"")) | H5: =IF(AND($A5="D",H$2>=PARAMETROS!$B$6,H$2<=PARAMETROS!$B$7),"SIN SILLA",IFERROR(INDEX(MAESTRO!$G:$G,MATCH($A5&H$2,MAESTRO!$Q:$Q,0))&CHAR(10)&INDEX(MAESTRO!$L:$L,MATCH($A5&H$2,MAESTRO!$Q:$Q,0)),"")) | I5: =IF(AND($A5="D",I$2>=PARAMETROS!$B$6,I$2<=PARAMETROS!$B$7),"SIN SILLA",IFERROR(INDEX(MAESTRO!$G:$G,MATCH($A5&I$2,MAESTRO!$Q:$Q,0))&CHAR(10)&INDEX(MAESTRO!$L:$L,MATCH($A5&I$2,MAESTRO!$Q:$Q,0)),"")) | ... AN5: =IF(AND($A5="D",AN$2>=PARAMETROS!$B$6,AN$2<=PARAMETROS!$B$7),"SIN SILLA",IFERROR(INDEX(MAESTRO!$G:$G,MATCH($A5&AN$2,MAESTRO!$Q:$Q,0))&CHAR(10)&INDEX(MAESTRO!$L:$L,MATCH($A5&AN$2,MAESTRO!$Q:$Q,0)),""))
A6: D | B6: =IF(AND($A6="D",B$2>=PARAMETROS!$B$6,B$2<=PARAMETROS!$B$7),"SIN SILLA",IFERROR(INDEX(MAESTRO!$G:$G,MATCH($A6&B$2,MAESTRO!$Q:$Q,0))&CHAR(10)&INDEX(MAESTRO!$L:$L,MATCH($A6&B$2,MAESTRO!$Q:$Q,0)),"")) | C6: =IF(AND($A6="D",C$2>=PARAMETROS!$B$6,C$2<=PARAMETROS!$B$7),"SIN SILLA",IFERROR(INDEX(MAESTRO!$G:$G,MATCH($A6&C$2,MAESTRO!$Q:$Q,0))&CHAR(10)&INDEX(MAESTRO!$L:$L,MATCH($A6&C$2,MAESTRO!$Q:$Q,0)),"")) | D6: =IF(AND($A6="D",D$2>=PARAMETROS!$B$6,D$2<=PARAMETROS!$B$7),"SIN SILLA",IFERROR(INDEX(MAESTRO!$G:$G,MATCH($A6&D$2,MAESTRO!$Q:$Q,0))&CHAR(10)&INDEX(MAESTRO!$L:$L,MATCH($A6&D$2,MAESTRO!$Q:$Q,0)),"")) | E6: =IF(AND($A6="D",E$2>=PARAMETROS!$B$6,E$2<=PARAMETROS!$B$7),"SIN SILLA",IFERROR(INDEX(MAESTRO!$G:$G,MATCH($A6&E$2,MAESTRO!$Q:$Q,0))&CHAR(10)&INDEX(MAESTRO!$L:$L,MATCH($A6&E$2,MAESTRO!$Q:$Q,0)),"")) | F6: =IF(AND($A6="D",F$2>=PARAMETROS!$B$6,F$2<=PARAMETROS!$B$7),"SIN SILLA",IFERROR(INDEX(MAESTRO!$G:$G,MATCH($A6&F$2,MAESTRO!$Q:$Q,0))&CHAR(10)&INDEX(MAESTRO!$L:$L,MATCH($A6&F$2,MAESTRO!$Q:$Q,0)),"")) | G6: =IF(AND($A6="D",G$2>=PARAMETROS!$B$6,G$2<=PARAMETROS!$B$7),"SIN SILLA",IFERROR(INDEX(MAESTRO!$G:$G,MATCH($A6&G$2,MAESTRO!$Q:$Q,0))&CHAR(10)&INDEX(MAESTRO!$L:$L,MATCH($A6&G$2,MAESTRO!$Q:$Q,0)),"")) | H6: =IF(AND($A6="D",H$2>=PARAMETROS!$B$6,H$2<=PARAMETROS!$B$7),"SIN SILLA",IFERROR(INDEX(MAESTRO!$G:$G,MATCH($A6&H$2,MAESTRO!$Q:$Q,0))&CHAR(10)&INDEX(MAESTRO!$L:$L,MATCH($A6&H$2,MAESTRO!$Q:$Q,0)),"")) | I6: =IF(AND($A6="D",I$2>=PARAMETROS!$B$6,I$2<=PARAMETROS!$B$7),"SIN SILLA",IFERROR(INDEX(MAESTRO!$G:$G,MATCH($A6&I$2,MAESTRO!$Q:$Q,0))&CHAR(10)&INDEX(MAESTRO!$L:$L,MATCH($A6&I$2,MAESTRO!$Q:$Q,0)),"")) | ... AN6: =IF(AND($A6="D",AN$2>=PARAMETROS!$B$6,AN$2<=PARAMETROS!$B$7),"SIN SILLA",IFERROR(INDEX(MAESTRO!$G:$G,MATCH($A6&AN$2,MAESTRO!$Q:$Q,0))&CHAR(10)&INDEX(MAESTRO!$L:$L,MATCH($A6&AN$2,MAESTRO!$Q:$Q,0)),""))
A8: RESUMEN
A9: Tribuna distribuida | B9: =PARAMETROS!$B$2
A10: Estado considerado | B10: =PARAMETROS!$B$3
A11: Capacidad | B11: =PARAMETROS!$B$8
A12: A distribuir | B12: =COUNTIF(MAESTRO!$O:$O,"SI")
A13: Asignados | B13: =MIN(COUNTIF(MAESTRO!$O:$O,"SI"),PARAMETROS!$B$8)
A14: Sin asignar | B14: =MAX(0,COUNTIF(MAESTRO!$O:$O,"SI")-PARAMETROS!$B$8)

Sheet SIN ASIGNAR
A1: ORDEN AUTOM. | B1: NRO. | C1: PRECEDENCIA | D1: FUENTE | E1: TRIBUNA | F1: NOMBRE COMPLETO | G1: CARGO | H1: ASISTENCIA | I1: OBSERVACIONES
A2: =IF(COUNTIF(MAESTRO!$P:$P,PARAMETROS!$B$8+ROW(A1))>0,PARAMETROS!$B$8+ROW(A1),"") | B2: =IF($A2="","",IFERROR(INDEX(MAESTRO!$A:$A,MATCH($A2,MAESTRO!$P:$P,0)),"")) | C2: =IF($A2="","",IFERROR(INDEX(MAESTRO!$B:$B,MATCH($A2,MAESTRO!$P:$P,0)),"")) | D2: =IF($A2="","",IFERROR(INDEX(MAESTRO!$D:$D,MATCH($A2,MAESTRO!$P:$P,0)),"")) | E2: =IF($A2="","",IFERROR(INDEX(MAESTRO!$F:$F,MATCH($A2,MAESTRO!$P:$P,0)),"")) | F2: =IF($A2="","",IFERROR(INDEX(MAESTRO!$G:$G,MATCH($A2,MAESTRO!$P:$P,0)),"")) | G2: =IF($A2="","",IFERROR(INDEX(MAESTRO!$L:$L,MATCH($A2,MAESTRO!$P:$P,0)),"")) | H2: =IF($A2="","",IFERROR(INDEX(MAESTRO!$K:$K,MATCH($A2,MAESTRO!$P:$P,0)),"")) | I2: =IF($A2="","",IFERROR(INDEX(MAESTRO!$M:$M,MATCH($A2,MAESTRO!$P:$P,0)),""))
A3: =IF(COUNTIF(MAESTRO!$P:$P,PARAMETROS!$B$8+ROW(A2))>0,PARAMETROS!$B$8+ROW(A2),"") | B3: =IF($A3="","",IFERROR(INDEX(MAESTRO!$A:$A,MATCH($A3,MAESTRO!$P:$P,0)),"")) | C3: =IF($A3="","",IFERROR(INDEX(MAESTRO!$B:$B,MATCH($A3,MAESTRO!$P:$P,0)),"")) | D3: =IF($A3="","",IFERROR(INDEX(MAESTRO!$D:$D,MATCH($A3,MAESTRO!$P:$P,0)),"")) | E3: =IF($A3="","",IFERROR(INDEX(MAESTRO!$F:$F,MATCH($A3,MAESTRO!$P:$P,0)),"")) | F3: =IF($A3="","",IFERROR(INDEX(MAESTRO!$G:$G,MATCH($A3,MAESTRO!$P:$P,0)),"")) | G3: =IF($A3="","",IFERROR(INDEX(MAESTRO!$L:$L,MATCH($A3,MAESTRO!$P:$P,0)),"")) | H3: =IF($A3="","",IFERROR(INDEX(MAESTRO!$K:$K,MATCH($A3,MAESTRO!$P:$P,0)),"")) | I3: =IF($A3="","",IFERROR(INDEX(MAESTRO!$M:$M,MATCH($A3,MAESTRO!$P:$P,0)),""))
A4: =IF(COUNTIF(MAESTRO!$P:$P,PARAMETROS!$B$8+ROW(A3))>0,PARAMETROS!$B$8+ROW(A3),"") | B4: =IF($A4="","",IFERROR(INDEX(MAESTRO!$A:$A,MATCH($A4,MAESTRO!$P:$P,0)),"")) | C4: =IF($A4="","",IFERROR(INDEX(MAESTRO!$B:$B,MATCH($A4,MAESTRO!$P:$P,0)),"")) | D4: =IF($A4="","",IFERROR(INDEX(MAESTRO!$D:$D,MATCH($A4,MAESTRO!$P:$P,0)),"")) | E4: =IF($A4="","",IFERROR(INDEX(MAESTRO!$F:$F,MATCH($A4,MAESTRO!$P:$P,0)),"")) | F4: =IF($A4="","",IFERROR(INDEX(MAESTRO!$G:$G,MATCH($A4,MAESTRO!$P:$P,0)),"")) | G4: =IF($A4="","",IFERROR(INDEX(MAESTRO!$L:$L,MATCH($A4,MAESTRO!$P:$P,0)),"")) | H4: =IF($A4="","",IFERROR(INDEX(MAESTRO!$K:$K,MATCH($A4,MAESTRO!$P:$P,0)),"")) | I4: =IF($A4="","",IFERROR(INDEX(MAESTRO!$M:$M,MATCH($A4,MAESTRO!$P:$P,0)),""))
A5: =IF(COUNTIF(MAESTRO!$P:$P,PARAMETROS!$B$8+ROW(A4))>0,PARAMETROS!$B$8+ROW(A4),"") | B5: =IF($A5="","",IFERROR(INDEX(MAESTRO!$A:$A,MATCH($A5,MAESTRO!$P:$P,0)),"")) | C5: =IF($A5="","",IFERROR(INDEX(MAESTRO!$B:$B,MATCH($A5,MAESTRO!$P:$P,0)),"")) | D5: =IF($A5="","",IFERROR(INDEX(MAESTRO!$D:$D,MATCH($A5,MAESTRO!$P:$P,0)),"")) | E5: =IF($A5="","",IFERROR(INDEX(MAESTRO!$F:$F,MATCH($A5,MAESTRO!$P:$P,0)),"")) | F5: =IF($A5="","",IFERROR(INDEX(MAESTRO!$G:$G,MATCH($A5,MAESTRO!$P:$P,0)),"")) | G5: =IF($A5="","",IFERROR(INDEX(MAESTRO!$L:$L,MATCH($A5,MAESTRO!$P:$P,0)),"")) | H5: =IF($A5="","",IFERROR(INDEX(MAESTRO!$K:$K,MATCH($A5,MAESTRO!$P:$P,0)),"")) | I5: =IF($A5="","",IFERROR(INDEX(MAESTRO!$M:$M,MATCH($A5,MAESTRO!$P:$P,0)),""))
A6: =IF(COUNTIF(MAESTRO!$P:$P,PARAMETROS!$B$8+ROW(A5))>0,PARAMETROS!$B$8+ROW(A5),"") | B6: =IF($A6="","",IFERROR(INDEX(MAESTRO!$A:$A,MATCH($A6,MAESTRO!$P:$P,0)),"")) | C6: =IF($A6="","",IFERROR(INDEX(MAESTRO!$B:$B,MATCH($A6,MAESTRO!$P:$P,0)),"")) | D6: =IF($A6="","",IFERROR(INDEX(MAESTRO!$D:$D,MATCH($A6,MAESTRO!$P:$P,0)),"")) | E6: =IF($A6="","",IFERROR(INDEX(MAESTRO!$F:$F,MATCH($A6,MAESTRO!$P:$P,0)),"")) | F6: =IF($A6="","",IFERROR(INDEX(MAESTRO!$G:$G,MATCH($A6,MAESTRO!$P:$P,0)),"")) | G6: =IF($A6="","",IFERROR(INDEX(MAESTRO!$L:$L,MATCH($A6,MAESTRO!$P:$P,0)),"")) | H6: =IF($A6="","",IFERROR(INDEX(MAESTRO!$K:$K,MATCH($A6,MAESTRO!$P:$P,0)),"")) | I6: =IF($A6="","",IFERROR(INDEX(MAESTRO!$M:$M,MATCH($A6,MAESTRO!$P:$P,0)),""))
A7: =IF(COUNTIF(MAESTRO!$P:$P,PARAMETROS!$B$8+ROW(A6))>0,PARAMETROS!$B$8+ROW(A6),"") | B7: =IF($A7="","",IFERROR(INDEX(MAESTRO!$A:$A,MATCH($A7,MAESTRO!$P:$P,0)),"")) | C7: =IF($A7="","",IFERROR(INDEX(MAESTRO!$B:$B,MATCH($A7,MAESTRO!$P:$P,0)),"")) | D7: =IF($A7="","",IFERROR(INDEX(MAESTRO!$D:$D,MATCH($A7,MAESTRO!$P:$P,0)),"")) | E7: =IF($A7="","",IFERROR(INDEX(MAESTRO!$F:$F,MATCH($A7,MAESTRO!$P:$P,0)),"")) | F7: =IF($A7="","",IFERROR(INDEX(MAESTRO!$G:$G,MATCH($A7,MAESTRO!$P:$P,0)),"")) | G7: =IF($A7="","",IFERROR(INDEX(MAESTRO!$L:$L,MATCH($A7,MAESTRO!$P:$P,0)),"")) | H7: =IF($A7="","",IFERROR(INDEX(MAESTRO!$K:$K,MATCH($A7,MAESTRO!$P:$P,0)),"")) | I7: =IF($A7="","",IFERROR(INDEX(MAESTRO!$M:$M,MATCH($A7,MAESTRO!$P:$P,0)),""))
A8: =IF(COUNTIF(MAESTRO!$P:$P,PARAMETROS!$B$8+ROW(A7))>0,PARAMETROS!$B$8+ROW(A7),"") | B8: =IF($A8="","",IFERROR(INDEX(MAESTRO!$A:$A,MATCH($A8,MAESTRO!$P:$P,0)),"")) | C8: =IF($A8="","",IFERROR(INDEX(MAESTRO!$B:$B,MATCH($A8,MAESTRO!$P:$P,0)),"")) | D8: =IF($A8="","",IFERROR(INDEX(MAESTRO!$D:$D,MATCH($A8,MAESTRO!$P:$P,0)),"")) | E8: =IF($A8="","",IFERROR(INDEX(MAESTRO!$F:$F,MATCH($A8,MAESTRO!$P:$P,0)),"")) | F8: =IF($A8="","",IFERROR(INDEX(MAESTRO!$G:$G,MATCH($A8,MAESTRO!$P:$P,0)),"")) | G8: =IF($A8="","",IFERROR(INDEX(MAESTRO!$L:$L,MATCH($A8,MAESTRO!$P:$P,0)),"")) | H8: =IF($A8="","",IFERROR(INDEX(MAESTRO!$K:$K,MATCH($A8,MAESTRO!$P:$P,0)),"")) | I8: =IF($A8="","",IFERROR(INDEX(MAESTRO!$M:$M,MATCH($A8,MAESTRO!$P:$P,0)),""))
A9: =IF(COUNTIF(MAESTRO!$P:$P,PARAMETROS!$B$8+ROW(A8))>0,PARAMETROS!$B$8+ROW(A8),"") | B9: =IF($A9="","",IFERROR(INDEX(MAESTRO!$A:$A,MATCH($A9,MAESTRO!$P:$P,0)),"")) | C9: =IF($A9="","",IFERROR(INDEX(MAESTRO!$B:$B,MATCH($A9,MAESTRO!$P:$P,0)),"")) | D9: =IF($A9="","",IFERROR(INDEX(MAESTRO!$D:$D,MATCH($A9,MAESTRO!$P:$P,0)),"")) | E9: =IF($A9="","",IFERROR(INDEX(MAESTRO!$F:$F,MATCH($A9,MAESTRO!$P:$P,0)),"")) | F9: =IF($A9="","",IFERROR(INDEX(MAESTRO!$G:$G,MATCH($A9,MAESTRO!$P:$P,0)),"")) | G9: =IF($A9="","",IFERROR(INDEX(MAESTRO!$L:$L,MATCH($A9,MAESTRO!$P:$P,0)),"")) | H9: =IF($A9="","",IFERROR(INDEX(MAESTRO!$K:$K,MATCH($A9,MAESTRO!$P:$P,0)),"")) | I9: =IF($A9="","",IFERROR(INDEX(MAESTRO!$M:$M,MATCH($A9,MAESTRO!$P:$P,0)),""))
A10: =IF(COUNTIF(MAESTRO!$P:$P,PARAMETROS!$B$8+ROW(A9))>0,PARAMETROS!$B$8+ROW(A9),"") | B10: =IF($A10="","",IFERROR(INDEX(MAESTRO!$A:$A,MATCH($A10,MAESTRO!$P:$P,0)),"")) | C10: =IF($A10="","",IFERROR(INDEX(MAESTRO!$B:$B,MATCH($A10,MAESTRO!$P:$P,0)),"")) | D10: =IF($A10="","",IFERROR(INDEX(MAESTRO!$D:$D,MATCH($A10,MAESTRO!$P:$P,0)),"")) | E10: =IF($A10="","",IFERROR(INDEX(MAESTRO!$F:$F,MATCH($A10,MAESTRO!$P:$P,0)),"")) | F10: =IF($A10="","",IFERROR(INDEX(MAESTRO!$G:$G,MATCH($A10,MAESTRO!$P:$P,0)),"")) | G10: =IF($A10="","",IFERROR(INDEX(MAESTRO!$L:$L,MATCH($A10,MAESTRO!$P:$P,0)),"")) | H10: =IF($A10="","",IFERROR(INDEX(MAESTRO!$K:$K,MATCH($A10,MAESTRO!$P:$P,0)),"")) | I10: =IF($A10="","",IFERROR(INDEX(MAESTRO!$M:$M,MATCH($A10,MAESTRO!$P:$P,0)),""))
A11: =IF(COUNTIF(MAESTRO!$P:$P,PARAMETROS!$B$8+ROW(A10))>0,PARAMETROS!$B$8+ROW(A10),"") | B11: =IF($A11="","",IFERROR(INDEX(MAESTRO!$A:$A,MATCH($A11,MAESTRO!$P:$P,0)),"")) | C11: =IF($A11="","",IFERROR(INDEX(MAESTRO!$B:$B,MATCH($A11,MAESTRO!$P:$P,0)),"")) | D11: =IF($A11="","",IFERROR(INDEX(MAESTRO!$D:$D,MATCH($A11,MAESTRO!$P:$P,0)),"")) | E11: =IF($A11="","",IFERROR(INDEX(MAESTRO!$F:$F,MATCH($A11,MAESTRO!$P:$P,0)),"")) | F11: =IF($A11="","",IFERROR(INDEX(MAESTRO!$G:$G,MATCH($A11,MAESTRO!$P:$P,0)),"")) | G11: =IF($A11="","",IFERROR(INDEX(MAESTRO!$L:$L,MATCH($A11,MAESTRO!$P:$P,0)),"")) | H11: =IF($A11="","",IFERROR(INDEX(MAESTRO!$K:$K,MATCH($A11,MAESTRO!$P:$P,0)),"")) | I11: =IF($A11="","",IFERROR(INDEX(MAESTRO!$M:$M,MATCH($A11,MAESTRO!$P:$P,0)),""))
A12: =IF(COUNTIF(MAESTRO!$P:$P,PARAMETROS!$B$8+ROW(A11))>0,PARAMETROS!$B$8+ROW(A11),"") | B12: =IF($A12="","",IFERROR(INDEX(MAESTRO!$A:$A,MATCH($A12,MAESTRO!$P:$P,0)),"")) | C12: =IF($A12="","",IFERROR(INDEX(MAESTRO!$B:$B,MATCH($A12,MAESTRO!$P:$P,0)),"")) | D12: =IF($A12="","",IFERROR(INDEX(MAESTRO!$D:$D,MATCH($A12,MAESTRO!$P:$P,0)),"")) | E12: =IF($A12="","",IFERROR(INDEX(MAESTRO!$F:$F,MATCH($A12,MAESTRO!$P:$P,0)),"")) | F12: =IF($A12="","",IFERROR(INDEX(MAESTRO!$G:$G,MATCH($A12,MAESTRO!$P:$P,0)),"")) | G12: =IF($A12="","",IFERROR(INDEX(MAESTRO!$L:$L,MATCH($A12,MAESTRO!$P:$P,0)),"")) | H12: =IF($A12="","",IFERROR(INDEX(MAESTRO!$K:$K,MATCH($A12,MAESTRO!$P:$P,0)),"")) | I12: =IF($A12="","",IFERROR(INDEX(MAESTRO!$M:$M,MATCH($A12,MAESTRO!$P:$P,0)),""))
A13: =IF(COUNTIF(MAESTRO!$P:$P,PARAMETROS!$B$8+ROW(A12))>0,PARAMETROS!$B$8+ROW(A12),"") | B13: =IF($A13="","",IFERROR(INDEX(MAESTRO!$A:$A,MATCH($A13,MAESTRO!$P:$P,0)),"")) | C13: =IF($A13="","",IFERROR(INDEX(MAESTRO!$B:$B,MATCH($A13,MAESTRO!$P:$P,0)),"")) | D13: =IF($A13="","",IFERROR(INDEX(MAESTRO!$D:$D,MATCH($A13,MAESTRO!$P:$P,0)),"")) | E13: =IF($A13="","",IFERROR(INDEX(MAESTRO!$F:$F,MATCH($A13,MAESTRO!$P:$P,0)),"")) | F13: =IF($A13="","",IFERROR(INDEX(MAESTRO!$G:$G,MATCH($A13,MAESTRO!$P:$P,0)),"")) | G13: =IF($A13="","",IFERROR(INDEX(MAESTRO!$L:$L,MATCH($A13,MAESTRO!$P:$P,0)),"")) | H13: =IF($A13="","",IFERROR(INDEX(MAESTRO!$K:$K,MATCH($A13,MAESTRO!$P:$P,0)),"")) | I13: =IF($A13="","",IFERROR(INDEX(MAESTRO!$M:$M,MATCH($A13,MAESTRO!$P:$P,0)),""))
... A201: =IF(COUNTIF(MAESTRO!$P:$P,PARAMETROS!$B$8+ROW(A200))>0,PARAMETROS!$B$8+ROW(A200),"") | B201: =IF($A201="","",IFERROR(INDEX(MAESTRO!$A:$A,MATCH($A201,MAESTRO!$P:$P,0)),"")) | C201: =IF($A201="","",IFERROR(INDEX(MAESTRO!$B:$B,MATCH($A201,MAESTRO!$P:$P,0)),"")) | D201: =IF($A201="","",IFERROR(INDEX(MAESTRO!$D:$D,MATCH($A201,MAESTRO!$P:$P,0)),"")) | E201: =IF($A201="","",IFERROR(INDEX(MAESTRO!$F:$F,MATCH($A201,MAESTRO!$P:$P,0)),"")) | F201: =IF($A201="","",IFERROR(INDEX(MAESTRO!$G:$G,MATCH($A201,MAESTRO!$P:$P,0)),"")) | G201: =IF($A201="","",IFERROR(INDEX(MAESTRO!$L:$L,MATCH($A201,MAESTRO!$P:$P,0)),"")) | H201: =IF($A201="","",IFERROR(INDEX(MAESTRO!$K:$K,MATCH($A201,MAESTRO!$P:$P,0)),"")) | I201: =IF($A201="","",IFERROR(INDEX(MAESTRO!$M:$M,MATCH($A201,MAESTRO!$P:$P,0)),""))

Sheet INSTRUCCIONES
A1: ARCHIVO AUTOMATIZADO - DISTRIBUCION PROTOCOLAR
A3: 1. PESTAÑA QUE SE DEBE MODIFICAR
A4: Modificar solamente la pestaña MAESTRO. Al cambiar PRECEDENCIA, TRIBUNA, ASISTENCIA, NOMBRE o CARGO, el resto de las hojas se actualiza automaticamente al recalcular el libro.
A6: 2. CAMPOS PRINCIPALES EN MAESTRO
A7: ASISTENCIA: usar SI, NO o Pendiente. Los NO quedan excluidos de la distribucion.
A8: PRECEDENCIA: define el orden protocolar. En igualdad de precedencia, se ordena por NRO.
A9: TRIBUNA: permite filtrar que grupo se distribuye en el estrado.
A11: 3. PARAMETROS
A12: En PARAMETROS se puede cambiar la tribuna a distribuir. Por defecto esta en VIP.
A13: Tambien se puede seleccionar si se considera SI y Pendiente, o solo SI confirmados.
A15: 4. LOGICA DE UBICACION
A16: Centro protocolar: silla 23. Orden de asignacion: 23, 24, 22, 25, 21, etc.
... A25: Modificar principalmente la hoja MAESTRO: ASISTENCIA, PRECEDENCIA, TRIBUNA, NOMBRE y CARGO. El resto se ajusta por formulas.
