Workbook
Name Excel_BuiltIn__FilterDatabase_11: CODIGOS!$B$1:$E$198
Name Excel_BuiltIn__FilterDatabase_2: #REF!
Name Excel_BuiltIn__FilterDatabase_3: LUNES!$A$40:$J$48
Name INGREDIENTES: CODIGOS!$B:$B

Sheet MENU COMÚN
A1: MENÚ SANO Y EQUILIBRADO PRIZONA JULIO 2025
A4: LUNES | B4: MARTES | C4: MIÉRCOLES | D4: JUEVES | E4: VIERNES | F4: SÁBADO | G4: DOMINGO
A5: DESAYUNO
A6: LECHE-TÉ- CAFÉ | B6: LECHE-TÉ- CAFÉ | C6: LECHE-TÉ- CAFÉ | D6: LECHE-TÉ- CAFÉ | E6: LECHE-TÉ- CAFÉ | F6: LECHE-TÉ- CAFÉ | G6: LECHE-TÉ- CAFÉ
A7: PAN (100 GR) C/MERMELADA DE FRUTILLA | B7: PAN (100 GR) C/PASTA POLLO | C7: PAN (100 GR) C/ HUEVO TOMATE | D7: GRANOLA CON FRUTA | E7: PAN (100 GR) C/ MERMELADA DURAZNO | F7: PAN (100 GR) C/PASTA POLLO | G7: PAN (100 GR) C/ QUESILLO
A8: ALMUERZO GENERAL
A9: SOPA DE AVE NATURAL | B9: ENS.TOMATE/PEPINO | C9: ENS.LECHUGA/CHOCLO | D9: EMPANADA DE PINO /ENSALADA CHILENA/PEBRE | E9: SOPA DE AVE NATURAL | F9: ENS.POROTO NEGRO/LECHUGA | G9: SOPA DESHIDRATADA
A10: ALTERNATIVA: CREMA DESHIDRATADA | B10: ALTERNATIVA: OTRAS ENSALADAS | C10: ALTERNATIVA: OTRAS ENSALADAS | D10: ALTERNATIVA: EMPANADA DE QUESO | E10: ALTERNATIVA: CREMA DESHIDRATADA | F10: ALTERNATIVA: OTRAS ENSALADAS | G10: ALTERNATIVA: CREMA DESHIDRATADA
A11: PAN (50 GRAMOS) | B11: PAN (50 GRAMOS) | C11: PAN (50 GRAMOS) | D11: PAN (50 GRAMOS) | E11: PAN (50 GRAMOS) | F11: PAN (50 GRAMOS) | G11: PAN (50 GRAMOS)
A12: REFRESCO O AGUA | B12: REFRESCO O AGUA | C12: REFRESCO O AGUA | D12: REFRESCO O AGUA | E12: REFRESCO O AGUA | F12: REFRESCO O AGUA | G12: REFRESCO O AGUA
A13: ARROZ FRICASSÉ (MOLIDA,VIENESAS) | B13: 1° SEMANA:POROTOS CON RIENDAS 2° SEMANA: LENTEJAS PARMESANAS 3° SEMANA: MENESTRÓN O POROTOS NEGROS GUISADOS 4° SEMANA: GARBANZOS GUISADOS | C13: 1° SEMANA: MERLUZA APANADA CON PURÉ DE PAPAS 2° SEMANA: CROQUETA DE ATÚN CON QUINOA PRIMAVERA 3° SEMANA: PULMAY (S.MARISCOS/CERDO, CHORIZO) 3° SEMANA: MERLUZA ESCABECHADA CON PAPAS ASADAS RÚSTICAS | D13: 1° SEMANA: CAZUELA DE VACUNO 2° SEMANA: CAZUELA DE AVE 3° SEMANA: CAZUELA DE VACUNO 4° SEMANA: CAZUELA DE AVE | E13: 1° Y 3° SEMANA: STROGONOFF DE CERDO CON MOSTACHOLIS PEREJIL 2° Y 4° SEMANA CARNE MECHADA CON FIDEOS CILANTRO | F13: AJIACO (VACUNO, HUEVO) | G13: POLLO A LA MOSTAZA CON FIDEOS INTEGRALES
A14: FRUTA ENTERA NATURAL | B14: FLAN DE VAINILLA | C14: JALEA FRAMBUESA | D14: MOTE CON HUESILLOS | E14: JALEA FRAMBUESA | F14: FLAN DE CHOCOLATE | G14: JALEA NARANJA
A15: ALTERNATIVA: POSTRE DISPONIBLE | B15: ALTERNATIVA: POSTRE DISPONIBLE | C15: ALTERNATIVA: POSTRE DISPONIBLE | D15: ALTERNATIVA: POSTRE DISPONIBLE | E15: ALTERNATIVA: POSTRE DISPONIBLE | F15: ALTERNATIVA: POSTRE DISPONIBLE | G15: ALTERNATIVA: POSTRE DISPONIBLE
A16: CENA GENERAL
A17: CREMA DESHIDRATADA | B17: ENS.LECHUGA/BETARRAGA | C17: CREMA DE LEGUMBRES NATURAL | D17: CREMA DESHIDRATADA | E17: CREMA DESHIDRATADA | F17: SOPA DESHIDRATADA | G17: CREMA DESHIDRATADA
A18: ALTERNATIVA: SOPA DESHIDRATADA | B18: ALTERNATIVA: OTRAS ENSALADAS | C18: ALTERNATIVA: CREMA DESHIDRATADA | D18: ALTERNATIVA: SOPA DESHIDRATADA | E18: ALTERNATIVA: SOPA DESHIDRATADA | F18: ALTERNATIVA: CREMA DESHIDRATADA | G18: ALTERNATIVA: SOPA DESHIDRATADA
A19: PAN (50 GRAMOS) | B19: PAN (50 GRAMOS) | C19: PAN (50 GRAMOS) | D19: PAN (50 GRAMOS) | E19: PAN (50 GRAMOS) | F19: PAN (50 GRAMOS) | G19: PAN (50 GRAMOS)
A20: REFRESCO O AGUA | B20: REFRESCO O AGUA | C20: REFRESCO O AGUA | D20: REFRESCO O AGUA | E20: REFRESCO O AGUA | F20: REFRESCO O AGUA | G20: REFRESCO O AGUA
A21: RAGOUT DE CERDO CON ESPIRALES | B21: CARBONADA DE VACUNO | C21: CHAPSUI DE CERDO CON ARROZ PIAMONTESA | D21: TRUTRO ASADO CON BUDÍN DE VERDURAS | E21: ZAPALLITOS RELLENOS CON PAPAS FRITAS (CARNE MOLIDA) ALTERNATIVA: PASTEL DE ZAPALLITOS CON PAPAS RÚSTICAS | F21: ARROZ A LA VALENCIANA (S.MARISCOS,CERDO,CHORIZO) | G21: ASADO ALEMÁN CON PURÉ
A22: JALEA IMPERIAL | B22: JALEA NARANJA | C22: FLAN DE CHOCOLATE | D22: JALEA FRAMBUESA | E22: FLAN DE VAINILLA | F22: JALEA FRAMBUESA | G22: FLAN DE VAINILLA
A23: ALTERNATIVA: POSTRE DISPONIBLE | B23: ALTERNATIVA: POSTRE DISPONIBLE | C23: ALTERNATIVA: POSTRE DISPONIBLE | D23: ALTERNATIVA: POSTRE DISPONIBLE | E23: ALTERNATIVA: POSTRE DISPONIBLE | F23: ALTERNATIVA: POSTRE DISPONIBLE | G23: ALTERNATIVA: POSTRE DISPONIBLE
A33: Jessica Alvarado Villanueva | C33: Daniela Palma Cid | D33: Pedro González Fontaine | F33: Jorge Asmad Sepulveda
A34: Nutricionista | C34: EC. GDO. 9 Ingeniero de Alimentos | D34: Teniente Primero AB | F34: Capitán de Corbeta AB
A35: Newrest Catering y Servicios Chile SPA. | C35: Administración de Contratos y Control de Calidad | D35: Jefe CODE Víveres (S.) | F35: Jefe Depto. Operaciones
A36: DIRECABAS | C36: DIRECABAS | D36: Armada de Chile | F36: DIRECABAS

Sheet NOTAS
A1: NOTAS EXPLICATIVAS DEL MENÚ SALUDABLE
A3: NOTA 1: | B3: POC: JEFE CODE VÍVERES,: T1º AB MATIAS LABARCA , LLICO 4133; EMAIL: MLABARCA@ARMADA.CL
B4: EECC DANIELA PALMA C., LLICO: 4139, EMAIL: DPALMA@ARMADA.CL
A5: NOTA 2: | B5: POSTRES: LOS SABORES DE LOS POSTRES PUEDEN VARIAR DE ACUERDO A EXISTENCIA, LOS POSTRES DE LECHE PUEDEN SER CAMBIADOS POR OTRO POSTRE DE LECHE SEGÚN EXISTENCIA, EL MOTE CON HUESILLO PUEDE SER MODIFICADO POR COMPOTA DE FRUTAS.
A6: NOTA 3: | B6: FRUTAS Y VERDURAS, PUEDEN SER CAMBIADAS EN BASE A SU ESTACIONALIDAD Y AUMENTADAS EN GRAMAJE O INCLUIDAS EN PREPARACIONES DE ACUERDO A DISPONIBILIDADES.
A7: NOTA 4: | B7: LOS EJERCICIOS ALMUERZO Y CENA, CONSIDERAN UN PAN DE 50 GRAMOS CADA UNO Y DESAYUNO CONSIDERA PAN DE 100 GRAMOS. AQUELLAS REPARTICIONES QUE NO CONFECCIONEN PAN A BORDO, DEBERÁN AJUSTAR EL GRAMAJE DE LOS INGREDIENTES DEL MENÚ DE ACUERDO A LAS DISPONIBILIDADES. PARA EL MENÚ HIPOCALÓRICO NO SE CONSIDERA PORCIÓN DE PAN PARA ALMUERZO Y CENA.
A8: NOTA 5: | B8: LA FRUTA MANZANA DEBE SER VARIEDAD FUJI O VERDE GRANNY SMITH Y NO DEBEN SER PELADAS.
A9: NOTA 6: | B9: LOS CORTES DE CARNE DE VACUNO Y TIPOS DE FIDEOS, PUEDEN SER VARIADOS DE ACUERDO A EXISTENCIAS Y A DISPONIBILIDADES.
A10: NOTA 7: | B10: JAMÓN DEBE SER DE PREFERENCIA COCIDO DE PAVO O POLLO. MARGARINA 0% TRANS.
A11: NOTA 8: | B11: LA FRUTA CORRESPONDIENTE AL POSTRE, DEBE CUBRIRSE CON PAPEL ALUSA, OBJETO ESTA NO SE TORNE COLOR CAFÉ.
A12: NOTA 9: | B12: EN ATENCIÓN A LAS DISTINTAS CIRCUNTANCIAS EN QUE EL PERSONAL DESARROLLA LAS ACTIVIDADES DIARIAS QUE LA INSTITUCIÓN LE IMPONE Y EN CONFORMIDAD A LOS BENEFICIOS QUE OTORGA EL MABA N° 8/48-3 TRAT. 3, CAP. 02, ART, 30211 "DETERMINACIÓN DE LAS DISPONIBILIDADES DE ALIMENTACIÓN". LAS UU.RR., PODRÁN AUMENTAR LOS GRAMAJES Y/O ADICIONAR INGREDIENTES DE BUENA CALIDAD A LAS PREPARACIONES DEL MENÚ SALUDABLE, SIN ALTERAR SU BASE ORIGINAL.
A13: NOTA 10: | B13: A MEDIDA QUE SE PUBLIQUEN NUEVOS BOLETINES DE PRECIOS, ESTOS DEBEN SER ACTUALIZADOS EN HOJA DE CALCULO "CÓDIGOS", AL IGUAL QUE VALOR MEDIA RACIÓN Y RACIÓN COMPLETA, LOS CUALES DEBEN SER INGRESADOS EN CELDA "N22" Y "N23" RESPECTIVAMENTE. EN BASE AL PORCENTAJE DE DISPONIBILIDAD QUE SE GENERE, SE DEBEN IR AJUSTANDO LOS GRAMAJES.
A14: NOTA 11: | B14: ONCES Y COLACIONES PUEDEN SER INCLUIDAS DENTRO DEL MENÚ SIEMPRE Y CUANDO LAS DISPONIBILIDADES LO PERMITAN.
A15: NOTA 12: | B15: VÍVERES DETALLADOS EN MENÚ SON SUJETOS A DISPONIBILIDADES Y A STOCK EN CENTROS DE ABASTECIMIENTO.
A16: NOTA 13: | B16: SI EL PROTEICO, EJEMPLO "QUESILLO", NO ESTA DISPONIBLE EN COMERCIO LOCAL, DEBE SER REEMPLAZADO POR OTRO PROTEICO DE SIMILAR VALOR MONETARIO. PROTEICOS QUE SE CONSIDERAN SON: PALTA - PALMITOS - CHAMPIÑONES - QUESILLO - JAMON DE PAVO - FONDOS DE ALCACHOFA - CHORITOS EN CONSERVA - ESPÁRRAGOS - NIDO DE POLLO.
... A20: NOTA 17: | B20: TODO EL PERSONAL INVOLURADO EN LA CONFECCIÓN DEL MENÚ, TANTO DE REGIMEN NORMAL COMO HIPOCALÓRICO, DEBE TOMAR LAS MEDIDAS NECESARIAS DE HIGIENE Y MANIPULACIÓN DE ALIMENTOS, OBJETO EVITAR ALGUN TIPO DE INTOXICACIÓN O ENFERMEDAD, POR CONSUMO DE ALIMENTOS EN MAL ESTADO, CONTAMINADO O MAL PREPARADO.

Sheet LUNES
A1: LUNES
A2: DESAYUNO | B2: ='MENU COMÚN'!A6 -> LECHE-TÉ- CAFÉ | D2: ='MENU COMÚN'!A7 -> PAN (100 GR) C/MERMELADA DE FRUTILLA | G2: RACIÓN ALMUERZO (INGRESAR CANTIDAD RACIONES DE ALMUERZO) | I2: 200
A3: ALMUERZO | B3: ='MENU COMÚN'!A9 -> SOPA DE AVE NATURAL | G3: RACIÓN COMPLETA | I3: 80
B4: ='MENU COMÚN'!A13 -> ARROZ FRICASSÉ (MOLIDA,VIENESAS)
B5: ='MENU COMÚN'!A14 -> FRUTA ENTERA NATURAL
Q6: % AUMENTO
A7: CENA | B7: ='MENU COMÚN'!A17 -> CREMA DESHIDRATADA | Q7: 0 | R7: VALOR REAL | S7: VALOR TEORICO | T7: CANTIDADES | U7: TOTAL REAL | V7: TOTAL TEORICO | W7: SUPERAVIT O DEFICIT | X7: % SUP O DEF
B8: ='MENU COMÚN'!A21 -> RAGOUT DE CERDO CON ESPIRALES | P8: 2065 | Q8: RACIÓN ALMUERZO (85%) | R8: =I40 -> 1209.7929 | S8: =+$P$8+($P$8*$Q$7) -> 2065 | T8: =+$I$2-$I$3 -> 120 | U8: =$R$8*$T$8 -> 145175.15 | V8: =$S$8*$T$8 -> 247800 | W8: =$V$8-$U$8 -> 102624.85 | X8: =$W$8/$V$8 -> 0.41414387
B9: ='MENU COMÚN'!A22 -> JALEA IMPERIAL | P9: 2429 | Q9: RACIÓN COMPLETA | R9: =I18+I40+I59 -> 2938.2831 | S9: =+$P$9+($P$9*$Q$7) -> 2429 | T9: =+$I$3 -> 80 | U9: =$R$9*$T$9 -> 235062.65 | V9: =$S$9*$T$9 -> 194320 | W9: =$V$9-$U$9 -> -40742.646 | X9: =$W$9/$V$9 -> -0.20966779
A10: DESCRIPCION | B10: CÓDIGO | C10: U/E | D10: CANTIDAD TOTAL KG | E10: SEGÚN FORMATO | F10: GRS P/P | G10: CANTIDAD (KG) P/P | H10: V.UNITARIO | I10: V. P/P | J10: V.TOTAL | K10: CALORÍAS | L10: PROTEÍNAS | M10: LÍPIDOS | N10: CHO | Q10: TOTAL | U10: =SUM(U8:U9) -> 380237.79 | V10: =SUM(V8:V9) -> 442120 | W10: =V10-U10 -> 61882.206 | X10: =W10/V10 -> 0.13996699
A11: DESAYUNO
A12: LECHE EN POLVO 800 GRS. | B12: =VLOOKUP($A12,NSN!$A:$B,2,FALSE) -> C903335 | C12: =VLOOKUP($A12,CODIGOS!$B:$E,4,FALSE) -> 800 grs | D12: =($F12*$I$3)/1000 -> 1.6 | E12: =IF(VLOOKUP($B12,CODIGOS!$A:$F,6,0)<>1000,(($F12*$I$3)/VLOOKUP($B12,CODIGOS!$A:$F,6,0)),"") -> 2 | F12: 20 | G12: =(F12/1000)*VLOOKUP($B12,CODIGOS!$A:$G,7,0) -> 0.02 | H12: 4100 | I12: =$J12/$I$3 -> 102.5 | J12: =IF($E12="",$D12*$H12,$E12*$H12) -> 8200 | K12: =VLOOKUP($B12,CODIGOS!$A:$K,8,0)*$G12*1000 -> 70.6 | L12: =VLOOKUP($B12,CODIGOS!$A:$K,9,0)*$G12*1000 -> 8.02 | M12: =VLOOKUP($B12,CODIGOS!$A:$K,10,0)*$G12*1000 -> 0.02 | N12: =VLOOKUP($B12,CODIGOS!$A:$K,11,0)*$G12*1000 -> 9.58
A13: TE | B13: =VLOOKUP($A13,NSN!$A:$B,2,FALSE) -> C000827 | C13: =VLOOKUP($A13,CODIGOS!$B:$E,4,FALSE) -> KG | D13: =($F13*$I$3)/1000 -> 0.12 | E13: =IF(VLOOKUP($B13,CODIGOS!$A:$F,6,0)<>1000,(($F13*$I$3)/VLOOKUP($B13,CODIGOS!$A:$F,6,0)),"") | F13: 1.5 | G13: =(F13/1000)*VLOOKUP($B13,CODIGOS!$A:$G,7,0) -> 0.0015 | H13: =VLOOKUP($A13,CODIGOS!$B:$D,2,FALSE) -> 7800 | I13: =$J13/$I$3 -> 11.7 | J13: =IF(H13="S/STOCK","",IF($E13="",$D13*$H13,$E13*$H13)) -> 936 | K13: =VLOOKUP($B13,CODIGOS!$A:$K,8,0)*$G13*1000 -> 0.015 | L13: =VLOOKUP($B13,CODIGOS!$A:$K,9,0)*$G13*1000 -> 0 | M13: =VLOOKUP($B13,CODIGOS!$A:$K,10,0)*$G13*1000 -> 0 | N13: =VLOOKUP($B13,CODIGOS!$A:$K,11,0)*$G13*1000 -> 0.003
A14: CAFÉ INSTANTANEO | B14: =VLOOKUP($A14,NSN!$A:$B,2,FALSE) -> C000523 | C14: =VLOOKUP($A14,CODIGOS!$B:$E,4,FALSE) -> TA 400 gr | D14: =($F14*$I$3)/1000 -> 0.08 | E14: =IF(VLOOKUP($B14,CODIGOS!$A:$F,6,0)<>1000,(($F14*$I$3)/VLOOKUP($B14,CODIGOS!$A:$F,6,0)),"") -> 0.2 | F14: 1 | G14: =(F14/1000)*VLOOKUP($B14,CODIGOS!$A:$G,7,0) -> 0.001 | H14: =VLOOKUP($A14,CODIGOS!$B:$D,2,FALSE) -> 9990 | I14: =$J14/$I$3 -> 24.975 | J14: =IF(H14="S/STOCK","",IF($E14="",$D14*$H14,$E14*$H14)) -> 1998 | K14: =VLOOKUP($B14,CODIGOS!$A:$K,8,0)*$G14*1000 -> 2.61 | L14: =VLOOKUP($B14,CODIGOS!$A:$K,9,0)*$G14*1000 -> 0.164 | M14: =VLOOKUP($B14,CODIGOS!$A:$K,10,0)*$G14*1000 -> 0.001 | N14: =VLOOKUP($B14,CODIGOS!$A:$K,11,0)*$G14*1000 -> 0.49
A15: AZUCAR BLANCA REFINADA | B15: =VLOOKUP($A15,NSN!$A:$B,2,FALSE) -> C000816 | C15: =VLOOKUP($A15,CODIGOS!$B:$E,4,FALSE) -> KG | D15: =($F15*$I$3)/1000 -> 0.8 | E15: =IF(VLOOKUP($B15,CODIGOS!$A:$F,6,0)<>1000,(($F15*$I$3)/VLOOKUP($B15,CODIGOS!$A:$F,6,0)),"") | F15: 10 | G15: =(F15/1000)*VLOOKUP($B15,CODIGOS!$A:$G,7,0) -> 0.01 | H15: =VLOOKUP($A15,CODIGOS!$B:$D,2,FALSE) -> 1128 | I15: =$J15/$I$3 -> 11.28 | J15: =IF(H15="S/STOCK","",IF($E15="",$D15*$H15,$E15*$H15)) -> 902.4 | K15: =VLOOKUP($B15,CODIGOS!$A:$K,8,0)*$G15*1000 -> 39.8 | L15: =VLOOKUP($B15,CODIGOS!$A:$K,9,0)*$G15*1000 -> 0 | M15: =VLOOKUP($B15,CODIGOS!$A:$K,10,0)*$G15*1000 -> 0 | N15: =VLOOKUP($B15,CODIGOS!$A:$K,11,0)*$G15*1000 -> 9.95
A16: MERMELADA REGIMEL FRUTILLA | B16: =VLOOKUP($A16,NSN!$A:$B,2,FALSE) -> C903445 | C16: =VLOOKUP($A16,CODIGOS!$B:$E,4,FALSE) -> 200 grs | D16: =($F16*$I$3)/1000 -> 2 | E16: =IF(VLOOKUP($B16,CODIGOS!$A:$F,6,0)<>1000,(($F16*$I$3)/VLOOKUP($B16,CODIGOS!$A:$F,6,0)),"") -> 10 | F16: 25 | G16: =(F16/1000)*VLOOKUP($B16,CODIGOS!$A:$G,7,0) -> 0.025 | H16: =VLOOKUP($A16,CODIGOS!$B:$D,2,FALSE) -> 1057 | I16: =$J16/$I$3 -> 132.125 | J16: =IF(H16="S/STOCK","",IF($E16="",$D16*$H16,$E16*$H16)) -> 10570 | K16: =VLOOKUP($B16,CODIGOS!$A:$K,8,0)*$G16*1000 -> 10.5 | L16: =VLOOKUP($B16,CODIGOS!$A:$K,9,0)*$G16*1000 -> 0.075 | M16: =VLOOKUP($B16,CODIGOS!$A:$K,10,0)*$G16*1000 -> 0.05 | N16: =VLOOKUP($B16,CODIGOS!$A:$K,11,0)*$G16*1000 -> 1.525
A17: PAN | B17: =VLOOKUP($A17,NSN!$A:$B,2,FALSE) -> V000415 | C17: =VLOOKUP($A17,CODIGOS!$B:$E,4,FALSE) -> KG | D17: =($F17*$I$3)/1000 -> 8 | E17: =IF(VLOOKUP($B17,CODIGOS!$A:$F,6,0)<>1000,(($F17*$I$3)/VLOOKUP($B17,CODIGOS!$A:$F,6,0)),"") | F17: 100 | G17: =(F17/1000)*VLOOKUP($B17,CODIGOS!$A:$G,7,0) -> 0.1 | H17: =VLOOKUP($A17,CODIGOS!$B:$D,2,FALSE) -> 1783 | I17: =$J17/$I$3 -> 178.3 | J17: =IF(H17="S/STOCK","",IF($E17="",$D17*$H17,$E17*$H17)) -> 14264 | K17: =VLOOKUP($B17,CODIGOS!$A:$K,8,0)*$G17*1000 -> 315 | L17: =VLOOKUP($B17,CODIGOS!$A:$K,9,0)*$G17*1000 -> 8.2 | M17: =VLOOKUP($B17,CODIGOS!$A:$K,10,0)*$G17*1000 -> 4 | N17: =VLOOKUP($B17,CODIGOS!$A:$K,11,0)*$G17*1000 -> 61.6
I18: =SUM(I12:I17) -> 460.88 | J18: =SUM(J12:J17) -> 36870.4 | K18: =SUM(K12:K17) -> 438.525 | L18: =SUM(L12:L17) -> 16.459 | M18: =SUM(M12:M17) -> 4.071 | N18: =SUM(N12:N17) -> 83.148
A19: ALMUERZO
A20: REFRESCO NARANJA | B20: =VLOOKUP($A20,NSN!$A:$B,2,FALSE) -> C902859 | C20: =VLOOKUP($A20,CODIGOS!$B:$E,4,FALSE) -> KG | D20: =($F20*$I$2)/1000 -> 1.2 | E20: =IF(VLOOKUP($B20,CODIGOS!$A:$F,6,0)<>1000,(($F20*$I$2)/VLOOKUP($B20,CODIGOS!$A:$F,6,0)),"") | F20: 6 | G20: =(F20/1000)*VLOOKUP($B20,CODIGOS!$A:$G,7,0) -> 0.006 | H20: =VLOOKUP($A20,CODIGOS!$B:$D,2,FALSE) -> 2986 | I20: =IF($H20="S/STOCK","",$J20/$I$2) -> 17.916 | J20: =IF(H20="S/STOCK","",IF($E20="",$D20*$H20,$E20*$H20)) -> 3583.2 | K20: =VLOOKUP($B20,CODIGOS!$A:$K,8,0)*$G20*1000 -> 21.54 | L20: =VLOOKUP($B20,CODIGOS!$A:$K,9,0)*$G20*1000 -> 0 | M20: =VLOOKUP($B20,CODIGOS!$A:$K,10,0)*$G20*1000 -> 0 | N20: =VLOOKUP($B20,CODIGOS!$A:$K,11,0)*$G20*1000 -> 5.376
A21: PAN | B21: =VLOOKUP($A21,NSN!$A:$B,2,FALSE) -> V000415 | C21: =VLOOKUP($A21,CODIGOS!$B:$E,4,FALSE) -> KG | D21: =($F21*$I$2)/1000 -> 10 | E21: =IF(VLOOKUP($B21,CODIGOS!$A:$F,6,0)<>1000,(($F21*$I$2)/VLOOKUP($B21,CODIGOS!$A:$F,6,0)),"") | F21: 50 | G21: =(F21/1000)*VLOOKUP($B21,CODIGOS!$A:$G,7,0) -> 0.05 | H21: =VLOOKUP($A21,CODIGOS!$B:$D,2,FALSE) -> 1783 | I21: =IF($H21="S/STOCK","",$J21/$I$2) -> 89.15 | J21: =IF(H21="S/STOCK","",IF($E21="",$D21*$H21,$E21*$H21)) -> 17830 | K21: =VLOOKUP($B21,CODIGOS!$A:$K,8,0)*$G21*1000 -> 157.5 | L21: =VLOOKUP($B21,CODIGOS!$A:$K,9,0)*$G21*1000 -> 4.1 | M21: =VLOOKUP($B21,CODIGOS!$A:$K,10,0)*$G21*1000 -> 2 | N21: =VLOOKUP($B21,CODIGOS!$A:$K,11,0)*$G21*1000 -> 30.8
A22: POLLO FILETE | B22: =VLOOKUP($A22,NSN!$A:$B,2,FALSE) -> C903555 | C22: =VLOOKUP($A22,CODIGOS!$B:$E,4,FALSE) -> KG | D22: =($F22*$I$2)/1000 -> 0 | E22: =IF(VLOOKUP($B22,CODIGOS!$A:$F,6,0)<>1000,(($F22*$I$2)/VLOOKUP($B22,CODIGOS!$A:$F,6,0)),"") | F22: 0 | G22: =(F22/1000)*VLOOKUP($B22,CODIGOS!$A:$G,7,0) -> 0 | H22: =VLOOKUP($A22,CODIGOS!$B:$D,2,FALSE) -> 4165 | I22: =IF($H22="S/STOCK","",$J22/$I$2) -> 0 | J22: =IF(H22="S/STOCK","",IF($E22="",$D22*$H22,$E22*$H22)) -> 0 | K22: =VLOOKUP($B22,CODIGOS!$A:$K,8,0)*$G22*1000 -> 0 | L22: =VLOOKUP($B22,CODIGOS!$A:$K,9,0)*$G22*1000 -> 0 | M22: =VLOOKUP($B22,CODIGOS!$A:$K,10,0)*$G22*1000 -> 0 | N22: =VLOOKUP($B22,CODIGOS!$A:$K,11,0)*$G22*1000 -> 0
A23: AJOS FRESCO | B23: =VLOOKUP($A23,NSN!$A:$B,2,FALSE) -> V000014 | C23: =VLOOKUP($A23,CODIGOS!$B:$E,4,FALSE) -> NR 35 g | D23: =($F23*$I$2)/1000 -> 0.1 | E23: =IF(VLOOKUP($B23,CODIGOS!$A:$F,6,0)<>1000,(($F23*$I$2)/VLOOKUP($B23,CODIGOS!$A:$F,6,0)),"") -> 2.8571429 | F23: 0.5 | G23: =(F23/1000)*VLOOKUP($B23,CODIGOS!$A:$G,7,0) -> 0.0005 | H23: =VLOOKUP($A23,CODIGOS!$B:$D,2,FALSE) -> 297 | I23: =IF($H23="S/STOCK","",$J23/$I$2) -> 4.2428571 | J23: =IF(H23="S/STOCK","",IF($E23="",$D23*$H23,$E23*$H23)) -> 848.57143 | K23: =VLOOKUP($B23,CODIGOS!$A:$K,8,0)*$G23*1000 -> 0.695 | L23: =VLOOKUP($B23,CODIGOS!$A:$K,9,0)*$G23*1000 -> 0.0335 | M23: =VLOOKUP($B23,CODIGOS!$A:$K,10,0)*$G23*1000 -> 0.002 | N23: =VLOOKUP($B23,CODIGOS!$A:$K,11,0)*$G23*1000 -> 0.136
A24: PEREJIL | B24: =VLOOKUP($A24,NSN!$A:$B,2,FALSE) -> V000231 | C24: =VLOOKUP($A24,CODIGOS!$B:$E,4,FALSE) -> NR 200 gr | D24: =($F24*$I$2)/1000 -> 0.1 | E24: =IF(VLOOKUP($B24,CODIGOS!$A:$F,6,0)<>1000,(($F24*$I$2)/VLOOKUP($B24,CODIGOS!$A:$F,6,0)),"") -> 0.5 | F24: 0.5 | G24: =(F24/1000)*VLOOKUP($B24,CODIGOS!$A:$G,7,0) -> 0.0004385 | H24: =VLOOKUP($A24,CODIGOS!$B:$D,2,FALSE) -> 774 | I24: =IF($H24="S/STOCK","",$J24/$I$2) -> 1.935 | J24: =IF(H24="S/STOCK","",IF($E24="",$D24*$H24,$E24*$H24)) -> 387 | K24: =VLOOKUP($B24,CODIGOS!$A:$K,8,0)*$G24*1000 -> 0.258715 | L24: =VLOOKUP($B24,CODIGOS!$A:$K,9,0)*$G24*1000 -> 0.0135935 | M24: =VLOOKUP($B24,CODIGOS!$A:$K,10,0)*$G24*1000 -> 0.002631 | N24: =VLOOKUP($B24,CODIGOS!$A:$K,11,0)*$G24*1000 -> 0.0451655
A25: SEMOLA KG | B25: =VLOOKUP($A25,NSN!$A:$B,2,FALSE) -> V000305 | C25: =VLOOKUP($A25,CODIGOS!$B:$E,4,FALSE) -> KG | D25: =($F25*$I$2)/1000 -> 1 | E25: =IF(VLOOKUP($B25,CODIGOS!$A:$F,6,0)<>1000,(($F25*$I$2)/VLOOKUP($B25,CODIGOS!$A:$F,6,0)),"") | F25: 5 | G25: =(F25/1000)*VLOOKUP($B25,CODIGOS!$A:$G,7,0) -> 0.005 | H25: =VLOOKUP($A25,CODIGOS!$B:$D,2,FALSE) -> 2559 | I25: =IF($H25="S/STOCK","",$J25/$I$2) -> 12.795 | J25: =IF(H25="S/STOCK","",IF($E25="",$D25*$H25,$E25*$H25)) -> 2559 | K25: =VLOOKUP($B25,CODIGOS!$A:$K,8,0)*$G25*1000 -> 17.35 | L25: =VLOOKUP($B25,CODIGOS!$A:$K,9,0)*$G25*1000 -> 0.405 | M25: =VLOOKUP($B25,CODIGOS!$A:$K,10,0)*$G25*1000 -> 0.035 | N25: =VLOOKUP($B25,CODIGOS!$A:$K,11,0)*$G25*1000 -> 3.875
A26: VACUNO CARNE MOLIDA CONGELADA | B26: =VLOOKUP($A26,NSN!$A:$B,2,FALSE) -> C902472 | C26: =VLOOKUP($A26,CODIGOS!$B:$E,4,FALSE) -> KG | D26: =($F26*$I$2)/1000 -> 20 | E26: =IF(VLOOKUP($B26,CODIGOS!$A:$F,6,0)<>1000,(($F26*$I$2)/VLOOKUP($B26,CODIGOS!$A:$F,6,0)),"") | F26: 100 | G26: =(F26/1000)*VLOOKUP($B26,CODIGOS!$A:$G,7,0) -> 0.0648 | H26: =VLOOKUP($A26,CODIGOS!$B:$D,2,FALSE) -> 4940 | I26: =IF($H26="S/STOCK","",$J26/$I$2) -> 494 | J26: =IF(H26="S/STOCK","",IF($E26="",$D26*$H26,$E26*$H26)) -> 98800 | K26: =VLOOKUP($B26,CODIGOS!$A:$K,8,0)*$G26*1000 -> 84.24 | L26: =VLOOKUP($B26,CODIGOS!$A:$K,9,0)*$G26*1000 -> 13.932 | M26: =VLOOKUP($B26,CODIGOS!$A:$K,10,0)*$G26*1000 -> 2.7216 | N26: =VLOOKUP($B26,CODIGOS!$A:$K,11,0)*$G26*1000 -> 2.7864
A27: VIENESAS | B27: =VLOOKUP($A27,NSN!$A:$B,2,FALSE) -> V000324 | C27: =VLOOKUP($A27,CODIGOS!$B:$E,4,FALSE) -> KG | D27: =($F27*$I$2)/1000 -> 4 | E27: =IF(VLOOKUP($B27,CODIGOS!$A:$F,6,0)<>1000,(($F27*$I$2)/VLOOKUP($B27,CODIGOS!$A:$F,6,0)),"") | F27: 20 | G27: =(F27/1000)*VLOOKUP($B27,CODIGOS!$A:$G,7,0) -> 0.02 | H27: =VLOOKUP($A27,CODIGOS!$B:$D,2,FALSE) -> 3513 | I27: =IF($H27="S/STOCK","",$J27/$I$2) -> 70.26 | J27: =IF(H27="S/STOCK","",IF($E27="",$D27*$H27,$E27*$H27)) -> 14052 | K27: =VLOOKUP($B27,CODIGOS!$A:$K,8,0)*$G27*1000 -> 64.4 | L27: =VLOOKUP($B27,CODIGOS!$A:$K,9,0)*$G27*1000 -> 2.5 | M27: =VLOOKUP($B27,CODIGOS!$A:$K,10,0)*$G27*1000 -> 5.94 | N27: =VLOOKUP($B27,CODIGOS!$A:$K,11,0)*$G27*1000 -> 0.2
A28: CEBOLLAS FRESCAS | B28: =VLOOKUP($A28,NSN!$A:$B,2,FALSE) -> C000249 | C28: =VLOOKUP($A28,CODIGOS!$B:$E,4,FALSE) -> KG | D28: =($F28*$I$2)/1000 -> 4 | E28: =IF(VLOOKUP($B28,CODIGOS!$A:$F,6,0)<>1000,(($F28*$I$2)/VLOOKUP($B28,CODIGOS!$A:$F,6,0)),"") | F28: 20 | G28: =(F28/1000)*VLOOKUP($B28,CODIGOS!$A:$G,7,0) -> 0.01782 | H28: =VLOOKUP($A28,CODIGOS!$B:$D,2,FALSE) -> 640 | I28: =IF($H28="S/STOCK","",$J28/$I$2) -> 12.8 | J28: =IF(H28="S/STOCK","",IF($E28="",$D28*$H28,$E28*$H28)) -> 2560 | K28: =VLOOKUP($B28,CODIGOS!$A:$K,8,0)*$G28*1000 -> 7.6626 | L28: =VLOOKUP($B28,CODIGOS!$A:$K,9,0)*$G28*1000 -> 0.14256 | M28: =VLOOKUP($B28,CODIGOS!$A:$K,10,0)*$G28*1000 -> 0.03564 | N28: =VLOOKUP($B28,CODIGOS!$A:$K,11,0)*$G28*1000 -> 1.71072
A29: AJOS FRESCO | B29: =VLOOKUP($A29,NSN!$A:$B,2,FALSE) -> V000014 | C29: =VLOOKUP($A29,CODIGOS!$B:$E,4,FALSE) -> NR 35 g | D29: =($F29*$I$2)/1000 -> 0.2 | E29: =IF(VLOOKUP($B29,CODIGOS!$A:$F,6,0)<>1000,(($F29*$I$2)/VLOOKUP($B29,CODIGOS!$A:$F,6,0)),"") -> 5.7142857 | F29: 1 | G29: =(F29/1000)*VLOOKUP($B29,CODIGOS!$A:$G,7,0) -> 0.001 | H29: =VLOOKUP($A29,CODIGOS!$B:$D,2,FALSE) -> 297 | I29: =IF($H29="S/STOCK","",$J29/$I$2) -> 8.4857143 | J29: =IF(H29="S/STOCK","",IF($E29="",$D29*$H29,$E29*$H29)) -> 1697.1429 | K29: =VLOOKUP($B29,CODIGOS!$A:$K,8,0)*$G29*1000 -> 1.39 | L29: =VLOOKUP($B29,CODIGOS!$A:$K,9,0)*$G29*1000 -> 0.067 | M29: =VLOOKUP($B29,CODIGOS!$A:$K,10,0)*$G29*1000 -> 0.004 | N29: =VLOOKUP($B29,CODIGOS!$A:$K,11,0)*$G29*1000 -> 0.272
A30: ZANAHORIA | B30: =VLOOKUP($A30,NSN!$A:$B,2,FALSE) -> V000330 | C30: =VLOOKUP($A30,CODIGOS!$B:$E,4,FALSE) -> KG | D30: =($F30*$I$2)/1000 -> 4 | E30: =IF(VLOOKUP($B30,CODIGOS!$A:$F,6,0)<>1000,(($F30*$I$2)/VLOOKUP($B30,CODIGOS!$A:$F,6,0)),"") | F30: 20 | G30: =(F30/1000)*VLOOKUP($B30,CODIGOS!$A:$G,7,0) -> 0.01804 | H30: =VLOOKUP($A30,CODIGOS!$B:$D,2,FALSE) -> 1287 | I30: =IF($H30="S/STOCK","",$J30/$I$2) -> 25.74 | J30: =IF(H30="S/STOCK","",IF($E30="",$D30*$H30,$E30*$H30)) -> 5148 | K30: =VLOOKUP($B30,CODIGOS!$A:$K,8,0)*$G30*1000 -> 15.5144 | L30: =VLOOKUP($B30,CODIGOS!$A:$K,9,0)*$G30*1000 -> 0.16236 | M30: =VLOOKUP($B30,CODIGOS!$A:$K,10,0)*$G30*1000 -> 0.0902 | N30: =VLOOKUP($B30,CODIGOS!$A:$K,11,0)*$G30*1000 -> 1.46124
A31: CONCENTRADO TOMATES KG | B31: =VLOOKUP($A31,NSN!$A:$B,2,FALSE) -> C903242 | C31: =VLOOKUP($A31,CODIGOS!$B:$E,4,FALSE) -> KG | D31: =($F31*$I$2)/1000 -> 2 | E31: =IF(VLOOKUP($B31,CODIGOS!$A:$F,6,0)<>1000,(($F31*$I$2)/VLOOKUP($B31,CODIGOS!$A:$F,6,0)),"") | F31: 10 | G31: =(F31/1000)*VLOOKUP($B31,CODIGOS!$A:$G,7,0) -> 0.01 | H31: =VLOOKUP($A31,CODIGOS!$B:$D,2,FALSE) -> 2690 | I31: =IF($H31="S/STOCK","",$J31/$I$2) -> 26.9 | J31: =IF(H31="S/STOCK","",IF($E31="",$D31*$H31,$E31*$H31)) -> 5380 | K31: =VLOOKUP($B31,CODIGOS!$A:$K,8,0)*$G31*1000 -> 8.2 | L31: =VLOOKUP($B31,CODIGOS!$A:$K,9,0)*$G31*1000 -> 0.27 | M31: =VLOOKUP($B31,CODIGOS!$A:$K,10,0)*$G31*1000 -> 0.1 | N31: =VLOOKUP($B31,CODIGOS!$A:$K,11,0)*$G31*1000 -> 1.55
... A39: MANZANA NATURAL | B39: =VLOOKUP($A39,NSN!$A:$B,2,FALSE) -> V000193 | C39: =VLOOKUP($A39,CODIGOS!$B:$E,4,FALSE) -> KG | D39: =($F39*$I$2)/1000 -> 24 | E39: =IF(VLOOKUP($B39,CODIGOS!$A:$F,6,0)<>1000,(($F39*$I$2)/VLOOKUP($B39,CODIGOS!$A:$F,6,0)),"") | F39: 120 | G39: =(F39/1000)*VLOOKUP($B39,CODIGOS!$A:$G,7,0) -> 0.10272 | H39: =VLOOKUP($A39,CODIGOS!$B:$D,2,FALSE) -> 1634 | I39: =IF($H39="S/STOCK","",$J39/$I$2) -> 196.08 | J39: =IF(H39="S/STOCK","",IF($E39="",$D39*$H39,$E39*$H39)) -> 39216 | K39: =VLOOKUP($B39,CODIGOS!$A:$K,8,0)*$G39*1000 -> 57.5232 | L39: =VLOOKUP($B39,CODIGOS!$A:$K,9,0)*$G39*1000 -> 0.30816 | M39: =VLOOKUP($B39,CODIGOS!$A:$K,10,0)*$G39*1000 -> 0.30816 | N39: =VLOOKUP($B39,CODIGOS!$A:$K,11,0)*$G39*1000 -> 14.8944
I40: =SUM(I20:I39) -> 1209.7929 | J40: =SUM(J20:J39) -> 241958.58 | K40: =SUM(K20:K39) -> 983.92192 | L40: =SUM(L20:L39) -> 28.705783 | M40: =SUM(M20:M39) -> 46.823851 | N40: =SUM(N20:N39) -> 114.72808
A41: CENA
A42: REFRESCO FRAMBUESA | B42: =VLOOKUP($A42,NSN!$A:$B,2,FALSE) -> C902857 | C42: =VLOOKUP($A42,CODIGOS!$B:$E,4,FALSE) -> KG | D42: =($F42*$I$3)/1000 -> 0.48 | E42: =IF(VLOOKUP($B42,CODIGOS!$A:$F,6,0)<>1000,(($F42*$I$3)/VLOOKUP($B42,CODIGOS!$A:$F,6,0)),"") | F42: 6 | G42: =(F42/1000)*VLOOKUP($B42,CODIGOS!$A:$G,7,0) -> 0.006 | H42: =VLOOKUP($A42,CODIGOS!$B:$D,2,FALSE) -> 2941 | I42: =IF($H42="S/STOCK","",$J42/$I$3) -> 17.646 | J42: =IF(H42="S/STOCK","",IF($E42="",$D42*$H42,$E42*$H42)) -> 1411.68 | K42: =VLOOKUP($B42,CODIGOS!$A:$K,8,0)*$G42*1000 -> 21.54 | L42: =VLOOKUP($B42,CODIGOS!$A:$K,9,0)*$G42*1000 -> 0 | M42: =VLOOKUP($B42,CODIGOS!$A:$K,10,0)*$G42*1000 -> 0 | N42: =VLOOKUP($B42,CODIGOS!$A:$K,11,0)*$G42*1000 -> 5.376
A43: PAN | B43: =VLOOKUP($A43,NSN!$A:$B,2,FALSE) -> V000415 | C43: =VLOOKUP($A43,CODIGOS!$B:$E,4,FALSE) -> KG | D43: =($F43*$I$3)/1000 -> 4 | E43: =IF(VLOOKUP($B43,CODIGOS!$A:$F,6,0)<>1000,(($F43*$I$3)/VLOOKUP($B43,CODIGOS!$A:$F,6,0)),"") | F43: 50 | G43: =(F43/1000)*VLOOKUP($B43,CODIGOS!$A:$G,7,0) -> 0.05 | H43: =VLOOKUP($A43,CODIGOS!$B:$D,2,FALSE) -> 1783 | I43: =IF($H43="S/STOCK","",$J43/$I$3) -> 89.15 | J43: =IF(H43="S/STOCK","",IF($E43="",$D43*$H43,$E43*$H43)) -> 7132 | K43: =VLOOKUP($B43,CODIGOS!$A:$K,8,0)*$G43*1000 -> 157.5 | L43: =VLOOKUP($B43,CODIGOS!$A:$K,9,0)*$G43*1000 -> 4.1 | M43: =VLOOKUP($B43,CODIGOS!$A:$K,10,0)*$G43*1000 -> 2 | N43: =VLOOKUP($B43,CODIGOS!$A:$K,11,0)*$G43*1000 -> 30.8
A44: CREMA ZAPALLO | B44: =VLOOKUP($A44,NSN!$A:$B,2,FALSE) -> C903543 | C44: =VLOOKUP($A44,CODIGOS!$B:$E,4,FALSE) -> KG | D44: =($F44*$I$3)/1000 -> 1 | E44: =IF(VLOOKUP($B44,CODIGOS!$A:$F,6,0)<>1000,(($F44*$I$3)/VLOOKUP($B44,CODIGOS!$A:$F,6,0)),"") | F44: 12.5 | G44: =(F44/1000)*VLOOKUP($B44,CODIGOS!$A:$G,7,0) -> 0.0125 | H44: =VLOOKUP($A44,CODIGOS!$B:$D,2,FALSE) -> 3572 | I44: =IF($H44="S/STOCK","",$J44/$I$3) -> 44.65 | J44: =IF(H44="S/STOCK","",IF($E44="",$D44*$H44,$E44*$H44)) -> 3572 | K44: =VLOOKUP($B44,CODIGOS!$A:$K,8,0)*$G44*1000 -> 39.125 | L44: =VLOOKUP($B44,CODIGOS!$A:$K,9,0)*$G44*1000 -> 0.8375 | M44: =VLOOKUP($B44,CODIGOS!$A:$K,10,0)*$G44*1000 -> 0.3125 | N44: =VLOOKUP($B44,CODIGOS!$A:$K,11,0)*$G44*1000 -> 8.25
A45: CERDO MEDALLÓN | B45: =VLOOKUP($A45,NSN!$A:$B,2,FALSE) -> C903468 | C45: =VLOOKUP($A45,CODIGOS!$B:$E,4,FALSE) -> KG | D45: =($F45*$I$3)/1000 -> 13.6 | E45: =IF(VLOOKUP($B45,CODIGOS!$A:$F,6,0)<>1000,(($F45*$I$3)/VLOOKUP($B45,CODIGOS!$A:$F,6,0)),"") | F45: 170 | G45: =(F45/1000)*VLOOKUP($B45,CODIGOS!$A:$G,7,0) -> 0.13549 | H45: =VLOOKUP($A45,CODIGOS!$B:$D,2,FALSE) -> 4100 | I45: =IF($H45="S/STOCK","",$J45/$I$3) -> 697 | J45: =IF(H45="S/STOCK","",IF($E45="",$D45*$H45,$E45*$H45)) -> 55760 | K45: =VLOOKUP($B45,CODIGOS!$A:$K,8,0)*$G45*1000 -> 178.8468 | L45: =VLOOKUP($B45,CODIGOS!$A:$K,9,0)*$G45*1000 -> 28.72388 | M45: =VLOOKUP($B45,CODIGOS!$A:$K,10,0)*$G45*1000 -> 5.96156 | N45: =VLOOKUP($B45,CODIGOS!$A:$K,11,0)*$G45*1000 -> 2.43882
A46: CEBOLLAS FRESCAS | B46: =VLOOKUP($A46,NSN!$A:$B,2,FALSE) -> C000249 | C46: =VLOOKUP($A46,CODIGOS!$B:$E,4,FALSE) -> KG | D46: =($F46*$I$3)/1000 -> 2.4 | E46: =IF(VLOOKUP($B46,CODIGOS!$A:$F,6,0)<>1000,(($F46*$I$3)/VLOOKUP($B46,CODIGOS!$A:$F,6,0)),"") | F46: 30 | G46: =(F46/1000)*VLOOKUP($B46,CODIGOS!$A:$G,7,0) -> 0.02673 | H46: =VLOOKUP($A46,CODIGOS!$B:$D,2,FALSE) -> 640 | I46: =IF($H46="S/STOCK","",$J46/$I$3) -> 19.2 | J46: =IF(H46="S/STOCK","",IF($E46="",$D46*$H46,$E46*$H46)) -> 1536 | K46: =VLOOKUP($B46,CODIGOS!$A:$K,8,0)*$G46*1000 -> 11.4939 | L46: =VLOOKUP($B46,CODIGOS!$A:$K,9,0)*$G46*1000 -> 0.21384 | M46: =VLOOKUP($B46,CODIGOS!$A:$K,10,0)*$G46*1000 -> 0.05346 | N46: =VLOOKUP($B46,CODIGOS!$A:$K,11,0)*$G46*1000 -> 2.56608
A47: ZANAHORIA | B47: =VLOOKUP($A47,NSN!$A:$B,2,FALSE) -> V000330 | C47: =VLOOKUP($A47,CODIGOS!$B:$E,4,FALSE) -> KG | D47: =($F47*$I$3)/1000 -> 1.6 | E47: =IF(VLOOKUP($B47,CODIGOS!$A:$F,6,0)<>1000,(($F47*$I$3)/VLOOKUP($B47,CODIGOS!$A:$F,6,0)),"") | F47: 20 | G47: =(F47/1000)*VLOOKUP($B47,CODIGOS!$A:$G,7,0) -> 0.01804 | H47: =VLOOKUP($A47,CODIGOS!$B:$D,2,FALSE) -> 1287 | I47: =IF($H47="S/STOCK","",$J47/$I$3) -> 25.74 | J47: =IF(H47="S/STOCK","",IF($E47="",$D47*$H47,$E47*$H47)) -> 2059.2 | K47: =VLOOKUP($B47,CODIGOS!$A:$K,8,0)*$G47*1000 -> 15.5144 | L47: =VLOOKUP($B47,CODIGOS!$A:$K,9,0)*$G47*1000 -> 0.16236 | M47: =VLOOKUP($B47,CODIGOS!$A:$K,10,0)*$G47*1000 -> 0.0902 | N47: =VLOOKUP($B47,CODIGOS!$A:$K,11,0)*$G47*1000 -> 1.46124
A48: OREGANO | B48: =VLOOKUP($A48,NSN!$A:$B,2,FALSE) -> V000214 | C48: =VLOOKUP($A48,CODIGOS!$B:$E,4,FALSE) -> KG | D48: =($F48*$I$3)/1000 -> 0.04 | E48: =IF(VLOOKUP($B48,CODIGOS!$A:$F,6,0)<>1000,(($F48*$I$3)/VLOOKUP($B48,CODIGOS!$A:$F,6,0)),"") | F48: 0.5 | G48: =(F48/1000)*VLOOKUP($B48,CODIGOS!$A:$G,7,0) -> 0.0005 | H48: =VLOOKUP($A48,CODIGOS!$B:$D,2,FALSE) -> 7058 | I48: =IF($H48="S/STOCK","",$J48/$I$3) -> 3.529 | J48: =IF(H48="S/STOCK","",IF($E48="",$D48*$H48,$E48*$H48)) -> 282.32 | K48: =VLOOKUP($B48,CODIGOS!$A:$K,8,0)*$G48*1000 -> 0.41 | L48: =VLOOKUP($B48,CODIGOS!$A:$K,9,0)*$G48*1000 -> 0.0055 | M48: =VLOOKUP($B48,CODIGOS!$A:$K,10,0)*$G48*1000 -> 0.0195 | N48: =VLOOKUP($B48,CODIGOS!$A:$K,11,0)*$G48*1000 -> 0.0535
A49: TOMATES NATURAL | B49: =VLOOKUP($A49,NSN!$A:$B,2,FALSE) -> V000317 | C49: =VLOOKUP($A49,CODIGOS!$B:$E,4,FALSE) -> KG | D49: =($F49*$I$3)/1000 -> 2.4 | E49: =IF(VLOOKUP($B49,CODIGOS!$A:$F,6,0)<>1000,(($F49*$I$3)/VLOOKUP($B49,CODIGOS!$A:$F,6,0)),"") | F49: 30 | G49: =(F49/1000)*VLOOKUP($B49,CODIGOS!$A:$G,7,0) -> 0.02835 | H49: =VLOOKUP($A49,CODIGOS!$B:$D,2,FALSE) -> 1669 | I49: =IF($H49="S/STOCK","",$J49/$I$3) -> 50.07 | J49: =IF(H49="S/STOCK","",IF($E49="",$D49*$H49,$E49*$H49)) -> 4005.6 | K49: =VLOOKUP($B49,CODIGOS!$A:$K,8,0)*$G49*1000 -> 5.67 | L49: =VLOOKUP($B49,CODIGOS!$A:$K,9,0)*$G49*1000 -> 0.2268 | M49: =VLOOKUP($B49,CODIGOS!$A:$K,10,0)*$G49*1000 -> 0.1134 | N49: =VLOOKUP($B49,CODIGOS!$A:$K,11,0)*$G49*1000 -> 0.9072
A50: CONCENTRADO TOMATES KG | B50: =VLOOKUP($A50,NSN!$A:$B,2,FALSE) -> C903242 | C50: =VLOOKUP($A50,CODIGOS!$B:$E,4,FALSE) -> KG | D50: =($F50*$I$3)/1000 -> 1.6 | E50: =IF(VLOOKUP($B50,CODIGOS!$A:$F,6,0)<>1000,(($F50*$I$3)/VLOOKUP($B50,CODIGOS!$A:$F,6,0)),"") | F50: 20 | G50: =(F50/1000)*VLOOKUP($B50,CODIGOS!$A:$G,7,0) -> 0.02 | H50: =VLOOKUP($A50,CODIGOS!$B:$D,2,FALSE) -> 2690 | I50: =IF($H50="S/STOCK","",$J50/$I$3) -> 53.8 | J50: =IF(H50="S/STOCK","",IF($E50="",$D50*$H50,$E50*$H50)) -> 4304 | K50: =VLOOKUP($B50,CODIGOS!$A:$K,8,0)*$G50*1000 -> 16.4 | L50: =VLOOKUP($B50,CODIGOS!$A:$K,9,0)*$G50*1000 -> 0.54 | M50: =VLOOKUP($B50,CODIGOS!$A:$K,10,0)*$G50*1000 -> 0.2 | N50: =VLOOKUP($B50,CODIGOS!$A:$K,11,0)*$G50*1000 -> 3.1
A51: ACEITE 900 ML | B51: =VLOOKUP($A51,NSN!$A:$B,2,FALSE) -> C902636 | C51: =VLOOKUP($A51,CODIGOS!$B:$E,4,FALSE) -> 900 ML | D51: =($F51*$I$3)/1000 -> 0.4 | E51: =IF(VLOOKUP($B51,CODIGOS!$A:$F,6,0)<>1000,(($F51*$I$3)/VLOOKUP($B51,CODIGOS!$A:$F,6,0)),"") -> 0.44444444 | F51: 5 | G51: =(F51/1000)*VLOOKUP($B51,CODIGOS!$A:$G,7,0) -> 0.005 | H51: =VLOOKUP($A51,CODIGOS!$B:$D,2,FALSE) -> 1500 | I51: =IF($H51="S/STOCK","",$J51/$I$3) -> 8.3333333 | J51: =IF(H51="S/STOCK","",IF($E51="",$D51*$H51,$E51*$H51)) -> 666.66667 | K51: =VLOOKUP($B51,CODIGOS!$A:$K,8,0)*$G51*1000 -> 44.2 | L51: =VLOOKUP($B51,CODIGOS!$A:$K,9,0)*$G51*1000 -> 0 | M51: =VLOOKUP($B51,CODIGOS!$A:$K,10,0)*$G51*1000 -> 5 | N51: =VLOOKUP($B51,CODIGOS!$A:$K,11,0)*$G51*1000 -> 0
A52: SAL | B52: =VLOOKUP($A52,NSN!$A:$B,2,FALSE) -> C000528 | C52: =VLOOKUP($A52,CODIGOS!$B:$E,4,FALSE) -> KG | D52: =($F52*$I$3)/1000 -> 0.04 | E52: =IF(VLOOKUP($B52,CODIGOS!$A:$F,6,0)<>1000,(($F52*$I$3)/VLOOKUP($B52,CODIGOS!$A:$F,6,0)),"") | F52: 0.5 | G52: =(F52/1000)*VLOOKUP($B52,CODIGOS!$A:$G,7,0) -> 0.0005 | H52: =VLOOKUP($A52,CODIGOS!$B:$D,2,FALSE) -> 375 | I52: =IF($H52="S/STOCK","",$J52/$I$3) -> 0.1875 | J52: =IF(H52="S/STOCK","",IF($E52="",$D52*$H52,$E52*$H52)) -> 15 | K52: =VLOOKUP($B52,CODIGOS!$A:$K,8,0)*$G52*1000 -> 0 | L52: =VLOOKUP($B52,CODIGOS!$A:$K,9,0)*$G52*1000 -> 0 | M52: =VLOOKUP($B52,CODIGOS!$A:$K,10,0)*$G52*1000 -> 0 | N52: =VLOOKUP($B52,CODIGOS!$A:$K,11,0)*$G52*1000 -> 0
A53: FIDEOS ESPIRALES | B53: =VLOOKUP($A53,NSN!$A:$B,2,FALSE) -> C006637 | C53: =VLOOKUP($A53,CODIGOS!$B:$E,4,FALSE) -> KG | D53: =($F53*$I$3)/1000 -> 6.4 | E53: =IF(VLOOKUP($B53,CODIGOS!$A:$F,6,0)<>1000,(($F53*$I$3)/VLOOKUP($B53,CODIGOS!$A:$F,6,0)),"") | F53: 80 | G53: =(F53/1000)*VLOOKUP($B53,CODIGOS!$A:$G,7,0) -> 0.08 | H53: =VLOOKUP($A53,CODIGOS!$B:$D,2,FALSE) -> 1383 | I53: =IF($H53="S/STOCK","",$J53/$I$3) -> 110.64 | J53: =IF(H53="S/STOCK","",IF($E53="",$D53*$H53,$E53*$H53)) -> 8851.2 | K53: =VLOOKUP($B53,CODIGOS!$A:$K,8,0)*$G53*1000 -> 281.6 | L53: =VLOOKUP($B53,CODIGOS!$A:$K,9,0)*$G53*1000 -> 8.88 | M53: =VLOOKUP($B53,CODIGOS!$A:$K,10,0)*$G53*1000 -> 0.32 | N53: =VLOOKUP($B53,CODIGOS!$A:$K,11,0)*$G53*1000 -> 61.28
... A58: POSTRE GELATINA EN POLVO FRAMBUESA | B58: =VLOOKUP($A58,NSN!$A:$B,2,FALSE) -> C902854 | C58: =VLOOKUP($A58,CODIGOS!$B:$E,4,FALSE) -> KG | D58: =($F58*$I$3)/1000 -> 1.12 | E58: =IF(VLOOKUP($B58,CODIGOS!$A:$F,6,0)<>1000,(($F58*$I$3)/VLOOKUP($B58,CODIGOS!$A:$F,6,0)),"") | F58: 14 | G58: =(F58/1000)*VLOOKUP($B58,CODIGOS!$A:$G,7,0) -> 0.014 | H58: =VLOOKUP($A58,CODIGOS!$B:$D,2,FALSE) -> 4054 | I58: =IF($H58="S/STOCK","",$J58/$I$3) -> 56.756 | J58: =IF(H58="S/STOCK","",IF($E58="",$D58*$H58,$E58*$H58)) -> 4540.48 | K58: =VLOOKUP($B58,CODIGOS!$A:$K,8,0)*$G58*1000 -> 50.96 | L58: =VLOOKUP($B58,CODIGOS!$A:$K,9,0)*$G58*1000 -> 2.884 | M58: =VLOOKUP($B58,CODIGOS!$A:$K,10,0)*$G58*1000 -> 0.168 | N58: =VLOOKUP($B58,CODIGOS!$A:$K,11,0)*$G58*1000 -> 9.716
I59: =SUM(I42:I58) -> 1267.6102 | J59: =SUM(J42:J58) -> 101408.81 | K59: =SUM(K42:K58) -> 903.79508 | L59: =SUM(L42:L58) -> 50.652294 | M59: =SUM(M42:M58) -> 19.26967 | N59: =SUM(N42:N58) -> 130.88093
J60: MACRONUTRIENTES | K60: =K18+K40+K59 -> 2326.242 | L60: =L18+L40+L59 -> 95.817077 | M60: =M18+M40+M59 -> 70.164521 | N60: =N18+N40+N59 -> 328.75701
A62: DESCRIPCION | B62: CÓDIGO | C62: U/E | D62: CANTIDAD TOTAL KG | E62: SEGÚN FORMATO | F62: GRS P/P | G62: CANTIDAD (KG) P/P | H62: V.UNITARIO | I62: V. P/P | J62: V.TOTAL | K62: CALORÍAS | L62: PROTEÍNAS | M62: LÍPIDOS | N62: CHO
A63: CONFECCIÓN PAN
A64: HARINA FLOR | B64: =VLOOKUP($A64,NSN!$A:$B,2,FALSE) -> C000367 | C64: =VLOOKUP($A64,CODIGOS!$B:$E,4,FALSE) -> KG | D64: =($F64*$I$3)/1000 -> 11.4288 | E64: =IF(VLOOKUP($B64,CODIGOS!$A:$F,6,0)<>1000,(($F64*$I$3)/VLOOKUP($B64,CODIGOS!$A:$F,6,0)),"") | F64: 142.86 | G64: =(F64/1000)*VLOOKUP($B64,CODIGOS!$A:$G,7,0) -> 0.14286 | H64: =VLOOKUP($A64,CODIGOS!$B:$D,2,FALSE) -> 794 | I64: =IF($H64="S/STOCK","",$J64/$I$3) -> 113.43084 | J64: =IF(H64="S/STOCK","",IF($E64="",$D64*$H64,$E64*$H64)) -> 9074.4672 | K64: =VLOOKUP($B64,CODIGOS!$A:$K,8,0)*$G64*1000 -> 497.1528 | L64: =VLOOKUP($B64,CODIGOS!$A:$K,9,0)*$G64*1000 -> 11.4288 | M64: =VLOOKUP($B64,CODIGOS!$A:$K,10,0)*$G64*1000 -> 1.71432 | N64: =VLOOKUP($B64,CODIGOS!$A:$K,11,0)*$G64*1000 -> 109.14504
A65: AZUCAR BLANCA REFINADA | B65: =VLOOKUP($A65,NSN!$A:$B,2,FALSE) -> C000816 | C65: =VLOOKUP($A65,CODIGOS!$B:$E,4,FALSE) -> KG | D65: =($F65*$I$3)/1000 -> 0.1144 | E65: =IF(VLOOKUP($B65,CODIGOS!$A:$F,6,0)<>1000,(($F65*$I$3)/VLOOKUP($B65,CODIGOS!$A:$F,6,0)),"") | F65: 1.43 | G65: =(F65/1000)*VLOOKUP($B65,CODIGOS!$A:$G,7,0) -> 0.00143 | H65: =VLOOKUP($A65,CODIGOS!$B:$D,2,FALSE) -> 1128 | I65: =IF($H65="S/STOCK","",$J65/$I$3) -> 1.61304 | J65: =IF(H65="S/STOCK","",IF($E65="",$D65*$H65,$E65*$H65)) -> 129.0432 | K65: =VLOOKUP($B65,CODIGOS!$A:$K,8,0)*$G65*1000 -> 5.6914 | L65: =VLOOKUP($B65,CODIGOS!$A:$K,9,0)*$G65*1000 -> 0 | M65: =VLOOKUP($B65,CODIGOS!$A:$K,10,0)*$G65*1000 -> 0 | N65: =VLOOKUP($B65,CODIGOS!$A:$K,11,0)*$G65*1000 -> 1.42285
A66: MANTECA KG | B66: =VLOOKUP($A66,NSN!$A:$B,2,FALSE) -> V000518 | C66: =VLOOKUP($A66,CODIGOS!$B:$E,4,FALSE) -> EA | D66: =($F66*$I$3)/1000 -> 0.6856 | E66: =IF(VLOOKUP($B66,CODIGOS!$A:$F,6,0)<>1000,(($F66*$I$3)/VLOOKUP($B66,CODIGOS!$A:$F,6,0)),"") | F66: 8.57 | G66: =(F66/1000)*VLOOKUP($B66,CODIGOS!$A:$G,7,0) -> 0.00857 | H66: =VLOOKUP($A66,CODIGOS!$B:$D,2,FALSE) -> 3203 | I66: =IF($H66="S/STOCK","",$J66/$I$3) -> 27.44971 | J66: =IF(H66="S/STOCK","",IF($E66="",$D66*$H66,$E66*$H66)) -> 2195.9768 | K66: =VLOOKUP($B66,CODIGOS!$A:$K,8,0)*$G66*1000 -> 76.8729 | L66: =VLOOKUP($B66,CODIGOS!$A:$K,9,0)*$G66*1000 -> 0 | M66: =VLOOKUP($B66,CODIGOS!$A:$K,10,0)*$G66*1000 -> 8.54429 | N66: =VLOOKUP($B66,CODIGOS!$A:$K,11,0)*$G66*1000 -> 0
A67: LEVADURA INSTANTANEA | B67: =VLOOKUP($A67,NSN!$A:$B,2,FALSE) -> V000174 | C67: =VLOOKUP($A67,CODIGOS!$B:$E,4,FALSE) -> KG | D67: =($F67*$I$3)/1000 -> 0.1144 | E67: =IF(VLOOKUP($B67,CODIGOS!$A:$F,6,0)<>1000,(($F67*$I$3)/VLOOKUP($B67,CODIGOS!$A:$F,6,0)),"") | F67: 1.43 | G67: =(F67/1000)*VLOOKUP($B67,CODIGOS!$A:$G,7,0) -> 0.00143 | H67: =VLOOKUP($A67,CODIGOS!$B:$D,2,FALSE) -> 8887 | I67: =IF($H67="S/STOCK","",$J67/$I$3) -> 12.70841 | J67: =IF(H67="S/STOCK","",IF($E67="",$D67*$H67,$E67*$H67)) -> 1016.6728 | K67: =VLOOKUP($B67,CODIGOS!$A:$K,8,0)*$G67*1000 -> 6.149 | L67: =VLOOKUP($B67,CODIGOS!$A:$K,9,0)*$G67*1000 -> 0.6721 | M67: =VLOOKUP($B67,CODIGOS!$A:$K,10,0)*$G67*1000 -> 0.1001 | N67: =VLOOKUP($B67,CODIGOS!$A:$K,11,0)*$G67*1000 -> 0.5148
A68: SAL | B68: =VLOOKUP($A68,NSN!$A:$B,2,FALSE) -> C000528 | C68: =VLOOKUP($A68,CODIGOS!$B:$E,4,FALSE) -> KG | D68: =($F68*$I$3)/1000 -> 0.16 | E68: =IF(VLOOKUP($B68,CODIGOS!$A:$F,6,0)<>1000,(($F68*$I$3)/VLOOKUP($B68,CODIGOS!$A:$F,6,0)),"") | F68: 2 | G68: =(F68/1000)*VLOOKUP($B68,CODIGOS!$A:$G,7,0) -> 0.002 | H68: =VLOOKUP($A68,CODIGOS!$B:$D,2,FALSE) -> 375 | I68: =IF($H68="S/STOCK","",$J68/$I$3) -> 0.75 | J68: =IF(H68="S/STOCK","",IF($E68="",$D68*$H68,$E68*$H68)) -> 60 | K68: =VLOOKUP($B68,CODIGOS!$A:$K,8,0)*$G68*1000 -> 0 | L68: =VLOOKUP($B68,CODIGOS!$A:$K,9,0)*$G68*1000 -> 0 | M68: =VLOOKUP($B68,CODIGOS!$A:$K,10,0)*$G68*1000 -> 0 | N68: =VLOOKUP($B68,CODIGOS!$A:$K,11,0)*$G68*1000 -> 0
I69: =SUM(I64:I68) -> 155.952 | J69: =SUM(J64:J68) -> 12476.16 | K69: =SUM(K64:K68) -> 585.8661 | L69: =SUM(L64:L68) -> 12.1009 | M69: =SUM(M64:M68) -> 10.35871 | N69: =SUM(N64:N68) -> 111.08269

Sheet MARTES
A1: MARTES
A2: DESAYUNO | B2: ='MENU COMÚN'!B6 -> LECHE-TÉ- CAFÉ | D2: ='MENU COMÚN'!B7 -> PAN (100 GR) C/PASTA POLLO | G2: RACIÓN ALMUERZO (INGRESAR CANTIDAD RACIONES DE ALMUERZO) | I2: =LUNES!$I$2 -> 200
A3: ALMUERZO | B3: ='MENU COMÚN'!B9 -> ENS.TOMATE/PEPINO | G3: RACIÓN COMPLETA | I3: =LUNES!$I$3 -> 80
B4: ='MENU COMÚN'!B13 -> 1° SEMANA:POROTOS CON RIENDAS 2° SEMANA: LENTEJAS PARMESANAS 3° SEMANA: MENESTRÓN O POROTOS NEGROS GUISADOS 4° SEMANA: GARBANZOS GUISADOS
B5: ='MENU COMÚN'!B14 -> FLAN DE VAINILLA
Q6: % AUMENTO
A7: CENA | B7: ='MENU COMÚN'!B17 -> ENS.LECHUGA/BETARRAGA | Q7: 0 | R7: VALOR REAL | S7: VALOR TEORICO | T7: CANTIDADES | U7: TOTAL REAL | V7: TOTAL TEORICO | W7: SUPERAVIT O DEFICIT | X7: % SUP O DEF
B8: ='MENU COMÚN'!B21 -> CARBONADA DE VACUNO | P8: =LUNES!P8 -> 2065 | Q8: RACIÓN ALMUERZO (85%) | R8: =I38 -> 742.53142 | S8: =+$P$8+($P$8*$Q$7) -> 2065 | T8: =+$I$2-$I$3 -> 120 | U8: =$R$8*$T$8 -> 89103.77 | V8: =$S$8*$T$8 -> 247800 | W8: =$V$8-$U$8 -> 158696.23 | X8: =$W$8/$V$8 -> 0.64042062
B9: ='MENU COMÚN'!B22 -> JALEA NARANJA | P9: 2429 | Q9: RACIÓN COMPLETA | R9: =I20+I38+I58 -> 3075.3319 | S9: =+$P$9+($P$9*$Q$7) -> 2429 | T9: =+$I$3 -> 80 | U9: =$R$9*$T$9 -> 246026.55 | V9: =$S$9*$T$9 -> 194320 | W9: =$V$9-$U$9 -> -51706.548 | X9: =$W$9/$V$9 -> -0.26608969
A10: DESCRIPCION | B10: CÓDIGO | C10: U/E | D10: CANTIDAD TOTAL KG | F10: GRS P/P | G10: CANTIDAD (KG) P/P | H10: V.UNITARIO | I10: V. P/P | J10: V.TOTAL | K10: CALORÍAS | L10: PROTEÍNAS | M10: LÍPIDOS | N10: CHO | Q10: TOTAL | U10: =SUM(U8:U9) -> 335130.32 | V10: =SUM(V8:V9) -> 442120 | W10: =V10-U10 -> 106989.68 | X10: =W10/V10 -> 0.2419924
A11: DESAYUNO
A12: LECHE EN POLVO 800 GRS. | B12: =VLOOKUP($A12,NSN!$A:$B,2,FALSE) -> C903335 | C12: =VLOOKUP($A12,CODIGOS!$B:$E,4,FALSE) -> 800 grs | D12: =($F12*$I$3)/1000 -> 1.6 | E12: =IF(VLOOKUP($B12,CODIGOS!$A:$F,6,0)<>1000,(($F12*$I$3)/VLOOKUP($B12,CODIGOS!$A:$F,6,0)),"") -> 2 | F12: 20 | G12: =(F12/1000)*VLOOKUP($B12,CODIGOS!$A:$G,7,0) -> 0.02 | H12: =VLOOKUP($A12,CODIGOS!$B:$D,2,FALSE) -> 4975 | I12: =IF($H12="S/STOCK","",$J12/$I$3) -> 124.375 | J12: =IF(H12="S/STOCK","",IF($E12="",$D12*$H12,$E12*$H12)) -> 9950 | K12: =VLOOKUP($B12,CODIGOS!$A:$K,8,0)*$G12*1000 -> 70.6 | L12: =VLOOKUP($B12,CODIGOS!$A:$K,9,0)*$G12*1000 -> 8.02 | M12: =VLOOKUP($B12,CODIGOS!$A:$K,10,0)*$G12*1000 -> 0.02 | N12: =VLOOKUP($B12,CODIGOS!$A:$K,11,0)*$G12*1000 -> 9.58
A13: TE | B13: =VLOOKUP($A13,NSN!$A:$B,2,FALSE) -> C000827 | C13: =VLOOKUP($A13,CODIGOS!$B:$E,4,FALSE) -> KG | D13: =($F13*$I$3)/1000 -> 0.12 | E13: =IF(VLOOKUP($B13,CODIGOS!$A:$F,6,0)<>1000,(($F13*$I$3)/VLOOKUP($B13,CODIGOS!$A:$F,6,0)),"") | F13: 1.5 | G13: =(F13/1000)*VLOOKUP($B13,CODIGOS!$A:$G,7,0) -> 0.0015 | H13: =VLOOKUP($A13,CODIGOS!$B:$D,2,FALSE) -> 7800 | I13: =IF($H13="S/STOCK","",$J13/$I$3) -> 11.7 | J13: =IF(H13="S/STOCK","",IF($E13="",$D13*$H13,$E13*$H13)) -> 936 | K13: =VLOOKUP($B13,CODIGOS!$A:$K,8,0)*$G13*1000 -> 0.015 | L13: =VLOOKUP($B13,CODIGOS!$A:$K,9,0)*$G13*1000 -> 0 | M13: =VLOOKUP($B13,CODIGOS!$A:$K,10,0)*$G13*1000 -> 0 | N13: =VLOOKUP($B13,CODIGOS!$A:$K,11,0)*$G13*1000 -> 0.003
A14: CAFÉ INSTANTANEO | B14: =VLOOKUP($A14,NSN!$A:$B,2,FALSE) -> C000523 | C14: =VLOOKUP($A14,CODIGOS!$B:$E,4,FALSE) -> TA 400 gr | D14: =($F14*$I$3)/1000 -> 0.08 | E14: =IF(VLOOKUP($B14,CODIGOS!$A:$F,6,0)<>1000,(($F14*$I$3)/VLOOKUP($B14,CODIGOS!$A:$F,6,0)),"") -> 0.2 | F14: 1 | G14: =(F14/1000)*VLOOKUP($B14,CODIGOS!$A:$G,7,0) -> 0.001 | H14: =VLOOKUP($A14,CODIGOS!$B:$D,2,FALSE) -> 9990 | I14: =IF($H14="S/STOCK","",$J14/$I$3) -> 24.975 | J14: =IF(H14="S/STOCK","",IF($E14="",$D14*$H14,$E14*$H14)) -> 1998 | K14: =VLOOKUP($B14,CODIGOS!$A:$K,8,0)*$G14*1000 -> 2.61 | L14: =VLOOKUP($B14,CODIGOS!$A:$K,9,0)*$G14*1000 -> 0.164 | M14: =VLOOKUP($B14,CODIGOS!$A:$K,10,0)*$G14*1000 -> 0.001 | N14: =VLOOKUP($B14,CODIGOS!$A:$K,11,0)*$G14*1000 -> 0.49
A15: AZUCAR BLANCA REFINADA | B15: =VLOOKUP($A15,NSN!$A:$B,2,FALSE) -> C000816 | C15: =VLOOKUP($A15,CODIGOS!$B:$E,4,FALSE) -> KG | D15: =($F15*$I$3)/1000 -> 0.8 | E15: =IF(VLOOKUP($B15,CODIGOS!$A:$F,6,0)<>1000,(($F15*$I$3)/VLOOKUP($B15,CODIGOS!$A:$F,6,0)),"") | F15: 10 | G15: =(F15/1000)*VLOOKUP($B15,CODIGOS!$A:$G,7,0) -> 0.01 | H15: =VLOOKUP($A15,CODIGOS!$B:$D,2,FALSE) -> 1128 | I15: =IF($H15="S/STOCK","",$J15/$I$3) -> 11.28 | J15: =IF(H15="S/STOCK","",IF($E15="",$D15*$H15,$E15*$H15)) -> 902.4 | K15: =VLOOKUP($B15,CODIGOS!$A:$K,8,0)*$G15*1000 -> 39.8 | L15: =VLOOKUP($B15,CODIGOS!$A:$K,9,0)*$G15*1000 -> 0 | M15: =VLOOKUP($B15,CODIGOS!$A:$K,10,0)*$G15*1000 -> 0 | N15: =VLOOKUP($B15,CODIGOS!$A:$K,11,0)*$G15*1000 -> 9.95
A16: POLLO FILETE | B16: =VLOOKUP($A16,NSN!$A:$B,2,FALSE) -> C903555 | C16: =VLOOKUP($A16,CODIGOS!$B:$E,4,FALSE) -> KG | D16: =($F16*$I$3)/1000 -> 4.8 | E16: =IF(VLOOKUP($B16,CODIGOS!$A:$F,6,0)<>1000,(($F16*$I$3)/VLOOKUP($B16,CODIGOS!$A:$F,6,0)),"") | F16: 60 | G16: =(F16/1000)*VLOOKUP($B16,CODIGOS!$A:$G,7,0) -> 0.04338 | H16: =VLOOKUP($A16,CODIGOS!$B:$D,2,FALSE) -> 4165 | I16: =IF($H16="S/STOCK","",$J16/$I$3) -> 249.9 | J16: =IF(H16="S/STOCK","",IF($E16="",$D16*$H16,$E16*$H16)) -> 19992 | K16: =VLOOKUP($B16,CODIGOS!$A:$K,8,0)*$G16*1000 -> 86.3262 | L16: =VLOOKUP($B16,CODIGOS!$A:$K,9,0)*$G16*1000 -> 9.71712 | M16: =VLOOKUP($B16,CODIGOS!$A:$K,10,0)*$G16*1000 -> 4.9887 | N16: =VLOOKUP($B16,CODIGOS!$A:$K,11,0)*$G16*1000 -> 0.6507
A17: MAYONESA KG | B17: =VLOOKUP($A17,NSN!$A:$B,2,FALSE) -> V000361 | C17: =VLOOKUP($A17,CODIGOS!$B:$E,4,FALSE) -> KG | D17: =($F17*$I$3)/1000 -> 0.8 | E17: =IF(VLOOKUP($B17,CODIGOS!$A:$F,6,0)<>1000,(($F17*$I$3)/VLOOKUP($B17,CODIGOS!$A:$F,6,0)),"") | F17: 10 | G17: =(F17/1000)*VLOOKUP($B17,CODIGOS!$A:$G,7,0) -> 0.01 | H17: =VLOOKUP($A17,CODIGOS!$B:$D,2,FALSE) -> 2397 | I17: =IF($H17="S/STOCK","",$J17/$I$3) -> 23.97 | J17: =IF(H17="S/STOCK","",IF($E17="",$D17*$H17,$E17*$H17)) -> 1917.6 | K17: =VLOOKUP($B17,CODIGOS!$A:$K,8,0)*$G17*1000 -> 62.6 | L17: =VLOOKUP($B17,CODIGOS!$A:$K,9,0)*$G17*1000 -> 0.13 | M17: =VLOOKUP($B17,CODIGOS!$A:$K,10,0)*$G17*1000 -> 6.48 | N17: =VLOOKUP($B17,CODIGOS!$A:$K,11,0)*$G17*1000 -> 0.95
A18: SAL | B18: =VLOOKUP($A18,NSN!$A:$B,2,FALSE) -> C000528 | C18: =VLOOKUP($A18,CODIGOS!$B:$E,4,FALSE) -> KG | D18: =($F18*$I$3)/1000 -> 0.04 | E18: =IF(VLOOKUP($B18,CODIGOS!$A:$F,6,0)<>1000,(($F18*$I$3)/VLOOKUP($B18,CODIGOS!$A:$F,6,0)),"") | F18: 0.5 | G18: =(F18/1000)*VLOOKUP($B18,CODIGOS!$A:$G,7,0) -> 0.0005 | H18: =VLOOKUP($A18,CODIGOS!$B:$D,2,FALSE) -> 375 | I18: =IF($H18="S/STOCK","",$J18/$I$3) -> 0.1875 | J18: =IF(H18="S/STOCK","",IF($E18="",$D18*$H18,$E18*$H18)) -> 15 | K18: =VLOOKUP($B18,CODIGOS!$A:$K,8,0)*$G18*1000 -> 0 | L18: =VLOOKUP($B18,CODIGOS!$A:$K,9,0)*$G18*1000 -> 0 | M18: =VLOOKUP($B18,CODIGOS!$A:$K,10,0)*$G18*1000 -> 0 | N18: =VLOOKUP($B18,CODIGOS!$A:$K,11,0)*$G18*1000 -> 0
A19: PAN | B19: =VLOOKUP($A19,NSN!$A:$B,2,FALSE) -> V000415 | C19: =VLOOKUP($A19,CODIGOS!$B:$E,4,FALSE) -> KG | D19: =($F19*$I$3)/1000 -> 8 | E19: =IF(VLOOKUP($B19,CODIGOS!$A:$F,6,0)<>1000,(($F19*$I$3)/VLOOKUP($B19,CODIGOS!$A:$F,6,0)),"") | F19: 100 | G19: =(F19/1000)*VLOOKUP($B19,CODIGOS!$A:$G,7,0) -> 0.1 | H19: =VLOOKUP($A19,CODIGOS!$B:$D,2,FALSE) -> 1783 | I19: =IF($H19="S/STOCK","",$J19/$I$3) -> 178.3 | J19: =IF(H19="S/STOCK","",IF($E19="",$D19*$H19,$E19*$H19)) -> 14264 | K19: =VLOOKUP($B19,CODIGOS!$A:$K,8,0)*$G19*1000 -> 315 | L19: =VLOOKUP($B19,CODIGOS!$A:$K,9,0)*$G19*1000 -> 8.2 | M19: =VLOOKUP($B19,CODIGOS!$A:$K,10,0)*$G19*1000 -> 4 | N19: =VLOOKUP($B19,CODIGOS!$A:$K,11,0)*$G19*1000 -> 61.6
I20: =SUM(I12:I19) -> 624.6875 | J20: =SUM(J12:J19) -> 49975 | K20: =SUM(K12:K19) -> 576.9512 | L20: =SUM(L12:L19) -> 26.23112 | M20: =SUM(M12:M19) -> 15.4897 | N20: =SUM(N12:N19) -> 83.2237
A21: ALMUERZO
A22: REFRESCO NARANJA | B22: =VLOOKUP($A22,NSN!$A:$B,2,FALSE) -> C902859 | C22: =VLOOKUP($A22,CODIGOS!$B:$E,4,FALSE) -> KG | D22: =($F22*$I$2)/1000 -> 1.2 | E22: =IF(VLOOKUP($B22,CODIGOS!$A:$F,6,0)<>1000,(($F22*$I$2)/VLOOKUP($B22,CODIGOS!$A:$F,6,0)),"") | F22: 6 | G22: =(F22/1000)*VLOOKUP($B22,CODIGOS!$A:$G,7,0) -> 0.006 | H22: =VLOOKUP($A22,CODIGOS!$B:$D,2,FALSE) -> 2986 | I22: =IF($H22="S/STOCK","",$J22/$I$2) -> 17.916 | J22: =IF(H22="S/STOCK","",IF($E22="",$D22*$H22,$E22*$H22)) -> 3583.2 | K22: =VLOOKUP($B22,CODIGOS!$A:$K,8,0)*$G22*1000 -> 21.54 | L22: =VLOOKUP($B22,CODIGOS!$A:$K,9,0)*$G22*1000 -> 0 | M22: =VLOOKUP($B22,CODIGOS!$A:$K,10,0)*$G22*1000 -> 0 | N22: =VLOOKUP($B22,CODIGOS!$A:$K,11,0)*$G22*1000 -> 5.376
A23: PAN | B23: =VLOOKUP($A23,NSN!$A:$B,2,FALSE) -> V000415 | C23: =VLOOKUP($A23,CODIGOS!$B:$E,4,FALSE) -> KG | D23: =($F23*$I$2)/1000 -> 10 | E23: =IF(VLOOKUP($B23,CODIGOS!$A:$F,6,0)<>1000,(($F23*$I$2)/VLOOKUP($B23,CODIGOS!$A:$F,6,0)),"") | F23: 50 | G23: =(F23/1000)*VLOOKUP($B23,CODIGOS!$A:$G,7,0) -> 0.05 | H23: =VLOOKUP($A23,CODIGOS!$B:$D,2,FALSE) -> 1783 | I23: =IF($H23="S/STOCK","",$J23/$I$2) -> 89.15 | J23: =IF(H23="S/STOCK","",IF($E23="",$D23*$H23,$E23*$H23)) -> 17830 | K23: =VLOOKUP($B23,CODIGOS!$A:$K,8,0)*$G23*1000 -> 157.5 | L23: =VLOOKUP($B23,CODIGOS!$A:$K,9,0)*$G23*1000 -> 4.1 | M23: =VLOOKUP($B23,CODIGOS!$A:$K,10,0)*$G23*1000 -> 2 | N23: =VLOOKUP($B23,CODIGOS!$A:$K,11,0)*$G23*1000 -> 30.8
A24: TOMATES NATURAL | B24: =VLOOKUP($A24,NSN!$A:$B,2,FALSE) -> V000317 | C24: =VLOOKUP($A24,CODIGOS!$B:$E,4,FALSE) -> KG | D24: =($F24*$I$2)/1000 -> 8 | E24: =IF(VLOOKUP($B24,CODIGOS!$A:$F,6,0)<>1000,(($F24*$I$2)/VLOOKUP($B24,CODIGOS!$A:$F,6,0)),"") | F24: 40 | G24: =(F24/1000)*VLOOKUP($B24,CODIGOS!$A:$G,7,0) -> 0.0378 | H24: =VLOOKUP($A24,CODIGOS!$B:$D,2,FALSE) -> 1669 | I24: =IF($H24="S/STOCK","",$J24/$I$2) -> 66.76 | J24: =IF(H24="S/STOCK","",IF($E24="",$D24*$H24,$E24*$H24)) -> 13352 | K24: =VLOOKUP($B24,CODIGOS!$A:$K,8,0)*$G24*1000 -> 7.56 | L24: =VLOOKUP($B24,CODIGOS!$A:$K,9,0)*$G24*1000 -> 0.3024 | M24: =VLOOKUP($B24,CODIGOS!$A:$K,10,0)*$G24*1000 -> 0.1512 | N24: =VLOOKUP($B24,CODIGOS!$A:$K,11,0)*$G24*1000 -> 1.2096
A25: PEPINOS DE ENSALADA | B25: =VLOOKUP($A25,NSN!$A:$B,2,FALSE) -> V000229 | C25: =VLOOKUP($A25,CODIGOS!$B:$E,4,FALSE) -> NR 400 gr | D25: =($F25*$I$2)/1000 -> 8 | E25: =IF(VLOOKUP($B25,CODIGOS!$A:$F,6,0)<>1000,(($F25*$I$2)/VLOOKUP($B25,CODIGOS!$A:$F,6,0)),"") -> 20 | F25: 40 | G25: =(F25/1000)*VLOOKUP($B25,CODIGOS!$A:$G,7,0) -> 0.03868 | H25: =VLOOKUP($A25,CODIGOS!$B:$D,2,FALSE) -> 736 | I25: =IF($H25="S/STOCK","",$J25/$I$2) -> 73.6 | J25: =IF(H25="S/STOCK","",IF($E25="",$D25*$H25,$E25*$H25)) -> 14720 | K25: =VLOOKUP($B25,CODIGOS!$A:$K,8,0)*$G25*1000 -> 5.0284 | L25: =VLOOKUP($B25,CODIGOS!$A:$K,9,0)*$G25*1000 -> 0.30944 | M25: =VLOOKUP($B25,CODIGOS!$A:$K,10,0)*$G25*1000 -> 0.07736 | N25: =VLOOKUP($B25,CODIGOS!$A:$K,11,0)*$G25*1000 -> 0.81228
A26: ACEITE 900 ML | B26: =VLOOKUP($A26,NSN!$A:$B,2,FALSE) -> C902636 | C26: =VLOOKUP($A26,CODIGOS!$B:$E,4,FALSE) -> 900 ML | D26: =($F26*$I$2)/1000 -> 1 | E26: =IF(VLOOKUP($B26,CODIGOS!$A:$F,6,0)<>1000,(($F26*$I$2)/VLOOKUP($B26,CODIGOS!$A:$F,6,0)),"") -> 1.1111111 | F26: 5 | G26: =(F26/1000)*VLOOKUP($B26,CODIGOS!$A:$G,7,0) -> 0.005 | H26: =VLOOKUP($A26,CODIGOS!$B:$D,2,FALSE) -> 1500 | I26: =IF($H26="S/STOCK","",$J26/$I$2) -> 8.3333333 | J26: =IF(H26="S/STOCK","",IF($E26="",$D26*$H26,$E26*$H26)) -> 1666.6667 | K26: =VLOOKUP($B26,CODIGOS!$A:$K,8,0)*$G26*1000 -> 44.2 | L26: =VLOOKUP($B26,CODIGOS!$A:$K,9,0)*$G26*1000 -> 0 | M26: =VLOOKUP($B26,CODIGOS!$A:$K,10,0)*$G26*1000 -> 5 | N26: =VLOOKUP($B26,CODIGOS!$A:$K,11,0)*$G26*1000 -> 0
A27: SAL | B27: =VLOOKUP($A27,NSN!$A:$B,2,FALSE) -> C000528 | C27: =VLOOKUP($A27,CODIGOS!$B:$E,4,FALSE) -> KG | D27: =($F27*$I$2)/1000 -> 0.1 | E27: =IF(VLOOKUP($B27,CODIGOS!$A:$F,6,0)<>1000,(($F27*$I$2)/VLOOKUP($B27,CODIGOS!$A:$F,6,0)),"") | F27: 0.5 | G27: =(F27/1000)*VLOOKUP($B27,CODIGOS!$A:$G,7,0) -> 0.0005 | H27: =VLOOKUP($A27,CODIGOS!$B:$D,2,FALSE) -> 375 | I27: =IF($H27="S/STOCK","",$J27/$I$2) -> 0.1875 | J27: =IF(H27="S/STOCK","",IF($E27="",$D27*$H27,$E27*$H27)) -> 37.5 | K27: =VLOOKUP($B27,CODIGOS!$A:$K,8,0)*$G27*1000 -> 0 | L27: =VLOOKUP($B27,CODIGOS!$A:$K,9,0)*$G27*1000 -> 0 | M27: =VLOOKUP($B27,CODIGOS!$A:$K,10,0)*$G27*1000 -> 0 | N27: =VLOOKUP($B27,CODIGOS!$A:$K,11,0)*$G27*1000 -> 0
A28: SUCEDANEO JUGO LIMON 500CC | B28: =VLOOKUP($A28,NSN!$A:$B,2,FALSE) -> V001129 | C28: =VLOOKUP($A28,CODIGOS!$B:$E,4,FALSE) -> 500 cc | D28: =($F28*$I$2)/1000 -> 2 | E28: =IF(VLOOKUP($B28,CODIGOS!$A:$F,6,0)<>1000,(($F28*$I$2)/VLOOKUP($B28,CODIGOS!$A:$F,6,0)),"") -> 4 | F28: 10 | G28: =(F28/1000)*VLOOKUP($B28,CODIGOS!$A:$G,7,0) -> 0.01 | H28: =VLOOKUP($A28,CODIGOS!$B:$D,2,FALSE) -> 1550 | I28: =IF($H28="S/STOCK","",$J28/$I$2) -> 31 | J28: =IF(H28="S/STOCK","",IF($E28="",$D28*$H28,$E28*$H28)) -> 6200 | K28: =VLOOKUP($B28,CODIGOS!$A:$K,8,0)*$G28*1000 -> 2.5 | L28: =VLOOKUP($B28,CODIGOS!$A:$K,9,0)*$G28*1000 -> 0 | M28: =VLOOKUP($B28,CODIGOS!$A:$K,10,0)*$G28*1000 -> 0.01 | N28: =VLOOKUP($B28,CODIGOS!$A:$K,11,0)*$G28*1000 -> 9.37
A29: FREJOLES | B29: =VLOOKUP($A29,NSN!$A:$B,2,FALSE) -> C000196 | C29: =VLOOKUP($A29,CODIGOS!$B:$E,4,FALSE) -> KG | D29: =($F29*$I$2)/1000 -> 16 | E29: =IF(VLOOKUP($B29,CODIGOS!$A:$F,6,0)<>1000,(($F29*$I$2)/VLOOKUP($B29,CODIGOS!$A:$F,6,0)),"") | F29: 80 | G29: =(F29/1000)*VLOOKUP($B29,CODIGOS!$A:$G,7,0) -> 0.08 | H29: =VLOOKUP($A29,CODIGOS!$B:$D,2,FALSE) -> 2664 | I29: =IF($H29="S/STOCK","",$J29/$I$2) -> 213.12 | J29: =IF(H29="S/STOCK","",IF($E29="",$D29*$H29,$E29*$H29)) -> 42624 | K29: =VLOOKUP($B29,CODIGOS!$A:$K,8,0)*$G29*1000 -> 260.8 | L29: =VLOOKUP($B29,CODIGOS!$A:$K,9,0)*$G29*1000 -> 16.48 | M29: =VLOOKUP($B29,CODIGOS!$A:$K,10,0)*$G29*1000 -> 1.28 | N29: =VLOOKUP($B29,CODIGOS!$A:$K,11,0)*$G29*1000 -> 45.84
A30: FIDEOS TALLARINES | B30: =VLOOKUP($A30,NSN!$A:$B,2,FALSE) -> C000361 | C30: =VLOOKUP($A30,CODIGOS!$B:$E,4,FALSE) -> KG | D30: =($F30*$I$2)/1000 -> 4 | E30: =IF(VLOOKUP($B30,CODIGOS!$A:$F,6,0)<>1000,(($F30*$I$2)/VLOOKUP($B30,CODIGOS!$A:$F,6,0)),"") | F30: 20 | G30: =(F30/1000)*VLOOKUP($B30,CODIGOS!$A:$G,7,0) -> 0.02 | H30: =VLOOKUP($A30,CODIGOS!$B:$D,2,FALSE) -> 1495 | I30: =IF($H30="S/STOCK","",$J30/$I$2) -> 29.9 | J30: =IF(H30="S/STOCK","",IF($E30="",$D30*$H30,$E30*$H30)) -> 5980 | K30: =VLOOKUP($B30,CODIGOS!$A:$K,8,0)*$G30*1000 -> 70.4 | L30: =VLOOKUP($B30,CODIGOS!$A:$K,9,0)*$G30*1000 -> 2.22 | M30: =VLOOKUP($B30,CODIGOS!$A:$K,10,0)*$G30*1000 -> 0.08 | N30: =VLOOKUP($B30,CODIGOS!$A:$K,11,0)*$G30*1000 -> 15.32
A31: ACELGA NATURAL | B31: =VLOOKUP($A31,NSN!$A:$B,2,FALSE) -> V000006 | C31: =VLOOKUP($A31,CODIGOS!$B:$E,4,FALSE) -> AT 640 gr | D31: =($F31*$I$2)/1000 -> 6 | E31: =IF(VLOOKUP($B31,CODIGOS!$A:$F,6,0)<>1000,(($F31*$I$2)/VLOOKUP($B31,CODIGOS!$A:$F,6,0)),"") -> 9.375 | F31: 30 | G31: =(F31/1000)*VLOOKUP($B31,CODIGOS!$A:$G,7,0) -> 0.02514 | H31: =VLOOKUP($A31,CODIGOS!$B:$D,2,FALSE) -> 946 | I31: =IF($H31="S/STOCK","",$J31/$I$2) -> 44.34375 | J31: =IF(H31="S/STOCK","",IF($E31="",$D31*$H31,$E31*$H31)) -> 8868.75 | K31: =VLOOKUP($B31,CODIGOS!$A:$K,8,0)*$G31*1000 -> 7.2906 | L31: =VLOOKUP($B31,CODIGOS!$A:$K,9,0)*$G31*1000 -> 0.32682 | M31: =VLOOKUP($B31,CODIGOS!$A:$K,10,0)*$G31*1000 -> 0.10056 | N31: =VLOOKUP($B31,CODIGOS!$A:$K,11,0)*$G31*1000 -> 1.28214
A32: CEBOLLAS FRESCAS | B32: =VLOOKUP($A32,NSN!$A:$B,2,FALSE) -> C000249 | C32: =VLOOKUP($A32,CODIGOS!$B:$E,4,FALSE) -> KG | D32: =($F32*$I$2)/1000 -> 4 | E32: =IF(VLOOKUP($B32,CODIGOS!$A:$F,6,0)<>1000,(($F32*$I$2)/VLOOKUP($B32,CODIGOS!$A:$F,6,0)),"") | F32: 20 | G32: =(F32/1000)*VLOOKUP($B32,CODIGOS!$A:$G,7,0) -> 0.01782 | H32: =VLOOKUP($A32,CODIGOS!$B:$D,2,FALSE) -> 640 | I32: =IF($H32="S/STOCK","",$J32/$I$2) -> 12.8 | J32: =IF(H32="S/STOCK","",IF($E32="",$D32*$H32,$E32*$H32)) -> 2560 | K32: =VLOOKUP($B32,CODIGOS!$A:$K,8,0)*$G32*1000 -> 7.6626 | L32: =VLOOKUP($B32,CODIGOS!$A:$K,9,0)*$G32*1000 -> 0.14256 | M32: =VLOOKUP($B32,CODIGOS!$A:$K,10,0)*$G32*1000 -> 0.03564 | N32: =VLOOKUP($B32,CODIGOS!$A:$K,11,0)*$G32*1000 -> 1.71072
A33: ZANAHORIA | B33: =VLOOKUP($A33,NSN!$A:$B,2,FALSE) -> V000330 | C33: =VLOOKUP($A33,CODIGOS!$B:$E,4,FALSE) -> KG | D33: =($F33*$I$2)/1000 -> 4 | E33: =IF(VLOOKUP($B33,CODIGOS!$A:$F,6,0)<>1000,(($F33*$I$2)/VLOOKUP($B33,CODIGOS!$A:$F,6,0)),"") | F33: 20 | G33: =(F33/1000)*VLOOKUP($B33,CODIGOS!$A:$G,7,0) -> 0.01804 | H33: =VLOOKUP($A33,CODIGOS!$B:$D,2,FALSE) -> 1287 | I33: =IF($H33="S/STOCK","",$J33/$I$2) -> 25.74 | J33: =IF(H33="S/STOCK","",IF($E33="",$D33*$H33,$E33*$H33)) -> 5148 | K33: =VLOOKUP($B33,CODIGOS!$A:$K,8,0)*$G33*1000 -> 15.5144 | L33: =VLOOKUP($B33,CODIGOS!$A:$K,9,0)*$G33*1000 -> 0.16236 | M33: =VLOOKUP($B33,CODIGOS!$A:$K,10,0)*$G33*1000 -> 0.0902 | N33: =VLOOKUP($B33,CODIGOS!$A:$K,11,0)*$G33*1000 -> 1.46124
... A37: FLAN DE VAINILLA | B37: =VLOOKUP($A37,NSN!$A:$B,2,FALSE) -> C902851 | C37: =VLOOKUP($A37,CODIGOS!$B:$E,4,FALSE) -> KG | D37: =($F37*$I$2)/1000 -> 4 | E37: =IF(VLOOKUP($B37,CODIGOS!$A:$F,6,0)<>1000,(($F37*$I$2)/VLOOKUP($B37,CODIGOS!$A:$F,6,0)),"") | F37: 20 | G37: =(F37/1000)*VLOOKUP($B37,CODIGOS!$A:$G,7,0) -> 0.02 | H37: =VLOOKUP($A37,CODIGOS!$B:$D,2,FALSE) -> 2418 | I37: =IF($H37="S/STOCK","",$J37/$I$2) -> 48.36 | J37: =IF(H37="S/STOCK","",IF($E37="",$D37*$H37,$E37*$H37)) -> 9672 | K37: =VLOOKUP($B37,CODIGOS!$A:$K,8,0)*$G37*1000 -> 74.8 | L37: =VLOOKUP($B37,CODIGOS!$A:$K,9,0)*$G37*1000 -> 0.5 | M37: =VLOOKUP($B37,CODIGOS!$A:$K,10,0)*$G37*1000 -> 0.44 | N37: =VLOOKUP($B37,CODIGOS!$A:$K,11,0)*$G37*1000 -> 17.2
I38: =SUM(I22:I37) -> 742.53142 | J38: =SUM(J22:J37) -> 148506.28 | K38: =SUM(K22:K37) -> 734.925 | L38: =SUM(L22:L37) -> 24.63728 | M38: =SUM(M22:M37) -> 14.54606 | N38: =SUM(N22:N37) -> 133.66148
A39: CENA
A40: REFRESCO NARANJA | B40: =VLOOKUP($A40,NSN!$A:$B,2,FALSE) -> C902859 | C40: =VLOOKUP($A40,CODIGOS!$B:$E,4,FALSE) -> KG | D40: =($F40*$I$3)/1000 -> 0.48 | E40: =IF(VLOOKUP($B40,CODIGOS!$A:$F,6,0)<>1000,(($F40*$I$3)/VLOOKUP($B40,CODIGOS!$A:$F,6,0)),"") | F40: 6 | G40: =(F40/1000)*VLOOKUP($B40,CODIGOS!$A:$G,7,0) -> 0.006 | H40: =VLOOKUP($A40,CODIGOS!$B:$D,2,FALSE) -> 2986 | I40: =IF($H40="S/STOCK","",$J40/$I$3) -> 17.916 | J40: =IF(H40="S/STOCK","",IF($E40="",$D40*$H40,$E40*$H40)) -> 1433.28 | K40: =VLOOKUP($B40,CODIGOS!$A:$K,8,0)*$G40*1000 -> 21.54 | L40: =VLOOKUP($B40,CODIGOS!$A:$K,9,0)*$G40*1000 -> 0 | M40: =VLOOKUP($B40,CODIGOS!$A:$K,10,0)*$G40*1000 -> 0 | N40: =VLOOKUP($B40,CODIGOS!$A:$K,11,0)*$G40*1000 -> 5.376
A41: PAN | B41: =VLOOKUP($A41,NSN!$A:$B,2,FALSE) -> V000415 | C41: =VLOOKUP($A41,CODIGOS!$B:$E,4,FALSE) -> KG | D41: =($F41*$I$3)/1000 -> 4 | E41: =IF(VLOOKUP($B41,CODIGOS!$A:$F,6,0)<>1000,(($F41*$I$3)/VLOOKUP($B41,CODIGOS!$A:$F,6,0)),"") | F41: 50 | G41: =(F41/1000)*VLOOKUP($B41,CODIGOS!$A:$G,7,0) -> 0.05 | H41: =VLOOKUP($A41,CODIGOS!$B:$D,2,FALSE) -> 1783 | I41: =IF($H41="S/STOCK","",$J41/$I$3) -> 89.15 | J41: =IF(H41="S/STOCK","",IF($E41="",$D41*$H41,$E41*$H41)) -> 7132 | K41: =VLOOKUP($B41,CODIGOS!$A:$K,8,0)*$G41*1000 -> 157.5 | L41: =VLOOKUP($B41,CODIGOS!$A:$K,9,0)*$G41*1000 -> 4.1 | M41: =VLOOKUP($B41,CODIGOS!$A:$K,10,0)*$G41*1000 -> 2 | N41: =VLOOKUP($B41,CODIGOS!$A:$K,11,0)*$G41*1000 -> 30.8
A42: LECHUGA ESCAROLA | B42: =VLOOKUP($A42,NSN!$A:$B,2,FALSE) -> V000170 | C42: =VLOOKUP($A42,CODIGOS!$B:$E,4,FALSE) -> NR (650 g) | D42: =($F42*$I$3)/1000 -> 3.2 | E42: =IF(VLOOKUP($B42,CODIGOS!$A:$F,6,0)<>1000,(($F42*$I$2)/VLOOKUP($B42,CODIGOS!$A:$F,6,0)),"") -> 12.307692 | F42: 40 | G42: =(F42/1000)*VLOOKUP($B42,CODIGOS!$A:$G,7,0) -> 0.03824 | H42: =VLOOKUP($A42,CODIGOS!$B:$D,2,FALSE) -> 1190 | I42: =IF($H42="S/STOCK","",$J42/$I$2) -> 73.230769 | J42: =IF(H42="S/STOCK","",IF($E42="",$D42*$H42,$E42*$H42)) -> 14646.154 | K42: =VLOOKUP($B42,CODIGOS!$A:$K,8,0)*$G42*1000 -> 7.2656 | L42: =VLOOKUP($B42,CODIGOS!$A:$K,9,0)*$G42*1000 -> 0.65008 | M42: =VLOOKUP($B42,CODIGOS!$A:$K,10,0)*$G42*1000 -> 0.15296 | N42: =VLOOKUP($B42,CODIGOS!$A:$K,11,0)*$G42*1000 -> 0.84128
A43: BETARRAGAS AT | B43: =VLOOKUP($A43,NSN!$A:$B,2,FALSE) -> V000034 | C43: =VLOOKUP($A43,CODIGOS!$B:$E,4,FALSE) -> AT | D43: =($F43*$I$3)/1000 -> 3.2 | E43: =IF(VLOOKUP($B43,CODIGOS!$A:$F,6,0)<>1000,(($F43*$I$2)/VLOOKUP($B43,CODIGOS!$A:$F,6,0)),"") | F43: 40 | G43: =(F43/1000)*VLOOKUP($B43,CODIGOS!$A:$G,7,0) -> 0.03504 | H43: =VLOOKUP($A43,CODIGOS!$B:$D,2,FALSE) -> 1311 | I43: =IF($H43="S/STOCK","",$J43/$I$2) -> 20.976 | J43: =IF(H43="S/STOCK","",IF($E43="",$D43*$H43,$E43*$H43)) -> 4195.2 | K43: =VLOOKUP($B43,CODIGOS!$A:$K,8,0)*$G43*1000 -> 14.3664 | L43: =VLOOKUP($B43,CODIGOS!$A:$K,9,0)*$G43*1000 -> 0.66576 | M43: =VLOOKUP($B43,CODIGOS!$A:$K,10,0)*$G43*1000 -> 0.07008 | N43: =VLOOKUP($B43,CODIGOS!$A:$K,11,0)*$G43*1000 -> 2.76816
A44: ACEITE 900 ML | B44: =VLOOKUP($A44,NSN!$A:$B,2,FALSE) -> C902636 | C44: =VLOOKUP($A44,CODIGOS!$B:$E,4,FALSE) -> 900 ML | D44: =($F44*$I$3)/1000 -> 0.4 | E44: =IF(VLOOKUP($B44,CODIGOS!$A:$F,6,0)<>1000,(($F44*$I$2)/VLOOKUP($B44,CODIGOS!$A:$F,6,0)),"") -> 1.1111111 | F44: 5 | G44: =(F44/1000)*VLOOKUP($B44,CODIGOS!$A:$G,7,0) -> 0.005 | H44: =VLOOKUP($A44,CODIGOS!$B:$D,2,FALSE) -> 1500 | I44: =IF($H44="S/STOCK","",$J44/$I$2) -> 8.3333333 | J44: =IF(H44="S/STOCK","",IF($E44="",$D44*$H44,$E44*$H44)) -> 1666.6667 | K44: =VLOOKUP($B44,CODIGOS!$A:$K,8,0)*$G44*1000 -> 44.2 | L44: =VLOOKUP($B44,CODIGOS!$A:$K,9,0)*$G44*1000 -> 0 | M44: =VLOOKUP($B44,CODIGOS!$A:$K,10,0)*$G44*1000 -> 5 | N44: =VLOOKUP($B44,CODIGOS!$A:$K,11,0)*$G44*1000 -> 0
A45: SAL | B45: =VLOOKUP($A45,NSN!$A:$B,2,FALSE) -> C000528 | C45: =VLOOKUP($A45,CODIGOS!$B:$E,4,FALSE) -> KG | D45: =($F45*$I$3)/1000 -> 0.04 | E45: =IF(VLOOKUP($B45,CODIGOS!$A:$F,6,0)<>1000,(($F45*$I$3)/VLOOKUP($B45,CODIGOS!$A:$F,6,0)),"") | F45: 0.5 | G45: =(F45/1000)*VLOOKUP($B45,CODIGOS!$A:$G,7,0) -> 0.0005 | H45: =VLOOKUP($A45,CODIGOS!$B:$D,2,FALSE) -> 375 | I45: =IF($H45="S/STOCK","",$J45/$I$3) -> 0.1875 | J45: =IF(H45="S/STOCK","",IF($E45="",$D45*$H45,$E45*$H45)) -> 15 | K45: =VLOOKUP($B45,CODIGOS!$A:$K,8,0)*$G45*1000 -> 0 | L45: =VLOOKUP($B45,CODIGOS!$A:$K,9,0)*$G45*1000 -> 0 | M45: =VLOOKUP($B45,CODIGOS!$A:$K,10,0)*$G45*1000 -> 0 | N45: =VLOOKUP($B45,CODIGOS!$A:$K,11,0)*$G45*1000 -> 0
A46: SUCEDANEO JUGO LIMON 500CC | B46: =VLOOKUP($A46,NSN!$A:$B,2,FALSE) -> V001129 | C46: =VLOOKUP($A46,CODIGOS!$B:$E,4,FALSE) -> 500 cc | D46: =($F46*$I$3)/1000 -> 0.8 | E46: =IF(VLOOKUP($B46,CODIGOS!$A:$F,6,0)<>1000,(($F46*$I$3)/VLOOKUP($B46,CODIGOS!$A:$F,6,0)),"") -> 1.6 | F46: 10 | G46: =(F46/1000)*VLOOKUP($B46,CODIGOS!$A:$G,7,0) -> 0.01 | H46: =VLOOKUP($A46,CODIGOS!$B:$D,2,FALSE) -> 1550 | I46: =IF($H46="S/STOCK","",$J46/$I$3) -> 31 | J46: =IF(H46="S/STOCK","",IF($E46="",$D46*$H46,$E46*$H46)) -> 2480 | K46: =VLOOKUP($B46,CODIGOS!$A:$K,8,0)*$G46*1000 -> 2.5 | L46: =VLOOKUP($B46,CODIGOS!$A:$K,9,0)*$G46*1000 -> 0 | M46: =VLOOKUP($B46,CODIGOS!$A:$K,10,0)*$G46*1000 -> 0.01 | N46: =VLOOKUP($B46,CODIGOS!$A:$K,11,0)*$G46*1000 -> 9.37
A47: VACUNO POSTA ROSADA CONGELADA | B47: =VLOOKUP($A47,NSN!$A:$B,2,FALSE) -> C000010 | C47: =VLOOKUP($A47,CODIGOS!$B:$E,4,FALSE) -> KG | D47: =($F47*$I$3)/1000 -> 13.6 | E47: =IF(VLOOKUP($B47,CODIGOS!$A:$F,6,0)<>1000,(($F47*$I$3)/VLOOKUP($B47,CODIGOS!$A:$F,6,0)),"") | F47: 170 | G47: =(F47/1000)*VLOOKUP($B47,CODIGOS!$A:$G,7,0) -> 0.12036 | H47: =VLOOKUP($A47,CODIGOS!$B:$D,2,FALSE) -> 5890 | I47: =IF($H47="S/STOCK","",$J47/$I$3) -> 1001.3 | J47: =IF(H47="S/STOCK","",IF($E47="",$D47*$H47,$E47*$H47)) -> 80104 | K47: =VLOOKUP($B47,CODIGOS!$A:$K,8,0)*$G47*1000 -> 152.8572 | L47: =VLOOKUP($B47,CODIGOS!$A:$K,9,0)*$G47*1000 -> 25.51632 | M47: =VLOOKUP($B47,CODIGOS!$A:$K,10,0)*$G47*1000 -> 3.37008 | N47: =VLOOKUP($B47,CODIGOS!$A:$K,11,0)*$G47*1000 -> 5.17548
A48: CEBOLLAS FRESCAS | B48: =VLOOKUP($A48,NSN!$A:$B,2,FALSE) -> C000249 | C48: =VLOOKUP($A48,CODIGOS!$B:$E,4,FALSE) -> KG | D48: =($F48*$I$3)/1000 -> 1.6 | E48: =IF(VLOOKUP($B48,CODIGOS!$A:$F,6,0)<>1000,(($F48*$I$3)/VLOOKUP($B48,CODIGOS!$A:$F,6,0)),"") | F48: 20 | G48: =(F48/1000)*VLOOKUP($B48,CODIGOS!$A:$G,7,0) -> 0.01782 | H48: =VLOOKUP($A48,CODIGOS!$B:$D,2,FALSE) -> 640 | I48: =IF($H48="S/STOCK","",$J48/$I$3) -> 12.8 | J48: =IF(H48="S/STOCK","",IF($E48="",$D48*$H48,$E48*$H48)) -> 1024 | K48: =VLOOKUP($B48,CODIGOS!$A:$K,8,0)*$G48*1000 -> 7.6626 | L48: =VLOOKUP($B48,CODIGOS!$A:$K,9,0)*$G48*1000 -> 0.14256 | M48: =VLOOKUP($B48,CODIGOS!$A:$K,10,0)*$G48*1000 -> 0.03564 | N48: =VLOOKUP($B48,CODIGOS!$A:$K,11,0)*$G48*1000 -> 1.71072
A49: ZANAHORIA | B49: =VLOOKUP($A49,NSN!$A:$B,2,FALSE) -> V000330 | C49: =VLOOKUP($A49,CODIGOS!$B:$E,4,FALSE) -> KG | D49: =($F49*$I$3)/1000 -> 1.6 | E49: =IF(VLOOKUP($B49,CODIGOS!$A:$F,6,0)<>1000,(($F49*$I$3)/VLOOKUP($B49,CODIGOS!$A:$F,6,0)),"") | F49: 20 | G49: =(F49/1000)*VLOOKUP($B49,CODIGOS!$A:$G,7,0) -> 0.01804 | H49: =VLOOKUP($A49,CODIGOS!$B:$D,2,FALSE) -> 1287 | I49: =IF($H49="S/STOCK","",$J49/$I$3) -> 25.74 | J49: =IF(H49="S/STOCK","",IF($E49="",$D49*$H49,$E49*$H49)) -> 2059.2 | K49: =VLOOKUP($B49,CODIGOS!$A:$K,8,0)*$G49*1000 -> 15.5144 | L49: =VLOOKUP($B49,CODIGOS!$A:$K,9,0)*$G49*1000 -> 0.16236 | M49: =VLOOKUP($B49,CODIGOS!$A:$K,10,0)*$G49*1000 -> 0.0902 | N49: =VLOOKUP($B49,CODIGOS!$A:$K,11,0)*$G49*1000 -> 1.46124
A50: ZAPALLO | B50: =VLOOKUP($A50,NSN!$A:$B,2,FALSE) -> V000332 | C50: =VLOOKUP($A50,CODIGOS!$B:$E,4,FALSE) -> KG | D50: =($F50*$I$3)/1000 -> 4 | E50: =IF(VLOOKUP($B50,CODIGOS!$A:$F,6,0)<>1000,(($F50*$I$3)/VLOOKUP($B50,CODIGOS!$A:$F,6,0)),"") | F50: 50 | G50: =(F50/1000)*VLOOKUP($B50,CODIGOS!$A:$G,7,0) -> 0.04685 | H50: =VLOOKUP($A50,CODIGOS!$B:$D,2,FALSE) -> 1456 | I50: =IF($H50="S/STOCK","",$J50/$I$3) -> 72.8 | J50: =IF(H50="S/STOCK","",IF($E50="",$D50*$H50,$E50*$H50)) -> 5824 | K50: =VLOOKUP($B50,CODIGOS!$A:$K,8,0)*$G50*1000 -> 15.929 | L50: =VLOOKUP($B50,CODIGOS!$A:$K,9,0)*$G50*1000 -> 0.0937 | M50: =VLOOKUP($B50,CODIGOS!$A:$K,10,0)*$G50*1000 -> 0.2811 | N50: =VLOOKUP($B50,CODIGOS!$A:$K,11,0)*$G50*1000 -> 3.2795
A51: PAPAS | B51: =VLOOKUP($A51,NSN!$A:$B,2,FALSE) -> C000801 | C51: =VLOOKUP($A51,CODIGOS!$B:$E,4,FALSE) -> KG | D51: =($F51*$I$3)/1000 -> 16 | E51: =IF(VLOOKUP($B51,CODIGOS!$A:$F,6,0)<>1000,(($F51*$I$3)/VLOOKUP($B51,CODIGOS!$A:$F,6,0)),"") | F51: 200 | G51: =(F51/1000)*VLOOKUP($B51,CODIGOS!$A:$G,7,0) -> 0.1574 | H51: =VLOOKUP($A51,CODIGOS!$B:$D,2,FALSE) -> 674 | I51: =IF($H51="S/STOCK","",$J51/$I$3) -> 134.8 | J51: =IF(H51="S/STOCK","",IF($E51="",$D51*$H51,$E51*$H51)) -> 10784 | K51: =VLOOKUP($B51,CODIGOS!$A:$K,8,0)*$G51*1000 -> 125.92 | L51: =VLOOKUP($B51,CODIGOS!$A:$K,9,0)*$G51*1000 -> 4.8794 | M51: =VLOOKUP($B51,CODIGOS!$A:$K,10,0)*$G51*1000 -> 0.3148 | N51: =VLOOKUP($B51,CODIGOS!$A:$K,11,0)*$G51*1000 -> 25.971
A52: PRIMAVERA CONGELADA KGS. | B52: =VLOOKUP($A52,NSN!$A:$B,2,FALSE) -> C902685 | C52: =VLOOKUP($A52,CODIGOS!$B:$E,4,FALSE) -> KG | D52: =($F52*$I$3)/1000 -> 4.8 | E52: =IF(VLOOKUP($B52,CODIGOS!$A:$F,6,0)<>1000,(($F52*$I$3)/VLOOKUP($B52,CODIGOS!$A:$F,6,0)),"") | F52: 60 | G52: =(F52/1000)*VLOOKUP($B52,CODIGOS!$A:$G,7,0) -> 0.06 | H52: =VLOOKUP($A52,CODIGOS!$B:$D,2,FALSE) -> 1858 | I52: =IF($H52="S/STOCK","",$J52/$I$3) -> 111.48 | J52: =IF(H52="S/STOCK","",IF($E52="",$D52*$H52,$E52*$H52)) -> 8918.4 | K52: =VLOOKUP($B52,CODIGOS!$A:$K,8,0)*$G52*1000 -> 54.6 | L52: =VLOOKUP($B52,CODIGOS!$A:$K,9,0)*$G52*1000 -> 1.974 | M52: =VLOOKUP($B52,CODIGOS!$A:$K,10,0)*$G52*1000 -> 0.21 | N52: =VLOOKUP($B52,CODIGOS!$A:$K,11,0)*$G52*1000 -> 7.338
A53: ACELGA NATURAL | B53: =VLOOKUP($A53,NSN!$A:$B,2,FALSE) -> V000006 | C53: =VLOOKUP($A53,CODIGOS!$B:$E,4,FALSE) -> AT 640 gr | D53: =($F53*$I$3)/1000 -> 1.6 | E53: =IF(VLOOKUP($B53,CODIGOS!$A:$F,6,0)<>1000,(($F53*$I$3)/VLOOKUP($B53,CODIGOS!$A:$F,6,0)),"") -> 2.5 | F53: 20 | G53: =(F53/1000)*VLOOKUP($B53,CODIGOS!$A:$G,7,0) -> 0.01676 | H53: =VLOOKUP($A53,CODIGOS!$B:$D,2,FALSE) -> 946 | I53: =IF($H53="S/STOCK","",$J53/$I$3) -> 29.5625 | J53: =IF(H53="S/STOCK","",IF($E53="",$D53*$H53,$E53*$H53)) -> 2365 | K53: =VLOOKUP($B53,CODIGOS!$A:$K,8,0)*$G53*1000 -> 4.8604 | L53: =VLOOKUP($B53,CODIGOS!$A:$K,9,0)*$G53*1000 -> 0.21788 | M53: =VLOOKUP($B53,CODIGOS!$A:$K,10,0)*$G53*1000 -> 0.06704 | N53: =VLOOKUP($B53,CODIGOS!$A:$K,11,0)*$G53*1000 -> 0.85476
A54: ARROZ | B54: =VLOOKUP($A54,NSN!$A:$B,2,FALSE) -> C002832 | C54: =VLOOKUP($A54,CODIGOS!$B:$E,4,FALSE) -> KG | D54: =($F54*$I$3)/1000 -> 0.8 | E54: =IF(VLOOKUP($B54,CODIGOS!$A:$F,6,0)<>1000,(($F54*$I$3)/VLOOKUP($B54,CODIGOS!$A:$F,6,0)),"") | F54: 10 | G54: =(F54/1000)*VLOOKUP($B54,CODIGOS!$A:$G,7,0) -> 0.01 | H54: =VLOOKUP($A54,CODIGOS!$B:$D,2,FALSE) -> 1384 | I54: =IF($H54="S/STOCK","",$J54/$I$3) -> 13.84 | J54: =IF(H54="S/STOCK","",IF($E54="",$D54*$H54,$E54*$H54)) -> 1107.2 | K54: =VLOOKUP($B54,CODIGOS!$A:$K,8,0)*$G54*1000 -> 35.2 | L54: =VLOOKUP($B54,CODIGOS!$A:$K,9,0)*$G54*1000 -> 0.64 | M54: =VLOOKUP($B54,CODIGOS!$A:$K,10,0)*$G54*1000 -> 0.08 | N54: =VLOOKUP($B54,CODIGOS!$A:$K,11,0)*$G54*1000 -> 7.97
A55: SAL | B55: =VLOOKUP($A55,NSN!$A:$B,2,FALSE) -> C000528 | C55: =VLOOKUP($A55,CODIGOS!$B:$E,4,FALSE) -> KG | D55: =($F55*$I$3)/1000 -> 0.04 | E55: =IF(VLOOKUP($B55,CODIGOS!$A:$F,6,0)<>1000,(($F55*$I$3)/VLOOKUP($B55,CODIGOS!$A:$F,6,0)),"") | F55: 0.5 | G55: =(F55/1000)*VLOOKUP($B55,CODIGOS!$A:$G,7,0) -> 0.0005 | H55: =VLOOKUP($A55,CODIGOS!$B:$D,2,FALSE) -> 375 | I55: =IF($H55="S/STOCK","",$J55/$I$3) -> 0.1875 | J55: =IF(H55="S/STOCK","",IF($E55="",$D55*$H55,$E55*$H55)) -> 15 | K55: =VLOOKUP($B55,CODIGOS!$A:$K,8,0)*$G55*1000 -> 0 | L55: =VLOOKUP($B55,CODIGOS!$A:$K,9,0)*$G55*1000 -> 0 | M55: =VLOOKUP($B55,CODIGOS!$A:$K,10,0)*$G55*1000 -> 0 | N55: =VLOOKUP($B55,CODIGOS!$A:$K,11,0)*$G55*1000 -> 0
A56: ACEITE 900 ML | B56: =VLOOKUP($A56,NSN!$A:$B,2,FALSE) -> C902636 | C56: =VLOOKUP($A56,CODIGOS!$B:$E,4,FALSE) -> 900 ML | D56: =($F56*$I$3)/1000 -> 0.4 | E56: =IF(VLOOKUP($B56,CODIGOS!$A:$F,6,0)<>1000,(($F56*$I$3)/VLOOKUP($B56,CODIGOS!$A:$F,6,0)),"") -> 0.44444444 | F56: 5 | G56: =(F56/1000)*VLOOKUP($B56,CODIGOS!$A:$G,7,0) -> 0.005 | H56: =VLOOKUP($A56,CODIGOS!$B:$D,2,FALSE) -> 1500 | I56: =IF($H56="S/STOCK","",$J56/$I$3) -> 8.3333333 | J56: =IF(H56="S/STOCK","",IF($E56="",$D56*$H56,$E56*$H56)) -> 666.66667 | K56: =VLOOKUP($B56,CODIGOS!$A:$K,8,0)*$G56*1000 -> 44.2 | L56: =VLOOKUP($B56,CODIGOS!$A:$K,9,0)*$G56*1000 -> 0 | M56: =VLOOKUP($B56,CODIGOS!$A:$K,10,0)*$G56*1000 -> 5 | N56: =VLOOKUP($B56,CODIGOS!$A:$K,11,0)*$G56*1000 -> 0
A57: POSTRE GELATINA EN POLVO NARANJA | B57: =VLOOKUP($A57,NSN!$A:$B,2,FALSE) -> C902855 | C57: =VLOOKUP($A57,CODIGOS!$B:$E,4,FALSE) -> KG | D57: =($F57*$I$3)/1000 -> 1.12 | E57: =IF(VLOOKUP($B57,CODIGOS!$A:$F,6,0)<>1000,(($F57*$I$3)/VLOOKUP($B57,CODIGOS!$A:$F,6,0)),"") | F57: 14 | G57: =(F57/1000)*VLOOKUP($B57,CODIGOS!$A:$G,7,0) -> 0.014 | H57: =VLOOKUP($A57,CODIGOS!$B:$D,2,FALSE) -> 4034 | I57: =IF($H57="S/STOCK","",$J57/$I$3) -> 56.476 | J57: =IF(H57="S/STOCK","",IF($E57="",$D57*$H57,$E57*$H57)) -> 4518.08 | K57: =VLOOKUP($B57,CODIGOS!$A:$K,8,0)*$G57*1000 -> 50.96 | L57: =VLOOKUP($B57,CODIGOS!$A:$K,9,0)*$G57*1000 -> 3.038 | M57: =VLOOKUP($B57,CODIGOS!$A:$K,10,0)*$G57*1000 -> 0 | N57: =VLOOKUP($B57,CODIGOS!$A:$K,11,0)*$G57*1000 -> 7.882
I58: =SUM(I40:I57) -> 1708.1129 | J58: =SUM(J40:J57) -> 148953.85 | K58: =SUM(K40:K57) -> 755.0756 | L58: =SUM(L40:L57) -> 42.08006 | M58: =SUM(M40:M57) -> 16.6819 | N58: =SUM(N40:N57) -> 110.79814
J59: MACRONUTRIENTES | K59: =K20+K38+K58 -> 2066.9518 | L59: =L20+L38+L58 -> 92.94846 | M59: =M20+M38+M58 -> 46.71766 | N59: =N20+N38+N58 -> 327.68332
A61: DESCRIPCION | B61: CÓDIGO | C61: U/E | D61: CANTIDAD TOTAL KG | F61: GRS P/P | G61: CANTIDAD (KG) P/P | H61: V.UNITARIO | I61: V. P/P | J61: V.TOTAL | K61: CALORÍAS | L61: PROTEÍNAS | M61: LÍPIDOS | N61: CHO
A62: CONFECCIÓN PAN
A63: HARINA FLOR | B63: =VLOOKUP($A63,NSN!$A:$B,2,FALSE) -> C000367 | C63: =VLOOKUP($A63,CODIGOS!$B:$E,4,FALSE) -> KG | D63: =($F63*$I$3)/1000 -> 11.4288 | E63: =IF(VLOOKUP($B63,CODIGOS!$A:$F,6,0)<>1000,(($F63*$I$3)/VLOOKUP($B63,CODIGOS!$A:$F,6,0)),"") | F63: 142.86 | G63: =(F63/1000)*VLOOKUP($B63,CODIGOS!$A:$G,7,0) -> 0.14286 | H63: =VLOOKUP($A63,CODIGOS!$B:$D,2,FALSE) -> 794 | I63: =IF($H63="S/STOCK","",$J63/$I$3) -> 113.43084 | J63: =IF(H63="S/STOCK","",IF($E63="",$D63*$H63,$E63*$H63)) -> 9074.4672 | K63: =VLOOKUP($B63,CODIGOS!$A:$K,8,0)*$G63*1000 -> 497.1528 | L63: =VLOOKUP($B63,CODIGOS!$A:$K,9,0)*$G63*1000 -> 11.4288 | M63: =VLOOKUP($B63,CODIGOS!$A:$K,10,0)*$G63*1000 -> 1.71432 | N63: =VLOOKUP($B63,CODIGOS!$A:$K,11,0)*$G63*1000 -> 109.14504
A64: AZUCAR BLANCA REFINADA | B64: =VLOOKUP($A64,NSN!$A:$B,2,FALSE) -> C000816 | C64: =VLOOKUP($A64,CODIGOS!$B:$E,4,FALSE) -> KG | D64: =($F64*$I$3)/1000 -> 0.1144 | E64: =IF(VLOOKUP($B64,CODIGOS!$A:$F,6,0)<>1000,(($F64*$I$3)/VLOOKUP($B64,CODIGOS!$A:$F,6,0)),"") | F64: 1.43 | G64: =(F64/1000)*VLOOKUP($B64,CODIGOS!$A:$G,7,0) -> 0.00143 | H64: =VLOOKUP($A64,CODIGOS!$B:$D,2,FALSE) -> 1128 | I64: =IF($H64="S/STOCK","",$J64/$I$3) -> 1.61304 | J64: =IF(H64="S/STOCK","",IF($E64="",$D64*$H64,$E64*$H64)) -> 129.0432 | K64: =VLOOKUP($B64,CODIGOS!$A:$K,8,0)*$G64*1000 -> 5.6914 | L64: =VLOOKUP($B64,CODIGOS!$A:$K,9,0)*$G64*1000 -> 0 | M64: =VLOOKUP($B64,CODIGOS!$A:$K,10,0)*$G64*1000 -> 0 | N64: =VLOOKUP($B64,CODIGOS!$A:$K,11,0)*$G64*1000 -> 1.42285
A65: MANTECA KG | B65: =VLOOKUP($A65,NSN!$A:$B,2,FALSE) -> V000518 | C65: =VLOOKUP($A65,CODIGOS!$B:$E,4,FALSE) -> EA | D65: =($F65*$I$3)/1000 -> 0.6856 | E65: =IF(VLOOKUP($B65,CODIGOS!$A:$F,6,0)<>1000,(($F65*$I$3)/VLOOKUP($B65,CODIGOS!$A:$F,6,0)),"") | F65: 8.57 | G65: =(F65/1000)*VLOOKUP($B65,CODIGOS!$A:$G,7,0) -> 0.00857 | H65: =VLOOKUP($A65,CODIGOS!$B:$D,2,FALSE) -> 3203 | I65: =IF($H65="S/STOCK","",$J65/$I$3) -> 27.44971 | J65: =IF(H65="S/STOCK","",IF($E65="",$D65*$H65,$E65*$H65)) -> 2195.9768 | K65: =VLOOKUP($B65,CODIGOS!$A:$K,8,0)*$G65*1000 -> 76.8729 | L65: =VLOOKUP($B65,CODIGOS!$A:$K,9,0)*$G65*1000 -> 0 | M65: =VLOOKUP($B65,CODIGOS!$A:$K,10,0)*$G65*1000 -> 8.54429 | N65: =VLOOKUP($B65,CODIGOS!$A:$K,11,0)*$G65*1000 -> 0
A66: LEVADURA INSTANTANEA | B66: =VLOOKUP($A66,NSN!$A:$B,2,FALSE) -> V000174 | C66: =VLOOKUP($A66,CODIGOS!$B:$E,4,FALSE) -> KG | D66: =($F66*$I$3)/1000 -> 0.1144 | E66: =IF(VLOOKUP($B66,CODIGOS!$A:$F,6,0)<>1000,(($F66*$I$3)/VLOOKUP($B66,CODIGOS!$A:$F,6,0)),"") | F66: 1.43 | G66: =(F66/1000)*VLOOKUP($B66,CODIGOS!$A:$G,7,0) -> 0.00143 | H66: =VLOOKUP($A66,CODIGOS!$B:$D,2,FALSE) -> 8887 | I66: =IF($H66="S/STOCK","",$J66/$I$3) -> 12.70841 | J66: =IF(H66="S/STOCK","",IF($E66="",$D66*$H66,$E66*$H66)) -> 1016.6728 | K66: =VLOOKUP($B66,CODIGOS!$A:$K,8,0)*$G66*1000 -> 6.149 | L66: =VLOOKUP($B66,CODIGOS!$A:$K,9,0)*$G66*1000 -> 0.6721 | M66: =VLOOKUP($B66,CODIGOS!$A:$K,10,0)*$G66*1000 -> 0.1001 | N66: =VLOOKUP($B66,CODIGOS!$A:$K,11,0)*$G66*1000 -> 0.5148
A67: SAL | B67: =VLOOKUP($A67,NSN!$A:$B,2,FALSE) -> C000528 | C67: =VLOOKUP($A67,CODIGOS!$B:$E,4,FALSE) -> KG | D67: =($F67*$I$3)/1000 -> 0.16 | E67: =IF(VLOOKUP($B67,CODIGOS!$A:$F,6,0)<>1000,(($F67*$I$3)/VLOOKUP($B67,CODIGOS!$A:$F,6,0)),"") | F67: 2 | G67: =(F67/1000)*VLOOKUP($B67,CODIGOS!$A:$G,7,0) -> 0.002 | H67: =VLOOKUP($A67,CODIGOS!$B:$D,2,FALSE) -> 375 | I67: =IF($H67="S/STOCK","",$J67/$I$3) -> 0.75 | J67: =IF(H67="S/STOCK","",IF($E67="",$D67*$H67,$E67*$H67)) -> 60 | K67: =VLOOKUP($B67,CODIGOS!$A:$K,8,0)*$G67*1000 -> 0 | L67: =VLOOKUP($B67,CODIGOS!$A:$K,9,0)*$G67*1000 -> 0 | M67: =VLOOKUP($B67,CODIGOS!$A:$K,10,0)*$G67*1000 -> 0 | N67: =VLOOKUP($B67,CODIGOS!$A:$K,11,0)*$G67*1000 -> 0
I68: =SUM(I63:I67) -> 155.952 | J68: =SUM(J63:J67) -> 12476.16 | K68: =SUM(K63:K67) -> 585.8661 | L68: =SUM(L63:L67) -> 12.1009 | M68: =SUM(M63:M67) -> 10.35871 | N68: =SUM(N63:N67) -> 111.08269

Sheet MIERCOLES
A1: MIERCOLES
A2: DESAYUNO | B2: ='MENU COMÚN'!C6 -> LECHE-TÉ- CAFÉ | D2: ='MENU COMÚN'!C7 -> PAN (100 GR) C/ HUEVO TOMATE | G2: RACIÓN ALMUERZO (INGRESAR CANTIDAD RACIONES DE ALMUERZO) | I2: =LUNES!$I$2 -> 200
A3: ALMUERZO | B3: ='MENU COMÚN'!C9 -> ENS.LECHUGA/CHOCLO | G3: RACIÓN COMPLETA | I3: =LUNES!$I$3 -> 80
B4: ='MENU COMÚN'!C13 -> 1° SEMANA: MERLUZA APANADA CON PURÉ DE PAPAS 2° SEMANA: CROQUETA DE ATÚN CON QUINOA PRIMAVERA 3° SEMANA: PULMAY (S.MARISCOS/CERDO, CHORIZO) 3° SEMANA: MERLUZA ESCABECHADA CON PAPAS ASADAS RÚSTICAS
B5: ='MENU COMÚN'!C14 -> JALEA FRAMBUESA
Q6: % AUMENTO
A7: CENA | B7: ='MENU COMÚN'!C17 -> CREMA DE LEGUMBRES NATURAL | Q7: 0 | R7: VALOR REAL | S7: VALOR TEORICO | T7: CANTIDADES | U7: TOTAL REAL | V7: TOTAL TEORICO | W7: SUPERAVIT O DEFICIT | X7: % SUP O DEF
B8: ='MENU COMÚN'!C21 -> CHAPSUI DE CERDO CON ARROZ PIAMONTESA | P8: =LUNES!P8 -> 2065 | Q8: RACIÓN ALMUERZO (85%) | R8: =I38 -> 1601.0894 | S8: =+$P$8+($P$8*$Q$7) -> 2065 | T8: =+$I$2-$I$3 -> 120 | U8: =$R$8*$T$8 -> 192130.73 | V8: =$S$8*$T$8 -> 247800 | W8: =$V$8-$U$8 -> 55669.268 | X8: =$W$8/$V$8 -> 0.22465403
B9: ='MENU COMÚN'!C22 -> FLAN DE CHOCOLATE | P9: =LUNES!P9 -> 2429 | Q9: RACIÓN COMPLETA | R9: =I21+I38+I60 -> 3104.9088 | S9: =+$P$9+($P$9*$Q$7) -> 2429 | T9: =+$I$3 -> 80 | U9: =$R$9*$T$9 -> 248392.7 | V9: =$S$9*$T$9 -> 194320 | W9: =$V$9-$U$9 -> -54072.703 | X9: =$W$9/$V$9 -> -0.27826628
A10: DESCRIPCION | B10: CÓDIGO | C10: U/E | D10: CANTIDAD TOTAL KG | F10: GRS P/P | G10: CANTIDAD (KG) P/P | H10: V.UNITARIO | I10: V. P/P | J10: V.TOTAL | K10: CALORÍAS | L10: PROTEÍNAS | M10: LÍPIDOS | N10: CHO | Q10: TOTAL | U10: =SUM(U8:U9) -> 440523.44 | V10: =SUM(V8:V9) -> 442120 | W10: =V10-U10 -> 1596.5642 | X10: =W10/V10 -> 0.0036111559
A11: DESAYUNO
A12: LECHE EN POLVO 800 GRS. | B12: =VLOOKUP($A12,NSN!$A:$B,2,FALSE) -> C903335 | C12: =VLOOKUP($A12,CODIGOS!$B:$E,4,FALSE) -> 800 grs | D12: =($F12*$I$3)/1000 -> 1.6 | E12: =IF(VLOOKUP($B12,CODIGOS!$A:$F,6,0)<>1000,(($F12*$I$3)/VLOOKUP($B12,CODIGOS!$A:$F,6,0)),"") -> 2 | F12: 20 | G12: =(F12/1000)*VLOOKUP($B12,CODIGOS!$A:$G,7,0) -> 0.02 | H12: =VLOOKUP($A12,CODIGOS!$B:$D,2,FALSE) -> 4975 | I12: =IF($H12="S/STOCK","",$J12/$I$3) -> 124.375 | J12: =IF(H12="S/STOCK","",IF($E12="",$D12*$H12,$E12*$H12)) -> 9950 | K12: =VLOOKUP($B12,CODIGOS!$A:$K,8,0)*$G12*1000 -> 70.6 | L12: =VLOOKUP($B12,CODIGOS!$A:$K,9,0)*$G12*1000 -> 8.02 | M12: =VLOOKUP($B12,CODIGOS!$A:$K,10,0)*$G12*1000 -> 0.02 | N12: =VLOOKUP($B12,CODIGOS!$A:$K,11,0)*$G12*1000 -> 9.58
A13: TE | B13: =VLOOKUP($A13,NSN!$A:$B,2,FALSE) -> C000827 | C13: =VLOOKUP($A13,CODIGOS!$B:$E,4,FALSE) -> KG | D13: =($F13*$I$3)/1000 -> 0.12 | E13: =IF(VLOOKUP($B13,CODIGOS!$A:$F,6,0)<>1000,(($F13*$I$3)/VLOOKUP($B13,CODIGOS!$A:$F,6,0)),"") | F13: 1.5 | G13: =(F13/1000)*VLOOKUP($B13,CODIGOS!$A:$G,7,0) -> 0.0015 | H13: =VLOOKUP($A13,CODIGOS!$B:$D,2,FALSE) -> 7800 | I13: =IF($H13="S/STOCK","",$J13/$I$3) -> 11.7 | J13: =IF(H13="S/STOCK","",IF($E13="",$D13*$H13,$E13*$H13)) -> 936 | K13: =VLOOKUP($B13,CODIGOS!$A:$K,8,0)*$G13*1000 -> 0.015 | L13: =VLOOKUP($B13,CODIGOS!$A:$K,9,0)*$G13*1000 -> 0 | M13: =VLOOKUP($B13,CODIGOS!$A:$K,10,0)*$G13*1000 -> 0 | N13: =VLOOKUP($B13,CODIGOS!$A:$K,11,0)*$G13*1000 -> 0.003
A14: CAFÉ INSTANTANEO | B14: =VLOOKUP($A14,NSN!$A:$B,2,FALSE) -> C000523 | C14: =VLOOKUP($A14,CODIGOS!$B:$E,4,FALSE) -> TA 400 gr | D14: =($F14*$I$3)/1000 -> 0.08 | E14: =IF(VLOOKUP($B14,CODIGOS!$A:$F,6,0)<>1000,(($F14*$I$3)/VLOOKUP($B14,CODIGOS!$A:$F,6,0)),"") -> 0.2 | F14: 1 | G14: =(F14/1000)*VLOOKUP($B14,CODIGOS!$A:$G,7,0) -> 0.001 | H14: =VLOOKUP($A14,CODIGOS!$B:$D,2,FALSE) -> 9990 | I14: =IF($H14="S/STOCK","",$J14/$I$3) -> 24.975 | J14: =IF(H14="S/STOCK","",IF($E14="",$D14*$H14,$E14*$H14)) -> 1998 | K14: =VLOOKUP($B14,CODIGOS!$A:$K,8,0)*$G14*1000 -> 2.61 | L14: =VLOOKUP($B14,CODIGOS!$A:$K,9,0)*$G14*1000 -> 0.164 | M14: =VLOOKUP($B14,CODIGOS!$A:$K,10,0)*$G14*1000 -> 0.001 | N14: =VLOOKUP($B14,CODIGOS!$A:$K,11,0)*$G14*1000 -> 0.49
A15: AZUCAR BLANCA REFINADA | B15: =VLOOKUP($A15,NSN!$A:$B,2,FALSE) -> C000816 | C15: =VLOOKUP($A15,CODIGOS!$B:$E,4,FALSE) -> KG | D15: =($F15*$I$3)/1000 -> 0.8 | E15: =IF(VLOOKUP($B15,CODIGOS!$A:$F,6,0)<>1000,(($F15*$I$3)/VLOOKUP($B15,CODIGOS!$A:$F,6,0)),"") | F15: 10 | G15: =(F15/1000)*VLOOKUP($B15,CODIGOS!$A:$G,7,0) -> 0.01 | H15: =VLOOKUP($A15,CODIGOS!$B:$D,2,FALSE) -> 1128 | I15: =IF($H15="S/STOCK","",$J15/$I$3) -> 11.28 | J15: =IF(H15="S/STOCK","",IF($E15="",$D15*$H15,$E15*$H15)) -> 902.4 | K15: =VLOOKUP($B15,CODIGOS!$A:$K,8,0)*$G15*1000 -> 39.8 | L15: =VLOOKUP($B15,CODIGOS!$A:$K,9,0)*$G15*1000 -> 0 | M15: =VLOOKUP($B15,CODIGOS!$A:$K,10,0)*$G15*1000 -> 0 | N15: =VLOOKUP($B15,CODIGOS!$A:$K,11,0)*$G15*1000 -> 9.95
A16: HUEVOS | B16: =VLOOKUP($A16,NSN!$A:$B,2,FALSE) -> V000148 | C16: =VLOOKUP($A16,CODIGOS!$B:$E,4,FALSE) -> NR 50 gr | D16: =($F16*$I$3)/1000 -> 4 | E16: =IF(VLOOKUP($B16,CODIGOS!$A:$F,6,0)<>1000,(($F16*$I$3)/VLOOKUP($B16,CODIGOS!$A:$F,6,0)),"") -> 80 | F16: 50 | G16: =(F16/1000)*VLOOKUP($B16,CODIGOS!$A:$G,7,0) -> 0.05 | H16: =VLOOKUP($A16,CODIGOS!$B:$D,2,FALSE) -> 253 | I16: =IF($H16="S/STOCK","",$J16/$I$3) -> 253 | J16: =IF(H16="S/STOCK","",IF($E16="",$D16*$H16,$E16*$H16)) -> 20240 | K16: =VLOOKUP($B16,CODIGOS!$A:$K,8,0)*$G16*1000 -> 80 | L16: =VLOOKUP($B16,CODIGOS!$A:$K,9,0)*$G16*1000 -> 6.75 | M16: =VLOOKUP($B16,CODIGOS!$A:$K,10,0)*$G16*1000 -> 5 | N16: =VLOOKUP($B16,CODIGOS!$A:$K,11,0)*$G16*1000 -> 0.2
A17: TOMATES NATURAL | B17: =VLOOKUP($A17,NSN!$A:$B,2,FALSE) -> V000317 | C17: =VLOOKUP($A17,CODIGOS!$B:$E,4,FALSE) -> KG | D17: =($F17*$I$3)/1000 -> 3.2 | E17: =IF(VLOOKUP($B17,CODIGOS!$A:$F,6,0)<>1000,(($F17*$I$3)/VLOOKUP($B17,CODIGOS!$A:$F,6,0)),"") | F17: 40 | G17: =(F17/1000)*VLOOKUP($B17,CODIGOS!$A:$G,7,0) -> 0.0378 | H17: =VLOOKUP($A17,CODIGOS!$B:$D,2,FALSE) -> 1669 | I17: =IF($H17="S/STOCK","",$J17/$I$3) -> 66.76 | J17: =IF(H17="S/STOCK","",IF($E17="",$D17*$H17,$E17*$H17)) -> 5340.8 | K17: =VLOOKUP($B17,CODIGOS!$A:$K,8,0)*$G17*1000 -> 7.56 | L17: =VLOOKUP($B17,CODIGOS!$A:$K,9,0)*$G17*1000 -> 0.3024 | M17: =VLOOKUP($B17,CODIGOS!$A:$K,10,0)*$G17*1000 -> 0.1512 | N17: =VLOOKUP($B17,CODIGOS!$A:$K,11,0)*$G17*1000 -> 1.2096
A18: ACEITE 900 ML | B18: =VLOOKUP($A18,NSN!$A:$B,2,FALSE) -> C902636 | C18: =VLOOKUP($A18,CODIGOS!$B:$E,4,FALSE) -> 900 ML | D18: =($F18*$I$3)/1000 -> 0.4 | E18: =IF(VLOOKUP($B18,CODIGOS!$A:$F,6,0)<>1000,(($F18*$I$3)/VLOOKUP($B18,CODIGOS!$A:$F,6,0)),"") -> 0.44444444 | F18: 5 | G18: =(F18/1000)*VLOOKUP($B18,CODIGOS!$A:$G,7,0) -> 0.005 | H18: =VLOOKUP($A18,CODIGOS!$B:$D,2,FALSE) -> 1500 | I18: =IF($H18="S/STOCK","",$J18/$I$3) -> 8.3333333 | J18: =IF(H18="S/STOCK","",IF($E18="",$D18*$H18,$E18*$H18)) -> 666.66667 | K18: =VLOOKUP($B18,CODIGOS!$A:$K,8,0)*$G18*1000 -> 44.2 | L18: =VLOOKUP($B18,CODIGOS!$A:$K,9,0)*$G18*1000 -> 0 | M18: =VLOOKUP($B18,CODIGOS!$A:$K,10,0)*$G18*1000 -> 5 | N18: =VLOOKUP($B18,CODIGOS!$A:$K,11,0)*$G18*1000 -> 0
A19: SAL | B19: =VLOOKUP($A19,NSN!$A:$B,2,FALSE) -> C000528 | C19: =VLOOKUP($A19,CODIGOS!$B:$E,4,FALSE) -> KG | D19: =($F19*$I$3)/1000 -> 0.04 | E19: =IF(VLOOKUP($B19,CODIGOS!$A:$F,6,0)<>1000,(($F19*$I$3)/VLOOKUP($B19,CODIGOS!$A:$F,6,0)),"") | F19: 0.5 | G19: =(F19/1000)*VLOOKUP($B19,CODIGOS!$A:$G,7,0) -> 0.0005 | H19: =VLOOKUP($A19,CODIGOS!$B:$D,2,FALSE) -> 375 | I19: =IF($H19="S/STOCK","",$J19/$I$3) -> 0.1875 | J19: =IF(H19="S/STOCK","",IF($E19="",$D19*$H19,$E19*$H19)) -> 15 | K19: =VLOOKUP($B19,CODIGOS!$A:$K,8,0)*$G19*1000 -> 0 | L19: =VLOOKUP($B19,CODIGOS!$A:$K,9,0)*$G19*1000 -> 0 | M19: =VLOOKUP($B19,CODIGOS!$A:$K,10,0)*$G19*1000 -> 0 | N19: =VLOOKUP($B19,CODIGOS!$A:$K,11,0)*$G19*1000 -> 0
A20: PAN | B20: =VLOOKUP($A20,NSN!$A:$B,2,FALSE) -> V000415 | C20: =VLOOKUP($A20,CODIGOS!$B:$E,4,FALSE) -> KG | D20: =($F20*$I$3)/1000 -> 8 | E20: =IF(VLOOKUP($B20,CODIGOS!$A:$F,6,0)<>1000,(($F20*$I$3)/VLOOKUP($B20,CODIGOS!$A:$F,6,0)),"") | F20: 100 | G20: =(F20/1000)*VLOOKUP($B20,CODIGOS!$A:$G,7,0) -> 0.1 | H20: =VLOOKUP($A20,CODIGOS!$B:$D,2,FALSE) -> 1783 | I20: =IF($H20="S/STOCK","",$J20/$I$3) -> 178.3 | J20: =IF(H20="S/STOCK","",IF($E20="",$D20*$H20,$E20*$H20)) -> 14264 | K20: =VLOOKUP($B20,CODIGOS!$A:$K,8,0)*$G20*1000 -> 315 | L20: =VLOOKUP($B20,CODIGOS!$A:$K,9,0)*$G20*1000 -> 8.2 | M20: =VLOOKUP($B20,CODIGOS!$A:$K,10,0)*$G20*1000 -> 4 | N20: =VLOOKUP($B20,CODIGOS!$A:$K,11,0)*$G20*1000 -> 61.6
I21: =SUM(I12:I20) -> 678.91083 | J21: =SUM(J12:J20) -> 54312.867 | K21: =SUM(K12:K20) -> 559.785 | L21: =SUM(L12:L20) -> 23.4364 | M21: =SUM(M12:M20) -> 14.1722 | N21: =SUM(N12:N20) -> 83.0326
A22: ALMUERZO
A23: REFRESCO FRAMBUESA | B23: =VLOOKUP($A23,NSN!$A:$B,2,FALSE) -> C902857 | C23: =VLOOKUP($A23,CODIGOS!$B:$E,4,FALSE) -> KG | D23: =($F23*$I$2)/1000 -> 1.2 | E23: =IF(VLOOKUP($B23,CODIGOS!$A:$F,6,0)<>1000,(($F23*$I$2)/VLOOKUP($B23,CODIGOS!$A:$F,6,0)),"") | F23: 6 | G23: =(F23/1000)*VLOOKUP($B23,CODIGOS!$A:$G,7,0) -> 0.006 | H23: =VLOOKUP($A23,CODIGOS!$B:$D,2,FALSE) -> 2941 | I23: =IF($H23="S/STOCK","",$J23/$I$2) -> 17.646 | J23: =IF(H23="S/STOCK","",IF($E23="",$D23*$H23,$E23*$H23)) -> 3529.2 | K23: =VLOOKUP($B23,CODIGOS!$A:$K,8,0)*$G23*1000 -> 21.54 | L23: =VLOOKUP($B23,CODIGOS!$A:$K,9,0)*$G23*1000 -> 0 | M23: =VLOOKUP($B23,CODIGOS!$A:$K,10,0)*$G23*1000 -> 0 | N23: =VLOOKUP($B23,CODIGOS!$A:$K,11,0)*$G23*1000 -> 5.376
A24: PAN | B24: =VLOOKUP($A24,NSN!$A:$B,2,FALSE) -> V000415 | C24: =VLOOKUP($A24,CODIGOS!$B:$E,4,FALSE) -> KG | D24: =($F24*$I$2)/1000 -> 10 | E24: =IF(VLOOKUP($B24,CODIGOS!$A:$F,6,0)<>1000,(($F24*$I$2)/VLOOKUP($B24,CODIGOS!$A:$F,6,0)),"") | F24: 50 | G24: =(F24/1000)*VLOOKUP($B24,CODIGOS!$A:$G,7,0) -> 0.05 | H24: =VLOOKUP($A24,CODIGOS!$B:$D,2,FALSE) -> 1783 | I24: =IF($H24="S/STOCK","",$J24/$I$2) -> 89.15 | J24: =IF(H24="S/STOCK","",IF($E24="",$D24*$H24,$E24*$H24)) -> 17830 | K24: =VLOOKUP($B24,CODIGOS!$A:$K,8,0)*$G24*1000 -> 157.5 | L24: =VLOOKUP($B24,CODIGOS!$A:$K,9,0)*$G24*1000 -> 4.1 | M24: =VLOOKUP($B24,CODIGOS!$A:$K,10,0)*$G24*1000 -> 2 | N24: =VLOOKUP($B24,CODIGOS!$A:$K,11,0)*$G24*1000 -> 30.8
A25: LECHUGA ESCAROLA | B25: =VLOOKUP($A25,NSN!$A:$B,2,FALSE) -> V000170 | C25: =VLOOKUP($A25,CODIGOS!$B:$E,4,FALSE) -> NR (650 g) | D25: =($F25*$I$2)/1000 -> 8 | E25: =IF(VLOOKUP($B25,CODIGOS!$A:$F,6,0)<>1000,(($F25*$I$2)/VLOOKUP($B25,CODIGOS!$A:$F,6,0)),"") -> 12.307692 | F25: 40 | G25: =(F25/1000)*VLOOKUP($B25,CODIGOS!$A:$G,7,0) -> 0.03824 | H25: =VLOOKUP($A25,CODIGOS!$B:$D,2,FALSE) -> 1190 | I25: =IF($H25="S/STOCK","",$J25/$I$2) -> 73.230769 | J25: =IF(H25="S/STOCK","",IF($E25="",$D25*$H25,$E25*$H25)) -> 14646.154 | K25: =VLOOKUP($B25,CODIGOS!$A:$K,8,0)*$G25*1000 -> 7.2656 | L25: =VLOOKUP($B25,CODIGOS!$A:$K,9,0)*$G25*1000 -> 0.65008 | M25: =VLOOKUP($B25,CODIGOS!$A:$K,10,0)*$G25*1000 -> 0.15296 | N25: =VLOOKUP($B25,CODIGOS!$A:$K,11,0)*$G25*1000 -> 0.84128
A26: CHOCLO GRANO CONGELADO | B26: =VLOOKUP($A26,NSN!$A:$B,2,FALSE) -> C903292 | C26: =VLOOKUP($A26,CODIGOS!$B:$E,4,FALSE) -> KG | D26: =($F26*$I$2)/1000 -> 12 | E26: =IF(VLOOKUP($B26,CODIGOS!$A:$F,6,0)<>1000,(($F26*$I$2)/VLOOKUP($B26,CODIGOS!$A:$F,6,0)),"") | F26: 60 | G26: =(F26/1000)*VLOOKUP($B26,CODIGOS!$A:$G,7,0) -> 0.06 | H26: =VLOOKUP($A26,CODIGOS!$B:$D,2,FALSE) -> 1874 | I26: =IF($H26="S/STOCK","",$J26/$I$2) -> 112.44 | J26: =IF(H26="S/STOCK","",IF($E26="",$D26*$H26,$E26*$H26)) -> 22488 | K26: =VLOOKUP($B26,CODIGOS!$A:$K,8,0)*$G26*1000 -> 48.6 | L26: =VLOOKUP($B26,CODIGOS!$A:$K,9,0)*$G26*1000 -> 1.8 | M26: =VLOOKUP($B26,CODIGOS!$A:$K,10,0)*$G26*1000 -> 0 | N26: =VLOOKUP($B26,CODIGOS!$A:$K,11,0)*$G26*1000 -> 12.3
A27: ACEITE 900 ML | B27: =VLOOKUP($A27,NSN!$A:$B,2,FALSE) -> C902636 | C27: =VLOOKUP($A27,CODIGOS!$B:$E,4,FALSE) -> 900 ML | D27: =($F27*$I$2)/1000 -> 1 | E27: =IF(VLOOKUP($B27,CODIGOS!$A:$F,6,0)<>1000,(($F27*$I$2)/VLOOKUP($B27,CODIGOS!$A:$F,6,0)),"") -> 1.1111111 | F27: 5 | G27: =(F27/1000)*VLOOKUP($B27,CODIGOS!$A:$G,7,0) -> 0.005 | H27: =VLOOKUP($A27,CODIGOS!$B:$D,2,FALSE) -> 1500 | I27: =IF($H27="S/STOCK","",$J27/$I$2) -> 8.3333333 | J27: =IF(H27="S/STOCK","",IF($E27="",$D27*$H27,$E27*$H27)) -> 1666.6667 | K27: =VLOOKUP($B27,CODIGOS!$A:$K,8,0)*$G27*1000 -> 44.2 | L27: =VLOOKUP($B27,CODIGOS!$A:$K,9,0)*$G27*1000 -> 0 | M27: =VLOOKUP($B27,CODIGOS!$A:$K,10,0)*$G27*1000 -> 5 | N27: =VLOOKUP($B27,CODIGOS!$A:$K,11,0)*$G27*1000 -> 0
A28: SAL | B28: =VLOOKUP($A28,NSN!$A:$B,2,FALSE) -> C000528 | C28: =VLOOKUP($A28,CODIGOS!$B:$E,4,FALSE) -> KG | D28: =($F28*$I$2)/1000 -> 0.1 | E28: =IF(VLOOKUP($B28,CODIGOS!$A:$F,6,0)<>1000,(($F28*$I$2)/VLOOKUP($B28,CODIGOS!$A:$F,6,0)),"") | F28: 0.5 | G28: =(F28/1000)*VLOOKUP($B28,CODIGOS!$A:$G,7,0) -> 0.0005 | H28: =VLOOKUP($A28,CODIGOS!$B:$D,2,FALSE) -> 375 | I28: =IF($H28="S/STOCK","",$J28/$I$2) -> 0.1875 | J28: =IF(H28="S/STOCK","",IF($E28="",$D28*$H28,$E28*$H28)) -> 37.5 | K28: =VLOOKUP($B28,CODIGOS!$A:$K,8,0)*$G28*1000 -> 0 | L28: =VLOOKUP($B28,CODIGOS!$A:$K,9,0)*$G28*1000 -> 0 | M28: =VLOOKUP($B28,CODIGOS!$A:$K,10,0)*$G28*1000 -> 0 | N28: =VLOOKUP($B28,CODIGOS!$A:$K,11,0)*$G28*1000 -> 0
A29: SUCEDANEO JUGO LIMON 500CC | B29: =VLOOKUP($A29,NSN!$A:$B,2,FALSE) -> V001129 | C29: =VLOOKUP($A29,CODIGOS!$B:$E,4,FALSE) -> 500 cc | D29: =($F29*$I$2)/1000 -> 2 | E29: =IF(VLOOKUP($B29,CODIGOS!$A:$F,6,0)<>1000,(($F29*$I$2)/VLOOKUP($B29,CODIGOS!$A:$F,6,0)),"") -> 4 | F29: 10 | G29: =(F29/1000)*VLOOKUP($B29,CODIGOS!$A:$G,7,0) -> 0.01 | H29: =VLOOKUP($A29,CODIGOS!$B:$D,2,FALSE) -> 1550 | I29: =IF($H29="S/STOCK","",$J29/$I$2) -> 31 | J29: =IF(H29="S/STOCK","",IF($E29="",$D29*$H29,$E29*$H29)) -> 6200 | K29: =VLOOKUP($B29,CODIGOS!$A:$K,8,0)*$G29*1000 -> 2.5 | L29: =VLOOKUP($B29,CODIGOS!$A:$K,9,0)*$G29*1000 -> 0 | M29: =VLOOKUP($B29,CODIGOS!$A:$K,10,0)*$G29*1000 -> 0.01 | N29: =VLOOKUP($B29,CODIGOS!$A:$K,11,0)*$G29*1000 -> 9.37
A30: PESCADO MERLUZA REBOSADA | B30: =VLOOKUP($A30,NSN!$A:$B,2,FALSE) -> C903005 | C30: =VLOOKUP($A30,CODIGOS!$B:$E,4,FALSE) -> KG | D30: =($F30*$I$2)/1000 -> 34 | E30: =IF(VLOOKUP($B30,CODIGOS!$A:$F,6,0)<>1000,(($F30*$I$2)/VLOOKUP($B30,CODIGOS!$A:$F,6,0)),"") | F30: 170 | G30: =(F30/1000)*VLOOKUP($B30,CODIGOS!$A:$G,7,0) -> 0.17 | H30: =VLOOKUP($A30,CODIGOS!$B:$D,2,FALSE) -> 5115 | I30: =IF($H30="S/STOCK","",$J30/$I$2) -> 869.55 | J30: =IF(H30="S/STOCK","",IF($E30="",$D30*$H30,$E30*$H30)) -> 173910 | K30: =VLOOKUP($B30,CODIGOS!$A:$K,8,0)*$G30*1000 -> 287.3 | L30: =VLOOKUP($B30,CODIGOS!$A:$K,9,0)*$G30*1000 -> 18.7 | M30: =VLOOKUP($B30,CODIGOS!$A:$K,10,0)*$G30*1000 -> 11.9 | N30: =VLOOKUP($B30,CODIGOS!$A:$K,11,0)*$G30*1000 -> 18.7
A31: SAL | B31: =VLOOKUP($A31,NSN!$A:$B,2,FALSE) -> C000528 | C31: =VLOOKUP($A31,CODIGOS!$B:$E,4,FALSE) -> KG | D31: =($F31*$I$2)/1000 -> 0.1 | E31: =IF(VLOOKUP($B31,CODIGOS!$A:$F,6,0)<>1000,(($F31*$I$2)/VLOOKUP($B31,CODIGOS!$A:$F,6,0)),"") | F31: 0.5 | G31: =(F31/1000)*VLOOKUP($B31,CODIGOS!$A:$G,7,0) -> 0.0005 | H31: =VLOOKUP($A31,CODIGOS!$B:$D,2,FALSE) -> 375 | I31: =IF($H31="S/STOCK","",$J31/$I$2) -> 0.1875 | J31: =IF(H31="S/STOCK","",IF($E31="",$D31*$H31,$E31*$H31)) -> 37.5 | K31: =VLOOKUP($B31,CODIGOS!$A:$K,8,0)*$G31*1000 -> 0 | L31: =VLOOKUP($B31,CODIGOS!$A:$K,9,0)*$G31*1000 -> 0 | M31: =VLOOKUP($B31,CODIGOS!$A:$K,10,0)*$G31*1000 -> 0 | N31: =VLOOKUP($B31,CODIGOS!$A:$K,11,0)*$G31*1000 -> 0
A32: ACEITE 900 ML | B32: =VLOOKUP($A32,NSN!$A:$B,2,FALSE) -> C902636 | C32: =VLOOKUP($A32,CODIGOS!$B:$E,4,FALSE) -> 900 ML | D32: =($F32*$I$2)/1000 -> 1 | E32: =IF(VLOOKUP($B32,CODIGOS!$A:$F,6,0)<>1000,(($F32*$I$2)/VLOOKUP($B32,CODIGOS!$A:$F,6,0)),"") -> 1.1111111 | F32: 5 | G32: =(F32/1000)*VLOOKUP($B32,CODIGOS!$A:$G,7,0) -> 0.005 | H32: =VLOOKUP($A32,CODIGOS!$B:$D,2,FALSE) -> 1500 | I32: =IF($H32="S/STOCK","",$J32/$I$2) -> 8.3333333 | J32: =IF(H32="S/STOCK","",IF($E32="",$D32*$H32,$E32*$H32)) -> 1666.6667 | K32: =VLOOKUP($B32,CODIGOS!$A:$K,8,0)*$G32*1000 -> 44.2 | L32: =VLOOKUP($B32,CODIGOS!$A:$K,9,0)*$G32*1000 -> 0 | M32: =VLOOKUP($B32,CODIGOS!$A:$K,10,0)*$G32*1000 -> 5 | N32: =VLOOKUP($B32,CODIGOS!$A:$K,11,0)*$G32*1000 -> 0
A33: PURE DE PAPAS INTANTANEO | B33: =VLOOKUP($A33,NSN!$A:$B,2,FALSE) -> C902418 | C33: =VLOOKUP($A33,CODIGOS!$B:$E,4,FALSE) -> KG | D33: =($F33*$I$2)/1000 -> 10 | E33: =IF(VLOOKUP($B33,CODIGOS!$A:$F,6,0)<>1000,(($F33*$I$2)/VLOOKUP($B33,CODIGOS!$A:$F,6,0)),"") | F33: 50 | G33: =(F33/1000)*VLOOKUP($B33,CODIGOS!$A:$G,7,0) -> 0.05 | H33: =VLOOKUP($A33,CODIGOS!$B:$D,2,FALSE) -> 4993 | I33: =IF($H33="S/STOCK","",$J33/$I$2) -> 249.65 | J33: =IF(H33="S/STOCK","",IF($E33="",$D33*$H33,$E33*$H33)) -> 49930 | K33: =VLOOKUP($B33,CODIGOS!$A:$K,8,0)*$G33*1000 -> 174 | L33: =VLOOKUP($B33,CODIGOS!$A:$K,9,0)*$G33*1000 -> 3.2 | M33: =VLOOKUP($B33,CODIGOS!$A:$K,10,0)*$G33*1000 -> 0.5 | N33: =VLOOKUP($B33,CODIGOS!$A:$K,11,0)*$G33*1000 -> 39.1
A34: LECHE EN POLVO 800 GRS. | B34: =VLOOKUP($A34,NSN!$A:$B,2,FALSE) -> C903335 | C34: =VLOOKUP($A34,CODIGOS!$B:$E,4,FALSE) -> 800 grs | D34: =($F34*$I$2)/1000 -> 2 | E34: =IF(VLOOKUP($B34,CODIGOS!$A:$F,6,0)<>1000,(($F34*$I$2)/VLOOKUP($B34,CODIGOS!$A:$F,6,0)),"") -> 2.5 | F34: 10 | G34: =(F34/1000)*VLOOKUP($B34,CODIGOS!$A:$G,7,0) -> 0.01 | H34: =VLOOKUP($A34,CODIGOS!$B:$D,2,FALSE) -> 4975 | I34: =IF($H34="S/STOCK","",$J34/$I$2) -> 62.1875 | J34: =IF(H34="S/STOCK","",IF($E34="",$D34*$H34,$E34*$H34)) -> 12437.5 | K34: =VLOOKUP($B34,CODIGOS!$A:$K,8,0)*$G34*1000 -> 35.3 | L34: =VLOOKUP($B34,CODIGOS!$A:$K,9,0)*$G34*1000 -> 4.01 | M34: =VLOOKUP($B34,CODIGOS!$A:$K,10,0)*$G34*1000 -> 0.01 | N34: =VLOOKUP($B34,CODIGOS!$A:$K,11,0)*$G34*1000 -> 4.79
... A37: POSTRE GELATINA EN POLVO FRAMBUESA | B37: =VLOOKUP($A37,NSN!$A:$B,2,FALSE) -> C902854 | C37: =VLOOKUP($A37,CODIGOS!$B:$E,4,FALSE) -> KG | D37: =($F37*$I$2)/1000 -> 2.8 | E37: =IF(VLOOKUP($B37,CODIGOS!$A:$F,6,0)<>1000,(($F37*$I$2)/VLOOKUP($B37,CODIGOS!$A:$F,6,0)),"") | F37: 14 | G37: =(F37/1000)*VLOOKUP($B37,CODIGOS!$A:$G,7,0) -> 0.014 | H37: =VLOOKUP($A37,CODIGOS!$B:$D,2,FALSE) -> 4054 | I37: =IF($H37="S/STOCK","",$J37/$I$2) -> 56.756 | J37: =IF(H37="S/STOCK","",IF($E37="",$D37*$H37,$E37*$H37)) -> 11351.2 | K37: =VLOOKUP($B37,CODIGOS!$A:$K,8,0)*$G37*1000 -> 50.96 | L37: =VLOOKUP($B37,CODIGOS!$A:$K,9,0)*$G37*1000 -> 2.884 | M37: =VLOOKUP($B37,CODIGOS!$A:$K,10,0)*$G37*1000 -> 0.168 | N37: =VLOOKUP($B37,CODIGOS!$A:$K,11,0)*$G37*1000 -> 9.716
I38: =SUM(I23:I37) -> 1601.0894 | J38: =SUM(J23:J37) -> 320217.89 | K38: =SUM(K23:K37) -> 910.6656 | L38: =SUM(L23:L37) -> 35.38908 | M38: =SUM(M23:M37) -> 28.88596 | N38: =SUM(N23:N37) -> 130.99828
A39: CENA
A40: REFRESCO NARANJA | B40: =VLOOKUP($A40,NSN!$A:$B,2,FALSE) -> C902859 | C40: =VLOOKUP($A40,CODIGOS!$B:$E,4,FALSE) -> KG | D40: =($F40*$I$3)/1000 -> 0.48 | E40: =IF(VLOOKUP($B40,CODIGOS!$A:$F,6,0)<>1000,(($F40*$I$3)/VLOOKUP($B40,CODIGOS!$A:$F,6,0)),"") | F40: 6 | G40: =(F40/1000)*VLOOKUP($B40,CODIGOS!$A:$G,7,0) -> 0.006 | H40: =VLOOKUP($A40,CODIGOS!$B:$D,2,FALSE) -> 2986 | I40: =IF($H40="S/STOCK","",$J40/$I$3) -> 17.916 | J40: =IF(H40="S/STOCK","",IF($E40="",$D40*$H40,$E40*$H40)) -> 1433.28 | K40: =VLOOKUP($B40,CODIGOS!$A:$K,8,0)*$G40*1000 -> 21.54 | L40: =VLOOKUP($B40,CODIGOS!$A:$K,9,0)*$G40*1000 -> 0 | M40: =VLOOKUP($B40,CODIGOS!$A:$K,10,0)*$G40*1000 -> 0 | N40: =VLOOKUP($B40,CODIGOS!$A:$K,11,0)*$G40*1000 -> 5.376
A41: PAN | B41: =VLOOKUP($A41,NSN!$A:$B,2,FALSE) -> V000415 | C41: =VLOOKUP($A41,CODIGOS!$B:$E,4,FALSE) -> KG | D41: =($F41*$I$3)/1000 -> 4 | E41: =IF(VLOOKUP($B41,CODIGOS!$A:$F,6,0)<>1000,(($F41*$I$3)/VLOOKUP($B41,CODIGOS!$A:$F,6,0)),"") | F41: 50 | G41: =(F41/1000)*VLOOKUP($B41,CODIGOS!$A:$G,7,0) -> 0.05 | H41: =VLOOKUP($A41,CODIGOS!$B:$D,2,FALSE) -> 1783 | I41: =IF($H41="S/STOCK","",$J41/$I$3) -> 89.15 | J41: =IF(H41="S/STOCK","",IF($E41="",$D41*$H41,$E41*$H41)) -> 7132 | K41: =VLOOKUP($B41,CODIGOS!$A:$K,8,0)*$G41*1000 -> 157.5 | L41: =VLOOKUP($B41,CODIGOS!$A:$K,9,0)*$G41*1000 -> 4.1 | M41: =VLOOKUP($B41,CODIGOS!$A:$K,10,0)*$G41*1000 -> 2 | N41: =VLOOKUP($B41,CODIGOS!$A:$K,11,0)*$G41*1000 -> 30.8
A42: LENTEJAS | B42: =VLOOKUP($A42,NSN!$A:$B,2,FALSE) -> C000193 | C42: =VLOOKUP($A42,CODIGOS!$B:$E,4,FALSE) -> KG | D42: =($F42*$I$3)/1000 -> 1.2 | E42: =IF(VLOOKUP($B42,CODIGOS!$A:$F,6,0)<>1000,(($F42*$I$2)/VLOOKUP($B42,CODIGOS!$A:$F,6,0)),"") | F42: 15 | G42: =(F42/1000)*VLOOKUP($B42,CODIGOS!$A:$G,7,0) -> 0.015 | H42: =VLOOKUP($A42,CODIGOS!$B:$D,2,FALSE) -> 2056 | I42: =IF($H42="S/STOCK","",$J42/$I$2) -> 12.336 | J42: =IF(H42="S/STOCK","",IF($E42="",$D42*$H42,$E42*$H42)) -> 2467.2 | K42: =VLOOKUP($B42,CODIGOS!$A:$K,8,0)*$G42*1000 -> 50.55 | L42: =VLOOKUP($B42,CODIGOS!$A:$K,9,0)*$G42*1000 -> 3.6 | M42: =VLOOKUP($B42,CODIGOS!$A:$K,10,0)*$G42*1000 -> 0.195 | N42: =VLOOKUP($B42,CODIGOS!$A:$K,11,0)*$G42*1000 -> 8.61
A43: AJOS FRESCO | B43: =VLOOKUP($A43,NSN!$A:$B,2,FALSE) -> V000014 | C43: =VLOOKUP($A43,CODIGOS!$B:$E,4,FALSE) -> NR 35 g | D43: =($F43*$I$3)/1000 -> 0.04 | E43: =IF(VLOOKUP($B43,CODIGOS!$A:$F,6,0)<>1000,(($F43*$I$2)/VLOOKUP($B43,CODIGOS!$A:$F,6,0)),"") -> 2.8571429 | F43: 0.5 | G43: =(F43/1000)*VLOOKUP($B43,CODIGOS!$A:$G,7,0) -> 0.0005 | H43: =VLOOKUP($A43,CODIGOS!$B:$D,2,FALSE) -> 297 | I43: =IF($H43="S/STOCK","",$J43/$I$2) -> 4.2428571 | J43: =IF(H43="S/STOCK","",IF($E43="",$D43*$H43,$E43*$H43)) -> 848.57143 | K43: =VLOOKUP($B43,CODIGOS!$A:$K,8,0)*$G43*1000 -> 0.695 | L43: =VLOOKUP($B43,CODIGOS!$A:$K,9,0)*$G43*1000 -> 0.0335 | M43: =VLOOKUP($B43,CODIGOS!$A:$K,10,0)*$G43*1000 -> 0.002 | N43: =VLOOKUP($B43,CODIGOS!$A:$K,11,0)*$G43*1000 -> 0.136
A44: PEREJIL | B44: =VLOOKUP($A44,NSN!$A:$B,2,FALSE) -> V000231 | C44: =VLOOKUP($A44,CODIGOS!$B:$E,4,FALSE) -> NR 200 gr | D44: =($F44*$I$3)/1000 -> 0.04 | E44: =IF(VLOOKUP($B44,CODIGOS!$A:$F,6,0)<>1000,(($F44*$I$2)/VLOOKUP($B44,CODIGOS!$A:$F,6,0)),"") -> 0.5 | F44: 0.5 | G44: =(F44/1000)*VLOOKUP($B44,CODIGOS!$A:$G,7,0) -> 0.0004385 | H44: =VLOOKUP($A44,CODIGOS!$B:$D,2,FALSE) -> 774 | I44: =IF($H44="S/STOCK","",$J44/$I$2) -> 1.935 | J44: =IF(H44="S/STOCK","",IF($E44="",$D44*$H44,$E44*$H44)) -> 387 | K44: =VLOOKUP($B44,CODIGOS!$A:$K,8,0)*$G44*1000 -> 0.258715 | L44: =VLOOKUP($B44,CODIGOS!$A:$K,9,0)*$G44*1000 -> 0.0135935 | M44: =VLOOKUP($B44,CODIGOS!$A:$K,10,0)*$G44*1000 -> 0.002631 | N44: =VLOOKUP($B44,CODIGOS!$A:$K,11,0)*$G44*1000 -> 0.0451655
A45: ARROZ | B45: =VLOOKUP($A45,NSN!$A:$B,2,FALSE) -> C002832 | C45: =VLOOKUP($A45,CODIGOS!$B:$E,4,FALSE) -> KG | D45: =($F45*$I$3)/1000 -> 0.4 | E45: =IF(VLOOKUP($B45,CODIGOS!$A:$F,6,0)<>1000,(($F45*$I$3)/VLOOKUP($B45,CODIGOS!$A:$F,6,0)),"") | F45: 5 | G45: =(F45/1000)*VLOOKUP($B45,CODIGOS!$A:$G,7,0) -> 0.005 | H45: =VLOOKUP($A45,CODIGOS!$B:$D,2,FALSE) -> 1384 | I45: =IF($H45="S/STOCK","",$J45/$I$3) -> 6.92 | J45: =IF(H45="S/STOCK","",IF($E45="",$D45*$H45,$E45*$H45)) -> 553.6 | K45: =VLOOKUP($B45,CODIGOS!$A:$K,8,0)*$G45*1000 -> 17.6 | L45: =VLOOKUP($B45,CODIGOS!$A:$K,9,0)*$G45*1000 -> 0.32 | M45: =VLOOKUP($B45,CODIGOS!$A:$K,10,0)*$G45*1000 -> 0.04 | N45: =VLOOKUP($B45,CODIGOS!$A:$K,11,0)*$G45*1000 -> 3.985
A46: ZAPALLO | B46: =VLOOKUP($A46,NSN!$A:$B,2,FALSE) -> V000332 | C46: =VLOOKUP($A46,CODIGOS!$B:$E,4,FALSE) -> KG | D46: =($F46*$I$3)/1000 -> 1.2 | E46: =IF(VLOOKUP($B46,CODIGOS!$A:$F,6,0)<>1000,(($F46*$I$3)/VLOOKUP($B46,CODIGOS!$A:$F,6,0)),"") | F46: 15 | G46: =(F46/1000)*VLOOKUP($B46,CODIGOS!$A:$G,7,0) -> 0.014055 | H46: =VLOOKUP($A46,CODIGOS!$B:$D,2,FALSE) -> 1456 | I46: =IF($H46="S/STOCK","",$J46/$I$3) -> 21.84 | J46: =IF(H46="S/STOCK","",IF($E46="",$D46*$H46,$E46*$H46)) -> 1747.2 | K46: =VLOOKUP($B46,CODIGOS!$A:$K,8,0)*$G46*1000 -> 4.7787 | L46: =VLOOKUP($B46,CODIGOS!$A:$K,9,0)*$G46*1000 -> 0.02811 | M46: =VLOOKUP($B46,CODIGOS!$A:$K,10,0)*$G46*1000 -> 0.08433 | N46: =VLOOKUP($B46,CODIGOS!$A:$K,11,0)*$G46*1000 -> 0.98385
A47: LOMO CERDO | B47: =VLOOKUP($A47,NSN!$A:$B,2,FALSE) -> C902737 | C47: =VLOOKUP($A47,CODIGOS!$B:$E,4,FALSE) -> KG | D47: =($F47*$I$3)/1000 -> 13.6 | E47: =IF(VLOOKUP($B47,CODIGOS!$A:$F,6,0)<>1000,(($F47*$I$2)/VLOOKUP($B47,CODIGOS!$A:$F,6,0)),"") | F47: 170 | G47: =(F47/1000)*VLOOKUP($B47,CODIGOS!$A:$G,7,0) -> 0.13549 | H47: =VLOOKUP($A47,CODIGOS!$B:$D,2,FALSE) -> 3900 | I47: =IF($H47="S/STOCK","",$J47/$I$2) -> 265.2 | J47: =IF(H47="S/STOCK","",IF($E47="",$D47*$H47,$E47*$H47)) -> 53040 | K47: =VLOOKUP($B47,CODIGOS!$A:$K,8,0)*$G47*1000 -> 178.8468 | L47: =VLOOKUP($B47,CODIGOS!$A:$K,9,0)*$G47*1000 -> 28.72388 | M47: =VLOOKUP($B47,CODIGOS!$A:$K,10,0)*$G47*1000 -> 5.96156 | N47: =VLOOKUP($B47,CODIGOS!$A:$K,11,0)*$G47*1000 -> 2.43882
A48: CEBOLLIN | B48: =VLOOKUP($A48,NSN!$A:$B,2,FALSE) -> V000337 | C48: =VLOOKUP($A48,CODIGOS!$B:$E,4,FALSE) -> NR (400 g) | D48: =($F48*$I$3)/1000 -> 1.2 | E48: =IF(VLOOKUP($B48,CODIGOS!$A:$F,6,0)<>1000,(($F48*$I$2)/VLOOKUP($B48,CODIGOS!$A:$F,6,0)),"") -> 7.5 | F48: 15 | G48: =(F48/1000)*VLOOKUP($B48,CODIGOS!$A:$G,7,0) -> 0.01347 | H48: =VLOOKUP($A48,CODIGOS!$B:$D,2,FALSE) -> 1226 | I48: =IF($H48="S/STOCK","",$J48/$I$2) -> 45.975 | J48: =IF(H48="S/STOCK","",IF($E48="",$D48*$H48,$E48*$H48)) -> 9195 | K48: =VLOOKUP($B48,CODIGOS!$A:$K,8,0)*$G48*1000 -> 5.7921 | L48: =VLOOKUP($B48,CODIGOS!$A:$K,9,0)*$G48*1000 -> 0.10776 | M48: =VLOOKUP($B48,CODIGOS!$A:$K,10,0)*$G48*1000 -> 0.02694 | N48: =VLOOKUP($B48,CODIGOS!$A:$K,11,0)*$G48*1000 -> 1.29312
A49: CEBOLLAS FRESCAS | B49: =VLOOKUP($A49,NSN!$A:$B,2,FALSE) -> C000249 | C49: =VLOOKUP($A49,CODIGOS!$B:$E,4,FALSE) -> KG | D49: =($F49*$I$3)/1000 -> 1.6 | E49: =IF(VLOOKUP($B49,CODIGOS!$A:$F,6,0)<>1000,(($F49*$I$3)/VLOOKUP($B49,CODIGOS!$A:$F,6,0)),"") | F49: 20 | G49: =(F49/1000)*VLOOKUP($B49,CODIGOS!$A:$G,7,0) -> 0.01782 | H49: =VLOOKUP($A49,CODIGOS!$B:$D,2,FALSE) -> 640 | I49: =IF($H49="S/STOCK","",$J49/$I$3) -> 12.8 | J49: =IF(H49="S/STOCK","",IF($E49="",$D49*$H49,$E49*$H49)) -> 1024 | K49: =VLOOKUP($B49,CODIGOS!$A:$K,8,0)*$G49*1000 -> 7.6626 | L49: =VLOOKUP($B49,CODIGOS!$A:$K,9,0)*$G49*1000 -> 0.14256 | M49: =VLOOKUP($B49,CODIGOS!$A:$K,10,0)*$G49*1000 -> 0.03564 | N49: =VLOOKUP($B49,CODIGOS!$A:$K,11,0)*$G49*1000 -> 1.71072
A50: ZANAHORIA | B50: =VLOOKUP($A50,NSN!$A:$B,2,FALSE) -> V000330 | C50: =VLOOKUP($A50,CODIGOS!$B:$E,4,FALSE) -> KG | D50: =($F50*$I$3)/1000 -> 1.6 | E50: =IF(VLOOKUP($B50,CODIGOS!$A:$F,6,0)<>1000,(($F50*$I$3)/VLOOKUP($B50,CODIGOS!$A:$F,6,0)),"") | F50: 20 | G50: =(F50/1000)*VLOOKUP($B50,CODIGOS!$A:$G,7,0) -> 0.01804 | H50: =VLOOKUP($A50,CODIGOS!$B:$D,2,FALSE) -> 1287 | I50: =IF($H50="S/STOCK","",$J50/$I$3) -> 25.74 | J50: =IF(H50="S/STOCK","",IF($E50="",$D50*$H50,$E50*$H50)) -> 2059.2 | K50: =VLOOKUP($B50,CODIGOS!$A:$K,8,0)*$G50*1000 -> 15.5144 | L50: =VLOOKUP($B50,CODIGOS!$A:$K,9,0)*$G50*1000 -> 0.16236 | M50: =VLOOKUP($B50,CODIGOS!$A:$K,10,0)*$G50*1000 -> 0.0902 | N50: =VLOOKUP($B50,CODIGOS!$A:$K,11,0)*$G50*1000 -> 1.46124
A51: DIENTE DE DRAGON | B51: =VLOOKUP($A51,NSN!$A:$B,2,FALSE) -> V000338 | C51: =VLOOKUP($A51,CODIGOS!$B:$E,4,FALSE) -> PQ 500 gr | D51: =($F51*$I$3)/1000 -> 1.2 | E51: =IF(VLOOKUP($B51,CODIGOS!$A:$F,6,0)<>1000,(($F51*$I$3)/VLOOKUP($B51,CODIGOS!$A:$F,6,0)),"") -> 2.4 | F51: 15 | G51: =(F51/1000)*VLOOKUP($B51,CODIGOS!$A:$G,7,0) -> 0.015 | H51: =VLOOKUP($A51,CODIGOS!$B:$D,2,FALSE) -> 790 | I51: =IF($H51="S/STOCK","",$J51/$I$3) -> 23.7 | J51: =IF(H51="S/STOCK","",IF($E51="",$D51*$H51,$E51*$H51)) -> 1896 | K51: =VLOOKUP($B51,CODIGOS!$A:$K,8,0)*$G51*1000 -> 0 | L51: =VLOOKUP($B51,CODIGOS!$A:$K,9,0)*$G51*1000 -> 0 | M51: =VLOOKUP($B51,CODIGOS!$A:$K,10,0)*$G51*1000 -> 0 | N51: =VLOOKUP($B51,CODIGOS!$A:$K,11,0)*$G51*1000 -> 0
A52: ZAPALLOS ITALIANOS NR | B52: =VLOOKUP($A52,NSN!$A:$B,2,FALSE) -> V000333 | C52: =VLOOKUP($A52,CODIGOS!$B:$E,4,FALSE) -> NR (250 g) | D52: =($F52*$I$3)/1000 -> 2.4 | E52: =IF(VLOOKUP($B52,CODIGOS!$A:$F,6,0)<>1000,(($F52*$I$3)/VLOOKUP($B52,CODIGOS!$A:$F,6,0)),"") -> 9.6 | F52: 30 | G52: =(F52/1000)*VLOOKUP($B52,CODIGOS!$A:$G,7,0) -> 0.02844 | H52: =VLOOKUP($A52,CODIGOS!$B:$D,2,FALSE) -> 796 | I52: =IF($H52="S/STOCK","",$J52/$I$3) -> 95.52 | J52: =IF(H52="S/STOCK","",IF($E52="",$D52*$H52,$E52*$H52)) -> 7641.6 | K52: =VLOOKUP($B52,CODIGOS!$A:$K,8,0)*$G52*1000 -> 4.8348 | L52: =VLOOKUP($B52,CODIGOS!$A:$K,9,0)*$G52*1000 -> 0.36972 | M52: =VLOOKUP($B52,CODIGOS!$A:$K,10,0)*$G52*1000 -> 0.08532 | N52: =VLOOKUP($B52,CODIGOS!$A:$K,11,0)*$G52*1000 -> 0.65412
A53: SALSA SOYA | B53: =VLOOKUP($A53,NSN!$A:$B,2,FALSE) -> V000300 | C53: =VLOOKUP($A53,CODIGOS!$B:$E,4,FALSE) -> BT 500 cc | D53: =($F53*$I$3)/1000 -> 0.24 | E53: =IF(VLOOKUP($B53,CODIGOS!$A:$F,6,0)<>1000,(($F53*$I$3)/VLOOKUP($B53,CODIGOS!$A:$F,6,0)),"") -> 0.48 | F53: 3 | G53: =(F53/1000)*VLOOKUP($B53,CODIGOS!$A:$G,7,0) -> 0.003 | H53: =VLOOKUP($A53,CODIGOS!$B:$D,2,FALSE) -> 3462 | I53: =IF($H53="S/STOCK","",$J53/$I$3) -> 20.772 | J53: =IF(H53="S/STOCK","",IF($E53="",$D53*$H53,$E53*$H53)) -> 1661.76 | K53: =VLOOKUP($B53,CODIGOS!$A:$K,8,0)*$G53*1000 -> 2.19 | L53: =VLOOKUP($B53,CODIGOS!$A:$K,9,0)*$G53*1000 -> 0 | M53: =VLOOKUP($B53,CODIGOS!$A:$K,10,0)*$G53*1000 -> 0 | N53: =VLOOKUP($B53,CODIGOS!$A:$K,11,0)*$G53*1000 -> 0.54
A54: ACEITE 900 ML | B54: =VLOOKUP($A54,NSN!$A:$B,2,FALSE) -> C902636 | C54: =VLOOKUP($A54,CODIGOS!$B:$E,4,FALSE) -> 900 ML | D54: =($F54*$I$3)/1000 -> 0.4 | E54: =IF(VLOOKUP($B54,CODIGOS!$A:$F,6,0)<>1000,(($F54*$I$3)/VLOOKUP($B54,CODIGOS!$A:$F,6,0)),"") -> 0.44444444 | F54: 5 | G54: =(F54/1000)*VLOOKUP($B54,CODIGOS!$A:$G,7,0) -> 0.005 | H54: =VLOOKUP($A54,CODIGOS!$B:$D,2,FALSE) -> 1500 | I54: =IF($H54="S/STOCK","",$J54/$I$3) -> 8.3333333 | J54: =IF(H54="S/STOCK","",IF($E54="",$D54*$H54,$E54*$H54)) -> 666.66667 | K54: =VLOOKUP($B54,CODIGOS!$A:$K,8,0)*$G54*1000 -> 44.2 | L54: =VLOOKUP($B54,CODIGOS!$A:$K,9,0)*$G54*1000 -> 0 | M54: =VLOOKUP($B54,CODIGOS!$A:$K,10,0)*$G54*1000 -> 5 | N54: =VLOOKUP($B54,CODIGOS!$A:$K,11,0)*$G54*1000 -> 0
A55: SAL | B55: =VLOOKUP($A55,NSN!$A:$B,2,FALSE) -> C000528 | C55: =VLOOKUP($A55,CODIGOS!$B:$E,4,FALSE) -> KG | D55: =($F55*$I$3)/1000 -> 0.04 | E55: =IF(VLOOKUP($B55,CODIGOS!$A:$F,6,0)<>1000,(($F55*$I$3)/VLOOKUP($B55,CODIGOS!$A:$F,6,0)),"") | F55: 0.5 | G55: =(F55/1000)*VLOOKUP($B55,CODIGOS!$A:$G,7,0) -> 0.0005 | H55: =VLOOKUP($A55,CODIGOS!$B:$D,2,FALSE) -> 375 | I55: =IF($H55="S/STOCK","",$J55/$I$3) -> 0.1875 | J55: =IF(H55="S/STOCK","",IF($E55="",$D55*$H55,$E55*$H55)) -> 15 | K55: =VLOOKUP($B55,CODIGOS!$A:$K,8,0)*$G55*1000 -> 0 | L55: =VLOOKUP($B55,CODIGOS!$A:$K,9,0)*$G55*1000 -> 0 | M55: =VLOOKUP($B55,CODIGOS!$A:$K,10,0)*$G55*1000 -> 0 | N55: =VLOOKUP($B55,CODIGOS!$A:$K,11,0)*$G55*1000 -> 0
A56: ARROZ | B56: =VLOOKUP($A56,NSN!$A:$B,2,FALSE) -> C002832 | C56: =VLOOKUP($A56,CODIGOS!$B:$E,4,FALSE) -> KG | D56: =($F56*$I$3)/1000 -> 6.4 | E56: =IF(VLOOKUP($B56,CODIGOS!$A:$F,6,0)<>1000,(($F56*$I$3)/VLOOKUP($B56,CODIGOS!$A:$F,6,0)),"") | F56: 80 | G56: =(F56/1000)*VLOOKUP($B56,CODIGOS!$A:$G,7,0) -> 0.08 | H56: =VLOOKUP($A56,CODIGOS!$B:$D,2,FALSE) -> 1384 | I56: =IF($H56="S/STOCK","",$J56/$I$3) -> 110.72 | J56: =IF(H56="S/STOCK","",IF($E56="",$D56*$H56,$E56*$H56)) -> 8857.6 | K56: =VLOOKUP($B56,CODIGOS!$A:$K,8,0)*$G56*1000 -> 281.6 | L56: =VLOOKUP($B56,CODIGOS!$A:$K,9,0)*$G56*1000 -> 5.12 | M56: =VLOOKUP($B56,CODIGOS!$A:$K,10,0)*$G56*1000 -> 0.64 | N56: =VLOOKUP($B56,CODIGOS!$A:$K,11,0)*$G56*1000 -> 63.76
A57: ACEITE 900 ML | B57: =VLOOKUP($A57,NSN!$A:$B,2,FALSE) -> C902636 | C57: =VLOOKUP($A57,CODIGOS!$B:$E,4,FALSE) -> 900 ML | D57: =($F57*$I$3)/1000 -> 0.4 | E57: =IF(VLOOKUP($B57,CODIGOS!$A:$F,6,0)<>1000,(($F57*$I$3)/VLOOKUP($B57,CODIGOS!$A:$F,6,0)),"") -> 0.44444444 | F57: 5 | G57: =(F57/1000)*VLOOKUP($B57,CODIGOS!$A:$G,7,0) -> 0.005 | H57: =VLOOKUP($A57,CODIGOS!$B:$D,2,FALSE) -> 1500 | I57: =IF($H57="S/STOCK","",$J57/$I$3) -> 8.3333333 | J57: =IF(H57="S/STOCK","",IF($E57="",$D57*$H57,$E57*$H57)) -> 666.66667 | K57: =VLOOKUP($B57,CODIGOS!$A:$K,8,0)*$G57*1000 -> 44.2 | L57: =VLOOKUP($B57,CODIGOS!$A:$K,9,0)*$G57*1000 -> 0 | M57: =VLOOKUP($B57,CODIGOS!$A:$K,10,0)*$G57*1000 -> 5 | N57: =VLOOKUP($B57,CODIGOS!$A:$K,11,0)*$G57*1000 -> 0
A58: SAL | B58: =VLOOKUP($A58,NSN!$A:$B,2,FALSE) -> C000528 | C58: =VLOOKUP($A58,CODIGOS!$B:$E,4,FALSE) -> KG | D58: =($F58*$I$3)/1000 -> 0.04 | E58: =IF(VLOOKUP($B58,CODIGOS!$A:$F,6,0)<>1000,(($F58*$I$3)/VLOOKUP($B58,CODIGOS!$A:$F,6,0)),"") | F58: 0.5 | G58: =(F58/1000)*VLOOKUP($B58,CODIGOS!$A:$G,7,0) -> 0.0005 | H58: =VLOOKUP($A58,CODIGOS!$B:$D,2,FALSE) -> 375 | I58: =IF($H58="S/STOCK","",$J58/$I$3) -> 0.1875 | J58: =IF(H58="S/STOCK","",IF($E58="",$D58*$H58,$E58*$H58)) -> 15 | K58: =VLOOKUP($B58,CODIGOS!$A:$K,8,0)*$G58*1000 -> 0 | L58: =VLOOKUP($B58,CODIGOS!$A:$K,9,0)*$G58*1000 -> 0 | M58: =VLOOKUP($B58,CODIGOS!$A:$K,10,0)*$G58*1000 -> 0 | N58: =VLOOKUP($B58,CODIGOS!$A:$K,11,0)*$G58*1000 -> 0
A59: FLAN C/LECHE S/CHOCOLATE | B59: =VLOOKUP($A59,NSN!$A:$B,2,FALSE) -> C902849 | C59: =VLOOKUP($A59,CODIGOS!$B:$E,4,FALSE) -> KG | D59: =($F59*$I$3)/1000 -> 1.6 | E59: =IF(VLOOKUP($B59,CODIGOS!$A:$F,6,0)<>1000,(($F59*$I$3)/VLOOKUP($B59,CODIGOS!$A:$F,6,0)),"") | F59: 20 | G59: =(F59/1000)*VLOOKUP($B59,CODIGOS!$A:$G,7,0) -> 0.02 | H59: =VLOOKUP($A59,CODIGOS!$B:$D,2,FALSE) -> 2655 | I59: =IF($H59="S/STOCK","",$J59/$I$3) -> 53.1 | J59: =IF(H59="S/STOCK","",IF($E59="",$D59*$H59,$E59*$H59)) -> 4248 | K59: =VLOOKUP($B59,CODIGOS!$A:$K,8,0)*$G59*1000 -> 74.8 | L59: =VLOOKUP($B59,CODIGOS!$A:$K,9,0)*$G59*1000 -> 0.5 | M59: =VLOOKUP($B59,CODIGOS!$A:$K,10,0)*$G59*1000 -> 0.44 | N59: =VLOOKUP($B59,CODIGOS!$A:$K,11,0)*$G59*1000 -> 17.2
I60: =SUM(I40:I59) -> 824.90852 | J60: =SUM(J40:J59) -> 105555.34 | K60: =SUM(K40:K59) -> 912.56312 | L60: =SUM(L40:L59) -> 43.221484 | M60: =SUM(M40:M59) -> 19.603621 | N60: =SUM(N40:N59) -> 138.99404
J61: MACRONUTRIENTES | K61: =K21+K38+K60 -> 2383.0137 | L61: =L21+L38+L60 -> 102.04696 | M61: =M21+M38+M60 -> 62.661781 | N61: =N21+N38+N60 -> 353.02492
A63: DESCRIPCION | B63: CÓDIGO | C63: U/E | D63: CANTIDAD TOTAL KG | F63: GRS P/P | G63: CANTIDAD (KG) P/P | H63: V.UNITARIO | I63: V. P/P | J63: V.TOTAL | K63: CALORÍAS | L63: PROTEÍNAS | M63: LÍPIDOS | N63: CHO
A64: CONFECCIÓN PAN
A65: HARINA FLOR | B65: =VLOOKUP($A65,NSN!$A:$B,2,FALSE) -> C000367 | C65: =VLOOKUP($A65,CODIGOS!$B:$E,4,FALSE) -> KG | D65: =($F65*$I$3)/1000 -> 11.4288 | E65: =IF(VLOOKUP($B65,CODIGOS!$A:$F,6,0)<>1000,(($F65*$I$3)/VLOOKUP($B65,CODIGOS!$A:$F,6,0)),"") | F65: 142.86 | G65: =(F65/1000)*VLOOKUP($B65,CODIGOS!$A:$G,7,0) -> 0.14286 | H65: =VLOOKUP($A65,CODIGOS!$B:$D,2,FALSE) -> 794 | I65: =IF($H65="S/STOCK","",$J65/$I$3) -> 113.43084 | J65: =IF(H65="S/STOCK","",IF($E65="",$D65*$H65,$E65*$H65)) -> 9074.4672 | K65: =VLOOKUP($B65,CODIGOS!$A:$K,8,0)*$G65*1000 -> 497.1528 | L65: =VLOOKUP($B65,CODIGOS!$A:$K,9,0)*$G65*1000 -> 11.4288 | M65: =VLOOKUP($B65,CODIGOS!$A:$K,10,0)*$G65*1000 -> 1.71432 | N65: =VLOOKUP($B65,CODIGOS!$A:$K,11,0)*$G65*1000 -> 109.14504
A66: AZUCAR BLANCA REFINADA | B66: =VLOOKUP($A66,NSN!$A:$B,2,FALSE) -> C000816 | C66: =VLOOKUP($A66,CODIGOS!$B:$E,4,FALSE) -> KG | D66: =($F66*$I$3)/1000 -> 0.1144 | E66: =IF(VLOOKUP($B66,CODIGOS!$A:$F,6,0)<>1000,(($F66*$I$3)/VLOOKUP($B66,CODIGOS!$A:$F,6,0)),"") | F66: 1.43 | G66: =(F66/1000)*VLOOKUP($B66,CODIGOS!$A:$G,7,0) -> 0.00143 | H66: =VLOOKUP($A66,CODIGOS!$B:$D,2,FALSE) -> 1128 | I66: =IF($H66="S/STOCK","",$J66/$I$3) -> 1.61304 | J66: =IF(H66="S/STOCK","",IF($E66="",$D66*$H66,$E66*$H66)) -> 129.0432 | K66: =VLOOKUP($B66,CODIGOS!$A:$K,8,0)*$G66*1000 -> 5.6914 | L66: =VLOOKUP($B66,CODIGOS!$A:$K,9,0)*$G66*1000 -> 0 | M66: =VLOOKUP($B66,CODIGOS!$A:$K,10,0)*$G66*1000 -> 0 | N66: =VLOOKUP($B66,CODIGOS!$A:$K,11,0)*$G66*1000 -> 1.42285
A67: MANTECA KG | B67: =VLOOKUP($A67,NSN!$A:$B,2,FALSE) -> V000518 | C67: =VLOOKUP($A67,CODIGOS!$B:$E,4,FALSE) -> EA | D67: =($F67*$I$3)/1000 -> 0.6856 | E67: =IF(VLOOKUP($B67,CODIGOS!$A:$F,6,0)<>1000,(($F67*$I$3)/VLOOKUP($B67,CODIGOS!$A:$F,6,0)),"") | F67: 8.57 | G67: =(F67/1000)*VLOOKUP($B67,CODIGOS!$A:$G,7,0) -> 0.00857 | H67: =VLOOKUP($A67,CODIGOS!$B:$D,2,FALSE) -> 3203 | I67: =IF($H67="S/STOCK","",$J67/$I$3) -> 27.44971 | J67: =IF(H67="S/STOCK","",IF($E67="",$D67*$H67,$E67*$H67)) -> 2195.9768 | K67: =VLOOKUP($B67,CODIGOS!$A:$K,8,0)*$G67*1000 -> 76.8729 | L67: =VLOOKUP($B67,CODIGOS!$A:$K,9,0)*$G67*1000 -> 0 | M67: =VLOOKUP($B67,CODIGOS!$A:$K,10,0)*$G67*1000 -> 8.54429 | N67: =VLOOKUP($B67,CODIGOS!$A:$K,11,0)*$G67*1000 -> 0
A68: LEVADURA INSTANTANEA | B68: =VLOOKUP($A68,NSN!$A:$B,2,FALSE) -> V000174 | C68: =VLOOKUP($A68,CODIGOS!$B:$E,4,FALSE) -> KG | D68: =($F68*$I$3)/1000 -> 0.1144 | E68: =IF(VLOOKUP($B68,CODIGOS!$A:$F,6,0)<>1000,(($F68*$I$3)/VLOOKUP($B68,CODIGOS!$A:$F,6,0)),"") | F68: 1.43 | G68: =(F68/1000)*VLOOKUP($B68,CODIGOS!$A:$G,7,0) -> 0.00143 | H68: =VLOOKUP($A68,CODIGOS!$B:$D,2,FALSE) -> 8887 | I68: =IF($H68="S/STOCK","",$J68/$I$3) -> 12.70841 | J68: =IF(H68="S/STOCK","",IF($E68="",$D68*$H68,$E68*$H68)) -> 1016.6728 | K68: =VLOOKUP($B68,CODIGOS!$A:$K,8,0)*$G68*1000 -> 6.149 | L68: =VLOOKUP($B68,CODIGOS!$A:$K,9,0)*$G68*1000 -> 0.6721 | M68: =VLOOKUP($B68,CODIGOS!$A:$K,10,0)*$G68*1000 -> 0.1001 | N68: =VLOOKUP($B68,CODIGOS!$A:$K,11,0)*$G68*1000 -> 0.5148
A69: SAL | B69: =VLOOKUP($A69,NSN!$A:$B,2,FALSE) -> C000528 | C69: =VLOOKUP($A69,CODIGOS!$B:$E,4,FALSE) -> KG | D69: =($F69*$I$3)/1000 -> 0.16 | E69: =IF(VLOOKUP($B69,CODIGOS!$A:$F,6,0)<>1000,(($F69*$I$3)/VLOOKUP($B69,CODIGOS!$A:$F,6,0)),"") | F69: 2 | G69: =(F69/1000)*VLOOKUP($B69,CODIGOS!$A:$G,7,0) -> 0.002 | H69: =VLOOKUP($A69,CODIGOS!$B:$D,2,FALSE) -> 375 | I69: =IF($H69="S/STOCK","",$J69/$I$3) -> 0.75 | J69: =IF(H69="S/STOCK","",IF($E69="",$D69*$H69,$E69*$H69)) -> 60 | K69: =VLOOKUP($B69,CODIGOS!$A:$K,8,0)*$G69*1000 -> 0 | L69: =VLOOKUP($B69,CODIGOS!$A:$K,9,0)*$G69*1000 -> 0 | M69: =VLOOKUP($B69,CODIGOS!$A:$K,10,0)*$G69*1000 -> 0 | N69: =VLOOKUP($B69,CODIGOS!$A:$K,11,0)*$G69*1000 -> 0
I70: =SUM(I65:I69) -> 155.952 | J70: =SUM(J65:J69) -> 12476.16 | K70: =SUM(K65:K69) -> 585.8661 | L70: =SUM(L65:L69) -> 12.1009 | M70: =SUM(M65:M69) -> 10.35871 | N70: =SUM(N65:N69) -> 111.08269

Sheet JUEVES
A1: JUEVES
A2: DESAYUNO | B2: ='MENU COMÚN'!D6 -> LECHE-TÉ- CAFÉ | D2: ='MENU COMÚN'!D7 -> GRANOLA CON FRUTA | G2: RACIÓN ALMUERZO (INGRESAR CANTIDAD RACIONES DE ALMUERZO) | I2: =LUNES!$I$2 -> 200
A3: ALMUERZO | B3: ENSALADA TOMATE CEBOLLA | G3: RACIÓN COMPLETA | I3: =LUNES!$I$3 -> 80
B4: EMPANADA DE PINO/PEBRE
B5: ='MENU COMÚN'!D13 -> 1° SEMANA: CAZUELA DE VACUNO 2° SEMANA: CAZUELA DE AVE 3° SEMANA: CAZUELA DE VACUNO 4° SEMANA: CAZUELA DE AVE
B6: ='MENU COMÚN'!D14 -> MOTE CON HUESILLOS | Q6: % AUMENTO
A7: CENA | B7: ='MENU COMÚN'!D17 -> CREMA DESHIDRATADA | Q7: 0 | R7: VALOR REAL | S7: VALOR TEORICO | T7: CANTIDADES | U7: TOTAL REAL | V7: TOTAL TEORICO | W7: SUPERAVIT O DEFICIT | X7: % SUP O DEF
B8: ='MENU COMÚN'!D21 -> TRUTRO ASADO CON BUDÍN DE VERDURAS | P8: =LUNES!P8 -> 2065 | Q8: RACIÓN ALMUERZO (85%) | R8: =I51 -> 1978.072 | S8: =+$P$8+($P$8*$Q$7) -> 2065 | T8: =+$I$2-$I$3 -> 120 | U8: =$R$8*$T$8 -> 237368.64 | V8: =$S$8*$T$8 -> 247800 | W8: =$V$8-$U$8 -> 10431.357 | X8: =$W$8/$V$8 -> 0.042095872
B9: ='MENU COMÚN'!D22 -> JALEA FRAMBUESA | P9: =LUNES!P9 -> 2429 | Q9: RACIÓN COMPLETA | R9: =I18+I51+I68 -> 3742.688 | S9: =+$P$9+($P$9*$Q$7) -> 2429 | T9: =+$I$3 -> 80 | U9: =$R$9*$T$9 -> 299415.04 | V9: =$S$9*$T$9 -> 194320 | W9: =$V$9-$U$9 -> -105095.04 | X9: =$W$9/$V$9 -> -0.54083492
A10: DESCRIPCION | B10: CÓDIGO | C10: U/E | D10: CANTIDAD TOTAL KG | F10: GRS P/P | G10: CANTIDAD (KG) P/P | H10: V.UNITARIO | I10: V. P/P | J10: V.TOTAL | K10: CALORÍAS | L10: PROTEÍNAS | M10: LÍPIDOS | N10: CHO | Q10: TOTAL | U10: =SUM(U8:U9) -> 536783.68 | V10: =SUM(V8:V9) -> 442120 | W10: =V10-U10 -> -94663.685 | X10: =W10/V10 -> -0.2141131
A11: DESAYUNO
A12: LECHE EN POLVO 800 GRS. | B12: =VLOOKUP($A12,NSN!$A:$B,2,FALSE) -> C903335 | C12: =VLOOKUP($A12,CODIGOS!$B:$E,4,FALSE) -> 800 grs | D12: =($F12*$I$3)/1000 -> 1.6 | E12: =IF(VLOOKUP($B12,CODIGOS!$A:$F,6,0)<>1000,(($F12*$I$3)/VLOOKUP($B12,CODIGOS!$A:$F,6,0)),"") -> 2 | F12: 20 | G12: =(F12/1000)*VLOOKUP($B12,CODIGOS!$A:$G,7,0) -> 0.02 | H12: =VLOOKUP($A12,CODIGOS!$B:$D,2,FALSE) -> 4975 | I12: =IF($H12="S/STOCK","",$J12/$I$3) -> 124.375 | J12: =IF(H12="S/STOCK","",IF($E12="",$D12*$H12,$E12*$H12)) -> 9950 | K12: =VLOOKUP($B12,CODIGOS!$A:$K,8,0)*$G12*1000 -> 70.6 | L12: =VLOOKUP($B12,CODIGOS!$A:$K,9,0)*$G12*1000 -> 8.02 | M12: =VLOOKUP($B12,CODIGOS!$A:$K,10,0)*$G12*1000 -> 0.02 | N12: =VLOOKUP($B12,CODIGOS!$A:$K,11,0)*$G12*1000 -> 9.58
A13: TE | B13: =VLOOKUP($A13,NSN!$A:$B,2,FALSE) -> C000827 | C13: =VLOOKUP($A13,CODIGOS!$B:$E,4,FALSE) -> KG | D13: =($F13*$I$3)/1000 -> 0.12 | E13: =IF(VLOOKUP($B13,CODIGOS!$A:$F,6,0)<>1000,(($F13*$I$3)/VLOOKUP($B13,CODIGOS!$A:$F,6,0)),"") | F13: 1.5 | G13: =(F13/1000)*VLOOKUP($B13,CODIGOS!$A:$G,7,0) -> 0.0015 | H13: =VLOOKUP($A13,CODIGOS!$B:$D,2,FALSE) -> 7800 | I13: =IF($H13="S/STOCK","",$J13/$I$3) -> 11.7 | J13: =IF(H13="S/STOCK","",IF($E13="",$D13*$H13,$E13*$H13)) -> 936 | K13: =VLOOKUP($B13,CODIGOS!$A:$K,8,0)*$G13*1000 -> 0.015 | L13: =VLOOKUP($B13,CODIGOS!$A:$K,9,0)*$G13*1000 -> 0 | M13: =VLOOKUP($B13,CODIGOS!$A:$K,10,0)*$G13*1000 -> 0 | N13: =VLOOKUP($B13,CODIGOS!$A:$K,11,0)*$G13*1000 -> 0.003
A14: CAFÉ INSTANTANEO | B14: =VLOOKUP($A14,NSN!$A:$B,2,FALSE) -> C000523 | C14: =VLOOKUP($A14,CODIGOS!$B:$E,4,FALSE) -> TA 400 gr | D14: =($F14*$I$3)/1000 -> 0.08 | E14: =IF(VLOOKUP($B14,CODIGOS!$A:$F,6,0)<>1000,(($F14*$I$3)/VLOOKUP($B14,CODIGOS!$A:$F,6,0)),"") -> 0.2 | F14: 1 | G14: =(F14/1000)*VLOOKUP($B14,CODIGOS!$A:$G,7,0) -> 0.001 | H14: =VLOOKUP($A14,CODIGOS!$B:$D,2,FALSE) -> 9990 | I14: =IF($H14="S/STOCK","",$J14/$I$3) -> 24.975 | J14: =IF(H14="S/STOCK","",IF($E14="",$D14*$H14,$E14*$H14)) -> 1998 | K14: =VLOOKUP($B14,CODIGOS!$A:$K,8,0)*$G14*1000 -> 2.61 | L14: =VLOOKUP($B14,CODIGOS!$A:$K,9,0)*$G14*1000 -> 0.164 | M14: =VLOOKUP($B14,CODIGOS!$A:$K,10,0)*$G14*1000 -> 0.001 | N14: =VLOOKUP($B14,CODIGOS!$A:$K,11,0)*$G14*1000 -> 0.49
A15: AZUCAR BLANCA REFINADA | B15: =VLOOKUP($A15,NSN!$A:$B,2,FALSE) -> C000816 | C15: =VLOOKUP($A15,CODIGOS!$B:$E,4,FALSE) -> KG | D15: =($F15*$I$3)/1000 -> 0.8 | E15: =IF(VLOOKUP($B15,CODIGOS!$A:$F,6,0)<>1000,(($F15*$I$3)/VLOOKUP($B15,CODIGOS!$A:$F,6,0)),"") | F15: 10 | G15: =(F15/1000)*VLOOKUP($B15,CODIGOS!$A:$G,7,0) -> 0.01 | H15: =VLOOKUP($A15,CODIGOS!$B:$D,2,FALSE) -> 1128 | I15: =IF($H15="S/STOCK","",$J15/$I$3) -> 11.28 | J15: =IF(H15="S/STOCK","",IF($E15="",$D15*$H15,$E15*$H15)) -> 902.4 | K15: =VLOOKUP($B15,CODIGOS!$A:$K,8,0)*$G15*1000 -> 39.8 | L15: =VLOOKUP($B15,CODIGOS!$A:$K,9,0)*$G15*1000 -> 0 | M15: =VLOOKUP($B15,CODIGOS!$A:$K,10,0)*$G15*1000 -> 0 | N15: =VLOOKUP($B15,CODIGOS!$A:$K,11,0)*$G15*1000 -> 9.95
A16: GRANOLA 320 GR | B16: =VLOOKUP($A16,NSN!$A:$B,2,FALSE) -> C903241 | C16: =VLOOKUP($A16,CODIGOS!$B:$E,4,FALSE) -> PZ 320 GR | D16: =($F16*$I$3)/1000 -> 2.56 | E16: =IF(VLOOKUP($B16,CODIGOS!$A:$F,6,0)<>1000,(($F16*$I$3)/VLOOKUP($B16,CODIGOS!$A:$F,6,0)),"") -> 8 | F16: 32 | G16: =(F16/1000)*VLOOKUP($B16,CODIGOS!$A:$G,7,0) -> 0.032 | H16: =VLOOKUP($A16,CODIGOS!$B:$D,2,FALSE) -> 2410 | I16: =IF($H16="S/STOCK","",$J16/$I$3) -> 241 | J16: =IF(H16="S/STOCK","",IF($E16="",$D16*$H16,$E16*$H16)) -> 19280 | K16: =VLOOKUP($B16,CODIGOS!$A:$K,8,0)*$G16*1000 -> 136.32 | L16: =VLOOKUP($B16,CODIGOS!$A:$K,9,0)*$G16*1000 -> 3.552 | M16: =VLOOKUP($B16,CODIGOS!$A:$K,10,0)*$G16*1000 -> 4.992 | N16: =VLOOKUP($B16,CODIGOS!$A:$K,11,0)*$G16*1000 -> 19.296
A17: PLATANOS | B17: =VLOOKUP($A17,NSN!$A:$B,2,FALSE) -> V000244 | C17: =VLOOKUP($A17,CODIGOS!$B:$E,4,FALSE) -> KG | D17: =($F17*$I$3)/1000 -> 9.6 | E17: =IF(VLOOKUP($B17,CODIGOS!$A:$F,6,0)<>1000,(($F17*$I$3)/VLOOKUP($B17,CODIGOS!$A:$F,6,0)),"") | F17: 120 | G17: =(F17/1000)*VLOOKUP($B17,CODIGOS!$A:$G,7,0) -> 0.12 | H17: =VLOOKUP($A17,CODIGOS!$B:$D,2,FALSE) -> 1693 | I17: =IF($H17="S/STOCK","",$J17/$I$3) -> 203.16 | J17: =IF(H17="S/STOCK","",IF($E17="",$D17*$H17,$E17*$H17)) -> 16252.8 | K17: =VLOOKUP($B17,CODIGOS!$A:$K,8,0)*$G17*1000 -> 112.8 | L17: =VLOOKUP($B17,CODIGOS!$A:$K,9,0)*$G17*1000 -> 1.56 | M17: =VLOOKUP($B17,CODIGOS!$A:$K,10,0)*$G17*1000 -> 0.48 | N17: =VLOOKUP($B17,CODIGOS!$A:$K,11,0)*$G17*1000 -> 25.56
I18: =SUM(I12:I17) -> 616.49 | J18: =SUM(J12:J17) -> 49319.2 | K18: =SUM(K12:K17) -> 362.145 | L18: =SUM(L12:L17) -> 13.296 | M18: =SUM(M12:M17) -> 5.493 | N18: =SUM(N12:N17) -> 64.879
A19: ALMUERZO
A20: REFRESCO NARANJA | B20: =VLOOKUP($A20,NSN!$A:$B,2,FALSE) -> C902859 | C20: =VLOOKUP($A20,CODIGOS!$B:$E,4,FALSE) -> KG | D20: =($F20*$I$2)/1000 -> 1.2 | E20: =IF(VLOOKUP($B20,CODIGOS!$A:$F,6,0)<>1000,(($F20*$I$2)/VLOOKUP($B20,CODIGOS!$A:$F,6,0)),"") | F20: 6 | G20: =(F20/1000)*VLOOKUP($B20,CODIGOS!$A:$G,7,0) -> 0.006 | H20: =VLOOKUP($A20,CODIGOS!$B:$D,2,FALSE) -> 2986 | I20: =IF($H20="S/STOCK","",$J20/$I$2) -> 17.916 | J20: =IF(H20="S/STOCK","",IF($E20="",$D20*$H20,$E20*$H20)) -> 3583.2 | K20: =VLOOKUP($B20,CODIGOS!$A:$K,8,0)*$G20*1000 -> 21.54 | L20: =VLOOKUP($B20,CODIGOS!$A:$K,9,0)*$G20*1000 -> 0 | M20: =VLOOKUP($B20,CODIGOS!$A:$K,10,0)*$G20*1000 -> 0 | N20: =VLOOKUP($B20,CODIGOS!$A:$K,11,0)*$G20*1000 -> 5.376
A21: PAN | B21: =VLOOKUP($A21,NSN!$A:$B,2,FALSE) -> V000415 | C21: =VLOOKUP($A21,CODIGOS!$B:$E,4,FALSE) -> KG | D21: =($F21*$I$2)/1000 -> 10 | E21: =IF(VLOOKUP($B21,CODIGOS!$A:$F,6,0)<>1000,(($F21*$I$2)/VLOOKUP($B21,CODIGOS!$A:$F,6,0)),"") | F21: 50 | G21: =(F21/1000)*VLOOKUP($B21,CODIGOS!$A:$G,7,0) -> 0.05 | H21: =VLOOKUP($A21,CODIGOS!$B:$D,2,FALSE) -> 1783 | I21: =IF($H21="S/STOCK","",$J21/$I$2) -> 89.15 | J21: =IF(H21="S/STOCK","",IF($E21="",$D21*$H21,$E21*$H21)) -> 17830 | K21: =VLOOKUP($B21,CODIGOS!$A:$K,8,0)*$G21*1000 -> 157.5 | L21: =VLOOKUP($B21,CODIGOS!$A:$K,9,0)*$G21*1000 -> 4.1 | M21: =VLOOKUP($B21,CODIGOS!$A:$K,10,0)*$G21*1000 -> 2 | N21: =VLOOKUP($B21,CODIGOS!$A:$K,11,0)*$G21*1000 -> 30.8
A22: TOMATES NATURAL | B22: =VLOOKUP($A22,NSN!$A:$B,2,FALSE) -> V000317 | C22: =VLOOKUP($A22,CODIGOS!$B:$E,4,FALSE) -> KG | D22: =($F22*$I$2)/1000 -> 12 | E22: =IF(VLOOKUP($B22,CODIGOS!$A:$F,6,0)<>1000,(($F22*$I$2)/VLOOKUP($B22,CODIGOS!$A:$F,6,0)),"") | F22: 60 | G22: =(F22/1000)*VLOOKUP($B22,CODIGOS!$A:$G,7,0) -> 0.0567 | H22: =VLOOKUP($A22,CODIGOS!$B:$D,2,FALSE) -> 1669 | I22: =IF($H22="S/STOCK","",$J22/$I$2) -> 100.14 | J22: =IF(H22="S/STOCK","",IF($E22="",$D22*$H22,$E22*$H22)) -> 20028 | K22: =VLOOKUP($B22,CODIGOS!$A:$K,8,0)*$G22*1000 -> 11.34 | L22: =VLOOKUP($B22,CODIGOS!$A:$K,9,0)*$G22*1000 -> 0.4536 | M22: =VLOOKUP($B22,CODIGOS!$A:$K,10,0)*$G22*1000 -> 0.2268 | N22: =VLOOKUP($B22,CODIGOS!$A:$K,11,0)*$G22*1000 -> 1.8144
A23: CEBOLLAS FRESCAS | B23: =VLOOKUP($A23,NSN!$A:$B,2,FALSE) -> C000249 | C23: =VLOOKUP($A23,CODIGOS!$B:$E,4,FALSE) -> KG | D23: =($F23*$I$2)/1000 -> 6 | E23: =IF(VLOOKUP($B23,CODIGOS!$A:$F,6,0)<>1000,(($F23*$I$2)/VLOOKUP($B23,CODIGOS!$A:$F,6,0)),"") | F23: 30 | G23: =(F23/1000)*VLOOKUP($B23,CODIGOS!$A:$G,7,0) -> 0.02673 | H23: =VLOOKUP($A23,CODIGOS!$B:$D,2,FALSE) -> 640 | I23: =IF($H23="S/STOCK","",$J23/$I$2) -> 19.2 | J23: =IF(H23="S/STOCK","",IF($E23="",$D23*$H23,$E23*$H23)) -> 3840 | K23: =VLOOKUP($B23,CODIGOS!$A:$K,8,0)*$G23*1000 -> 11.4939 | L23: =VLOOKUP($B23,CODIGOS!$A:$K,9,0)*$G23*1000 -> 0.21384 | M23: =VLOOKUP($B23,CODIGOS!$A:$K,10,0)*$G23*1000 -> 0.05346 | N23: =VLOOKUP($B23,CODIGOS!$A:$K,11,0)*$G23*1000 -> 2.56608
A24: HARINA FLOR | B24: =VLOOKUP($A24,NSN!$A:$B,2,FALSE) -> C000367 | C24: =VLOOKUP($A24,CODIGOS!$B:$E,4,FALSE) -> KG | D24: =($F24*$I$2)/1000 -> 14 | E24: =IF(VLOOKUP($B24,CODIGOS!$A:$F,6,0)<>1000,(($F24*$I$2)/VLOOKUP($B24,CODIGOS!$A:$F,6,0)),"") | F24: 70 | G24: =(F24/1000)*VLOOKUP($B24,CODIGOS!$A:$G,7,0) -> 0.07 | H24: =VLOOKUP($A24,CODIGOS!$B:$D,2,FALSE) -> 794 | I24: =IF($H24="S/STOCK","",$J24/$I$2) -> 55.58 | J24: =IF(H24="S/STOCK","",IF($E24="",$D24*$H24,$E24*$H24)) -> 11116 | K24: =VLOOKUP($B24,CODIGOS!$A:$K,8,0)*$G24*1000 -> 243.6 | L24: =VLOOKUP($B24,CODIGOS!$A:$K,9,0)*$G24*1000 -> 5.6 | M24: =VLOOKUP($B24,CODIGOS!$A:$K,10,0)*$G24*1000 -> 0.84 | N24: =VLOOKUP($B24,CODIGOS!$A:$K,11,0)*$G24*1000 -> 53.48
A25: MANTECA KG | B25: =VLOOKUP($A25,NSN!$A:$B,2,FALSE) -> V000518 | C25: =VLOOKUP($A25,CODIGOS!$B:$E,4,FALSE) -> EA | D25: =($F25*$I$2)/1000 -> 2 | E25: =IF(VLOOKUP($B25,CODIGOS!$A:$F,6,0)<>1000,(($F25*$I$2)/VLOOKUP($B25,CODIGOS!$A:$F,6,0)),"") | F25: 10 | G25: =(F25/1000)*VLOOKUP($B25,CODIGOS!$A:$G,7,0) -> 0.01 | H25: =VLOOKUP($A25,CODIGOS!$B:$D,2,FALSE) -> 3203 | I25: =IF($H25="S/STOCK","",$J25/$I$2) -> 32.03 | J25: =IF(H25="S/STOCK","",IF($E25="",$D25*$H25,$E25*$H25)) -> 6406 | K25: =VLOOKUP($B25,CODIGOS!$A:$K,8,0)*$G25*1000 -> 89.7 | L25: =VLOOKUP($B25,CODIGOS!$A:$K,9,0)*$G25*1000 -> 0 | M25: =VLOOKUP($B25,CODIGOS!$A:$K,10,0)*$G25*1000 -> 9.97 | N25: =VLOOKUP($B25,CODIGOS!$A:$K,11,0)*$G25*1000 -> 0
A26: ACEITUNAS | B26: =VLOOKUP($A26,NSN!$A:$B,2,FALSE) -> V000004 | C26: =VLOOKUP($A26,CODIGOS!$B:$E,4,FALSE) -> KG | D26: =($F26*$I$2)/1000 -> 1 | E26: =IF(VLOOKUP($B26,CODIGOS!$A:$F,6,0)<>1000,(($F26*$I$2)/VLOOKUP($B26,CODIGOS!$A:$F,6,0)),"") | F26: 5 | G26: =(F26/1000)*VLOOKUP($B26,CODIGOS!$A:$G,7,0) -> 0.005 | H26: =VLOOKUP($A26,CODIGOS!$B:$D,2,FALSE) -> 5593 | I26: =IF($H26="S/STOCK","",$J26/$I$2) -> 27.965 | J26: =IF(H26="S/STOCK","",IF($E26="",$D26*$H26,$E26*$H26)) -> 5593 | K26: =VLOOKUP($B26,CODIGOS!$A:$K,8,0)*$G26*1000 -> 5.8 | L26: =VLOOKUP($B26,CODIGOS!$A:$K,9,0)*$G26*1000 -> 0.07 | M26: =VLOOKUP($B26,CODIGOS!$A:$K,10,0)*$G26*1000 -> 0.81 | N26: =VLOOKUP($B26,CODIGOS!$A:$K,11,0)*$G26*1000 -> 0.065
A27: HUEVOS | B27: =VLOOKUP($A27,NSN!$A:$B,2,FALSE) -> V000148 | C27: =VLOOKUP($A27,CODIGOS!$B:$E,4,FALSE) -> NR 50 gr | D27: =($F27*$I$2)/1000 -> 2.5 | E27: =IF(VLOOKUP($B27,CODIGOS!$A:$F,6,0)<>1000,(($F27*$I$2)/VLOOKUP($B27,CODIGOS!$A:$F,6,0)),"") -> 50 | F27: 12.5 | G27: =(F27/1000)*VLOOKUP($B27,CODIGOS!$A:$G,7,0) -> 0.0125 | H27: =VLOOKUP($A27,CODIGOS!$B:$D,2,FALSE) -> 253 | I27: =IF($H27="S/STOCK","",$J27/$I$2) -> 63.25 | J27: =IF(H27="S/STOCK","",IF($E27="",$D27*$H27,$E27*$H27)) -> 12650 | K27: =VLOOKUP($B27,CODIGOS!$A:$K,8,0)*$G27*1000 -> 20 | L27: =VLOOKUP($B27,CODIGOS!$A:$K,9,0)*$G27*1000 -> 1.6875 | M27: =VLOOKUP($B27,CODIGOS!$A:$K,10,0)*$G27*1000 -> 1.25 | N27: =VLOOKUP($B27,CODIGOS!$A:$K,11,0)*$G27*1000 -> 0.05
A28: AJOS FRESCO | B28: =VLOOKUP($A28,NSN!$A:$B,2,FALSE) -> V000014 | C28: =VLOOKUP($A28,CODIGOS!$B:$E,4,FALSE) -> NR 35 g | D28: =($F28*$I$2)/1000 -> 0.1 | E28: =IF(VLOOKUP($B28,CODIGOS!$A:$F,6,0)<>1000,(($F28*$I$2)/VLOOKUP($B28,CODIGOS!$A:$F,6,0)),"") -> 2.8571429 | F28: 0.5 | G28: =(F28/1000)*VLOOKUP($B28,CODIGOS!$A:$G,7,0) -> 0.0005 | H28: =VLOOKUP($A28,CODIGOS!$B:$D,2,FALSE) -> 297 | I28: =IF($H28="S/STOCK","",$J28/$I$2) -> 4.2428571 | J28: =IF(H28="S/STOCK","",IF($E28="",$D28*$H28,$E28*$H28)) -> 848.57143 | K28: =VLOOKUP($B28,CODIGOS!$A:$K,8,0)*$G28*1000 -> 0.695 | L28: =VLOOKUP($B28,CODIGOS!$A:$K,9,0)*$G28*1000 -> 0.0335 | M28: =VLOOKUP($B28,CODIGOS!$A:$K,10,0)*$G28*1000 -> 0.002 | N28: =VLOOKUP($B28,CODIGOS!$A:$K,11,0)*$G28*1000 -> 0.136
A29: CEBOLLAS FRESCAS | B29: =VLOOKUP($A29,NSN!$A:$B,2,FALSE) -> C000249 | C29: =VLOOKUP($A29,CODIGOS!$B:$E,4,FALSE) -> KG | D29: =($F29*$I$2)/1000 -> 16 | E29: =IF(VLOOKUP($B29,CODIGOS!$A:$F,6,0)<>1000,(($F29*$I$2)/VLOOKUP($B29,CODIGOS!$A:$F,6,0)),"") | F29: 80 | G29: =(F29/1000)*VLOOKUP($B29,CODIGOS!$A:$G,7,0) -> 0.07128 | H29: =VLOOKUP($A29,CODIGOS!$B:$D,2,FALSE) -> 640 | I29: =IF($H29="S/STOCK","",$J29/$I$2) -> 51.2 | J29: =IF(H29="S/STOCK","",IF($E29="",$D29*$H29,$E29*$H29)) -> 10240 | K29: =VLOOKUP($B29,CODIGOS!$A:$K,8,0)*$G29*1000 -> 30.6504 | L29: =VLOOKUP($B29,CODIGOS!$A:$K,9,0)*$G29*1000 -> 0.57024 | M29: =VLOOKUP($B29,CODIGOS!$A:$K,10,0)*$G29*1000 -> 0.14256 | N29: =VLOOKUP($B29,CODIGOS!$A:$K,11,0)*$G29*1000 -> 6.84288
A30: VACUNO CARNE MOLIDA CONGELADA | B30: =VLOOKUP($A30,NSN!$A:$B,2,FALSE) -> C902472 | C30: =VLOOKUP($A30,CODIGOS!$B:$E,4,FALSE) -> KG | D30: =($F30*$I$2)/1000 -> 12 | E30: =IF(VLOOKUP($B30,CODIGOS!$A:$F,6,0)<>1000,(($F30*$I$2)/VLOOKUP($B30,CODIGOS!$A:$F,6,0)),"") | F30: 60 | G30: =(F30/1000)*VLOOKUP($B30,CODIGOS!$A:$G,7,0) -> 0.03888 | H30: =VLOOKUP($A30,CODIGOS!$B:$D,2,FALSE) -> 4940 | I30: =IF($H30="S/STOCK","",$J30/$I$2) -> 296.4 | J30: =IF(H30="S/STOCK","",IF($E30="",$D30*$H30,$E30*$H30)) -> 59280 | K30: =VLOOKUP($B30,CODIGOS!$A:$K,8,0)*$G30*1000 -> 50.544 | L30: =VLOOKUP($B30,CODIGOS!$A:$K,9,0)*$G30*1000 -> 8.3592 | M30: =VLOOKUP($B30,CODIGOS!$A:$K,10,0)*$G30*1000 -> 1.63296 | N30: =VLOOKUP($B30,CODIGOS!$A:$K,11,0)*$G30*1000 -> 1.67184
A31: ACEITE 900 ML | B31: =VLOOKUP($A31,NSN!$A:$B,2,FALSE) -> C902636 | C31: =VLOOKUP($A31,CODIGOS!$B:$E,4,FALSE) -> 900 ML | D31: =($F31*$I$2)/1000 -> 1 | E31: =IF(VLOOKUP($B31,CODIGOS!$A:$F,6,0)<>1000,(($F31*$I$2)/VLOOKUP($B31,CODIGOS!$A:$F,6,0)),"") -> 1.1111111 | F31: 5 | G31: =(F31/1000)*VLOOKUP($B31,CODIGOS!$A:$G,7,0) -> 0.005 | H31: =VLOOKUP($A31,CODIGOS!$B:$D,2,FALSE) -> 1500 | I31: =IF($H31="S/STOCK","",$J31/$I$2) -> 8.3333333 | J31: =IF(H31="S/STOCK","",IF($E31="",$D31*$H31,$E31*$H31)) -> 1666.6667 | K31: =VLOOKUP($B31,CODIGOS!$A:$K,8,0)*$G31*1000 -> 44.2 | L31: =VLOOKUP($B31,CODIGOS!$A:$K,9,0)*$G31*1000 -> 0 | M31: =VLOOKUP($B31,CODIGOS!$A:$K,10,0)*$G31*1000 -> 5 | N31: =VLOOKUP($B31,CODIGOS!$A:$K,11,0)*$G31*1000 -> 0
... A50: ACEITE 900 ML | B50: =VLOOKUP($A50,NSN!$A:$B,2,FALSE) -> C902636 | C50: =VLOOKUP($A50,CODIGOS!$B:$E,4,FALSE) -> 900 ML | D50: =($F50*$I$2)/1000 -> 1 | E50: =IF(VLOOKUP($B50,CODIGOS!$A:$F,6,0)<>1000,(($F50*$I$2)/VLOOKUP($B50,CODIGOS!$A:$F,6,0)),"") -> 1.1111111 | F50: 5 | G50: =(F50/1000)*VLOOKUP($B50,CODIGOS!$A:$G,7,0) -> 0.005 | H50: =VLOOKUP($A50,CODIGOS!$B:$D,2,FALSE) -> 1500 | I50: =IF($H50="S/STOCK","",$J50/$I$2) -> 8.3333333 | J50: =IF(H50="S/STOCK","",IF($E50="",$D50*$H50,$E50*$H50)) -> 1666.6667 | K50: =VLOOKUP($B50,CODIGOS!$A:$K,8,0)*$G50*1000 -> 44.2 | L50: =VLOOKUP($B50,CODIGOS!$A:$K,9,0)*$G50*1000 -> 0 | M50: =VLOOKUP($B50,CODIGOS!$A:$K,10,0)*$G50*1000 -> 5 | N50: =VLOOKUP($B50,CODIGOS!$A:$K,11,0)*$G50*1000 -> 0
I51: =SUM(I20:I50) -> 1978.072 | J51: =SUM(J20:J50) -> 395614.4 | K51: =SUM(K20:K50) -> 1075.0777 | L51: =SUM(L20:L50) -> 47.261367 | M51: =SUM(M20:M50) -> 31.172785 | N51: =SUM(N20:N50) -> 154.81565
A52: CENA
A53: REFRESCO FRAMBUESA | B53: =VLOOKUP($A53,NSN!$A:$B,2,FALSE) -> C902857 | C53: =VLOOKUP($A53,CODIGOS!$B:$E,4,FALSE) -> KG | D53: =($F53*$I$3)/1000 -> 0.48 | E53: =IF(VLOOKUP($B53,CODIGOS!$A:$F,6,0)<>1000,(($F53*$I$3)/VLOOKUP($B53,CODIGOS!$A:$F,6,0)),"") | F53: 6 | G53: =(F53/1000)*VLOOKUP($B53,CODIGOS!$A:$G,7,0) -> 0.006 | H53: =VLOOKUP($A53,CODIGOS!$B:$D,2,FALSE) -> 2941 | I53: =IF($H53="S/STOCK","",$J53/$I$3) -> 17.646 | J53: =IF(H53="S/STOCK","",IF($E53="",$D53*$H53,$E53*$H53)) -> 1411.68 | K53: =VLOOKUP($B53,CODIGOS!$A:$K,8,0)*$G53*1000 -> 21.54 | L53: =VLOOKUP($B53,CODIGOS!$A:$K,9,0)*$G53*1000 -> 0 | M53: =VLOOKUP($B53,CODIGOS!$A:$K,10,0)*$G53*1000 -> 0 | N53: =VLOOKUP($B53,CODIGOS!$A:$K,11,0)*$G53*1000 -> 5.376
A54: PAN | B54: =VLOOKUP($A54,NSN!$A:$B,2,FALSE) -> V000415 | C54: =VLOOKUP($A54,CODIGOS!$B:$E,4,FALSE) -> KG | D54: =($F54*$I$3)/1000 -> 4 | E54: =IF(VLOOKUP($B54,CODIGOS!$A:$F,6,0)<>1000,(($F54*$I$3)/VLOOKUP($B54,CODIGOS!$A:$F,6,0)),"") | F54: 50 | G54: =(F54/1000)*VLOOKUP($B54,CODIGOS!$A:$G,7,0) -> 0.05 | H54: =VLOOKUP($A54,CODIGOS!$B:$D,2,FALSE) -> 1783 | I54: =IF($H54="S/STOCK","",$J54/$I$3) -> 89.15 | J54: =IF(H54="S/STOCK","",IF($E54="",$D54*$H54,$E54*$H54)) -> 7132 | K54: =VLOOKUP($B54,CODIGOS!$A:$K,8,0)*$G54*1000 -> 157.5 | L54: =VLOOKUP($B54,CODIGOS!$A:$K,9,0)*$G54*1000 -> 4.1 | M54: =VLOOKUP($B54,CODIGOS!$A:$K,10,0)*$G54*1000 -> 2 | N54: =VLOOKUP($B54,CODIGOS!$A:$K,11,0)*$G54*1000 -> 30.8
A55: CREMA DE CHOCLO | B55: =VLOOKUP($A55,NSN!$A:$B,2,FALSE) -> C902845 | C55: =VLOOKUP($A55,CODIGOS!$B:$E,4,FALSE) -> KG | D55: =($F55*$I$3)/1000 -> 1 | E55: =IF(VLOOKUP($B55,CODIGOS!$A:$F,6,0)<>1000,(($F55*$I$3)/VLOOKUP($B55,CODIGOS!$A:$F,6,0)),"") | F55: 12.5 | G55: =(F55/1000)*VLOOKUP($B55,CODIGOS!$A:$G,7,0) -> 0.0125 | H55: =VLOOKUP($A55,CODIGOS!$B:$D,2,FALSE) -> 2000 | I55: =IF($H55="S/STOCK","",$J55/$I$3) -> 25 | J55: =IF(H55="S/STOCK","",IF($E55="",$D55*$H55,$E55*$H55)) -> 2000 | K55: =VLOOKUP($B55,CODIGOS!$A:$K,8,0)*$G55*1000 -> 39.125 | L55: =VLOOKUP($B55,CODIGOS!$A:$K,9,0)*$G55*1000 -> 0.8375 | M55: =VLOOKUP($B55,CODIGOS!$A:$K,10,0)*$G55*1000 -> 0.3125 | N55: =VLOOKUP($B55,CODIGOS!$A:$K,11,0)*$G55*1000 -> 8.25
A56: POLLO TRUTRO LARGO | B56: =VLOOKUP($A56,NSN!$A:$B,2,FALSE) -> C008045 | C56: =VLOOKUP($A56,CODIGOS!$B:$E,4,FALSE) -> KG | D56: =($F56*$I$3)/1000 -> 16 | E56: =IF(VLOOKUP($B56,CODIGOS!$A:$F,6,0)<>1000,(($F56*$I$3)/VLOOKUP($B56,CODIGOS!$A:$F,6,0)),"") | F56: 200 | G56: =(F56/1000)*VLOOKUP($B56,CODIGOS!$A:$G,7,0) -> 0.1304 | H56: =VLOOKUP($A56,CODIGOS!$B:$D,2,FALSE) -> 2500 | I56: =IF($H56="S/STOCK","",$J56/$I$3) -> 500 | J56: =IF(H56="S/STOCK","",IF($E56="",$D56*$H56,$E56*$H56)) -> 40000 | K56: =VLOOKUP($B56,CODIGOS!$A:$K,8,0)*$G56*1000 -> 169.52 | L56: =VLOOKUP($B56,CODIGOS!$A:$K,9,0)*$G56*1000 -> 29.0792 | M56: =VLOOKUP($B56,CODIGOS!$A:$K,10,0)*$G56*1000 -> 4.9552 | N56: =VLOOKUP($B56,CODIGOS!$A:$K,11,0)*$G56*1000 -> 2.2168
A57: SAL | B57: =VLOOKUP($A57,NSN!$A:$B,2,FALSE) -> C000528 | C57: =VLOOKUP($A57,CODIGOS!$B:$E,4,FALSE) -> KG | D57: =($F57*$I$3)/1000 -> 0.04 | E57: =IF(VLOOKUP($B57,CODIGOS!$A:$F,6,0)<>1000,(($F57*$I$3)/VLOOKUP($B57,CODIGOS!$A:$F,6,0)),"") | F57: 0.5 | G57: =(F57/1000)*VLOOKUP($B57,CODIGOS!$A:$G,7,0) -> 0.0005 | H57: =VLOOKUP($A57,CODIGOS!$B:$D,2,FALSE) -> 375 | I57: =IF($H57="S/STOCK","",$J57/$I$3) -> 0.1875 | J57: =IF(H57="S/STOCK","",IF($E57="",$D57*$H57,$E57*$H57)) -> 15 | K57: =VLOOKUP($B57,CODIGOS!$A:$K,8,0)*$G57*1000 -> 0 | L57: =VLOOKUP($B57,CODIGOS!$A:$K,9,0)*$G57*1000 -> 0 | M57: =VLOOKUP($B57,CODIGOS!$A:$K,10,0)*$G57*1000 -> 0 | N57: =VLOOKUP($B57,CODIGOS!$A:$K,11,0)*$G57*1000 -> 0
A58: OREGANO | B58: =VLOOKUP($A58,NSN!$A:$B,2,FALSE) -> V000214 | C58: =VLOOKUP($A58,CODIGOS!$B:$E,4,FALSE) -> KG | D58: =($F58*$I$3)/1000 -> 0.04 | E58: =IF(VLOOKUP($B58,CODIGOS!$A:$F,6,0)<>1000,(($F58*$I$3)/VLOOKUP($B58,CODIGOS!$A:$F,6,0)),"") | F58: 0.5 | G58: =(F58/1000)*VLOOKUP($B58,CODIGOS!$A:$G,7,0) -> 0.0005 | H58: =VLOOKUP($A58,CODIGOS!$B:$D,2,FALSE) -> 7058 | I58: =IF($H58="S/STOCK","",$J58/$I$3) -> 3.529 | J58: =IF(H58="S/STOCK","",IF($E58="",$D58*$H58,$E58*$H58)) -> 282.32 | K58: =VLOOKUP($B58,CODIGOS!$A:$K,8,0)*$G58*1000 -> 0.41 | L58: =VLOOKUP($B58,CODIGOS!$A:$K,9,0)*$G58*1000 -> 0.0055 | M58: =VLOOKUP($B58,CODIGOS!$A:$K,10,0)*$G58*1000 -> 0.0195 | N58: =VLOOKUP($B58,CODIGOS!$A:$K,11,0)*$G58*1000 -> 0.0535
A59: CEBOLLAS FRESCAS | B59: =VLOOKUP($A59,NSN!$A:$B,2,FALSE) -> C000249 | C59: =VLOOKUP($A59,CODIGOS!$B:$E,4,FALSE) -> KG | D59: =($F59*$I$3)/1000 -> 2.4 | E59: =IF(VLOOKUP($B59,CODIGOS!$A:$F,6,0)<>1000,(($F59*$I$3)/VLOOKUP($B59,CODIGOS!$A:$F,6,0)),"") | F59: 30 | G59: =(F59/1000)*VLOOKUP($B59,CODIGOS!$A:$G,7,0) -> 0.02673 | H59: =VLOOKUP($A59,CODIGOS!$B:$D,2,FALSE) -> 640 | I59: =IF($H59="S/STOCK","",$J59/$I$3) -> 19.2 | J59: =IF(H59="S/STOCK","",IF($E59="",$D59*$H59,$E59*$H59)) -> 1536 | K59: =VLOOKUP($B59,CODIGOS!$A:$K,8,0)*$G59*1000 -> 11.4939 | L59: =VLOOKUP($B59,CODIGOS!$A:$K,9,0)*$G59*1000 -> 0.21384 | M59: =VLOOKUP($B59,CODIGOS!$A:$K,10,0)*$G59*1000 -> 0.05346 | N59: =VLOOKUP($B59,CODIGOS!$A:$K,11,0)*$G59*1000 -> 2.56608
A60: ZAPALLOS ITALIANOS NR | B60: =VLOOKUP($A60,NSN!$A:$B,2,FALSE) -> V000333 | C60: =VLOOKUP($A60,CODIGOS!$B:$E,4,FALSE) -> NR (250 g) | D60: =($F60*$I$3)/1000 -> 3.2 | E60: =IF(VLOOKUP($B60,CODIGOS!$A:$F,6,0)<>1000,(($F60*$I$3)/VLOOKUP($B60,CODIGOS!$A:$F,6,0)),"") -> 12.8 | F60: 40 | G60: =(F60/1000)*VLOOKUP($B60,CODIGOS!$A:$G,7,0) -> 0.03792 | H60: =VLOOKUP($A60,CODIGOS!$B:$D,2,FALSE) -> 796 | I60: =IF($H60="S/STOCK","",$J60/$I$3) -> 127.36 | J60: =IF(H60="S/STOCK","",IF($E60="",$D60*$H60,$E60*$H60)) -> 10188.8 | K60: =VLOOKUP($B60,CODIGOS!$A:$K,8,0)*$G60*1000 -> 6.4464 | L60: =VLOOKUP($B60,CODIGOS!$A:$K,9,0)*$G60*1000 -> 0.49296 | M60: =VLOOKUP($B60,CODIGOS!$A:$K,10,0)*$G60*1000 -> 0.11376 | N60: =VLOOKUP($B60,CODIGOS!$A:$K,11,0)*$G60*1000 -> 0.87216
A61: ZANAHORIA | B61: =VLOOKUP($A61,NSN!$A:$B,2,FALSE) -> V000330 | C61: =VLOOKUP($A61,CODIGOS!$B:$E,4,FALSE) -> KG | D61: =($F61*$I$3)/1000 -> 3.2 | E61: =IF(VLOOKUP($B61,CODIGOS!$A:$F,6,0)<>1000,(($F61*$I$3)/VLOOKUP($B61,CODIGOS!$A:$F,6,0)),"") | F61: 40 | G61: =(F61/1000)*VLOOKUP($B61,CODIGOS!$A:$G,7,0) -> 0.03608 | H61: =VLOOKUP($A61,CODIGOS!$B:$D,2,FALSE) -> 1287 | I61: =IF($H61="S/STOCK","",$J61/$I$3) -> 51.48 | J61: =IF(H61="S/STOCK","",IF($E61="",$D61*$H61,$E61*$H61)) -> 4118.4 | K61: =VLOOKUP($B61,CODIGOS!$A:$K,8,0)*$G61*1000 -> 31.0288 | L61: =VLOOKUP($B61,CODIGOS!$A:$K,9,0)*$G61*1000 -> 0.32472 | M61: =VLOOKUP($B61,CODIGOS!$A:$K,10,0)*$G61*1000 -> 0.1804 | N61: =VLOOKUP($B61,CODIGOS!$A:$K,11,0)*$G61*1000 -> 2.92248
A62: POROTOS VERDES CONGELADOS | B62: =VLOOKUP($A62,NSN!$A:$B,2,FALSE) -> V000254 | C62: =VLOOKUP($A62,CODIGOS!$B:$E,4,FALSE) -> KG | D62: =($F62*$I$3)/1000 -> 3.2 | E62: =IF(VLOOKUP($B62,CODIGOS!$A:$F,6,0)<>1000,(($F62*$I$3)/VLOOKUP($B62,CODIGOS!$A:$F,6,0)),"") | F62: 40 | G62: =(F62/1000)*VLOOKUP($B62,CODIGOS!$A:$G,7,0) -> 0.04 | H62: =VLOOKUP($A62,CODIGOS!$B:$D,2,FALSE) -> 2645 | I62: =IF($H62="S/STOCK","",$J62/$I$3) -> 105.8 | J62: =IF(H62="S/STOCK","",IF($E62="",$D62*$H62,$E62*$H62)) -> 8464 | K62: =VLOOKUP($B62,CODIGOS!$A:$K,8,0)*$G62*1000 -> 12.4 | L62: =VLOOKUP($B62,CODIGOS!$A:$K,9,0)*$G62*1000 -> 0.92 | M62: =VLOOKUP($B62,CODIGOS!$A:$K,10,0)*$G62*1000 -> 0.12 | N62: =VLOOKUP($B62,CODIGOS!$A:$K,11,0)*$G62*1000 -> 1.88
A63: HUEVOS | B63: =VLOOKUP($A63,NSN!$A:$B,2,FALSE) -> V000148 | C63: =VLOOKUP($A63,CODIGOS!$B:$E,4,FALSE) -> NR 50 gr | D63: =($F63*$I$3)/1000 -> 2 | E63: =IF(VLOOKUP($B63,CODIGOS!$A:$F,6,0)<>1000,(($F63*$I$3)/VLOOKUP($B63,CODIGOS!$A:$F,6,0)),"") -> 40 | F63: 25 | G63: =(F63/1000)*VLOOKUP($B63,CODIGOS!$A:$G,7,0) -> 0.025 | H63: =VLOOKUP($A63,CODIGOS!$B:$D,2,FALSE) -> 253 | I63: =IF($H63="S/STOCK","",$J63/$I$3) -> 126.5 | J63: =IF(H63="S/STOCK","",IF($E63="",$D63*$H63,$E63*$H63)) -> 10120 | K63: =VLOOKUP($B63,CODIGOS!$A:$K,8,0)*$G63*1000 -> 40 | L63: =VLOOKUP($B63,CODIGOS!$A:$K,9,0)*$G63*1000 -> 3.375 | M63: =VLOOKUP($B63,CODIGOS!$A:$K,10,0)*$G63*1000 -> 2.5 | N63: =VLOOKUP($B63,CODIGOS!$A:$K,11,0)*$G63*1000 -> 0.1
A64: PAN | B64: =VLOOKUP($A64,NSN!$A:$B,2,FALSE) -> V000415 | C64: LT. | D64: =($F64*$I$3)/1000 -> 0.8 | F64: 10 | G64: =(F64/1000)*VLOOKUP($B64,CODIGOS!$A:$G,7,0) -> 0.01 | H64: =VLOOKUP($A64,CODIGOS!$B:$D,2,FALSE) -> 1783 | I64: =IF($H64="S/STOCK","",$J64/$I$3) -> 17.83 | J64: =IF(H64="S/STOCK","",IF($E64="",$D64*$H64,$E64*$H64)) -> 1426.4 | K64: 44.2 | L64: =VLOOKUP($B64,CODIGOS!$A:$K,9,0)*$G64*1000 -> 0.82 | M64: =VLOOKUP($B64,CODIGOS!$A:$K,10,0)*$G64*1000 -> 0.4 | N64: =VLOOKUP($B64,CODIGOS!$A:$K,11,0)*$G64*1000 -> 6.16
A65: SAL | B65: =VLOOKUP($A65,NSN!$A:$B,2,FALSE) -> C000528 | C65: =VLOOKUP($A65,CODIGOS!$B:$E,4,FALSE) -> KG | D65: =($F65*$I$3)/1000 -> 0.04 | E65: =IF(VLOOKUP($B65,CODIGOS!$A:$F,6,0)<>1000,(($F65*$I$3)/VLOOKUP($B65,CODIGOS!$A:$F,6,0)),"") | F65: 0.5 | G65: =(F65/1000)*VLOOKUP($B65,CODIGOS!$A:$G,7,0) -> 0.0005 | H65: =VLOOKUP($A65,CODIGOS!$B:$D,2,FALSE) -> 375 | I65: =IF($H65="S/STOCK","",$J65/$I$3) -> 0.1875 | J65: =IF(H65="S/STOCK","",IF($E65="",$D65*$H65,$E65*$H65)) -> 15 | K65: =VLOOKUP($B65,CODIGOS!$A:$K,8,0)*$G65*1000 -> 0 | L65: =VLOOKUP($B65,CODIGOS!$A:$K,9,0)*$G65*1000 -> 0 | M65: =VLOOKUP($B65,CODIGOS!$A:$K,10,0)*$G65*1000 -> 0 | N65: =VLOOKUP($B65,CODIGOS!$A:$K,11,0)*$G65*1000 -> 0
A66: ACEITE 900 ML | B66: =VLOOKUP($A66,NSN!$A:$B,2,FALSE) -> C902636 | C66: LT. | D66: =($F66*$I$3)/1000 -> 0.4 | F66: 5 | G66: =(F66/1000)*VLOOKUP($B66,CODIGOS!$A:$G,7,0) -> 0.005 | H66: =VLOOKUP($A66,CODIGOS!$B:$D,2,FALSE) -> 1500 | I66: =IF($H66="S/STOCK","",$J66/$I$3) -> 7.5 | J66: =IF(H66="S/STOCK","",IF($E66="",$D66*$H66,$E66*$H66)) -> 600 | K66: 44.2 | L66: =VLOOKUP($B66,CODIGOS!$A:$K,9,0)*$G66*1000 -> 0 | M66: =VLOOKUP($B66,CODIGOS!$A:$K,10,0)*$G66*1000 -> 5 | N66: =VLOOKUP($B66,CODIGOS!$A:$K,11,0)*$G66*1000 -> 0
A67: POSTRE GELATINA EN POLVO FRAMBUESA | B67: =VLOOKUP($A67,NSN!$A:$B,2,FALSE) -> C902854 | C67: =VLOOKUP($A67,CODIGOS!$B:$E,4,FALSE) -> KG | D67: =($F67*$I$3)/1000 -> 1.12 | E67: =IF(VLOOKUP($B67,CODIGOS!$A:$F,6,0)<>1000,(($F67*$I$3)/VLOOKUP($B67,CODIGOS!$A:$F,6,0)),"") | F67: 14 | G67: =(F67/1000)*VLOOKUP($B67,CODIGOS!$A:$G,7,0) -> 0.014 | H67: =VLOOKUP($A67,CODIGOS!$B:$D,2,FALSE) -> 4054 | I67: =IF($H67="S/STOCK","",$J67/$I$3) -> 56.756 | J67: =IF(H67="S/STOCK","",IF($E67="",$D67*$H67,$E67*$H67)) -> 4540.48 | K67: =VLOOKUP($B67,CODIGOS!$A:$K,8,0)*$G67*1000 -> 50.96 | L67: =VLOOKUP($B67,CODIGOS!$A:$K,9,0)*$G67*1000 -> 2.884 | M67: =VLOOKUP($B67,CODIGOS!$A:$K,10,0)*$G67*1000 -> 0.168 | N67: =VLOOKUP($B67,CODIGOS!$A:$K,11,0)*$G67*1000 -> 9.716
I68: =SUM(I53:I67) -> 1148.126 | J68: =SUM(J53:J67) -> 91850.08 | K68: =SUM(K53:K67) -> 628.8241 | L68: =SUM(L53:L67) -> 43.05272 | M68: =SUM(M53:M67) -> 15.82282 | N68: =SUM(N53:N67) -> 70.91302
J69: MACRONUTRIENTES | K69: =K18+K51+K68 -> 2066.0468 | L69: =L18+L51+L68 -> 103.61009 | M69: =M18+M51+M68 -> 52.488605 | N69: =N18+N51+N68 -> 290.60767
A71: DESCRIPCION | B71: CÓDIGO | C71: U/E | D71: CANTIDAD TOTAL KG | F71: GRS P/P | G71: CANTIDAD (KG) P/P | H71: V.UNITARIO | I71: V. P/P | J71: V.TOTAL | K71: CALORÍAS | L71: PROTEÍNAS | M71: LÍPIDOS | N71: CHO
A72: CONFECCIÓN PAN
A73: HARINA FLOR | B73: =VLOOKUP($A73,NSN!$A:$B,2,FALSE) -> C000367 | C73: =VLOOKUP($A73,CODIGOS!$B:$E,4,FALSE) -> KG | D73: =($F73*$I$3)/1000 -> 11.4288 | E73: =IF(VLOOKUP($B73,CODIGOS!$A:$F,6,0)<>1000,(($F73*$I$3)/VLOOKUP($B73,CODIGOS!$A:$F,6,0)),"") | F73: 142.86 | G73: =(F73/1000)*VLOOKUP($B73,CODIGOS!$A:$G,7,0) -> 0.14286 | H73: =VLOOKUP($A73,CODIGOS!$B:$D,2,FALSE) -> 794 | I73: =IF($H73="S/STOCK","",$J73/$I$3) -> 113.43084 | J73: =IF(H73="S/STOCK","",IF($E73="",$D73*$H73,$E73*$H73)) -> 9074.4672 | K73: =VLOOKUP($B73,CODIGOS!$A:$K,8,0)*$G73*1000 -> 497.1528 | L73: =VLOOKUP($B73,CODIGOS!$A:$K,9,0)*$G73*1000 -> 11.4288 | M73: =VLOOKUP($B73,CODIGOS!$A:$K,10,0)*$G73*1000 -> 1.71432 | N73: =VLOOKUP($B73,CODIGOS!$A:$K,11,0)*$G73*1000 -> 109.14504
A74: AZUCAR BLANCA REFINADA | B74: =VLOOKUP($A74,NSN!$A:$B,2,FALSE) -> C000816 | C74: =VLOOKUP($A74,CODIGOS!$B:$E,4,FALSE) -> KG | D74: =($F74*$I$3)/1000 -> 0.1144 | E74: =IF(VLOOKUP($B74,CODIGOS!$A:$F,6,0)<>1000,(($F74*$I$3)/VLOOKUP($B74,CODIGOS!$A:$F,6,0)),"") | F74: 1.43 | G74: =(F74/1000)*VLOOKUP($B74,CODIGOS!$A:$G,7,0) -> 0.00143 | H74: =VLOOKUP($A74,CODIGOS!$B:$D,2,FALSE) -> 1128 | I74: =IF($H74="S/STOCK","",$J74/$I$3) -> 1.61304 | J74: =IF(H74="S/STOCK","",IF($E74="",$D74*$H74,$E74*$H74)) -> 129.0432 | K74: =VLOOKUP($B74,CODIGOS!$A:$K,8,0)*$G74*1000 -> 5.6914 | L74: =VLOOKUP($B74,CODIGOS!$A:$K,9,0)*$G74*1000 -> 0 | M74: =VLOOKUP($B74,CODIGOS!$A:$K,10,0)*$G74*1000 -> 0 | N74: =VLOOKUP($B74,CODIGOS!$A:$K,11,0)*$G74*1000 -> 1.42285
A75: MANTECA KG | B75: =VLOOKUP($A75,NSN!$A:$B,2,FALSE) -> V000518 | C75: =VLOOKUP($A75,CODIGOS!$B:$E,4,FALSE) -> EA | D75: =($F75*$I$3)/1000 -> 0.6856 | E75: =IF(VLOOKUP($B75,CODIGOS!$A:$F,6,0)<>1000,(($F75*$I$3)/VLOOKUP($B75,CODIGOS!$A:$F,6,0)),"") | F75: 8.57 | G75: =(F75/1000)*VLOOKUP($B75,CODIGOS!$A:$G,7,0) -> 0.00857 | H75: =VLOOKUP($A75,CODIGOS!$B:$D,2,FALSE) -> 3203 | I75: =IF($H75="S/STOCK","",$J75/$I$3) -> 27.44971 | J75: =IF(H75="S/STOCK","",IF($E75="",$D75*$H75,$E75*$H75)) -> 2195.9768 | K75: =VLOOKUP($B75,CODIGOS!$A:$K,8,0)*$G75*1000 -> 76.8729 | L75: =VLOOKUP($B75,CODIGOS!$A:$K,9,0)*$G75*1000 -> 0 | M75: =VLOOKUP($B75,CODIGOS!$A:$K,10,0)*$G75*1000 -> 8.54429 | N75: =VLOOKUP($B75,CODIGOS!$A:$K,11,0)*$G75*1000 -> 0
A76: LEVADURA INSTANTANEA | B76: =VLOOKUP($A76,NSN!$A:$B,2,FALSE) -> V000174 | C76: =VLOOKUP($A76,CODIGOS!$B:$E,4,FALSE) -> KG | D76: =($F76*$I$3)/1000 -> 0.1144 | E76: =IF(VLOOKUP($B76,CODIGOS!$A:$F,6,0)<>1000,(($F76*$I$3)/VLOOKUP($B76,CODIGOS!$A:$F,6,0)),"") | F76: 1.43 | G76: =(F76/1000)*VLOOKUP($B76,CODIGOS!$A:$G,7,0) -> 0.00143 | H76: =VLOOKUP($A76,CODIGOS!$B:$D,2,FALSE) -> 8887 | I76: =IF($H76="S/STOCK","",$J76/$I$3) -> 12.70841 | J76: =IF(H76="S/STOCK","",IF($E76="",$D76*$H76,$E76*$H76)) -> 1016.6728 | K76: =VLOOKUP($B76,CODIGOS!$A:$K,8,0)*$G76*1000 -> 6.149 | L76: =VLOOKUP($B76,CODIGOS!$A:$K,9,0)*$G76*1000 -> 0.6721 | M76: =VLOOKUP($B76,CODIGOS!$A:$K,10,0)*$G76*1000 -> 0.1001 | N76: =VLOOKUP($B76,CODIGOS!$A:$K,11,0)*$G76*1000 -> 0.5148
A77: SAL | B77: =VLOOKUP($A77,NSN!$A:$B,2,FALSE) -> C000528 | C77: =VLOOKUP($A77,CODIGOS!$B:$E,4,FALSE) -> KG | D77: =($F77*$I$3)/1000 -> 0.16 | E77: =IF(VLOOKUP($B77,CODIGOS!$A:$F,6,0)<>1000,(($F77*$I$3)/VLOOKUP($B77,CODIGOS!$A:$F,6,0)),"") | F77: 2 | G77: =(F77/1000)*VLOOKUP($B77,CODIGOS!$A:$G,7,0) -> 0.002 | H77: =VLOOKUP($A77,CODIGOS!$B:$D,2,FALSE) -> 375 | I77: =IF($H77="S/STOCK","",$J77/$I$3) -> 0.75 | J77: =IF(H77="S/STOCK","",IF($E77="",$D77*$H77,$E77*$H77)) -> 60 | K77: =VLOOKUP($B77,CODIGOS!$A:$K,8,0)*$G77*1000 -> 0 | L77: =VLOOKUP($B77,CODIGOS!$A:$K,9,0)*$G77*1000 -> 0 | M77: =VLOOKUP($B77,CODIGOS!$A:$K,10,0)*$G77*1000 -> 0 | N77: =VLOOKUP($B77,CODIGOS!$A:$K,11,0)*$G77*1000 -> 0
I78: =SUM(I73:I77) -> 155.952 | J78: =SUM(J73:J77) -> 12476.16 | K78: =SUM(K73:K77) -> 585.8661 | L78: =SUM(L73:L77) -> 12.1009 | M78: =SUM(M73:M77) -> 10.35871 | N78: =SUM(N73:N77) -> 111.08269

Sheet VIERNES
A1: VIERNES
A2: DESAYUNO | B2: ='MENU COMÚN'!E6 -> LECHE-TÉ- CAFÉ | D2: ='MENU COMÚN'!E7 -> PAN (100 GR) C/ MERMELADA DURAZNO | G2: RACIÓN ALMUERZO (INGRESAR CANTIDAD RACIONES DE ALMUERZO) | I2: =LUNES!$I$2 -> 200
A3: ALMUERZO | B3: ='MENU COMÚN'!E9 -> SOPA DE AVE NATURAL | G3: RACIÓN COMPLETA | I3: =LUNES!$I$3 -> 80
B4: ='MENU COMÚN'!E13 -> 1° Y 3° SEMANA: STROGONOFF DE CERDO CON MOSTACHOLIS PEREJIL 2° Y 4° SEMANA CARNE MECHADA CON FIDEOS CILANTRO
B5: ='MENU COMÚN'!E14 -> JALEA FRAMBUESA
Q6: % AUMENTO
A7: CENA | B7: ='MENU COMÚN'!E17 -> CREMA DESHIDRATADA | Q7: 0 | R7: VALOR REAL | S7: VALOR TEORICO | T7: CANTIDADES | U7: TOTAL REAL | V7: TOTAL TEORICO | W7: SUPERAVIT O DEFICIT | X7: % SUP O DEF
B8: ='MENU COMÚN'!E21 -> ZAPALLITOS RELLENOS CON PAPAS FRITAS (CARNE MOLIDA) ALTERNATIVA: PASTEL DE ZAPALLITOS CON PAPAS RÚSTICAS | P8: =LUNES!P8 -> 2065 | Q8: RACIÓN ALMUERZO (85%) | R8: =I40 -> 1111.1399 | S8: =+$P$8+($P$8*$Q$7) -> 2065 | T8: =+$I$2-$I$3 -> 120 | U8: =$R$8*$T$8 -> 133336.79 | V8: =$S$8*$T$8 -> 247800 | W8: =$V$8-$U$8 -> 114463.21 | X8: =$W$8/$V$8 -> 0.46191773
B9: ='MENU COMÚN'!E22 -> FLAN DE VAINILLA | P9: =LUNES!P9 -> 2429 | Q9: RACIÓN COMPLETA | R9: =I18+I40+I57 -> 3216.6671 | S9: =+$P$9+($P$9*$Q$7) -> 2429 | T9: =+$I$3 -> 80 | U9: =$R$9*$T$9 -> 257333.37 | V9: =$S$9*$T$9 -> 194320 | W9: =$V$9-$U$9 -> -63013.366 | X9: =$W$9/$V$9 -> -0.32427627
A10: DESCRIPCION | B10: CÓDIGO | C10: U/E | D10: CANTIDAD TOTAL KG | F10: GRS P/P | G10: CANTIDAD (KG) P/P | H10: V.UNITARIO | I10: V. P/P | J10: V.TOTAL | K10: CALORÍAS | L10: PROTEÍNAS | M10: LÍPIDOS | N10: CHO | Q10: TOTAL | U10: =SUM(U8:U9) -> 390670.15 | V10: =SUM(V8:V9) -> 442120 | W10: =V10-U10 -> 51449.849 | X10: =W10/V10 -> 0.11637078
A11: DESAYUNO
A12: LECHE EN POLVO 800 GRS. | B12: =VLOOKUP($A12,NSN!$A:$B,2,FALSE) -> C903335 | C12: =VLOOKUP($A12,CODIGOS!$B:$E,4,FALSE) -> 800 grs | D12: =($F12*$I$3)/1000 -> 1.6 | E12: =IF(VLOOKUP($B12,CODIGOS!$A:$F,6,0)<>1000,(($F12*$I$3)/VLOOKUP($B12,CODIGOS!$A:$F,6,0)),"") -> 2 | F12: 20 | G12: =(F12/1000)*VLOOKUP($B12,CODIGOS!$A:$G,7,0) -> 0.02 | H12: =VLOOKUP($A12,CODIGOS!$B:$D,2,FALSE) -> 4975 | I12: =IF($H12="S/STOCK","",$J12/$I$3) -> 124.375 | J12: =IF(H12="S/STOCK","",IF($E12="",$D12*$H12,$E12*$H12)) -> 9950 | K12: =VLOOKUP($B12,CODIGOS!$A:$K,8,0)*$G12*1000 -> 70.6 | L12: =VLOOKUP($B12,CODIGOS!$A:$K,9,0)*$G12*1000 -> 8.02 | M12: =VLOOKUP($B12,CODIGOS!$A:$K,10,0)*$G12*1000 -> 0.02 | N12: =VLOOKUP($B12,CODIGOS!$A:$K,11,0)*$G12*1000 -> 9.58
A13: TE | B13: =VLOOKUP($A13,NSN!$A:$B,2,FALSE) -> C000827 | C13: =VLOOKUP($A13,CODIGOS!$B:$E,4,FALSE) -> KG | D13: =($F13*$I$3)/1000 -> 0.12 | E13: =IF(VLOOKUP($B13,CODIGOS!$A:$F,6,0)<>1000,(($F13*$I$3)/VLOOKUP($B13,CODIGOS!$A:$F,6,0)),"") | F13: 1.5 | G13: =(F13/1000)*VLOOKUP($B13,CODIGOS!$A:$G,7,0) -> 0.0015 | H13: =VLOOKUP($A13,CODIGOS!$B:$D,2,FALSE) -> 7800 | I13: =IF($H13="S/STOCK","",$J13/$I$3) -> 11.7 | J13: =IF(H13="S/STOCK","",IF($E13="",$D13*$H13,$E13*$H13)) -> 936 | K13: =VLOOKUP($B13,CODIGOS!$A:$K,8,0)*$G13*1000 -> 0.015 | L13: =VLOOKUP($B13,CODIGOS!$A:$K,9,0)*$G13*1000 -> 0 | M13: =VLOOKUP($B13,CODIGOS!$A:$K,10,0)*$G13*1000 -> 0 | N13: =VLOOKUP($B13,CODIGOS!$A:$K,11,0)*$G13*1000 -> 0.003
A14: CAFÉ INSTANTANEO | B14: =VLOOKUP($A14,NSN!$A:$B,2,FALSE) -> C000523 | C14: =VLOOKUP($A14,CODIGOS!$B:$E,4,FALSE) -> TA 400 gr | D14: =($F14*$I$3)/1000 -> 0.08 | E14: =IF(VLOOKUP($B14,CODIGOS!$A:$F,6,0)<>1000,(($F14*$I$3)/VLOOKUP($B14,CODIGOS!$A:$F,6,0)),"") -> 0.2 | F14: 1 | G14: =(F14/1000)*VLOOKUP($B14,CODIGOS!$A:$G,7,0) -> 0.001 | H14: =VLOOKUP($A14,CODIGOS!$B:$D,2,FALSE) -> 9990 | I14: =IF($H14="S/STOCK","",$J14/$I$3) -> 24.975 | J14: =IF(H14="S/STOCK","",IF($E14="",$D14*$H14,$E14*$H14)) -> 1998 | K14: =VLOOKUP($B14,CODIGOS!$A:$K,8,0)*$G14*1000 -> 2.61 | L14: =VLOOKUP($B14,CODIGOS!$A:$K,9,0)*$G14*1000 -> 0.164 | M14: =VLOOKUP($B14,CODIGOS!$A:$K,10,0)*$G14*1000 -> 0.001 | N14: =VLOOKUP($B14,CODIGOS!$A:$K,11,0)*$G14*1000 -> 0.49
A15: AZUCAR BLANCA REFINADA | B15: =VLOOKUP($A15,NSN!$A:$B,2,FALSE) -> C000816 | C15: =VLOOKUP($A15,CODIGOS!$B:$E,4,FALSE) -> KG | D15: =($F15*$I$3)/1000 -> 0.8 | E15: =IF(VLOOKUP($B15,CODIGOS!$A:$F,6,0)<>1000,(($F15*$I$3)/VLOOKUP($B15,CODIGOS!$A:$F,6,0)),"") | F15: 10 | G15: =(F15/1000)*VLOOKUP($B15,CODIGOS!$A:$G,7,0) -> 0.01 | H15: =VLOOKUP($A15,CODIGOS!$B:$D,2,FALSE) -> 1128 | I15: =IF($H15="S/STOCK","",$J15/$I$3) -> 11.28 | J15: =IF(H15="S/STOCK","",IF($E15="",$D15*$H15,$E15*$H15)) -> 902.4 | K15: =VLOOKUP($B15,CODIGOS!$A:$K,8,0)*$G15*1000 -> 39.8 | L15: =VLOOKUP($B15,CODIGOS!$A:$K,9,0)*$G15*1000 -> 0 | M15: =VLOOKUP($B15,CODIGOS!$A:$K,10,0)*$G15*1000 -> 0 | N15: =VLOOKUP($B15,CODIGOS!$A:$K,11,0)*$G15*1000 -> 9.95
A16: MERMELADA REGIMEL DURAZNO | B16: =VLOOKUP($A16,NSN!$A:$B,2,FALSE) -> C903446 | C16: =VLOOKUP($A16,CODIGOS!$B:$E,4,FALSE) -> 200 grs | D16: =($F16*$I$3)/1000 -> 2 | E16: =IF(VLOOKUP($B16,CODIGOS!$A:$F,6,0)<>1000,(($F16*$I$3)/VLOOKUP($B16,CODIGOS!$A:$F,6,0)),"") -> 10 | F16: 25 | G16: =(F16/1000)*VLOOKUP($B16,CODIGOS!$A:$G,7,0) -> 0.025 | H16: =VLOOKUP($A16,CODIGOS!$B:$D,2,FALSE) -> 1057 | I16: =IF($H16="S/STOCK","",$J16/$I$3) -> 132.125 | J16: =IF(H16="S/STOCK","",IF($E16="",$D16*$H16,$E16*$H16)) -> 10570 | K16: =VLOOKUP($B16,CODIGOS!$A:$K,8,0)*$G16*1000 -> 10.5 | L16: =VLOOKUP($B16,CODIGOS!$A:$K,9,0)*$G16*1000 -> 0.075 | M16: =VLOOKUP($B16,CODIGOS!$A:$K,10,0)*$G16*1000 -> 0.05 | N16: =VLOOKUP($B16,CODIGOS!$A:$K,11,0)*$G16*1000 -> 1.525
A17: PAN | B17: =VLOOKUP($A17,NSN!$A:$B,2,FALSE) -> V000415 | C17: =VLOOKUP($A17,CODIGOS!$B:$E,4,FALSE) -> KG | D17: =($F17*$I$3)/1000 -> 8 | E17: =IF(VLOOKUP($B17,CODIGOS!$A:$F,6,0)<>1000,(($F17*$I$3)/VLOOKUP($B17,CODIGOS!$A:$F,6,0)),"") | F17: 100 | G17: =(F17/1000)*VLOOKUP($B17,CODIGOS!$A:$G,7,0) -> 0.1 | H17: =VLOOKUP($A17,CODIGOS!$B:$D,2,FALSE) -> 1783 | I17: =IF($H17="S/STOCK","",$J17/$I$3) -> 178.3 | J17: =IF(H17="S/STOCK","",IF($E17="",$D17*$H17,$E17*$H17)) -> 14264 | K17: =VLOOKUP($B17,CODIGOS!$A:$K,8,0)*$G17*1000 -> 315 | L17: =VLOOKUP($B17,CODIGOS!$A:$K,9,0)*$G17*1000 -> 8.2 | M17: =VLOOKUP($B17,CODIGOS!$A:$K,10,0)*$G17*1000 -> 4 | N17: =VLOOKUP($B17,CODIGOS!$A:$K,11,0)*$G17*1000 -> 61.6
I18: =SUM(I12:I17) -> 482.755 | J18: =SUM(J12:J17) -> 38620.4 | K18: =SUM(K12:K17) -> 438.525 | L18: =SUM(L12:L17) -> 16.459 | M18: =SUM(M12:M17) -> 4.071 | N18: =SUM(N12:N17) -> 83.148
A19: ALMUERZO
A20: REFRESCO FRAMBUESA | B20: =VLOOKUP($A20,NSN!$A:$B,2,FALSE) -> C902857 | C20: =VLOOKUP($A20,CODIGOS!$B:$E,4,FALSE) -> KG | D20: =($F20*$I$2)/1000 -> 1.2 | E20: =IF(VLOOKUP($B20,CODIGOS!$A:$F,6,0)<>1000,(($F20*$I$2)/VLOOKUP($B20,CODIGOS!$A:$F,6,0)),"") | F20: 6 | G20: =(F20/1000)*VLOOKUP($B20,CODIGOS!$A:$G,7,0) -> 0.006 | H20: =VLOOKUP($A20,CODIGOS!$B:$D,2,FALSE) -> 2941 | I20: =IF($H20="S/STOCK","",$J20/$I$2) -> 17.646 | J20: =IF(H20="S/STOCK","",IF($E20="",$D20*$H20,$E20*$H20)) -> 3529.2 | K20: =VLOOKUP($B20,CODIGOS!$A:$K,8,0)*$G20*1000 -> 21.54 | L20: =VLOOKUP($B20,CODIGOS!$A:$K,9,0)*$G20*1000 -> 0 | M20: =VLOOKUP($B20,CODIGOS!$A:$K,10,0)*$G20*1000 -> 0 | N20: =VLOOKUP($B20,CODIGOS!$A:$K,11,0)*$G20*1000 -> 5.376
A21: PAN | B21: =VLOOKUP($A21,NSN!$A:$B,2,FALSE) -> V000415 | C21: =VLOOKUP($A21,CODIGOS!$B:$E,4,FALSE) -> KG | D21: =($F21*$I$2)/1000 -> 10 | E21: =IF(VLOOKUP($B21,CODIGOS!$A:$F,6,0)<>1000,(($F21*$I$2)/VLOOKUP($B21,CODIGOS!$A:$F,6,0)),"") | F21: 50 | G21: =(F21/1000)*VLOOKUP($B21,CODIGOS!$A:$G,7,0) -> 0.05 | H21: =VLOOKUP($A21,CODIGOS!$B:$D,2,FALSE) -> 1783 | I21: =IF($H21="S/STOCK","",$J21/$I$2) -> 89.15 | J21: =IF(H21="S/STOCK","",IF($E21="",$D21*$H21,$E21*$H21)) -> 17830 | K21: =VLOOKUP($B21,CODIGOS!$A:$K,8,0)*$G21*1000 -> 157.5 | L21: =VLOOKUP($B21,CODIGOS!$A:$K,9,0)*$G21*1000 -> 4.1 | M21: =VLOOKUP($B21,CODIGOS!$A:$K,10,0)*$G21*1000 -> 2 | N21: =VLOOKUP($B21,CODIGOS!$A:$K,11,0)*$G21*1000 -> 30.8
A22: POLLO FILETE | B22: =VLOOKUP($A22,NSN!$A:$B,2,FALSE) -> C903555 | C22: =VLOOKUP($A22,CODIGOS!$B:$E,4,FALSE) -> KG | D22: =($F22*$I$2)/1000 -> 0 | E22: =IF(VLOOKUP($B22,CODIGOS!$A:$F,6,0)<>1000,(($F22*$I$2)/VLOOKUP($B22,CODIGOS!$A:$F,6,0)),"") | F22: 0 | G22: =(F22/1000)*VLOOKUP($B22,CODIGOS!$A:$G,7,0) -> 0 | H22: =VLOOKUP($A22,CODIGOS!$B:$D,2,FALSE) -> 4165 | I22: =IF($H22="S/STOCK","",$J22/$I$2) -> 0 | J22: =IF(H22="S/STOCK","",IF($E22="",$D22*$H22,$E22*$H22)) -> 0 | K22: =VLOOKUP($B22,CODIGOS!$A:$K,8,0)*$G22*1000 -> 0 | L22: =VLOOKUP($B22,CODIGOS!$A:$K,9,0)*$G22*1000 -> 0 | M22: =VLOOKUP($B22,CODIGOS!$A:$K,10,0)*$G22*1000 -> 0 | N22: =VLOOKUP($B22,CODIGOS!$A:$K,11,0)*$G22*1000 -> 0
A23: AJOS FRESCO | B23: =VLOOKUP($A23,NSN!$A:$B,2,FALSE) -> V000014 | C23: =VLOOKUP($A23,CODIGOS!$B:$E,4,FALSE) -> NR 35 g | D23: =($F23*$I$2)/1000 -> 0.1 | E23: =IF(VLOOKUP($B23,CODIGOS!$A:$F,6,0)<>1000,(($F23*$I$2)/VLOOKUP($B23,CODIGOS!$A:$F,6,0)),"") -> 2.8571429 | F23: 0.5 | G23: =(F23/1000)*VLOOKUP($B23,CODIGOS!$A:$G,7,0) -> 0.0005 | H23: =VLOOKUP($A23,CODIGOS!$B:$D,2,FALSE) -> 297 | I23: =IF($H23="S/STOCK","",$J23/$I$2) -> 4.2428571 | J23: =IF(H23="S/STOCK","",IF($E23="",$D23*$H23,$E23*$H23)) -> 848.57143 | K23: =VLOOKUP($B23,CODIGOS!$A:$K,8,0)*$G23*1000 -> 0.695 | L23: =VLOOKUP($B23,CODIGOS!$A:$K,9,0)*$G23*1000 -> 0.0335 | M23: =VLOOKUP($B23,CODIGOS!$A:$K,10,0)*$G23*1000 -> 0.002 | N23: =VLOOKUP($B23,CODIGOS!$A:$K,11,0)*$G23*1000 -> 0.136
A24: PEREJIL | B24: =VLOOKUP($A24,NSN!$A:$B,2,FALSE) -> V000231 | C24: =VLOOKUP($A24,CODIGOS!$B:$E,4,FALSE) -> NR 200 gr | D24: =($F24*$I$2)/1000 -> 0.1 | E24: =IF(VLOOKUP($B24,CODIGOS!$A:$F,6,0)<>1000,(($F24*$I$2)/VLOOKUP($B24,CODIGOS!$A:$F,6,0)),"") -> 0.5 | F24: 0.5 | G24: =(F24/1000)*VLOOKUP($B24,CODIGOS!$A:$G,7,0) -> 0.0004385 | H24: =VLOOKUP($A24,CODIGOS!$B:$D,2,FALSE) -> 774 | I24: =IF($H24="S/STOCK","",$J24/$I$2) -> 1.935 | J24: =IF(H24="S/STOCK","",IF($E24="",$D24*$H24,$E24*$H24)) -> 387 | K24: =VLOOKUP($B24,CODIGOS!$A:$K,8,0)*$G24*1000 -> 0.258715 | L24: =VLOOKUP($B24,CODIGOS!$A:$K,9,0)*$G24*1000 -> 0.0135935 | M24: =VLOOKUP($B24,CODIGOS!$A:$K,10,0)*$G24*1000 -> 0.002631 | N24: =VLOOKUP($B24,CODIGOS!$A:$K,11,0)*$G24*1000 -> 0.0451655
A25: SEMOLA KG | B25: =VLOOKUP($A25,NSN!$A:$B,2,FALSE) -> V000305 | C25: =VLOOKUP($A25,CODIGOS!$B:$E,4,FALSE) -> KG | D25: =($F25*$I$2)/1000 -> 1 | E25: =IF(VLOOKUP($B25,CODIGOS!$A:$F,6,0)<>1000,(($F25*$I$2)/VLOOKUP($B25,CODIGOS!$A:$F,6,0)),"") | F25: 5 | G25: =(F25/1000)*VLOOKUP($B25,CODIGOS!$A:$G,7,0) -> 0.005 | H25: =VLOOKUP($A25,CODIGOS!$B:$D,2,FALSE) -> 2559 | I25: =IF($H25="S/STOCK","",$J25/$I$2) -> 12.795 | J25: =IF(H25="S/STOCK","",IF($E25="",$D25*$H25,$E25*$H25)) -> 2559 | K25: =VLOOKUP($B25,CODIGOS!$A:$K,8,0)*$G25*1000 -> 17.35 | L25: =VLOOKUP($B25,CODIGOS!$A:$K,9,0)*$G25*1000 -> 0.405 | M25: =VLOOKUP($B25,CODIGOS!$A:$K,10,0)*$G25*1000 -> 0.035 | N25: =VLOOKUP($B25,CODIGOS!$A:$K,11,0)*$G25*1000 -> 3.875
A26: LOMO CERDO | B26: =VLOOKUP($A26,NSN!$A:$B,2,FALSE) -> C902737 | C26: =VLOOKUP($A26,CODIGOS!$B:$E,4,FALSE) -> KG | D26: =($F26*$I$2)/1000 -> 34 | E26: =IF(VLOOKUP($B26,CODIGOS!$A:$F,6,0)<>1000,(($F26*$I$2)/VLOOKUP($B26,CODIGOS!$A:$F,6,0)),"") | F26: 170 | G26: =(F26/1000)*VLOOKUP($B26,CODIGOS!$A:$G,7,0) -> 0.13549 | H26: =VLOOKUP($A26,CODIGOS!$B:$D,2,FALSE) -> 3900 | I26: =IF($H26="S/STOCK","",$J26/$I$2) -> 663 | J26: =IF(H26="S/STOCK","",IF($E26="",$D26*$H26,$E26*$H26)) -> 132600 | K26: =VLOOKUP($B26,CODIGOS!$A:$K,8,0)*$G26*1000 -> 178.8468 | L26: =VLOOKUP($B26,CODIGOS!$A:$K,9,0)*$G26*1000 -> 28.72388 | M26: =VLOOKUP($B26,CODIGOS!$A:$K,10,0)*$G26*1000 -> 5.96156 | N26: =VLOOKUP($B26,CODIGOS!$A:$K,11,0)*$G26*1000 -> 2.43882
A27: AJOS FRESCO | B27: =VLOOKUP($A27,NSN!$A:$B,2,FALSE) -> V000014 | C27: =VLOOKUP($A27,CODIGOS!$B:$E,4,FALSE) -> NR 35 g | D27: =($F27*$I$2)/1000 -> 0.1 | E27: =IF(VLOOKUP($B27,CODIGOS!$A:$F,6,0)<>1000,(($F27*$I$2)/VLOOKUP($B27,CODIGOS!$A:$F,6,0)),"") -> 2.8571429 | F27: 0.5 | G27: =(F27/1000)*VLOOKUP($B27,CODIGOS!$A:$G,7,0) -> 0.0005 | H27: =VLOOKUP($A27,CODIGOS!$B:$D,2,FALSE) -> 297 | I27: =IF($H27="S/STOCK","",$J27/$I$2) -> 4.2428571 | J27: =IF(H27="S/STOCK","",IF($E27="",$D27*$H27,$E27*$H27)) -> 848.57143 | K27: =VLOOKUP($B27,CODIGOS!$A:$K,8,0)*$G27*1000 -> 0.695 | L27: =VLOOKUP($B27,CODIGOS!$A:$K,9,0)*$G27*1000 -> 0.0335 | M27: =VLOOKUP($B27,CODIGOS!$A:$K,10,0)*$G27*1000 -> 0.002 | N27: =VLOOKUP($B27,CODIGOS!$A:$K,11,0)*$G27*1000 -> 0.136
A28: CEBOLLAS FRESCAS | B28: =VLOOKUP($A28,NSN!$A:$B,2,FALSE) -> C000249 | C28: =VLOOKUP($A28,CODIGOS!$B:$E,4,FALSE) -> KG | D28: =($F28*$I$2)/1000 -> 6 | E28: =IF(VLOOKUP($B28,CODIGOS!$A:$F,6,0)<>1000,(($F28*$I$2)/VLOOKUP($B28,CODIGOS!$A:$F,6,0)),"") | F28: 30 | G28: =(F28/1000)*VLOOKUP($B28,CODIGOS!$A:$G,7,0) -> 0.02673 | H28: =VLOOKUP($A28,CODIGOS!$B:$D,2,FALSE) -> 640 | I28: =IF($H28="S/STOCK","",$J28/$I$2) -> 19.2 | J28: =IF(H28="S/STOCK","",IF($E28="",$D28*$H28,$E28*$H28)) -> 3840 | K28: =VLOOKUP($B28,CODIGOS!$A:$K,8,0)*$G28*1000 -> 11.4939 | L28: =VLOOKUP($B28,CODIGOS!$A:$K,9,0)*$G28*1000 -> 0.21384 | M28: =VLOOKUP($B28,CODIGOS!$A:$K,10,0)*$G28*1000 -> 0.05346 | N28: =VLOOKUP($B28,CODIGOS!$A:$K,11,0)*$G28*1000 -> 2.56608
A29: LECHE EN POLVO 800 GRS. | B29: =VLOOKUP($A29,NSN!$A:$B,2,FALSE) -> C903335 | C29: =VLOOKUP($A29,CODIGOS!$B:$E,4,FALSE) -> 800 grs | D29: =($F29*$I$2)/1000 -> 2 | E29: =IF(VLOOKUP($B29,CODIGOS!$A:$F,6,0)<>1000,(($F29*$I$2)/VLOOKUP($B29,CODIGOS!$A:$F,6,0)),"") -> 2.5 | F29: 10 | G29: =(F29/1000)*VLOOKUP($B29,CODIGOS!$A:$G,7,0) -> 0.01 | H29: =VLOOKUP($A29,CODIGOS!$B:$D,2,FALSE) -> 4975 | I29: =IF($H29="S/STOCK","",$J29/$I$2) -> 62.1875 | J29: =IF(H29="S/STOCK","",IF($E29="",$D29*$H29,$E29*$H29)) -> 12437.5 | K29: =VLOOKUP($B29,CODIGOS!$A:$K,8,0)*$G29*1000 -> 35.3 | L29: =VLOOKUP($B29,CODIGOS!$A:$K,9,0)*$G29*1000 -> 4.01 | M29: =VLOOKUP($B29,CODIGOS!$A:$K,10,0)*$G29*1000 -> 0.01 | N29: =VLOOKUP($B29,CODIGOS!$A:$K,11,0)*$G29*1000 -> 4.79
A30: MARGARINA PQ | B30: =VLOOKUP($A30,NSN!$A:$B,2,FALSE) -> V000523 | C30: =VLOOKUP($A30,CODIGOS!$B:$E,4,FALSE) -> PQ 250 gr | D30: =($F30*$I$2)/1000 -> 1 | E30: =IF(VLOOKUP($B30,CODIGOS!$A:$F,6,0)<>1000,(($F30*$I$2)/VLOOKUP($B30,CODIGOS!$A:$F,6,0)),"") -> 4 | F30: 5 | G30: =(F30/1000)*VLOOKUP($B30,CODIGOS!$A:$G,7,0) -> 0.005 | H30: =VLOOKUP($A30,CODIGOS!$B:$D,2,FALSE) -> 1626 | I30: =IF($H30="S/STOCK","",$J30/$I$2) -> 32.52 | J30: =IF(H30="S/STOCK","",IF($E30="",$D30*$H30,$E30*$H30)) -> 6504 | K30: =VLOOKUP($B30,CODIGOS!$A:$K,8,0)*$G30*1000 -> 35.8 | L30: =VLOOKUP($B30,CODIGOS!$A:$K,9,0)*$G30*1000 -> 0.04 | M30: =VLOOKUP($B30,CODIGOS!$A:$K,10,0)*$G30*1000 -> 4.01 | N30: =VLOOKUP($B30,CODIGOS!$A:$K,11,0)*$G30*1000 -> 0.025
A31: HARINA FLOR | B31: =VLOOKUP($A31,NSN!$A:$B,2,FALSE) -> C000367 | C31: =VLOOKUP($A31,CODIGOS!$B:$E,4,FALSE) -> KG | D31: =($F31*$I$2)/1000 -> 2 | E31: =IF(VLOOKUP($B31,CODIGOS!$A:$F,6,0)<>1000,(($F31*$I$2)/VLOOKUP($B31,CODIGOS!$A:$F,6,0)),"") | F31: 10 | G31: =(F31/1000)*VLOOKUP($B31,CODIGOS!$A:$G,7,0) -> 0.01 | H31: =VLOOKUP($A31,CODIGOS!$B:$D,2,FALSE) -> 794 | I31: =IF($H31="S/STOCK","",$J31/$I$2) -> 7.94 | J31: =IF(H31="S/STOCK","",IF($E31="",$D31*$H31,$E31*$H31)) -> 1588 | K31: =VLOOKUP($B31,CODIGOS!$A:$K,8,0)*$G31*1000 -> 34.8 | L31: =VLOOKUP($B31,CODIGOS!$A:$K,9,0)*$G31*1000 -> 0.8 | M31: =VLOOKUP($B31,CODIGOS!$A:$K,10,0)*$G31*1000 -> 0.12 | N31: =VLOOKUP($B31,CODIGOS!$A:$K,11,0)*$G31*1000 -> 7.64
... A39: POSTRE GELATINA EN POLVO FRAMBUESA | B39: =VLOOKUP($A39,NSN!$A:$B,2,FALSE) -> C902854 | C39: =VLOOKUP($A39,CODIGOS!$B:$E,4,FALSE) -> KG | D39: =($F39*$I$2)/1000 -> 2.8 | E39: =IF(VLOOKUP($B39,CODIGOS!$A:$F,6,0)<>1000,(($F39*$I$2)/VLOOKUP($B39,CODIGOS!$A:$F,6,0)),"") | F39: 14 | G39: =(F39/1000)*VLOOKUP($B39,CODIGOS!$A:$G,7,0) -> 0.014 | H39: =VLOOKUP($A39,CODIGOS!$B:$D,2,FALSE) -> 4054 | I39: =IF($H39="S/STOCK","",$J39/$I$2) -> 56.756 | J39: =IF(H39="S/STOCK","",IF($E39="",$D39*$H39,$E39*$H39)) -> 11351.2 | K39: =VLOOKUP($B39,CODIGOS!$A:$K,8,0)*$G39*1000 -> 50.96 | L39: =VLOOKUP($B39,CODIGOS!$A:$K,9,0)*$G39*1000 -> 2.884 | M39: =VLOOKUP($B39,CODIGOS!$A:$K,10,0)*$G39*1000 -> 0.168 | N39: =VLOOKUP($B39,CODIGOS!$A:$K,11,0)*$G39*1000 -> 9.716
I40: =SUM(I20:I39) -> 1111.1399 | J40: =SUM(J20:J39) -> 222227.98 | K40: =SUM(K20:K39) -> 917.29813 | L40: =SUM(L20:L39) -> 50.192907 | M40: =SUM(M20:M39) -> 22.727282 | N40: =SUM(N20:N39) -> 129.18673
A41: CENA
A42: REFRESCO NARANJA | B42: =VLOOKUP($A42,NSN!$A:$B,2,FALSE) -> C902859 | C42: =VLOOKUP($A42,CODIGOS!$B:$E,4,FALSE) -> KG | D42: =($F42*$I$3)/1000 -> 0.48 | E42: =IF(VLOOKUP($B42,CODIGOS!$A:$F,6,0)<>1000,(($F42*$I$3)/VLOOKUP($B42,CODIGOS!$A:$F,6,0)),"") | F42: 6 | G42: =(F42/1000)*VLOOKUP($B42,CODIGOS!$A:$G,7,0) -> 0.006 | H42: =VLOOKUP($A42,CODIGOS!$B:$D,2,FALSE) -> 2986 | I42: =IF($H42="S/STOCK","",$J42/$I$3) -> 17.916 | J42: =IF(H42="S/STOCK","",IF($E42="",$D42*$H42,$E42*$H42)) -> 1433.28 | K42: =VLOOKUP($B42,CODIGOS!$A:$K,8,0)*$G42*1000 -> 21.54 | L42: =VLOOKUP($B42,CODIGOS!$A:$K,9,0)*$G42*1000 -> 0 | M42: =VLOOKUP($B42,CODIGOS!$A:$K,10,0)*$G42*1000 -> 0 | N42: =VLOOKUP($B42,CODIGOS!$A:$K,11,0)*$G42*1000 -> 5.376
A43: PAN | B43: =VLOOKUP($A43,NSN!$A:$B,2,FALSE) -> V000415 | C43: =VLOOKUP($A43,CODIGOS!$B:$E,4,FALSE) -> KG | D43: =($F43*$I$3)/1000 -> 4 | E43: =IF(VLOOKUP($B43,CODIGOS!$A:$F,6,0)<>1000,(($F43*$I$3)/VLOOKUP($B43,CODIGOS!$A:$F,6,0)),"") | F43: 50 | G43: =(F43/1000)*VLOOKUP($B43,CODIGOS!$A:$G,7,0) -> 0.05 | H43: =VLOOKUP($A43,CODIGOS!$B:$D,2,FALSE) -> 1783 | I43: =IF($H43="S/STOCK","",$J43/$I$3) -> 89.15 | J43: =IF(H43="S/STOCK","",IF($E43="",$D43*$H43,$E43*$H43)) -> 7132 | K43: =VLOOKUP($B43,CODIGOS!$A:$K,8,0)*$G43*1000 -> 157.5 | L43: =VLOOKUP($B43,CODIGOS!$A:$K,9,0)*$G43*1000 -> 4.1 | M43: =VLOOKUP($B43,CODIGOS!$A:$K,10,0)*$G43*1000 -> 2 | N43: =VLOOKUP($B43,CODIGOS!$A:$K,11,0)*$G43*1000 -> 30.8
A44: CREMA DE VERDURAS | B44: =VLOOKUP($A44,NSN!$A:$B,2,FALSE) -> C902848 | C44: =VLOOKUP($A44,CODIGOS!$B:$E,4,FALSE) -> KG | D44: =($F44*$I$3)/1000 -> 1 | E44: =IF(VLOOKUP($B44,CODIGOS!$A:$F,6,0)<>1000,(($F44*$I$3)/VLOOKUP($B44,CODIGOS!$A:$F,6,0)),"") | F44: 12.5 | G44: =(F44/1000)*VLOOKUP($B44,CODIGOS!$A:$G,7,0) -> 0.0125 | H44: =VLOOKUP($A44,CODIGOS!$B:$D,2,FALSE) -> 2024 | I44: =IF($H44="S/STOCK","",$J44/$I$3) -> 25.3 | J44: =IF(H44="S/STOCK","",IF($E44="",$D44*$H44,$E44*$H44)) -> 2024 | K44: =VLOOKUP($B44,CODIGOS!$A:$K,8,0)*$G44*1000 -> 37.625 | L44: =VLOOKUP($B44,CODIGOS!$A:$K,9,0)*$G44*1000 -> 0.7875 | M44: =VLOOKUP($B44,CODIGOS!$A:$K,10,0)*$G44*1000 -> 0.275 | N44: =VLOOKUP($B44,CODIGOS!$A:$K,11,0)*$G44*1000 -> 8
A45: ZAPALLOS ITALIANOS NR | B45: =VLOOKUP($A45,NSN!$A:$B,2,FALSE) -> V000333 | C45: =VLOOKUP($A45,CODIGOS!$B:$E,4,FALSE) -> NR (250 g) | D45: =($F45*$I$3)/1000 -> 8 | E45: =IF(VLOOKUP($B45,CODIGOS!$A:$F,6,0)<>1000,(($F45*$I$3)/VLOOKUP($B45,CODIGOS!$A:$F,6,0)),"") -> 32 | F45: 100 | G45: =(F45/1000)*VLOOKUP($B45,CODIGOS!$A:$G,7,0) -> 0.0948 | H45: =VLOOKUP($A45,CODIGOS!$B:$D,2,FALSE) -> 796 | I45: =IF($H45="S/STOCK","",$J45/$I$3) -> 318.4 | J45: =IF(H45="S/STOCK","",IF($E45="",$D45*$H45,$E45*$H45)) -> 25472 | K45: =VLOOKUP($B45,CODIGOS!$A:$K,8,0)*$G45*1000 -> 16.116 | L45: =VLOOKUP($B45,CODIGOS!$A:$K,9,0)*$G45*1000 -> 1.2324 | M45: =VLOOKUP($B45,CODIGOS!$A:$K,10,0)*$G45*1000 -> 0.2844 | N45: =VLOOKUP($B45,CODIGOS!$A:$K,11,0)*$G45*1000 -> 2.1804
A46: CEBOLLAS FRESCAS | B46: =VLOOKUP($A46,NSN!$A:$B,2,FALSE) -> C000249 | C46: =VLOOKUP($A46,CODIGOS!$B:$E,4,FALSE) -> KG | D46: =($F46*$I$3)/1000 -> 1.6 | E46: =IF(VLOOKUP($B46,CODIGOS!$A:$F,6,0)<>1000,(($F46*$I$3)/VLOOKUP($B46,CODIGOS!$A:$F,6,0)),"") | F46: 20 | G46: =(F46/1000)*VLOOKUP($B46,CODIGOS!$A:$G,7,0) -> 0.01782 | H46: =VLOOKUP($A46,CODIGOS!$B:$D,2,FALSE) -> 640 | I46: =IF($H46="S/STOCK","",$J46/$I$3) -> 12.8 | J46: =IF(H46="S/STOCK","",IF($E46="",$D46*$H46,$E46*$H46)) -> 1024 | K46: =VLOOKUP($B46,CODIGOS!$A:$K,8,0)*$G46*1000 -> 7.6626 | L46: =VLOOKUP($B46,CODIGOS!$A:$K,9,0)*$G46*1000 -> 0.14256 | M46: =VLOOKUP($B46,CODIGOS!$A:$K,10,0)*$G46*1000 -> 0.03564 | N46: =VLOOKUP($B46,CODIGOS!$A:$K,11,0)*$G46*1000 -> 1.71072
A47: AJOS FRESCO | B47: =VLOOKUP($A47,NSN!$A:$B,2,FALSE) -> V000014 | C47: =VLOOKUP($A47,CODIGOS!$B:$E,4,FALSE) -> NR 35 g | D47: =($F47*$I$3)/1000 -> 0.04 | E47: =IF(VLOOKUP($B47,CODIGOS!$A:$F,6,0)<>1000,(($F47*$I$3)/VLOOKUP($B47,CODIGOS!$A:$F,6,0)),"") -> 1.1428571 | F47: 0.5 | G47: =(F47/1000)*VLOOKUP($B47,CODIGOS!$A:$G,7,0) -> 0.0005 | H47: =VLOOKUP($A47,CODIGOS!$B:$D,2,FALSE) -> 297 | I47: =IF($H47="S/STOCK","",$J47/$I$3) -> 4.2428571 | J47: =IF(H47="S/STOCK","",IF($E47="",$D47*$H47,$E47*$H47)) -> 339.42857 | K47: =VLOOKUP($B47,CODIGOS!$A:$K,8,0)*$G47*1000 -> 0.695 | L47: =VLOOKUP($B47,CODIGOS!$A:$K,9,0)*$G47*1000 -> 0.0335 | M47: =VLOOKUP($B47,CODIGOS!$A:$K,10,0)*$G47*1000 -> 0.002 | N47: =VLOOKUP($B47,CODIGOS!$A:$K,11,0)*$G47*1000 -> 0.136
A48: ZANAHORIA | B48: =VLOOKUP($A48,NSN!$A:$B,2,FALSE) -> V000330 | C48: =VLOOKUP($A48,CODIGOS!$B:$E,4,FALSE) -> KG | D48: =($F48*$I$3)/1000 -> 1.2 | E48: =IF(VLOOKUP($B48,CODIGOS!$A:$F,6,0)<>1000,(($F48*$I$3)/VLOOKUP($B48,CODIGOS!$A:$F,6,0)),"") | F48: 15 | G48: =(F48/1000)*VLOOKUP($B48,CODIGOS!$A:$G,7,0) -> 0.01353 | H48: =VLOOKUP($A48,CODIGOS!$B:$D,2,FALSE) -> 1287 | I48: =IF($H48="S/STOCK","",$J48/$I$3) -> 19.305 | J48: =IF(H48="S/STOCK","",IF($E48="",$D48*$H48,$E48*$H48)) -> 1544.4 | K48: =VLOOKUP($B48,CODIGOS!$A:$K,8,0)*$G48*1000 -> 11.6358 | L48: =VLOOKUP($B48,CODIGOS!$A:$K,9,0)*$G48*1000 -> 0.12177 | M48: =VLOOKUP($B48,CODIGOS!$A:$K,10,0)*$G48*1000 -> 0.06765 | N48: =VLOOKUP($B48,CODIGOS!$A:$K,11,0)*$G48*1000 -> 1.09593
A49: VACUNO CARNE MOLIDA CONGELADA | B49: =VLOOKUP($A49,NSN!$A:$B,2,FALSE) -> C902472 | C49: =VLOOKUP($A49,CODIGOS!$B:$E,4,FALSE) -> KG | D49: =($F49*$I$3)/1000 -> 8.8 | E49: =IF(VLOOKUP($B49,CODIGOS!$A:$F,6,0)<>1000,(($F49*$I$3)/VLOOKUP($B49,CODIGOS!$A:$F,6,0)),"") | F49: 110 | G49: =(F49/1000)*VLOOKUP($B49,CODIGOS!$A:$G,7,0) -> 0.07128 | H49: =VLOOKUP($A49,CODIGOS!$B:$D,2,FALSE) -> 4940 | I49: =IF($H49="S/STOCK","",$J49/$I$3) -> 543.4 | J49: =IF(H49="S/STOCK","",IF($E49="",$D49*$H49,$E49*$H49)) -> 43472 | K49: =VLOOKUP($B49,CODIGOS!$A:$K,8,0)*$G49*1000 -> 92.664 | L49: =VLOOKUP($B49,CODIGOS!$A:$K,9,0)*$G49*1000 -> 15.3252 | M49: =VLOOKUP($B49,CODIGOS!$A:$K,10,0)*$G49*1000 -> 2.99376 | N49: =VLOOKUP($B49,CODIGOS!$A:$K,11,0)*$G49*1000 -> 3.06504
A50: QUESO GAUDA LAMINADO | B50: =VLOOKUP($A50,NSN!$A:$B,2,FALSE) -> V000272 | C50: =VLOOKUP($A50,CODIGOS!$B:$E,4,FALSE) -> KG | D50: =($F50*$I$3)/1000 -> 0.8 | E50: =IF(VLOOKUP($B50,CODIGOS!$A:$F,6,0)<>1000,(($F50*$I$3)/VLOOKUP($B50,CODIGOS!$A:$F,6,0)),"") | F50: 10 | G50: =(F50/1000)*VLOOKUP($B50,CODIGOS!$A:$G,7,0) -> 0.01 | H50: =VLOOKUP($A50,CODIGOS!$B:$D,2,FALSE) -> 7291 | I50: =IF($H50="S/STOCK","",$J50/$I$3) -> 72.91 | J50: =IF(H50="S/STOCK","",IF($E50="",$D50*$H50,$E50*$H50)) -> 5832.8 | K50: =VLOOKUP($B50,CODIGOS!$A:$K,8,0)*$G50*1000 -> 35.1 | L50: =VLOOKUP($B50,CODIGOS!$A:$K,9,0)*$G50*1000 -> 2.49 | M50: =VLOOKUP($B50,CODIGOS!$A:$K,10,0)*$G50*1000 -> 2.56 | N50: =VLOOKUP($B50,CODIGOS!$A:$K,11,0)*$G50*1000 -> 0.52
A51: SAL | B51: =VLOOKUP($A51,NSN!$A:$B,2,FALSE) -> C000528 | C51: =VLOOKUP($A51,CODIGOS!$B:$E,4,FALSE) -> KG | D51: =($F51*$I$3)/1000 -> 0.04 | E51: =IF(VLOOKUP($B51,CODIGOS!$A:$F,6,0)<>1000,(($F51*$I$3)/VLOOKUP($B51,CODIGOS!$A:$F,6,0)),"") | F51: 0.5 | G51: =(F51/1000)*VLOOKUP($B51,CODIGOS!$A:$G,7,0) -> 0.0005 | H51: =VLOOKUP($A51,CODIGOS!$B:$D,2,FALSE) -> 375 | I51: =IF($H51="S/STOCK","",$J51/$I$3) -> 0.1875 | J51: =IF(H51="S/STOCK","",IF($E51="",$D51*$H51,$E51*$H51)) -> 15 | K51: =VLOOKUP($B51,CODIGOS!$A:$K,8,0)*$G51*1000 -> 0 | L51: =VLOOKUP($B51,CODIGOS!$A:$K,9,0)*$G51*1000 -> 0 | M51: =VLOOKUP($B51,CODIGOS!$A:$K,10,0)*$G51*1000 -> 0 | N51: =VLOOKUP($B51,CODIGOS!$A:$K,11,0)*$G51*1000 -> 0
A52: ACEITE 900 ML | B52: =VLOOKUP($A52,NSN!$A:$B,2,FALSE) -> C902636 | C52: =VLOOKUP($A52,CODIGOS!$B:$E,4,FALSE) -> 900 ML | D52: =($F52*$I$3)/1000 -> 0.4 | E52: =IF(VLOOKUP($B52,CODIGOS!$A:$F,6,0)<>1000,(($F52*$I$3)/VLOOKUP($B52,CODIGOS!$A:$F,6,0)),"") -> 0.44444444 | F52: 5 | G52: =(F52/1000)*VLOOKUP($B52,CODIGOS!$A:$G,7,0) -> 0.005 | H52: =VLOOKUP($A52,CODIGOS!$B:$D,2,FALSE) -> 1500 | I52: =IF($H52="S/STOCK","",$J52/$I$3) -> 8.3333333 | J52: =IF(H52="S/STOCK","",IF($E52="",$D52*$H52,$E52*$H52)) -> 666.66667 | K52: =VLOOKUP($B52,CODIGOS!$A:$K,8,0)*$G52*1000 -> 44.2 | L52: =VLOOKUP($B52,CODIGOS!$A:$K,9,0)*$G52*1000 -> 0 | M52: =VLOOKUP($B52,CODIGOS!$A:$K,10,0)*$G52*1000 -> 5 | N52: =VLOOKUP($B52,CODIGOS!$A:$K,11,0)*$G52*1000 -> 0
A53: PAPAS PREFRITAS, KG. | B53: =VLOOKUP($A53,NSN!$A:$B,2,FALSE) -> C903293 | C53: =VLOOKUP($A53,CODIGOS!$B:$E,4,FALSE) -> KG | D53: =($F53*$I$3)/1000 -> 17.6 | E53: =IF(VLOOKUP($B53,CODIGOS!$A:$F,6,0)<>1000,(($F53*$I$3)/VLOOKUP($B53,CODIGOS!$A:$F,6,0)),"") | F53: 220 | G53: =(F53/1000)*VLOOKUP($B53,CODIGOS!$A:$G,7,0) -> 0.22 | H53: =VLOOKUP($A53,CODIGOS!$B:$D,2,FALSE) -> 1874 | I53: =IF($H53="S/STOCK","",$J53/$I$3) -> 412.28 | J53: =IF(H53="S/STOCK","",IF($E53="",$D53*$H53,$E53*$H53)) -> 32982.4 | K53: =VLOOKUP($B53,CODIGOS!$A:$K,8,0)*$G53*1000 -> 303.6 | L53: =VLOOKUP($B53,CODIGOS!$A:$K,9,0)*$G53*1000 -> 5.06 | M53: =VLOOKUP($B53,CODIGOS!$A:$K,10,0)*$G53*1000 -> 8.58 | N53: =VLOOKUP($B53,CODIGOS!$A:$K,11,0)*$G53*1000 -> 48.4
... A56: FLAN DE VAINILLA | B56: =VLOOKUP($A56,NSN!$A:$B,2,FALSE) -> C902851 | C56: =VLOOKUP($A56,CODIGOS!$B:$E,4,FALSE) -> KG | D56: =($F56*$I$3)/1000 -> 1.6 | E56: =IF(VLOOKUP($B56,CODIGOS!$A:$F,6,0)<>1000,(($F56*$I$3)/VLOOKUP($B56,CODIGOS!$A:$F,6,0)),"") | F56: 20 | G56: =(F56/1000)*VLOOKUP($B56,CODIGOS!$A:$G,7,0) -> 0.02 | H56: =VLOOKUP($A56,CODIGOS!$B:$D,2,FALSE) -> 2418 | I56: =IF($H56="S/STOCK","",$J56/$I$3) -> 48.36 | J56: =IF(H56="S/STOCK","",IF($E56="",$D56*$H56,$E56*$H56)) -> 3868.8 | K56: =VLOOKUP($B56,CODIGOS!$A:$K,8,0)*$G56*1000 -> 74.8 | L56: =VLOOKUP($B56,CODIGOS!$A:$K,9,0)*$G56*1000 -> 0.5 | M56: =VLOOKUP($B56,CODIGOS!$A:$K,10,0)*$G56*1000 -> 0.44 | N56: =VLOOKUP($B56,CODIGOS!$A:$K,11,0)*$G56*1000 -> 17.2
I57: =SUM(I42:I56) -> 1622.7722 | J57: =SUM(J42:J56) -> 129821.78 | K57: =SUM(K42:K56) -> 1068.3384 | L57: =SUM(L42:L56) -> 29.79293 | M57: =SUM(M42:M56) -> 52.23845 | N57: =SUM(N42:N56) -> 118.48409
J58: MACRONUTRIENTES | K58: =K18+K40+K57 -> 2424.1615 | L58: =L18+L40+L57 -> 96.444837 | M58: =M18+M40+M57 -> 79.036732 | N58: =N18+N40+N57 -> 330.81882
A60: DESCRIPCION | B60: CÓDIGO | C60: U/E | D60: CANTIDAD TOTAL KG | F60: GRS P/P | G60: CANTIDAD (KG) P/P | H60: V.UNITARIO | I60: V. P/P | J60: V.TOTAL | K60: CALORÍAS | L60: PROTEÍNAS | M60: LÍPIDOS | N60: CHO
A61: CONFECCIÓN PAN
A62: HARINA FLOR | B62: =VLOOKUP($A62,NSN!$A:$B,2,FALSE) -> C000367 | C62: =VLOOKUP($A62,CODIGOS!$B:$E,4,FALSE) -> KG | D62: =($F62*$I$3)/1000 -> 11.4288 | E62: =IF(VLOOKUP($B62,CODIGOS!$A:$F,6,0)<>1000,(($F62*$I$3)/VLOOKUP($B62,CODIGOS!$A:$F,6,0)),"") | F62: 142.86 | G62: =(F62/1000)*VLOOKUP($B62,CODIGOS!$A:$G,7,0) -> 0.14286 | H62: =VLOOKUP($A62,CODIGOS!$B:$D,2,FALSE) -> 794 | I62: =IF($H62="S/STOCK","",$J62/$I$3) -> 113.43084 | J62: =IF(H62="S/STOCK","",IF($E62="",$D62*$H62,$E62*$H62)) -> 9074.4672 | K62: =VLOOKUP($B62,CODIGOS!$A:$K,8,0)*$G62*1000 -> 497.1528 | L62: =VLOOKUP($B62,CODIGOS!$A:$K,9,0)*$G62*1000 -> 11.4288 | M62: =VLOOKUP($B62,CODIGOS!$A:$K,10,0)*$G62*1000 -> 1.71432 | N62: =VLOOKUP($B62,CODIGOS!$A:$K,11,0)*$G62*1000 -> 109.14504
A63: AZUCAR BLANCA REFINADA | B63: =VLOOKUP($A63,NSN!$A:$B,2,FALSE) -> C000816 | C63: =VLOOKUP($A63,CODIGOS!$B:$E,4,FALSE) -> KG | D63: =($F63*$I$3)/1000 -> 0.1144 | E63: =IF(VLOOKUP($B63,CODIGOS!$A:$F,6,0)<>1000,(($F63*$I$3)/VLOOKUP($B63,CODIGOS!$A:$F,6,0)),"") | F63: 1.43 | G63: =(F63/1000)*VLOOKUP($B63,CODIGOS!$A:$G,7,0) -> 0.00143 | H63: =VLOOKUP($A63,CODIGOS!$B:$D,2,FALSE) -> 1128 | I63: =IF($H63="S/STOCK","",$J63/$I$3) -> 1.61304 | J63: =IF(H63="S/STOCK","",IF($E63="",$D63*$H63,$E63*$H63)) -> 129.0432 | K63: =VLOOKUP($B63,CODIGOS!$A:$K,8,0)*$G63*1000 -> 5.6914 | L63: =VLOOKUP($B63,CODIGOS!$A:$K,9,0)*$G63*1000 -> 0 | M63: =VLOOKUP($B63,CODIGOS!$A:$K,10,0)*$G63*1000 -> 0 | N63: =VLOOKUP($B63,CODIGOS!$A:$K,11,0)*$G63*1000 -> 1.42285
A64: MANTECA KG | B64: =VLOOKUP($A64,NSN!$A:$B,2,FALSE) -> V000518 | C64: =VLOOKUP($A64,CODIGOS!$B:$E,4,FALSE) -> EA | D64: =($F64*$I$3)/1000 -> 0.6856 | E64: =IF(VLOOKUP($B64,CODIGOS!$A:$F,6,0)<>1000,(($F64*$I$3)/VLOOKUP($B64,CODIGOS!$A:$F,6,0)),"") | F64: 8.57 | G64: =(F64/1000)*VLOOKUP($B64,CODIGOS!$A:$G,7,0) -> 0.00857 | H64: =VLOOKUP($A64,CODIGOS!$B:$D,2,FALSE) -> 3203 | I64: =IF($H64="S/STOCK","",$J64/$I$3) -> 27.44971 | J64: =IF(H64="S/STOCK","",IF($E64="",$D64*$H64,$E64*$H64)) -> 2195.9768 | K64: =VLOOKUP($B64,CODIGOS!$A:$K,8,0)*$G64*1000 -> 76.8729 | L64: =VLOOKUP($B64,CODIGOS!$A:$K,9,0)*$G64*1000 -> 0 | M64: =VLOOKUP($B64,CODIGOS!$A:$K,10,0)*$G64*1000 -> 8.54429 | N64: =VLOOKUP($B64,CODIGOS!$A:$K,11,0)*$G64*1000 -> 0
A65: LEVADURA INSTANTANEA | B65: =VLOOKUP($A65,NSN!$A:$B,2,FALSE) -> V000174 | C65: =VLOOKUP($A65,CODIGOS!$B:$E,4,FALSE) -> KG | D65: =($F65*$I$3)/1000 -> 0.1144 | E65: =IF(VLOOKUP($B65,CODIGOS!$A:$F,6,0)<>1000,(($F65*$I$3)/VLOOKUP($B65,CODIGOS!$A:$F,6,0)),"") | F65: 1.43 | G65: =(F65/1000)*VLOOKUP($B65,CODIGOS!$A:$G,7,0) -> 0.00143 | H65: =VLOOKUP($A65,CODIGOS!$B:$D,2,FALSE) -> 8887 | I65: =IF($H65="S/STOCK","",$J65/$I$3) -> 12.70841 | J65: =IF(H65="S/STOCK","",IF($E65="",$D65*$H65,$E65*$H65)) -> 1016.6728 | K65: =VLOOKUP($B65,CODIGOS!$A:$K,8,0)*$G65*1000 -> 6.149 | L65: =VLOOKUP($B65,CODIGOS!$A:$K,9,0)*$G65*1000 -> 0.6721 | M65: =VLOOKUP($B65,CODIGOS!$A:$K,10,0)*$G65*1000 -> 0.1001 | N65: =VLOOKUP($B65,CODIGOS!$A:$K,11,0)*$G65*1000 -> 0.5148
A66: SAL | B66: =VLOOKUP($A66,NSN!$A:$B,2,FALSE) -> C000528 | C66: =VLOOKUP($A66,CODIGOS!$B:$E,4,FALSE) -> KG | D66: =($F66*$I$3)/1000 -> 0.16 | E66: =IF(VLOOKUP($B66,CODIGOS!$A:$F,6,0)<>1000,(($F66*$I$3)/VLOOKUP($B66,CODIGOS!$A:$F,6,0)),"") | F66: 2 | G66: =(F66/1000)*VLOOKUP($B66,CODIGOS!$A:$G,7,0) -> 0.002 | H66: =VLOOKUP($A66,CODIGOS!$B:$D,2,FALSE) -> 375 | I66: =IF($H66="S/STOCK","",$J66/$I$3) -> 0.75 | J66: =IF(H66="S/STOCK","",IF($E66="",$D66*$H66,$E66*$H66)) -> 60 | K66: =VLOOKUP($B66,CODIGOS!$A:$K,8,0)*$G66*1000 -> 0 | L66: =VLOOKUP($B66,CODIGOS!$A:$K,9,0)*$G66*1000 -> 0 | M66: =VLOOKUP($B66,CODIGOS!$A:$K,10,0)*$G66*1000 -> 0 | N66: =VLOOKUP($B66,CODIGOS!$A:$K,11,0)*$G66*1000 -> 0
I67: =SUM(I62:I66) -> 155.952 | J67: =SUM(J62:J66) -> 12476.16 | K67: =SUM(K62:K66) -> 585.8661 | L67: =SUM(L62:L66) -> 12.1009 | M67: =SUM(M62:M66) -> 10.35871 | N67: =SUM(N62:N66) -> 111.08269

Sheet SABADO
A1: SABADO
A2: DESAYUNO | B2: ='MENU COMÚN'!F6 -> LECHE-TÉ- CAFÉ | D2: ='MENU COMÚN'!F7 -> PAN (100 GR) C/PASTA POLLO | G2: RACIÓN ALMUERZO | I2: 0
A3: ALMUERZO | B3: ='MENU COMÚN'!F9 -> ENS.POROTO NEGRO/LECHUGA | G3: RACIÓN COMPLETA | I3: =LUNES!$I$3 -> 80
B4: ='MENU COMÚN'!F13 -> AJIACO (VACUNO, HUEVO)
B5: ='MENU COMÚN'!F14 -> FLAN DE CHOCOLATE
A7: CENA | B7: ='MENU COMÚN'!F17 -> SOPA DESHIDRATADA | Q7: % AUMENTO
B8: ='MENU COMÚN'!F21 -> ARROZ A LA VALENCIANA (S.MARISCOS,CERDO,CHORIZO) | Q8: =LUNES!$Q$7 -> 0 | R8: VALOR REAL | S8: VALOR TEORICO | T8: CANTIDADES | U8: TOTAL REAL | V8: TOTAL TEORICO | W8: SUPERAVIT O DEFICIT | X8: % SUP O DEF
B9: ='MENU COMÚN'!F22 -> JALEA FRAMBUESA | P9: =LUNES!P9 -> 2429 | Q9: RACIÓN COMPLETA | R9: =I20+I40+I57 -> 3384.311 | S9: =+$P$9+($P$9*$Q$8) -> 2429 | T9: =+$I$3 -> 80 | U9: =$R$9*$T$9 -> 270744.88 | V9: =$S$9*$T$9 -> 194320 | W9: =$V$9-$U$9 -> -76424.879 | X9: =$W$9/$V$9 -> -0.39329394
A10: DESCRIPCION | B10: CÓDIGO | C10: U/E | D10: CANTIDAD TOTAL KG | F10: GRS P/P | G10: CANTIDAD (KG) P/P | H10: V.UNITARIO | I10: V. P/P | J10: V.TOTAL | K10: CALORÍAS | L10: PROTEÍNAS | M10: LÍPIDOS | N10: CHO | Q10: TOTAL | U10: =SUM(U9:U9) -> 270744.88 | V10: =SUM(V9:V9) -> 194320 | W10: =V10-U10 -> -76424.879 | X10: =W10/V10 -> -0.39329394
A11: DESAYUNO
A12: LECHE EN POLVO 800 GRS. | B12: =VLOOKUP($A12,NSN!$A:$B,2,FALSE) -> C903335 | C12: =VLOOKUP($A12,CODIGOS!$B:$E,4,FALSE) -> 800 grs | D12: =($F12*$I$3)/1000 -> 1.6 | E12: =IF(VLOOKUP($B12,CODIGOS!$A:$F,6,0)<>1000,(($F12*$I$3)/VLOOKUP($B12,CODIGOS!$A:$F,6,0)),"") -> 2 | F12: 20 | G12: =(F12/1000)*VLOOKUP($B12,CODIGOS!$A:$G,7,0) -> 0.02 | H12: =VLOOKUP($A12,CODIGOS!$B:$D,2,FALSE) -> 4975 | I12: =IF($H12="S/STOCK","",$J12/$I$3) -> 124.375 | J12: =IF(H12="S/STOCK","",IF($E12="",$D12*$H12,$E12*$H12)) -> 9950 | K12: =VLOOKUP($B12,CODIGOS!$A:$K,8,0)*$G12*1000 -> 70.6 | L12: =VLOOKUP($B12,CODIGOS!$A:$K,9,0)*$G12*1000 -> 8.02 | M12: =VLOOKUP($B12,CODIGOS!$A:$K,10,0)*$G12*1000 -> 0.02 | N12: =VLOOKUP($B12,CODIGOS!$A:$K,11,0)*$G12*1000 -> 9.58
A13: TE | B13: =VLOOKUP($A13,NSN!$A:$B,2,FALSE) -> C000827 | C13: =VLOOKUP($A13,CODIGOS!$B:$E,4,FALSE) -> KG | D13: =($F13*$I$3)/1000 -> 0.12 | E13: =IF(VLOOKUP($B13,CODIGOS!$A:$F,6,0)<>1000,(($F13*$I$3)/VLOOKUP($B13,CODIGOS!$A:$F,6,0)),"") | F13: 1.5 | G13: =(F13/1000)*VLOOKUP($B13,CODIGOS!$A:$G,7,0) -> 0.0015 | H13: =VLOOKUP($A13,CODIGOS!$B:$D,2,FALSE) -> 7800 | I13: =IF($H13="S/STOCK","",$J13/$I$3) -> 11.7 | J13: =IF(H13="S/STOCK","",IF($E13="",$D13*$H13,$E13*$H13)) -> 936 | K13: =VLOOKUP($B13,CODIGOS!$A:$K,8,0)*$G13*1000 -> 0.015 | L13: =VLOOKUP($B13,CODIGOS!$A:$K,9,0)*$G13*1000 -> 0 | M13: =VLOOKUP($B13,CODIGOS!$A:$K,10,0)*$G13*1000 -> 0 | N13: =VLOOKUP($B13,CODIGOS!$A:$K,11,0)*$G13*1000 -> 0.003
A14: CAFÉ INSTANTANEO | B14: =VLOOKUP($A14,NSN!$A:$B,2,FALSE) -> C000523 | C14: =VLOOKUP($A14,CODIGOS!$B:$E,4,FALSE) -> TA 400 gr | D14: =($F14*$I$3)/1000 -> 0.08 | E14: =IF(VLOOKUP($B14,CODIGOS!$A:$F,6,0)<>1000,(($F14*$I$3)/VLOOKUP($B14,CODIGOS!$A:$F,6,0)),"") -> 0.2 | F14: 1 | G14: =(F14/1000)*VLOOKUP($B14,CODIGOS!$A:$G,7,0) -> 0.001 | H14: =VLOOKUP($A14,CODIGOS!$B:$D,2,FALSE) -> 9990 | I14: =IF($H14="S/STOCK","",$J14/$I$3) -> 24.975 | J14: =IF(H14="S/STOCK","",IF($E14="",$D14*$H14,$E14*$H14)) -> 1998 | K14: =VLOOKUP($B14,CODIGOS!$A:$K,8,0)*$G14*1000 -> 2.61 | L14: =VLOOKUP($B14,CODIGOS!$A:$K,9,0)*$G14*1000 -> 0.164 | M14: =VLOOKUP($B14,CODIGOS!$A:$K,10,0)*$G14*1000 -> 0.001 | N14: =VLOOKUP($B14,CODIGOS!$A:$K,11,0)*$G14*1000 -> 0.49
A15: AZUCAR BLANCA REFINADA | B15: =VLOOKUP($A15,NSN!$A:$B,2,FALSE) -> C000816 | C15: =VLOOKUP($A15,CODIGOS!$B:$E,4,FALSE) -> KG | D15: =($F15*$I$3)/1000 -> 0.8 | E15: =IF(VLOOKUP($B15,CODIGOS!$A:$F,6,0)<>1000,(($F15*$I$3)/VLOOKUP($B15,CODIGOS!$A:$F,6,0)),"") | F15: 10 | G15: =(F15/1000)*VLOOKUP($B15,CODIGOS!$A:$G,7,0) -> 0.01 | H15: =VLOOKUP($A15,CODIGOS!$B:$D,2,FALSE) -> 1128 | I15: =IF($H15="S/STOCK","",$J15/$I$3) -> 11.28 | J15: =IF(H15="S/STOCK","",IF($E15="",$D15*$H15,$E15*$H15)) -> 902.4 | K15: =VLOOKUP($B15,CODIGOS!$A:$K,8,0)*$G15*1000 -> 39.8 | L15: =VLOOKUP($B15,CODIGOS!$A:$K,9,0)*$G15*1000 -> 0 | M15: =VLOOKUP($B15,CODIGOS!$A:$K,10,0)*$G15*1000 -> 0 | N15: =VLOOKUP($B15,CODIGOS!$A:$K,11,0)*$G15*1000 -> 9.95
A16: POLLO FILETE | B16: =VLOOKUP($A16,NSN!$A:$B,2,FALSE) -> C903555 | C16: =VLOOKUP($A16,CODIGOS!$B:$E,4,FALSE) -> KG | D16: =($F16*$I$3)/1000 -> 4.8 | E16: =IF(VLOOKUP($B16,CODIGOS!$A:$F,6,0)<>1000,(($F16*$I$3)/VLOOKUP($B16,CODIGOS!$A:$F,6,0)),"") | F16: 60 | G16: =(F16/1000)*VLOOKUP($B16,CODIGOS!$A:$G,7,0) -> 0.04338 | H16: =VLOOKUP($A16,CODIGOS!$B:$D,2,FALSE) -> 4165 | I16: =IF($H16="S/STOCK","",$J16/$I$3) -> 249.9 | J16: =IF(H16="S/STOCK","",IF($E16="",$D16*$H16,$E16*$H16)) -> 19992 | K16: =VLOOKUP($B16,CODIGOS!$A:$K,8,0)*$G16*1000 -> 86.3262 | L16: =VLOOKUP($B16,CODIGOS!$A:$K,9,0)*$G16*1000 -> 9.71712 | M16: =VLOOKUP($B16,CODIGOS!$A:$K,10,0)*$G16*1000 -> 4.9887 | N16: =VLOOKUP($B16,CODIGOS!$A:$K,11,0)*$G16*1000 -> 0.6507
A17: MAYONESA KG | B17: =VLOOKUP($A17,NSN!$A:$B,2,FALSE) -> V000361 | C17: =VLOOKUP($A17,CODIGOS!$B:$E,4,FALSE) -> KG | D17: =($F17*$I$3)/1000 -> 0.8 | E17: =IF(VLOOKUP($B17,CODIGOS!$A:$F,6,0)<>1000,(($F17*$I$3)/VLOOKUP($B17,CODIGOS!$A:$F,6,0)),"") | F17: 10 | G17: =(F17/1000)*VLOOKUP($B17,CODIGOS!$A:$G,7,0) -> 0.01 | H17: =VLOOKUP($A17,CODIGOS!$B:$D,2,FALSE) -> 2397 | I17: =IF($H17="S/STOCK","",$J17/$I$3) -> 23.97 | J17: =IF(H17="S/STOCK","",IF($E17="",$D17*$H17,$E17*$H17)) -> 1917.6 | K17: =VLOOKUP($B17,CODIGOS!$A:$K,8,0)*$G17*1000 -> 62.6 | L17: =VLOOKUP($B17,CODIGOS!$A:$K,9,0)*$G17*1000 -> 0.13 | M17: =VLOOKUP($B17,CODIGOS!$A:$K,10,0)*$G17*1000 -> 6.48 | N17: =VLOOKUP($B17,CODIGOS!$A:$K,11,0)*$G17*1000 -> 0.95
A18: SAL | B18: =VLOOKUP($A18,NSN!$A:$B,2,FALSE) -> C000528 | C18: =VLOOKUP($A18,CODIGOS!$B:$E,4,FALSE) -> KG | D18: =($F18*$I$3)/1000 -> 0.04 | E18: =IF(VLOOKUP($B18,CODIGOS!$A:$F,6,0)<>1000,(($F18*$I$3)/VLOOKUP($B18,CODIGOS!$A:$F,6,0)),"") | F18: 0.5 | G18: =(F18/1000)*VLOOKUP($B18,CODIGOS!$A:$G,7,0) -> 0.0005 | H18: =VLOOKUP($A18,CODIGOS!$B:$D,2,FALSE) -> 375 | I18: =IF($H18="S/STOCK","",$J18/$I$3) -> 0.1875 | J18: =IF(H18="S/STOCK","",IF($E18="",$D18*$H18,$E18*$H18)) -> 15 | K18: =VLOOKUP($B18,CODIGOS!$A:$K,8,0)*$G18*1000 -> 0 | L18: =VLOOKUP($B18,CODIGOS!$A:$K,9,0)*$G18*1000 -> 0 | M18: =VLOOKUP($B18,CODIGOS!$A:$K,10,0)*$G18*1000 -> 0 | N18: =VLOOKUP($B18,CODIGOS!$A:$K,11,0)*$G18*1000 -> 0
A19: PAN | B19: =VLOOKUP($A19,NSN!$A:$B,2,FALSE) -> V000415 | C19: =VLOOKUP($A19,CODIGOS!$B:$E,4,FALSE) -> KG | D19: =($F19*$I$3)/1000 -> 8 | E19: =IF(VLOOKUP($B19,CODIGOS!$A:$F,6,0)<>1000,(($F19*$I$3)/VLOOKUP($B19,CODIGOS!$A:$F,6,0)),"") | F19: 100 | G19: =(F19/1000)*VLOOKUP($B19,CODIGOS!$A:$G,7,0) -> 0.1 | H19: =VLOOKUP($A19,CODIGOS!$B:$D,2,FALSE) -> 1783 | I19: =IF($H19="S/STOCK","",$J19/$I$3) -> 178.3 | J19: =IF(H19="S/STOCK","",IF($E19="",$D19*$H19,$E19*$H19)) -> 14264 | K19: =VLOOKUP($B19,CODIGOS!$A:$K,8,0)*$G19*1000 -> 315 | L19: =VLOOKUP($B19,CODIGOS!$A:$K,9,0)*$G19*1000 -> 8.2 | M19: =VLOOKUP($B19,CODIGOS!$A:$K,10,0)*$G19*1000 -> 4 | N19: =VLOOKUP($B19,CODIGOS!$A:$K,11,0)*$G19*1000 -> 61.6
I20: =SUM(I12:I19) -> 624.6875 | J20: =SUM(J12:J19) -> 49975 | K20: =SUM(K12:K19) -> 576.9512 | L20: =SUM(L12:L19) -> 26.23112 | M20: =SUM(M12:M19) -> 15.4897 | N20: =SUM(N12:N19) -> 83.2237
A21: ALMUERZO
A22: REFRESCO FRAMBUESA | B22: =VLOOKUP($A22,NSN!$A:$B,2,FALSE) -> C902857 | C22: =VLOOKUP($A22,CODIGOS!$B:$E,4,FALSE) -> KG | D22: =($F22*$I$3)/1000 -> 0.48 | E22: =IF(VLOOKUP($B22,CODIGOS!$A:$F,6,0)<>1000,(($F22*$I$3)/VLOOKUP($B22,CODIGOS!$A:$F,6,0)),"") | F22: 6 | G22: =(F22/1000)*VLOOKUP($B22,CODIGOS!$A:$G,7,0) -> 0.006 | H22: =VLOOKUP($A22,CODIGOS!$B:$D,2,FALSE) -> 2941 | I22: =IF($H22="S/STOCK","",$J22/$I$3) -> 17.646 | J22: =IF(H22="S/STOCK","",IF($E22="",$D22*$H22,$E22*$H22)) -> 1411.68 | K22: =VLOOKUP($B22,CODIGOS!$A:$K,8,0)*$G22*1000 -> 21.54 | L22: =VLOOKUP($B22,CODIGOS!$A:$K,9,0)*$G22*1000 -> 0 | M22: =VLOOKUP($B22,CODIGOS!$A:$K,10,0)*$G22*1000 -> 0 | N22: =VLOOKUP($B22,CODIGOS!$A:$K,11,0)*$G22*1000 -> 5.376
A23: PAN | B23: =VLOOKUP($A23,NSN!$A:$B,2,FALSE) -> V000415 | C23: =VLOOKUP($A23,CODIGOS!$B:$E,4,FALSE) -> KG | D23: =($F23*$I$3)/1000 -> 4 | E23: =IF(VLOOKUP($B23,CODIGOS!$A:$F,6,0)<>1000,(($F23*$I$3)/VLOOKUP($B23,CODIGOS!$A:$F,6,0)),"") | F23: 50 | G23: =(F23/1000)*VLOOKUP($B23,CODIGOS!$A:$G,7,0) -> 0.05 | H23: =VLOOKUP($A23,CODIGOS!$B:$D,2,FALSE) -> 1783 | I23: =IF($H23="S/STOCK","",$J23/$I$3) -> 89.15 | J23: =IF(H23="S/STOCK","",IF($E23="",$D23*$H23,$E23*$H23)) -> 7132 | K23: =VLOOKUP($B23,CODIGOS!$A:$K,8,0)*$G23*1000 -> 157.5 | L23: =VLOOKUP($B23,CODIGOS!$A:$K,9,0)*$G23*1000 -> 4.1 | M23: =VLOOKUP($B23,CODIGOS!$A:$K,10,0)*$G23*1000 -> 2 | N23: =VLOOKUP($B23,CODIGOS!$A:$K,11,0)*$G23*1000 -> 30.8
A24: POROTOS NEGROS | B24: =VLOOKUP($A24,NSN!$A:$B,2,FALSE) -> C903498 | C24: =VLOOKUP($A24,CODIGOS!$B:$E,4,FALSE) -> KG | D24: =($F24*$I$3)/1000 -> 1.6 | E24: =IF(VLOOKUP($B24,CODIGOS!$A:$F,6,0)<>1000,(($F24*$I$3)/VLOOKUP($B24,CODIGOS!$A:$F,6,0)),"") | F24: 20 | G24: =(F24/1000)*VLOOKUP($B24,CODIGOS!$A:$G,7,0) -> 0.02 | H24: =VLOOKUP($A24,CODIGOS!$B:$D,2,FALSE) -> 1976 | I24: =IF($H24="S/STOCK","",$J24/$I$3) -> 39.52 | J24: =IF(H24="S/STOCK","",IF($E24="",$D24*$H24,$E24*$H24)) -> 3161.6 | K24: =VLOOKUP($B24,CODIGOS!$A:$K,8,0)*$G24*1000 -> 63.6 | L24: =VLOOKUP($B24,CODIGOS!$A:$K,9,0)*$G24*1000 -> 0.46 | M24: =VLOOKUP($B24,CODIGOS!$A:$K,10,0)*$G24*1000 -> 0.06 | N24: =VLOOKUP($B24,CODIGOS!$A:$K,11,0)*$G24*1000 -> 0.94
A25: LECHUGA ESCAROLA | B25: =VLOOKUP($A25,NSN!$A:$B,2,FALSE) -> V000170 | C25: =VLOOKUP($A25,CODIGOS!$B:$E,4,FALSE) -> NR (650 g) | D25: =($F25*$I$3)/1000 -> 3.2 | E25: =IF(VLOOKUP($B25,CODIGOS!$A:$F,6,0)<>1000,(($F25*$I$3)/VLOOKUP($B25,CODIGOS!$A:$F,6,0)),"") -> 4.9230769 | F25: 40 | G25: =(F25/1000)*VLOOKUP($B25,CODIGOS!$A:$G,7,0) -> 0.03824 | H25: =VLOOKUP($A25,CODIGOS!$B:$D,2,FALSE) -> 1190 | I25: =IF($H25="S/STOCK","",$J25/$I$3) -> 73.230769 | J25: =IF(H25="S/STOCK","",IF($E25="",$D25*$H25,$E25*$H25)) -> 5858.4615 | K25: =VLOOKUP($B25,CODIGOS!$A:$K,8,0)*$G25*1000 -> 7.2656 | L25: =VLOOKUP($B25,CODIGOS!$A:$K,9,0)*$G25*1000 -> 0.65008 | M25: =VLOOKUP($B25,CODIGOS!$A:$K,10,0)*$G25*1000 -> 0.15296 | N25: =VLOOKUP($B25,CODIGOS!$A:$K,11,0)*$G25*1000 -> 0.84128
A26: ACEITE 900 ML | B26: =VLOOKUP($A26,NSN!$A:$B,2,FALSE) -> C902636 | C26: =VLOOKUP($A26,CODIGOS!$B:$E,4,FALSE) -> 900 ML | D26: =($F26*$I$3)/1000 -> 0.4 | E26: =IF(VLOOKUP($B26,CODIGOS!$A:$F,6,0)<>1000,(($F26*$I$3)/VLOOKUP($B26,CODIGOS!$A:$F,6,0)),"") -> 0.44444444 | F26: 5 | G26: =(F26/1000)*VLOOKUP($B26,CODIGOS!$A:$G,7,0) -> 0.005 | H26: =VLOOKUP($A26,CODIGOS!$B:$D,2,FALSE) -> 1500 | I26: =IF($H26="S/STOCK","",$J26/$I$3) -> 8.3333333 | J26: =IF(H26="S/STOCK","",IF($E26="",$D26*$H26,$E26*$H26)) -> 666.66667 | K26: =VLOOKUP($B26,CODIGOS!$A:$K,8,0)*$G26*1000 -> 44.2 | L26: =VLOOKUP($B26,CODIGOS!$A:$K,9,0)*$G26*1000 -> 0 | M26: =VLOOKUP($B26,CODIGOS!$A:$K,10,0)*$G26*1000 -> 5 | N26: =VLOOKUP($B26,CODIGOS!$A:$K,11,0)*$G26*1000 -> 0
A27: SAL | B27: =VLOOKUP($A27,NSN!$A:$B,2,FALSE) -> C000528 | C27: =VLOOKUP($A27,CODIGOS!$B:$E,4,FALSE) -> KG | D27: =($F27*$I$3)/1000 -> 0.04 | E27: =IF(VLOOKUP($B27,CODIGOS!$A:$F,6,0)<>1000,(($F27*$I$3)/VLOOKUP($B27,CODIGOS!$A:$F,6,0)),"") | F27: 0.5 | G27: =(F27/1000)*VLOOKUP($B27,CODIGOS!$A:$G,7,0) -> 0.0005 | H27: =VLOOKUP($A27,CODIGOS!$B:$D,2,FALSE) -> 375 | I27: =IF($H27="S/STOCK","",$J27/$I$3) -> 0.1875 | J27: =IF(H27="S/STOCK","",IF($E27="",$D27*$H27,$E27*$H27)) -> 15 | K27: =VLOOKUP($B27,CODIGOS!$A:$K,8,0)*$G27*1000 -> 0 | L27: =VLOOKUP($B27,CODIGOS!$A:$K,9,0)*$G27*1000 -> 0 | M27: =VLOOKUP($B27,CODIGOS!$A:$K,10,0)*$G27*1000 -> 0 | N27: =VLOOKUP($B27,CODIGOS!$A:$K,11,0)*$G27*1000 -> 0
A28: SUCEDANEO JUGO LIMON 500CC | B28: =VLOOKUP($A28,NSN!$A:$B,2,FALSE) -> V001129 | C28: =VLOOKUP($A28,CODIGOS!$B:$E,4,FALSE) -> 500 cc | D28: =($F28*$I$3)/1000 -> 0.8 | E28: =IF(VLOOKUP($B28,CODIGOS!$A:$F,6,0)<>1000,(($F28*$I$3)/VLOOKUP($B28,CODIGOS!$A:$F,6,0)),"") -> 1.6 | F28: 10 | G28: =(F28/1000)*VLOOKUP($B28,CODIGOS!$A:$G,7,0) -> 0.01 | H28: =VLOOKUP($A28,CODIGOS!$B:$D,2,FALSE) -> 1550 | I28: =IF($H28="S/STOCK","",$J28/$I$3) -> 31 | J28: =IF(H28="S/STOCK","",IF($E28="",$D28*$H28,$E28*$H28)) -> 2480 | K28: =VLOOKUP($B28,CODIGOS!$A:$K,8,0)*$G28*1000 -> 2.5 | L28: =VLOOKUP($B28,CODIGOS!$A:$K,9,0)*$G28*1000 -> 0 | M28: =VLOOKUP($B28,CODIGOS!$A:$K,10,0)*$G28*1000 -> 0.01 | N28: =VLOOKUP($B28,CODIGOS!$A:$K,11,0)*$G28*1000 -> 9.37
A29: VACUNO POSTA ROSADA CONGELADA | B29: =VLOOKUP($A29,NSN!$A:$B,2,FALSE) -> C000010 | C29: =VLOOKUP($A29,CODIGOS!$B:$E,4,FALSE) -> KG | D29: =($F29*$I$3)/1000 -> 13.6 | E29: =IF(VLOOKUP($B29,CODIGOS!$A:$F,6,0)<>1000,(($F29*$I$3)/VLOOKUP($B29,CODIGOS!$A:$F,6,0)),"") | F29: 170 | G29: =(F29/1000)*VLOOKUP($B29,CODIGOS!$A:$G,7,0) -> 0.12036 | H29: =VLOOKUP($A29,CODIGOS!$B:$D,2,FALSE) -> 5890 | I29: =IF($H29="S/STOCK","",$J29/$I$3) -> 1001.3 | J29: =IF(H29="S/STOCK","",IF($E29="",$D29*$H29,$E29*$H29)) -> 80104 | K29: =VLOOKUP($B29,CODIGOS!$A:$K,8,0)*$G29*1000 -> 152.8572 | L29: =VLOOKUP($B29,CODIGOS!$A:$K,9,0)*$G29*1000 -> 25.51632 | M29: =VLOOKUP($B29,CODIGOS!$A:$K,10,0)*$G29*1000 -> 3.37008 | N29: =VLOOKUP($B29,CODIGOS!$A:$K,11,0)*$G29*1000 -> 5.17548
A30: CEBOLLAS FRESCAS | B30: =VLOOKUP($A30,NSN!$A:$B,2,FALSE) -> C000249 | C30: =VLOOKUP($A30,CODIGOS!$B:$E,4,FALSE) -> KG | D30: =($F30*$I$3)/1000 -> 2.4 | E30: =IF(VLOOKUP($B30,CODIGOS!$A:$F,6,0)<>1000,(($F30*$I$3)/VLOOKUP($B30,CODIGOS!$A:$F,6,0)),"") | F30: 30 | G30: =(F30/1000)*VLOOKUP($B30,CODIGOS!$A:$G,7,0) -> 0.02673 | H30: =VLOOKUP($A30,CODIGOS!$B:$D,2,FALSE) -> 640 | I30: =IF($H30="S/STOCK","",$J30/$I$3) -> 19.2 | J30: =IF(H30="S/STOCK","",IF($E30="",$D30*$H30,$E30*$H30)) -> 1536 | K30: =VLOOKUP($B30,CODIGOS!$A:$K,8,0)*$G30*1000 -> 11.4939 | L30: =VLOOKUP($B30,CODIGOS!$A:$K,9,0)*$G30*1000 -> 0.21384 | M30: =VLOOKUP($B30,CODIGOS!$A:$K,10,0)*$G30*1000 -> 0.05346 | N30: =VLOOKUP($B30,CODIGOS!$A:$K,11,0)*$G30*1000 -> 2.56608
A31: PAPAS | B31: =VLOOKUP($A31,NSN!$A:$B,2,FALSE) -> C000801 | C31: =VLOOKUP($A31,CODIGOS!$B:$E,4,FALSE) -> KG | D31: =($F31*$I$3)/1000 -> 16 | E31: =IF(VLOOKUP($B31,CODIGOS!$A:$F,6,0)<>1000,(($F31*$I$3)/VLOOKUP($B31,CODIGOS!$A:$F,6,0)),"") | F31: 200 | G31: =(F31/1000)*VLOOKUP($B31,CODIGOS!$A:$G,7,0) -> 0.1574 | H31: =VLOOKUP($A31,CODIGOS!$B:$D,2,FALSE) -> 674 | I31: =IF($H31="S/STOCK","",$J31/$I$3) -> 134.8 | J31: =IF(H31="S/STOCK","",IF($E31="",$D31*$H31,$E31*$H31)) -> 10784 | K31: =VLOOKUP($B31,CODIGOS!$A:$K,8,0)*$G31*1000 -> 125.92 | L31: =VLOOKUP($B31,CODIGOS!$A:$K,9,0)*$G31*1000 -> 4.8794 | M31: =VLOOKUP($B31,CODIGOS!$A:$K,10,0)*$G31*1000 -> 0.3148 | N31: =VLOOKUP($B31,CODIGOS!$A:$K,11,0)*$G31*1000 -> 25.971
A32: AJOS FRESCO | B32: =VLOOKUP($A32,NSN!$A:$B,2,FALSE) -> V000014 | C32: =VLOOKUP($A32,CODIGOS!$B:$E,4,FALSE) -> NR 35 g | D32: =($F32*$I$3)/1000 -> 0.04 | E32: =IF(VLOOKUP($B32,CODIGOS!$A:$F,6,0)<>1000,(($F32*$I$3)/VLOOKUP($B32,CODIGOS!$A:$F,6,0)),"") -> 1.1428571 | F32: 0.5 | G32: =(F32/1000)*VLOOKUP($B32,CODIGOS!$A:$G,7,0) -> 0.0005 | H32: =VLOOKUP($A32,CODIGOS!$B:$D,2,FALSE) -> 297 | I32: =IF($H32="S/STOCK","",$J32/$I$3) -> 4.2428571 | J32: =IF(H32="S/STOCK","",IF($E32="",$D32*$H32,$E32*$H32)) -> 339.42857 | K32: =VLOOKUP($B32,CODIGOS!$A:$K,8,0)*$G32*1000 -> 0.695 | L32: =VLOOKUP($B32,CODIGOS!$A:$K,9,0)*$G32*1000 -> 0.0335 | M32: =VLOOKUP($B32,CODIGOS!$A:$K,10,0)*$G32*1000 -> 0.002 | N32: =VLOOKUP($B32,CODIGOS!$A:$K,11,0)*$G32*1000 -> 0.136
A33: OREGANO | B33: =VLOOKUP($A33,NSN!$A:$B,2,FALSE) -> V000214 | C33: =VLOOKUP($A33,CODIGOS!$B:$E,4,FALSE) -> KG | D33: =($F33*$I$3)/1000 -> 0.04 | E33: =IF(VLOOKUP($B33,CODIGOS!$A:$F,6,0)<>1000,(($F33*$I$3)/VLOOKUP($B33,CODIGOS!$A:$F,6,0)),"") | F33: 0.5 | G33: =(F33/1000)*VLOOKUP($B33,CODIGOS!$A:$G,7,0) -> 0.0005 | H33: =VLOOKUP($A33,CODIGOS!$B:$D,2,FALSE) -> 7058 | I33: =IF($H33="S/STOCK","",$J33/$I$3) -> 3.529 | J33: =IF(H33="S/STOCK","",IF($E33="",$D33*$H33,$E33*$H33)) -> 282.32 | K33: =VLOOKUP($B33,CODIGOS!$A:$K,8,0)*$G33*1000 -> 0.41 | L33: =VLOOKUP($B33,CODIGOS!$A:$K,9,0)*$G33*1000 -> 0.0055 | M33: =VLOOKUP($B33,CODIGOS!$A:$K,10,0)*$G33*1000 -> 0.0195 | N33: =VLOOKUP($B33,CODIGOS!$A:$K,11,0)*$G33*1000 -> 0.0535
... A39: FLAN C/LECHE S/CHOCOLATE | B39: =VLOOKUP($A39,NSN!$A:$B,2,FALSE) -> C902849 | C39: =VLOOKUP($A39,CODIGOS!$B:$E,4,FALSE) -> KG | D39: =($F39*$I$3)/1000 -> 1.6 | E39: =IF(VLOOKUP($B39,CODIGOS!$A:$F,6,0)<>1000,(($F39*$I$3)/VLOOKUP($B39,CODIGOS!$A:$F,6,0)),"") | F39: 20 | G39: =(F39/1000)*VLOOKUP($B39,CODIGOS!$A:$G,7,0) -> 0.02 | H39: =VLOOKUP($A39,CODIGOS!$B:$D,2,FALSE) -> 2655 | I39: =IF($H39="S/STOCK","",$J39/$I$3) -> 53.1 | J39: =IF(H39="S/STOCK","",IF($E39="",$D39*$H39,$E39*$H39)) -> 4248 | K39: =VLOOKUP($B39,CODIGOS!$A:$K,8,0)*$G39*1000 -> 74.8 | L39: =VLOOKUP($B39,CODIGOS!$A:$K,9,0)*$G39*1000 -> 0.5 | M39: =VLOOKUP($B39,CODIGOS!$A:$K,10,0)*$G39*1000 -> 0.44 | N39: =VLOOKUP($B39,CODIGOS!$A:$K,11,0)*$G39*1000 -> 17.2
I40: =SUM(I22:I39) -> 1757.3703 | J40: =SUM(J22:J39) -> 140589.62 | K40: =SUM(K22:K39) -> 795.77376 | L40: =SUM(L22:L39) -> 43.244194 | M40: =SUM(M22:M39) -> 21.478424 | N40: =SUM(N22:N39) -> 99.540622
A41: CENA
A42: REFRESCO NARANJA | B42: =VLOOKUP($A42,NSN!$A:$B,2,FALSE) -> C902859 | C42: =VLOOKUP($A42,CODIGOS!$B:$E,4,FALSE) -> KG | D42: =($F42*$I$3)/1000 -> 0.48 | E42: =IF(VLOOKUP($B42,CODIGOS!$A:$F,6,0)<>1000,(($F42*$I$3)/VLOOKUP($B42,CODIGOS!$A:$F,6,0)),"") | F42: 6 | G42: =(F42/1000)*VLOOKUP($B42,CODIGOS!$A:$G,7,0) -> 0.006 | H42: =VLOOKUP($A42,CODIGOS!$B:$D,2,FALSE) -> 2986 | I42: =IF($H42="S/STOCK","",$J42/$I$3) -> 17.916 | J42: =IF(H42="S/STOCK","",IF($E42="",$D42*$H42,$E42*$H42)) -> 1433.28 | K42: =VLOOKUP($B42,CODIGOS!$A:$K,8,0)*$G42*1000 -> 21.54 | L42: =VLOOKUP($B42,CODIGOS!$A:$K,9,0)*$G42*1000 -> 0 | M42: =VLOOKUP($B42,CODIGOS!$A:$K,10,0)*$G42*1000 -> 0 | N42: =VLOOKUP($B42,CODIGOS!$A:$K,11,0)*$G42*1000 -> 5.376
A43: PAN | B43: =VLOOKUP($A43,NSN!$A:$B,2,FALSE) -> V000415 | C43: =VLOOKUP($A43,CODIGOS!$B:$E,4,FALSE) -> KG | D43: =($F43*$I$3)/1000 -> 4 | E43: =IF(VLOOKUP($B43,CODIGOS!$A:$F,6,0)<>1000,(($F43*$I$3)/VLOOKUP($B43,CODIGOS!$A:$F,6,0)),"") | F43: 50 | G43: =(F43/1000)*VLOOKUP($B43,CODIGOS!$A:$G,7,0) -> 0.05 | H43: =VLOOKUP($A43,CODIGOS!$B:$D,2,FALSE) -> 1783 | I43: =IF($H43="S/STOCK","",$J43/$I$3) -> 89.15 | J43: =IF(H43="S/STOCK","",IF($E43="",$D43*$H43,$E43*$H43)) -> 7132 | K43: =VLOOKUP($B43,CODIGOS!$A:$K,8,0)*$G43*1000 -> 157.5 | L43: =VLOOKUP($B43,CODIGOS!$A:$K,9,0)*$G43*1000 -> 4.1 | M43: =VLOOKUP($B43,CODIGOS!$A:$K,10,0)*$G43*1000 -> 2 | N43: =VLOOKUP($B43,CODIGOS!$A:$K,11,0)*$G43*1000 -> 30.8
A44: SOPA DE POLLO CON FIDEOS | B44: =VLOOKUP($A44,NSN!$A:$B,2,FALSE) -> C902866 | C44: =VLOOKUP($A44,CODIGOS!$B:$E,4,FALSE) -> KG | D44: =($F44*$I$3)/1000 -> 1 | E44: =IF(VLOOKUP($B44,CODIGOS!$A:$F,6,0)<>1000,(($F44*$I$3)/VLOOKUP($B44,CODIGOS!$A:$F,6,0)),"") | F44: 12.5 | G44: =(F44/1000)*VLOOKUP($B44,CODIGOS!$A:$G,7,0) -> 0.0125 | H44: =VLOOKUP($A44,CODIGOS!$B:$D,2,FALSE) -> 2570 | I44: =IF($H44="S/STOCK","",$J44/$I$3) -> 32.125 | J44: =IF(H44="S/STOCK","",IF($E44="",$D44*$H44,$E44*$H44)) -> 2570 | K44: =VLOOKUP($B44,CODIGOS!$A:$K,8,0)*$G44*1000 -> 37.75 | L44: =VLOOKUP($B44,CODIGOS!$A:$K,9,0)*$G44*1000 -> 0.9 | M44: =VLOOKUP($B44,CODIGOS!$A:$K,10,0)*$G44*1000 -> 0.2625 | N44: =VLOOKUP($B44,CODIGOS!$A:$K,11,0)*$G44*1000 -> 8
A45: SURTIDO MARISCOS KG | B45: =VLOOKUP($A45,NSN!$A:$B,2,FALSE) -> C903008 | C45: =VLOOKUP($A45,CODIGOS!$B:$E,4,FALSE) -> KG | D45: =($F45*$I$3)/1000 -> 5.6 | E45: =IF(VLOOKUP($B45,CODIGOS!$A:$F,6,0)<>1000,(($F45*$I$3)/VLOOKUP($B45,CODIGOS!$A:$F,6,0)),"") | F45: 70 | G45: =(F45/1000)*VLOOKUP($B45,CODIGOS!$A:$G,7,0) -> 0.05082 | H45: =VLOOKUP($A45,CODIGOS!$B:$D,2,FALSE) -> 3055 | I45: =IF($H45="S/STOCK","",$J45/$I$3) -> 213.85 | J45: =IF(H45="S/STOCK","",IF($E45="",$D45*$H45,$E45*$H45)) -> 17108 | K45: =VLOOKUP($B45,CODIGOS!$A:$K,8,0)*$G45*1000 -> 52.8528 | L45: =VLOOKUP($B45,CODIGOS!$A:$K,9,0)*$G45*1000 -> 9.6558 | M45: =VLOOKUP($B45,CODIGOS!$A:$K,10,0)*$G45*1000 -> 0.96558 | N45: =VLOOKUP($B45,CODIGOS!$A:$K,11,0)*$G45*1000 -> 1.42296
A46: CHORIZO | B46: =VLOOKUP($A46,NSN!$A:$B,2,FALSE) -> V000079 | C46: =VLOOKUP($A46,CODIGOS!$B:$E,4,FALSE) -> KG | D46: =($F46*$I$3)/1000 -> 2 | E46: =IF(VLOOKUP($B46,CODIGOS!$A:$F,6,0)<>1000,(($F46*$I$3)/VLOOKUP($B46,CODIGOS!$A:$F,6,0)),"") | F46: 25 | G46: =(F46/1000)*VLOOKUP($B46,CODIGOS!$A:$G,7,0) -> 0.01075 | H46: =VLOOKUP($A46,CODIGOS!$B:$D,2,FALSE) -> 4372 | I46: =IF($H46="S/STOCK","",$J46/$I$3) -> 109.3 | J46: =IF(H46="S/STOCK","",IF($E46="",$D46*$H46,$E46*$H46)) -> 8744 | K46: =VLOOKUP($B46,CODIGOS!$A:$K,8,0)*$G46*1000 -> 46.3325 | L46: =VLOOKUP($B46,CODIGOS!$A:$K,9,0)*$G46*1000 -> 1.4405 | M46: =VLOOKUP($B46,CODIGOS!$A:$K,10,0)*$G46*1000 -> 4.171 | N46: =VLOOKUP($B46,CODIGOS!$A:$K,11,0)*$G46*1000 -> 0.76325
A47: CERDO FILETE | B47: =VLOOKUP($A47,NSN!$A:$B,2,FALSE) -> C903421 | C47: =VLOOKUP($A47,CODIGOS!$B:$E,4,FALSE) -> KG | D47: =($F47*$I$3)/1000 -> 5.6 | E47: =IF(VLOOKUP($B47,CODIGOS!$A:$F,6,0)<>1000,(($F47*$I$3)/VLOOKUP($B47,CODIGOS!$A:$F,6,0)),"") | F47: 70 | G47: =(F47/1000)*VLOOKUP($B47,CODIGOS!$A:$G,7,0) -> 0.05579 | H47: =VLOOKUP($A47,CODIGOS!$B:$D,2,FALSE) -> 3990 | I47: =IF($H47="S/STOCK","",$J47/$I$3) -> 279.3 | J47: =IF(H47="S/STOCK","",IF($E47="",$D47*$H47,$E47*$H47)) -> 22344 | K47: =VLOOKUP($B47,CODIGOS!$A:$K,8,0)*$G47*1000 -> 73.6428 | L47: =VLOOKUP($B47,CODIGOS!$A:$K,9,0)*$G47*1000 -> 11.82748 | M47: =VLOOKUP($B47,CODIGOS!$A:$K,10,0)*$G47*1000 -> 2.45476 | N47: =VLOOKUP($B47,CODIGOS!$A:$K,11,0)*$G47*1000 -> 1.00422
A48: CEBOLLAS FRESCAS | B48: =VLOOKUP($A48,NSN!$A:$B,2,FALSE) -> C000249 | C48: =VLOOKUP($A48,CODIGOS!$B:$E,4,FALSE) -> KG | D48: =($F48*$I$3)/1000 -> 1.6 | E48: =IF(VLOOKUP($B48,CODIGOS!$A:$F,6,0)<>1000,(($F48*$I$3)/VLOOKUP($B48,CODIGOS!$A:$F,6,0)),"") | F48: 20 | G48: =(F48/1000)*VLOOKUP($B48,CODIGOS!$A:$G,7,0) -> 0.01782 | H48: =VLOOKUP($A48,CODIGOS!$B:$D,2,FALSE) -> 640 | I48: =IF($H48="S/STOCK","",$J48/$I$3) -> 12.8 | J48: =IF(H48="S/STOCK","",IF($E48="",$D48*$H48,$E48*$H48)) -> 1024 | K48: =VLOOKUP($B48,CODIGOS!$A:$K,8,0)*$G48*1000 -> 7.6626 | L48: =VLOOKUP($B48,CODIGOS!$A:$K,9,0)*$G48*1000 -> 0.14256 | M48: =VLOOKUP($B48,CODIGOS!$A:$K,10,0)*$G48*1000 -> 0.03564 | N48: =VLOOKUP($B48,CODIGOS!$A:$K,11,0)*$G48*1000 -> 1.71072
A49: TOMATES NATURAL | B49: =VLOOKUP($A49,NSN!$A:$B,2,FALSE) -> V000317 | C49: =VLOOKUP($A49,CODIGOS!$B:$E,4,FALSE) -> KG | D49: =($F49*$I$3)/1000 -> 1.6 | E49: =IF(VLOOKUP($B49,CODIGOS!$A:$F,6,0)<>1000,(($F49*$I$3)/VLOOKUP($B49,CODIGOS!$A:$F,6,0)),"") | F49: 20 | G49: =(F49/1000)*VLOOKUP($B49,CODIGOS!$A:$G,7,0) -> 0.0189 | H49: =VLOOKUP($A49,CODIGOS!$B:$D,2,FALSE) -> 1669 | I49: =IF($H49="S/STOCK","",$J49/$I$3) -> 33.38 | J49: =IF(H49="S/STOCK","",IF($E49="",$D49*$H49,$E49*$H49)) -> 2670.4 | K49: =VLOOKUP($B49,CODIGOS!$A:$K,8,0)*$G49*1000 -> 3.78 | L49: =VLOOKUP($B49,CODIGOS!$A:$K,9,0)*$G49*1000 -> 0.1512 | M49: =VLOOKUP($B49,CODIGOS!$A:$K,10,0)*$G49*1000 -> 0.0756 | N49: =VLOOKUP($B49,CODIGOS!$A:$K,11,0)*$G49*1000 -> 0.6048
A50: AJOS FRESCO | B50: =VLOOKUP($A50,NSN!$A:$B,2,FALSE) -> V000014 | C50: =VLOOKUP($A50,CODIGOS!$B:$E,4,FALSE) -> NR 35 g | D50: =($F50*$I$3)/1000 -> 0.04 | E50: =IF(VLOOKUP($B50,CODIGOS!$A:$F,6,0)<>1000,(($F50*$I$3)/VLOOKUP($B50,CODIGOS!$A:$F,6,0)),"") -> 1.1428571 | F50: 0.5 | G50: =(F50/1000)*VLOOKUP($B50,CODIGOS!$A:$G,7,0) -> 0.0005 | H50: =VLOOKUP($A50,CODIGOS!$B:$D,2,FALSE) -> 297 | I50: =IF($H50="S/STOCK","",$J50/$I$3) -> 4.2428571 | J50: =IF(H50="S/STOCK","",IF($E50="",$D50*$H50,$E50*$H50)) -> 339.42857 | K50: =VLOOKUP($B50,CODIGOS!$A:$K,8,0)*$G50*1000 -> 0.695 | L50: =VLOOKUP($B50,CODIGOS!$A:$K,9,0)*$G50*1000 -> 0.0335 | M50: =VLOOKUP($B50,CODIGOS!$A:$K,10,0)*$G50*1000 -> 0.002 | N50: =VLOOKUP($B50,CODIGOS!$A:$K,11,0)*$G50*1000 -> 0.136
A51: ARVEJAS CONGELADAS KG | B51: =VLOOKUP($A51,NSN!$A:$B,2,FALSE) -> V000395 | C51: =VLOOKUP($A51,CODIGOS!$B:$E,4,FALSE) -> KG | D51: =($F51*$I$3)/1000 -> 1.6 | E51: =IF(VLOOKUP($B51,CODIGOS!$A:$F,6,0)<>1000,(($F51*$I$3)/VLOOKUP($B51,CODIGOS!$A:$F,6,0)),"") | F51: 20 | G51: =(F51/1000)*VLOOKUP($B51,CODIGOS!$A:$G,7,0) -> 0.02 | H51: =VLOOKUP($A51,CODIGOS!$B:$D,2,FALSE) -> 2390 | I51: =IF($H51="S/STOCK","",$J51/$I$3) -> 47.8 | J51: =IF(H51="S/STOCK","",IF($E51="",$D51*$H51,$E51*$H51)) -> 3824 | K51: =VLOOKUP($B51,CODIGOS!$A:$K,8,0)*$G51*1000 -> 15.6 | L51: =VLOOKUP($B51,CODIGOS!$A:$K,9,0)*$G51*1000 -> 1.04 | M51: =VLOOKUP($B51,CODIGOS!$A:$K,10,0)*$G51*1000 -> 0.06 | N51: =VLOOKUP($B51,CODIGOS!$A:$K,11,0)*$G51*1000 -> 2.86
A52: CURRY EN POLVO SB | B52: =VLOOKUP($A52,NSN!$A:$B,2,FALSE) -> V000478 | C52: =VLOOKUP($A52,CODIGOS!$B:$E,4,FALSE) -> KG | D52: =($F52*$I$3)/1000 -> 0.04 | E52: =IF(VLOOKUP($B52,CODIGOS!$A:$F,6,0)<>1000,(($F52*$I$3)/VLOOKUP($B52,CODIGOS!$A:$F,6,0)),"") | F52: 0.5 | G52: =(F52/1000)*VLOOKUP($B52,CODIGOS!$A:$G,7,0) -> 0.0005 | H52: =VLOOKUP($A52,CODIGOS!$B:$D,2,FALSE) -> 465 | I52: =IF($H52="S/STOCK","",$J52/$I$3) -> 0.2325 | J52: =IF(H52="S/STOCK","",IF($E52="",$D52*$H52,$E52*$H52)) -> 18.6 | K52: =VLOOKUP($B52,CODIGOS!$A:$K,8,0)*$G52*1000 -> 1.625 | L52: =VLOOKUP($B52,CODIGOS!$A:$K,9,0)*$G52*1000 -> 0.0633 | M52: =VLOOKUP($B52,CODIGOS!$A:$K,10,0)*$G52*1000 -> 6.905 | N52: =VLOOKUP($B52,CODIGOS!$A:$K,11,0)*$G52*1000 -> 0.29075
A53: ARROZ | B53: =VLOOKUP($A53,NSN!$A:$B,2,FALSE) -> C002832 | C53: =VLOOKUP($A53,CODIGOS!$B:$E,4,FALSE) -> KG | D53: =($F53*$I$3)/1000 -> 5.6 | E53: =IF(VLOOKUP($B53,CODIGOS!$A:$F,6,0)<>1000,(($F53*$I$3)/VLOOKUP($B53,CODIGOS!$A:$F,6,0)),"") | F53: 70 | G53: =(F53/1000)*VLOOKUP($B53,CODIGOS!$A:$G,7,0) -> 0.07 | H53: =VLOOKUP($A53,CODIGOS!$B:$D,2,FALSE) -> 1384 | I53: =IF($H53="S/STOCK","",$J53/$I$3) -> 96.88 | J53: =IF(H53="S/STOCK","",IF($E53="",$D53*$H53,$E53*$H53)) -> 7750.4 | K53: =VLOOKUP($B53,CODIGOS!$A:$K,8,0)*$G53*1000 -> 246.4 | L53: =VLOOKUP($B53,CODIGOS!$A:$K,9,0)*$G53*1000 -> 4.48 | M53: =VLOOKUP($B53,CODIGOS!$A:$K,10,0)*$G53*1000 -> 0.56 | N53: =VLOOKUP($B53,CODIGOS!$A:$K,11,0)*$G53*1000 -> 55.79
... A56: POSTRE GELATINA EN POLVO FRAMBUESA | B56: =VLOOKUP($A56,NSN!$A:$B,2,FALSE) -> C902854 | C56: =VLOOKUP($A56,CODIGOS!$B:$E,4,FALSE) -> KG | D56: =($F56*$I$3)/1000 -> 1.12 | E56: =IF(VLOOKUP($B56,CODIGOS!$A:$F,6,0)<>1000,(($F56*$I$3)/VLOOKUP($B56,CODIGOS!$A:$F,6,0)),"") | F56: 14 | G56: =(F56/1000)*VLOOKUP($B56,CODIGOS!$A:$G,7,0) -> 0.014 | H56: =VLOOKUP($A56,CODIGOS!$B:$D,2,FALSE) -> 4054 | I56: =IF($H56="S/STOCK","",$J56/$I$3) -> 56.756 | J56: =IF(H56="S/STOCK","",IF($E56="",$D56*$H56,$E56*$H56)) -> 4540.48 | K56: =VLOOKUP($B56,CODIGOS!$A:$K,8,0)*$G56*1000 -> 50.96 | L56: =VLOOKUP($B56,CODIGOS!$A:$K,9,0)*$G56*1000 -> 2.884 | M56: =VLOOKUP($B56,CODIGOS!$A:$K,10,0)*$G56*1000 -> 0.168 | N56: =VLOOKUP($B56,CODIGOS!$A:$K,11,0)*$G56*1000 -> 9.716
I57: =SUM(I42:I56) -> 1002.2532 | J57: =SUM(J42:J56) -> 80180.255 | K57: =SUM(K42:K56) -> 760.5407 | L57: =SUM(L42:L56) -> 36.71834 | M57: =SUM(M42:M56) -> 22.66008 | N57: =SUM(N42:N56) -> 118.4747
J58: MACRONUTRIENTES | K58: =K20+K40+K57 -> 2133.2657 | L58: =L20+L40+L57 -> 106.19365 | M58: =M20+M40+M57 -> 59.628204 | N58: =N20+N40+N57 -> 301.23902
A60: DESCRIPCION | B60: CÓDIGO | C60: U/E | D60: CANTIDAD TOTAL KG | F60: GRS P/P | G60: CANTIDAD (KG) P/P | H60: V.UNITARIO | I60: V. P/P | J60: V.TOTAL | K60: CALORÍAS | L60: PROTEÍNAS | M60: LÍPIDOS | N60: CHO
A61: CONFECCIÓN PAN
A62: HARINA FLOR | B62: =VLOOKUP($A62,NSN!$A:$B,2,FALSE) -> C000367 | C62: =VLOOKUP($A62,CODIGOS!$B:$E,4,FALSE) -> KG | D62: =($F62*$I$3)/1000 -> 11.4288 | E62: =IF(VLOOKUP($B62,CODIGOS!$A:$F,6,0)<>1000,(($F62*$I$3)/VLOOKUP($B62,CODIGOS!$A:$F,6,0)),"") | F62: 142.86 | G62: =(F62/1000)*VLOOKUP($B62,CODIGOS!$A:$G,7,0) -> 0.14286 | H62: =VLOOKUP($A62,CODIGOS!$B:$D,2,FALSE) -> 794 | I62: =IF($H62="S/STOCK","",$J62/$I$3) -> 113.43084 | J62: =IF(H62="S/STOCK","",IF($E62="",$D62*$H62,$E62*$H62)) -> 9074.4672 | K62: =VLOOKUP($B62,CODIGOS!$A:$K,8,0)*$G62*1000 -> 497.1528 | L62: =VLOOKUP($B62,CODIGOS!$A:$K,9,0)*$G62*1000 -> 11.4288 | M62: =VLOOKUP($B62,CODIGOS!$A:$K,10,0)*$G62*1000 -> 1.71432 | N62: =VLOOKUP($B62,CODIGOS!$A:$K,11,0)*$G62*1000 -> 109.14504
