Workbook
Name Excel_BuiltIn__FilterDatabase_11: CODIGOS!$B$1:$E$198
Name Excel_BuiltIn__FilterDatabase_2: #REF!
Name Excel_BuiltIn__FilterDatabase_3: LUNES!$A$40:$J$48
Name INGREDIENTES: CODIGOS!$B:$B

Sheet MENU COMÚN
A1: MENÚ SANO Y EQUILIBRADO PRIZONA JULIO 2025
A4: LUNES | B4: MARTES | C4: MIÉRCOLES | D4: JUEVES | E4: VIERNES | F4: SÁBADO | G4: DOMINGO
A5: DESAYUNO
A6: LECHE-TÉ- CAFÉ | B6: LECHE-TÉ- CAFÉ | C6: LECHE-TÉ- CAFÉ | D6: LECHE-TÉ- CAFÉ | E6: LECHE-TÉ- CAFÉ | F6: LECHE-TÉ- CAFÉ | G6: LECHE-TÉ- CAFÉ
A7: PAN (100 GR) C/MERMELADA DE FRUTILLA | B7: PAN (100 GR) C/PASTA POLLO | C7: PAN (100 GR) C/ HUEVO TOMATE | D7: GRANOLA CON FRUTA | E7: PAN (100 GR) C/ MERMELADA DURAZNO | F7: PAN (100 GR) C/PASTA POLLO | G7: PAN (100 GR) C/ QUESILLO
A8: ALMUERZO GENERAL
A9: SOPA DE AVE NATURAL | B9: ENS.TOMATE/PEPINO | C9: ENS.LECHUGA/CHOCLO | D9: EMPANADA DE PINO /ENSALADA CHILENA/PEBRE | E9: SOPA DE AVE NATURAL | F9: ENS.POROTO NEGRO/LECHUGA | G9: SOPA DESHIDRATADA
A10: ALTERNATIVA: CREMA DESHIDRATADA | B10: ALTERNATIVA: OTRAS ENSALADAS | C10: ALTERNATIVA: OTRAS ENSALADAS | D10: ALTERNATIVA: EMPANADA DE QUESO | E10: ALTERNATIVA: CREMA DESHIDRATADA | F10: ALTERNATIVA: OTRAS ENSALADAS | G10: ALTERNATIVA: CREMA DESHIDRATADA
A11: PAN (50 GRAMOS) | B11: PAN (50 GRAMOS) | C11: PAN (50 GRAMOS) | D11: PAN (50 GRAMOS) | E11: PAN (50 GRAMOS) | F11: PAN (50 GRAMOS) | G11: PAN (50 GRAMOS)
A12: REFRESCO O AGUA | B12: REFRESCO O AGUA | C12: REFRESCO O AGUA | D12: REFRESCO O AGUA | E12: REFRESCO O AGUA | F12: REFRESCO O AGUA | G12: REFRESCO O AGUA
A13: ARROZ FRICASSÉ (MOLIDA,VIENESAS) | B13: 1° SEMANA:POROTOS CON RIENDAS 2° SEMANA: LENTEJAS PARMESANAS 3° SEMANA: MENESTRÓN O POROTOS NEGROS GUISADOS 4° SEMANA: GARBANZOS GUISADOS | C13: 1° SEMANA: MERLUZA APANADA CON PURÉ DE PAPAS 2° SEMANA: CROQUETA DE ATÚN CON QUINOA PRIMAVERA 3° SEMANA: PULMAY (S.MARISCOS/CERDO, CHORIZO) 3° SEMANA: MERLUZA ESCABECHADA CON PAPAS ASADAS RÚSTICAS | D13: 1° SEMANA: CAZUELA DE VACUNO 2° SEMANA: CAZUELA DE AVE 3° SEMANA: CAZUELA DE VACUNO 4° SEMANA: CAZUELA DE AVE | E13: 1° Y 3° SEMANA: STROGONOFF DE CERDO CON MOSTACHOLIS PEREJIL 2° Y 4° SEMANA CARNE MECHADA CON FIDEOS CILANTRO | F13: AJIACO (VACUNO, HUEVO) | G13: POLLO A LA MOSTAZA CON FIDEOS INTEGRALES
A14: FRUTA ENTERA NATURAL | B14: FLAN DE VAINILLA | C14: JALEA FRAMBUESA | D14: MOTE CON HUESILLOS | E14: JALEA FRAMBUESA | F14: FLAN DE CHOCOLATE | G14: JALEA NARANJA
A15: ALTERNATIVA: POSTRE DISPONIBLE | B15: ALTERNATIVA: POSTRE DISPONIBLE | C15: ALTERNATIVA: POSTRE DISPONIBLE | D15: ALTERNATIVA: POSTRE DISPONIBLE | E15: ALTERNATIVA: POSTRE DISPONIBLE | F15: ALTERNATIVA: POSTRE DISPONIBLE | G15: ALTERNATIVA: POSTRE DISPONIBLE
A16: CENA GENERAL
A17: CREMA DESHIDRATADA | B17: ENS.LECHUGA/BETARRAGA | C17: CREMA DE LEGUMBRES NATURAL | D17: CREMA DESHIDRATADA | E17: CREMA DESHIDRATADA | F17: SOPA DESHIDRATADA | G17: CREMA DESHIDRATADA
A18: ALTERNATIVA: SOPA DESHIDRATADA | B18: ALTERNATIVA: OTRAS ENSALADAS | C18: ALTERNATIVA: CREMA DESHIDRATADA | D18: ALTERNATIVA: SOPA DESHIDRATADA | E18: ALTERNATIVA: SOPA DESHIDRATADA | F18: ALTERNATIVA: CREMA DESHIDRATADA | G18: ALTERNATIVA: SOPA DESHIDRATADA
A19: PAN (50 GRAMOS) | B19: PAN (50 GRAMOS) | C19: PAN (50 GRAMOS) | D19: PAN (50 GRAMOS) | E19: PAN (50 GRAMOS) | F19: PAN (50 GRAMOS) | G19: PAN (50 GRAMOS)
A20: REFRESCO O AGUA | B20: REFRESCO O AGUA | C20: REFRESCO O AGUA | D20: REFRESCO O AGUA | E20: REFRESCO O AGUA | F20: REFRESCO O AGUA | G20: REFRESCO O AGUA
A21: RAGOUT DE CERDO CON ESPIRALES | B21: CARBONADA DE VACUNO | C21: CHAPSUI DE CERDO CON ARROZ PIAMONTESA | D21: TRUTRO ASADO CON BUDÍN DE VERDURAS | E21: ZAPALLITOS RELLENOS CON PAPAS FRITAS (CARNE MOLIDA) ALTERNATIVA: PASTEL DE ZAPALLITOS CON PAPAS RÚSTICAS | F21: ARROZ A LA VALENCIANA (S.MARISCOS,CERDO,CHORIZO) | G21: ASADO ALEMÁN CON PURÉ
A22: JALEA IMPERIAL | B22: JALEA NARANJA | C22: FLAN DE CHOCOLATE | D22: JALEA FRAMBUESA | E22: FLAN DE VAINILLA | F22: JALEA FRAMBUESA | G22: FLAN DE VAINILLA
A23: ALTERNATIVA: POSTRE DISPONIBLE | B23: ALTERNATIVA: POSTRE DISPONIBLE | C23: ALTERNATIVA: POSTRE DISPONIBLE | D23: ALTERNATIVA: POSTRE DISPONIBLE | E23: ALTERNATIVA: POSTRE DISPONIBLE | F23: ALTERNATIVA: POSTRE DISPONIBLE | G23: ALTERNATIVA: POSTRE DISPONIBLE
A33: Jessica Alvarado Villanueva | C33: Daniela Palma Cid | D33: Pedro González Fontaine | F33: Jorge Asmad Sepulveda
A34: Nutricionista | C34: EC. GDO. 9 Ingeniero de Alimentos | D34: Teniente Primero AB | F34: Capitán de Corbeta AB
A35: Newrest Catering y Servicios Chile SPA. | C35: Administración de Contratos y Control de Calidad | D35: Jefe CODE Víveres (S.) | F35: Jefe Depto. Operaciones
A36: DIRECABAS | C36: DIRECABAS | D36: Armada de Chile | F36: DIRECABAS

Sheet NOTAS
A1: NOTAS EXPLICATIVAS DEL MENÚ SALUDABLE
A3: NOTA 1: | B3: POC: JEFE CODE VÍVERES,: T1º AB MATIAS LABARCA , LLICO 4133; EMAIL: MLABARCA@ARMADA.CL
B4: EECC DANIELA PALMA C., LLICO: 4139, EMAIL: DPALMA@ARMADA.CL
A5: NOTA 2: | B5: POSTRES: LOS SABORES DE LOS POSTRES PUEDEN VARIAR DE ACUERDO A EXISTENCIA, LOS POSTRES DE LECHE PUEDEN SER CAMBIADOS POR OTRO POSTRE DE LECHE SEGÚN EXISTENCIA, EL MOTE CON HUESILLO PUEDE SER MODIFICADO POR COMPOTA DE FRUTAS.
A6: NOTA 3: | B6: FRUTAS Y VERDURAS, PUEDEN SER CAMBIADAS EN BASE A SU ESTACIONALIDAD Y AUMENTADAS EN GRAMAJE O INCLUIDAS EN PREPARACIONES DE ACUERDO A DISPONIBILIDADES.
A7: NOTA 4: | B7: LOS EJERCICIOS ALMUERZO Y CENA, CONSIDERAN UN PAN DE 50 GRAMOS CADA UNO Y DESAYUNO CONSIDERA PAN DE 100 GRAMOS. AQUELLAS REPARTICIONES QUE NO CONFECCIONEN PAN A BORDO, DEBERÁN AJUSTAR EL GRAMAJE DE LOS INGREDIENTES DEL MENÚ DE ACUERDO A LAS DISPONIBILIDADES. PARA EL MENÚ HIPOCALÓRICO NO SE CONSIDERA PORCIÓN DE PAN PARA ALMUERZO Y CENA.
A8: NOTA 5: | B8: LA FRUTA MANZANA DEBE SER VARIEDAD FUJI O VERDE GRANNY SMITH Y NO DEBEN SER PELADAS.
A9: NOTA 6: | B9: LOS CORTES DE CARNE DE VACUNO Y TIPOS DE FIDEOS, PUEDEN SER VARIADOS DE ACUERDO A EXISTENCIAS Y A DISPONIBILIDADES.
A10: NOTA 7: | B10: JAMÓN DEBE SER DE PREFERENCIA COCIDO DE PAVO O POLLO. MARGARINA 0% TRANS.
A11: NOTA 8: | B11: LA FRUTA CORRESPONDIENTE AL POSTRE, DEBE CUBRIRSE CON PAPEL ALUSA, OBJETO ESTA NO SE TORNE COLOR CAFÉ.
A12: NOTA 9: | B12: EN ATENCIÓN A LAS DISTINTAS CIRCUNTANCIAS EN QUE EL PERSONAL DESARROLLA LAS ACTIVIDADES DIARIAS QUE LA INSTITUCIÓN LE IMPONE Y EN CONFORMIDAD A LOS BENEFICIOS QUE OTORGA EL MABA N° 8/48-3 TRAT. 3, CAP. 02, ART, 30211 "DETERMINACIÓN DE LAS DISPONIBILIDADES DE ALIMENTACIÓN". LAS UU.RR., PODRÁN AUMENTAR LOS GRAMAJES Y/O ADICIONAR INGREDIENTES DE BUENA CALIDAD A LAS PREPARACIONES DEL MENÚ SALUDABLE, SIN ALTERAR SU BASE ORIGINAL.
A13: NOTA 10: | B13: A MEDIDA QUE SE PUBLIQUEN NUEVOS BOLETINES DE PRECIOS, ESTOS DEBEN SER ACTUALIZADOS EN HOJA DE CALCULO "CÓDIGOS", AL IGUAL QUE VALOR MEDIA RACIÓN Y RACIÓN COMPLETA, LOS CUALES DEBEN SER INGRESADOS EN CELDA "N22" Y "N23" RESPECTIVAMENTE. EN BASE AL PORCENTAJE DE DISPONIBILIDAD QUE SE GENERE, SE DEBEN IR AJUSTANDO LOS GRAMAJES.
A14: NOTA 11: | B14: ONCES Y COLACIONES PUEDEN SER INCLUIDAS DENTRO DEL MENÚ SIEMPRE Y CUANDO LAS DISPONIBILIDADES LO PERMITAN.
A15: NOTA 12: | B15: VÍVERES DETALLADOS EN MENÚ SON SUJETOS A DISPONIBILIDADES Y A STOCK EN CENTROS DE ABASTECIMIENTO.
A16: NOTA 13: | B16: SI EL PROTEICO, EJEMPLO "QUESILLO", NO ESTA DISPONIBLE EN COMERCIO LOCAL, DEBE SER REEMPLAZADO POR OTRO PROTEICO DE SIMILAR VALOR MONETARIO. PROTEICOS QUE SE CONSIDERAN SON: PALTA - PALMITOS - CHAMPIÑONES - QUESILLO - JAMON DE PAVO - FONDOS DE ALCACHOFA - CHORITOS EN CONSERVA - ESPÁRRAGOS - NIDO DE POLLO.
... A20: NOTA 17: | B20: TODO EL PERSONAL INVOLURADO EN LA CONFECCIÓN DEL MENÚ, TANTO DE REGIMEN NORMAL COMO HIPOCALÓRICO, DEBE TOMAR LAS MEDIDAS NECESARIAS DE HIGIENE Y MANIPULACIÓN DE ALIMENTOS, OBJETO EVITAR ALGUN TIPO DE INTOXICACIÓN O ENFERMEDAD, POR CONSUMO DE ALIMENTOS EN MAL ESTADO, CONTAMINADO O MAL PREPARADO.

Sheet LUNES
A1: LUNES
A2: DESAYUNO | B2: ='MENU COMÚN'!A6 -> LECHE-TÉ- CAFÉ | D2: ='MENU COMÚN'!A7 -> PAN (100 GR) C/MERMELADA DE FRUTILLA | G2: RACIÓN ALMUERZO (INGRESAR CANTIDAD RACIONES DE ALMUERZO) | I2: 200
A3: ALMUERZO | B3: ='MENU COMÚN'!A9 -> SOPA DE AVE NATURAL | G3: RACIÓN COMPLETA | I3: 80
B4: ='MENU COMÚN'!A13 -> ARROZ FRICASSÉ (MOLIDA,VIENESAS)
B5: ='MENU COMÚN'!A14 -> FRUTA ENTERA NATURAL
Q6: % AUMENTO
A7: CENA | B7: ='MENU COMÚN'!A17 -> CREMA DESHIDRATADA | Q7: 0 | R7: VALOR REAL | S7: VALOR TEORICO | T7: CANTIDADES | U7: TOTAL REAL | V7: TOTAL TEORICO | W7: SUPERAVIT O DEFICIT | X7: % SUP O DEF
B8: ='MENU COMÚN'!A21 -> RAGOUT DE CERDO CON ESPIRALES | P8: 2065 | Q8: RACIÓN ALMUERZO (85%) | R8: =I40 -> 1209.7929 | S8: =+$P$8+($P$8*$Q$7) -> 2065 | T8: =+$I$2-$I$3 -> 120 | U8: =$R$8*$T$8 -> 145175.15 | V8: =$S$8*$T$8 -> 247800 | W8: =$V$8-$U$8 -> 102624.85 | X8: =$W$8/$V$8 -> 0.41414387
B9: ='MENU COMÚN'!A22 -> JALEA IMPERIAL | P9: 2429 | Q9: RACIÓN COMPLETA | R9: =I18+I40+I59 -> 2938.2831 | S9: =+$P$9+($P$9*$Q$7) -> 2429 | T9: =+$I$3 -> 80 | U9: =$R$9*$T$9 -> 235062.65 | V9: =$S$9*$T$9 -> 194320 | W9: =$V$9-$U$9 -> -40742.646 | X9: =$W$9/$V$9 -> -0.20966779
A10: DESCRIPCION | B10: CÓDIGO | C10: U/E | D10: CANTIDAD TOTAL KG | E10: SEGÚN FORMATO | F10: GRS P/P | G10: CANTIDAD (KG) P/P | H10: V.UNITARIO | I10: V. P/P | J10: V.TOTAL | K10: CALORÍAS | L10: PROTEÍNAS | M10: LÍPIDOS | N10: CHO | Q10: TOTAL | U10: =SUM(U8:U9) -> 380237.79 | V10: =SUM(V8:V9) -> 442120 | W10: =V10-U10 -> 61882.206 | X10: =W10/V10 -> 0.13996699
A11: DESAYUNO
A12: LECHE EN POLVO 800 GRS. | B12: =VLOOKUP($A12,NSN!$A:$B,2,FALSE) -> C903335 | C12: =VLOOKUP($A12,CODIGOS!$B:$E,4,FALSE) -> 800 grs | D12: =($F12*$I$3)/1000 -> 1.6 | E12: =IF(VLOOKUP($B12,CODIGOS!$A:$F,6,0)<>1000,(($F12*$I$3)/VLOOKUP($B12,CODIGOS!$A:$F,6,0)),"") -> 2 | F12: 20 | G12: =(F12/1000)*VLOOKUP($B12,CODIGOS!$A:$G,7,0) -> 0.02 | H12: 4100 | I12: =$J12/$I$3 -> 102.5 | J12: =IF($E12="",$D12*$H12,$E12*$H12) -> 8200 | K12: =VLOOKUP($B12,CODIGOS!$A:$K,8,0)*$G12*1000 -> 70.6 | L12: =VLOOKUP($B12,CODIGOS!$A:$K,9,0)*$G12*1000 -> 8.02 | M12: =VLOOKUP($B12,CODIGOS!$A:$K,10,0)*$G12*1000 -> 0.02 | N12: =VLOOKUP($B12,CODIGOS!$A:$K,11,0)*$G12*1000 -> 9.58
A13: TE | B13: =VLOOKUP($A13,NSN!$A:$B,2,FALSE) -> C000827 | C13: =VLOOKUP($A13,CODIGOS!$B:$E,4,FALSE) -> KG | D13: =($F13*$I$3)/1000 -> 0.12 | E13: =IF(VLOOKUP($B13,CODIGOS!$A:$F,6,0)<>1000,(($F13*$I$3)/VLOOKUP($B13,CODIGOS!$A:$F,6,0)),"") | F13: 1.5 | G13: =(F13/1000)*VLOOKUP($B13,CODIGOS!$A:$G,7,0) -> 0.0015 | H13: =VLOOKUP($A13,CODIGOS!$B:$D,2,FALSE) -> 7800 | I13: =$J13/$I$3 -> 11.7 | J13: =IF(H13="S/STOCK","",IF($E13="",$D13*$H13,$E13*$H13)) -> 936 | K13: =VLOOKUP($B13,CODIGOS!$A:$K,8,0)*$G13*1000 -> 0.015 | L13: =VLOOKUP($B13,CODIGOS!$A:$K,9,0)*$G13*1000 -> 0 | M13: =VLOOKUP($B13,CODIGOS!$A:$K,10,0)*$G13*1000 -> 0 | N13: =VLOOKUP($B13,CODIGOS!$A:$K,11,0)*$G13*1000 -> 0.003
A14: CAFÉ INSTANTANEO | B14: =VLOOKUP($A14,NSN!$A:$B,2,FALSE) -> C000523 | C14: =VLOOKUP($A14,CODIGOS!$B:$E,4,FALSE) -> TA 400 gr | D14: =($F14*$I$3)/1000 -> 0.08 | E14: =IF(VLOOKUP($B14,CODIGOS!$A:$F,6,0)<>1000,(($F14*$I$3)/VLOOKUP($B14,CODIGOS!$A:$F,6,0)),"") -> 0.2 | F14: 1 | G14: =(F14/1000)*VLOOKUP($B14,CODIGOS!$A:$G,7,0) -> 0.001 | H14: =VLOOKUP($A14,CODIGOS!$B:$D,2,FALSE) -> 9990 | I14: =$J14/$I$3 -> 24.975 | J14: =IF(H14="S/STOCK","",IF($E14="",$D14*$H14,$E14*$H14)) -> 1998 | K14: =VLOOKUP($B14,CODIGOS!$A:$K,8,0)*$G14*1000 -> 2.61 | L14: =VLOOKUP($B14,CODIGOS!$A:$K,9,0)*$G14*1000 -> 0.164 | M14: =VLOOKUP($B14,CODIGOS!$A:$K,10,0)*$G14*1000 -> 0.001 | N14: =VLOOKUP($B14,CODIGOS!$A:$K,11,0)*$G14*1000 -> 0.49
A15: AZUCAR BLANCA REFINADA | B15: =VLOOKUP($A15,NSN!$A:$B,2,FALSE) -> C000816 | C15: =VLOOKUP($A15,CODIGOS!$B:$E,4,FALSE) -> KG | D15: =($F15*$I$3)/1000 -> 0.8 | E15: =IF(VLOOKUP($B15,CODIGOS!$A:$F,6,0)<>1000,(($F15*$I$3)/VLOOKUP($B15,CODIGOS!$A:$F,6,0)),"") | F15: 10 | G15: =(F15/1000)*VLOOKUP($B15,CODIGOS!$A:$G,7,0) -> 0.01 | H15: =VLOOKUP($A15,CODIGOS!$B:$D,2,FALSE) -> 1128 | I15: =$J15/$I$3 -> 11.28 | J15: =IF(H15="S/STOCK","",IF($E15="",$D15*$H15,$E15*$H15)) -> 902.4 | K15: =VLOOKUP($B15,CODIGOS!$A:$K,8,0)*$G15*1000 -> 39.8 | L15: =VLOOKUP($B15,CODIGOS!$A:$K,9,0)*$G15*1000 -> 0 | M15: =VLOOKUP($B15,CODIGOS!$A:$K,10,0)*$G15*1000 -> 0 | N15: =VLOOKUP($B15,CODIGOS!$A:$K,11,0)*$G15*1000 -> 9.95
A16: MERMELADA REGIMEL FRUTILLA | B16: =VLOOKUP($A16,NSN!$A:$B,2,FALSE) -> C903445 | C16: =VLOOKUP($A16,CODIGOS!$B:$E,4,FALSE) -> 200 grs | D16: =($F16*$I$3)/1000 -> 2 | E16: =IF(VLOOKUP($B16,CODIGOS!$A:$F,6,0)<>1000,(($F16*$I$3)/VLOOKUP($B16,CODIGOS!$A:$F,6,0)),"") -> 10 | F16: 25 | G16: =(F16/1000)*VLOOKUP($B16,CODIGOS!$A:$G,7,0) -> 0.025 | H16: =VLOOKUP($A16,CODIGOS!$B:$D,2,FALSE) -> 1057 | I16: =$J16/$I$3 -> 132.125 | J16: =IF(H16="S/STOCK","",IF($E16="",$D16*$H16,$E16*$H16)) -> 10570 | K16: =VLOOKUP($B16,CODIGOS!$A:$K,8,0)*$G16*1000 -> 10.5 | L16: =VLOOKUP($B16,CODIGOS!$A:$K,9,0)*$G16*1000 -> 0.075 | M16: =VLOOKUP($B16,CODIGOS!$A:$K,10,0)*$G16*1000 -> 0.05 | N16: =VLOOKUP($B16,CODIGOS!$A:$K,11,0)*$G16*1000 -> 1.525
A17: PAN | B17: =VLOOKUP($A17,NSN!$A:$B,2,FALSE) -> V000415 | C17: =VLOOKUP($A17,CODIGOS!$B:$E,4,FALSE) -> KG | D17: =($F17*$I$3)/1000 -> 8 | E17: =IF(VLOOKUP($B17,CODIGOS!$A:$F,6,0)<>1000,(($F17*$I$3)/VLOOKUP($B17,CODIGOS!$A:$F,6,0)),"") | F17: 100 | G17: =(F17/1000)*VLOOKUP($B17,CODIGOS!$A:$G,7,0) -> 0.1 | H17: =VLOOKUP($A17,CODIGOS!$B:$D,2,FALSE) -> 1783 | I17: =$J17/$I$3 -> 178.3 | J17: =IF(H17="S/STOCK","",IF($E17="",$D17*$H17,$E17*$H17)) -> 14264 | K17: =VLOOKUP($B17,CODIGOS!$A:$K,8,0)*$G17*1000 -> 315 | L17: =VLOOKUP($B17,CODIGOS!$A:$K,9,0)*$G17*1000 -> 8.2 | M17: =VLOOKUP($B17,CODIGOS!$A:$K,10,0)*$G17*1000 -> 4 | N17: =VLOOKUP($B17,CODIGOS!$A:$K,11,0)*$G17*1000 -> 61.6
I18: =SUM(I12:I17) -> 460.88 | J18: =SUM(J12:J17) -> 36870.4 | K18: =SUM(K12:K17) -> 438.525 | L18: =SUM(L12:L17) -> 16.459 | M18: =SUM(M12:M17) -> 4.071 | N18: =SUM(N12:N17) -> 83.148
A19: ALMUERZO
A20: REFRESCO NARANJA | B20: =VLOOKUP($A20,NSN!$A:$B,2,FALSE) -> C902859 | C20: =VLOOKUP($A20,CODIGOS!$B:$E,4,FALSE) -> KG | D20: =($F20*$I$2)/1000 -> 1.2 | E20: =IF(VLOOKUP($B20,CODIGOS!$A:$F,6,0)<>1000,(($F20*$I$2)/VLOOKUP($B20,CODIGOS!$A:$F,6,0)),"") | F20: 6 | G20: =(F20/1000)*VLOOKUP($B20,CODIGOS!$A:$G,7,0) -> 0.006 | H20: =VLOOKUP($A20,CODIGOS!$B:$D,2,FALSE) -> 2986 | I20: =IF($H20="S/STOCK","",$J20/$I$2) -> 17.916 | J20: =IF(H20="S/STOCK","",IF($E20="",$D20*$H20,$E20*$H20)) -> 3583.2 | K20: =VLOOKUP($B20,CODIGOS!$A:$K,8,0)*$G20*1000 -> 21.54 | L20: =VLOOKUP($B20,CODIGOS!$A:$K,9,0)*$G20*1000 -> 0 | M20: =VLOOKUP($B20,CODIGOS!$A:$K,10,0)*$G20*1000 -> 0 | N20: =VLOOKUP($B20,CODIGOS!$A:$K,11,0)*$G20*1000 -> 5.376
A21: PAN | B21: =VLOOKUP($A21,NSN!$A:$B,2,FALSE) -> V000415 | C21: =VLOOKUP($A21,CODIGOS!$B:$E,4,FALSE) -> KG | D21: =($F21*$I$2)/1000 -> 10 | E21: =IF(VLOOKUP($B21,CODIGOS!$A:$F,6,0)<>1000,(($F21*$I$2)/VLOOKUP($B21,CODIGOS!$A:$F,6,0)),"") | F21: 50 | G21: =(F21/1000)*VLOOKUP($B21,CODIGOS!$A:$G,7,0) -> 0.05 | H21: =VLOOKUP($A21,CODIGOS!$B:$D,2,FALSE) -> 1783 | I21: =IF($H21="S/STOCK","",$J21/$I$2) -> 89.15 | J21: =IF(H21="S/STOCK","",IF($E21="",$D21*$H21,$E21*$H21)) -> 17830 | K21: =VLOOKUP($B21,CODIGOS!$A:$K,8,0)*$G21*1000 -> 157.5 | L21: =VLOOKUP($B21,CODIGOS!$A:$K,9,0)*$G21*1000 -> 4.1 | M21: =VLOOKUP($B21,CODIGOS!$A:$K,10,0)*$G21*1000 -> 2 | N21: =VLOOKUP($B21,CODIGOS!$A:$K,11,0)*$G21*1000 -> 30.8
A22: POLLO FILETE | B22: =VLOOKUP($A22,NSN!$A:$B,2,FALSE) -> C903555 | C22: =VLOOKUP($A22,CODIGOS!$B:$E,4,FALSE) -> KG | D22: =($F22*$I$2)/1000 -> 0 | E22: =IF(VLOOKUP($B22,CODIGOS!$A:$F,6,0)<>1000,(($F22*$I$2)/VLOOKUP($B22,CODIGOS!$A:$F,6,0)),"") | F22: 0 | G22: =(F22/1000)*VLOOKUP($B22,CODIGOS!$A:$G,7,0) -> 0 | H22: =VLOOKUP($A22,CODIGOS!$B:$D,2,FALSE) -> 4165 | I22: =IF($H22="S/STOCK","",$J22/$I$2) -> 0 | J22: =IF(H22="S/STOCK","",IF($E22="",$D22*$H22,$E22*$H22)) -> 0 | K22: =VLOOKUP($B22,CODIGOS!$A:$K,8,0)*$G22*1000 -> 0 | L22: =VLOOKUP($B22,CODIGOS!$A:$K,9,0)*$G22*1000 -> 0 | M22: =VLOOKUP($B22,CODIGOS!$A:$K,10,0)*$G22*1000 -> 0 | N22: =VLOOKUP($B22,CODIGOS!$A:$K,11,0)*$G22*1000 -> 0
A23: AJOS FRESCO | B23: =VLOOKUP($A23,NSN!$A:$B,2,FALSE) -> V000014 | C23: =VLOOKUP($A23,CODIGOS!$B:$E,4,FALSE) -> NR 35 g | D23: =($F23*$I$2)/1000 -> 0.1 | E23: =IF(VLOOKUP($B23,CODIGOS!$A:$F,6,0)<>1000,(($F23*$I$2)/VLOOKUP($B23,CODIGOS!$A:$F,6,0)),"") -> 2.8571429 | F23: 0.5 | G23: =(F23/1000)*VLOOKUP($B23,CODIGOS!$A:$G,7,0) -> 0.0005 | H23: =VLOOKUP($A23,CODIGOS!$B:$D,2,FALSE) -> 297 | I23: =IF($H23="S/STOCK","",$J23/$I$2) -> 4.2428571 | J23: =IF(H23="S/STOCK","",IF($E23="",$D23*$H23,$E23*$H23)) -> 848.57143 | K23: =VLOOKUP($B23,CODIGOS!$A:$K,8,0)*$G23*1000 -> 0.695 | L23: =VLOOKUP($B23,CODIGOS!$A:$K,9,0)*$G23*1000 -> 0.0335 | M23: =VLOOKUP($B23,CODIGOS!$A:$K,10,0)*$G23*1000 -> 0.002 | N23: =VLOOKUP($B23,CODIGOS!$A:$K,11,0)*$G23*1000 -> 0.136
A24: PEREJIL | B24: =VLOOKUP($A24,NSN!$A:$B,2,FALSE) -> V000231 | C24: =VLOOKUP($A24,CODIGOS!$B:$E,4,FALSE) -> NR 200 gr | D24: =($F24*$I$2)/1000 -> 0.1 | E24: =IF(VLOOKUP($B24,CODIGOS!$A:$F,6,0)<>1000,(($F24*$I$2)/VLOOKUP($B24,CODIGOS!$A:$F,6,0)),"") -> 0.5 | F24: 0.5 | G24: =(F24/1000)*VLOOKUP($B24,CODIGOS!$A:$G,7,0) -> 0.0004385 | H24: =VLOOKUP($A24,CODIGOS!$B:$D,2,FALSE) -> 774 | I24: =IF($H24="S/STOCK","",$J24/$I$2) -> 1.935 | J24: =IF(H24="S/STOCK","",IF($E24="",$D24*$H24,$E24*$H24)) -> 387 | K24: =VLOOKUP($B24,CODIGOS!$A:$K,8,0)*$G24*1000 -> 0.258715 | L24: =VLOOKUP($B24,CODIGOS!$A:$K,9,0)*$G24*1000 -> 0.0135935 | M24: =VLOOKUP($B24,CODIGOS!$A:$K,10,0)*$G24*1000 -> 0.002631 | N24: =VLOOKUP($B24,CODIGOS!$A:$K,11,0)*$G24*1000 -> 0.0451655
A25: SEMOLA KG | B25: =VLOOKUP($A25,NSN!$A:$B,2,FALSE) -> V000305 | C25: =VLOOKUP($A25,CODIGOS!$B:$E,4,FALSE) -> KG | D25: =($F25*$I$2)/1000 -> 1 | E25: =IF(VLOOKUP($B25,CODIGOS!$A:$F,6,0)<>1000,(($F25*$I$2)/VLOOKUP($B25,CODIGOS!$A:$F,6,0)),"") | F25: 5 | G25: =(F25/1000)*VLOOKUP($B25,CODIGOS!$A:$G,7,0) -> 0.005 | H25: =VLOOKUP($A25,CODIGOS!$B:$D,2,FALSE) -> 2559 | I25: =IF($H25="S/STOCK","",$J25/$I$2) -> 12.795 | J25: =IF(H25="S/STOCK","",IF($E25="",$D25*$H25,$E25*$H25)) -> 2559 | K25: =VLOOKUP($B25,CODIGOS!$A:$K,8,0)*$G25*1000 -> 17.35 | L25: =VLOOKUP($B25,CODIGOS!$A:$K,9,0)*$G25*1000 -> 0.405 | M25: =VLOOKUP($B25,CODIGOS!$A:$K,10,0)*$G25*1000 -> 0.035 | N25: =VLOOKUP($B25,CODIGOS!$A:$K,11,0)*$G25*1000 -> 3.875
A26: VACUNO CARNE MOLIDA CONGELADA | B26: =VLOOKUP($A26,NSN!$A:$B,2,FALSE) -> C902472 | C26: =VLOOKUP($A26,CODIGOS!$B:$E,4,FALSE) -> KG | D26: =($F26*$I$2)/1000 -> 20 | E26: =IF(VLOOKUP($B26,CODIGOS!$A:$F,6,0)<>1000,(($F26*$I$2)/VLOOKUP($B26,CODIGOS!$A:$F,6,0)),"") | F26: 100 | G26: =(F26/1000)*VLOOKUP($B26,CODIGOS!$A:$G,7,0) -> 0.0648 | H26: =VLOOKUP($A26,CODIGOS!$B:$D,2,FALSE) -> 4940 | I26: =IF($H26="S/STOCK","",$J26/$I$2) -> 494 | J26: =IF(H26="S/STOCK","",IF($E26="",$D26*$H26,$E26*$H26)) -> 98800 | K26: =VLOOKUP($B26,CODIGOS!$A:$K,8,0)*$G26*1000 -> 84.24 | L26: =VLOOKUP($B26,CODIGOS!$A:$K,9,0)*$G26*1000 -> 13.932 | M26: =VLOOKUP($B26,CODIGOS!$A:$K,10,0)*$G26*1000 -> 2.7216 | N26: =VLOOKUP($B26,CODIGOS!$A:$K,11,0)*$G26*1000 -> 2.7864
A27: VIENESAS | B27: =VLOOKUP($A27,NSN!$A:$B,2,FALSE) -> V000324 | C27: =VLOOKUP($A27,CODIGOS!$B:$E,4,FALSE) -> KG | D27: =($F27*$I$2)/1000 -> 4 | E27: =IF(VLOOKUP($B27,CODIGOS!$A:$F,6,0)<>1000,(($F27*$I$2)/VLOOKUP($B27,CODIGOS!$A:$F,6,0)),"") | F27: 20 | G27: =(F27/1000)*VLOOKUP($B27,CODIGOS!$A:$G,7,0) -> 0.02 | H27: =VLOOKUP($A27,CODIGOS!$B:$D,2,FALSE) -> 3513 | I27: =IF($H27="S/STOCK","",$J27/$I$2) -> 70.26 | J27: =IF(H27="S/STOCK","",IF($E27="",$D27*$H27,$E27*$H27)) -> 14052 | K27: =VLOOKUP($B27,CODIGOS!$A:$K,8,0)*$G27*1000 -> 64.4 | L27: =VLOOKUP($B27,CODIGOS!$A:$K,9,0)*$G27*1000 -> 2.5 | M27: =VLOOKUP($B27,CODIGOS!$A:$K,10,0)*$G27*1000 -> 5.94 | N27: =VLOOKUP($B27,CODIGOS!$A:$K,11,0)*$G27*1000 -> 0.2
A28: CEBOLLAS FRESCAS | B28: =VLOOKUP($A28,NSN!$A:$B,2,FALSE) -> C000249 | C28: =VLOOKUP($A28,CODIGOS!$B:$E,4,FALSE) -> KG | D28: =($F28*$I$2)/1000 -> 4 | E28: =IF(VLOOKUP($B28,CODIGOS!$A:$F,6,0)<>1000,(($F28*$I$2)/VLOOKUP($B28,CODIGOS!$A:$F,6,0)),"") | F28: 20 | G28: =(F28/1000)*VLOOKUP($B28,CODIGOS!$A:$G,7,0) -> 0.01782 | H28: =VLOOKUP($A28,CODIGOS!$B:$D,2,FALSE) -> 640 | I28: =IF($H28="S/STOCK","",$J28/$I$2) -> 12.8 | J28: =IF(H28="S/STOCK","",IF($E28="",$D28*$H28,$E28*$H28)) -> 2560 | K28: =VLOOKUP($B28,CODIGOS!$A:$K,8,0)*$G28*1000 -> 7.6626 | L28: =VLOOKUP($B28,CODIGOS!$A:$K,9,0)*$G28*1000 -> 0.14256 | M28: =VLOOKUP($B28,CODIGOS!$A:$K,10,0)*$G28*1000 -> 0.03564 | N28: =VLOOKUP($B28,CODIGOS!$A:$K,11,0)*$G28*1000 -> 1.71072
A29: AJOS FRESCO | B29: =VLOOKUP($A29,NSN!$A:$B,2,FALSE) -> V000014 | C29: =VLOOKUP($A29,CODIGOS!$B:$E,4,FALSE) -> NR 35 g | D29: =($F29*$I$2)/1000 -> 0.2 | E29: =IF(VLOOKUP($B29,CODIGOS!$A:$F,6,0)<>1000,(($F29*$I$2)/VLOOKUP($B29,CODIGOS!$A:$F,6,0)),"") -> 5.7142857 | F29: 1 | G29: =(F29/1000)*VLOOKUP($B29,CODIGOS!$A:$G,7,0) -> 0.001 | H29: =VLOOKUP($A29,CODIGOS!$B:$D,2,FALSE) -> 297 | I29: =IF($H29="S/STOCK","",$J29/$I$2) -> 8.4857143 | J29: =IF(H29="S/STOCK","",IF($E29="",$D29*$H29,$E29*$H29)) -> 1697.1429 | K29: =VLOOKUP($B29,CODIGOS!$A:$K,8,0)*$G29*1000 -> 1.39 | L29: =VLOOKUP($B29,CODIGOS!$A:$K,9,0)*$G29*1000 -> 0.067 | M29: =VLOOKUP($B29,CODIGOS!$A:$K,10,0)*$G29*1000 -> 0.004 | N29: =VLOOKUP($B29,CODIGOS!$A:$K,11,0)*$G29*1000 -> 0.272
A30: ZANAHORIA | B30: =VLOOKUP($A30,NSN!$A:$B,2,FALSE) -> V000330 | C30: =VLOOKUP($A30,CODIGOS!$B:$E,4,FALSE) -> KG | D30: =($F30*$I$2)/1000 -> 4 | E30: =IF(VLOOKUP($B30,CODIGOS!$A:$F,6,0)<>1000,(($F30*$I$2)/VLOOKUP($B30,CODIGOS!$A:$F,6,0)),"") | F30: 20 | G30: =(F30/1000)*VLOOKUP($B30,CODIGOS!$A:$G,7,0) -> 0.01804 | H30: =VLOOKUP($A30,CODIGOS!$B:$D,2,FALSE) -> 1287 | I30: =IF($H30="S/STOCK","",$J30/$I$2) -> 25.74 | J30: =IF(H30="S/STOCK","",IF($E30="",$D30*$H30,$E30*$H30)) -> 5148 | K30: =VLOOKUP($B30,CODIGOS!$A:$K,8,0)*$G30*1000 -> 15.5144 | L30: =VLOOKUP($B30,CODIGOS!$A:$K,9,0)*$G30*1000 -> 0.16236 | M30: =VLOOKUP($B30,CODIGOS!$A:$K,10,0)*$G30*1000 -> 0.0902 | N30: =VLOOKUP($B30,CODIGOS!$A:$K,11,0)*$G30*1000 -> 1.46124
A31: CONCENTRADO TOMATES KG | B31: =VLOOKUP($A31,NSN!$A:$B,2,FALSE) -> C903242 | C31: =VLOOKUP($A31,CODIGOS!$B:$E,4,FALSE) -> KG | D31: =($F31*$I$2)/1000 -> 2 | E31: =IF(VLOOKUP($B31,CODIGOS!$A:$F,6,0)<>1000,(($F31*$I$2)/VLOOKUP($B31,CODIGOS!$A:$F,6,0)),"") | F31: 10 | G31: =(F31/1000)*VLOOKUP($B31,CODIGOS!$A:$G,7,0) -> 0.01 | H31: =VLOOKUP($A31,CODIGOS!$B:$D,2,FALSE) -> 2690 | I31: =IF($H31="S/STOCK","",$J31/$I$2) -> 26.9 | J31: =IF(H31="S/STOCK","",IF($E31="",$D31*$H31,$E31*$H31)) -> 5380 | K31: =VLOOKUP($B31,CODIGOS!$A:$K,8,0)*$G31*1000 -> 8.2 | L31: =VLOOKUP($B31,CODIGOS!$A:$K,9,0)*$G31*1000 -> 0.27 | M31: =VLOOKUP($B31,CODIGOS!$A:$K,10,0)*$G31*1000 -> 0.1 | N31: =VLOOKUP($B31,CODIGOS!$A:$K,11,0)*$G31*1000 -> 1.55
... A39: MANZANA NATURAL | B39: =VLOOKUP($A39,NSN!$A:$B,2,FALSE) -> V000193 | C39: =VLOOKUP($A39,CODIGOS!$B:$E,4,FALSE) -> KG | D39: =($F39*$I$2)/1000 -> 24 | E39: =IF(VLOOKUP($B39,CODIGOS!$A:$F,6,0)<>1000,(($F39*$I$2)/VLOOKUP($B39,CODIGOS!$A:$F,6,0)),"") | F39: 120 | G39: =(F39/1000)*VLOOKUP($B39,CODIGOS!$A:$G,7,0) -> 0.10272 | H39: =VLOOKUP($A39,CODIGOS!$B:$D,2,FALSE) -> 1634 | I39: =IF($H39="S/STOCK","",$J39/$I$2) -> 196.08 | J39: =IF(H39="S/STOCK","",IF($E39="",$D39*$H39,$E39*$H39)) -> 39216 | K39: =VLOOKUP($B39,CODIGOS!$A:$K,8,0)*$G39*1000 -> 57.5232 | L39: =VLOOKUP($B39,CODIGOS!$A:$K,9,0)*$G39*1000 -> 0.30816 | M39: =VLOOKUP($B39,CODIGOS!$A:$K,10,0)*$G39*1000 -> 0.30816 | N39: =VLOOKUP($B39,CODIGOS!$A:$K,11,0)*$G39*1000 -> 14.8944
I40: =SUM(I20:I39) -> 1209.7929 | J40: =SUM(J20:J39) -> 241958.58 | K40: =SUM(K20:K39) -> 983.92192 | L40: =SUM(L20:L39) -> 28.705783 | M40: =SUM(M20:M39) -> 46.823851 | N40: =SUM(N20:N39) -> 114.72808
A41: CENA
A42: REFRESCO FRAMBUESA | B42: =VLOOKUP($A42,NSN!$A:$B,2,FALSE) -> C902857 | C42: =VLOOKUP($A42,CODIGOS!$B:$E,4,FALSE) -> KG | D42: =($F42*$I$3)/1000 -> 0.48 | E42: =IF(VLOOKUP($B42,CODIGOS!$A:$F,6,0)<>1000,(($F42*$I$3)/VLOOKUP($B42,CODIGOS!$A:$F,6,0)),"") | F42: 6 | G42: =(F42/1000)*VLOOKUP($B42,CODIGOS!$A:$G,7,0) -> 0.006 | H42: =VLOOKUP($A42,CODIGOS!$B:$D,2,FALSE) -> 2941 | I42: =IF($H42="S/STOCK","",$J42/$I$3) -> 17.646 | J42: =IF(H42="S/STOCK","",IF($E42="",$D42*$H42,$E42*$H42)) -> 1411.68 | K42: =VLOOKUP($B42,CODIGOS!$A:$K,8,0)*$G42*1000 -> 21.54 | L42: =VLOOKUP($B42,CODIGOS!$A:$K,9,0)*$G42*1000 -> 0 | M42: =VLOOKUP($B42,CODIGOS!$A:$K,10,0)*$G42*1000 -> 0 | N42: =VLOOKUP($B42,CODIGOS!$A:$K,11,0)*$G42*1000 -> 5.376
A43: PAN | B43: =VLOOKUP($A43,NSN!$A:$B,2,FALSE) -> V000415 | C43: =VLOOKUP($A43,CODIGOS!$B:$E,4,FALSE) -> KG | D43: =($F43*$I$3)/1000 -> 4 | E43: =IF(VLOOKUP($B43,CODIGOS!$A:$F,6,0)<>1000,(($F43*$I$3)/VLOOKUP($B43,CODIGOS!$A:$F,6,0)),"") | F43: 50 | G43: =(F43/1000)*VLOOKUP($B43,CODIGOS!$A:$G,7,0) -> 0.05 | H43: =VLOOKUP($A43,CODIGOS!$B:$D,2,FALSE) -> 1783 | I43: =IF($H43="S/STOCK","",$J43/$I$3) -> 89.15 | J43: =IF(H43="S/STOCK","",IF($E43="",$D43*$H43,$E43*$H43)) -> 7132 | K43: =VLOOKUP($B43,CODIGOS!$A:$K,8,0)*$G43*1000 -> 157.5 | L43: =VLOOKUP($B43,CODIGOS!$A:$K,9,0)*$G43*1000 -> 4.1 | M43: =VLOOKUP($B43,CODIGOS!$A:$K,10,0)*$G43*1000 -> 2 | N43: =VLOOKUP($B43,CODIGOS!$A:$K,11,0)*$G43*1000 -> 30.8
A44: CREMA ZAPALLO | B44: =VLOOKUP($A44,NSN!$A:$B,2,FALSE) -> C903543 | C44: =VLOOKUP($A44,CODIGOS!$B:$E,4,FALSE) -> KG | D44: =($F44*$I$3)/1000 -> 1 | E44: =IF(VLOOKUP($B44,CODIGOS!$A:$F,6,0)<>1000,(($F44*$I$3)/VLOOKUP($B44,CODIGOS!$A:$F,6,0)),"") | F44: 12.5 | G44: =(F44/1000)*VLOOKUP($B44,CODIGOS!$A:$G,7,0) -> 0.0125 | H44: =VLOOKUP($A44,CODIGOS!$B:$D,2,FALSE) -> 3572 | I44: =IF($H44="S/STOCK","",$J44/$I$3) -> 44.65 | J44: =IF(H44="S/STOCK","",IF($E44="",$D44*$H44,$E44*$H44)) -> 3572 | K44: =VLOOKUP($B44,CODIGOS!$A:$K,8,0)*$G44*1000 -> 39.125 | L44: =VLOOKUP($B44,CODIGOS!$A:$K,9,0)*$G44*1000 -> 0.8375 | M44: =VLOOKUP($B44,CODIGOS!$A:$K,10,0)*$G44*1000 -> 0.3125 | N44: =VLOOKUP($B44,CODIGOS!$A:$K,11,0)*$G44*1000 -> 8.25
A45: CERDO MEDALLÓN | B45: =VLOOKUP($A45,NSN!$A:$B,2,FALSE) -> C903468 | C45: =VLOOKUP($A45,CODIGOS!$B:$E,4,FALSE) -> KG | D45: =($F45*$I$3)/1000 -> 13.6 | E45: =IF(VLOOKUP($B45,CODIGOS!$A:$F,6,0)<>1000,(($F45*$I$3)/VLOOKUP($B45,CODIGOS!$A:$F,6,0)),"") | F45: 170 | G45: =(F45/1000)*VLOOKUP($B45,CODIGOS!$A:$G,7,0) -> 0.13549 | H45: =VLOOKUP($A45,CODIGOS!$B:$D,2,FALSE) -> 4100 | I45: =IF($H45="S/STOCK","",$J45/$I$3) -> 697 | J45: =IF(H45="S/STOCK","",IF($E45="",$D45*$H45,$E45*$H45)) -> 55760 | K45: =VLOOKUP($B45,CODIGOS!$A:$K,8,0)*$G45*1000 -> 178.8468 | L45: =VLOOKUP($B45,CODIGOS!$A:$K,9,0)*$G45*1000 -> 28.72388 | M45: =VLOOKUP($B45,CODIGOS!$A:$K,10,0)*$G45*1000 -> 5.96156 | N45: =VLOOKUP($B45,CODIGOS!$A:$K,11,0)*$G45*1000 -> 2.43882
A46: CEBOLLAS FRESCAS | B46: =VLOOKUP($A46,NSN!$A:$B,2,FALSE) -> C000249 | C46: =VLOOKUP($A46,CODIGOS!$B:$E,4,FALSE) -> KG | D46: =($F46*$I$3)/1000 -> 2.4 | E46: =IF(VLOOKUP($B46,CODIGOS!$A:$F,6,0)<>1000,(($F46*$I$3)/VLOOKUP($B46,CODIGOS!$A:$F,6,0)),"") | F46: 30 | G46: =(F46/1000)*VLOOKUP($B46,CODIGOS!$A:$G,7,0) -> 0.02673 | H46: =VLOOKUP($A46,CODIGOS!$B:$D,2,FALSE) -> 640 | I46: =IF($H46="S/STOCK","",$J46/$I$3) -> 19.2 | J46: =IF(H46="S/STOCK","",IF($E46="",$D46*$H46,$E46*$H46)) -> 1536 | K46: =VLOOKUP($B46,CODIGOS!$A:$K,8,0)*$G46*1000 -> 11.4939 | L46: =VLOOKUP($B46,CODIGOS!$A:$K,9,0)*$G46*1000 -> 0.21384 | M46: =VLOOKUP($B46,CODIGOS!$A:$K,10,0)*$G46*1000 -> 0.05346 | N46: =VLOOKUP($B46,CODIGOS!$A:$K,11,0)*$G46*1000 -> 2.56608
A47: ZANAHORIA | B47: =VLOOKUP($A47,NSN!$A:$B,2,FALSE) -> V000330 | C47: =VLOOKUP($A47,CODIGOS!$B:$E,4,FALSE) -> KG | D47: =($F47*$I$3)/1000 -> 1.6 | E47: =IF(VLOOKUP($B47,CODIGOS!$A:$F,6,0)<>1000,(($F47*$I$3)/VLOOKUP($B47,CODIGOS!$A:$F,6,0)),"") | F47: 20 | G47: =(F47/1000)*VLOOKUP($B47,CODIGOS!$A:$G,7,0) -> 0.01804 | H47: =VLOOKUP($A47,CODIGOS!$B:$D,2,FALSE) -> 1287 | I47: =IF($H47="S/STOCK","",$J47/$I$3) -> 25.74 | J47: =IF(H47="S/STOCK","",IF($E47="",$D47*$H47,$E47*$H47)) -> 2059.2 | K47: =VLOOKUP($B47,CODIGOS!$A:$K,8,0)*$G47*1000 -> 15.5144 | L47: =VLOOKUP($B47,CODIGOS!$A:$K,9,0)*$G47*1000 -> 0.16236 | M47: =VLOOKUP($B47,CODIGOS!$A:$K,10,0)*$G47*1000 -> 0.0902 | N47: =VLOOKUP($B47,CODIGOS!$A:$K,11,0)*$G47*1000 -> 1.46124
...

Sheet MARTES
A1: MARTES
A2: DESAYUNO | B2: ='MENU COMÚN'!B6 -> LECHE-TÉ- CAFÉ | D2: ='MENU COMÚN'!B7 -> PAN (100 GR) C/PASTA POLLO | G2: RACIÓN ALMUERZO (INGRESAR CANTIDAD RACIONES DE ALMUERZO) | I2: =LUNES!$I$2 -> 200
A3: ALMUERZO | B3: ='MENU COMÚN'!B9 -> ENS.TOMATE/PEPINO | G3: RACIÓN COMPLETA | I3: =LUNES!$I$3 -> 80
B4: ='MENU COMÚN'!B13 -> 1° SEMANA:POROTOS CON RIENDAS 2° SEMANA: LENTEJAS PARMESANAS 3° SEMANA: MENESTRÓN O POROTOS NEGROS GUISADOS 4° SEMANA: GARBANZOS GUISADOS
B5: ='MENU COMÚN'!B14 -> FLAN DE VAINILLA
Q6: % AUMENTO
A7: CENA | B7: ='MENU COMÚN'!B17 -> ENS.LECHUGA/BETARRAGA | Q7: 0 | R7: VALOR REAL | S7: VALOR TEORICO | T7: CANTIDADES | U7: TOTAL REAL | V7: TOTAL TEORICO | W7: SUPERAVIT O DEFICIT | X7: % SUP O DEF
B8: ='MENU COMÚN'!B21 -> CARBONADA DE VACUNO | P8: =LUNES!P8 -> 2065 | Q8: RACIÓN ALMUERZO (85%) | R8: =I38 -> 742.53142 | S8: =+$P$8+($P$8*$Q$7) -> 2065 | T8: =+$I$2-$I$3 -> 120 | U8: =$R$8*$T$8 -> 89103.77 | V8: =$S$8*$T$8 -> 247800 | W8: =$V$8-$U$8 -> 158696.23 | X8: =$W$8/$V$8 -> 0.64042062
B9: ='MENU COMÚN'!B22 -> JALEA NARANJA | P9: 2429 | Q9: RACIÓN COMPLETA | R9: =I20+I38+I58 -> 3075.3319 | S9: =+$P$9+($P$9*$Q$7) -> 2429 | T9: =+$I$3 -> 80 | U9: =$R$9*$T$9 -> 246026.55 | V9: =$S$9*$T$9 -> 194320 | W9: =$V$9-$U$9 -> -51706.548 | X9: =$W$9/$V$9 -> -0.26608969
A10: DESCRIPCION | B10: CÓDIGO | C10: U/E | D10: CANTIDAD TOTAL KG | F10: GRS P/P | G10: CANTIDAD (KG) P/P | H10: V.UNITARIO | I10: V. P/P | J10: V.TOTAL | K10: CALORÍAS | L10: PROTEÍNAS | M10: LÍPIDOS | N10: CHO | Q10: TOTAL | U10: =SUM(U8:U9) -> 335130.32 | V10: =SUM(V8:V9) -> 442120 | W10: =V10-U10 -> 106989.68 | X10: =W10/V10 -> 0.2419924
A11: DESAYUNO
A12: LECHE EN POLVO 800 GRS. | B12: =VLOOKUP($A12,NSN!$A:$B,2,FALSE) -> C903335 | C12: =VLOOKUP($A12,CODIGOS!$B:$E,4,FALSE) -> 800 grs | D12: =($F12*$I$3)/1000 -> 1.6 | E12: =IF(VLOOKUP($B12,CODIGOS!$A:$F,6,0)<>1000,(($F12*$I$3)/VLOOKUP($B12,CODIGOS!$A:$F,6,0)),"") -> 2 | F12: 20 | G12: =(F12/1000)*VLOOKUP($B12,CODIGOS!$A:$G,7,0) -> 0.02 | H12: =VLOOKUP($A12,CODIGOS!$B:$D,2,FALSE) -> 4975 | I12: =IF($H12="S/STOCK","",$J12/$I$3) -> 124.375 | J12: =IF(H12="S/STOCK","",IF($E12="",$D12*$H12,$E12*$H12)) -> 9950 | K12: =VLOOKUP($B12,CODIGOS!$A:$K,8,0)*$G12*1000 -> 70.6 | L12: =VLOOKUP($B12,CODIGOS!$A:$K,9,0)*$G12*1000 -> 8.02 | M12: =VLOOKUP($B12,CODIGOS!$A:$K,10,0)*$G12*1000 -> 0.02 | N12: =VLOOKUP($B12,CODIGOS!$A:$K,11,0)*$G12*1000 -> 9.58
A13: TE | B13: =VLOOKUP($A13,NSN!$A:$B,2,FALSE) -> C000827 | C13: =VLOOKUP($A13,CODIGOS!$B:$E,4,FALSE) -> KG | D13: =($F13*$I$3)/1000 -> 0.12 | E13: =IF(VLOOKUP($B13,CODIGOS!$A:$F,6,0)<>1000,(($F13*$I$3)/VLOOKUP($B13,CODIGOS!$A:$F,6,0)),"") | F13: 1.5 | G13: =(F13/1000)*VLOOKUP($B13,CODIGOS!$A:$G,7,0) -> 0.0015 | H13: =VLOOKUP($A13,CODIGOS!$B:$D,2,FALSE) -> 7800 | I13: =IF($H13="S/STOCK","",$J13/$I$3) -> 11.7 | J13: =IF(H13="S/STOCK","",IF($E13="",$D13*$H13,$E13*$H13)) -> 936 | K13: =VLOOKUP($B13,CODIGOS!$A:$K,8,0)*$G13*1000 -> 0.015 | L13: =VLOOKUP($B13,CODIGOS!$A:$K,9,0)*$G13*1000 -> 0 | M13: =VLOOKUP($B13,CODIGOS!$A:$K,10,0)*$G13*1000 -> 0 | N13: =VLOOKUP($B13,CODIGOS!$A:$K,11,0)*$G13*1000 -> 0.003
A14: CAFÉ INSTANTANEO | B14: =VLOOKUP($A14,NSN!$A:$B,2,FALSE) -> C000523 | C14: =VLOOKUP($A14,CODIGOS!$B:$E,4,FALSE) -> TA 400 gr | D14: =($F14*$I$3)/1000 -> 0.08 | E14: =IF(VLOOKUP($B14,CODIGOS!$A:$F,6,0)<>1000,(($F14*$I$3)/VLOOKUP($B14,CODIGOS!$A:$F,6,0)),"") -> 0.2 | F14: 1 | G14: =(F14/1000)*VLOOKUP($B14,CODIGOS!$A:$G,7,0) -> 0.001 | H14: =VLOOKUP($A14,CODIGOS!$B:$D,2,FALSE) -> 9990 | I14: =IF($H14="S/STOCK","",$J14/$I$3) -> 24.975 | J14: =IF(H14="S/STOCK","",IF($E14="",$D14*$H14,$E14*$H14)) -> 1998 | K14: =VLOOKUP($B14,CODIGOS!$A:$K,8,0)*$G14*1000 -> 2.61 | L14: =VLOOKUP($B14,CODIGOS!$A:$K,9,0)*$G14*1000 -> 0.164 | M14: =VLOOKUP($B14,CODIGOS!$A:$K,10,0)*$G14*1000 -> 0.001 | N14: =VLOOKUP($B14,CODIGOS!$A:$K,11,0)*$G14*1000 -> 0.49
A15: AZUCAR BLANCA REFINADA | B15: =VLOOKUP($A15,NSN!$A:$B,2,FALSE) -> C000816 | C15: =VLOOKUP($A15,CODIGOS!$B:$E,4,FALSE) -> KG | D15: =($F15*$I$3)/1000 -> 0.8 | E15: =IF(VLOOKUP($B15,CODIGOS!$A:$F,6,0)<>1000,(($F15*$I$3)/VLOOKUP($B15,CODIGOS!$A:$F,6,0)),"") | F15: 10 | G15: =(F15/1000)*VLOOKUP($B15,CODIGOS!$A:$G,7,0) -> 0.01 | H15: =VLOOKUP($A15,CODIGOS!$B:$D,2,FALSE) -> 1128 | I15: =IF($H15="S/STOCK","",$J15/$I$3) -> 11.28 | J15: =IF(H15="S/STOCK","",IF($E15="",$D15*$H15,$E15*$H15)) -> 902.4 | K15: =VLOOKUP($B15,CODIGOS!$A:$K,8,0)*$G15*1000 -> 39.8 | L15: =VLOOKUP($B15,CODIGOS!$A:$K,9,0)*$G15*1000 -> 0 | M15: =VLOOKUP($B15,CODIGOS!$A:$K,10,0)*$G15*1000 -> 0 | N15: =VLOOKUP($B15,CODIGOS!$A:$K,11,0)*$G15*1000 -> 9.95
A16: POLLO FILETE | B16: =VLOOKUP($A16,NSN!$A:$B,2,FALSE) -> C903555 | C16: =VLOOKUP($A16,CODIGOS!$B:$E,4,FALSE) -> KG | D16: =($F16*$I$3)/1000 -> 4.8 | E16: =IF(VLOOKUP($B16,CODIGOS!$A:$F,6,0)<>1000,(($F16*$I$3)/VLOOKUP($B16,CODIGOS!$A:$F,6,0)),"") | F16: 60 | G16: =(F16/1000)*VLOOKUP($B16,CODIGOS!$A:$G,7,0) -> 0.04338 | H16: =VLOOKUP($A16,CODIGOS!$B:$D,2,FALSE) -> 4165 | I16: =IF($H16="S/STOCK","",$J16/$I$3) -> 249.9 | J16: =IF(H16="S/STOCK","",IF($E16="",$D16*$H16,$E16*$H16)) -> 19992 | K16: =VLOOKUP($B16,CODIGOS!$A:$K,8,0)*$G16*1000 -> 86.3262 | L16: =VLOOKUP($B16,CODIGOS!$A:$K,9,0)*$G16*1000 -> 9.71712 | M16: =VLOOKUP($B16,CODIGOS!$A:$K,10,0)*$G16*1000 -> 4.9887 | N16: =VLOOKUP($B16,CODIGOS!$A:$K,11,0)*$G16*1000 -> 0.6507
A17: MAYONESA KG | B17: =VLOOKUP($A17,NSN!$A:$B,2,FALSE) -> V000361 | C17: =VLOOKUP($A17,CODIGOS!$B:$E,4,FALSE) -> KG | D17: =($F17*$I$3)/1000 -> 0.8 | E17: =IF(VLOOKUP($B17,CODIGOS!$A:$F,6,0)<>1000,(($F17*$I$3)/VLOOKUP($B17,CODIGOS!$A:$F,6,0)),"") | F17: 10 | G17: =(F17/1000)*VLOOKUP($B17,CODIGOS!$A:$G,7,0) -> 0.01 | H17: =VLOOKUP($A17,CODIGOS!$B:$D,2,FALSE) -> 2397 | I17: =IF($H17="S/STOCK","",$J17/$I$3) -> 23.97 | J17: =IF(H17="S/STOCK","",IF($E17="",$D17*$H17,$E17*$H17)) -> 1917.6 | K17: =VLOOKUP($B17,CODIGOS!$A:$K,8,0)*$G17*1000 -> 62.6 | L17: =VLOOKUP($B17,CODIGOS!$A:$K,9,0)*$G17*1000 -> 0.13 | M17: =VLOOKUP($B17,CODIGOS!$A:$K,10,0)*$G17*1000 -> 6.48 | N17: =VLOOKUP($B17,CODIGOS!$A:$K,11,0)*$G17*1000 -> 0.95
A18: SAL | B18: =VLOOKUP($A18,NSN!$A:$B,2,FALSE) -> C000528 | C18: =VLOOKUP($A18,CODIGOS!$B:$E,4,FALSE) -> KG | D18: =($F18*$I$3)/1000 -> 0.04 | E18: =IF(VLOOKUP($B18,CODIGOS!$A:$F,6,0)<>1000,(($F18*$I$3)/VLOOKUP($B18,CODIGOS!$A:$F,6,0)),"") | F18: 0.5 | G18: =(F18/1000)*VLOOKUP($B18,CODIGOS!$A:$G,7,0) -> 0.0005 | H18: =VLOOKUP($A18,CODIGOS!$B:$D,2,FALSE) -> 375 | I18: =IF($H18="S/STOCK","",$J18/$I$3) -> 0.1875 | J18: =IF(H18="S/STOCK","",IF($E18="",$D18*$H18,$E18*$H18)) -> 15 | K18: =VLOOKUP($B18,CODIGOS!$A:$K,8,0)*$G18*1000 -> 0 | L18: =VLOOKUP($B18,CODIGOS!$A:$K,9,0)*$G18*1000 -> 0 | M18: =VLOOKUP($B18,CODIGOS!$A:$K,10,0)*$G18*1000 -> 0 | N18: =VLOOKUP($B18,CODIGOS!$A:$K,11,0)*$G18*1000 -> 0
A19: PAN | B19: =VLOOKUP($A19,NSN!$A:$B,2,FALSE) -> V000415 | C19: =VLOOKUP($A19,CODIGOS!$B:$E,4,FALSE) -> KG | D19: =($F19*$I$3)/1000 -> 8 | E19: =IF(VLOOKUP($B19,CODIGOS!$A:$F,6,0)<>1000,(($F19*$I$3)/VLOOKUP($B19,CODIGOS!$A:$F,6,0)),"") | F19: 100 | G19: =(F19/1000)*VLOOKUP($B19,CODIGOS!$A:$G,7,0) -> 0.1 | H19: =VLOOKUP($A19,CODIGOS!$B:$D,2,FALSE) -> 1783 | I19: =IF($H19="S/STOCK","",$J19/$I$3) -> 178.3 | J19: =IF(H19="S/STOCK","",IF($E19="",$D19*$H19,$E19*$H19)) -> 14264 | K19: =VLOOKUP($B19,CODIGOS!$A:$K,8,0)*$G19*1000 -> 315 | L19: =VLOOKUP($B19,CODIGOS!$A:$K,9,0)*$G19*1000 -> 8.2 | M19: =VLOOKUP($B19,CODIGOS!$A:$K,10,0)*$G19*1000 -> 4 | N19: =VLOOKUP($B19,CODIGOS!$A:$K,11,0)*$G19*1000 -> 61.6
I20: =SUM(I12:I19) -> 624.6875 | J20: =SUM(J12:J19) -> 49975 | K20: =SUM(K12:K19) -> 576.9512 | L20: =SUM(L12:L19) -> 26.23112 | M20: =SUM(M12:M19) -> 15.4897 | N20: =SUM(N12:N19) -> 83.2237
A21: ALMUERZO
A22: REFRESCO NARANJA | B22: =VLOOKUP($A22,NSN!$A:$B,2,FALSE) -> C902859 | C22: =VLOOKUP($A22,CODIGOS!$B:$E,4,FALSE) -> KG | D22: =($F22*$I$2)/1000 -> 1.2 | E22: =IF(VLOOKUP($B22,CODIGOS!$A:$F,6,0)<>1000,(($F22*$I$2)/VLOOKUP($B22,CODIGOS!$A:$F,6,0)),"") | F22: 6 | G22: =(F22/1000)*VLOOKUP($B22,CODIGOS!$A:$G,7,0) -> 0.006 | H22: =VLOOKUP($A22,CODIGOS!$B:$D,2,FALSE) -> 2986 | I22: =IF($H22="S/STOCK","",$J22/$I$2) -> 17.916 | J22: =IF(H22="S/STOCK","",IF($E22="",$D22*$H22,$E22*$H22)) -> 3583.2 | K22: =VLOOKUP($B22,CODIGOS!$A:$K,8,0)*$G22*1000 -> 21.54 | L22: =VLOOKUP($B22,CODIGOS!$A:$K,9,0)*$G22*1000 -> 0 | M22: =VLOOKUP($B22,CODIGOS!$A:$K,10,0)*$G22*1000 -> 0 | N22: =VLOOKUP($B22,CODIGOS!$A:$K,11,0)*$G22*1000 -> 5.376
A23: PAN | B23: =VLOOKUP($A23,NSN!$A:$B,2,FALSE) -> V000415 | C23: =VLOOKUP($A23,CODIGOS!$B:$E,4,FALSE) -> KG | D23: =($F23*$I$2)/1000 -> 10 | E23: =IF(VLOOKUP($B23,CODIGOS!$A:$F,6,0)<>1000,(($F23*$I$2)/VLOOKUP($B23,CODIGOS!$A:$F,6,0)),"") | F23: 50 | G23: =(F23/1000)*VLOOKUP($B23,CODIGOS!$A:$G,7,0) -> 0.05 | H23: =VLOOKUP($A23,CODIGOS!$B:$D,2,FALSE) -> 1783 | I23: =IF($H23="S/STOCK","",$J23/$I$2) -> 89.15 | J23: =IF(H23="S/STOCK","",IF($E23="",$D23*$H23,$E23*$H23)) -> 17830 | K23: =VLOOKUP($B23,CODIGOS!$A:$K,8,0)*$G23*1000 -> 157.5 | L23: =VLOOKUP($B23,CODIGOS!$A:$K,9,0)*$G23*1000 -> 4.1 | M23: =VLOOKUP($B23,CODIGOS!$A:$K,10,0)*$G23*1000 -> 2 | N23: =VLOOKUP($B23,CODIGOS!$A:$K,11,0)*$G23*1000 -> 30.8
A24: TOMATES NATURAL | B24: =VLOOKUP($A24,NSN!$A:$B,2,FALSE) -> V000317 | C24: =VLOOKUP($A24,CODIGOS!$B:$E,4,FALSE) -> KG | D24: =($F24*$I$2)/1000 -> 8 | E24: =IF(VLOOKUP($B24,CODIGOS!$A:$F,6,0)<>1000,(($F24*$I$2)/VLOOKUP($B24,CODIGOS!$A:$F,6,0)),"") | F24: 40 | G24: =(F24/1000)*VLOOKUP($B24,CODIGOS!$A:$G,7,0) -> 0.0378 | H24: =VLOOKUP($A24,CODIGOS!$B:$D,2,FALSE) -> 1669 | I24: =IF($H24="S/STOCK","",$J24/$I$2) -> 66.76 | J24: =IF(H24="S/STOCK","",IF($E24="",$D24*$H24,$E24*$H24)) -> 13352 | K24: =VLOOKUP($B24,CODIGOS!$A:$K,8,0)*$G24*1000 -> 7.56 | L24: =VLOOKUP($B24,CODIGOS!$A:$K,9,0)*$G24*1000 -> 0.3024 | M24: =VLOOKUP($B24,CODIGOS!$A:$K,10,0)*$G24*1000 -> 0.1512 | N24: =VLOOKUP($B24,CODIGOS!$A:$K,11,0)*$G24*1000 -> 1.2096
A25: PEPINOS DE ENSALADA | B25: =VLOOKUP($A25,NSN!$A:$B,2,FALSE) -> V000229 | C25: =VLOOKUP($A25,CODIGOS!$B:$E,4,FALSE) -> NR 400 gr | D25: =($F25*$I$2)/1000 -> 8 | E25: =IF(VLOOKUP($B25,CODIGOS!$A:$F,6,0)<>1000,(($F25*$I$2)/VLOOKUP($B25,CODIGOS!$A:$F,6,0)),"") -> 20 | F25: 40 | G25: =(F25/1000)*VLOOKUP($B25,CODIGOS!$A:$G,7,0) -> 0.03868 | H25: =VLOOKUP($A25,CODIGOS!$B:$D,2,FALSE) -> 736 | I25: =IF($H25="S/STOCK","",$J25/$I$2) -> 73.6 | J25: =IF(H25="S/STOCK","",IF($E25="",$D25*$H25,$E25*$H25)) -> 14720 | K25: =VLOOKUP($B25,CODIGOS!$A:$K,8,0)*$G25*1000 -> 5.0284 | L25: =VLOOKUP($B25,CODIGOS!$A:$K,9,0)*$G25*1000 -> 0.30944 | M25: =VLOOKUP($B25,CODIGOS!$A:$K,10,0)*$G25*1000 -> 0.07736 | N25: =VLOOKUP($B25,CODIGOS!$A:$K,11,0)*$G25*1000 -> 0.81228
A26: ACEITE 900 ML | B26: =VLOOKUP($A26,NSN!$A:$B,2,FALSE) -> C902636 | C26: =VLOOKUP($A26,CODIGOS!$B:$E,4,FALSE) -> 900 ML | D26: =($F26*$I$2)/1000 -> 1 | E26: =IF(VLOOKUP($B26,CODIGOS!$A:$F,6,0)<>1000,(($F26*$I$2)/VLOOKUP($B26,CODIGOS!$A:$F,6,0)),"") -> 1.1111111 | F26: 5 | G26: =(F26/1000)*VLOOKUP($B26,CODIGOS!$A:$G,7,0) -> 0.005 | H26: =VLOOKUP($A26,CODIGOS!$B:$D,2,FALSE) -> 1500 | I26: =IF($H26="S/STOCK","",$J26/$I$2) -> 8.3333333 | J26: =IF(H26="S/STOCK","",IF($E26="",$D26*$H26,$E26*$H26)) -> 1666.6667 | K26: =VLOOKUP($B26,CODIGOS!$A:$K,8,0)*$G26*1000 -> 44.2 | L26: =VLOOKUP($B26,CODIGOS!$A:$K,9,0)*$G26*1000 -> 0 | M26: =VLOOKUP($B26,CODIGOS!$A:$K,10,0)*$G26*1000 -> 5 | N26: =VLOOKUP($B26,CODIGOS!$A:$K,11,0)*$G26*1000 -> 0
A27: SAL | B27: =VLOOKUP($A27,NSN!$A:$B,2,FALSE) -> C000528 | C27: =VLOOKUP($A27,CODIGOS!$B:$E,4,FALSE) -> KG | D27: =($F27*$I$2)/1000 -> 0.1 | E27: =IF(VLOOKUP($B27,CODIGOS!$A:$F,6,0)<>1000,(($F27*$I$2)/VLOOKUP($B27,CODIGOS!$A:$F,6,0)),"") | F27: 0.5 | G27: =(F27/1000)*VLOOKUP($B27,CODIGOS!$A:$G,7,0) -> 0.0005 | H27: =VLOOKUP($A27,CODIGOS!$B:$D,2,FALSE) -> 375 | I27: =IF($H27="S/STOCK","",$J27/$I$2) -> 0.1875 | J27: =IF(H27="S/STOCK","",IF($E27="",$D27*$H27,$E27*$H27)) -> 37.5 | K27: =VLOOKUP($B27,CODIGOS!$A:$K,8,0)*$G27*1000 -> 0 | L27: =VLOOKUP($B27,CODIGOS!$A:$K,9,0)*$G27*1000 -> 0 | M27: =VLOOKUP($B27,CODIGOS!$A:$K,10,0)*$G27*1000 -> 0 | N27: =VLOOKUP($B27,CODIGOS!$A:$K,11,0)*$G27*1000 -> 0
A28: SUCEDANEO JUGO LIMON 500CC | B28: =VLOOKUP($A28,NSN!$A:$B,2,FALSE) -> V001129 | C28: =VLOOKUP($A28,CODIGOS!$B:$E,4,FALSE) -> 500 cc | D28: =($F28*$I$2)/1000 -> 2 | E28: =IF(VLOOKUP($B28,CODIGOS!$A:$F,6,0)<>1000,(($F28*$I$2)/VLOOKUP($B28,CODIGOS!$A:$F,6,0)),"") -> 4 | F28: 10 | G28: =(F28/1000)*VLOOKUP($B28,CODIGOS!$A:$G,7,0) -> 0.01 | H28: =VLOOKUP($A28,CODIGOS!$B:$D,2,FALSE) -> 1550 | I28: =IF($H28="S/STOCK","",$J28/$I$2) -> 31 | J28: =IF(H28="S/STOCK","",IF($E28="",$D28*$H28,$E28*$H28)) -> 6200 | K28: =VLOOKUP($B28,CODIGOS!$A:$K,8,0)*$G28*1000 -> 2.5 | L28: =VLOOKUP($B28,CODIGOS!$A:$K,9,0)*$G28*1000 -> 0 | M28: =VLOOKUP($B28,CODIGOS!$A:$K,10,0)*$G28*1000 -> 0.01 | N28: =VLOOKUP($B28,CODIGOS!$A:$K,11,0)*$G28*1000 -> 9.37
A29: FREJOLES | B29: =VLOOKUP($A29,NSN!$A:$B,2,FALSE) -> C000196 | C29: =VLOOKUP($A29,CODIGOS!$B:$E,4,FALSE) -> KG | D29: =($F29*$I$2)/1000 -> 16 | E29: =IF(VLOOKUP($B29,CODIGOS!$A:$F,6,0)<>1000,(($F29*$I$2)/VLOOKUP($B29,CODIGOS!$A:$F,6,0)),"") | F29: 80 | G29: =(F29/1000)*VLOOKUP($B29,CODIGOS!$A:$G,7,0) -> 0.08 | H29: =VLOOKUP($A29,CODIGOS!$B:$D,2,FALSE) -> 2664 | I29: =IF($H29="S/STOCK","",$J29/$I$2) -> 213.12 | J29: =IF(H29="S/STOCK","",IF($E29="",$D29*$H29,$E29*$H29)) -> 42624 | K29: =VLOOKUP($B29,CODIGOS!$A:$K,8,0)*$G29*1000 -> 260.8 | L29: =VLOOKUP($B29,CODIGOS!$A:$K,9,0)*$G29*1000 -> 16.48 | M29: =VLOOKUP($B29,CODIGOS!$A:$K,10,0)*$G29*1000 -> 1.28 | N29: =VLOOKUP($B29,CODIGOS!$A:$K,11,0)*$G29*1000 -> 45.84
A30: FIDEOS TALLARINES | B30: =VLOOKUP($A30,NSN!$A:$B,2,FALSE) -> C000361 | C30: =VLOOKUP($A30,CODIGOS!$B:$E,4,FALSE) -> KG | D30: =($F30*$I$2)/1000 -> 4 | E30: =IF(VLOOKUP($B30,CODIGOS!$A:$F,6,0)<>1000,(($F30*$I$2)/VLOOKUP($B30,CODIGOS!$A:$F,6,0)),"") | F30: 20 | G30: =(F30/1000)*VLOOKUP($B30,CODIGOS!$A:$G,7,0) -> 0.02 | H30: =VLOOKUP($A30,CODIGOS!$B:$D,2,FALSE) -> 1495 | I30: =IF($H30="S/STOCK","",$J30/$I$2) -> 29.9 | J30: =IF(H30="S/STOCK","",IF($E30="",$D30*$H30,$E30*$H30)) -> 5980 | K30: =VLOOKUP($B30,CODIGOS!$A:$K,8,0)*$G30*1000 -> 70.4 | L30: =VLOOKUP($B30,CODIGOS!$A:$K,9,0)*$G30*1000 -> 2.22 | M30: =VLOOKUP($B30,CODIGOS!$A:$K,10,0)*$G30*1000 -> 0.08 | N30: =VLOOKUP($B30,CODIGOS!$A:$K,11,0)*$G30*1000 -> 15.32
A31: ACELGA NATURAL | B31: =VLOOKUP($A31,NSN!$A:$B,2,FALSE) -> V000006 | C31: =VLOOKUP($A31,CODIGOS!$B:$E,4,FALSE) -> AT 640 gr | D31: =($F31*$I$2)/1000 -> 6 | E31: =IF(VLOOKUP($B31,CODIGOS!$A:$F,6,0)<>1000,(($F31*$I$2)/VLOOKUP($B31,CODIGOS!$A:$F,6,0)),"") -> 9.375 | F31: 30 | G31: =(F31/1000)*VLOOKUP($B31,CODIGOS!$A:$G,7,0) -> 0.02514 | H31: =VLOOKUP($A31,CODIGOS!$B:$D,2,FALSE) -> 946 | I31: =IF($H31="S/STOCK","",$J31/$I$2) -> 44.34375 | J31: =IF(H31="S/STOCK","",IF($E31="",$D31*$H31,$E31*$H31)) -> 8868.75 | K31: =VLOOKUP($B31,CODIGOS!$A:$K,8,0)*$G31*1000 -> 7.2906 | L31: =VLOOKUP($B31,CODIGOS!$A:$K,9,0)*$G31*1000 -> 0.32682 | M31: =VLOOKUP($B31,CODIGOS!$A:$K,10,0)*$G31*1000 -> 0.10056 | N31: =VLOOKUP($B31,CODIGOS!$A:$K,11,0)*$G31*1000 -> 1.28214
A32: CEBOLLAS FRESCAS | B32: =VLOOKUP($A32,NSN!$A:$B,2,FALSE) -> C000249 | C32: =VLOOKUP($A32,CODIGOS!$B:$E,4,FALSE) -> KG | D32: =($F32*$I$2)/1000 -> 4 | E32: =IF(VLOOKUP($B32,CODIGOS!$A:$F,6,0)<>1000,(($F32*$I$2)/VLOOKUP($B32,CODIGOS!$A:$F,6,0)),"") | F32: 20 | G32: =(F32/1000)*VLOOKUP($B32,CODIGOS!$A:$G,7,0) -> 0.01782 | H32: =VLOOKUP($A32,CODIGOS!$B:$D,2,FALSE) -> 640 | I32: =IF($H32="S/STOCK","",$J32/$I$2) -> 12.8 | J32: =IF(H32="S/STOCK","",IF($E32="",$D32*$H32,$E32*$H32)) -> 2560 | K32: =VLOOKUP($B32,CODIGOS!$A:$K,8,0)*$G32*1000 -> 7.6626 | L32: =VLOOKUP($B32,CODIGOS!$A:$K,9,0)*$G32*1000 -> 0.14256 | M32: =VLOOKUP($B32,CODIGOS!$A:$K,10,0)*$G32*1000 -> 0.03564 | N32: =VLOOKUP($B32,CODIGOS!$A:$K,11,0)*$G32*1000 -> 1.71072
A33: ZANAHORIA | B33: =VLOOKUP($A33,NSN!$A:$B,2,FALSE) -> V000330 | C33: =VLOOKUP($A33,CODIGOS!$B:$E,4,FALSE) -> KG | D33: =($F33*$I$2)/1000 -> 4 | E33: =IF(VLOOKUP($B33,CODIGOS!$A:$F,6,0)<>1000,(($F33*$I$2)/VLOOKUP($B33,CODIGOS!$A:$F,6,0)),"") | F33: 20 | G33: =(F33/1000)*VLOOKUP($B33,CODIGOS!$A:$G,7,0) -> 0.01804 | H33: =VLOOKUP($A33,CODIGOS!$B:$D,2,FALSE) -> 1287 | I33: =IF($H33="S/STOCK","",$J33/$I$2) -> 25.74 | J33: =IF(H33="S/STOCK","",IF($E33="",$D33*$H33,$E33*$H33)) -> 5148 | K33: =VLOOKUP($B33,CODIGOS!$A:$K,8,0)*$G33*1000 -> 15.5144 | L33: =VLOOKUP($B33,CODIGOS!$A:$K,9,0)*$G33*1000 -> 0.16236 | M33: =VLOOKUP($B33,CODIGOS!$A:$K,10,0)*$G33*1000 -> 0.0902 | N33: =VLOOKUP($B33,CODIGOS!$A:$K,11,0)*$G33*1000 -> 1.46124
... A37: FLAN DE VAINILLA | B37: =VLOOKUP($A37,NSN!$A:$B,2,FALSE) -> C902851 | C37: =VLOOKUP($A37,CODIGOS!$B:$E,4,FALSE) -> KG | D37: =($F37*$I$2)/1000 -> 4 | E37: =IF(VLOOKUP($B37,CODIGOS!$A:$F,6,0)<>1000,(($F37*$I$2)/VLOOKUP($B37,CODIGOS!$A:$F,6,0)),"") | F37: 20 | G37: =(F37/1000)*VLOOKUP($B37,CODIGOS!$A:$G,7,0) -> 0.02 | H37: =VLOOKUP($A37,CODIGOS!$B:$D,2,FALSE) -> 2418 | I37: =IF($H37="S/STOCK","",$J37/$I$2) -> 48.36 | J37: =IF(H37="S/STOCK","",IF($E37="",$D37*$H37,$E37*$H37)) -> 9672 | K37: =VLOOKUP($B37,CODIGOS!$A:$K,8,0)*$G37*1000 -> 74.8 | L37: =VLOOKUP($B37,CODIGOS!$A:$K,9,0)*$G37*1000 -> 0.5 | M37: =VLOOKUP($B37,CODIGOS!$A:$K,10,0)*$G37*1000 -> 0.44 | N37: =VLOOKUP($B37,CODIGOS!$A:$K,11,0)*$G37*1000 -> 17.2
I38: =SUM(I22:I37) -> 742.53142 | J38: =SUM(J22:J37) -> 148506.28 | K38: =SUM(K22:K37) -> 734.925 | L38: =SUM(L22:L37) -> 24.63728 | M38: =SUM(M22:M37) -> 14.54606 | N38: =SUM(N22:N37) -> 133.66148
A39: CENA
A40: REFRESCO NARANJA | B40: =VLOOKUP($A40,NSN!$A:$B,2,FALSE) -> C902859 | C40: =VLOOKUP($A40,CODIGOS!$B:$E,4,FALSE) -> KG | D40: =($F40*$I$3)/1000 -> 0.48 | E40: =IF(VLOOKUP($B40,CODIGOS!$A:$F,6,0)<>1000,(($F40*$I$3)/VLOOKUP($B40,CODIGOS!$A:$F,6,0)),"") | F40: 6 | G40: =(F40/1000)*VLOOKUP($B40,CODIGOS!$A:$G,7,0) -> 0.006 | H40: =VLOOKUP($A40,CODIGOS!$B:$D,2,FALSE) -> 2986 | I40: =IF($H40="S/STOCK","",$J40/$I$3) -> 17.916 | J40: =IF(H40="S/STOCK","",IF($E40="",$D40*$H40,$E40*$H40)) -> 1433.28 | K40: =VLOOKUP($B40,CODIGOS!$A:$K,8,0)*$G40*1000 -> 21.54 | L40: =VLOOKUP($B40,CODIGOS!$A:$K,9,0)*$G40*1000 -> 0 | M40: =VLOOKUP($B40,CODIGOS!$A:$K,10,0)*$G40*1000 -> 0 | N40: =VLOOKUP($B40,CODIGOS!$A:$K,11,0)*$G40*1000 -> 5.376
A41: PAN | B41: =VLOOKUP($A41,NSN!$A:$B,2,FALSE) -> V000415 | C41: =VLOOKUP($A41,CODIGOS!$B:$E,4,FALSE) -> KG | D41: =($F41*$I$3)/1000 -> 4 | E41: =IF(VLOOKUP($B41,CODIGOS!$A:$F,6,0)<>1000,(($F41*$I$3)/VLOOKUP($B41,CODIGOS!$A:$F,6,0)),"") | F41: 50 | G41: =(F41/1000)*VLOOKUP($B41,CODIGOS!$A:$G,7,0) -> 0.05 | H41: =VLOOKUP($A41,CODIGOS!$B:$D,2,FALSE) -> 1783 | I41: =IF($H41="S/STOCK","",$J41/$I$3) -> 89.15 | J41: =IF(H41="S/STOCK","",IF($E41="",$D41*$H41,$E41*$H41)) -> 7132 | K41: =VLOOKUP($B41,CODIGOS!$A:$K,8,0)*$G41*1000 -> 157.5 | L41: =VLOOKUP($B41,CODIGOS!$A:$K,9,0)*$G41*1000 -> 4.1 | M41: =VLOOKUP($B41,CODIGOS!$A:$K,10,0)*$G41*1000 -> 2 | N41: =VLOOKUP($B41,CODIGOS!$A:$K,11,0)*$G41*1000 -> 30.8
A42: LECHUGA ESCAROLA | B42: =VLOOKUP($A42,NSN!$A:$B,2,FALSE) -> V000170 | C42: =VLOOKUP($A42,CODIGOS!$B:$E,4,FALSE) -> NR (650 g) | D42: =($F42*$I$3)/1000 -> 3.2 | E42: =IF(VLOOKUP($B42,CODIGOS!$A:$F,6,0)<>1000,(($F42*$I$2)/VLOOKUP($B42,CODIGOS!$A:$F,6,0)),"") -> 12.307692 | F42: 40 | G42: =(F42/1000)*VLOOKUP($B42,CODIGOS!$A:$G,7,0) -> 0.03824 | H42: =VLOOKUP($A42,CODIGOS!$B:$D,2,FALSE) -> 1190 | I42: =IF($H42="S/STOCK","",$J42/$I$2) -> 73.230769 | J42: =IF(H42="S/STOCK","",IF($E42="",$D42*$H42,$E42*$H42)) -> 14646.154 | K42: =VLOOKUP($B42,CODIGOS!$A:$K,8,0)*$G42*1000 -> 7.2656 | L42: =VLOOKUP($B42,CODIGOS!$A:$K,9,0)*$G42*1000 -> 0.65008 | M42: =VLOOKUP($B42,CODIGOS!$A:$K,10,0)*$G42*1000 -> 0.15296 | N42: =VLOOKUP($B42,CODIGOS!$A:$K,11,0)*$G42*1000 -> 0.84128
A43: BETARRAGAS AT | B43: =VLOOKUP($A43,NSN!$A:$B,2,FALSE) -> V000034 | C43: =VLOOKUP($A43,CODIGOS!$B:$E,4,FALSE) -> AT | D43: =($F43*$I$3)/1000 -> 3.2 | E43: =IF(VLOOKUP($B43,CODIGOS!$A:$F,6,0)<>1000,(($F43*$I$2)/VLOOKUP($B43,CODIGOS!$A:$F,6,0)),"") | F43: 40 | G43: =(F43/1000)*VLOOKUP($B43,CODIGOS!$A:$G,7,0) -> 0.03504 | H43: =VLOOKUP($A43,CODIGOS!$B:$D,2,FALSE) -> 1311 | I43: =IF($H43="S/STOCK","",$J43/$I$2) -> 20.976 | J43: =IF(H43="S/STOCK","",IF($E43="",$D43*$H43,$E43*$H43)) -> 4195.2 | K43: =VLOOKUP($B43,CODIGOS!$A:$K,8,0)*$G43*1000 -> 14.3664 | L43: =VLOOKUP($B43,CODIGOS!$A:$K,9,0)*$G43*1000 -> 0.66576 | M43: =VLOOKUP($B43,CODIGOS!$A:$K,10,0)*$G43*1000 -> 0.07008 | N43: =VLOOKUP($B43,CODIGOS!$A:$K,11,0)*$G43*1000 -> 2.76816
...

Sheet MIERCOLES
A1: MIERCOLES
A2: DESAYUNO | B2: ='MENU COMÚN'!C6 -> LECHE-TÉ- CAFÉ | D2: ='MENU COMÚN'!C7 -> PAN (100 GR) C/ HUEVO TOMATE | G2: RACIÓN ALMUERZO (INGRESAR CANTIDAD RACIONES DE ALMUERZO) | I2: =LUNES!$I$2 -> 200
A3: ALMUERZO | B3: ='MENU COMÚN'!C9 -> ENS.LECHUGA/CHOCLO | G3: RACIÓN COMPLETA | I3: =LUNES!$I$3 -> 80
B4: ='MENU COMÚN'!C13 -> 1° SEMANA: MERLUZA APANADA CON PURÉ DE PAPAS 2° SEMANA: CROQUETA DE ATÚN CON QUINOA PRIMAVERA 3° SEMANA: PULMAY (S.MARISCOS/CERDO, CHORIZO) 3° SEMANA: MERLUZA ESCABECHADA CON PAPAS ASADAS RÚSTICAS
B5: ='MENU COMÚN'!C14 -> JALEA FRAMBUESA
Q6: % AUMENTO
A7: CENA | B7: ='MENU COMÚN'!C17 -> CREMA DE LEGUMBRES NATURAL | Q7: 0 | R7: VALOR REAL | S7: VALOR TEORICO | T7: CANTIDADES | U7: TOTAL REAL | V7: TOTAL TEORICO | W7: SUPERAVIT O DEFICIT | X7: % SUP O DEF
B8: ='MENU COMÚN'!C21 -> CHAPSUI DE CERDO CON ARROZ PIAMONTESA | P8: =LUNES!P8 -> 2065 | Q8: RACIÓN ALMUERZO (85%) | R8: =I38 -> 1601.0894 | S8: =+$P$8+($P$8*$Q$7) -> 2065 | T8: =+$I$2-$I$3 -> 120 | U8: =$R$8*$T$8 -> 192130.73 | V8: =$S$8*$T$8 -> 247800 | W8: =$V$8-$U$8 -> 55669.268 | X8: =$W$8/$V$8 -> 0.22465403
B9: ='MENU COMÚN'!C22 -> FLAN DE CHOCOLATE | P9: =LUNES!P9 -> 2429 | Q9: RACIÓN COMPLETA | R9: =I21+I38+I60 -> 3104.9088 | S9: =+$P$9+($P$9*$Q$7) -> 2429 | T9: =+$I$3 -> 80 | U9: =$R$9*$T$9 -> 248392.7 | V9: =$S$9*$T$9 -> 194320 | W9: =$V$9-$U$9 -> -54072.703 | X9: =$W$9/$V$9 -> -0.27826628
A10: DESCRIPCION | B10: CÓDIGO | C10: U/E | D10: CANTIDAD TOTAL KG | F10: GRS P/P | G10: CANTIDAD (KG) P/P | H10: V.UNITARIO | I10: V. P/P | J10: V.TOTAL | K10: CALORÍAS | L10: PROTEÍNAS | M10: LÍPIDOS | N10: CHO | Q10: TOTAL | U10: =SUM(U8:U9) -> 440523.44 | V10: =SUM(V8:V9) -> 442120 | W10: =V10-U10 -> 1596.5642 | X10: =W10/V10 -> 0.0036111559
A11: DESAYUNO
A12: LECHE EN POLVO 800 GRS. | B12: =VLOOKUP($A12,NSN!$A:$B,2,FALSE) -> C903335 | C12: =VLOOKUP($A12,CODIGOS!$B:$E,4,FALSE) -> 800 grs | D12: =($F12*$I$3)/1000 -> 1.6 | E12: =IF(VLOOKUP($B12,CODIGOS!$A:$F,6,0)<>1000,(($F12*$I$3)/VLOOKUP($B12,CODIGOS!$A:$F,6,0)),"") -> 2 | F12: 20 | G12: =(F12/1000)*VLOOKUP($B12,CODIGOS!$A:$G,7,0) -> 0.02 | H12: =VLOOKUP($A12,CODIGOS!$B:$D,2,FALSE) -> 4975 | I12: =IF($H12="S/STOCK","",$J12/$I$3) -> 124.375 | J12: =IF(H12="S/STOCK","",IF($E12="",$D12*$H12,$E12*$H12)) -> 9950 | K12: =VLOOKUP($B12,CODIGOS!$A:$K,8,0)*$G12*1000 -> 70.6 | L12: =VLOOKUP($B12,CODIGOS!$A:$K,9,0)*$G12*1000 -> 8.02 | M12: =VLOOKUP($B12,CODIGOS!$A:$K,10,0)*$G12*1000 -> 0.02 | N12: =VLOOKUP($B12,CODIGOS!$A:$K,11,0)*$G12*1000 -> 9.58
A13: TE | B13: =VLOOKUP($A13,NSN!$A:$B,2,FALSE) -> C000827 | C13: =VLOOKUP($A13,CODIGOS!$B:$E,4,FALSE) -> KG | D13: =($F13*$I$3)/1000 -> 0.12 | E13: =IF(VLOOKUP($B13,CODIGOS!$A:$F,6,0)<>1000,(($F13*$I$3)/VLOOKUP($B13,CODIGOS!$A:$F,6,0)),"") | F13: 1.5 | G13: =(F13/1000)*VLOOKUP($B13,CODIGOS!$A:$G,7,0) -> 0.0015 | H13: =VLOOKUP($A13,CODIGOS!$B:$D,2,FALSE) -> 7800 | I13: =IF($H13="S/STOCK","",$J13/$I$3) -> 11.7 | J13: =IF(H13="S/STOCK","",IF($E13="",$D13*$H13,$E13*$H13)) -> 936 | K13: =VLOOKUP($B13,CODIGOS!$A:$K,8,0)*$G13*1000 -> 0.015 | L13: =VLOOKUP($B13,CODIGOS!$A:$K,9,0)*$G13*1000 -> 0 | M13: =VLOOKUP($B13,CODIGOS!$A:$K,10,0)*$G13*1000 -> 0 | N13: =VLOOKUP($B13,CODIGOS!$A:$K,11,0)*$G13*1000 -> 0.003
A14: CAFÉ INSTANTANEO | B14: =VLOOKUP($A14,NSN!$A:$B,2,FALSE) -> C000523 | C14: =VLOOKUP($A14,CODIGOS!$B:$E,4,FALSE) -> TA 400 gr | D14: =($F14*$I$3)/1000 -> 0.08 | E14: =IF(VLOOKUP($B14,CODIGOS!$A:$F,6,0)<>1000,(($F14*$I$3)/VLOOKUP($B14,CODIGOS!$A:$F,6,0)),"") -> 0.2 | F14: 1 | G14: =(F14/1000)*VLOOKUP($B14,CODIGOS!$A:$G,7,0) -> 0.001 | H14: =VLOOKUP($A14,CODIGOS!$B:$D,2,FALSE) -> 9990 | I14: =IF($H14="S/STOCK","",$J14/$I$3) -> 24.975 | J14: =IF(H14="S/STOCK","",IF($E14="",$D14*$H14,$E14*$H14)) -> 1998 | K14: =VLOOKUP($B14,CODIGOS!$A:$K,8,0)*$G14*1000 -> 2.61 | L14: =VLOOKUP($B14,CODIGOS!$A:$K,9,0)*$G14*1000 -> 0.164 | M14: =VLOOKUP($B14,CODIGOS!$A:$K,10,0)*$G14*1000 -> 0.001 | N14: =VLOOKUP($B14,CODIGOS!$A:$K,11,0)*$G14*1000 -> 0.49
A15: AZUCAR BLANCA REFINADA | B15: =VLOOKUP($A15,NSN!$A:$B,2,FALSE) -> C000816 | C15: =VLOOKUP($A15,CODIGOS!$B:$E,4,FALSE) -> KG | D15: =($F15*$I$3)/1000 -> 0.8 | E15: =IF(VLOOKUP($B15,CODIGOS!$A:$F,6,0)<>1000,(($F15*$I$3)/VLOOKUP($B15,CODIGOS!$A:$F,6,0)),"") | F15: 10 | G15: =(F15/1000)*VLOOKUP($B15,CODIGOS!$A:$G,7,0) -> 0.01 | H15: =VLOOKUP($A15,CODIGOS!$B:$D,2,FALSE) -> 1128 | I15: =IF($H15="S/STOCK","",$J15/$I$3) -> 11.28 | J15: =IF(H15="S/STOCK","",IF($E15="",$D15*$H15,$E15*$H15)) -> 902.4 | K15: =VLOOKUP($B15,CODIGOS!$A:$K,8,0)*$G15*1000 -> 39.8 | L15: =VLOOKUP($B15,CODIGOS!$A:$K,9,0)*$G15*1000 -> 0 | M15: =VLOOKUP($B15,CODIGOS!$A:$K,10,0)*$G15*1000 -> 0 | N15: =VLOOKUP($B15,CODIGOS!$A:$K,11,0)*$G15*1000 -> 9.95
A16: HUEVOS | B16: =VLOOKUP($A16,NSN!$A:$B,2,FALSE) -> V000148 | C16: =VLOOKUP($A16,CODIGOS!$B:$E,4,FALSE) -> NR 50 gr | D16: =($F16*$I$3)/1000 -> 4 | E16: =IF(VLOOKUP($B16,CODIGOS!$A:$F,6,0)<>1000,(($F16*$I$3)/VLOOKUP($B16,CODIGOS!$A:$F,6,0)),"") -> 80 | F16: 50 | G16: =(F16/1000)*VLOOKUP($B16,CODIGOS!$A:$G,7,0) -> 0.05 | H16: =VLOOKUP($A16,CODIGOS!$B:$D,2,FALSE) -> 253 | I16: =IF($H16="S/STOCK","",$J16/$I$3) -> 253 | J16: =IF(H16="S/STOCK","",IF($E16="",$D16*$H16,$E16*$H16)) -> 20240 | K16: =VLOOKUP($B16,CODIGOS!$A:$K,8,0)*$G16*1000 -> 80 | L16: =VLOOKUP($B16,CODIGOS!$A:$K,9,0)*$G16*1000 -> 6.75 | M16: =VLOOKUP($B16,CODIGOS!$A:$K,10,0)*$G16*1000 -> 5 | N16: =VLOOKUP($B16,CODIGOS!$A:$K,11,0)*$G16*1000 -> 0.2
A17: TOMATES NATURAL | B17: =VLOOKUP($A17,NSN!$A:$B,2,FALSE) -> V000317 | C17: =VLOOKUP($A17,CODIGOS!$B:$E,4,FALSE) -> KG | D17: =($F17*$I$3)/1000 -> 3.2 | E17: =IF(VLOOKUP($B17,CODIGOS!$A:$F,6,0)<>1000,(($F17*$I$3)/VLOOKUP($B17,CODIGOS!$A:$F,6,0)),"") | F17: 40 | G17: =(F17/1000)*VLOOKUP($B17,CODIGOS!$A:$G,7,0) -> 0.0378 | H17: =VLOOKUP($A17,CODIGOS!$B:$D,2,FALSE) -> 1669 | I17: =IF($H17="S/STOCK","",$J17/$I$3) -> 66.76 | J17: =IF(H17="S/STOCK","",IF($E17="",$D17*$H17,$E17*$H17)) -> 5340.8 | K17: =VLOOKUP($B17,CODIGOS!$A:$K,8,0)*$G17*1000 -> 7.56 | L17: =VLOOKUP($B17,CODIGOS!$A:$K,9,0)*$G17*1000 -> 0.3024 | M17: =VLOOKUP($B17,CODIGOS!$A:$K,10,0)*$G17*1000 -> 0.1512 | N17: =VLOOKUP($B17,CODIGOS!$A:$K,11,0)*$G17*1000 -> 1.2096
A18: ACEITE 900 ML | B18: =VLOOKUP($A18,NSN!$A:$B,2,FALSE) -> C902636 | C18: =VLOOKUP($A18,CODIGOS!$B:$E,4,FALSE) -> 900 ML | D18: =($F18*$I$3)/1000 -> 0.4 | E18: =IF(VLOOKUP($B18,CODIGOS!$A:$F,6,0)<>1000,(($F18*$I$3)/VLOOKUP($B18,CODIGOS!$A:$F,6,0)),"") -> 0.44444444 | F18: 5 | G18: =(F18/1000)*VLOOKUP($B18,CODIGOS!$A:$G,7,0) -> 0.005 | H18: =VLOOKUP($A18,CODIGOS!$B:$D,2,FALSE) -> 1500 | I18: =IF($H18="S/STOCK","",$J18/$I$3) -> 8.3333333 | J18: =IF(H18="S/STOCK","",IF($E18="",$D18*$H18,$E18*$H18)) -> 666.66667 | K18: =VLOOKUP($B18,CODIGOS!$A:$K,8,0)*$G18*1000 -> 44.2 | L18: =VLOOKUP($B18,CODIGOS!$A:$K,9,0)*$G18*1000 -> 0 | M18: =VLOOKUP($B18,CODIGOS!$A:$K,10,0)*$G18*1000 -> 5 | N18: =VLOOKUP($B18,CODIGOS!$A:$K,11,0)*$G18*1000 -> 0
A19: SAL | B19: =VLOOKUP($A19,NSN!$A:$B,2,FALSE) -> C000528 | C19: =VLOOKUP($A19,CODIGOS!$B:$E,4,FALSE) -> KG | D19: =($F19*$I$3)/1000 -> 0.04 | E19: =IF(VLOOKUP($B19,CODIGOS!$A:$F,6,0)<>1000,(($F19*$I$3)/VLOOKUP($B19,CODIGOS!$A:$F,6,0)),"") | F19: 0.5 | G19: =(F19/1000)*VLOOKUP($B19,CODIGOS!$A:$G,7,0) -> 0.0005 | H19: =VLOOKUP($A19,CODIGOS!$B:$D,2,FALSE) -> 375 | I19: =IF($H19="S/STOCK","",$J19/$I$3) -> 0.1875 | J19: =IF(H19="S/STOCK","",IF($E19="",$D19*$H19,$E19*$H19)) -> 15 | K19: =VLOOKUP($B19,CODIGOS!$A:$K,8,0)*$G19*1000 -> 0 | L19: =VLOOKUP($B19,CODIGOS!$A:$K,9,0)*$G19*1000 -> 0 | M19: =VLOOKUP($B19,CODIGOS!$A:$K,10,0)*$G19*1000 -> 0 | N19: =VLOOKUP($B19,CODIGOS!$A:$K,11,0)*$G19*1000 -> 0
A20: PAN | B20: =VLOOKUP($A20,NSN!$A:$B,2,FALSE) -> V000415 | C20: =VLOOKUP($A20,CODIGOS!$B:$E,4,FALSE) -> KG | D20: =($F20*$I$3)/1000 -> 8 | E20: =IF(VLOOKUP($B20,CODIGOS!$A:$F,6,0)<>1000,(($F20*$I$3)/VLOOKUP($B20,CODIGOS!$A:$F,6,0)),"") | F20: 100 | G20: =(F20/1000)*VLOOKUP($B20,CODIGOS!$A:$G,7,0) -> 0.1 | H20: =VLOOKUP($A20,CODIGOS!$B:$D,2,FALSE) -> 1783 | I20: =IF($H20="S/STOCK","",$J20/$I$3) -> 178.3 | J20: =IF(H20="S/STOCK","",IF($E20="",$D20*$H20,$E20*$H20)) -> 14264 | K20: =VLOOKUP($B20,CODIGOS!$A:$K,8,0)*$G20*1000 -> 315 | L20: =VLOOKUP($B20,CODIGOS!$A:$K,9,0)*$G20*1000 -> 8.2 | M20: =VLOOKUP($B20,CODIGOS!$A:$K,10,0)*$G20*1000 -> 4 | N20: =VLOOKUP($B20,CODIGOS!$A:$K,11,0)*$G20*1000 -> 61.6
I21: =SUM(I12:I20) -> 678.91083 | J21: =SUM(J12:J20) -> 54312.867 | K21: =SUM(K12:K20) -> 559.785 | L21: =SUM(L12:L20) -> 23.4364 | M21: =SUM(M12:M20) -> 14.1722 | N21: =SUM(N12:N20) -> 83.0326
A22: ALMUERZO
A23: REFRESCO FRAMBUESA | B23: =VLOOKUP($A23,NSN!$A:$B,2,FALSE) -> C902857 | C23: =VLOOKUP($A23,CODIGOS!$B:$E,4,FALSE) -> KG | D23: =($F23*$I$2)/1000 -> 1.2 | E23: =IF(VLOOKUP($B23,CODIGOS!$A:$F,6,0)<>1000,(($F23*$I$2)/VLOOKUP($B23,CODIGOS!$A:$F,6,0)),"") | F23: 6 | G23: =(F23/1000)*VLOOKUP($B23,CODIGOS!$A:$G,7,0) -> 0.006 | H23: =VLOOKUP($A23,CODIGOS!$B:$D,2,FALSE) -> 2941 | I23: =IF($H23="S/STOCK","",$J23/$I$2) -> 17.646 | J23: =IF(H23="S/STOCK","",IF($E23="",$D23*$H23,$E23*$H23)) -> 3529.2 | K23: =VLOOKUP($B23,CODIGOS!$A:$K,8,0)*$G23*1000 -> 21.54 | L23: =VLOOKUP($B23,CODIGOS!$A:$K,9,0)*$G23*1000 -> 0 | M23: =VLOOKUP($B23,CODIGOS!$A:$K,10,0)*$G23*1000 -> 0 | N23: =VLOOKUP($B23,CODIGOS!$A:$K,11,0)*$G23*1000 -> 5.376
A24: PAN | B24: =VLOOKUP($A24,NSN!$A:$B,2,FALSE) -> V000415 | C24: =VLOOKUP($A24,CODIGOS!$B:$E,4,FALSE) -> KG | D24: =($F24*$I$2)/1000 -> 10 | E24: =IF(VLOOKUP($B24,CODIGOS!$A:$F,6,0)<>1000,(($F24*$I$2)/VLOOKUP($B24,CODIGOS!$A:$F,6,0)),"") | F24: 50 | G24: =(F24/1000)*VLOOKUP($B24,CODIGOS!$A:$G,7,0) -> 0.05 | H24: =VLOOKUP($A24,CODIGOS!$B:$D,2,FALSE) -> 1783 | I24: =IF($H24="S/STOCK","",$J24/$I$2) -> 89.15 | J24: =IF(H24="S/STOCK","",IF($E24="",$D24*$H24,$E24*$H24)) -> 17830 | K24: =VLOOKUP($B24,CODIGOS!$A:$K,8,0)*$G24*1000 -> 157.5 | L24: =VLOOKUP($B24,CODIGOS!$A:$K,9,0)*$G24*1000 -> 4.1 | M24: =VLOOKUP($B24,CODIGOS!$A:$K,10,0)*$G24*1000 -> 2 | N24: =VLOOKUP($B24,CODIGOS!$A:$K,11,0)*$G24*1000 -> 30.8
A25: LECHUGA ESCAROLA | B25: =VLOOKUP($A25,NSN!$A:$B,2,FALSE) -> V000170 | C25: =VLOOKUP($A25,CODIGOS!$B:$E,4,FALSE) -> NR (650 g) | D25: =($F25*$I$2)/1000 -> 8 | E25: =IF(VLOOKUP($B25,CODIGOS!$A:$F,6,0)<>1000,(($F25*$I$2)/VLOOKUP($B25,CODIGOS!$A:$F,6,0)),"") -> 12.307692 | F25: 40 | G25: =(F25/1000)*VLOOKUP($B25,CODIGOS!$A:$G,7,0) -> 0.03824 | H25: =VLOOKUP($A25,CODIGOS!$B:$D,2,FALSE) -> 1190 | I25: =IF($H25="S/STOCK","",$J25/$I$2) -> 73.230769 | J25: =IF(H25="S/STOCK","",IF($E25="",$D25*$H25,$E25*$H25)) -> 14646.154 | K25: =VLOOKUP($B25,CODIGOS!$A:$K,8,0)*$G25*1000 -> 7.2656 | L25: =VLOOKUP($B25,CODIGOS!$A:$K,9,0)*$G25*1000 -> 0.65008 | M25: =VLOOKUP($B25,CODIGOS!$A:$K,10,0)*$G25*1000 -> 0.15296 | N25: =VLOOKUP($B25,CODIGOS!$A:$K,11,0)*$G25*1000 -> 0.84128
A26: CHOCLO GRANO CONGELADO | B26: =VLOOKUP($A26,NSN!$A:$B,2,FALSE) -> C903292 | C26: =VLOOKUP($A26,CODIGOS!$B:$E,4,FALSE) -> KG | D26: =($F26*$I$2)/1000 -> 12 | E26: =IF(VLOOKUP($B26,CODIGOS!$A:$F,6,0)<>1000,(($F26*$I$2)/VLOOKUP($B26,CODIGOS!$A:$F,6,0)),"") | F26: 60 | G26: =(F26/1000)*VLOOKUP($B26,CODIGOS!$A:$G,7,0) -> 0.06 | H26: =VLOOKUP($A26,CODIGOS!$B:$D,2,FALSE) -> 1874 | I26: =IF($H26="S/STOCK","",$J26/$I$2) -> 112.44 | J26: =IF(H26="S/STOCK","",IF($E26="",$D26*$H26,$E26*$H26)) -> 22488 | K26: =VLOOKUP($B26,CODIGOS!$A:$K,8,0)*$G26*1000 -> 48.6 | L26: =VLOOKUP($B26,CODIGOS!$A:$K,9,0)*$G26*1000 -> 1.8 | M26: =VLOOKUP($B26,CODIGOS!$A:$K,10,0)*$G26*1000 -> 0 | N26: =VLOOKUP($B26,CODIGOS!$A:$K,11,0)*$G26*1000 -> 12.3
