Workbook

Sheet Certamenes
L2: PROM PARCIAL
A3: N° CDTE | B3: NOMBRE | C3: Curso 2022 | D3: CPO Rev. Rec. | E3: Certamen 1 | I3: Certamen 2 | J3: Certamen 3 | L3: CUC | M3: Promedio
A4: 292 | B4: ABUMOHOR Calvo Diego Nicolás | C4: 1A | D4: 7.5 | E4: 4.2 | I4: 6 | J4: 6.1 | K4: 8.6 | L4: =CUC!N3 -> 8.205 | M4: =AVERAGE(D4:L4) -> 6.7675 | Q4: Nota Modificada (error al ingresar al SIGA) | U4: 6.1928
A5: 128 | B5: CÁRCAMO Elizalde Martin Osvaldo | C5: 1A | D5: 6.6 | E5: 7 | I5: 7.6 | J5: 6.1 | K5: 7.5 | L5: =CUC!N4 -> 5.658 | M5: =AVERAGE(D5:L5) -> 6.743 | U5: 6.4363333
A6: 335 | B6: CASTILLO Quijano Francisco Ulises | C6: 1A | D6: 6.2 | E6: 6.9 | I6: 5.5 | J6: 5 | K6: 5.8 | L6: =CUC!N5 -> 5.215 | M6: =AVERAGE(D6:L6) -> 5.7691667 | Q6: Certamen atrasado | U6: 5.663
A7: 348 | B7: CURILEF Barra Camila Belén | C7: 1A | D7: 7 | E7: 5.2 | I7: 6 | J7: 7.7 | K7: 8.4 | L7: =CUC!N6 -> 5.9983333 | M7: =AVERAGE(D7:L7) -> 6.7163889 | U7: 6.2225714
A8: 278 | B8: GARRIDO Fuentes Josefa Antonia | C8: 1A | D8: 9 | E8: 8.5 | I8: 6.6 | J8: 9.6 | K8: 9.5 | L8: =CUC!N7 -> 7.7316667 | M8: =AVERAGE(D8:L8) -> 8.4886111 | N8: E | U8: 8.1511429
A9: 35 | B9: HUGO Torres José Pedro | C9: 1A | D9: 9.6 | E9: 9.2 | I9: 9 | J9: 7.8 | K9: 9.4 | L9: =CUC!N8 -> 9.0283333 | M9: =AVERAGE(D9:L9) -> 9.0047222 | N9: E | U9: 8.8677143
A10: 281 | B10: LARA Sandoval Vicente Tomás | C10: 1A | D10: 9.3 | E10: 7.8 | I10: 7.1 | J10: 7 | K10: 7.9 | L10: =CUC!N9 -> 5.975 | M10: =AVERAGE(D10:L10) -> 7.5125 | U10: 7.3662857
A11: 301 | B11: LIRA Varela Rodolfo Benjamin | C11: 1A | D11: 8 | E11: 6.1 | I11: 4.9 | J11: 5.7 | K11: 8.5 | L11: =CUC!N10 -> 7.1183333 | M11: =AVERAGE(D11:L11) -> 6.7197222 | U11: 6.1888571
A12: 240 | B12: MARTÍN Herrera Francisco Guillermo Jose | C12: 1A | D12: 9.3 | E12: 7.9 | I12: 5.2 | J12: 5.1 | K12: 7.7 | L12: =CUC!N11 -> 6.078 | M12: =AVERAGE(D12:L12) -> 6.8796667 | U12: 6.5796667
A13: 285 | B13: MEDINA Vásquez Vicente Julio Ignacio | C13: 1A | D13: 6.8 | E13: 6 | I13: 7.8 | J13: 8.5 | K13: 9 | L13: =CUC!N12 -> 6.6433333 | M13: =AVERAGE(D13:L13) -> 7.4572222 | U13: 7.0302857
A14: 261 | B14: NAGLIERI Heise Renzo Alfonso | C14: 1A | D14: 8.1 | E14: 7.7 | I14: 7.2 | J14: 6.1 | K14: 8 | L14: =CUC!N13 -> 6.1483333 | M14: =AVERAGE(D14:L14) -> 7.2080556 | U14: 6.9025714
A15: 165 | B15: RIQUELME Ampuero Bastian Alejandro | C15: 1A | D15: 9.7 | E15: 8 | I15: 6.9 | J15: 7 | K15: 9.6 | L15: =CUC!N14 -> 7.356 | M15: =AVERAGE(D15:L15) -> 8.0926667 | U15: 7.6126667
A16: 332 | B16: RIVERA Sánchez Martín Gabriel | C16: 1A | D16: 7.2 | E16: 5.7 | I16: 7 | J16: 8.7 | K16: 9.1 | L16: =CUC!N15 -> 7.0116667 | M16: =AVERAGE(D16:L16) -> 7.4519444 | U16: 6.9791429
A17: 316 | B17: ZAPATA Aguayo Benjamin Enrique | C17: 1A | D17: 7 | E17: 4.7 | I17: 5.7 | J17: 4 | K17: 8.3 | L17: =CUC!N16 -> 4.535 | M17: =AVERAGE(D17:L17) -> 5.7058333 | U17: 5.1203333
A20: 27 | B20: ALESSANDRINI Gildemeister Miguel Luis | C20: 1B | D20: 8.3 | E20: 6.7 | I20: 6.6 | J20: 6.9 | L20: =CUC!N19 -> 4.195 | M20: =AVERAGE(D20:L20) -> 6.539 | U20: 6.6068
A21: 461 | B21: ALVAREZ Mondaca Monserrat | C21: 1B | D21: 7 | E21: 9.1 | I21: 9 | J21: 8.6 | L21: =CUC!N20 -> 7.7875 | M21: =AVERAGE(D21:L21) -> 8.2975 | N21: E | U21: 8.3485714
A22: 99 | B22: ANDRADE Gallardo Alejandro Andres | C22: 1B | D22: 7.2 | E22: 8.5 | I22: 8.5 | J22: 8.2 | L22: =CUC!N21 -> 7.6411111 | M22: =AVERAGE(D22:L22) -> 8.0082222 | N22: E | U22: 8.12425
A23: 437 | B23: ARAVENA Ibarra Martín | C23: 1B | D23: 8.6 | E23: 8.7 | I23: 9.6 | J23: 9.4 | L23: =CUC!N22 -> 9.48 | M23: =AVERAGE(D23:L23) -> 9.156 | N23: E | U23: 9.143
A24: 62 | B24: FABILA Muñoz Roberto Franco | C24: 1B | D24: 8.9 | E24: 9.2 | I24: 8.6 | J24: 9 | L24: =CUC!N23 -> 6.7611111 | M24: =AVERAGE(D24:L24) -> 8.4922222 | N24: E | U24: 8.47375
A25: 217 | B25: GONZALEZ Arenas Andrés Ignacio | C25: 1B | D25: 7.8 | E25: 6.6 | I25: 8.8 | J25: 7.8 | L25: =CUC!N24 -> 6.995 | M25: =AVERAGE(D25:L25) -> 7.599 | U25: 7.6702857
A26: 425 | B26: LÓPEZ González Alvaro Matías | C26: 1B | D26: 8.7 | E26: 9.2 | I26: 8.9 | J26: 9.1 | L26: =CUC!N25 -> 7.5922222 | M26: =AVERAGE(D26:L26) -> 8.6984444 | N26: E | U26: 8.77575
A27: 161 | B27: MALTEZ Jimenez Maximiliano Javier | C27: 1B | D27: 9.4 | E27: 9.1 | I27: 9.5 | J27: 9 | L27: =CUC!N26 -> 7.73625 | M27: =AVERAGE(D27:L27) -> 8.94725 | N27: E | U27: 8.9111429
A28: 64 | B28: MARTINEZ Cuevas Micaela Katrine | C28: 1B | D28: 7.9 | E28: 8.6 | I28: 8.9 | J28: 6.7 | L28: =CUC!N27 -> 4.5744444 | M28: =AVERAGE(D28:L28) -> 7.3348889 | U28: 7.36175
A29: 326 | B29: MATURANA Sanchez Dilan | C29: 1B | D29: 8.57 | E29: 9.5 | I29: 9.5 | J29: 9.2 | L29: =CUC!N28 -> 8.02125 | M29: =AVERAGE(D29:L29) -> 8.95825 | N29: E | U29: 8.9588571
A30: 239 | B30: MONTALVA Purcell Luis Agustín | C30: 1B | D30: 7 | E30: 7.5 | I30: 6.7 | J30: 5.7 | L30: =CUC!N29 -> 6.3466667 | M30: =AVERAGE(D30:L30) -> 6.6493333 | U30: 6.733
A31: 26 | B31: MORA Díaz Renato Patricio | C31: 1B | D31: 7.4 | E31: 8.9 | I31: 9.1 | J31: 8.2 | L31: =CUC!N30 -> 5.6155556 | M31: =AVERAGE(D31:L31) -> 7.8431111 | U31: 7.8335
A32: 270 | B32: PÉREZ Salaun Sebastián Andrés | C32: 1B | D32: 8.4 | E32: 8 | I32: 7.7 | J32: 6.1 | L32: =CUC!N31 -> 7.3044444 | M32: =AVERAGE(D32:L32) -> 7.5008889 | U32: 7.5085
A33: 262 | B33: SANCHEZ Barrera Benjamín | C33: 1B | D33: 7.9 | E33: 8.6 | I33: 9.4 | J33: 7.2 | L33: =CUC!N32 -> 7.9966667 | M33: =AVERAGE(D33:L33) -> 8.2193333 | N33: E | U33: 8.16925
A34: 248 | B34: VARGAS Romero Sebastian Javier | C34: 1B | D34: 9.5 | E34: 9.5 | I34: 9.3 | J34: 9.1 | L34: =CUC!N33 -> 7.56 | M34: =AVERAGE(D34:L34) -> 8.992 | N34: E | U34: 9.0185
A35: 129 | B35: VILLEGAS Muñoz Joaquín Sebastián | C35: 1B | D35: 7.7 | E35: 7.6 | I35: 8.5 | J35: 8 | L35: =CUC!N34 -> 7.3844444 | M35: =AVERAGE(D35:L35) -> 7.8368889 | U35: 7.809
A36: 181 | B36: YAEGER Leal Vicente Daniel | C36: 1B | D36: 9.5 | E36: 7.8 | I36: 7.9 | J36: 6 | L36: =CUC!N35 -> 6.5171429 | M36: =AVERAGE(D36:L36) -> 7.5434286 | U36: 7.5434286
A37: 246 | B37: ZILLER Garcia Alex Alfonso | C37: 1B | D37: 7.7 | E37: 5 | I37: 6 | J37: 4 | L37: =CUC!N36 -> 5.0142857 | M37: =AVERAGE(D37:L37) -> 5.5428571 | U37: 5.5428571
A40: 206 | B40: AUBAZARTT Velásquez Gerardo Gabriel | C40: 1C | D40: 6.9 | E40: 6.3 | I40: 8.6 | J40: 7.3 | L40: =CUC!N39 -> 5.6788889 | M40: =AVERAGE(D40:L40) -> 6.9557778 | U40: 6.99775
A41: 178 | B41: BOTTGER Moreira Martin Andreas | C41: 1C | D41: 7.3 | E41: 7.7 | I41: 8.4 | J41: 5.2 | L41: =CUC!N40 -> 5.735 | M41: =AVERAGE(D41:L41) -> 6.867 | U41: 6.9022857
A42: 182 | B42: CHAMORRO Merino Daniel Ignacio Antonio | C42: 1C | D42: 8.7 | E42: 7.6 | I42: 9.2 | J42: 9.2 | L42: =CUC!N41 -> 8.1177778 | M42: =AVERAGE(D42:L42) -> 8.5635556 | N42: E | U42: 8.7165
A43: 245 | B43: GONZALEZ Torres Camila Lissette | C43: 1C | D43: 5.1 | E43: 5.2 | I43: 8.2 | J43: 6.7 | L43: =CUC!N42 -> 5.2955556 | M43: =AVERAGE(D43:L43) -> 6.0991111 | U43: 6.1065
A44: 252 | B44: HOTT Contreras Tomás | C44: 1C | D44: 8.3 | E44: 8.2 | I44: 9.1 | J44: 9.2 | L44: =CUC!N43 -> 8.1214286 | M44: =AVERAGE(D44:L44) -> 8.5842857 | N44: E | U44: 8.5842857
A45: 124 | B45: LORCA Durán Camila Francisca | C45: 1C | D45: 7.2 | E45: 8.1 | I45: 8.7 | J45: 6.5 | L45: =CUC!N44 -> 7.1457143 | M45: =AVERAGE(D45:L45) -> 7.5291429 | U45: 7.584
...

Sheet CUC
A1: Curso | B1: ALUMNOS | C1: CUC 1 TRADIC Y COSTUMBRES | D1: CUC 2 Jerarquía y grados | E1: CUC 3 Uniformes OF y GM | F1: CUC 4 Medallas y Piochas | G1: CUC 5 Áreas de misión | H1: CUC 6 Org. Adminis. | I1: CUC 7 Org. Operativa | J1: CUC 8 ZZ.NN. | K1: CUC 9 Especial. Oficiales | L1: CUC 10 Org. Buque | N1: PROMEDIO
A3: 1A | B3: ABUMOHOR CALVO D. | C3: 7 | E3: 7.86 | F3: 7.96 | G3: - | I3: - | L3: 10 | N3: =AVERAGE(C3:L3) -> 8.205
A4: 1A | B4: CARCAMO ELIZALDE M. | C4: 2.5 | D4: 4 | E4: 4.29 | F4: 10 | G4: - | I4: - | L4: 7.5 | N4: =AVERAGE(C4:L4) -> 5.658
A5: 1A | B5: CASTILLO QUIJANO F. | C5: 2 | D5: 2 | E5: 4.29 | F5: 10 | G5: - | I5: 9 | L5: 4 | N5: =AVERAGE(C5:L5) -> 5.215
A6: 1A | B6: CURILEF BARRA C. | C6: 2.5 | E6: 5.71 | F6: 8.78 | G6: - | H6: 4.5 | I6: 7 | L6: 7.5 | N6: =AVERAGE(C6:L6) -> 5.9983333
A7: 1A | B7: GARRIDO FUENTES J. | C7: 5 | E7: 5 | F7: 9.39 | G7: - | H7: 9 | I7: 8 | L7: 10 | N7: =AVERAGE(C7:L7) -> 7.7316667
A8: 1A | B8: HUGO TORRES J. | C8: 10 | D8: 9 | E8: 8.57 | F8: 10 | G8: - | H8: 7.6 | L8: 9 | N8: =AVERAGE(C8:L8) -> 9.0283333
A9: 1A | B9: LARA SANDOVAL V. | C9: 5 | D9: 5 | F9: 7.35 | G9: - | H9: 4 | I9: 10 | L9: 4.5 | N9: =AVERAGE(C9:L9) -> 5.975
A10: 1A | B10: LIRA VARELA R. | D10: 6 | E10: 5.71 | F10: 10 | G10: - | H10: 5 | I10: 9 | L10: 7 | N10: =AVERAGE(C10:L10) -> 7.1183333
A11: 1A | B11: MARTIN HERRERA F. | C11: 5 | D11: 4 | E11: 5 | F11: 9.39 | G11: - | I11: 7 | N11: =AVERAGE(C11:L11) -> 6.078
A12: 1A | B12: MEDINA VASQUEZ V. | D12: 8 | E12: 4.29 | F12: 8.57 | G12: - | H12: 3 | I12: 8 | L12: 8 | N12: =AVERAGE(C12:L12) -> 6.6433333
A13: 1A | B13: NAGLIERI HEISE R. | C13: 2 | D13: 4 | E13: 10 | F13: 9.39 | G13: - | I13: 6 | L13: 5.5 | N13: =AVERAGE(C13:L13) -> 6.1483333
A14: 1A | B14: RIQUELME AMPUERO B. | C14: 7 | D14: 8 | E14: 5.71 | F14: 8.57 | G14: - | I14: - | L14: 7.5 | N14: =AVERAGE(C14:L14) -> 7.356
A15: 1A | B15: RIVERA SANCHEZ M. | C15: 5 | E15: 3.57 | F15: 10 | G15: - | H15: 6 | I15: 10 | L15: 7.5 | N15: =AVERAGE(C15:L15) -> 7.0116667
A16: 1A | B16: ZAPATA AGUAYO B. | C16: 4.5 | D16: 3 | E16: 2.14 | F16: 8.57 | G16: - | I16: 6 | L16: 3 | N16: =AVERAGE(C16:L16) -> 4.535
A18: Curso | B18: ALUMNOS | C18: CUC 1 TRADIC Y COSTUMBRES | D18: CUC 2 Jerarquía y grados | E18: CUC 3 Uniformes OF y GM | F18: CUC 4 Medallas y Piochas | G18: CUC 5 Áreas de misión | H18: CUC 6 Org. Adminis. | I18: CUC 7 Org. Operativa | J18: CUC 8 ZZ.NN. | K18: CUC 9 Especial. Oficiales | L18: CUC 10 Org. Buque | N18: PROMEDIO
A19: 1B | B19: ALESSANDRINI GILDEMEISTER M. | C19: 1 | D19: 4.67 | E19: 8.86 | F19: 4.64 | G19: 3.5 | J19: - | L19: 2.5 | N19: =AVERAGE(C19:L19) -> 4.195
A20: 1B | B20: ALVAREZ MONDACA M.(R) | C20: 7.5 | D20: 7 | F20: 7.5 | G20: 9.3 | I20: 10 | J20: 10 | K20: 5 | L20: 6 | N20: =AVERAGE(C20:L20) -> 7.7875
A21: 1B | B21: ANDRADE GALLARDO A. | C21: 7.5 | D21: 9.33 | E21: 5.14 | F21: 10 | G21: 9.3 | I21: 9 | J21: 9.5 | K21: 6 | L21: 3 | N21: =AVERAGE(C21:L21) -> 7.6411111
A22: 1B | B22: ARAVENA IBARRA M.(R) | C22: 10 | D22: 8.33 | E22: 10 | F22: 9.29 | G22: 9.7 | I22: 10 | J22: 10 | K22: 8 | L22: 10 | N22: =AVERAGE(C22:L22) -> 9.48
A23: 1B | B23: FABILA MUÑOZ R. | C23: 5 | D23: 5 | E23: 7.71 | F23: 9.64 | G23: 7 | I23: 7 | J23: 6 | K23: 6 | L23: 7.5 | N23: =AVERAGE(C23:L23) -> 6.7611111
A24: 1B | B24: GONZALEZ ARENAS A. | C24: 5 | D24: 9.67 | E24: 8.29 | F24: 10 | G24: 3.5 | I24: 9 | J24: - | K24: 6 | L24: 4.5 | N24: =AVERAGE(C24:L24) -> 6.995
A25: 1B | B25: LOPEZ GONZALEZ Á. | C25: 7.5 | D25: 7.33 | E25: 10 | F25: 10 | G25: 7 | I25: 10 | J25: 8 | K25: 4 | L25: 4.5 | N25: =AVERAGE(C25:L25) -> 7.5922222
A26: 1B | B26: MALTEZ JIMENEZ M. | C26: 7.5 | D26: 9.67 | E26: 5.43 | F26: 9.29 | G26: 7 | I26: 7 | J26: - | K26: 7 | L26: 9 | N26: =AVERAGE(C26:L26) -> 7.73625
A27: 1B | B27: MARTINEZ CUEVAS M. | C27: 7.5 | D27: 3.67 | E27: 5.71 | F27: 1.79 | G27: 2.5 | I27: 8 | J27: 6 | K27: 2.5 | L27: 3.5 | N27: =AVERAGE(C27:L27) -> 4.5744444
A28: 1B | B28: MATURANA SANCHEZ D.(R) | C28: 9.5 | D28: 7.67 | E28: 8 | F28: 10 | I28: 7 | J28: 7 | K28: 7 | L28: 8 | N28: =AVERAGE(C28:L28) -> 8.02125
A29: 1B | B29: MONTALVA PURCELL L. | C29: 7 | D29: 5.33 | E29: 6.86 | F29: 3.93 | G29: 10 | I29: 8 | J29: 8 | K29: 5 | L29: 3 | N29: =AVERAGE(C29:L29) -> 6.3466667
A30: 1B | B30: MORA DIAZ R. | C30: 3 | D30: 2.33 | E30: 5.71 | F30: 7.5 | G30: 8 | I30: 7 | J30: 7 | K30: 4 | L30: 6 | N30: =AVERAGE(C30:L30) -> 5.6155556
A31: 1B | B31: PEREZ SALAUN S. | C31: 5 | D31: 8.67 | E31: 7.43 | F31: 7.14 | G31: 6.5 | I31: 10 | J31: 9.5 | K31: 4.5 | L31: 7 | N31: =AVERAGE(C31:L31) -> 7.3044444
A32: 1B | B32: SANCHEZ BARRERA B.(R) | C32: 5 | D32: 9.33 | E32: 9.43 | F32: 8.21 | G32: 8 | I32: 8 | J32: 10 | K32: 4 | L32: 10 | N32: =AVERAGE(C32:L32) -> 7.9966667
A33: 1B | B33: VARGAS ROMERO S. | C33: 8.5 | D33: 8.33 | E33: 4.57 | F33: 9.64 | G33: 8.5 | I33: 10 | J33: 8 | K33: 4 | L33: 6.5 | N33: =AVERAGE(C33:L33) -> 7.56
A34: 1B | B34: VILLEGAS MUÑOZ J. | C34: 4 | D34: 7.33 | E34: 8.29 | F34: 9.64 | G34: 6.7 | I34: 9 | J34: 10 | K34: 3 | L34: 8.5 | N34: =AVERAGE(C34:L34) -> 7.3844444
A35: 1B | B35: YAEGER LEAL V. | C35: 7.5 | D35: 8.33 | F35: 6.79 | G35: 4 | I35: 8 | J35: 6 | K35: 5 | N35: =AVERAGE(C35:L35) -> 6.5171429
A36: 1B | B36: ZILLER GARCIA A. | C36: 4 | D36: 5.67 | F36: 3.93 | G36: 3.5 | I36: 7 | J36: 6 | K36: 5 | N36: =AVERAGE(C36:L36) -> 5.0142857
A38: Curso | B38: ALUMNOS | C38: CUC 1 TRADIC Y COSTUMBRES | D38: CUC 2 Jerarquía y grados | E38: CUC 3 Uniformes OF y GM | F38: CUC 4 Medallas y Piochas | G38: CUC 5 Áreas de misión | H38: CUC 6 Org. Adminis. | I38: CUC 7 Org. Operativa | J38: CUC 8 ZZ.NN. | K38: CUC 9 Especial. Oficiales | L38: CUC 10 Org. Buque | N38: PROMEDIO
A39: 1C | B39: AUBAZARTT VELASQUEZ G. | C39: 6.5 | D39: 5.33 | E39: 4.86 | F39: 7.14 | G39: 5 | I39: 6 | J39: 7.78 | K39: 4.5 | L39: 4 | N39: =AVERAGE(C39:L39) -> 5.6788889
A40: 1C | B40: BOTTGER MOREIRA M. | C40: 2.5 | D40: 2.67 | E40: 3.71 | F40: 10 | I40: 8 | J40: 10 | K40: 4.5 | L40: 4.5 | N40: =AVERAGE(C40:L40) -> 5.735
A41: 1C | B41: CHAMORRO MERINO D. | C41: 10 | D41: 8.67 | E41: 9.43 | F41: 8.57 | G41: 7.5 | I41: 10 | J41: 8.89 | K41: 8 | L41: 2 | N41: =AVERAGE(C41:L41) -> 8.1177778
A42: 1C | B42: GONZALEZ TORRES C. | C42: 6.5 | D42: 3.33 | E42: 5.43 | F42: 5.51 | G42: 3 | I42: 6 | J42: 8.89 | K42: 4 | L42: 5 | N42: =AVERAGE(C42:L42) -> 5.2955556
A43: 1C | B43: HOTT CONTRERAS T.(R) | C43: 6.5 | D43: 8 | E43: 10 | F43: 7.96 | I43: 10 | J43: 8.89 | K43: 5.5 | N43: =AVERAGE(C43:L43) -> 8.1214286
...

Sheet Hoja1
