Workbook

Sheet Certamenes
L2: PROM PARCIAL
A3: N° CDTE | B3: NOMBRE | C3: Curso 2022 | D3: CPO Rev. Rec. | E3: Certamen 1 | I3: Certamen 2 | J3: Certamen 3 | L3: CUC | M3: Promedio
A4: 292 | B4: ABUMOHOR Calvo Diego Nicolás | C4: 1A | D4: 7.5 | E4: 4.2 | I4: 6 | J4: 6.1 | K4: 8.6 | L4: =CUC!N3 -> 8.205 | M4: =AVERAGE(D4:L4) -> 6.7675 | Q4: Nota Modificada (error al ingresar al SIGA) | U4: 6.1928
A5: 128 | B5: CÁRCAMO Elizalde Martin Osvaldo | C5: 1A | D5: 6.6 | E5: 7 | I5: 7.6 | J5: 6.1 | K5: 7.5 | L5: =CUC!N4 -> 5.658 | M5: =AVERAGE(D5:L5) -> 6.743 | U5: 6.4363333
A6: 335 | B6: CASTILLO Quijano Francisco Ulises | C6: 1A | D6: 6.2 | E6: 6.9 | I6: 5.5 | J6: 5 | K6: 5.8 | L6: =CUC!N5 -> 5.215 | M6: =AVERAGE(D6:L6) -> 5.7691667 | Q6: Certamen atrasado | U6: 5.663
A7: 348 | B7: CURILEF Barra Camila Belén | C7: 1A | D7: 7 | E7: 5.2 | I7: 6 | J7: 7.7 | K7: 8.4 | L7: =CUC!N6 -> 5.9983333 | M7: =AVERAGE(D7:L7) -> 6.7163889 | U7: 6.2225714
A8: 278 | B8: GARRIDO Fuentes Josefa Antonia | C8: 1A | D8: 9 | E8: 8.5 | I8: 6.6 | J8: 9.6 | K8: 9.5 | L8: =CUC!N7 -> 7.7316667 | M8: =AVERAGE(D8:L8) -> 8.4886111 | N8: E | U8: 8.1511429
A9: 35 | B9: HUGO Torres José Pedro | C9: 1A | D9: 9.6 | E9: 9.2 | I9: 9 | J9: 7.8 | K9: 9.4 | L9: =CUC!N8 -> 9.0283333 | M9: =AVERAGE(D9:L9) -> 9.0047222 | N9: E | U9: 8.8677143
A10: 281 | B10: LARA Sandoval Vicente Tomás | C10: 1A | D10: 9.3 | E10: 7.8 | I10: 7.1 | J10: 7 | K10: 7.9 | L10: =CUC!N9 -> 5.975 | M10: =AVERAGE(D10:L10) -> 7.5125 | U10: 7.3662857
A11: 301 | B11: LIRA Varela Rodolfo Benjamin | C11: 1A | D11: 8 | E11: 6.1 | I11: 4.9 | J11: 5.7 | K11: 8.5 | L11: =CUC!N10 -> 7.1183333 | M11: =AVERAGE(D11:L11) -> 6.7197222 | U11: 6.1888571
A12: 240 | B12: MARTÍN Herrera Francisco Guillermo Jose | C12: 1A | D12: 9.3 | E12: 7.9 | I12: 5.2 | J12: 5.1 | K12: 7.7 | L12: =CUC!N11 -> 6.078 | M12: =AVERAGE(D12:L12) -> 6.8796667 | U12: 6.5796667
A13: 285 | B13: MEDINA Vásquez Vicente Julio Ignacio | C13: 1A | D13: 6.8 | E13: 6 | I13: 7.8 | J13: 8.5 | K13: 9 | L13: =CUC!N12 -> 6.6433333 | M13: =AVERAGE(D13:L13) -> 7.4572222 | U13: 7.0302857
A14: 261 | B14: NAGLIERI Heise Renzo Alfonso | C14: 1A | D14: 8.1 | E14: 7.7 | I14: 7.2 | J14: 6.1 | K14: 8 | L14: =CUC!N13 -> 6.1483333 | M14: =AVERAGE(D14:L14) -> 7.2080556 | U14: 6.9025714
A15: 165 | B15: RIQUELME Ampuero Bastian Alejandro | C15: 1A | D15: 9.7 | E15: 8 | I15: 6.9 | J15: 7 | K15: 9.6 | L15: =CUC!N14 -> 7.356 | M15: =AVERAGE(D15:L15) -> 8.0926667 | U15: 7.6126667
A16: 332 | B16: RIVERA Sánchez Martín Gabriel | C16: 1A | D16: 7.2 | E16: 5.7 | I16: 7 | J16: 8.7 | K16: 9.1 | L16: =CUC!N15 -> 7.0116667 | M16: =AVERAGE(D16:L16) -> 7.4519444 | U16: 6.9791429
A17: 316 | B17: ZAPATA Aguayo Benjamin Enrique | C17: 1A | D17: 7 | E17: 4.7 | I17: 5.7 | J17: 4 | K17: 8.3 | L17: =CUC!N16 -> 4.535 | M17: =AVERAGE(D17:L17) -> 5.7058333 | U17: 5.1203333
A20: 27 | B20: ALESSANDRINI Gildemeister Miguel Luis | C20: 1B | D20: 8.3 | E20: 6.7 | I20: 6.6 | J20: 6.9 | L20: =CUC!N19 -> 4.195 | M20: =AVERAGE(D20:L20) -> 6.539 | U20: 6.6068
A21: 461 | B21: ALVAREZ Mondaca Monserrat | C21: 1B | D21: 7 | E21: 9.1 | I21: 9 | J21: 8.6 | L21: =CUC!N20 -> 7.7875 | M21: =AVERAGE(D21:L21) -> 8.2975 | N21: E | U21: 8.3485714
A22: 99 | B22: ANDRADE Gallardo Alejandro Andres | C22: 1B | D22: 7.2 | E22: 8.5 | I22: 8.5 | J22: 8.2 | L22: =CUC!N21 -> 7.6411111 | M22: =AVERAGE(D22:L22) -> 8.0082222 | N22: E | U22: 8.12425
A23: 437 | B23: ARAVENA Ibarra Martín | C23: 1B | D23: 8.6 | E23: 8.7 | I23: 9.6 | J23: 9.4 | L23: =CUC!N22 -> 9.48 | M23: =AVERAGE(D23:L23) -> 9.156 | N23: E | U23: 9.143
A24: 62 | B24: FABILA Muñoz Roberto Franco | C24: 1B | D24: 8.9 | E24: 9.2 | I24: 8.6 | J24: 9 | L24: =CUC!N23 -> 6.7611111 | M24: =AVERAGE(D24:L24) -> 8.4922222 | N24: E | U24: 8.47375
A25: 217 | B25: GONZALEZ Arenas Andrés Ignacio | C25: 1B | D25: 7.8 | E25: 6.6 | I25: 8.8 | J25: 7.8 | L25: =CUC!N24 -> 6.995 | M25: =AVERAGE(D25:L25) -> 7.599 | U25: 7.6702857
A26: 425 | B26: LÓPEZ González Alvaro Matías | C26: 1B | D26: 8.7 | E26: 9.2 | I26: 8.9 | J26: 9.1 | L26: =CUC!N25 -> 7.5922222 | M26: =AVERAGE(D26:L26) -> 8.6984444 | N26: E | U26: 8.77575
A27: 161 | B27: MALTEZ Jimenez Maximiliano Javier | C27: 1B | D27: 9.4 | E27: 9.1 | I27: 9.5 | J27: 9 | L27: =CUC!N26 -> 7.73625 | M27: =AVERAGE(D27:L27) -> 8.94725 | N27: E | U27: 8.9111429
A28: 64 | B28: MARTINEZ Cuevas Micaela Katrine | C28: 1B | D28: 7.9 | E28: 8.6 | I28: 8.9 | J28: 6.7 | L28: =CUC!N27 -> 4.5744444 | M28: =AVERAGE(D28:L28) -> 7.3348889 | U28: 7.36175
A29: 326 | B29: MATURANA Sanchez Dilan | C29: 1B | D29: 8.57 | E29: 9.5 | I29: 9.5 | J29: 9.2 | L29: =CUC!N28 -> 8.02125 | M29: =AVERAGE(D29:L29) -> 8.95825 | N29: E | U29: 8.9588571
A30: 239 | B30: MONTALVA Purcell Luis Agustín | C30: 1B | D30: 7 | E30: 7.5 | I30: 6.7 | J30: 5.7 | L30: =CUC!N29 -> 6.3466667 | M30: =AVERAGE(D30:L30) -> 6.6493333 | U30: 6.733
A31: 26 | B31: MORA Díaz Renato Patricio | C31: 1B | D31: 7.4 | E31: 8.9 | I31: 9.1 | J31: 8.2 | L31: =CUC!N30 -> 5.6155556 | M31: =AVERAGE(D31:L31) -> 7.8431111 | U31: 7.8335
A32: 270 | B32: PÉREZ Salaun Sebastián Andrés | C32: 1B | D32: 8.4 | E32: 8 | I32: 7.7 | J32: 6.1 | L32: =CUC!N31 -> 7.3044444 | M32: =AVERAGE(D32:L32) -> 7.5008889 | U32: 7.5085
A33: 262 | B33: SANCHEZ Barrera Benjamín | C33: 1B | D33: 7.9 | E33: 8.6 | I33: 9.4 | J33: 7.2 | L33: =CUC!N32 -> 7.9966667 | M33: =AVERAGE(D33:L33) -> 8.2193333 | N33: E | U33: 8.16925
A34: 248 | B34: VARGAS Romero Sebastian Javier | C34: 1B | D34: 9.5 | E34: 9.5 | I34: 9.3 | J34: 9.1 | L34: =CUC!N33 -> 7.56 | M34: =AVERAGE(D34:L34) -> 8.992 | N34: E | U34: 9.0185
A35: 129 | B35: VILLEGAS Muñoz Joaquín Sebastián | C35: 1B | D35: 7.7 | E35: 7.6 | I35: 8.5 | J35: 8 | L35: =CUC!N34 -> 7.3844444 | M35: =AVERAGE(D35:L35) -> 7.8368889 | U35: 7.809
A36: 181 | B36: YAEGER Leal Vicente Daniel | C36: 1B | D36: 9.5 | E36: 7.8 | I36: 7.9 | J36: 6 | L36: =CUC!N35 -> 6.5171429 | M36: =AVERAGE(D36:L36) -> 7.5434286 | U36: 7.5434286
A37: 246 | B37: ZILLER Garcia Alex Alfonso | C37: 1B | D37: 7.7 | E37: 5 | I37: 6 | J37: 4 | L37: =CUC!N36 -> 5.0142857 | M37: =AVERAGE(D37:L37) -> 5.5428571 | U37: 5.5428571
A40: 206 | B40: AUBAZARTT Velásquez Gerardo Gabriel | C40: 1C | D40: 6.9 | E40: 6.3 | I40: 8.6 | J40: 7.3 | L40: =CUC!N39 -> 5.6788889 | M40: =AVERAGE(D40:L40) -> 6.9557778 | U40: 6.99775
A41: 178 | B41: BOTTGER Moreira Martin Andreas | C41: 1C | D41: 7.3 | E41: 7.7 | I41: 8.4 | J41: 5.2 | L41: =CUC!N40 -> 5.735 | M41: =AVERAGE(D41:L41) -> 6.867 | U41: 6.9022857
A42: 182 | B42: CHAMORRO Merino Daniel Ignacio Antonio | C42: 1C | D42: 8.7 | E42: 7.6 | I42: 9.2 | J42: 9.2 | L42: =CUC!N41 -> 8.1177778 | M42: =AVERAGE(D42:L42) -> 8.5635556 | N42: E | U42: 8.7165
A43: 245 | B43: GONZALEZ Torres Camila Lissette | C43: 1C | D43: 5.1 | E43: 5.2 | I43: 8.2 | J43: 6.7 | L43: =CUC!N42 -> 5.2955556 | M43: =AVERAGE(D43:L43) -> 6.0991111 | U43: 6.1065
A44: 252 | B44: HOTT Contreras Tomás | C44: 1C | D44: 8.3 | E44: 8.2 | I44: 9.1 | J44: 9.2 | L44: =CUC!N43 -> 8.1214286 | M44: =AVERAGE(D44:L44) -> 8.5842857 | N44: E | U44: 8.5842857
A45: 124 | B45: LORCA Durán Camila Francisca | C45: 1C | D45: 7.2 | E45: 8.1 | I45: 8.7 | J45: 6.5 | L45: =CUC!N44 -> 7.1457143 | M45: =AVERAGE(D45:L45) -> 7.5291429 | U45: 7.584
A46: 25 | B46: LOZANO Torres Clemente Antonio | C46: 1C | D46: 9.1 | E46: 7.5 | I46: 8.3 | J46: 9 | L46: =CUC!N45 -> 7.5466667 | M46: =AVERAGE(D46:L46) -> 8.2893333 | N46: E | U46: 8.2905
A47: 257 | B47: MAC-NAMARA González Celeste Trinidad | C47: 1C | D47: 8.8 | E47: 7 | I47: 7.2 | J47: 8.8 | L47: =CUC!N46 -> 7.3216667 | M47: =AVERAGE(D47:L47) -> 7.8243333 | U47: 7.8243333
A48: 360 | B48: MARTINEZ Martinez Simón | C48: 1C | D48: 8.6 | E48: 8.2 | I48: 7.8 | J48: 8.9 | L48: =CUC!N47 -> 7.59125 | M48: =AVERAGE(D48:L48) -> 8.21825 | N48: E | U48: 8.21825
A49: 36 | B49: MASSO Linco Julián Tomás | C49: 1C | D49: 9.3 | E49: 9.5 | I49: 9.4 | J49: 8.9 | L49: =CUC!N48 -> 8.5542857 | M49: =AVERAGE(D49:L49) -> 9.1308571 | N49: E | U49: 9.1308571
A50: 28 | B50: MELLA Aguilera Gabriela Carmen | C50: 1C | D50: 9.2 | E50: 7.4 | I50: 8.6 | L50: =CUC!N49 -> 5.808 | M50: =AVERAGE(D50:L50) -> 7.752 | U50: 7.752
A51: 98 | B51: MERCADO Marchant Martín Sebastián | C51: 1C | D51: 7.2 | E51: 3.9 | I51: 9.5 | J51: 8.6 | L51: =CUC!N50 -> 7.68125 | M51: =AVERAGE(D51:L51) -> 7.37625 | U51: 7.4242857
A52: 361 | B52: PARADA Yunis Adrián | C52: 1C | D52: 8.1 | E52: 8.7 | I52: 8.4 | J52: 8.2 | L52: =CUC!N51 -> 8.48875 | M52: =AVERAGE(D52:L52) -> 8.37775 | N52: E | U52: 8.4117143
A53: 329 | B53: PARRA Ávalos Andrés | C53: 1C | D53: 8.8 | E53: 8.1 | I53: 8.9 | J53: 8.4 | L53: =CUC!N52 -> 8.2675 | M53: =AVERAGE(D53:L53) -> 8.4935 | N53: E | U53: 8.4582857
A54: 295 | B54: RIQUELME Campos Carolina Ximena | C54: 1C | D54: 5.7 | E54: 6.5 | I54: 8.1 | J54: 5.2 | L54: =CUC!N53 -> 6.05 | M54: =AVERAGE(D54:L54) -> 6.31 | U54: 6.2828571
A55: 218 | B55: VARGAS Medina Carlos Alberto | C55: 1C | D55: 9.4 | E55: 8.4 | I55: 9.7 | J55: 8.6 | L55: =CUC!N54 -> 8.0288889 | M55: =AVERAGE(D55:L55) -> 8.8257778 | N55: E | U55: 8.7765
A56: 137 | B56: VERA Ulloa Alberto Sebastián | C56: 1C | D56: 9.4 | E56: 7.7 | I56: 9.3 | J56: 8.6 | L56: =CUC!N55 -> 8.7175 | M56: =AVERAGE(D56:L56) -> 8.7435 | N56: E | U56: 8.7211429
A57: 319 | B57: VERGARA Uriarte Vicente Andres | C57: 1C | D57: 9 | E57: 8.3 | I57: 8.8 | J57: 8.6 | L57: =CUC!N56 -> 5.6466667 | M57: =AVERAGE(D57:L57) -> 8.0693333 | N57: E | U57: 8.1105
A58: 65 | B58: ZÚÑIGA Herlitz Martín Ignacio | C58: 1C | D58: 9.7 | E58: 9.5 | I58: 9.6 | J58: 8.7 | L58: =CUC!N57 -> 7.0144444 | M58: =AVERAGE(D58:L58) -> 8.9028889 | N58: E | U58: 9.00325
A61: 211 | B61: ANCALEF San Martín Nicolás | C61: 1D | D61: 7.8 | E61: 8.1 | I61: 8 | J61: 6.5 | L61: =CUC!N60 -> 6.1388889 | M61: =AVERAGE(D61:L61) -> 7.3077778 | U61: 7.38625
A62: 148 | B62: ARDILES Rosas Vicente | C62: 1D | D62: 8.9 | E62: 8.3 | I62: 9.1 | J62: 8.8 | L62: =CUC!N61 -> 8.06 | M62: =AVERAGE(D62:L62) -> 8.632 | N62: E | U62: 8.6194286
A63: 30 | B63: ARENAS Gajardo Ignacio Andres | C63: 1D | D63: 8.2 | E63: 8.1 | I63: 9 | J63: 7.7 | L63: =CUC!N62 -> 6.3466667 | M63: =AVERAGE(D63:L63) -> 7.8693333 | U63: 7.8693333
A64: 20 | B64: BAASCH Scheel Robert | C64: 1D | D64: 9.7 | E64: 8.7 | I64: 9.5 | J64: 9.2 | L64: =CUC!N63 -> 8.19 | M64: =AVERAGE(D64:L64) -> 9.058 | N64: E | U64: 9.0476667
A65: 280 | B65: ESTRADA Navarro Cristóbal Alonso | C65: 1D | D65: 7.9 | E65: 8.1 | I65: 9.3 | J65: 8.9 | L65: =CUC!N64 -> 6.2555556 | M65: =AVERAGE(D65:L65) -> 8.0911111 | N65: E | U65: 8.0225
A66: 7 | B66: FERNÁNDEZ Sepúlveda Christian Sebastián | C66: 1D | D66: 8.4 | E66: 7.5 | I66: 8.9 | J66: 9.5 | L66: =CUC!N65 -> 8.1088889 | M66: =AVERAGE(D66:L66) -> 8.4817778 | N66: E | U66: 8.4595
A67: 123 | B67: FUENTES González Alicia Valentina | C67: 1D | D67: 7.6 | E67: 6.4 | I67: 8.9 | J67: 8.2 | L67: =CUC!N66 -> 6.86375 | M67: =AVERAGE(D67:L67) -> 7.59275 | U67: 7.59275
A68: 21 | B68: GONZALEZ Campos Claudio Estaban | C68: 1D | D68: 9.7 | E68: 9.4 | I68: 9.5 | J68: 9.8 | L68: =CUC!N67 -> 7.96875 | M68: =AVERAGE(D68:L68) -> 9.27375 | N68: E | U68: 9.27375
A69: 323 | B69: MUÑOZ Montero Catalina Ignacia | C69: 1D | D69: 8.3 | E69: 5.4 | I69: 6.9 | J69: 8.8 | L69: =CUC!N68 -> 4.46 | M69: =AVERAGE(D69:L69) -> 6.772 | U69: 6.821
A70: 223 | B70: MUÑOZ Rozas Luis Ignacio | C70: 1D | D70: 7.4 | E70: 8.8 | I70: 7.9 | J70: 9 | L70: =CUC!N69 -> 6.1842857 | M70: =AVERAGE(D70:L70) -> 7.8568571 | U70: 7.8568571
A71: 71 | B71: PEÑA Cabrera Eduardo Andrés | C71: 1D | D71: 7.9 | E71: 7.4 | I71: 7 | J71: 5.9 | L71: =CUC!N70 -> 7.74 | M71: =AVERAGE(D71:L71) -> 7.188 | U71: 7.1315
A72: 50 | B72: PONCE Lagos Bárbara Andrea | C72: 1D | D72: 6.9 | E72: 4.1 | I72: 8.2 | J72: 7.9 | L72: =CUC!N71 -> 5.675 | M72: =AVERAGE(D72:L72) -> 6.555 | U72: 6.555
A73: 284 | B73: QUIJADA Fuenzalida Fernanda | C73: 1D | D73: 6.8 | E73: 6.9 | I73: 6.8 | J73: 6.6 | L73: =CUC!N72 -> 6.3377778 | M73: =AVERAGE(D73:L73) -> 6.6875556 | U73: 6.646
A74: 113 | B74: RAMÍREZ Navarro Fabián Eliecer | C74: 1D | D74: 7.9 | E74: 4 | I74: 7.7 | J74: 8.9 | L74: =CUC!N73 -> 6.64375 | M74: =AVERAGE(D74:L74) -> 7.02875 | U74: 6.9328571
A75: 354 | B75: SALDÍAS Munzenmayer Víctor Ignacio | C75: 1D | D75: 7.3 | E75: 4.3 | I75: 7.1 | J75: 7.1 | L75: =CUC!N74 -> 4.8844444 | M75: =AVERAGE(D75:L75) -> 6.1368889 | U75: 6.159
A76: 438 | B76: SANDOVAL Galdámez Agustín Renato | C76: 1D | D76: 8.1 | E76: 5.7 | I76: 7.1 | J76: 8 | L76: =CUC!N75 -> 5.4157143 | M76: =AVERAGE(D76:L76) -> 6.8631429 | U76: 6.777
A77: 79 | B77: VALDÉS Cortez Benjamín | C77: 1D | D77: 7.1 | E77: 6.4 | I77: 4.5 | J77: 5.3 | L77: =CUC!N76 -> 5.9111111 | M77: =AVERAGE(D77:L77) -> 5.8422222 | U77: 5.79
A80: 40 | B80: ÁLVAREZ Boero Paula | C80: 1E | D80: 7.3 | E80: 5.1 | I80: 8.9 | J80: 7.5 | L80: =CUC!N79 -> 5.8128571 | M80: =AVERAGE(D80:L80) -> 6.9225714 | U80: 6.8496667
A81: 187 | B81: AMIGO Araya Vicente Ignacio | C81: 1E | D81: 9.5 | E81: 8.4 | I81: 9.2 | J81: 8.1 | L81: =CUC!N80 -> 7.995 | M81: =AVERAGE(D81:L81) -> 8.639 | N81: E | U81: 8.6388571
A82: 203 | B82: ARIAS Rojas Ignacio | C82: 1E | D82: 7.1 | E82: 8.4 | I82: 8 | J82: 8.6 | L82: =CUC!N81 -> 7.1214286 | M82: =AVERAGE(D82:L82) -> 7.8442857 | U82: 7.8442857
A83: 324 | B83: BURGOS Marambio Lisbeth Scarleth | C83: 1E | D83: 6.2 | E83: 6.3 | I83: 6.6 | J83: 5.6 | L83: =CUC!N82 -> 6.4325 | M83: =AVERAGE(D83:L83) -> 6.2265 | U83: 6.1674286
A84: 204 | B84: CEPEDA Rivera Vania | C84: 1E | D84: 8.3 | E84: 7.4 | I84: 8.9 | J84: 8.2 | L84: =CUC!N83 -> 7.51875 | M84: =AVERAGE(D84:L84) -> 8.06375 | N84: E | U84: 8.1071429
A85: 150 | B85: DIAZ Cardenas Tiare Antonia | C85: 1E | D85: 7.2 | E85: 7 | I85: 8.8 | J85: 6.7 | L85: =CUC!N84 -> 7.0271429 | M85: =AVERAGE(D85:L85) -> 7.3454286 | U85: 7.313
A86: 91 | B86: FLORES Castro Juan José | C86: 1E | D86: 8.8 | E86: 9.2 | I86: 9.7 | J86: 9.2 | L86: =CUC!N85 -> 8.33625 | M86: =AVERAGE(D86:L86) -> 9.04725 | N86: E | U86: 9.0282857
A87: 13 | B87: FUENTES Fernandez Valentina Andrea | C87: 1E | D87: 6.4 | E87: 7.9 | I87: 9 | J87: 6.4 | L87: =CUC!N86 -> 6.05 | M87: =AVERAGE(D87:L87) -> 7.15 | U87: 7.035
A88: 78 | B88: GALLARDO Castillo Ignacio Andrés | C88: 1E | D88: 7.2 | E88: 7.5 | I88: 8.2 | J88: 7.1 | L88: =CUC!N87 -> 5.3414286 | M88: =AVERAGE(D88:L88) -> 7.0682857 | U88: 6.9963333
A89: 224 | B89: ITURRIAGA Aránguiz Tomás Alejandro | C89: 1E | D89: 6.2 | E89: 8.7 | I89: 7.3 | J89: 8.9 | L89: =CUC!N88 -> 6.735 | M89: =AVERAGE(D89:L89) -> 7.567 | U89: 7.5594286
A90: 427 | B90: MALDONADO Manriquez David | C90: 1E | D90: 8 | E90: 8.9 | I90: 9.4 | J90: 8.2 | L90: =CUC!N89 -> 8.5975 | M90: =AVERAGE(D90:L90) -> 8.6195 | N90: E | U90: 8.608
A91: 210 | B91: MARTINEZ Escobar Ignacio Esteban | C91: 1E | D91: 8.4 | E91: 7 | I91: 7.1 | J91: 5.6 | L91: =CUC!N90 -> 7.98625 | M91: =AVERAGE(D91:L91) -> 7.21725 | U91: 7.1882857
A92: 412 | B92: MARULANDA Reyes Julián David | C92: 1E | D92: 8.9 | E92: 8.9 | I92: 7.9 | J92: 7 | L92: =CUC!N91 -> 7.9166667 | M92: =AVERAGE(D92:L92) -> 8.1233333 | N92: E | U92: 8.1
A93: 46 | B93: ORTIZ Carvajal Matías Ignacio | C93: 1E | D93: 7.6 | E93: 9.3 | I93: 8.5 | J93: 8.7 | L93: =CUC!N92 -> 6.4725 | M93: =AVERAGE(D93:L93) -> 8.1145 | N93: E | U93: 8.0994286
A94: 349 | B94: PAZZARO Freire Giovanni Marcelo | C94: 1E | D94: 7.2 | E94: 9.2 | I94: 4.7 | J94: 7.1 | L94: =CUC!N93 -> 6.27 | M94: =AVERAGE(D94:L94) -> 6.894 | U94: 6.9017143
A95: 119 | B95: QUINTEROS Fajardo Fernando Joel | C95: 1E | D95: 8 | E95: 9.5 | I95: 8.2 | J95: 7.9 | L95: =CUC!N94 -> 6.5625 | M95: =AVERAGE(D95:L95) -> 8.0325 | N95: E | U95: 7.9914286
A96: 478 | B96: RIQUELME Campos Cesar | C96: 1E | D96: 8.3 | E96: 8.2 | I96: 8.6 | J96: 7.9 | L96: =CUC!N95 -> 7.67375 | M96: =AVERAGE(D96:L96) -> 8.13475 | N96: E | U96: 8.1111429
A97: 115 | B97: VACCAREZZA Silva Enzo Gianlucca | C97: 1E | D97: 8.1 | E97: 9.3 | I97: 8.4 | J97: 7.1 | L97: =CUC!N96 -> 8.1428571 | M97: =AVERAGE(D97:L97) -> 8.2085714 | N97: E | U97: 8.2133333
A98: 18 | B98: VALENZUELA Yubano Jorge Ignacio | C98: 1E | D98: 8.1 | E98: 7.8 | I98: 9.1 | J98: 7.8 | L98: =CUC!N97 -> 6.8325 | M98: =AVERAGE(D98:L98) -> 7.9265 | U98: 7.8931429
A99: 365 | B99: VALLEJOS Ayala Felipe | C99: 1E | D99: 8.5 | E99: 8.6 | I99: 8.2 | J99: 7.4 | L99: =CUC!N98 -> 7.1471429 | M99: =AVERAGE(D99:L99) -> 7.9694286 | N99: E | U99: 8.0743333
A102: 528 | B102: CABELLO Schade Francisco Ignacio | C102: 1H | D102: 7.6 | E102: 8.1 | I102: 8.9 | J102: 7 | L102: =CUC!N101 -> 7.24 | M102: =AVERAGE(D102:L102) -> 7.768 | U102: 7.749
A103: 162 | B103: CASTRO Gutierrez Camila Javiera | C103: 1H | D103: 6.6 | E103: 8.1 | I103: 9.2 | J103: 8.3 | L103: =CUC!N102 -> 7.757 | M103: =AVERAGE(D103:L103) -> 7.9914 | U103: 7.9748889
A104: 17 | B104: CÉSPEDES Troncoso Diego Ignacio Alfredo | C104: 1H | D104: 8.4 | E104: 9.2 | I104: 8.9 | J104: 8 | L104: =CUC!N103 -> 7.8675 | M104: =AVERAGE(D104:L104) -> 8.4735 | N104: E | U104: 8.4735
A105: 116 | B105: CRISÓSTOMO Morales Daniel Agustín | C105: 1H | D105: 7.6 | E105: 9.2 | I105: 8.5 | J105: 9.4 | L105: =CUC!N104 -> 7.715 | M105: =AVERAGE(D105:L105) -> 8.483 | N105: E | U105: 8.4544444
A106: 341 | B106: FLORES Acosta Joaquin Ignacio | C106: 1H | D106: 5.3 | E106: 7.7 | I106: 8.6 | J106: 7.8 | L106: =CUC!N105 -> 6.579 | M106: =AVERAGE(D106:L106) -> 7.1958 | U106: 7.2531111
A107: 410 | B107: FORERO Gamez Lina María | C107: 1H | D107: 9.2 | E107: 9.2 | I107: 9.5 | J107: 9.1 | L107: =CUC!N106 -> 9.3125 | M107: =AVERAGE(D107:L107) -> 9.2625 | N107: E | U107: 9.2428571
A108: 287 | B108: GALLEGUILLOS Castillo Joaquín | C108: 1H | D108: 8.2 | E108: 8.8 | I108: 8.6 | J108: 7.9 | L108: =CUC!N107 -> 7.14 | M108: =AVERAGE(D108:L108) -> 8.128 | N108: E | U108: 8.1977778
A109: 190 | B109: GÓMEZ Barrientos Tomas Gustavo | C109: 1H | D109: 8 | E109: 9.3 | I109: 8.3 | J109: 9.5 | L109: =CUC!N108 -> 8.38 | M109: =AVERAGE(D109:L109) -> 8.696 | N109: E | U109: 8.6711111
A110: 308 | B110: GONZALEZ Pacheco Catalina | C110: 1H | D110: 9.4 | E110: 8.6 | I110: 7.7 | J110: 8.1 | L110: =CUC!N109 -> 7.993 | M110: =AVERAGE(D110:L110) -> 8.3586 | N110: E | U110: 8.4028889
A111: 264 | B111: JIMENEZ Vargas Jamyla Andrea | C111: 1H | D111: 7 | E111: 7 | I111: 8.6 | J111: 8 | L111: =CUC!N110 -> 7.5 | M111: =AVERAGE(D111:L111) -> 7.62 | U111: 7.5771429
...

Sheet CUC
A1: Curso | B1: ALUMNOS | C1: CUC 1 TRADIC Y COSTUMBRES | D1: CUC 2 Jerarquía y grados | E1: CUC 3 Uniformes OF y GM | F1: CUC 4 Medallas y Piochas | G1: CUC 5 Áreas de misión | H1: CUC 6 Org. Adminis. | I1: CUC 7 Org. Operativa | J1: CUC 8 ZZ.NN. | K1: CUC 9 Especial. Oficiales | L1: CUC 10 Org. Buque | N1: PROMEDIO
A3: 1A | B3: ABUMOHOR CALVO D. | C3: 7 | E3: 7.86 | F3: 7.96 | G3: - | I3: - | L3: 10 | N3: =AVERAGE(C3:L3) -> 8.205
A4: 1A | B4: CARCAMO ELIZALDE M. | C4: 2.5 | D4: 4 | E4: 4.29 | F4: 10 | G4: - | I4: - | L4: 7.5 | N4: =AVERAGE(C4:L4) -> 5.658
A5: 1A | B5: CASTILLO QUIJANO F. | C5: 2 | D5: 2 | E5: 4.29 | F5: 10 | G5: - | I5: 9 | L5: 4 | N5: =AVERAGE(C5:L5) -> 5.215
A6: 1A | B6: CURILEF BARRA C. | C6: 2.5 | E6: 5.71 | F6: 8.78 | G6: - | H6: 4.5 | I6: 7 | L6: 7.5 | N6: =AVERAGE(C6:L6) -> 5.9983333
A7: 1A | B7: GARRIDO FUENTES J. | C7: 5 | E7: 5 | F7: 9.39 | G7: - | H7: 9 | I7: 8 | L7: 10 | N7: =AVERAGE(C7:L7) -> 7.7316667
A8: 1A | B8: HUGO TORRES J. | C8: 10 | D8: 9 | E8: 8.57 | F8: 10 | G8: - | H8: 7.6 | L8: 9 | N8: =AVERAGE(C8:L8) -> 9.0283333
A9: 1A | B9: LARA SANDOVAL V. | C9: 5 | D9: 5 | F9: 7.35 | G9: - | H9: 4 | I9: 10 | L9: 4.5 | N9: =AVERAGE(C9:L9) -> 5.975
A10: 1A | B10: LIRA VARELA R. | D10: 6 | E10: 5.71 | F10: 10 | G10: - | H10: 5 | I10: 9 | L10: 7 | N10: =AVERAGE(C10:L10) -> 7.1183333
A11: 1A | B11: MARTIN HERRERA F. | C11: 5 | D11: 4 | E11: 5 | F11: 9.39 | G11: - | I11: 7 | N11: =AVERAGE(C11:L11) -> 6.078
A12: 1A | B12: MEDINA VASQUEZ V. | D12: 8 | E12: 4.29 | F12: 8.57 | G12: - | H12: 3 | I12: 8 | L12: 8 | N12: =AVERAGE(C12:L12) -> 6.6433333
A13: 1A | B13: NAGLIERI HEISE R. | C13: 2 | D13: 4 | E13: 10 | F13: 9.39 | G13: - | I13: 6 | L13: 5.5 | N13: =AVERAGE(C13:L13) -> 6.1483333
A14: 1A | B14: RIQUELME AMPUERO B. | C14: 7 | D14: 8 | E14: 5.71 | F14: 8.57 | G14: - | I14: - | L14: 7.5 | N14: =AVERAGE(C14:L14) -> 7.356
A15: 1A | B15: RIVERA SANCHEZ M. | C15: 5 | E15: 3.57 | F15: 10 | G15: - | H15: 6 | I15: 10 | L15: 7.5 | N15: =AVERAGE(C15:L15) -> 7.0116667
A16: 1A | B16: ZAPATA AGUAYO B. | C16: 4.5 | D16: 3 | E16: 2.14 | F16: 8.57 | G16: - | I16: 6 | L16: 3 | N16: =AVERAGE(C16:L16) -> 4.535
A18: Curso | B18: ALUMNOS | C18: CUC 1 TRADIC Y COSTUMBRES | D18: CUC 2 Jerarquía y grados | E18: CUC 3 Uniformes OF y GM | F18: CUC 4 Medallas y Piochas | G18: CUC 5 Áreas de misión | H18: CUC 6 Org. Adminis. | I18: CUC 7 Org. Operativa | J18: CUC 8 ZZ.NN. | K18: CUC 9 Especial. Oficiales | L18: CUC 10 Org. Buque | N18: PROMEDIO
A19: 1B | B19: ALESSANDRINI GILDEMEISTER M. | C19: 1 | D19: 4.67 | E19: 8.86 | F19: 4.64 | G19: 3.5 | J19: - | L19: 2.5 | N19: =AVERAGE(C19:L19) -> 4.195
A20: 1B | B20: ALVAREZ MONDACA M.(R) | C20: 7.5 | D20: 7 | F20: 7.5 | G20: 9.3 | I20: 10 | J20: 10 | K20: 5 | L20: 6 | N20: =AVERAGE(C20:L20) -> 7.7875
A21: 1B | B21: ANDRADE GALLARDO A. | C21: 7.5 | D21: 9.33 | E21: 5.14 | F21: 10 | G21: 9.3 | I21: 9 | J21: 9.5 | K21: 6 | L21: 3 | N21: =AVERAGE(C21:L21) -> 7.6411111
A22: 1B | B22: ARAVENA IBARRA M.(R) | C22: 10 | D22: 8.33 | E22: 10 | F22: 9.29 | G22: 9.7 | I22: 10 | J22: 10 | K22: 8 | L22: 10 | N22: =AVERAGE(C22:L22) -> 9.48
A23: 1B | B23: FABILA MUÑOZ R. | C23: 5 | D23: 5 | E23: 7.71 | F23: 9.64 | G23: 7 | I23: 7 | J23: 6 | K23: 6 | L23: 7.5 | N23: =AVERAGE(C23:L23) -> 6.7611111
A24: 1B | B24: GONZALEZ ARENAS A. | C24: 5 | D24: 9.67 | E24: 8.29 | F24: 10 | G24: 3.5 | I24: 9 | J24: - | K24: 6 | L24: 4.5 | N24: =AVERAGE(C24:L24) -> 6.995
A25: 1B | B25: LOPEZ GONZALEZ Á. | C25: 7.5 | D25: 7.33 | E25: 10 | F25: 10 | G25: 7 | I25: 10 | J25: 8 | K25: 4 | L25: 4.5 | N25: =AVERAGE(C25:L25) -> 7.5922222
A26: 1B | B26: MALTEZ JIMENEZ M. | C26: 7.5 | D26: 9.67 | E26: 5.43 | F26: 9.29 | G26: 7 | I26: 7 | J26: - | K26: 7 | L26: 9 | N26: =AVERAGE(C26:L26) -> 7.73625
A27: 1B | B27: MARTINEZ CUEVAS M. | C27: 7.5 | D27: 3.67 | E27: 5.71 | F27: 1.79 | G27: 2.5 | I27: 8 | J27: 6 | K27: 2.5 | L27: 3.5 | N27: =AVERAGE(C27:L27) -> 4.5744444
A28: 1B | B28: MATURANA SANCHEZ D.(R) | C28: 9.5 | D28: 7.67 | E28: 8 | F28: 10 | I28: 7 | J28: 7 | K28: 7 | L28: 8 | N28: =AVERAGE(C28:L28) -> 8.02125
A29: 1B | B29: MONTALVA PURCELL L. | C29: 7 | D29: 5.33 | E29: 6.86 | F29: 3.93 | G29: 10 | I29: 8 | J29: 8 | K29: 5 | L29: 3 | N29: =AVERAGE(C29:L29) -> 6.3466667
A30: 1B | B30: MORA DIAZ R. | C30: 3 | D30: 2.33 | E30: 5.71 | F30: 7.5 | G30: 8 | I30: 7 | J30: 7 | K30: 4 | L30: 6 | N30: =AVERAGE(C30:L30) -> 5.6155556
A31: 1B | B31: PEREZ SALAUN S. | C31: 5 | D31: 8.67 | E31: 7.43 | F31: 7.14 | G31: 6.5 | I31: 10 | J31: 9.5 | K31: 4.5 | L31: 7 | N31: =AVERAGE(C31:L31) -> 7.3044444
A32: 1B | B32: SANCHEZ BARRERA B.(R) | C32: 5 | D32: 9.33 | E32: 9.43 | F32: 8.21 | G32: 8 | I32: 8 | J32: 10 | K32: 4 | L32: 10 | N32: =AVERAGE(C32:L32) -> 7.9966667
A33: 1B | B33: VARGAS ROMERO S. | C33: 8.5 | D33: 8.33 | E33: 4.57 | F33: 9.64 | G33: 8.5 | I33: 10 | J33: 8 | K33: 4 | L33: 6.5 | N33: =AVERAGE(C33:L33) -> 7.56
A34: 1B | B34: VILLEGAS MUÑOZ J. | C34: 4 | D34: 7.33 | E34: 8.29 | F34: 9.64 | G34: 6.7 | I34: 9 | J34: 10 | K34: 3 | L34: 8.5 | N34: =AVERAGE(C34:L34) -> 7.3844444
A35: 1B | B35: YAEGER LEAL V. | C35: 7.5 | D35: 8.33 | F35: 6.79 | G35: 4 | I35: 8 | J35: 6 | K35: 5 | N35: =AVERAGE(C35:L35) -> 6.5171429
A36: 1B | B36: ZILLER GARCIA A. | C36: 4 | D36: 5.67 | F36: 3.93 | G36: 3.5 | I36: 7 | J36: 6 | K36: 5 | N36: =AVERAGE(C36:L36) -> 5.0142857
A38: Curso | B38: ALUMNOS | C38: CUC 1 TRADIC Y COSTUMBRES | D38: CUC 2 Jerarquía y grados | E38: CUC 3 Uniformes OF y GM | F38: CUC 4 Medallas y Piochas | G38: CUC 5 Áreas de misión | H38: CUC 6 Org. Adminis. | I38: CUC 7 Org. Operativa | J38: CUC 8 ZZ.NN. | K38: CUC 9 Especial. Oficiales | L38: CUC 10 Org. Buque | N38: PROMEDIO
A39: 1C | B39: AUBAZARTT VELASQUEZ G. | C39: 6.5 | D39: 5.33 | E39: 4.86 | F39: 7.14 | G39: 5 | I39: 6 | J39: 7.78 | K39: 4.5 | L39: 4 | N39: =AVERAGE(C39:L39) -> 5.6788889
A40: 1C | B40: BOTTGER MOREIRA M. | C40: 2.5 | D40: 2.67 | E40: 3.71 | F40: 10 | I40: 8 | J40: 10 | K40: 4.5 | L40: 4.5 | N40: =AVERAGE(C40:L40) -> 5.735
A41: 1C | B41: CHAMORRO MERINO D. | C41: 10 | D41: 8.67 | E41: 9.43 | F41: 8.57 | G41: 7.5 | I41: 10 | J41: 8.89 | K41: 8 | L41: 2 | N41: =AVERAGE(C41:L41) -> 8.1177778
A42: 1C | B42: GONZALEZ TORRES C. | C42: 6.5 | D42: 3.33 | E42: 5.43 | F42: 5.51 | G42: 3 | I42: 6 | J42: 8.89 | K42: 4 | L42: 5 | N42: =AVERAGE(C42:L42) -> 5.2955556
A43: 1C | B43: HOTT CONTRERAS T.(R) | C43: 6.5 | D43: 8 | E43: 10 | F43: 7.96 | I43: 10 | J43: 8.89 | K43: 5.5 | N43: =AVERAGE(C43:L43) -> 8.1214286
A44: 1C | B44: LORCA DURAN C. | C44: 7 | D44: 4.67 | F44: 7.96 | G44: 8 | I44: 8 | J44: 8.89 | L44: 5.5 | N44: =AVERAGE(C44:L44) -> 7.1457143
A45: 1C | B45: LOZANO TORRES C. | C45: 6.5 | D45: 10 | E45: 8.86 | F45: 10 | G45: 1 | I45: 9 | J45: 5.56 | K45: 9.5 | L45: 7.5 | N45: =AVERAGE(C45:L45) -> 7.5466667
A46: 1C | B46: MAC-NAMARA GONZALEZ C. | C46: 5 | E46: 6.86 | F46: 8.57 | G46: 6 | I46: 10 | J46: - | K46: 7.5 | N46: =AVERAGE(C46:L46) -> 7.3216667
A47: 1C | B47: MARTINEZ MARTINEZ S.(R) | C47: 5.5 | D47: 9.67 | E47: 10 | F47: 8.78 | G47: 5 | I47: 8 | J47: 7.78 | K47: 6 | N47: =AVERAGE(C47:L47) -> 7.59125
A48: 1C | B48: MASSO LINCO J. | C48: 8 | D48: 9.67 | E48: 9.43 | F48: 10 | I48: 9 | J48: 7.78 | K48: 6 | N48: =AVERAGE(C48:L48) -> 8.5542857
A49: 1C | B49: MELLA AGUILERA G. | C49: 5 | D49: 4.67 | E49: 4.86 | F49: 6.73 | I49: - | J49: 7.78 | N49: =AVERAGE(C49:L49) -> 5.808
A50: 1C | B50: MERCADO MARCHANT M. | C50: 5 | D50: 6.67 | E50: 8 | F50: 10 | G50: 10 | I50: 8 | J50: 7.78 | L50: 6 | N50: =AVERAGE(C50:L50) -> 7.68125
A51: 1C | B51: PARADA YUNIS A.(R) | C51: 9 | D51: 8.33 | E51: 10 | F51: 10 | I51: 10 | J51: 7.78 | K51: 5.5 | L51: 7.3 | N51: =AVERAGE(C51:L51) -> 8.48875
A52: 1C | B52: PARRA AVALOS A.(R) | C52: 6 | D52: 8 | E52: 8.29 | F52: 8.57 | G52: 9 | I52: 9 | J52: 7.78 | L52: 9.5 | N52: =AVERAGE(C52:L52) -> 8.2675
A53: 1C | B53: RIQUELME CAMPOS C. | C53: 5 | D53: 5.33 | E53: 2.29 | F53: 10 | I53: 6 | J53: 7.78 | K53: 5 | L53: 7 | N53: =AVERAGE(C53:L53) -> 6.05
A54: 1C | B54: VARGAS MEDINA C. | C54: 6.5 | D54: 7.33 | E54: 9.43 | F54: 10 | G54: 7 | I54: 8 | J54: 10 | K54: 4 | L54: 10 | N54: =AVERAGE(C54:L54) -> 8.0288889
A55: 1C | B55: VERA ULLOA A. | C55: 7.5 | D55: 8 | E55: 8.57 | F55: 9.39 | I55: 9 | J55: 7.78 | K55: 10 | L55: 9.5 | N55: =AVERAGE(C55:L55) -> 8.7175
A56: 1C | B56: VERGARA URIARTE V. | C56: 7.5 | D56: 5.33 | E56: 6.29 | F56: 5.92 | G56: 2 | I56: 9 | J56: 7.78 | K56: 3 | L56: 4 | N56: =AVERAGE(C56:M56) -> 5.6466667
A57: 1C | B57: ZUÑIGA HERLITZ M. | C57: 6.5 | D57: 9 | E57: 8.57 | F57: 9.39 | G57: 5 | I57: 9 | J57: 6.67 | K57: 6 | L57: 3 | N57: =AVERAGE(C57:L57) -> 7.0144444
A59: Curso | B59: ALUMNOS | C59: CUC 1 TRADIC Y COSTUMBRES | D59: CUC 2 Jerarquía y grados | E59: CUC 3 Uniformes OF y GM | F59: CUC 4 Medallas y Piochas | G59: CUC 5 Áreas de misión | H59: CUC 6 Org. Adminis. | I59: CUC 7 Org. Operativa | J59: CUC 8 ZZ.NN. | K59: CUC 9 Especial. Oficiales | L59: CUC 10 Org. Buque | N59: PROMEDIO
A60: 1D | B60: ANCALEF SAN MARTIN N.(R) | C60: 8 | D60: 8 | E60: 8.75 | F60: 10 | G60: - | H60: 2.5 | I60: 3 | J60: 5 | K60: 7 | L60: 3 | N60: =AVERAGE(C60:L60) -> 6.1388889
A61: 1D | B61: ARDILES ROSAS V.(R) | C61: 2.5 | D61: 9.33 | E61: 7.58 | F61: 8.57 | G61: - | H61: 9.5 | I61: 9 | J61: 9.5 | L61: 8.5 | N61: =AVERAGE(C61:L61) -> 8.06
A62: 1D | B62: ARENAS GAJARDO I. | C62: 7.5 | D62: 7.33 | E62: 6.33 | F62: 5.92 | G62: - | H62: 3 | I62: - | J62: 8 | N62: =AVERAGE(C62:L62) -> 6.3466667
A63: 1D | B63: BAASCH SCHEEL R.(R) | C63: 5.5 | D63: 7.33 | E63: 10 | F63: 10 | G63: - | H63: 10 | I63: - | J63: 6 | L63: 8.5 | N63: =AVERAGE(C63:L63) -> 8.19
A64: 1D | B64: ESTRADA NAVARRO C. | C64: 3 | D64: 6.33 | E64: 3.58 | F64: 9.39 | G64: - | H64: 6 | I64: 7 | J64: 5 | K64: 7 | L64: 9 | N64: =AVERAGE(C64:L64) -> 6.2555556
A65: 1D | B65: FERNANDEZ SEPULVEDA C. | C65: 9 | D65: 9.33 | E65: 5.58 | F65: 8.57 | G65: - | H65: 6.5 | I65: 8 | J65: 9 | K65: 8 | L65: 9 | N65: =AVERAGE(C65:L65) -> 8.1088889
A66: 1D | B66: FUENTES GONZALEZ A. | C66: 9 | D66: 6.67 | E66: 7.67 | F66: 8.57 | G66: - | H66: 3 | I66: 9 | J66: 5 | K66: 6 | N66: =AVERAGE(C66:L66) -> 6.86375
A67: 1D | B67: GONZALEZ CAMPOS C. | C67: 5.5 | D67: 8 | E67: 8.75 | F67: 10 | G67: - | H67: 9 | I67: 8 | J67: 9 | K67: 5.5 | N67: =AVERAGE(C67:L67) -> 7.96875
A68: 1D | B68: MUÑOZ ROZAS L. | C68: 6 | D68: 3.67 | E68: 4.83 | F68: 7.14 | G68: - | H68: 2 | I68: 4 | J68: 7 | K68: 3 | L68: 2.5 | N68: =AVERAGE(C68:L68) -> 4.46
A69: 1D | B69: MUÑOZ MONTERO C. | D69: 6.33 | E69: 7 | F69: 7.96 | G69: - | H69: 4 | I69: 8 | J69: 7 | K69: 3 | N69: =AVERAGE(C69:L69) -> 6.1842857
A70: 1D | B70: PEÑA CABRERA E. | C70: 9 | D70: 6.67 | E70: 7.42 | F70: 8.57 | G70: - | H70: 7 | I70: 9 | J70: 7 | K70: 5 | L70: 10 | N70: =AVERAGE(C70:L70) -> 7.74
A71: 1D | B71: PONCE LAGOS B. | C71: 2 | D71: 4.67 | E71: 8 | F71: 6.73 | G71: - | H71: 2 | I71: 8 | J71: 7 | K71: 7 | N71: =AVERAGE(C71:L71) -> 5.675
A72: 1D | B72: QUIJADA FUENZALIDA F. | C72: 3 | D72: 8.33 | E72: 8.75 | F72: 7.96 | G72: - | H72: 3 | I72: 7 | J72: 7 | K72: 4 | L72: 8 | N72: =AVERAGE(C72:L72) -> 6.3377778
A73: 1D | B73: RAMIREZ NAVARRO F. | C73: 2.5 | D73: 7 | E73: 6.08 | F73: 8.57 | G73: - | H73: 4 | I73: 8 | J73: 7 | L73: 10 | N73: =AVERAGE(C73:L73) -> 6.64375
A74: 1D | B74: SALDIAS MUNZENMAYER V. | C74: 2.5 | D74: 5 | E74: 5.5 | F74: 7.96 | G74: - | H74: 2 | I74: 4 | J74: 6 | K74: 7 | L74: 4 | N74: =AVERAGE(C74:L74) -> 4.8844444
A75: 1D | B75: SANDOVAL GALDAMES A. | C75: 6 | D75: 3.33 | E75: 4.58 | F75: - | G75: - | H75: 7 | I75: - | J75: 4 | K75: 5 | L75: 8 | N75: =AVERAGE(C75:L75) -> 5.4157143
A76: 1D | B76: VALDES CORTEZ B.(R) | C76: 8 | D76: 5.67 | E76: 2 | F76: 6.53 | G76: - | H76: 5 | I76: 6 | J76: 6 | K76: 6 | L76: 8 | N76: =AVERAGE(C76:L76) -> 5.9111111
A78: Curso | B78: ALUMNOS | C78: CUC 1 TRADIC Y COSTUMBRES | D78: CUC 2 Jerarquía y grados | E78: CUC 3 Uniformes OF y GM | F78: CUC 4 Medallas y Piochas | G78: CUC 5 Áreas de misión | H78: CUC 6 Org. Adminis. | I78: CUC 7 Org. Operativa | J78: CUC 8 ZZ.NN. | K78: CUC 9 Especial. Oficiales | L78: CUC 10 Org. Buque | N78: PROMEDIO
A79: 1E | B79: ALVAREZ BOERO P. | C79: 7 | D79: 2 | E79: - | F79: 4.69 | H79: 2 | I79: 9 | J79: 8 | L79: 8 | N79: =AVERAGE(C79:L79) -> 5.8128571
A80: 1E | B80: AMIGO ARAYA V. | C80: 5 | D80: 9 | E80: - | F80: 7.96 | G80: 8 | H80: 8 | I80: 10 | J80: 8 | L80: 8 | N80: =AVERAGE(C80:L80) -> 7.995
A81: 1E | B81: ARIAS ROJAS I.(R) | C81: 8 | D81: 5 | E81: - | F81: 7.35 | G81: 6 | H81: 5 | I81: 9 | J81: 9.5 | N81: =AVERAGE(C81:L81) -> 7.1214286
A82: 1E | B82: BURGOS MARAMBIO L. | C82: 7 | D82: 7 | E82: - | F82: 7.96 | G82: 1 | H82: 3 | I82: 10 | J82: 7 | L82: 8.5 | N82: =AVERAGE(C82:L82) -> 6.4325
A83: 1E | B83: CEPEDA RIVERA V. | C83: 7.5 | D83: 4 | E83: - | F83: 7.35 | G83: 7.5 | H83: 8.8 | I83: 10 | J83: 9 | L83: 6 | N83: =AVERAGE(C83:L83) -> 7.51875
A84: 1E | B84: DIAZ CARDENAS T. | C84: 8.5 | D84: 2 | E84: - | F84: 9.39 | H84: 5.3 | I84: 10 | J84: 6 | L84: 8 | N84: =AVERAGE(C84:L84) -> 7.0271429
A85: 1E | B85: FLORES CASTRO J. | C85: 8.5 | D85: 7 | E85: - | F85: 9.39 | G85: 9 | H85: 7.8 | I85: 8 | J85: 8 | L85: 9 | N85: =AVERAGE(C85:L85) -> 8.33625
A86: 1E | B86: FUENTES FERNANDEZ V. | C86: 5.5 | D86: 1 | E86: - | F86: 7.35 | H86: 4 | I86: 6 | J86: 9 | L86: 9.5 | N86: =AVERAGE(C86:L86) -> 6.05
A87: 1E | B87: GALLARDO CASTILLO I. | C87: 4 | D87: 1 | E87: - | F87: 9.39 | G87: 4 | H87: 2.5 | I87: 9 | J87: - | L87: 7.5 | N87: =AVERAGE(C87:L87) -> 5.3414286
A88: 1E | B88: ITURRIAGA ARANGUIZ T. | C88: 5.5 | D88: 2 | E88: - | F88: 8.78 | G88: 7 | H88: 6.6 | I88: 7 | J88: 10 | L88: 7 | N88: =AVERAGE(C88:L88) -> 6.735
A89: 1E | B89: MALDONADO MANRIQUEZ D.(R) | C89: 9 | D89: 10 | E89: - | F89: 8.78 | G89: 5 | H89: 8 | I89: 9 | J89: 10 | L89: 9 | N89: =AVERAGE(C89:L89) -> 8.5975
A90: 1E | B90: MARTINEZ ESCOBAR I. | C90: 10 | D90: 9 | E90: - | F90: 9.39 | G90: 5.5 | H90: 3 | I90: 9 | J90: 9 | L90: 9 | N90: =AVERAGE(C90:L90) -> 7.98625
A91: 1E | B91: MARULANDA REYES J. | C91: 5 | D91: 6 | E91: - | F91: 10 | I91: 8 | J91: 10 | L91: 8.5 | N91: =AVERAGE(C91:L91) -> 7.9166667
A92: 1E | B92: ORTIZ CARVAJAL M. | C92: 9 | D92: 3 | E92: - | F92: 8.78 | G92: 6 | H92: 6 | I92: 6 | J92: 6 | L92: 7 | N92: =AVERAGE(C92:L92) -> 6.4725
A93: 1E | B93: PAZZARO FREIRE G. | C93: 9 | D93: 4 | E93: - | F93: 8.16 | G93: 1 | H93: 6 | I93: 9 | J93: 7 | L93: 6 | N93: =AVERAGE(C93:L93) -> 6.27
A94: 1E | B94: QUINTEROS FAJARDO F. | C94: 4.5 | D94: 3 | E94: - | F94: 10 | G94: 4.5 | H94: 6.5 | I94: 9 | J94: 7 | L94: 8 | N94: =AVERAGE(C94:L94) -> 6.5625
A95: 1E | B95: RIQUELME CAMPOS C.(R) | C95: 8 | D95: 8 | E95: - | F95: 9.39 | G95: 0 | H95: 9.5 | I95: 9 | J95: 9 | L95: 8.5 | N95: =AVERAGE(C95:L95) -> 7.67375
A96: 1E | B96: VACCAREZZA SILVA E. | C96: 10 | D96: 5 | E96: - | F96: 10 | G96: 6 | I96: 10 | J96: 8 | L96: 8 | N96: =AVERAGE(C96:L96) -> 8.1428571
A97: 1E | B97: VALENZUELA YUBANO J. | C97: 7 | D97: 7 | E97: - | F97: 8.16 | G97: 4 | H97: 7.5 | I97: 4 | J97: 9 | L97: 8 | N97: =AVERAGE(C97:L97) -> 6.8325
A98: 1E | B98: VALLEJOS AYALA F.(R) | C98: 8 | D98: 7 | E98: - | F98: 6.53 | G98: 7.5 | I98: 10 | J98: 7 | L98: 4 | N98: =AVERAGE(C98:L98) -> 7.1471429
A100: Curso | B100: ALUMNOS | C100: CUC 1 TRADIC Y COSTUMBRES | D100: CUC 2 Jerarquía y grados | E100: CUC 3 Uniformes OF y GM | F100: CUC 4 Medallas y Piochas | G100: CUC 5 Áreas de misión | H100: CUC 6 Org. Adminis. | I100: CUC 7 Org. Operativa | J100: CUC 8 ZZ.NN. | K100: CUC 9 Especial. Oficiales | L100: CUC 10 Org. Buque | N100: PROMEDIO
A101: 1H | B101: CABELLO SCHADE F. | C101: 7 | D101: 2 | E101: 8.86 | F101: 10 | G101: 6 | H101: 7.3 | I101: 7 | J101: 9 | L101: 8 | N101: =AVERAGE(C101:L101) -> 7.24
A102: 1H | B102: CASTRO GUTIERREZ C. | C102: 6 | D102: 7 | E102: 9.43 | F102: 9.64 | G102: 7 | H102: 8 | I102: 9 | J102: 7 | K102: 6 | L102: 8.5 | N102: =AVERAGE(C102:L102) -> 7.757
A103: 1H | B103: CESPEDES TRONCOSO D. | C103: 5 | D103: 7 | E103: 7.14 | F103: 10 | G103: 6 | H103: 7.8 | I103: 10 | J103: 10 | N103: =AVERAGE(C103:L103) -> 7.8675
A104: 1H | B104: CRISOSTOMO MORALES D. | C104: 3 | D104: 9 | E104: 7.71 | F104: 9.64 | G104: 8 | H104: 5.8 | I104: 10 | J104: 8 | K104: 7 | L104: 9 | N104: =AVERAGE(C104:L104) -> 7.715
A105: 1H | B105: FLORES ACOSTA J. | C105: 9 | D105: 5 | E105: 10 | F105: 9.29 | G105: 5.5 | H105: 6 | I105: 7 | J105: 8 | K105: 2 | L105: 4 | N105: =AVERAGE(C105:L105) -> 6.579
A106: 1H | B106: FORERO GAMEZ L. | C106: 9.5 | D106: 8 | E106: 10 | F106: 10 | I106: 9 | J106: 8 | K106: 10 | L106: 10 | N106: =AVERAGE(C106:L106) -> 9.3125
...

Sheet Hoja1
